{"text_format":"1","workbook":"xlsx","n_sheets":34,"sheets":["INFO","Skills explications FTEM","Feuille du Joueur","Feuille de selection","1","2","3","4","5","6","7","8","9","10","11","12","13","14","15","16","17","18","19","20","21","22","23","24","25","26","27","28","29","30"],"not_rendered":{"charts":0,"images":1,"macros":1,"external_links":0,"defined_names":38,"comments":33,"pivot_tables":0},"unopened":[],"bounds":{"document_bytes":16777216,"sheet_cells":100000,"rows_first":2000,"rows_last":500,"rows_between":2000,"halvings":0,"cell_chars":16384,"cell_head_chars":4096},"cells_cut":0,"cells_raw":0,"read":"whole","date_system":"1900"}

{"sheet":"INFO","index":0,"n_rows":77,"n_cols":13,"rows_kept":77,"cut":false,"hidden":false,"merged":[[62,1,62,2],[62,3,62,11],[63,1,63,2],[63,3,63,11],[64,1,64,2],[64,3,64,11],[45,1,45,2],[45,3,45,11],[46,1,46,2],[46,3,46,11],[47,1,47,2],[47,3,47,11],[0,0,0,13],[1,7,1,13],[30,1,30,2],[30,3,30,11],[12,1,12,2],[12,3,12,11],[13,1,13,2],[13,3,13,11],[28,1,28,2],[28,3,28,11],[11,1,11,2],[11,3,11,11],[29,1,29,2],[29,3,29,11],[9,0,9,13],[8,0,8,13],[6,5,6,6],[7,5,7,6],[2,7,2,13],[3,7,3,13],[4,7,4,13],[5,7,5,13],[6,7,6,13],[7,7,7,13],[6,0,6,1],[7,0,7,1],[6,3,6,4],[7,3,7,4],[1,3,1,4],[1,0,1,1],[2,0,2,1],[3,0,3,1],[4,0,4,1],[5,0,5,1],[2,3,2,4],[3,3,3,4],[4,3,4,4],[5,3,5,4],[1,5,1,6],[2,5,2,6],[3,5,3,6],[4,5,4,6],[5,5,5,6]]}
["U12-U15 NOTES ENTIERES  DES LES U16, LES DEMI-NOTES SONT POSSIBLES "]
[null,null,null,null,null,null,null,"Comparaison des attentes de la classe d’âge selon la promotion des espoirs:\nTOP LEVEL = les meilleurs/ le mieux à ce niveau"]
["Rating",null,"Symbole","Prédicat",null,"Comparaison\n100% Niveau d’âge",null,"Attente=Situation de départ  du développement selon l’âge. Développement comme talent comme potentiel / point de vue d’un joueur de pointe -> joueur pro  (NLA/Nati)"]
[1,null,"--","Très insuffisant",null,"<30 %",null,"Ne correspond pas (à peine) au développement d’un tallent"]
[2,null,"-","insuffisant",null,"30-50 %",null,"Correspond juste au développement d’un talent, témoigne de certains manques dans des domaines, manques qui assombrissent le tableau général"]
[3,null,0,"moyen",null,"50-70 %",null,"Correspond à la moyenne des attentes, rempli les attentes sans aptitudes vraiment particulières"]
[4,null,"+","bon",null,"70-85 %",null,"Dépasse les attentes et montres des capacités qui sautent aux yeux dans certains domaines"]
[5,null,"++","exceptionnel",null,"85-100 %",null,"Dépasse les attentes avec des qualités exceptionnelles – appartient aux meilleurs par rapport aux attentes"]
["Les scouts/entraineur doivent avoir le courage d'utiliser toutes le valeurs !"]
["Ponderations selon Rôle / Age / Sex"]
[]
[null,"Discipline",null,"Hockey sûr glace"]
[null,"Kat.",null,"Joueur"]
[null,"Cadre",null,"U12-20"]
[]
[null,null,"SKILL","SKATING","hockey SENSE","PERSON","POWER","TEAM","AGE","PHYSE","ENTOURAGE","PREDISPOSITION"]
[null,"Age","Ponderation","Ponderation","Ponderation","Ponderation","Ponderation","Ponderation","Ponderation","Ponderation","Ponderation","Ponderation","Total"]
[null,12,15,16,20,17,10,0,12,0,5,5,{"$f":"SUM(C18:L18)","v":100}]
[null,13,15,16,20,17,10,0,12,0,5,5,100]
[null,14,12,12,20,17,10,5,10,4,5,5,100]
[null,15,12,12,20,17,10,5,10,4,5,5,100]
[null,16,10,10,20,15,10,8,4,8,5,10,100]
[null,17,10,10,20,15,10,8,4,8,5,10,100]
[null,18,10,10,20,15,10,10,0,15,0,10,100]
[null,19,10,10,20,15,10,10,0,15,0,10,100]
[null,20,10,10,20,15,10,10,0,15,0,10,100]
[]
[]
[null,"Discipline",null,"Hockey sûr glace"]
[null,"Kat.",null,"Gardiens"]
[null,"Cadre",null,"U12-20"]
[]
[null,null,"SKILL","SKATING","hockey SENSE","PERSON","POWER","TEAM","AGE","PHYSE","ENTOURAGE","PREDISPOSITION"]
[null,"Alter","Ponderation","Ponderation","Ponderation","Ponderation","Ponderation","Ponderation","Ponderation","Ponderation","Ponderation","Ponderation","Total"]
[null,12,15,18,13,15,10,3,9,5,5,7,{"$f":"SUM(C35:L35)","v":100}]
[null,13,15,18,13,15,10,3,9,5,5,7,100]
[null,14,15,18,13,15,10,3,9,5,5,7,100]
[null,15,15,18,13,15,10,3,9,5,5,7,100]
[null,16,17,15,14,15,12,5,3,8,6,5,100]
[null,17,17,15,14,15,12,5,3,8,6,5,100]
[null,18,14,14,14,16,10,8,0,12,7,5,100]
[null,19,14,14,14,16,10,8,0,12,7,5,100]
[null,20,14,14,14,16,10,8,0,12,7,5,100]
[]
[]
[null,"Discipline",null,"Hockey sûr glace féminin"]
[null,"Kat.",null,"Joueur"]
[null,"Cadre",null,"U12-20"]
[]
[null,null,"SKILL","SKATING","hockey SENSE","PERSON","POWER","TEAM","AGE","PHYSE","ENTOURAGE","PREDISPOSITION"]
[null,"Alter","Ponderation","Ponderation","Ponderation","Ponderation","Ponderation","Ponderation","Ponderation","Ponderation","Ponderation","Ponderation","Total"]
[null,12,15,16,20,17,10,null,12,null,5,5,{"$f":"SUM(C52:L52)","v":100}]
[null,13,15,16,20,17,10,null,12,null,5,5,100]
[null,14,12,12,20,17,10,5,10,4,5,5,100]
[null,15,12,12,20,17,10,5,10,4,5,5,100]
[null,16,10,10,20,15,10,8,4,8,5,10,100]
[null,17,10,10,20,15,10,8,4,8,5,10,100]
[null,18,10,10,20,15,10,10,null,15,null,10,100]
[null,19,10,10,20,15,10,10,null,15,null,10,100]
[null,20,10,10,20,15,10,10,null,15,null,10,100]
[]
[]
[null,"Discipline",null,"Hockey sûr glace féminin"]
[null,"Kat.",null,"Gardien"]
[null,"Cadre",null,"U12-20"]
[]
[null,null,"SKILL","SKATING","hockey SENSE","PERSON","POWER","TEAM","AGE","PHYSE","ENTOURAGE","PREDISPOSITION"]
[null,"Alter","Ponderation","Ponderation","Ponderation","Ponderation","Ponderation","Ponderation","Ponderation","Ponderation","Ponderation","Ponderation","Total"]
[null,12,16,18,16,18,10,null,10,null,6,6,{"$f":"SUM(C69:L69)","v":100}]
[null,13,16,18,16,18,10,null,10,null,6,6,100]
[null,14,15,15,16,17,9,3,10,4,5,6,100]
[null,15,15,15,16,17,9,3,10,4,5,6,100]
[null,16,13,13,17,17,9,7,4,8,5,7,100]
[null,17,13,13,17,17,9,7,4,8,5,7,100]
[null,18,12,12,18,17,9,9,null,15,null,8,100]
[null,19,12,12,18,17,9,9,null,15,null,8,100]
[null,20,12,12,18,17,9,9,null,15,null,8,100]

{"sheet":"Skills explications FTEM","index":1,"n_rows":43,"n_cols":23,"rows_kept":43,"cut":false,"hidden":false,"merged":[[5,0,5,2],[5,3,5,5],[5,6,5,11],[2,6,2,11],[6,0,9,2],[6,3,6,5],[6,6,6,11],[7,3,7,5],[7,6,7,11],[8,3,8,5],[8,6,8,11],[9,3,9,5],[9,6,9,11],[10,0,13,2],[10,3,10,5],[10,6,10,11],[11,3,11,5],[11,6,11,11],[13,3,13,5],[13,6,13,11],[20,3,20,5],[20,6,20,11],[18,0,18,2],[18,3,18,5],[18,6,18,11],[19,0,22,2],[19,3,19,5],[19,6,19,11],[21,3,21,5],[21,6,21,11],[14,0,17,2],[14,3,14,5],[14,6,14,11],[15,3,15,5],[15,6,15,11],[16,3,16,5],[16,6,16,11],[17,3,17,5],[17,6,17,11],[22,3,22,5],[22,6,22,11],[23,0,26,2],[23,3,23,5],[23,6,23,11],[24,3,24,5],[24,6,24,11],[26,3,26,5],[26,6,26,11],[0,0,0,11],[0,13,0,24],[2,13,2,15],[2,16,2,18],[3,13,4,15],[3,16,3,18],[3,19,3,24],[4,16,4,18],[4,19,4,24],[2,0,2,2],[2,3,2,5],[3,0,4,2],[3,3,3,5],[3,6,3,11],[4,3,4,5],[4,6,4,11],[2,19,2,24],[5,13,5,15],[5,16,5,18],[5,19,5,24],[6,13,9,15],[6,16,6,18],[6,19,6,24],[7,16,7,18],[7,19,7,24],[8,16,8,18],[8,19,8,24],[9,16,9,18],[9,19,9,24],[11,19,11,24],[13,16,13,18],[13,19,13,24],[14,13,17,15],[14,16,14,18],[14,19,14,24],[15,16,15,18],[15,19,15,24],[16,16,16,18],[16,19,16,24],[17,16,17,18],[17,19,17,24],[10,13,13,15],[10,16,10,18],[10,19,10,24],[11,16,11,18],[23,13,26,15],[23,16,23,18],[23,19,23,24],[24,16,24,18],[24,19,24,24],[26,16,26,18],[26,19,26,24],[18,13,18,15],[18,16,18,18],[18,19,18,24],[19,13,22,15],[19,16,19,18],[19,19,19,24],[20,16,20,18],[20,19,20,24],[21,16,21,18],[21,19,21,24],[22,16,22,18],[22,19,22,24],[12,3,12,5],[12,6,12,11],[25,3,25,5],[25,6,25,11],[12,16,12,18],[12,19,12,24],[25,16,25,18],[25,19,25,24],[31,0,34,2],[31,3,31,5],[31,6,31,11],[31,13,34,15],[31,16,31,18],[31,19,31,24],[32,3,32,5],[32,6,32,11],[32,16,32,18],[32,19,32,24],[33,3,33,5],[33,6,33,11],[33,16,33,18],[33,19,33,24],[34,3,34,5],[34,6,34,11],[34,16,34,18],[34,19,34,24],[35,0,38,2],[35,3,35,5],[35,6,35,11],[35,13,38,15],[35,16,35,18],[35,19,35,24],[36,3,36,5],[36,6,36,11],[36,16,36,18],[36,19,36,24],[37,3,37,5],[37,6,37,11],[37,16,37,18],[37,19,37,24],[38,3,38,5],[38,6,38,11],[38,16,38,18],[38,19,38,24],[39,0,42,2],[39,3,39,5],[39,6,39,11],[39,13,42,15],[39,16,39,18],[39,19,39,24],[40,3,40,5],[40,6,40,11],[40,16,40,18],[40,19,40,24],[41,3,41,5],[41,6,41,11],[41,16,41,18],[41,19,41,24],[42,3,42,5],[42,6,42,11],[42,16,42,18],[42,19,42,24],[27,0,30,2],[27,3,27,5],[27,6,27,11],[27,13,30,15],[27,16,27,18],[27,19,27,24],[28,3,28,5],[28,6,28,11],[28,16,28,18],[28,19,28,24],[29,3,29,5],[29,6,29,11],[29,16,29,18],[29,19,29,24],[30,3,30,5],[30,6,30,11],[30,16,30,18],[30,19,30,24]]}
["PLAYER",null,null,null,null,null,null,null,null,null,null,null,null,"GOALIE"]
[]
["TEAM",null,null,"CAPACITE",null,null,"OBSERVATION",null,null,null,null,null,null,"TEAM",null,null,"CAPACITE",null,null,"OBSERVATION"]
["ROLLE, SOZIAL",null,null,"PENSER EQUIPE",null,null,"Identification au rôle, relation au cammarades (social, intégration)",null,null,0,null,null,null,"ROLLE, SOZIAL",null,null,"PENSER EQUIPE",null,null,"Identification au rôle, relation au cammarades (social, intégration)",null,null,0]
[null,null,null,"LEADERSHIP",null,null,"prend des responsabilités, rend son coéquipier meilleur",null,null,0,null,null,null,null,null,null,"LEADERSHIP",null,null,"prend des responsabilités, rend son coéquipier meilleur",null,null,0]
["ON ICE",null,null,"CAPACITE",null,null,"OBSERVATION",null,null,null,null,null,null,"ON ICE",null,null,"CAPACITE",null,null,"OBSERVATION"]
["SKILL",null,null,"TIR  (EFFET)",null,null,"Efficience (pas d'espace et de temps), variantes, degré de surprise (déclenchement rapide), précision, puissance (conclusion tactique)",null,null,null,null,null,null,"SKILL",null,null,"POSITION DE BASE",null,null,"Position > Pieds, genoux, épaules, poids légèrement sur l'avant des pieds, les mains devant le corps, position compact comme une paroi > Contrôle de sa position debout et sur les genoux (réactif,bloc)",null,null,0]
[null,null,null,"PASSER",null,null,"Donne la passe (distance, passe flipée en revers), réception de la passe (précision, timing, coup droit, revers, patins), vitesse du puck",null,null,null,null,null,null,null,null,null,"DEFENSE DEBOUT",null,null,"A les capacités d'être actif et contrôlé, lorsqu'il travaille avec ses mains et sa canne",null,null,0]
[null,null,null,"JEU DU CORPS",null,null,"Faculté de s'imposer physiquement, duels (sur la surface de glace ou à la bande), prendre des checks, lever la tête, niveau de lutte, dur mais correct, bloquer les tirs avec le corps",null,null,null,null,null,null,null,null,null,"DEFENSE EN BUTTERFLY",null,null,"Dispose-t-il d'une position très compacte, a-t-il son poids devant sur les genoux et peut-il très bien travailler avec ses mains, ses jambières et sa canne",null,null,0]
[null,null,null,"CONTRÔLE DU PUCK",null,null,"Contrôle du puck, dribbling, protection du puck, feintes (variantes: avec les patins ou avec et sans la bande), mise au jeu (bully)",null,null,null,null,null,null,null,null,null,"REBOUNDCONTROL\nREBOUNDMANAGEMENT",null,null,"Contrôle à chaque instant des tirs, déviation au bon endroit des pucks avec sa canne et ses jambières > réaction rapide et précise sur le deuxième et le troisième puck",null,null,0]
["SKATING",null,null,"FOOTSPEED",null,null,"Accélération, départ, explosivité des 3 premiers pas, fréquence",null,null,null,null,null,null,"SKATING",null,null,"AVANT / ARRIÈRE / DE CÔTÉ",null,null,"Avant et arrière (déplacement C-Cut), déplacement debout (parallèle, Shuffle, pas en T- Push, Jump), reste longtemps sur ses pieds et est-il capable de se repositionner correctement au puck > Application en situation de match avec vitesse maximale",null,null,0]
[null,null,null,"MOBILITE",null,null,"Changements de direction, pivots, stop et start «Nummelin»",null,null,null,null,null,null,null,null,null,"BUTTERFLY-SLIDE\nPOWERSLIDE AUS BUTTERFLY",null,null,"Maîtrise la glissade papillon et les diverses glissades en pleine vitesse, compact avec l'angle correct (90 degrés au puck) et est il capable de se positionner correctement et de faire pression sur le puck",null,null,0]
[null,null,null,"PATTINAGE ARRIÈRE",null,null,"Accélération, vitesse, équilibre",null,null,null,null,null,null,null,null,null,"PRÉCISION / TIMING",null,null,"Déplacement toujours précis par rapport à la ligne de puck (ligne imaginaire entre le puck et le milieu du but)"]
[null,null,null,"TOP SPEED",null,null,"Vitesse, faculté de glisse, avant et arrière, économie des forces",null,null,null,null,null,null,null,null,null,"SPEED",null,null,"Peut-il faire des mouvements de patinage contrôlés et rapides",null,null,0]
["HOCKEY SENSE",null,null,"SCORING",null,null,"Efficience, richesse des variantes, surpenant, vite, variante de tirs",null,null,null,null,null,null,"HOCKEY SENSE",null,null,"JEU D'ANGLEL (BOX-CONTROL)",null,null,"sait, quand il peut faire la pression sur le puck et comprend les avantages du jeu d'angle",null,null,0]
[null,null,null,"AVEC PUCK",null,null,"créatif,  performing, batteling, fou, transition",null,null,null,null,null,null,null,null,null,"LECTURE DU JEU",null,null,"reconnaît les différentes situations de conclusion, sait ou sont les adversaires et si ils sont gauchers ou droitiers.  ",null,null,0]
[null,null,null,"SANS PUCK",null,null,"ouvert pour un passe (Support), 1:1, Gap",null,null,null,null,null,null,null,null,null,"METTRE EN PRATIQUE LE GAMEPLAN ",null,null,"mettre le gameplan en pratique (répartition des de la zone défensive en différents domaines)",null,null,0]
[null,null,null,"DEFENSIF",null,null,"on peut compter dessus,  1:1, Gap, identification de l'homme",null,null,null,null,null,null,null,null,null,"PARTICIPATION ACTIVE",null,null,"Comment stop-t- il les pucks, a-t-il la capacité de donner des passes précises à ses coéquipiers peut-il couper des passes qui passent dans son territoire de gardien",null,null,0]
["PERSONALITY",null,null,"CAPACITE",null,null,"OBSERVATION",null,null,null,null,null,null,"PERSONALITY",null,null,"CAPACITE",null,null,"OBSERVATION"]
["PERSONALITÉ",null,null,"MOTIVATION",null,null,"Est toujours motivé, veut sans cesse se développer et apprendre, veut être le premier et avoir du succès, n'abandonne jamais et ne se laisse pas influencer par les échecs",null,null,null,null,null,null,"PERSON",null,null,"MOTIVATION",null,null,"Est toujours motivé, veut sans cesse se développer et apprendre, veut être le premier et avoir du succès, n'abandonne jamais et ne se laisse pas influencer par les échecs"]
[null,null,null,"CONFIENCE EN SOI",null,null,"Est en confiance, «I can do it», peut estimer ses capacités (connaît ses qualités et ses défauts), peut réaliser ses qualités avec constance, est courageux et prend des risques calculés",null,null,null,null,null,null,null,null,null,"CONFIENCE EN SOI",null,null,"Est en confiance, «I can do it», peut estimer ses capacités (connaît ses qualités et ses défauts), peut réaliser ses qualités avec constance, est courageux et prend des risques calculés"]
[null,null,null,"FACULTÉES D'APPRENTISSAGE",null,null,"A une bonne perception (il peut mémoriser et peut réaliser), il a de la personnalité, essaie d'apprendre de ses erreurs et est entreprenant",null,null,null,null,null,null,null,null,null,"FACULTÉES D'APPRENTISSAGE",null,null,"A une bonne perception (il peut mémoriser et peut réaliser), il a de la personnalité, essaie d'apprendre de ses erreurs et est entreprenant"]
[null,null,null,"PERFORMANCE, STYLE DE VIE",null,null,"Gère bien son environnement et son temps libre selon les principes de la performance, obstiné, tenace et axé sur l'objectif, accent sur sa propre performance, est courageux et peut s'imposer contre de la résistance, les défis le motivent",null,null,null,null,null,null,null,null,null,"PERFORMANCE, STYLE DE VIE",null,null,"Gère bien son environnement et son temps libre selon les principes de la performance, obstiné, tenace et axé sur l'objectif, accent sur sa propre performance, est courageux et peut s'imposer contre de la résistance, les défis le motivent"]
["POWER MENTAL",null,null,"GESTION DES ÉNERGIES",null,null,"Peut-il gérer ses propres énergies, prend-il soin de sa régénération, peut-il gérer les moments où il faut se donner à fond ou quand il faut déconnecter, bouton On/Off",null,null,null,null,null,null,"POWER",null,null,"GESTION DES ÉNERGIES",null,null,"Peut-il gérer ses propres énergies, prend-il soin de sa régénération, peut-il gérer les moments où il faut se donner à fond ou quand il faut déconnecter, bouton On/Off"]
[null,null,null,"ENGAGEMENT",null,null,"Démontre beaucoup d'intensité dans les entraînements et les matchs, donne toujours son maximum et veut sans cesse repousser ses limites, a-t-il de la passion, s'efforce-t-il de s'entraîner avec une excellente qualité",null,null,null,null,null,null,null,null,null,"ENGAGEMENT",null,null,"Démontre beaucoup d'intensité dans les entraînements et les matchs, donne toujours son maximum et veut sans cesse repousser ses limites, a-t-il de la passion, s'efforce-t-il de s'entraîner avec une excellente qualité"]
[null,null,null,"CONTRÔLE DES ÉMOTIONS",null,null,"Peut-il gérer ses propres émotions et impulsions, reste-t-il sous contrôle lorsqu'il y a une grande pression, peut-il rester calme lorsque le niveau émotionnel et de frustration est élevé",null,null,null,null,null,null,null,null,null,"CONTRÔLE DES ÉMOTIONS",null,null,"Peut-il gérer ses propres émotions et impulsions, reste-t-il sous contrôle lorsqu'il y a une grande pression, peut-il rester calme lorsque le niveau émotionnel et de frustration est élevé"]
[null,null,null,"PRÉPARATION",null,null,"Se prépare-t-il toujours bien, mentalement et physiquement, se prépare-t-il toujours bien pour obtenir le niveau de performance idéal (ILZ)",null,null,null,null,null,null,null,null,null,"PRÉPARATION",null,null,"Se prépare-t-il toujours bien, mentalement et physiquement, se prépare-t-il toujours bien pour obtenir le niveau de performance idéal (ILZ)"]
["PYHSE (Athletik)",null,null,"PRODUCTION DE LA PERFORMANCE",null,null,"A-t-il la puissance, la force, la vitesse nécessaires dans les jambes et le haut du corps (facteurs neuromusculaires)",null,null,null,null,null,null,"PYHSE (Athletik)",null,null,"PRODUCTION DE LA PERFORMANCE",null,null,"A-t-il la puissance, la force, la vitesse nécessaires dans les jambes et le haut du corps (facteurs neuromusculaires)"]
[null,null,null,"SPÉCIFIQUE AU SPORT, RÉSISTANT À L'EFFORT",null,null,"Est-il capable de maintenir sa puissance, sa force, sa vitesse durant un long temps de glace et peut-il récupérer complètement entre ses engagements (facteurs du métabolisme et cardiovasculaire)",null,null,null,null,null,null,null,null,null,"SPÉCIFIQUE AU SPORT, RÉSISTANT À L'EFFORT",null,null,"Est-il capable de maintenir sa puissance, sa force, sa vitesse durant un long temps de glace et peut-il récupérer complètement entre ses engagements (facteurs du métabolisme et cardiovasculaire)"]
[null,null,null,"MOBILITÉ/ COODINATION",null,null,"Gère-t-il ses aptitudes de mouvements de base, qui sont un fournisseur important des fonctions spécifiques «Skills» pour être efficace",null,null,null,null,null,null,null,null,null,"MOBILITÉ/ COODINATION",null,null,"Gère-t-il ses aptitudes de mouvements de base, qui sont un fournisseur important des fonctions spécifiques «Skills» pour être efficace"]
[null,null,null,"ROBUSTESSE / PREVENTION",null,null,"A-t-il la force de base nécessaire (tension corporelle) pour gagner des duels et résister aux charges, A-t-il la stabilité nécessaire (ex. ses appuis) et la mobilité nécessaire au niveau des articulations centrales",null,null,null,null,null,null,null,null,null,"ROBUSTESSE / PREVENTION",null,null,"A-t-il la force de base nécessaire (tension corporelle) pour gagner des duels et résister aux charges, A-t-il la stabilité nécessaire (ex. ses appuis) et la mobilité nécessaire au niveau des articulations centrales"]
["VERANLAGUNG",null,null,"CAPACITÉ DE CHARGE",null,null,"A-t-il la puissance, la force, la vitesse nécessaires dans les jambes et le haut du corps (facteurs neuromusculaires)",null,null,null,null,null,null,"VERANLAGUNG",null,null,"CAPACITÉ DE CHARGE",null,null,"A-t-il la puissance, la force, la vitesse nécessaires dans les jambes et le haut du corps (facteurs neuromusculaires)"]
[null,null,null,"GRANDEUR / POIDS",null,null,"Est-il capable de maintenir sa puissance, sa force, sa vitesse durant un long temps de glace et peut-il récupérer complètement entre ses engagements (facteurs du métabolisme et cardiovasculaire)\nA-t-il la stabilité nécessaire (p. ex. ses appuis) et la mobilité nécessaire des articulations centrales",null,null,null,null,null,null,null,null,null,"GRANDEUR / POIDS",null,null,"Est-il capable de maintenir sa puissance, sa force, sa vitesse durant un long temps de glace et peut-il récupérer complètement entre ses engagements (facteurs du métabolisme et cardiovasculaire)\nA-t-il la stabilité nécessaire (p. ex. ses appuis) et la mobilité nécessaire des articulations centrales"]
[null,null,null,"TENEUR CORPORELLE EN MATIÈRES GRASSES",null,null,"Equipe nationale, nationale ligue 8%, Elite-A 10%, Novizen Elite 10-12%, Mini Top / Moskito Top 12-15% (selon hockey sur glace Performance DEB)",null,null,null,null,null,null,null,null,null,"TENEUR CORPORELLE EN MATIÈRES GRASSES",null,null,"Equipe nationale, nationale ligue 8%, Elite-A 10%, Novizen Elite 10-12%, Mini Top / Moskito Top 12-15% (selon hockey sur glace Performance DEB)"]
[null,null,null,"MORPHOLOGIE",null,null,"Ectomorph (athlète mince, peu de masse musculaire), mesomorph (corps athlètique), endomorph (corps solide et tendre)",null,null,null,null,null,null,null,null,null,"MORPHOLOGIE",null,null,"Ectomorph (athlète mince, peu de masse musculaire), mesomorph (corps athlètique), endomorph (corps solide et tendre)"]
["ALTER",null,null,"ÂGE RELATIF",null,null,"Âge relatif (développement avancé, performance élevée, sélection, meilleures stimulations / feed-back positif), âge relatif plus bas (moins de développement, performance moins élevée, pas de sélection > Drop out, peu de stimulation, peu de performance)",null,null,null,null,null,null,"ALTER",null,null,"ÂGE RELATIF",null,null,"Âge relatif (développement avancé, performance élevée, sélection, meilleures stimulations / feed-back positif), âge relatif plus bas (moins de développement, performance moins élevée, pas de sélection > Drop out, peu de stimulation, peu de performance)"]
[null,null,null,"ÂGE BIOLOGIQUE",null,null,"Développement de l'âge biologique en comparaison avec la moyenne de la population (stade de développement réel)",null,null,null,null,null,null,null,null,null,"ÂGE BIOLOGIQUE",null,null,"Développement de l'âge biologique en comparaison avec la moyenne de la population (stade de développement réel)"]
[null,null,null,"STADE DE DÉVELOPPEMENT",null,null,"Âge biologique (AB) - âge chronologique (AC), développement avancé: AB > AC, développement tardif: AB < AC",null,null,null,null,null,null,null,null,null,"STADE DE DÉVELOPPEMENT",null,null,"Âge biologique (AB) - âge chronologique (AC), développement avancé: AB > AC, développement tardif: AB < AC"]
[null,null,null,"EFFET DE L'ÂGE RELATIF",null,null,"Répartition par année de naissance montre de grandes différences relative au développement, mois de naissance",null,null,null,null,null,null,null,null,null,"EFFET DE L'ÂGE RELATIF",null,null,"Répartition par année de naissance montre de grandes différences relative au développement, mois de naissance"]
["UMFELD",null,null,"FAMILLE",null,null,"Situation familiale stable; les parents, la parenté, les frères et sœurs soutiennent le joueur dans tous les domaines; l'engagement et l'influence des parents sont adéquats, les parents ne mettent pas trop de pression",null,null,null,null,null,null,"UMFELD",null,null,"FAMILLE",null,null,"Situation familiale stable; les parents, la parenté, les frères et sœurs soutiennent le joueur dans tous les domaines; l'engagement et l'influence des parents sont adéquats, les parents ne mettent pas trop de pression"]
[null,null,null,"ECOLES FORMATION",null,null,"L'école/l'apprentissage et le sport sont convenus et coordonnés, les plages d'entraînement sont planifiées (équipe/individuel); la charge et la récupération sont équilibrées et supportables",null,null,null,null,null,null,null,null,null,"ECOLES FORMATION",null,null,"L'école/l'apprentissage et le sport sont convenus et coordonnés, les plages d'entraînement sont planifiées (équipe/individuel); la charge et la récupération sont équilibrées et supportables"]
[null,null,null,"SITUATION GÉOGRAPHIQUE",null,null,"Le lieu d'entraînement, du logement et de l'apprentissage (étude) ne sont pas trop éloignés (petit triangle), distance; trajet de moins d'une heure par jour, famille ou famille d'accueil",null,null,null,null,null,null,null,null,null,"SITUATION GÉOGRAPHIQUE",null,null,"Le lieu d'entraînement, du logement et de l'apprentissage (étude) ne sont pas trop éloignés (petit triangle), distance; trajet de moins d'une heure par jour, famille ou famille d'accueil"]
[null,null,null,"CLUB",null,null,"Hohe Qualität von Trainings und Trainern, Club ermöglicht dem Spieler ausreichende Spielzeit auf sinnvoller Stufe/Niveau; Club gewährt eine qualitativ hochstehende Betreuung (Koordination Spiele/Training, Karriereplanung, Ausbildung), optimal: Talent Manager",null,null,null,null,null,null,null,null,null,"CLUB",null,null,"Hohe Qualität von Trainings und Trainern, Club ermöglicht dem Spieler ausreichende Spielzeit auf sinnvoller Stufe/Niveau; Club gewährt eine qualitativ hochstehende Betreuung (Koordination Spiele/Training, Karriereplanung, Ausbildung), optimal: Talent Manager"]

{"sheet":"Feuille du Joueur","index":2,"n_rows":40,"n_cols":25,"rows_kept":40,"cut":false,"hidden":false,"merged":[[32,23,35,23],[33,3,33,5],[33,6,33,11],[35,3,35,5],[35,6,35,11],[32,12,35,12],[32,14,35,14],[32,15,35,21],[32,0,35,2],[32,3,32,5],[32,6,32,11],[28,23,31,23],[29,3,29,5],[29,6,29,11],[30,3,30,5],[30,6,30,11],[31,3,31,5],[31,6,31,11],[28,12,31,12],[28,14,31,14],[28,15,31,21],[27,12,27,13],[27,15,27,21],[28,0,31,2],[28,3,28,5],[28,6,28,11],[27,0,27,2],[27,3,27,5],[27,6,27,11],[23,15,26,21],[19,23,22,23],[20,3,20,5],[20,6,20,11],[22,3,22,5],[22,6,22,11],[23,0,26,2],[23,3,23,5],[23,6,23,11],[19,12,22,12],[19,14,22,14],[19,15,22,21],[19,0,22,2],[19,3,19,5],[19,6,19,11],[23,23,26,23],[24,3,24,5],[24,6,24,11],[25,3,25,5],[25,6,25,11],[26,3,26,5],[26,6,26,11],[23,12,26,12],[23,14,26,14],[21,3,21,5],[15,23,18,23],[16,3,16,5],[16,6,16,11],[17,3,17,5],[17,6,17,11],[18,3,18,5],[18,6,18,11],[15,12,18,12],[15,14,18,14],[15,15,18,21],[14,12,14,13],[14,15,14,21],[15,0,18,2],[15,3,15,5],[15,6,15,11],[14,0,14,2],[14,3,14,5],[14,6,14,11],[12,12,13,12],[12,14,13,14],[12,15,13,21],[3,10,3,13],[4,0,4,1],[4,2,4,5],[4,10,4,13],[12,23,13,23],[13,3,13,5],[13,6,13,11],[11,12,11,13],[11,15,11,21],[12,0,13,2],[12,3,12,5],[12,6,12,11],[10,0,10,13],[10,14,10,24],[11,0,11,2],[11,3,11,5],[11,6,11,11],[36,0,39,2],[34,3,34,5],[34,6,34,11],[36,12,39,12],[36,14,39,14],[36,15,39,21],[36,23,39,23],[0,0,0,13],[0,14,0,15],[0,16,0,21],[0,22,0,24],[1,0,1,1],[1,2,1,5],[1,10,1,13],[6,0,6,1],[6,2,6,24],[7,0,7,1],[7,2,7,24],[8,0,8,1],[8,2,8,24],[2,0,2,1],[2,2,2,5],[2,11,2,13],[3,0,3,1],[21,6,21,11],[36,3,36,5],[36,6,36,11],[37,3,37,5],[37,6,37,11],[38,3,38,5],[38,6,38,11],[39,3,39,5],[39,6,39,11]]}
["Infos personelles",null,null,null,null,null,null,null,null,null,null,null,null,null,"Predispositions",null,"Evaluations",null,null,null,null,null,"Rating"]
["PRENOM",null,null,null,null,null,"POSITION","G",null,"ADRESSE",null,null,null,null,"\"àage\" (Biologique/age relatif)",null,"Date 1",null,null,"cm",null,"Kg",null,"EXCELLENT",5]
["NOM",null,null,null,null,null,"CANNE",null,null,"LIEU",null,null,null,null,"predispositions",null,"Date 2",null,null,"cm",null,"Kg",null,"BON",4]
["DATE NAISS.",null,null,null,null,null,"GRANDEUR",null,"cm (Final)","PHONE",null,null,null,null,"Entourage",null,"Date 3",null,null,"cm",null,"Kg",null,"MOYEN",3]
["SEXE",null,null,null,null,null,"POIDS",null,"Kg (Final)","E-Mail",null,null,null,null,null,null,"Date 4",null,null,"cm",null,"Kg",null,"MANQUES",2]
[null,null,null,null,null,null,null,null,null,null,null,null,null,null,null,null,"Date 5",null,null,"cm",null,"Kg",null,"INSUFFISANT",1]
["Vision",null,"xxx"]
["Next step",null,"xxx"]
["Profil du Joueur",null,"xxx"]
[]
["EVALUATION (COACH / JOUEUR)",null,null,null,null,null,null,null,null,null,null,null,null,null,"SMART"]
[{"$f":"'Skills explications FTEM'!A3:C3","v":"TEAM"},null,null,"CAPACITE",null,null,"OBSERVATION",null,null,null,null,null,"Player",null,"BUT","MESURES:\nSPECIFIQUE, MESURABLES, REALISTE",null,null,null,null,null,null,"DELAI","CONTRÔLE DU BUT","Date"]
[{"$f":"'Skills explications FTEM'!A4:C4","v":"ROLLE, SOZIAL"},null,null,{"$f":"IF($H$2=\"G\",'Skills explications FTEM'!Q4,'Skills explications FTEM'!D4)","v":"PENSER EQUIPE"},null,null,{"$f":"IF($H$2=\"G\",'Skills explications FTEM'!T4,'Skills explications FTEM'!G4)","v":"Identification au rôle, relation au cammarades (social, intégration)"},null,null,{"$f":"IF($H$2=\"G\",'Skills explications FTEM'!W4,'Skills explications FTEM'!J4)","v":0},null,null,{"$f":"IFERROR(AVERAGE(N13:N14),\"-\")","v":"-"}]
[{"$f":"'Skills explications FTEM'!A5:C5","v":0},null,null,{"$f":"IF($H$2=\"G\",'Skills explications FTEM'!Q5,'Skills explications FTEM'!D5)","v":"LEADERSHIP"},null,null,{"$f":"IF($H$2=\"G\",'Skills explications FTEM'!T5,'Skills explications FTEM'!G5)","v":"prend des responsabilités, rend son coéquipier meilleur"},null,null,{"$f":"IF($H$2=\"G\",'Skills explications FTEM'!W5,'Skills explications FTEM'!J5)","v":0}]
[{"$f":"'Skills explications FTEM'!A6:C6","v":"ON ICE"},null,null,"CAPACITE",null,null,"OBSERVATION",null,null,null,null,null,"Player",null,"BUT","MESURES:\nSPECIFIQUE, MESURABLES, REALISTE",null,null,null,null,null,null,"DELAI","CONTRÔLE DU BUT","Date"]
[{"$f":"'Skills explications FTEM'!A7:C7","v":"SKILL"},null,null,{"$f":"IF($H$2=\"G\",'Skills explications FTEM'!Q7,'Skills explications FTEM'!D7)","v":"POSITION DE BASE"},null,null,{"$f":"IF($H$2=\"G\",'Skills explications FTEM'!T7,'Skills explications FTEM'!G7)","v":"Position > Pieds, genoux, épaules, poids légèrement sur l'avant des pieds, les mains devant le corps, position compact comme une paroi > Contrôle de sa position debout et sur les genoux (réactif,bloc)"},null,null,{"$f":"IF($H$2=\"G\",'Skills explications FTEM'!W7,'Skills explications FTEM'!J7)","v":0},null,null,{"$f":"IFERROR(AVERAGE(N16:N19),\"-\")","v":"-"}]
[{"$f":"'Skills explications FTEM'!A8:C8","v":0},null,null,{"$f":"IF($H$2=\"G\",'Skills explications FTEM'!Q8,'Skills explications FTEM'!D8)","v":"DEFENSE DEBOUT"},null,null,{"$f":"IF($H$2=\"G\",'Skills explications FTEM'!T8,'Skills explications FTEM'!G8)","v":"A les capacités d'être actif et contrôlé, lorsqu'il travaille avec ses mains et sa canne"},null,null,{"$f":"IF($H$2=\"G\",'Skills explications FTEM'!W8,'Skills explications FTEM'!J8)","v":0}]
[{"$f":"'Skills explications FTEM'!A9:C9","v":0},null,null,{"$f":"IF($H$2=\"G\",'Skills explications FTEM'!Q9,'Skills explications FTEM'!D9)","v":"DEFENSE EN BUTTERFLY"},null,null,{"$f":"IF($H$2=\"G\",'Skills explications FTEM'!T9,'Skills explications FTEM'!G9)","v":"Dispose-t-il d'une position très compacte, a-t-il son poids devant sur les genoux et peut-il très bien travailler avec ses mains, ses jambières et sa canne"},null,null,{"$f":"IF($H$2=\"G\",'Skills explications FTEM'!W9,'Skills explications FTEM'!J9)","v":0},null,null,{"$f":"IFERROR(AVERAGE(N18:N19),\"-\")","v":"-"}]
[{"$f":"'Skills explications FTEM'!A10:C10","v":0},null,null,{"$f":"IF($H$2=\"G\",'Skills explications FTEM'!Q10,'Skills explications FTEM'!D10)","v":"REBOUNDCONTROL\nREBOUNDMANAGEMENT"},null,null,{"$f":"IF($H$2=\"G\",'Skills explications FTEM'!T10,'Skills explications FTEM'!G10)","v":"Contrôle à chaque instant des tirs, déviation au bon endroit des pucks avec sa canne et ses jambières > réaction rapide et précise sur le deuxième et le troisième puck"},null,null,{"$f":"IF($H$2=\"G\",'Skills explications FTEM'!W10,'Skills explications FTEM'!J10)","v":0}]
[{"$f":"'Skills explications FTEM'!A11:C11","v":"SKATING"},null,null,{"$f":"IF($H$2=\"G\",'Skills explications FTEM'!Q11,'Skills explications FTEM'!D11)","v":"AVANT / ARRIÈRE / DE CÔTÉ"},null,null,{"$f":"IF($H$2=\"G\",'Skills explications FTEM'!T11,'Skills explications FTEM'!G11)","v":"Avant et arrière (déplacement C-Cut), déplacement debout (parallèle, Shuffle, pas en T- Push, Jump), reste longtemps sur ses pieds et est-il capable de se repositionner correctement au puck > Application en situation de match avec vitesse maximale"},null,null,{"$f":"IF($H$2=\"G\",'Skills explications FTEM'!W11,'Skills explications FTEM'!J11)","v":0},null,null,{"$f":"IFERROR(AVERAGE(N20:N23),\"-\")","v":"-"}]
[{"$f":"'Skills explications FTEM'!A12:C12","v":0},null,null,{"$f":"IF($H$2=\"G\",'Skills explications FTEM'!Q12,'Skills explications FTEM'!D12)","v":"BUTTERFLY-SLIDE\nPOWERSLIDE AUS BUTTERFLY"},null,null,{"$f":"IF($H$2=\"G\",'Skills explications FTEM'!T12,'Skills explications FTEM'!G12)","v":"Maîtrise la glissade papillon et les diverses glissades en pleine vitesse, compact avec l'angle correct (90 degrés au puck) et est il capable de se positionner correctement et de faire pression sur le puck"},null,null,{"$f":"IF($H$2=\"G\",'Skills explications FTEM'!W12,'Skills explications FTEM'!J12)","v":0}]
[{"$f":"'Skills explications FTEM'!A13:C13","v":0},null,null,{"$f":"IF($H$2=\"G\",'Skills explications FTEM'!Q13,'Skills explications FTEM'!D13)","v":"PRÉCISION / TIMING"},null,null,{"$f":"IF($H$2=\"G\",'Skills explications FTEM'!T13,'Skills explications FTEM'!G13)","v":"Déplacement toujours précis par rapport à la ligne de puck (ligne imaginaire entre le puck et le milieu du but)"},null,null,{"$f":"IF($H$2=\"G\",'Skills explications FTEM'!W13,'Skills explications FTEM'!J13)","v":0}]
[{"$f":"'Skills explications FTEM'!A14:C14","v":0},null,null,{"$f":"IF($H$2=\"G\",'Skills explications FTEM'!Q14,'Skills explications FTEM'!D14)","v":"SPEED"},null,null,{"$f":"IF($H$2=\"G\",'Skills explications FTEM'!T14,'Skills explications FTEM'!G14)","v":"Peut-il faire des mouvements de patinage contrôlés et rapides"},null,null,{"$f":"IF($H$2=\"G\",'Skills explications FTEM'!W14,'Skills explications FTEM'!J14)","v":0}]
[{"$f":"'Skills explications FTEM'!A15:C15","v":"HOCKEY SENSE"},null,null,{"$f":"IF($H$2=\"G\",'Skills explications FTEM'!Q15,'Skills explications FTEM'!D15)","v":"JEU D'ANGLEL (BOX-CONTROL)"},null,null,{"$f":"IF($H$2=\"G\",'Skills explications FTEM'!T15,'Skills explications FTEM'!G15)","v":"sait, quand il peut faire la pression sur le puck et comprend les avantages du jeu d'angle"},null,null,{"$f":"IF($H$2=\"G\",'Skills explications FTEM'!W15,'Skills explications FTEM'!J15)","v":0},null,null,{"$f":"IFERROR(AVERAGE(N24:N27),\"-\")","v":"-"}]
[{"$f":"'Skills explications FTEM'!A16:C16","v":0},null,null,{"$f":"IF($H$2=\"G\",'Skills explications FTEM'!Q16,'Skills explications FTEM'!D16)","v":"LECTURE DU JEU"},null,null,{"$f":"IF($H$2=\"G\",'Skills explications FTEM'!T16,'Skills explications FTEM'!G16)","v":"reconnaît les différentes situations de conclusion, sait ou sont les adversaires et si ils sont gauchers ou droitiers.  "},null,null,{"$f":"IF($H$2=\"G\",'Skills explications FTEM'!W16,'Skills explications FTEM'!J16)","v":0}]
[{"$f":"'Skills explications FTEM'!A17:C17","v":0},null,null,{"$f":"IF($H$2=\"G\",'Skills explications FTEM'!Q17,'Skills explications FTEM'!D17)","v":"METTRE EN PRATIQUE LE GAMEPLAN "},null,null,{"$f":"IF($H$2=\"G\",'Skills explications FTEM'!T17,'Skills explications FTEM'!G17)","v":"mettre le gameplan en pratique (répartition des de la zone défensive en différents domaines)"},null,null,{"$f":"IF($H$2=\"G\",'Skills explications FTEM'!W17,'Skills explications FTEM'!J17)","v":0}]
[{"$f":"'Skills explications FTEM'!A18:C18","v":0},null,null,{"$f":"IF($H$2=\"G\",'Skills explications FTEM'!Q18,'Skills explications FTEM'!D18)","v":"PARTICIPATION ACTIVE"},null,null,{"$f":"IF($H$2=\"G\",'Skills explications FTEM'!T18,'Skills explications FTEM'!G18)","v":"Comment stop-t- il les pucks, a-t-il la capacité de donner des passes précises à ses coéquipiers peut-il couper des passes qui passent dans son territoire de gardien"},null,null,{"$f":"IF($H$2=\"G\",'Skills explications FTEM'!W18,'Skills explications FTEM'!J18)","v":0}]
[{"$f":"'Skills explications FTEM'!A19:C19","v":"PERSONALITY"},null,null,"CAPACITE",null,null,"OBSERVATION",null,null,null,null,null,"Player",null,"BUT","MESURES:\nSPECIFIQUE, MESURABLES, REALISTE",null,null,null,null,null,null,"DELAI","CONTRÔLE DU BUT","Date"]
[{"$f":"'Skills explications FTEM'!A20:C20","v":"PERSONALITÉ"},null,null,{"$f":"IF($H$2=\"G\",'Skills explications FTEM'!Q20,'Skills explications FTEM'!D20)","v":"MOTIVATION"},null,null,{"$f":"IF($H$2=\"G\",'Skills explications FTEM'!T20,'Skills explications FTEM'!G20)","v":"Est toujours motivé, veut sans cesse se développer et apprendre, veut être le premier et avoir du succès, n'abandonne jamais et ne se laisse pas influencer par les échecs"},null,null,{"$f":"IF($H$2=\"G\",'Skills explications FTEM'!W20,'Skills explications FTEM'!J20)","v":0},null,null,{"$f":"IFERROR(AVERAGE(N29:N32),\"-\")","v":"-"}]
[{"$f":"'Skills explications FTEM'!A21:C21","v":0},null,null,{"$f":"IF($H$2=\"G\",'Skills explications FTEM'!Q21,'Skills explications FTEM'!D21)","v":"CONFIENCE EN SOI"},null,null,{"$f":"IF($H$2=\"G\",'Skills explications FTEM'!T21,'Skills explications FTEM'!G21)","v":"Est en confiance, «I can do it», peut estimer ses capacités (connaît ses qualités et ses défauts), peut réaliser ses qualités avec constance, est courageux et prend des risques calculés"},null,null,{"$f":"IF($H$2=\"G\",'Skills explications FTEM'!W21,'Skills explications FTEM'!J21)","v":0}]
[{"$f":"'Skills explications FTEM'!A22:C22","v":0},null,null,{"$f":"IF($H$2=\"G\",'Skills explications FTEM'!Q22,'Skills explications FTEM'!D22)","v":"FACULTÉES D'APPRENTISSAGE"},null,null,{"$f":"IF($H$2=\"G\",'Skills explications FTEM'!T22,'Skills explications FTEM'!G22)","v":"A une bonne perception (il peut mémoriser et peut réaliser), il a de la personnalité, essaie d'apprendre de ses erreurs et est entreprenant"},null,null,{"$f":"IF($H$2=\"G\",'Skills explications FTEM'!W22,'Skills explications FTEM'!J22)","v":0}]
[{"$f":"'Skills explications FTEM'!A23:C23","v":0},null,null,{"$f":"IF($H$2=\"G\",'Skills explications FTEM'!Q23,'Skills explications FTEM'!D23)","v":"PERFORMANCE, STYLE DE VIE"},null,null,{"$f":"IF($H$2=\"G\",'Skills explications FTEM'!T23,'Skills explications FTEM'!G23)","v":"Gère bien son environnement et son temps libre selon les principes de la performance, obstiné, tenace et axé sur l'objectif, accent sur sa propre performance, est courageux et peut s'imposer contre de la résistance, les défis le motivent"},null,null,{"$f":"IF($H$2=\"G\",'Skills explications FTEM'!W23,'Skills explications FTEM'!J23)","v":0}]
[{"$f":"'Skills explications FTEM'!A24:C24","v":"POWER MENTAL"},null,null,{"$f":"IF($H$2=\"G\",'Skills explications FTEM'!Q24,'Skills explications FTEM'!D24)","v":"GESTION DES ÉNERGIES"},null,null,{"$f":"IF($H$2=\"G\",'Skills explications FTEM'!T24,'Skills explications FTEM'!G24)","v":"Peut-il gérer ses propres énergies, prend-il soin de sa régénération, peut-il gérer les moments où il faut se donner à fond ou quand il faut déconnecter, bouton On/Off"},null,null,{"$f":"IF($H$2=\"G\",'Skills explications FTEM'!W24,'Skills explications FTEM'!J24)","v":0},null,null,{"$f":"IFERROR(AVERAGE(N33:N36),\"-\")","v":"-"}]
[{"$f":"'Skills explications FTEM'!A25:C25","v":0},null,null,{"$f":"IF($H$2=\"G\",'Skills explications FTEM'!Q25,'Skills explications FTEM'!D25)","v":"ENGAGEMENT"},null,null,{"$f":"IF($H$2=\"G\",'Skills explications FTEM'!T25,'Skills explications FTEM'!G25)","v":"Démontre beaucoup d'intensité dans les entraînements et les matchs, donne toujours son maximum et veut sans cesse repousser ses limites, a-t-il de la passion, s'efforce-t-il de s'entraîner avec une excellente qualité"},null,null,{"$f":"IF($H$2=\"G\",'Skills explications FTEM'!W25,'Skills explications FTEM'!J25)","v":0}]
[{"$f":"'Skills explications FTEM'!A26:C26","v":0},null,null,{"$f":"IF($H$2=\"G\",'Skills explications FTEM'!Q26,'Skills explications FTEM'!D26)","v":"CONTRÔLE DES ÉMOTIONS"},null,null,{"$f":"IF($H$2=\"G\",'Skills explications FTEM'!T26,'Skills explications FTEM'!G26)","v":"Peut-il gérer ses propres émotions et impulsions, reste-t-il sous contrôle lorsqu'il y a une grande pression, peut-il rester calme lorsque le niveau émotionnel et de frustration est élevé"},null,null,{"$f":"IF($H$2=\"G\",'Skills explications FTEM'!W26,'Skills explications FTEM'!J26)","v":0}]
[{"$f":"'Skills explications FTEM'!A27:C27","v":0},null,null,{"$f":"IF($H$2=\"G\",'Skills explications FTEM'!Q27,'Skills explications FTEM'!D27)","v":"PRÉPARATION"},null,null,{"$f":"IF($H$2=\"G\",'Skills explications FTEM'!T27,'Skills explications FTEM'!G27)","v":"Se prépare-t-il toujours bien, mentalement et physiquement, se prépare-t-il toujours bien pour obtenir le niveau de performance idéal (ILZ)"},null,null,{"$f":"IF($H$2=\"G\",'Skills explications FTEM'!W27,'Skills explications FTEM'!J27)","v":0}]
[{"$f":"'Skills explications FTEM'!A28:C28","v":"PYHSE (Athletik)"},null,null,{"$f":"IF($H$2=\"G\",'Skills explications FTEM'!Q28,'Skills explications FTEM'!D28)","v":"PRODUCTION DE LA PERFORMANCE"},null,null,{"$f":"IF($H$2=\"G\",'Skills explications FTEM'!T28,'Skills explications FTEM'!G28)","v":"A-t-il la puissance, la force, la vitesse nécessaires dans les jambes et le haut du corps (facteurs neuromusculaires)"},null,null,{"$f":"IF($H$2=\"G\",'Skills explications FTEM'!W28,'Skills explications FTEM'!J28)","v":0},null,null,{"$f":"IFERROR(AVERAGE(N37:N40),\"-\")","v":"-"}]
[{"$f":"'Skills explications FTEM'!A29:C29","v":0},null,null,{"$f":"IF($H$2=\"G\",'Skills explications FTEM'!Q29,'Skills explications FTEM'!D29)","v":"SPÉCIFIQUE AU SPORT, RÉSISTANT À L'EFFORT"},null,null,{"$f":"IF($H$2=\"G\",'Skills explications FTEM'!T29,'Skills explications FTEM'!G29)","v":"Est-il capable de maintenir sa puissance, sa force, sa vitesse durant un long temps de glace et peut-il récupérer complètement entre ses engagements (facteurs du métabolisme et cardiovasculaire)"},null,null,{"$f":"IF($H$2=\"G\",'Skills explications FTEM'!W29,'Skills explications FTEM'!J29)","v":0}]
[{"$f":"'Skills explications FTEM'!A30:C30","v":0},null,null,{"$f":"IF($H$2=\"G\",'Skills explications FTEM'!Q30,'Skills explications FTEM'!D30)","v":"MOBILITÉ/ COODINATION"},null,null,{"$f":"IF($H$2=\"G\",'Skills explications FTEM'!T30,'Skills explications FTEM'!G30)","v":"Gère-t-il ses aptitudes de mouvements de base, qui sont un fournisseur important des fonctions spécifiques «Skills» pour être efficace"},null,null,{"$f":"IF($H$2=\"G\",'Skills explications FTEM'!W30,'Skills explications FTEM'!J30)","v":0}]
[{"$f":"'Skills explications FTEM'!A31:C31","v":0},null,null,{"$f":"IF($H$2=\"G\",'Skills explications FTEM'!Q31,'Skills explications FTEM'!D31)","v":"ROBUSTESSE / PREVENTION"},null,null,{"$f":"IF($H$2=\"G\",'Skills explications FTEM'!T31,'Skills explications FTEM'!G31)","v":"A-t-il la force de base nécessaire (tension corporelle) pour gagner des duels et résister aux charges, A-t-il la stabilité nécessaire (ex. ses appuis) et la mobilité nécessaire au niveau des articulations centrales"},null,null,{"$f":"IF($H$2=\"G\",'Skills explications FTEM'!W31,'Skills explications FTEM'!J31)","v":0}]

{"sheet":"Feuille de selection","index":3,"n_rows":40,"n_cols":55,"rows_kept":40,"cut":false,"hidden":false,"merged":[[2,10,2,13],[6,10,6,13],[0,0,0,34],[8,35,8,44],[4,12,4,13],[2,33,2,34],[4,33,4,34],[6,33,6,34],[8,0,8,34]]}
["SIHF STAR PROFILE"]
[null,null,null,null,null,null,"SEX",null,null,null,null,null,null,null,null,null,null,null,null,"G"]
[null,null,null,null,null,null,"M",null,null,"CLUB","HC Musterclub",null,null,null,null,null,null,null,null,null,null,null,null,null,null,null,null,null,null,null,null,null,"TEAM","U15"]
[]
[null,null,null,null,null,null,"W",null,null,"SAISON",2019,"-",2020,null,null,null,null,null,null,null,null,null,null,null,null,null,null,null,null,null,null,null,"CLASSE D'AGE",2005]
[]
[null,null,null,null,null,null,null,null,null,"ÉTAT","2019-06-26",null,null,null,null,null,null,null,null,null,null,null,null,null,null,null,null,null,null,null,null,null,"COACH","Daniele Celio"]
[]
["VALUTATIONS FINALE"]
["Spielre ID","Name\nNom","Vorname\nPrénom","Club","Strasse\nRue","Ort\nLieu","PLZ","Phone\n(Natel / Home)","EMAIL","Grösse\nGrandeur","Gewicht\nPoid","Position\nG / D / FC / FW","Sex","Geburtsdatum\nDate de naissance","Monat\nmois","Jahr\nannée","Testdatum\nDate du test","Monat","Jahr","SKILL","SKATING","hockey SENSE","PERSON","POWER","PYHSE (Athletik)","TEAM","ALTER\nAGE","UMFELD\nENTOURAGE","VERANLAGUNG\nPREDISPOSITION","TOTAL ","RANG","Verletzt\nBlessé?","Selektionsentscheid\nDécision de sélection","Tendenz / Tendance:\nLEISTUNGSENTWICKLUNG\nDévelop. de la performance","Bemerkung\nRemarques","Gewichtung\nSkills","Gewichtung\nSkating","Gewichtung\nHockey Sense","Gewichtung\nPerson","Gewichtung\nPower","Gewichtung\nTeam","Gewichtung\nPhyse","Gewichtung\nAlter","Gewichtung\nUmfeld","Gewichtung\nVeranlagung","Gewichtung\nSkills2","Gewichtung\nSkating3","Gewichtung\nHockey Sense4","Gewichtung\nPerson5","Gewichtung\nPower6","Gewichtung\nTeam7","Gewichtung\nTeam8","Gewichtung\nAlter8","Gewichtung\nUmfeld10","Gewichtung\nVeranlagung11"]
[1,"xxx","xxx",{"$f":"IF(ISBLANK(B11),\"-\",$K$3)","v":"HC Musterclub"},"xxx","xxx","xxxx","xxx xxx xx xx",null,{"$f":"IF(ISBLANK('1'!$H$4),\"-\",'1'!$H$4)","v":"-"},{"$f":"IF(ISBLANK('1'!$H$5),\"-\",'1'!$H$5)","v":"-"},{"$f":"IF(ISBLANK('1'!$H$2),\"-\",'1'!$H$2)","v":"-"},"M","xx","xx",null,null,null,null,{"$f":"'1'!$M$16","v":0},{"$f":"'1'!$M$20","v":0},{"$f":"'1'!$M$24","v":0},{"$f":"'1'!$M$29","v":0},{"$f":"'1'!$M$33","v":0},{"$f":"'1'!$M$37","v":0},{"$f":"'1'!$M$13","v":0},{"$f":"'1'!$AA$2","v":0},{"$f":"'1'!$AA$4","v":0},{"$f":"'1'!$AA$3","v":0},{"$f":"IF(Tabelle3[[#This Row],[SKILL]]=0,\"-\",IF(Tabelle3[[#This Row],[Sex]]=\"M\",SUMPRODUCT(Tabelle3[[#This Row],[SKILL]:[VERANLAGUNG\nPREDISPOSITION]],AJ11:AS11),SUMPRODUCT(Tabelle3[[#This Row],[SKILL]:[VERANLAGUNG\nPREDISPOSITION]],AT11:BC11)))","v":"-"},{"$f":"IFERROR(RANK(Tabelle3[[#This Row],[TOTAL ]],Tabelle3[[TOTAL ]],0),\"-\")","v":"-"},null,null,null,null,{"$f":"IF(Tabelle3[[#This Row],[Position\nG / D / FC / FW]]=\"G\",VLOOKUP($M$5-Tabelle3[[#This Row],[Jahr\nannée]],GOALI,2),VLOOKUP($M$5-Tabelle3[[#This Row],[Jahr\nannée]],SPIELER,2))","v":10},{"$f":"IF(Tabelle3[[#This Row],[Position\nG / D / FC / FW]]=\"G\",VLOOKUP($M$5-Tabelle3[[#This Row],[Jahr\nannée]],GOALI,3),VLOOKUP($M$5-Tabelle3[[#This Row],[Jahr\nannée]],SPIELER,3))","v":10},{"$f":"IF(Tabelle3[[#This Row],[Position\nG / D / FC / FW]]=\"G\",VLOOKUP($M$5-Tabelle3[[#This Row],[Jahr\nannée]],GOALI,4),VLOOKUP($M$5-Tabelle3[[#This Row],[Jahr\nannée]],SPIELER,4))","v":20},{"$f":"IF(Tabelle3[[#This Row],[Position\nG / D / FC / FW]]=\"G\",VLOOKUP($M$5-Tabelle3[[#This Row],[Jahr\nannée]],GOALI,5),VLOOKUP($M$5-Tabelle3[[#This Row],[Jahr\nannée]],SPIELER,5))","v":15},{"$f":"IF(Tabelle3[[#This Row],[Position\nG / D / FC / FW]]=\"G\",VLOOKUP($M$5-Tabelle3[[#This Row],[Jahr\nannée]],GOALI,6),VLOOKUP($M$5-Tabelle3[[#This Row],[Jahr\nannée]],SPIELER,6))","v":10},{"$f":"IF(Tabelle3[[#This Row],[Position\nG / D / FC / FW]]=\"G\",VLOOKUP($M$5-Tabelle3[[#This Row],[Jahr\nannée]],GOALI,7),VLOOKUP($M$5-Tabelle3[[#This Row],[Jahr\nannée]],SPIELER,7))","v":10},{"$f":"IF(Tabelle3[[#This Row],[Position\nG / D / FC / FW]]=\"G\",VLOOKUP($M$5-Tabelle3[[#This Row],[Jahr\nannée]],GOALI,9),VLOOKUP($M$5-Tabelle3[[#This Row],[Jahr\nannée]],SPIELER,9))","v":15},{"$f":"IF(Tabelle3[[#This Row],[Position\nG / D / FC / FW]]=\"G\",VLOOKUP($M$5-Tabelle3[[#This Row],[Jahr\nannée]],GOALI,8),VLOOKUP($M$5-Tabelle3[[#This Row],[Jahr\nannée]],SPIELER,8))","v":0},{"$f":"IF(Tabelle3[[#This Row],[Position\nG / D / FC / FW]]=\"G\",VLOOKUP($M$5-Tabelle3[[#This Row],[Jahr\nannée]],GOALI,10),VLOOKUP($M$5-Tabelle3[[#This Row],[Jahr\nannée]],SPIELER,10))","v":0},{"$f":"IF(Tabelle3[[#This Row],[Position\nG / D / FC / FW]]=\"G\",VLOOKUP($M$5-Tabelle3[[#This Row],[Jahr\nannée]],GOALI,11),VLOOKUP($M$5-Tabelle3[[#This Row],[Jahr\nannée]],SPIELER,11))","v":10},{"$f":"IF(Tabelle3[[#This Row],[Position\nG / D / FC / FW]]=\"G\",VLOOKUP($M$5-Tabelle3[[#This Row],[Jahr\nannée]],FGOALIE,2),VLOOKUP($M$5-Tabelle3[[#This Row],[Jahr\nannée]],FSPIELER,2))","v":10},{"$f":"IF(Tabelle3[[#This Row],[Position\nG / D / FC / FW]]=\"G\",VLOOKUP($M$5-Tabelle3[[#This Row],[Jahr\nannée]],FGOALIE,3),VLOOKUP($M$5-Tabelle3[[#This Row],[Jahr\nannée]],FSPIELER,3))","v":10},{"$f":"IF(Tabelle3[[#This Row],[Position\nG / D / FC / FW]]=\"G\",VLOOKUP($M$5-Tabelle3[[#This Row],[Jahr\nannée]],FGOALIE,4),VLOOKUP($M$5-Tabelle3[[#This Row],[Jahr\nannée]],FSPIELER,4))","v":20},{"$f":"IF(Tabelle3[[#This Row],[Position\nG / D / FC / FW]]=\"G\",VLOOKUP($M$5-Tabelle3[[#This Row],[Jahr\nannée]],FGOALIE,5),VLOOKUP($M$5-Tabelle3[[#This Row],[Jahr\nannée]],FSPIELER,5))","v":15},{"$f":"IF(Tabelle3[[#This Row],[Position\nG / D / FC / FW]]=\"G\",VLOOKUP($M$5-Tabelle3[[#This Row],[Jahr\nannée]],FGOALIE,6),VLOOKUP($M$5-Tabelle3[[#This Row],[Jahr\nannée]],FSPIELER,6))","v":10},{"$f":"IF(Tabelle3[[#This Row],[Position\nG / D / FC / FW]]=\"G\",VLOOKUP($M$5-Tabelle3[[#This Row],[Jahr\nannée]],FGOALIE,7),VLOOKUP($M$5-Tabelle3[[#This Row],[Jahr\nannée]],FSPIELER,7))","v":10},{"$f":"IF(Tabelle3[[#This Row],[Position\nG / D / FC / FW]]=\"G\",VLOOKUP($M$5-Tabelle3[[#This Row],[Jahr\nannée]],FGOALIE,9),VLOOKUP($M$5-Tabelle3[[#This Row],[Jahr\nannée]],FSPIELER,9))","v":15},{"$f":"IF(Tabelle3[[#This Row],[Position\nG / D / FC / FW]]=\"G\",VLOOKUP($M$5-Tabelle3[[#This Row],[Jahr\nannée]],FGOALIE,8),VLOOKUP($M$5-Tabelle3[[#This Row],[Jahr\nannée]],FSPIELER,8))","v":0},{"$f":"IF(Tabelle3[[#This Row],[Position\nG / D / FC / FW]]=\"G\",VLOOKUP($M$5-Tabelle3[[#This Row],[Jahr\nannée]],FGOALIE,10),VLOOKUP($M$5-Tabelle3[[#This Row],[Jahr\nannée]],FSPIELER,10))","v":0},{"$f":"IF(Tabelle3[[#This Row],[Position\nG / D / FC / FW]]=\"G\",VLOOKUP($M$5-Tabelle3[[#This Row],[Jahr\nannée]],FGOALIE,11),VLOOKUP($M$5-Tabelle3[[#This Row],[Jahr\nannée]],FSPIELER,11))","v":10}]
[2,null,null,"-",null,null,null,null,null,{"$f":"IF(ISBLANK('2'!$H$4),\"-\",'2'!$H$4)","v":"-"},{"$f":"IF(ISBLANK('2'!$H$5),\"-\",'2'!$H$5)","v":"-"},{"$f":"IF(ISBLANK('2'!$H$2),\"-\",'2'!$H$2)","v":"-"},null,null,null,null,null,null,null,{"$f":"'2'!$M$16","v":0},{"$f":"'2'!$M$20","v":0},{"$f":"'2'!$M$24","v":0},{"$f":"'2'!$M$29","v":0},{"$f":"'2'!$M$33","v":0},{"$f":"'2'!$M$37","v":0},{"$f":"'2'!$M$13","v":0},{"$f":"'2'!$AA$2","v":0},{"$f":"'2'!$AA$4","v":0},{"$f":"'2'!$AA$3","v":0},{"$f":"IF(Tabelle3[[#This Row],[SKILL]]=0,\"-\",IF(Tabelle3[[#This Row],[Sex]]=\"M\",SUMPRODUCT(Tabelle3[[#This Row],[SKILL]:[VERANLAGUNG\nPREDISPOSITION]],AJ12:AS12),SUMPRODUCT(Tabelle3[[#This Row],[SKILL]:[VERANLAGUNG\nPREDISPOSITION]],AT12:BC12)))","v":"-"},{"$f":"IFERROR(RANK(Tabelle3[[#This Row],[TOTAL ]],Tabelle3[[TOTAL ]],0),\"-\")","v":"-"},null,null,null,null,{"$f":"IF(Tabelle3[[#This Row],[Position\nG / D / FC / FW]]=\"G\",VLOOKUP($M$5-Tabelle3[[#This Row],[Jahr\nannée]],GOALI,2),VLOOKUP($M$5-Tabelle3[[#This Row],[Jahr\nannée]],SPIELER,2))","v":10},{"$f":"IF(Tabelle3[[#This Row],[Position\nG / D / FC / FW]]=\"G\",VLOOKUP($M$5-Tabelle3[[#This Row],[Jahr\nannée]],GOALI,3),VLOOKUP($M$5-Tabelle3[[#This Row],[Jahr\nannée]],SPIELER,3))","v":10},{"$f":"IF(Tabelle3[[#This Row],[Position\nG / D / FC / FW]]=\"G\",VLOOKUP($M$5-Tabelle3[[#This Row],[Jahr\nannée]],GOALI,4),VLOOKUP($M$5-Tabelle3[[#This Row],[Jahr\nannée]],SPIELER,4))","v":20},{"$f":"IF(Tabelle3[[#This Row],[Position\nG / D / FC / FW]]=\"G\",VLOOKUP($M$5-Tabelle3[[#This Row],[Jahr\nannée]],GOALI,5),VLOOKUP($M$5-Tabelle3[[#This Row],[Jahr\nannée]],SPIELER,5))","v":15},{"$f":"IF(Tabelle3[[#This Row],[Position\nG / D / FC / FW]]=\"G\",VLOOKUP($M$5-Tabelle3[[#This Row],[Jahr\nannée]],GOALI,6),VLOOKUP($M$5-Tabelle3[[#This Row],[Jahr\nannée]],SPIELER,6))","v":10},{"$f":"IF(Tabelle3[[#This Row],[Position\nG / D / FC / FW]]=\"G\",VLOOKUP($M$5-Tabelle3[[#This Row],[Jahr\nannée]],GOALI,7),VLOOKUP($M$5-Tabelle3[[#This Row],[Jahr\nannée]],SPIELER,7))","v":10},{"$f":"IF(Tabelle3[[#This Row],[Position\nG / D / FC / FW]]=\"G\",VLOOKUP($M$5-Tabelle3[[#This Row],[Jahr\nannée]],GOALI,9),VLOOKUP($M$5-Tabelle3[[#This Row],[Jahr\nannée]],SPIELER,9))","v":15},{"$f":"IF(Tabelle3[[#This Row],[Position\nG / D / FC / FW]]=\"G\",VLOOKUP($M$5-Tabelle3[[#This Row],[Jahr\nannée]],GOALI,8),VLOOKUP($M$5-Tabelle3[[#This Row],[Jahr\nannée]],SPIELER,8))","v":0},{"$f":"IF(Tabelle3[[#This Row],[Position\nG / D / FC / FW]]=\"G\",VLOOKUP($M$5-Tabelle3[[#This Row],[Jahr\nannée]],GOALI,10),VLOOKUP($M$5-Tabelle3[[#This Row],[Jahr\nannée]],SPIELER,10))","v":0},{"$f":"IF(Tabelle3[[#This Row],[Position\nG / D / FC / FW]]=\"G\",VLOOKUP($M$5-Tabelle3[[#This Row],[Jahr\nannée]],GOALI,11),VLOOKUP($M$5-Tabelle3[[#This Row],[Jahr\nannée]],SPIELER,11))","v":10},{"$f":"IF(Tabelle3[[#This Row],[Position\nG / D / FC / FW]]=\"G\",VLOOKUP($M$5-Tabelle3[[#This Row],[Jahr\nannée]],FGOALIE,2),VLOOKUP($M$5-Tabelle3[[#This Row],[Jahr\nannée]],FSPIELER,2))","v":10},{"$f":"IF(Tabelle3[[#This Row],[Position\nG / D / FC / FW]]=\"G\",VLOOKUP($M$5-Tabelle3[[#This Row],[Jahr\nannée]],FGOALIE,3),VLOOKUP($M$5-Tabelle3[[#This Row],[Jahr\nannée]],FSPIELER,3))","v":10},{"$f":"IF(Tabelle3[[#This Row],[Position\nG / D / FC / FW]]=\"G\",VLOOKUP($M$5-Tabelle3[[#This Row],[Jahr\nannée]],FGOALIE,4),VLOOKUP($M$5-Tabelle3[[#This Row],[Jahr\nannée]],FSPIELER,4))","v":20},{"$f":"IF(Tabelle3[[#This Row],[Position\nG / D / FC / FW]]=\"G\",VLOOKUP($M$5-Tabelle3[[#This Row],[Jahr\nannée]],FGOALIE,5),VLOOKUP($M$5-Tabelle3[[#This Row],[Jahr\nannée]],FSPIELER,5))","v":15},{"$f":"IF(Tabelle3[[#This Row],[Position\nG / D / FC / FW]]=\"G\",VLOOKUP($M$5-Tabelle3[[#This Row],[Jahr\nannée]],FGOALIE,6),VLOOKUP($M$5-Tabelle3[[#This Row],[Jahr\nannée]],FSPIELER,6))","v":10},{"$f":"IF(Tabelle3[[#This Row],[Position\nG / D / FC / FW]]=\"G\",VLOOKUP($M$5-Tabelle3[[#This Row],[Jahr\nannée]],FGOALIE,7),VLOOKUP($M$5-Tabelle3[[#This Row],[Jahr\nannée]],FSPIELER,7))","v":10},{"$f":"IF(Tabelle3[[#This Row],[Position\nG / D / FC / FW]]=\"G\",VLOOKUP($M$5-Tabelle3[[#This Row],[Jahr\nannée]],FGOALIE,9),VLOOKUP($M$5-Tabelle3[[#This Row],[Jahr\nannée]],FSPIELER,9))","v":15},{"$f":"IF(Tabelle3[[#This Row],[Position\nG / D / FC / FW]]=\"G\",VLOOKUP($M$5-Tabelle3[[#This Row],[Jahr\nannée]],FGOALIE,8),VLOOKUP($M$5-Tabelle3[[#This Row],[Jahr\nannée]],FSPIELER,8))","v":0},{"$f":"IF(Tabelle3[[#This Row],[Position\nG / D / FC / FW]]=\"G\",VLOOKUP($M$5-Tabelle3[[#This Row],[Jahr\nannée]],FGOALIE,10),VLOOKUP($M$5-Tabelle3[[#This Row],[Jahr\nannée]],FSPIELER,10))","v":0},{"$f":"IF(Tabelle3[[#This Row],[Position\nG / D / FC / FW]]=\"G\",VLOOKUP($M$5-Tabelle3[[#This Row],[Jahr\nannée]],FGOALIE,11),VLOOKUP($M$5-Tabelle3[[#This Row],[Jahr\nannée]],FSPIELER,11))","v":10}]
[3,null,null,"-",null,null,null,null,null,{"$f":"IF(ISBLANK('3'!$H$4),\"-\",'3'!$H$4)","v":"-"},{"$f":"IF(ISBLANK('3'!$H$5),\"-\",'3'!$H$5)","v":"-"},{"$f":"IF(ISBLANK('3'!$H$2),\"-\",'3'!$H$2)","v":"-"},null,null,null,null,null,null,null,{"$f":"'3'!$M$16","v":0},{"$f":"'3'!$M$20","v":0},{"$f":"'3'!$M$24","v":0},{"$f":"'3'!$M$29","v":0},{"$f":"'3'!$M$33","v":0},{"$f":"'3'!$M$37","v":0},{"$f":"'3'!$M$13","v":0},{"$f":"'3'!$AA$2","v":0},{"$f":"'3'!$AA$4","v":0},{"$f":"'3'!$AA$3","v":0},{"$f":"IF(Tabelle3[[#This Row],[SKILL]]=0,\"-\",IF(Tabelle3[[#This Row],[Sex]]=\"M\",SUMPRODUCT(Tabelle3[[#This Row],[SKILL]:[VERANLAGUNG\nPREDISPOSITION]],AJ13:AS13),SUMPRODUCT(Tabelle3[[#This Row],[SKILL]:[VERANLAGUNG\nPREDISPOSITION]],AT13:BC13)))","v":"-"},{"$f":"IFERROR(RANK(Tabelle3[[#This Row],[TOTAL ]],Tabelle3[[TOTAL ]],0),\"-\")","v":"-"},null,null,null,null,{"$f":"IF(Tabelle3[[#This Row],[Position\nG / D / FC / FW]]=\"G\",VLOOKUP($M$5-Tabelle3[[#This Row],[Jahr\nannée]],GOALI,2),VLOOKUP($M$5-Tabelle3[[#This Row],[Jahr\nannée]],SPIELER,2))","v":10},{"$f":"IF(Tabelle3[[#This Row],[Position\nG / D / FC / FW]]=\"G\",VLOOKUP($M$5-Tabelle3[[#This Row],[Jahr\nannée]],GOALI,3),VLOOKUP($M$5-Tabelle3[[#This Row],[Jahr\nannée]],SPIELER,3))","v":10},{"$f":"IF(Tabelle3[[#This Row],[Position\nG / D / FC / FW]]=\"G\",VLOOKUP($M$5-Tabelle3[[#This Row],[Jahr\nannée]],GOALI,4),VLOOKUP($M$5-Tabelle3[[#This Row],[Jahr\nannée]],SPIELER,4))","v":20},{"$f":"IF(Tabelle3[[#This Row],[Position\nG / D / FC / FW]]=\"G\",VLOOKUP($M$5-Tabelle3[[#This Row],[Jahr\nannée]],GOALI,5),VLOOKUP($M$5-Tabelle3[[#This Row],[Jahr\nannée]],SPIELER,5))","v":15},{"$f":"IF(Tabelle3[[#This Row],[Position\nG / D / FC / FW]]=\"G\",VLOOKUP($M$5-Tabelle3[[#This Row],[Jahr\nannée]],GOALI,6),VLOOKUP($M$5-Tabelle3[[#This Row],[Jahr\nannée]],SPIELER,6))","v":10},{"$f":"IF(Tabelle3[[#This Row],[Position\nG / D / FC / FW]]=\"G\",VLOOKUP($M$5-Tabelle3[[#This Row],[Jahr\nannée]],GOALI,7),VLOOKUP($M$5-Tabelle3[[#This Row],[Jahr\nannée]],SPIELER,7))","v":10},{"$f":"IF(Tabelle3[[#This Row],[Position\nG / D / FC / FW]]=\"G\",VLOOKUP($M$5-Tabelle3[[#This Row],[Jahr\nannée]],GOALI,9),VLOOKUP($M$5-Tabelle3[[#This Row],[Jahr\nannée]],SPIELER,9))","v":15},{"$f":"IF(Tabelle3[[#This Row],[Position\nG / D / FC / FW]]=\"G\",VLOOKUP($M$5-Tabelle3[[#This Row],[Jahr\nannée]],GOALI,8),VLOOKUP($M$5-Tabelle3[[#This Row],[Jahr\nannée]],SPIELER,8))","v":0},{"$f":"IF(Tabelle3[[#This Row],[Position\nG / D / FC / FW]]=\"G\",VLOOKUP($M$5-Tabelle3[[#This Row],[Jahr\nannée]],GOALI,10),VLOOKUP($M$5-Tabelle3[[#This Row],[Jahr\nannée]],SPIELER,10))","v":0},{"$f":"IF(Tabelle3[[#This Row],[Position\nG / D / FC / FW]]=\"G\",VLOOKUP($M$5-Tabelle3[[#This Row],[Jahr\nannée]],GOALI,11),VLOOKUP($M$5-Tabelle3[[#This Row],[Jahr\nannée]],SPIELER,11))","v":10},{"$f":"IF(Tabelle3[[#This Row],[Position\nG / D / FC / FW]]=\"G\",VLOOKUP($M$5-Tabelle3[[#This Row],[Jahr\nannée]],FGOALIE,2),VLOOKUP($M$5-Tabelle3[[#This Row],[Jahr\nannée]],FSPIELER,2))","v":10},{"$f":"IF(Tabelle3[[#This Row],[Position\nG / D / FC / FW]]=\"G\",VLOOKUP($M$5-Tabelle3[[#This Row],[Jahr\nannée]],FGOALIE,3),VLOOKUP($M$5-Tabelle3[[#This Row],[Jahr\nannée]],FSPIELER,3))","v":10},{"$f":"IF(Tabelle3[[#This Row],[Position\nG / D / FC / FW]]=\"G\",VLOOKUP($M$5-Tabelle3[[#This Row],[Jahr\nannée]],FGOALIE,4),VLOOKUP($M$5-Tabelle3[[#This Row],[Jahr\nannée]],FSPIELER,4))","v":20},{"$f":"IF(Tabelle3[[#This Row],[Position\nG / D / FC / FW]]=\"G\",VLOOKUP($M$5-Tabelle3[[#This Row],[Jahr\nannée]],FGOALIE,5),VLOOKUP($M$5-Tabelle3[[#This Row],[Jahr\nannée]],FSPIELER,5))","v":15},{"$f":"IF(Tabelle3[[#This Row],[Position\nG / D / FC / FW]]=\"G\",VLOOKUP($M$5-Tabelle3[[#This Row],[Jahr\nannée]],FGOALIE,6),VLOOKUP($M$5-Tabelle3[[#This Row],[Jahr\nannée]],FSPIELER,6))","v":10},{"$f":"IF(Tabelle3[[#This Row],[Position\nG / D / FC / FW]]=\"G\",VLOOKUP($M$5-Tabelle3[[#This Row],[Jahr\nannée]],FGOALIE,7),VLOOKUP($M$5-Tabelle3[[#This Row],[Jahr\nannée]],FSPIELER,7))","v":10},{"$f":"IF(Tabelle3[[#This Row],[Position\nG / D / FC / FW]]=\"G\",VLOOKUP($M$5-Tabelle3[[#This Row],[Jahr\nannée]],FGOALIE,9),VLOOKUP($M$5-Tabelle3[[#This Row],[Jahr\nannée]],FSPIELER,9))","v":15},{"$f":"IF(Tabelle3[[#This Row],[Position\nG / D / FC / FW]]=\"G\",VLOOKUP($M$5-Tabelle3[[#This Row],[Jahr\nannée]],FGOALIE,8),VLOOKUP($M$5-Tabelle3[[#This Row],[Jahr\nannée]],FSPIELER,8))","v":0},{"$f":"IF(Tabelle3[[#This Row],[Position\nG / D / FC / FW]]=\"G\",VLOOKUP($M$5-Tabelle3[[#This Row],[Jahr\nannée]],FGOALIE,10),VLOOKUP($M$5-Tabelle3[[#This Row],[Jahr\nannée]],FSPIELER,10))","v":0},{"$f":"IF(Tabelle3[[#This Row],[Position\nG / D / FC / FW]]=\"G\",VLOOKUP($M$5-Tabelle3[[#This Row],[Jahr\nannée]],FGOALIE,11),VLOOKUP($M$5-Tabelle3[[#This Row],[Jahr\nannée]],FSPIELER,11))","v":10}]
[4,null,null,"-",null,null,null,null,null,{"$f":"IF(ISBLANK('4'!$H$4),\"-\",'4'!$H$4)","v":"-"},{"$f":"IF(ISBLANK('4'!$H$5),\"-\",'4'!$H$5)","v":"-"},{"$f":"IF(ISBLANK('4'!$H$2),\"-\",'4'!$H$2)","v":"-"},null,null,null,null,null,null,null,{"$f":"'4'!$M$16","v":0},{"$f":"'4'!$M$20","v":0},{"$f":"'4'!$M$24","v":0},{"$f":"'4'!$M$29","v":0},{"$f":"'4'!$M$33","v":0},{"$f":"'4'!$M$37","v":0},{"$f":"'4'!$M$13","v":0},{"$f":"'4'!$AA$2","v":0},{"$f":"'4'!$AA$4","v":0},{"$f":"'4'!$AA$3","v":0},{"$f":"IF(Tabelle3[[#This Row],[SKILL]]=0,\"-\",IF(Tabelle3[[#This Row],[Sex]]=\"M\",SUMPRODUCT(Tabelle3[[#This Row],[SKILL]:[VERANLAGUNG\nPREDISPOSITION]],AJ14:AS14),SUMPRODUCT(Tabelle3[[#This Row],[SKILL]:[VERANLAGUNG\nPREDISPOSITION]],AT14:BC14)))","v":"-"},{"$f":"IFERROR(RANK(Tabelle3[[#This Row],[TOTAL ]],Tabelle3[[TOTAL ]],0),\"-\")","v":"-"},null,null,null,null,{"$f":"IF(Tabelle3[[#This Row],[Position\nG / D / FC / FW]]=\"G\",VLOOKUP($M$5-Tabelle3[[#This Row],[Jahr\nannée]],GOALI,2),VLOOKUP($M$5-Tabelle3[[#This Row],[Jahr\nannée]],SPIELER,2))","v":10},{"$f":"IF(Tabelle3[[#This Row],[Position\nG / D / FC / FW]]=\"G\",VLOOKUP($M$5-Tabelle3[[#This Row],[Jahr\nannée]],GOALI,3),VLOOKUP($M$5-Tabelle3[[#This Row],[Jahr\nannée]],SPIELER,3))","v":10},{"$f":"IF(Tabelle3[[#This Row],[Position\nG / D / FC / FW]]=\"G\",VLOOKUP($M$5-Tabelle3[[#This Row],[Jahr\nannée]],GOALI,4),VLOOKUP($M$5-Tabelle3[[#This Row],[Jahr\nannée]],SPIELER,4))","v":20},{"$f":"IF(Tabelle3[[#This Row],[Position\nG / D / FC / FW]]=\"G\",VLOOKUP($M$5-Tabelle3[[#This Row],[Jahr\nannée]],GOALI,5),VLOOKUP($M$5-Tabelle3[[#This Row],[Jahr\nannée]],SPIELER,5))","v":15},{"$f":"IF(Tabelle3[[#This Row],[Position\nG / D / FC / FW]]=\"G\",VLOOKUP($M$5-Tabelle3[[#This Row],[Jahr\nannée]],GOALI,6),VLOOKUP($M$5-Tabelle3[[#This Row],[Jahr\nannée]],SPIELER,6))","v":10},{"$f":"IF(Tabelle3[[#This Row],[Position\nG / D / FC / FW]]=\"G\",VLOOKUP($M$5-Tabelle3[[#This Row],[Jahr\nannée]],GOALI,7),VLOOKUP($M$5-Tabelle3[[#This Row],[Jahr\nannée]],SPIELER,7))","v":10},{"$f":"IF(Tabelle3[[#This Row],[Position\nG / D / FC / FW]]=\"G\",VLOOKUP($M$5-Tabelle3[[#This Row],[Jahr\nannée]],GOALI,9),VLOOKUP($M$5-Tabelle3[[#This Row],[Jahr\nannée]],SPIELER,9))","v":15},{"$f":"IF(Tabelle3[[#This Row],[Position\nG / D / FC / FW]]=\"G\",VLOOKUP($M$5-Tabelle3[[#This Row],[Jahr\nannée]],GOALI,8),VLOOKUP($M$5-Tabelle3[[#This Row],[Jahr\nannée]],SPIELER,8))","v":0},{"$f":"IF(Tabelle3[[#This Row],[Position\nG / D / FC / FW]]=\"G\",VLOOKUP($M$5-Tabelle3[[#This Row],[Jahr\nannée]],GOALI,10),VLOOKUP($M$5-Tabelle3[[#This Row],[Jahr\nannée]],SPIELER,10))","v":0},{"$f":"IF(Tabelle3[[#This Row],[Position\nG / D / FC / FW]]=\"G\",VLOOKUP($M$5-Tabelle3[[#This Row],[Jahr\nannée]],GOALI,11),VLOOKUP($M$5-Tabelle3[[#This Row],[Jahr\nannée]],SPIELER,11))","v":10},{"$f":"IF(Tabelle3[[#This Row],[Position\nG / D / FC / FW]]=\"G\",VLOOKUP($M$5-Tabelle3[[#This Row],[Jahr\nannée]],FGOALIE,2),VLOOKUP($M$5-Tabelle3[[#This Row],[Jahr\nannée]],FSPIELER,2))","v":10},{"$f":"IF(Tabelle3[[#This Row],[Position\nG / D / FC / FW]]=\"G\",VLOOKUP($M$5-Tabelle3[[#This Row],[Jahr\nannée]],FGOALIE,3),VLOOKUP($M$5-Tabelle3[[#This Row],[Jahr\nannée]],FSPIELER,3))","v":10},{"$f":"IF(Tabelle3[[#This Row],[Position\nG / D / FC / FW]]=\"G\",VLOOKUP($M$5-Tabelle3[[#This Row],[Jahr\nannée]],FGOALIE,4),VLOOKUP($M$5-Tabelle3[[#This Row],[Jahr\nannée]],FSPIELER,4))","v":20},{"$f":"IF(Tabelle3[[#This Row],[Position\nG / D / FC / FW]]=\"G\",VLOOKUP($M$5-Tabelle3[[#This Row],[Jahr\nannée]],FGOALIE,5),VLOOKUP($M$5-Tabelle3[[#This Row],[Jahr\nannée]],FSPIELER,5))","v":15},{"$f":"IF(Tabelle3[[#This Row],[Position\nG / D / FC / FW]]=\"G\",VLOOKUP($M$5-Tabelle3[[#This Row],[Jahr\nannée]],FGOALIE,6),VLOOKUP($M$5-Tabelle3[[#This Row],[Jahr\nannée]],FSPIELER,6))","v":10},{"$f":"IF(Tabelle3[[#This Row],[Position\nG / D / FC / FW]]=\"G\",VLOOKUP($M$5-Tabelle3[[#This Row],[Jahr\nannée]],FGOALIE,7),VLOOKUP($M$5-Tabelle3[[#This Row],[Jahr\nannée]],FSPIELER,7))","v":10},{"$f":"IF(Tabelle3[[#This Row],[Position\nG / D / FC / FW]]=\"G\",VLOOKUP($M$5-Tabelle3[[#This Row],[Jahr\nannée]],FGOALIE,9),VLOOKUP($M$5-Tabelle3[[#This Row],[Jahr\nannée]],FSPIELER,9))","v":15},{"$f":"IF(Tabelle3[[#This Row],[Position\nG / D / FC / FW]]=\"G\",VLOOKUP($M$5-Tabelle3[[#This Row],[Jahr\nannée]],FGOALIE,8),VLOOKUP($M$5-Tabelle3[[#This Row],[Jahr\nannée]],FSPIELER,8))","v":0},{"$f":"IF(Tabelle3[[#This Row],[Position\nG / D / FC / FW]]=\"G\",VLOOKUP($M$5-Tabelle3[[#This Row],[Jahr\nannée]],FGOALIE,10),VLOOKUP($M$5-Tabelle3[[#This Row],[Jahr\nannée]],FSPIELER,10))","v":0},{"$f":"IF(Tabelle3[[#This Row],[Position\nG / D / FC / FW]]=\"G\",VLOOKUP($M$5-Tabelle3[[#This Row],[Jahr\nannée]],FGOALIE,11),VLOOKUP($M$5-Tabelle3[[#This Row],[Jahr\nannée]],FSPIELER,11))","v":10}]
[5,null,null,"-",null,null,null,null,null,{"$f":"IF(ISBLANK('5'!$H$4),\"-\",'5'!$H$4)","v":"-"},{"$f":"IF(ISBLANK('5'!$H$5),\"-\",'5'!$H$5)","v":"-"},{"$f":"IF(ISBLANK('5'!$H$2),\"-\",'5'!$H$2)","v":"-"},null,null,null,null,null,null,null,{"$f":"'5'!$M$16","v":0},{"$f":"'5'!$M$20","v":0},{"$f":"'5'!$M$24","v":0},{"$f":"'5'!$M$29","v":0},{"$f":"'5'!$M$33","v":0},{"$f":"'5'!$M$37","v":0},{"$f":"'5'!$M$13","v":0},{"$f":"'5'!$AA$2","v":0},{"$f":"'5'!$AA$4","v":0},{"$f":"'5'!$AA$3","v":0},{"$f":"IF(Tabelle3[[#This Row],[SKILL]]=0,\"-\",IF(Tabelle3[[#This Row],[Sex]]=\"M\",SUMPRODUCT(Tabelle3[[#This Row],[SKILL]:[VERANLAGUNG\nPREDISPOSITION]],AJ15:AS15),SUMPRODUCT(Tabelle3[[#This Row],[SKILL]:[VERANLAGUNG\nPREDISPOSITION]],AT15:BC15)))","v":"-"},{"$f":"IFERROR(RANK(Tabelle3[[#This Row],[TOTAL ]],Tabelle3[[TOTAL ]],0),\"-\")","v":"-"},null,null,null,null,{"$f":"IF(Tabelle3[[#This Row],[Position\nG / D / FC / FW]]=\"G\",VLOOKUP($M$5-Tabelle3[[#This Row],[Jahr\nannée]],GOALI,2),VLOOKUP($M$5-Tabelle3[[#This Row],[Jahr\nannée]],SPIELER,2))","v":10},{"$f":"IF(Tabelle3[[#This Row],[Position\nG / D / FC / FW]]=\"G\",VLOOKUP($M$5-Tabelle3[[#This Row],[Jahr\nannée]],GOALI,3),VLOOKUP($M$5-Tabelle3[[#This Row],[Jahr\nannée]],SPIELER,3))","v":10},{"$f":"IF(Tabelle3[[#This Row],[Position\nG / D / FC / FW]]=\"G\",VLOOKUP($M$5-Tabelle3[[#This Row],[Jahr\nannée]],GOALI,4),VLOOKUP($M$5-Tabelle3[[#This Row],[Jahr\nannée]],SPIELER,4))","v":20},{"$f":"IF(Tabelle3[[#This Row],[Position\nG / D / FC / FW]]=\"G\",VLOOKUP($M$5-Tabelle3[[#This Row],[Jahr\nannée]],GOALI,5),VLOOKUP($M$5-Tabelle3[[#This Row],[Jahr\nannée]],SPIELER,5))","v":15},{"$f":"IF(Tabelle3[[#This Row],[Position\nG / D / FC / FW]]=\"G\",VLOOKUP($M$5-Tabelle3[[#This Row],[Jahr\nannée]],GOALI,6),VLOOKUP($M$5-Tabelle3[[#This Row],[Jahr\nannée]],SPIELER,6))","v":10},{"$f":"IF(Tabelle3[[#This Row],[Position\nG / D / FC / FW]]=\"G\",VLOOKUP($M$5-Tabelle3[[#This Row],[Jahr\nannée]],GOALI,7),VLOOKUP($M$5-Tabelle3[[#This Row],[Jahr\nannée]],SPIELER,7))","v":10},{"$f":"IF(Tabelle3[[#This Row],[Position\nG / D / FC / FW]]=\"G\",VLOOKUP($M$5-Tabelle3[[#This Row],[Jahr\nannée]],GOALI,9),VLOOKUP($M$5-Tabelle3[[#This Row],[Jahr\nannée]],SPIELER,9))","v":15},{"$f":"IF(Tabelle3[[#This Row],[Position\nG / D / FC / FW]]=\"G\",VLOOKUP($M$5-Tabelle3[[#This Row],[Jahr\nannée]],GOALI,8),VLOOKUP($M$5-Tabelle3[[#This Row],[Jahr\nannée]],SPIELER,8))","v":0},{"$f":"IF(Tabelle3[[#This Row],[Position\nG / D / FC / FW]]=\"G\",VLOOKUP($M$5-Tabelle3[[#This Row],[Jahr\nannée]],GOALI,10),VLOOKUP($M$5-Tabelle3[[#This Row],[Jahr\nannée]],SPIELER,10))","v":0},{"$f":"IF(Tabelle3[[#This Row],[Position\nG / D / FC / FW]]=\"G\",VLOOKUP($M$5-Tabelle3[[#This Row],[Jahr\nannée]],GOALI,11),VLOOKUP($M$5-Tabelle3[[#This Row],[Jahr\nannée]],SPIELER,11))","v":10},{"$f":"IF(Tabelle3[[#This Row],[Position\nG / D / FC / FW]]=\"G\",VLOOKUP($M$5-Tabelle3[[#This Row],[Jahr\nannée]],FGOALIE,2),VLOOKUP($M$5-Tabelle3[[#This Row],[Jahr\nannée]],FSPIELER,2))","v":10},{"$f":"IF(Tabelle3[[#This Row],[Position\nG / D / FC / FW]]=\"G\",VLOOKUP($M$5-Tabelle3[[#This Row],[Jahr\nannée]],FGOALIE,3),VLOOKUP($M$5-Tabelle3[[#This Row],[Jahr\nannée]],FSPIELER,3))","v":10},{"$f":"IF(Tabelle3[[#This Row],[Position\nG / D / FC / FW]]=\"G\",VLOOKUP($M$5-Tabelle3[[#This Row],[Jahr\nannée]],FGOALIE,4),VLOOKUP($M$5-Tabelle3[[#This Row],[Jahr\nannée]],FSPIELER,4))","v":20},{"$f":"IF(Tabelle3[[#This Row],[Position\nG / D / FC / FW]]=\"G\",VLOOKUP($M$5-Tabelle3[[#This Row],[Jahr\nannée]],FGOALIE,5),VLOOKUP($M$5-Tabelle3[[#This Row],[Jahr\nannée]],FSPIELER,5))","v":15},{"$f":"IF(Tabelle3[[#This Row],[Position\nG / D / FC / FW]]=\"G\",VLOOKUP($M$5-Tabelle3[[#This Row],[Jahr\nannée]],FGOALIE,6),VLOOKUP($M$5-Tabelle3[[#This Row],[Jahr\nannée]],FSPIELER,6))","v":10},{"$f":"IF(Tabelle3[[#This Row],[Position\nG / D / FC / FW]]=\"G\",VLOOKUP($M$5-Tabelle3[[#This Row],[Jahr\nannée]],FGOALIE,7),VLOOKUP($M$5-Tabelle3[[#This Row],[Jahr\nannée]],FSPIELER,7))","v":10},{"$f":"IF(Tabelle3[[#This Row],[Position\nG / D / FC / FW]]=\"G\",VLOOKUP($M$5-Tabelle3[[#This Row],[Jahr\nannée]],FGOALIE,9),VLOOKUP($M$5-Tabelle3[[#This Row],[Jahr\nannée]],FSPIELER,9))","v":15},{"$f":"IF(Tabelle3[[#This Row],[Position\nG / D / FC / FW]]=\"G\",VLOOKUP($M$5-Tabelle3[[#This Row],[Jahr\nannée]],FGOALIE,8),VLOOKUP($M$5-Tabelle3[[#This Row],[Jahr\nannée]],FSPIELER,8))","v":0},{"$f":"IF(Tabelle3[[#This Row],[Position\nG / D / FC / FW]]=\"G\",VLOOKUP($M$5-Tabelle3[[#This Row],[Jahr\nannée]],FGOALIE,10),VLOOKUP($M$5-Tabelle3[[#This Row],[Jahr\nannée]],FSPIELER,10))","v":0},{"$f":"IF(Tabelle3[[#This Row],[Position\nG / D / FC / FW]]=\"G\",VLOOKUP($M$5-Tabelle3[[#This Row],[Jahr\nannée]],FGOALIE,11),VLOOKUP($M$5-Tabelle3[[#This Row],[Jahr\nannée]],FSPIELER,11))","v":10}]
[6,null,null,"-",null,null,null,null,null,{"$f":"IF(ISBLANK('6'!$H$4),\"-\",'6'!$H$4)","v":"-"},{"$f":"IF(ISBLANK('6'!$H$5),\"-\",'6'!$H$5)","v":"-"},{"$f":"IF(ISBLANK('6'!$H$2),\"-\",'6'!$H$2)","v":"-"},null,null,null,null,null,null,null,{"$f":"'6'!$M$16","v":0},{"$f":"'6'!$M$20","v":0},{"$f":"'6'!$M$24","v":0},{"$f":"'6'!$M$29","v":0},{"$f":"'6'!$M$33","v":0},{"$f":"'6'!$M$37","v":0},{"$f":"'6'!$M$13","v":0},{"$f":"'6'!$AA$2","v":0},{"$f":"'6'!$AA$4","v":0},{"$f":"'6'!$AA$3","v":0},{"$f":"IF(Tabelle3[[#This Row],[SKILL]]=0,\"-\",IF(Tabelle3[[#This Row],[Sex]]=\"M\",SUMPRODUCT(Tabelle3[[#This Row],[SKILL]:[VERANLAGUNG\nPREDISPOSITION]],AJ16:AS16),SUMPRODUCT(Tabelle3[[#This Row],[SKILL]:[VERANLAGUNG\nPREDISPOSITION]],AT16:BC16)))","v":"-"},{"$f":"IFERROR(RANK(Tabelle3[[#This Row],[TOTAL ]],Tabelle3[[TOTAL ]],0),\"-\")","v":"-"},null,null,null,null,{"$f":"IF(Tabelle3[[#This Row],[Position\nG / D / FC / FW]]=\"G\",VLOOKUP($M$5-Tabelle3[[#This Row],[Jahr\nannée]],GOALI,2),VLOOKUP($M$5-Tabelle3[[#This Row],[Jahr\nannée]],SPIELER,2))","v":10},{"$f":"IF(Tabelle3[[#This Row],[Position\nG / D / FC / FW]]=\"G\",VLOOKUP($M$5-Tabelle3[[#This Row],[Jahr\nannée]],GOALI,3),VLOOKUP($M$5-Tabelle3[[#This Row],[Jahr\nannée]],SPIELER,3))","v":10},{"$f":"IF(Tabelle3[[#This Row],[Position\nG / D / FC / FW]]=\"G\",VLOOKUP($M$5-Tabelle3[[#This Row],[Jahr\nannée]],GOALI,4),VLOOKUP($M$5-Tabelle3[[#This Row],[Jahr\nannée]],SPIELER,4))","v":20},{"$f":"IF(Tabelle3[[#This Row],[Position\nG / D / FC / FW]]=\"G\",VLOOKUP($M$5-Tabelle3[[#This Row],[Jahr\nannée]],GOALI,5),VLOOKUP($M$5-Tabelle3[[#This Row],[Jahr\nannée]],SPIELER,5))","v":15},{"$f":"IF(Tabelle3[[#This Row],[Position\nG / D / FC / FW]]=\"G\",VLOOKUP($M$5-Tabelle3[[#This Row],[Jahr\nannée]],GOALI,6),VLOOKUP($M$5-Tabelle3[[#This Row],[Jahr\nannée]],SPIELER,6))","v":10},{"$f":"IF(Tabelle3[[#This Row],[Position\nG / D / FC / FW]]=\"G\",VLOOKUP($M$5-Tabelle3[[#This Row],[Jahr\nannée]],GOALI,7),VLOOKUP($M$5-Tabelle3[[#This Row],[Jahr\nannée]],SPIELER,7))","v":10},{"$f":"IF(Tabelle3[[#This Row],[Position\nG / D / FC / FW]]=\"G\",VLOOKUP($M$5-Tabelle3[[#This Row],[Jahr\nannée]],GOALI,9),VLOOKUP($M$5-Tabelle3[[#This Row],[Jahr\nannée]],SPIELER,9))","v":15},{"$f":"IF(Tabelle3[[#This Row],[Position\nG / D / FC / FW]]=\"G\",VLOOKUP($M$5-Tabelle3[[#This Row],[Jahr\nannée]],GOALI,8),VLOOKUP($M$5-Tabelle3[[#This Row],[Jahr\nannée]],SPIELER,8))","v":0},{"$f":"IF(Tabelle3[[#This Row],[Position\nG / D / FC / FW]]=\"G\",VLOOKUP($M$5-Tabelle3[[#This Row],[Jahr\nannée]],GOALI,10),VLOOKUP($M$5-Tabelle3[[#This Row],[Jahr\nannée]],SPIELER,10))","v":0},{"$f":"IF(Tabelle3[[#This Row],[Position\nG / D / FC / FW]]=\"G\",VLOOKUP($M$5-Tabelle3[[#This Row],[Jahr\nannée]],GOALI,11),VLOOKUP($M$5-Tabelle3[[#This Row],[Jahr\nannée]],SPIELER,11))","v":10},{"$f":"IF(Tabelle3[[#This Row],[Position\nG / D / FC / FW]]=\"G\",VLOOKUP($M$5-Tabelle3[[#This Row],[Jahr\nannée]],FGOALIE,2),VLOOKUP($M$5-Tabelle3[[#This Row],[Jahr\nannée]],FSPIELER,2))","v":10},{"$f":"IF(Tabelle3[[#This Row],[Position\nG / D / FC / FW]]=\"G\",VLOOKUP($M$5-Tabelle3[[#This Row],[Jahr\nannée]],FGOALIE,3),VLOOKUP($M$5-Tabelle3[[#This Row],[Jahr\nannée]],FSPIELER,3))","v":10},{"$f":"IF(Tabelle3[[#This Row],[Position\nG / D / FC / FW]]=\"G\",VLOOKUP($M$5-Tabelle3[[#This Row],[Jahr\nannée]],FGOALIE,4),VLOOKUP($M$5-Tabelle3[[#This Row],[Jahr\nannée]],FSPIELER,4))","v":20},{"$f":"IF(Tabelle3[[#This Row],[Position\nG / D / FC / FW]]=\"G\",VLOOKUP($M$5-Tabelle3[[#This Row],[Jahr\nannée]],FGOALIE,5),VLOOKUP($M$5-Tabelle3[[#This Row],[Jahr\nannée]],FSPIELER,5))","v":15},{"$f":"IF(Tabelle3[[#This Row],[Position\nG / D / FC / FW]]=\"G\",VLOOKUP($M$5-Tabelle3[[#This Row],[Jahr\nannée]],FGOALIE,6),VLOOKUP($M$5-Tabelle3[[#This Row],[Jahr\nannée]],FSPIELER,6))","v":10},{"$f":"IF(Tabelle3[[#This Row],[Position\nG / D / FC / FW]]=\"G\",VLOOKUP($M$5-Tabelle3[[#This Row],[Jahr\nannée]],FGOALIE,7),VLOOKUP($M$5-Tabelle3[[#This Row],[Jahr\nannée]],FSPIELER,7))","v":10},{"$f":"IF(Tabelle3[[#This Row],[Position\nG / D / FC / FW]]=\"G\",VLOOKUP($M$5-Tabelle3[[#This Row],[Jahr\nannée]],FGOALIE,9),VLOOKUP($M$5-Tabelle3[[#This Row],[Jahr\nannée]],FSPIELER,9))","v":15},{"$f":"IF(Tabelle3[[#This Row],[Position\nG / D / FC / FW]]=\"G\",VLOOKUP($M$5-Tabelle3[[#This Row],[Jahr\nannée]],FGOALIE,8),VLOOKUP($M$5-Tabelle3[[#This Row],[Jahr\nannée]],FSPIELER,8))","v":0},{"$f":"IF(Tabelle3[[#This Row],[Position\nG / D / FC / FW]]=\"G\",VLOOKUP($M$5-Tabelle3[[#This Row],[Jahr\nannée]],FGOALIE,10),VLOOKUP($M$5-Tabelle3[[#This Row],[Jahr\nannée]],FSPIELER,10))","v":0},{"$f":"IF(Tabelle3[[#This Row],[Position\nG / D / FC / FW]]=\"G\",VLOOKUP($M$5-Tabelle3[[#This Row],[Jahr\nannée]],FGOALIE,11),VLOOKUP($M$5-Tabelle3[[#This Row],[Jahr\nannée]],FSPIELER,11))","v":10}]
[7,null,null,"-",null,null,null,null,null,{"$f":"IF(ISBLANK('7'!$H$4),\"-\",'7'!$H$4)","v":"-"},{"$f":"IF(ISBLANK('7'!$H$5),\"-\",'7'!$H$5)","v":"-"},{"$f":"IF(ISBLANK('7'!$H$2),\"-\",'7'!$H$2)","v":"-"},null,null,null,null,null,null,null,{"$f":"'7'!$M$16","v":0},{"$f":"'7'!$M$20","v":0},{"$f":"'7'!$M$24","v":0},{"$f":"'7'!$M$29","v":0},{"$f":"'7'!$M$33","v":0},{"$f":"'7'!$M$37","v":0},{"$f":"'7'!$M$13","v":0},{"$f":"'7'!$AA$2","v":0},{"$f":"'7'!$AA$4","v":0},{"$f":"'7'!$AA$3","v":0},{"$f":"IF(Tabelle3[[#This Row],[SKILL]]=0,\"-\",IF(Tabelle3[[#This Row],[Sex]]=\"M\",SUMPRODUCT(Tabelle3[[#This Row],[SKILL]:[VERANLAGUNG\nPREDISPOSITION]],AJ17:AS17),SUMPRODUCT(Tabelle3[[#This Row],[SKILL]:[VERANLAGUNG\nPREDISPOSITION]],AT17:BC17)))","v":"-"},{"$f":"IFERROR(RANK(Tabelle3[[#This Row],[TOTAL ]],Tabelle3[[TOTAL ]],0),\"-\")","v":"-"},null,null,null,null,{"$f":"IF(Tabelle3[[#This Row],[Position\nG / D / FC / FW]]=\"G\",VLOOKUP($M$5-Tabelle3[[#This Row],[Jahr\nannée]],GOALI,2),VLOOKUP($M$5-Tabelle3[[#This Row],[Jahr\nannée]],SPIELER,2))","v":10},{"$f":"IF(Tabelle3[[#This Row],[Position\nG / D / FC / FW]]=\"G\",VLOOKUP($M$5-Tabelle3[[#This Row],[Jahr\nannée]],GOALI,3),VLOOKUP($M$5-Tabelle3[[#This Row],[Jahr\nannée]],SPIELER,3))","v":10},{"$f":"IF(Tabelle3[[#This Row],[Position\nG / D / FC / FW]]=\"G\",VLOOKUP($M$5-Tabelle3[[#This Row],[Jahr\nannée]],GOALI,4),VLOOKUP($M$5-Tabelle3[[#This Row],[Jahr\nannée]],SPIELER,4))","v":20},{"$f":"IF(Tabelle3[[#This Row],[Position\nG / D / FC / FW]]=\"G\",VLOOKUP($M$5-Tabelle3[[#This Row],[Jahr\nannée]],GOALI,5),VLOOKUP($M$5-Tabelle3[[#This Row],[Jahr\nannée]],SPIELER,5))","v":15},{"$f":"IF(Tabelle3[[#This Row],[Position\nG / D / FC / FW]]=\"G\",VLOOKUP($M$5-Tabelle3[[#This Row],[Jahr\nannée]],GOALI,6),VLOOKUP($M$5-Tabelle3[[#This Row],[Jahr\nannée]],SPIELER,6))","v":10},{"$f":"IF(Tabelle3[[#This Row],[Position\nG / D / FC / FW]]=\"G\",VLOOKUP($M$5-Tabelle3[[#This Row],[Jahr\nannée]],GOALI,7),VLOOKUP($M$5-Tabelle3[[#This Row],[Jahr\nannée]],SPIELER,7))","v":10},{"$f":"IF(Tabelle3[[#This Row],[Position\nG / D / FC / FW]]=\"G\",VLOOKUP($M$5-Tabelle3[[#This Row],[Jahr\nannée]],GOALI,9),VLOOKUP($M$5-Tabelle3[[#This Row],[Jahr\nannée]],SPIELER,9))","v":15},{"$f":"IF(Tabelle3[[#This Row],[Position\nG / D / FC / FW]]=\"G\",VLOOKUP($M$5-Tabelle3[[#This Row],[Jahr\nannée]],GOALI,8),VLOOKUP($M$5-Tabelle3[[#This Row],[Jahr\nannée]],SPIELER,8))","v":0},{"$f":"IF(Tabelle3[[#This Row],[Position\nG / D / FC / FW]]=\"G\",VLOOKUP($M$5-Tabelle3[[#This Row],[Jahr\nannée]],GOALI,10),VLOOKUP($M$5-Tabelle3[[#This Row],[Jahr\nannée]],SPIELER,10))","v":0},{"$f":"IF(Tabelle3[[#This Row],[Position\nG / D / FC / FW]]=\"G\",VLOOKUP($M$5-Tabelle3[[#This Row],[Jahr\nannée]],GOALI,11),VLOOKUP($M$5-Tabelle3[[#This Row],[Jahr\nannée]],SPIELER,11))","v":10},{"$f":"IF(Tabelle3[[#This Row],[Position\nG / D / FC / FW]]=\"G\",VLOOKUP($M$5-Tabelle3[[#This Row],[Jahr\nannée]],FGOALIE,2),VLOOKUP($M$5-Tabelle3[[#This Row],[Jahr\nannée]],FSPIELER,2))","v":10},{"$f":"IF(Tabelle3[[#This Row],[Position\nG / D / FC / FW]]=\"G\",VLOOKUP($M$5-Tabelle3[[#This Row],[Jahr\nannée]],FGOALIE,3),VLOOKUP($M$5-Tabelle3[[#This Row],[Jahr\nannée]],FSPIELER,3))","v":10},{"$f":"IF(Tabelle3[[#This Row],[Position\nG / D / FC / FW]]=\"G\",VLOOKUP($M$5-Tabelle3[[#This Row],[Jahr\nannée]],FGOALIE,4),VLOOKUP($M$5-Tabelle3[[#This Row],[Jahr\nannée]],FSPIELER,4))","v":20},{"$f":"IF(Tabelle3[[#This Row],[Position\nG / D / FC / FW]]=\"G\",VLOOKUP($M$5-Tabelle3[[#This Row],[Jahr\nannée]],FGOALIE,5),VLOOKUP($M$5-Tabelle3[[#This Row],[Jahr\nannée]],FSPIELER,5))","v":15},{"$f":"IF(Tabelle3[[#This Row],[Position\nG / D / FC / FW]]=\"G\",VLOOKUP($M$5-Tabelle3[[#This Row],[Jahr\nannée]],FGOALIE,6),VLOOKUP($M$5-Tabelle3[[#This Row],[Jahr\nannée]],FSPIELER,6))","v":10},{"$f":"IF(Tabelle3[[#This Row],[Position\nG / D / FC / FW]]=\"G\",VLOOKUP($M$5-Tabelle3[[#This Row],[Jahr\nannée]],FGOALIE,7),VLOOKUP($M$5-Tabelle3[[#This Row],[Jahr\nannée]],FSPIELER,7))","v":10},{"$f":"IF(Tabelle3[[#This Row],[Position\nG / D / FC / FW]]=\"G\",VLOOKUP($M$5-Tabelle3[[#This Row],[Jahr\nannée]],FGOALIE,9),VLOOKUP($M$5-Tabelle3[[#This Row],[Jahr\nannée]],FSPIELER,9))","v":15},{"$f":"IF(Tabelle3[[#This Row],[Position\nG / D / FC / FW]]=\"G\",VLOOKUP($M$5-Tabelle3[[#This Row],[Jahr\nannée]],FGOALIE,8),VLOOKUP($M$5-Tabelle3[[#This Row],[Jahr\nannée]],FSPIELER,8))","v":0},{"$f":"IF(Tabelle3[[#This Row],[Position\nG / D / FC / FW]]=\"G\",VLOOKUP($M$5-Tabelle3[[#This Row],[Jahr\nannée]],FGOALIE,10),VLOOKUP($M$5-Tabelle3[[#This Row],[Jahr\nannée]],FSPIELER,10))","v":0},{"$f":"IF(Tabelle3[[#This Row],[Position\nG / D / FC / FW]]=\"G\",VLOOKUP($M$5-Tabelle3[[#This Row],[Jahr\nannée]],FGOALIE,11),VLOOKUP($M$5-Tabelle3[[#This Row],[Jahr\nannée]],FSPIELER,11))","v":10}]
[8,null,null,"-",null,null,null,null,null,{"$f":"IF(ISBLANK('8'!$H$4),\"-\",'8'!$H$4)","v":"-"},{"$f":"IF(ISBLANK('8'!$H$5),\"-\",'8'!$H$5)","v":"-"},{"$f":"IF(ISBLANK('8'!$H$2),\"-\",'8'!$H$2)","v":"-"},null,null,null,null,null,null,null,{"$f":"'8'!$M$16","v":0},{"$f":"'8'!$M$20","v":0},{"$f":"'8'!$M$24","v":0},{"$f":"'8'!$M$29","v":0},{"$f":"'8'!$M$33","v":0},{"$f":"'8'!$M$37","v":0},{"$f":"'8'!$M$13","v":0},{"$f":"'8'!$AA$2","v":0},{"$f":"'8'!$AA$4","v":0},{"$f":"'8'!$AA$3","v":0},{"$f":"IF(Tabelle3[[#This Row],[SKILL]]=0,\"-\",IF(Tabelle3[[#This Row],[Sex]]=\"M\",SUMPRODUCT(Tabelle3[[#This Row],[SKILL]:[VERANLAGUNG\nPREDISPOSITION]],AJ18:AS18),SUMPRODUCT(Tabelle3[[#This Row],[SKILL]:[VERANLAGUNG\nPREDISPOSITION]],AT18:BC18)))","v":"-"},{"$f":"IFERROR(RANK(Tabelle3[[#This Row],[TOTAL ]],Tabelle3[[TOTAL ]],0),\"-\")","v":"-"},null,null,null,null,{"$f":"IF(Tabelle3[[#This Row],[Position\nG / D / FC / FW]]=\"G\",VLOOKUP($M$5-Tabelle3[[#This Row],[Jahr\nannée]],GOALI,2),VLOOKUP($M$5-Tabelle3[[#This Row],[Jahr\nannée]],SPIELER,2))","v":10},{"$f":"IF(Tabelle3[[#This Row],[Position\nG / D / FC / FW]]=\"G\",VLOOKUP($M$5-Tabelle3[[#This Row],[Jahr\nannée]],GOALI,3),VLOOKUP($M$5-Tabelle3[[#This Row],[Jahr\nannée]],SPIELER,3))","v":10},{"$f":"IF(Tabelle3[[#This Row],[Position\nG / D / FC / FW]]=\"G\",VLOOKUP($M$5-Tabelle3[[#This Row],[Jahr\nannée]],GOALI,4),VLOOKUP($M$5-Tabelle3[[#This Row],[Jahr\nannée]],SPIELER,4))","v":20},{"$f":"IF(Tabelle3[[#This Row],[Position\nG / D / FC / FW]]=\"G\",VLOOKUP($M$5-Tabelle3[[#This Row],[Jahr\nannée]],GOALI,5),VLOOKUP($M$5-Tabelle3[[#This Row],[Jahr\nannée]],SPIELER,5))","v":15},{"$f":"IF(Tabelle3[[#This Row],[Position\nG / D / FC / FW]]=\"G\",VLOOKUP($M$5-Tabelle3[[#This Row],[Jahr\nannée]],GOALI,6),VLOOKUP($M$5-Tabelle3[[#This Row],[Jahr\nannée]],SPIELER,6))","v":10},{"$f":"IF(Tabelle3[[#This Row],[Position\nG / D / FC / FW]]=\"G\",VLOOKUP($M$5-Tabelle3[[#This Row],[Jahr\nannée]],GOALI,7),VLOOKUP($M$5-Tabelle3[[#This Row],[Jahr\nannée]],SPIELER,7))","v":10},{"$f":"IF(Tabelle3[[#This Row],[Position\nG / D / FC / FW]]=\"G\",VLOOKUP($M$5-Tabelle3[[#This Row],[Jahr\nannée]],GOALI,9),VLOOKUP($M$5-Tabelle3[[#This Row],[Jahr\nannée]],SPIELER,9))","v":15},{"$f":"IF(Tabelle3[[#This Row],[Position\nG / D / FC / FW]]=\"G\",VLOOKUP($M$5-Tabelle3[[#This Row],[Jahr\nannée]],GOALI,8),VLOOKUP($M$5-Tabelle3[[#This Row],[Jahr\nannée]],SPIELER,8))","v":0},{"$f":"IF(Tabelle3[[#This Row],[Position\nG / D / FC / FW]]=\"G\",VLOOKUP($M$5-Tabelle3[[#This Row],[Jahr\nannée]],GOALI,10),VLOOKUP($M$5-Tabelle3[[#This Row],[Jahr\nannée]],SPIELER,10))","v":0},{"$f":"IF(Tabelle3[[#This Row],[Position\nG / D / FC / FW]]=\"G\",VLOOKUP($M$5-Tabelle3[[#This Row],[Jahr\nannée]],GOALI,11),VLOOKUP($M$5-Tabelle3[[#This Row],[Jahr\nannée]],SPIELER,11))","v":10},{"$f":"IF(Tabelle3[[#This Row],[Position\nG / D / FC / FW]]=\"G\",VLOOKUP($M$5-Tabelle3[[#This Row],[Jahr\nannée]],FGOALIE,2),VLOOKUP($M$5-Tabelle3[[#This Row],[Jahr\nannée]],FSPIELER,2))","v":10},{"$f":"IF(Tabelle3[[#This Row],[Position\nG / D / FC / FW]]=\"G\",VLOOKUP($M$5-Tabelle3[[#This Row],[Jahr\nannée]],FGOALIE,3),VLOOKUP($M$5-Tabelle3[[#This Row],[Jahr\nannée]],FSPIELER,3))","v":10},{"$f":"IF(Tabelle3[[#This Row],[Position\nG / D / FC / FW]]=\"G\",VLOOKUP($M$5-Tabelle3[[#This Row],[Jahr\nannée]],FGOALIE,4),VLOOKUP($M$5-Tabelle3[[#This Row],[Jahr\nannée]],FSPIELER,4))","v":20},{"$f":"IF(Tabelle3[[#This Row],[Position\nG / D / FC / FW]]=\"G\",VLOOKUP($M$5-Tabelle3[[#This Row],[Jahr\nannée]],FGOALIE,5),VLOOKUP($M$5-Tabelle3[[#This Row],[Jahr\nannée]],FSPIELER,5))","v":15},{"$f":"IF(Tabelle3[[#This Row],[Position\nG / D / FC / FW]]=\"G\",VLOOKUP($M$5-Tabelle3[[#This Row],[Jahr\nannée]],FGOALIE,6),VLOOKUP($M$5-Tabelle3[[#This Row],[Jahr\nannée]],FSPIELER,6))","v":10},{"$f":"IF(Tabelle3[[#This Row],[Position\nG / D / FC / FW]]=\"G\",VLOOKUP($M$5-Tabelle3[[#This Row],[Jahr\nannée]],FGOALIE,7),VLOOKUP($M$5-Tabelle3[[#This Row],[Jahr\nannée]],FSPIELER,7))","v":10},{"$f":"IF(Tabelle3[[#This Row],[Position\nG / D / FC / FW]]=\"G\",VLOOKUP($M$5-Tabelle3[[#This Row],[Jahr\nannée]],FGOALIE,9),VLOOKUP($M$5-Tabelle3[[#This Row],[Jahr\nannée]],FSPIELER,9))","v":15},{"$f":"IF(Tabelle3[[#This Row],[Position\nG / D / FC / FW]]=\"G\",VLOOKUP($M$5-Tabelle3[[#This Row],[Jahr\nannée]],FGOALIE,8),VLOOKUP($M$5-Tabelle3[[#This Row],[Jahr\nannée]],FSPIELER,8))","v":0},{"$f":"IF(Tabelle3[[#This Row],[Position\nG / D / FC / FW]]=\"G\",VLOOKUP($M$5-Tabelle3[[#This Row],[Jahr\nannée]],FGOALIE,10),VLOOKUP($M$5-Tabelle3[[#This Row],[Jahr\nannée]],FSPIELER,10))","v":0},{"$f":"IF(Tabelle3[[#This Row],[Position\nG / D / FC / FW]]=\"G\",VLOOKUP($M$5-Tabelle3[[#This Row],[Jahr\nannée]],FGOALIE,11),VLOOKUP($M$5-Tabelle3[[#This Row],[Jahr\nannée]],FSPIELER,11))","v":10}]
[9,null,null,"-",null,null,null,null,null,{"$f":"IF(ISBLANK('9'!$H$4),\"-\",'9'!$H$4)","v":"-"},{"$f":"IF(ISBLANK('9'!$H$5),\"-\",'9'!$H$5)","v":"-"},{"$f":"IF(ISBLANK('9'!$H$2),\"-\",'9'!$H$2)","v":"-"},null,null,null,null,null,null,null,{"$f":"'9'!$M$16","v":0},{"$f":"'9'!$M$20","v":0},{"$f":"'9'!$M$24","v":0},{"$f":"'9'!$M$29","v":0},{"$f":"'9'!$M$33","v":0},{"$f":"'9'!$M$37","v":0},{"$f":"'9'!$M$13","v":0},{"$f":"'9'!$AA$2","v":0},{"$f":"'9'!$AA$4","v":0},{"$f":"'9'!$AA$3","v":0},{"$f":"IF(Tabelle3[[#This Row],[SKILL]]=0,\"-\",IF(Tabelle3[[#This Row],[Sex]]=\"M\",SUMPRODUCT(Tabelle3[[#This Row],[SKILL]:[VERANLAGUNG\nPREDISPOSITION]],AJ19:AS19),SUMPRODUCT(Tabelle3[[#This Row],[SKILL]:[VERANLAGUNG\nPREDISPOSITION]],AT19:BC19)))","v":"-"},{"$f":"IFERROR(RANK(Tabelle3[[#This Row],[TOTAL ]],Tabelle3[[TOTAL ]],0),\"-\")","v":"-"},null,null,null,null,{"$f":"IF(Tabelle3[[#This Row],[Position\nG / D / FC / FW]]=\"G\",VLOOKUP($M$5-Tabelle3[[#This Row],[Jahr\nannée]],GOALI,2),VLOOKUP($M$5-Tabelle3[[#This Row],[Jahr\nannée]],SPIELER,2))","v":10},{"$f":"IF(Tabelle3[[#This Row],[Position\nG / D / FC / FW]]=\"G\",VLOOKUP($M$5-Tabelle3[[#This Row],[Jahr\nannée]],GOALI,3),VLOOKUP($M$5-Tabelle3[[#This Row],[Jahr\nannée]],SPIELER,3))","v":10},{"$f":"IF(Tabelle3[[#This Row],[Position\nG / D / FC / FW]]=\"G\",VLOOKUP($M$5-Tabelle3[[#This Row],[Jahr\nannée]],GOALI,4),VLOOKUP($M$5-Tabelle3[[#This Row],[Jahr\nannée]],SPIELER,4))","v":20},{"$f":"IF(Tabelle3[[#This Row],[Position\nG / D / FC / FW]]=\"G\",VLOOKUP($M$5-Tabelle3[[#This Row],[Jahr\nannée]],GOALI,5),VLOOKUP($M$5-Tabelle3[[#This Row],[Jahr\nannée]],SPIELER,5))","v":15},{"$f":"IF(Tabelle3[[#This Row],[Position\nG / D / FC / FW]]=\"G\",VLOOKUP($M$5-Tabelle3[[#This Row],[Jahr\nannée]],GOALI,6),VLOOKUP($M$5-Tabelle3[[#This Row],[Jahr\nannée]],SPIELER,6))","v":10},{"$f":"IF(Tabelle3[[#This Row],[Position\nG / D / FC / FW]]=\"G\",VLOOKUP($M$5-Tabelle3[[#This Row],[Jahr\nannée]],GOALI,7),VLOOKUP($M$5-Tabelle3[[#This Row],[Jahr\nannée]],SPIELER,7))","v":10},{"$f":"IF(Tabelle3[[#This Row],[Position\nG / D / FC / FW]]=\"G\",VLOOKUP($M$5-Tabelle3[[#This Row],[Jahr\nannée]],GOALI,9),VLOOKUP($M$5-Tabelle3[[#This Row],[Jahr\nannée]],SPIELER,9))","v":15},{"$f":"IF(Tabelle3[[#This Row],[Position\nG / D / FC / FW]]=\"G\",VLOOKUP($M$5-Tabelle3[[#This Row],[Jahr\nannée]],GOALI,8),VLOOKUP($M$5-Tabelle3[[#This Row],[Jahr\nannée]],SPIELER,8))","v":0},{"$f":"IF(Tabelle3[[#This Row],[Position\nG / D / FC / FW]]=\"G\",VLOOKUP($M$5-Tabelle3[[#This Row],[Jahr\nannée]],GOALI,10),VLOOKUP($M$5-Tabelle3[[#This Row],[Jahr\nannée]],SPIELER,10))","v":0},{"$f":"IF(Tabelle3[[#This Row],[Position\nG / D / FC / FW]]=\"G\",VLOOKUP($M$5-Tabelle3[[#This Row],[Jahr\nannée]],GOALI,11),VLOOKUP($M$5-Tabelle3[[#This Row],[Jahr\nannée]],SPIELER,11))","v":10},{"$f":"IF(Tabelle3[[#This Row],[Position\nG / D / FC / FW]]=\"G\",VLOOKUP($M$5-Tabelle3[[#This Row],[Jahr\nannée]],FGOALIE,2),VLOOKUP($M$5-Tabelle3[[#This Row],[Jahr\nannée]],FSPIELER,2))","v":10},{"$f":"IF(Tabelle3[[#This Row],[Position\nG / D / FC / FW]]=\"G\",VLOOKUP($M$5-Tabelle3[[#This Row],[Jahr\nannée]],FGOALIE,3),VLOOKUP($M$5-Tabelle3[[#This Row],[Jahr\nannée]],FSPIELER,3))","v":10},{"$f":"IF(Tabelle3[[#This Row],[Position\nG / D / FC / FW]]=\"G\",VLOOKUP($M$5-Tabelle3[[#This Row],[Jahr\nannée]],FGOALIE,4),VLOOKUP($M$5-Tabelle3[[#This Row],[Jahr\nannée]],FSPIELER,4))","v":20},{"$f":"IF(Tabelle3[[#This Row],[Position\nG / D / FC / FW]]=\"G\",VLOOKUP($M$5-Tabelle3[[#This Row],[Jahr\nannée]],FGOALIE,5),VLOOKUP($M$5-Tabelle3[[#This Row],[Jahr\nannée]],FSPIELER,5))","v":15},{"$f":"IF(Tabelle3[[#This Row],[Position\nG / D / FC / FW]]=\"G\",VLOOKUP($M$5-Tabelle3[[#This Row],[Jahr\nannée]],FGOALIE,6),VLOOKUP($M$5-Tabelle3[[#This Row],[Jahr\nannée]],FSPIELER,6))","v":10},{"$f":"IF(Tabelle3[[#This Row],[Position\nG / D / FC / FW]]=\"G\",VLOOKUP($M$5-Tabelle3[[#This Row],[Jahr\nannée]],FGOALIE,7),VLOOKUP($M$5-Tabelle3[[#This Row],[Jahr\nannée]],FSPIELER,7))","v":10},{"$f":"IF(Tabelle3[[#This Row],[Position\nG / D / FC / FW]]=\"G\",VLOOKUP($M$5-Tabelle3[[#This Row],[Jahr\nannée]],FGOALIE,9),VLOOKUP($M$5-Tabelle3[[#This Row],[Jahr\nannée]],FSPIELER,9))","v":15},{"$f":"IF(Tabelle3[[#This Row],[Position\nG / D / FC / FW]]=\"G\",VLOOKUP($M$5-Tabelle3[[#This Row],[Jahr\nannée]],FGOALIE,8),VLOOKUP($M$5-Tabelle3[[#This Row],[Jahr\nannée]],FSPIELER,8))","v":0},{"$f":"IF(Tabelle3[[#This Row],[Position\nG / D / FC / FW]]=\"G\",VLOOKUP($M$5-Tabelle3[[#This Row],[Jahr\nannée]],FGOALIE,10),VLOOKUP($M$5-Tabelle3[[#This Row],[Jahr\nannée]],FSPIELER,10))","v":0},{"$f":"IF(Tabelle3[[#This Row],[Position\nG / D / FC / FW]]=\"G\",VLOOKUP($M$5-Tabelle3[[#This Row],[Jahr\nannée]],FGOALIE,11),VLOOKUP($M$5-Tabelle3[[#This Row],[Jahr\nannée]],FSPIELER,11))","v":10}]
[10,null,null,"-",null,null,null,null,null,{"$f":"IF(ISBLANK('10'!$H$4),\"-\",'10'!$H$4)","v":"-"},{"$f":"IF(ISBLANK('10'!$H$5),\"-\",'10'!$H$5)","v":"-"},{"$f":"IF(ISBLANK('10'!$H$2),\"-\",'10'!$H$2)","v":"-"},null,null,null,null,null,null,null,{"$f":"'10'!$M$16","v":0},{"$f":"'10'!$M$20","v":0},{"$f":"'10'!$M$24","v":0},{"$f":"'10'!$M$29","v":0},{"$f":"'10'!$M$33","v":0},{"$f":"'10'!$M$37","v":0},{"$f":"'10'!$M$13","v":0},{"$f":"'10'!$AA$2","v":0},{"$f":"'10'!$AA$4","v":0},{"$f":"'10'!$AA$3","v":0},{"$f":"IF(Tabelle3[[#This Row],[SKILL]]=0,\"-\",IF(Tabelle3[[#This Row],[Sex]]=\"M\",SUMPRODUCT(Tabelle3[[#This Row],[SKILL]:[VERANLAGUNG\nPREDISPOSITION]],AJ20:AS20),SUMPRODUCT(Tabelle3[[#This Row],[SKILL]:[VERANLAGUNG\nPREDISPOSITION]],AT20:BC20)))","v":"-"},{"$f":"IFERROR(RANK(Tabelle3[[#This Row],[TOTAL ]],Tabelle3[[TOTAL ]],0),\"-\")","v":"-"},null,null,null,null,{"$f":"IF(Tabelle3[[#This Row],[Position\nG / D / FC / FW]]=\"G\",VLOOKUP($M$5-Tabelle3[[#This Row],[Jahr\nannée]],GOALI,2),VLOOKUP($M$5-Tabelle3[[#This Row],[Jahr\nannée]],SPIELER,2))","v":10},{"$f":"IF(Tabelle3[[#This Row],[Position\nG / D / FC / FW]]=\"G\",VLOOKUP($M$5-Tabelle3[[#This Row],[Jahr\nannée]],GOALI,3),VLOOKUP($M$5-Tabelle3[[#This Row],[Jahr\nannée]],SPIELER,3))","v":10},{"$f":"IF(Tabelle3[[#This Row],[Position\nG / D / FC / FW]]=\"G\",VLOOKUP($M$5-Tabelle3[[#This Row],[Jahr\nannée]],GOALI,4),VLOOKUP($M$5-Tabelle3[[#This Row],[Jahr\nannée]],SPIELER,4))","v":20},{"$f":"IF(Tabelle3[[#This Row],[Position\nG / D / FC / FW]]=\"G\",VLOOKUP($M$5-Tabelle3[[#This Row],[Jahr\nannée]],GOALI,5),VLOOKUP($M$5-Tabelle3[[#This Row],[Jahr\nannée]],SPIELER,5))","v":15},{"$f":"IF(Tabelle3[[#This Row],[Position\nG / D / FC / FW]]=\"G\",VLOOKUP($M$5-Tabelle3[[#This Row],[Jahr\nannée]],GOALI,6),VLOOKUP($M$5-Tabelle3[[#This Row],[Jahr\nannée]],SPIELER,6))","v":10},{"$f":"IF(Tabelle3[[#This Row],[Position\nG / D / FC / FW]]=\"G\",VLOOKUP($M$5-Tabelle3[[#This Row],[Jahr\nannée]],GOALI,7),VLOOKUP($M$5-Tabelle3[[#This Row],[Jahr\nannée]],SPIELER,7))","v":10},{"$f":"IF(Tabelle3[[#This Row],[Position\nG / D / FC / FW]]=\"G\",VLOOKUP($M$5-Tabelle3[[#This Row],[Jahr\nannée]],GOALI,9),VLOOKUP($M$5-Tabelle3[[#This Row],[Jahr\nannée]],SPIELER,9))","v":15},{"$f":"IF(Tabelle3[[#This Row],[Position\nG / D / FC / FW]]=\"G\",VLOOKUP($M$5-Tabelle3[[#This Row],[Jahr\nannée]],GOALI,8),VLOOKUP($M$5-Tabelle3[[#This Row],[Jahr\nannée]],SPIELER,8))","v":0},{"$f":"IF(Tabelle3[[#This Row],[Position\nG / D / FC / FW]]=\"G\",VLOOKUP($M$5-Tabelle3[[#This Row],[Jahr\nannée]],GOALI,10),VLOOKUP($M$5-Tabelle3[[#This Row],[Jahr\nannée]],SPIELER,10))","v":0},{"$f":"IF(Tabelle3[[#This Row],[Position\nG / D / FC / FW]]=\"G\",VLOOKUP($M$5-Tabelle3[[#This Row],[Jahr\nannée]],GOALI,11),VLOOKUP($M$5-Tabelle3[[#This Row],[Jahr\nannée]],SPIELER,11))","v":10},{"$f":"IF(Tabelle3[[#This Row],[Position\nG / D / FC / FW]]=\"G\",VLOOKUP($M$5-Tabelle3[[#This Row],[Jahr\nannée]],FGOALIE,2),VLOOKUP($M$5-Tabelle3[[#This Row],[Jahr\nannée]],FSPIELER,2))","v":10},{"$f":"IF(Tabelle3[[#This Row],[Position\nG / D / FC / FW]]=\"G\",VLOOKUP($M$5-Tabelle3[[#This Row],[Jahr\nannée]],FGOALIE,3),VLOOKUP($M$5-Tabelle3[[#This Row],[Jahr\nannée]],FSPIELER,3))","v":10},{"$f":"IF(Tabelle3[[#This Row],[Position\nG / D / FC / FW]]=\"G\",VLOOKUP($M$5-Tabelle3[[#This Row],[Jahr\nannée]],FGOALIE,4),VLOOKUP($M$5-Tabelle3[[#This Row],[Jahr\nannée]],FSPIELER,4))","v":20},{"$f":"IF(Tabelle3[[#This Row],[Position\nG / D / FC / FW]]=\"G\",VLOOKUP($M$5-Tabelle3[[#This Row],[Jahr\nannée]],FGOALIE,5),VLOOKUP($M$5-Tabelle3[[#This Row],[Jahr\nannée]],FSPIELER,5))","v":15},{"$f":"IF(Tabelle3[[#This Row],[Position\nG / D / FC / FW]]=\"G\",VLOOKUP($M$5-Tabelle3[[#This Row],[Jahr\nannée]],FGOALIE,6),VLOOKUP($M$5-Tabelle3[[#This Row],[Jahr\nannée]],FSPIELER,6))","v":10},{"$f":"IF(Tabelle3[[#This Row],[Position\nG / D / FC / FW]]=\"G\",VLOOKUP($M$5-Tabelle3[[#This Row],[Jahr\nannée]],FGOALIE,7),VLOOKUP($M$5-Tabelle3[[#This Row],[Jahr\nannée]],FSPIELER,7))","v":10},{"$f":"IF(Tabelle3[[#This Row],[Position\nG / D / FC / FW]]=\"G\",VLOOKUP($M$5-Tabelle3[[#This Row],[Jahr\nannée]],FGOALIE,9),VLOOKUP($M$5-Tabelle3[[#This Row],[Jahr\nannée]],FSPIELER,9))","v":15},{"$f":"IF(Tabelle3[[#This Row],[Position\nG / D / FC / FW]]=\"G\",VLOOKUP($M$5-Tabelle3[[#This Row],[Jahr\nannée]],FGOALIE,8),VLOOKUP($M$5-Tabelle3[[#This Row],[Jahr\nannée]],FSPIELER,8))","v":0},{"$f":"IF(Tabelle3[[#This Row],[Position\nG / D / FC / FW]]=\"G\",VLOOKUP($M$5-Tabelle3[[#This Row],[Jahr\nannée]],FGOALIE,10),VLOOKUP($M$5-Tabelle3[[#This Row],[Jahr\nannée]],FSPIELER,10))","v":0},{"$f":"IF(Tabelle3[[#This Row],[Position\nG / D / FC / FW]]=\"G\",VLOOKUP($M$5-Tabelle3[[#This Row],[Jahr\nannée]],FGOALIE,11),VLOOKUP($M$5-Tabelle3[[#This Row],[Jahr\nannée]],FSPIELER,11))","v":10}]
[11,null,null,"-",null,null,null,null,null,{"$f":"IF(ISBLANK('11'!$H$4),\"-\",'11'!$H$4)","v":"-"},{"$f":"IF(ISBLANK('11'!$H$5),\"-\",'11'!$H$5)","v":"-"},{"$f":"IF(ISBLANK('11'!$H$2),\"-\",'11'!$H$2)","v":"-"},null,null,null,null,null,null,null,{"$f":"'11'!$M$16","v":0},{"$f":"'11'!$M$20","v":0},{"$f":"'11'!$M$24","v":0},{"$f":"'11'!$M$29","v":0},{"$f":"'11'!$M$33","v":0},{"$f":"'11'!$M$37","v":0},{"$f":"'11'!$M$13","v":0},{"$f":"'11'!$AA$2","v":0},{"$f":"'11'!$AA$4","v":0},{"$f":"'11'!$AA$3","v":0},{"$f":"IF(Tabelle3[[#This Row],[SKILL]]=0,\"-\",IF(Tabelle3[[#This Row],[Sex]]=\"M\",SUMPRODUCT(Tabelle3[[#This Row],[SKILL]:[VERANLAGUNG\nPREDISPOSITION]],AJ21:AS21),SUMPRODUCT(Tabelle3[[#This Row],[SKILL]:[VERANLAGUNG\nPREDISPOSITION]],AT21:BC21)))","v":"-"},{"$f":"IFERROR(RANK(Tabelle3[[#This Row],[TOTAL ]],Tabelle3[[TOTAL ]],0),\"-\")","v":"-"},null,null,null,null,{"$f":"IF(Tabelle3[[#This Row],[Position\nG / D / FC / FW]]=\"G\",VLOOKUP($M$5-Tabelle3[[#This Row],[Jahr\nannée]],GOALI,2),VLOOKUP($M$5-Tabelle3[[#This Row],[Jahr\nannée]],SPIELER,2))","v":10},{"$f":"IF(Tabelle3[[#This Row],[Position\nG / D / FC / FW]]=\"G\",VLOOKUP($M$5-Tabelle3[[#This Row],[Jahr\nannée]],GOALI,3),VLOOKUP($M$5-Tabelle3[[#This Row],[Jahr\nannée]],SPIELER,3))","v":10},{"$f":"IF(Tabelle3[[#This Row],[Position\nG / D / FC / FW]]=\"G\",VLOOKUP($M$5-Tabelle3[[#This Row],[Jahr\nannée]],GOALI,4),VLOOKUP($M$5-Tabelle3[[#This Row],[Jahr\nannée]],SPIELER,4))","v":20},{"$f":"IF(Tabelle3[[#This Row],[Position\nG / D / FC / FW]]=\"G\",VLOOKUP($M$5-Tabelle3[[#This Row],[Jahr\nannée]],GOALI,5),VLOOKUP($M$5-Tabelle3[[#This Row],[Jahr\nannée]],SPIELER,5))","v":15},{"$f":"IF(Tabelle3[[#This Row],[Position\nG / D / FC / FW]]=\"G\",VLOOKUP($M$5-Tabelle3[[#This Row],[Jahr\nannée]],GOALI,6),VLOOKUP($M$5-Tabelle3[[#This Row],[Jahr\nannée]],SPIELER,6))","v":10},{"$f":"IF(Tabelle3[[#This Row],[Position\nG / D / FC / FW]]=\"G\",VLOOKUP($M$5-Tabelle3[[#This Row],[Jahr\nannée]],GOALI,7),VLOOKUP($M$5-Tabelle3[[#This Row],[Jahr\nannée]],SPIELER,7))","v":10},{"$f":"IF(Tabelle3[[#This Row],[Position\nG / D / FC / FW]]=\"G\",VLOOKUP($M$5-Tabelle3[[#This Row],[Jahr\nannée]],GOALI,9),VLOOKUP($M$5-Tabelle3[[#This Row],[Jahr\nannée]],SPIELER,9))","v":15},{"$f":"IF(Tabelle3[[#This Row],[Position\nG / D / FC / FW]]=\"G\",VLOOKUP($M$5-Tabelle3[[#This Row],[Jahr\nannée]],GOALI,8),VLOOKUP($M$5-Tabelle3[[#This Row],[Jahr\nannée]],SPIELER,8))","v":0},{"$f":"IF(Tabelle3[[#This Row],[Position\nG / D / FC / FW]]=\"G\",VLOOKUP($M$5-Tabelle3[[#This Row],[Jahr\nannée]],GOALI,10),VLOOKUP($M$5-Tabelle3[[#This Row],[Jahr\nannée]],SPIELER,10))","v":0},{"$f":"IF(Tabelle3[[#This Row],[Position\nG / D / FC / FW]]=\"G\",VLOOKUP($M$5-Tabelle3[[#This Row],[Jahr\nannée]],GOALI,11),VLOOKUP($M$5-Tabelle3[[#This Row],[Jahr\nannée]],SPIELER,11))","v":10},{"$f":"IF(Tabelle3[[#This Row],[Position\nG / D / FC / FW]]=\"G\",VLOOKUP($M$5-Tabelle3[[#This Row],[Jahr\nannée]],FGOALIE,2),VLOOKUP($M$5-Tabelle3[[#This Row],[Jahr\nannée]],FSPIELER,2))","v":10},{"$f":"IF(Tabelle3[[#This Row],[Position\nG / D / FC / FW]]=\"G\",VLOOKUP($M$5-Tabelle3[[#This Row],[Jahr\nannée]],FGOALIE,3),VLOOKUP($M$5-Tabelle3[[#This Row],[Jahr\nannée]],FSPIELER,3))","v":10},{"$f":"IF(Tabelle3[[#This Row],[Position\nG / D / FC / FW]]=\"G\",VLOOKUP($M$5-Tabelle3[[#This Row],[Jahr\nannée]],FGOALIE,4),VLOOKUP($M$5-Tabelle3[[#This Row],[Jahr\nannée]],FSPIELER,4))","v":20},{"$f":"IF(Tabelle3[[#This Row],[Position\nG / D / FC / FW]]=\"G\",VLOOKUP($M$5-Tabelle3[[#This Row],[Jahr\nannée]],FGOALIE,5),VLOOKUP($M$5-Tabelle3[[#This Row],[Jahr\nannée]],FSPIELER,5))","v":15},{"$f":"IF(Tabelle3[[#This Row],[Position\nG / D / FC / FW]]=\"G\",VLOOKUP($M$5-Tabelle3[[#This Row],[Jahr\nannée]],FGOALIE,6),VLOOKUP($M$5-Tabelle3[[#This Row],[Jahr\nannée]],FSPIELER,6))","v":10},{"$f":"IF(Tabelle3[[#This Row],[Position\nG / D / FC / FW]]=\"G\",VLOOKUP($M$5-Tabelle3[[#This Row],[Jahr\nannée]],FGOALIE,7),VLOOKUP($M$5-Tabelle3[[#This Row],[Jahr\nannée]],FSPIELER,7))","v":10},{"$f":"IF(Tabelle3[[#This Row],[Position\nG / D / FC / FW]]=\"G\",VLOOKUP($M$5-Tabelle3[[#This Row],[Jahr\nannée]],FGOALIE,9),VLOOKUP($M$5-Tabelle3[[#This Row],[Jahr\nannée]],FSPIELER,9))","v":15},{"$f":"IF(Tabelle3[[#This Row],[Position\nG / D / FC / FW]]=\"G\",VLOOKUP($M$5-Tabelle3[[#This Row],[Jahr\nannée]],FGOALIE,8),VLOOKUP($M$5-Tabelle3[[#This Row],[Jahr\nannée]],FSPIELER,8))","v":0},{"$f":"IF(Tabelle3[[#This Row],[Position\nG / D / FC / FW]]=\"G\",VLOOKUP($M$5-Tabelle3[[#This Row],[Jahr\nannée]],FGOALIE,10),VLOOKUP($M$5-Tabelle3[[#This Row],[Jahr\nannée]],FSPIELER,10))","v":0},{"$f":"IF(Tabelle3[[#This Row],[Position\nG / D / FC / FW]]=\"G\",VLOOKUP($M$5-Tabelle3[[#This Row],[Jahr\nannée]],FGOALIE,11),VLOOKUP($M$5-Tabelle3[[#This Row],[Jahr\nannée]],FSPIELER,11))","v":10}]
[12,null,null,"-",null,null,null,null,null,{"$f":"IF(ISBLANK('12'!$H$4),\"-\",'12'!$H$4)","v":"-"},{"$f":"IF(ISBLANK('12'!$H$5),\"-\",'12'!$H$5)","v":"-"},{"$f":"IF(ISBLANK('12'!$H$2),\"-\",'12'!$H$2)","v":"-"},null,null,null,null,null,null,null,{"$f":"'12'!$M$16","v":0},{"$f":"'12'!$M$20","v":0},{"$f":"'12'!$M$24","v":0},{"$f":"'12'!$M$29","v":0},{"$f":"'12'!$M$33","v":0},{"$f":"'12'!$M$37","v":0},{"$f":"'12'!$M$13","v":0},{"$f":"'12'!$AA$2","v":0},{"$f":"'12'!$AA$4","v":0},{"$f":"'12'!$AA$3","v":0},{"$f":"IF(Tabelle3[[#This Row],[SKILL]]=0,\"-\",IF(Tabelle3[[#This Row],[Sex]]=\"M\",SUMPRODUCT(Tabelle3[[#This Row],[SKILL]:[VERANLAGUNG\nPREDISPOSITION]],AJ22:AS22),SUMPRODUCT(Tabelle3[[#This Row],[SKILL]:[VERANLAGUNG\nPREDISPOSITION]],AT22:BC22)))","v":"-"},{"$f":"IFERROR(RANK(Tabelle3[[#This Row],[TOTAL ]],Tabelle3[[TOTAL ]],0),\"-\")","v":"-"},null,null,null,null,{"$f":"IF(Tabelle3[[#This Row],[Position\nG / D / FC / FW]]=\"G\",VLOOKUP($M$5-Tabelle3[[#This Row],[Jahr\nannée]],GOALI,2),VLOOKUP($M$5-Tabelle3[[#This Row],[Jahr\nannée]],SPIELER,2))","v":10},{"$f":"IF(Tabelle3[[#This Row],[Position\nG / D / FC / FW]]=\"G\",VLOOKUP($M$5-Tabelle3[[#This Row],[Jahr\nannée]],GOALI,3),VLOOKUP($M$5-Tabelle3[[#This Row],[Jahr\nannée]],SPIELER,3))","v":10},{"$f":"IF(Tabelle3[[#This Row],[Position\nG / D / FC / FW]]=\"G\",VLOOKUP($M$5-Tabelle3[[#This Row],[Jahr\nannée]],GOALI,4),VLOOKUP($M$5-Tabelle3[[#This Row],[Jahr\nannée]],SPIELER,4))","v":20},{"$f":"IF(Tabelle3[[#This Row],[Position\nG / D / FC / FW]]=\"G\",VLOOKUP($M$5-Tabelle3[[#This Row],[Jahr\nannée]],GOALI,5),VLOOKUP($M$5-Tabelle3[[#This Row],[Jahr\nannée]],SPIELER,5))","v":15},{"$f":"IF(Tabelle3[[#This Row],[Position\nG / D / FC / FW]]=\"G\",VLOOKUP($M$5-Tabelle3[[#This Row],[Jahr\nannée]],GOALI,6),VLOOKUP($M$5-Tabelle3[[#This Row],[Jahr\nannée]],SPIELER,6))","v":10},{"$f":"IF(Tabelle3[[#This Row],[Position\nG / D / FC / FW]]=\"G\",VLOOKUP($M$5-Tabelle3[[#This Row],[Jahr\nannée]],GOALI,7),VLOOKUP($M$5-Tabelle3[[#This Row],[Jahr\nannée]],SPIELER,7))","v":10},{"$f":"IF(Tabelle3[[#This Row],[Position\nG / D / FC / FW]]=\"G\",VLOOKUP($M$5-Tabelle3[[#This Row],[Jahr\nannée]],GOALI,9),VLOOKUP($M$5-Tabelle3[[#This Row],[Jahr\nannée]],SPIELER,9))","v":15},{"$f":"IF(Tabelle3[[#This Row],[Position\nG / D / FC / FW]]=\"G\",VLOOKUP($M$5-Tabelle3[[#This Row],[Jahr\nannée]],GOALI,8),VLOOKUP($M$5-Tabelle3[[#This Row],[Jahr\nannée]],SPIELER,8))","v":0},{"$f":"IF(Tabelle3[[#This Row],[Position\nG / D / FC / FW]]=\"G\",VLOOKUP($M$5-Tabelle3[[#This Row],[Jahr\nannée]],GOALI,10),VLOOKUP($M$5-Tabelle3[[#This Row],[Jahr\nannée]],SPIELER,10))","v":0},{"$f":"IF(Tabelle3[[#This Row],[Position\nG / D / FC / FW]]=\"G\",VLOOKUP($M$5-Tabelle3[[#This Row],[Jahr\nannée]],GOALI,11),VLOOKUP($M$5-Tabelle3[[#This Row],[Jahr\nannée]],SPIELER,11))","v":10},{"$f":"IF(Tabelle3[[#This Row],[Position\nG / D / FC / FW]]=\"G\",VLOOKUP($M$5-Tabelle3[[#This Row],[Jahr\nannée]],FGOALIE,2),VLOOKUP($M$5-Tabelle3[[#This Row],[Jahr\nannée]],FSPIELER,2))","v":10},{"$f":"IF(Tabelle3[[#This Row],[Position\nG / D / FC / FW]]=\"G\",VLOOKUP($M$5-Tabelle3[[#This Row],[Jahr\nannée]],FGOALIE,3),VLOOKUP($M$5-Tabelle3[[#This Row],[Jahr\nannée]],FSPIELER,3))","v":10},{"$f":"IF(Tabelle3[[#This Row],[Position\nG / D / FC / FW]]=\"G\",VLOOKUP($M$5-Tabelle3[[#This Row],[Jahr\nannée]],FGOALIE,4),VLOOKUP($M$5-Tabelle3[[#This Row],[Jahr\nannée]],FSPIELER,4))","v":20},{"$f":"IF(Tabelle3[[#This Row],[Position\nG / D / FC / FW]]=\"G\",VLOOKUP($M$5-Tabelle3[[#This Row],[Jahr\nannée]],FGOALIE,5),VLOOKUP($M$5-Tabelle3[[#This Row],[Jahr\nannée]],FSPIELER,5))","v":15},{"$f":"IF(Tabelle3[[#This Row],[Position\nG / D / FC / FW]]=\"G\",VLOOKUP($M$5-Tabelle3[[#This Row],[Jahr\nannée]],FGOALIE,6),VLOOKUP($M$5-Tabelle3[[#This Row],[Jahr\nannée]],FSPIELER,6))","v":10},{"$f":"IF(Tabelle3[[#This Row],[Position\nG / D / FC / FW]]=\"G\",VLOOKUP($M$5-Tabelle3[[#This Row],[Jahr\nannée]],FGOALIE,7),VLOOKUP($M$5-Tabelle3[[#This Row],[Jahr\nannée]],FSPIELER,7))","v":10},{"$f":"IF(Tabelle3[[#This Row],[Position\nG / D / FC / FW]]=\"G\",VLOOKUP($M$5-Tabelle3[[#This Row],[Jahr\nannée]],FGOALIE,9),VLOOKUP($M$5-Tabelle3[[#This Row],[Jahr\nannée]],FSPIELER,9))","v":15},{"$f":"IF(Tabelle3[[#This Row],[Position\nG / D / FC / FW]]=\"G\",VLOOKUP($M$5-Tabelle3[[#This Row],[Jahr\nannée]],FGOALIE,8),VLOOKUP($M$5-Tabelle3[[#This Row],[Jahr\nannée]],FSPIELER,8))","v":0},{"$f":"IF(Tabelle3[[#This Row],[Position\nG / D / FC / FW]]=\"G\",VLOOKUP($M$5-Tabelle3[[#This Row],[Jahr\nannée]],FGOALIE,10),VLOOKUP($M$5-Tabelle3[[#This Row],[Jahr\nannée]],FSPIELER,10))","v":0},{"$f":"IF(Tabelle3[[#This Row],[Position\nG / D / FC / FW]]=\"G\",VLOOKUP($M$5-Tabelle3[[#This Row],[Jahr\nannée]],FGOALIE,11),VLOOKUP($M$5-Tabelle3[[#This Row],[Jahr\nannée]],FSPIELER,11))","v":10}]
[13,null,null,"-",null,null,null,null,null,{"$f":"IF(ISBLANK('13'!$H$4),\"-\",'13'!$H$4)","v":"-"},{"$f":"IF(ISBLANK('13'!$H$5),\"-\",'13'!$H$5)","v":"-"},{"$f":"IF(ISBLANK('13'!$H$2),\"-\",'13'!$H$2)","v":"-"},null,null,null,null,null,null,null,{"$f":"'13'!$M$16","v":0},{"$f":"'13'!$M$20","v":0},{"$f":"'13'!$M$24","v":0},{"$f":"'13'!$M$29","v":0},{"$f":"'13'!$M$33","v":0},{"$f":"'13'!$M$37","v":0},{"$f":"'13'!$M$13","v":0},{"$f":"'13'!$AA$2","v":0},{"$f":"'13'!$AA$4","v":0},{"$f":"'13'!$AA$3","v":0},{"$f":"IF(Tabelle3[[#This Row],[SKILL]]=0,\"-\",IF(Tabelle3[[#This Row],[Sex]]=\"M\",SUMPRODUCT(Tabelle3[[#This Row],[SKILL]:[VERANLAGUNG\nPREDISPOSITION]],AJ23:AS23),SUMPRODUCT(Tabelle3[[#This Row],[SKILL]:[VERANLAGUNG\nPREDISPOSITION]],AT23:BC23)))","v":"-"},{"$f":"IFERROR(RANK(Tabelle3[[#This Row],[TOTAL ]],Tabelle3[[TOTAL ]],0),\"-\")","v":"-"},null,null,null,null,{"$f":"IF(Tabelle3[[#This Row],[Position\nG / D / FC / FW]]=\"G\",VLOOKUP($M$5-Tabelle3[[#This Row],[Jahr\nannée]],GOALI,2),VLOOKUP($M$5-Tabelle3[[#This Row],[Jahr\nannée]],SPIELER,2))","v":10},{"$f":"IF(Tabelle3[[#This Row],[Position\nG / D / FC / FW]]=\"G\",VLOOKUP($M$5-Tabelle3[[#This Row],[Jahr\nannée]],GOALI,3),VLOOKUP($M$5-Tabelle3[[#This Row],[Jahr\nannée]],SPIELER,3))","v":10},{"$f":"IF(Tabelle3[[#This Row],[Position\nG / D / FC / FW]]=\"G\",VLOOKUP($M$5-Tabelle3[[#This Row],[Jahr\nannée]],GOALI,4),VLOOKUP($M$5-Tabelle3[[#This Row],[Jahr\nannée]],SPIELER,4))","v":20},{"$f":"IF(Tabelle3[[#This Row],[Position\nG / D / FC / FW]]=\"G\",VLOOKUP($M$5-Tabelle3[[#This Row],[Jahr\nannée]],GOALI,5),VLOOKUP($M$5-Tabelle3[[#This Row],[Jahr\nannée]],SPIELER,5))","v":15},{"$f":"IF(Tabelle3[[#This Row],[Position\nG / D / FC / FW]]=\"G\",VLOOKUP($M$5-Tabelle3[[#This Row],[Jahr\nannée]],GOALI,6),VLOOKUP($M$5-Tabelle3[[#This Row],[Jahr\nannée]],SPIELER,6))","v":10},{"$f":"IF(Tabelle3[[#This Row],[Position\nG / D / FC / FW]]=\"G\",VLOOKUP($M$5-Tabelle3[[#This Row],[Jahr\nannée]],GOALI,7),VLOOKUP($M$5-Tabelle3[[#This Row],[Jahr\nannée]],SPIELER,7))","v":10},{"$f":"IF(Tabelle3[[#This Row],[Position\nG / D / FC / FW]]=\"G\",VLOOKUP($M$5-Tabelle3[[#This Row],[Jahr\nannée]],GOALI,9),VLOOKUP($M$5-Tabelle3[[#This Row],[Jahr\nannée]],SPIELER,9))","v":15},{"$f":"IF(Tabelle3[[#This Row],[Position\nG / D / FC / FW]]=\"G\",VLOOKUP($M$5-Tabelle3[[#This Row],[Jahr\nannée]],GOALI,8),VLOOKUP($M$5-Tabelle3[[#This Row],[Jahr\nannée]],SPIELER,8))","v":0},{"$f":"IF(Tabelle3[[#This Row],[Position\nG / D / FC / FW]]=\"G\",VLOOKUP($M$5-Tabelle3[[#This Row],[Jahr\nannée]],GOALI,10),VLOOKUP($M$5-Tabelle3[[#This Row],[Jahr\nannée]],SPIELER,10))","v":0},{"$f":"IF(Tabelle3[[#This Row],[Position\nG / D / FC / FW]]=\"G\",VLOOKUP($M$5-Tabelle3[[#This Row],[Jahr\nannée]],GOALI,11),VLOOKUP($M$5-Tabelle3[[#This Row],[Jahr\nannée]],SPIELER,11))","v":10},{"$f":"IF(Tabelle3[[#This Row],[Position\nG / D / FC / FW]]=\"G\",VLOOKUP($M$5-Tabelle3[[#This Row],[Jahr\nannée]],FGOALIE,2),VLOOKUP($M$5-Tabelle3[[#This Row],[Jahr\nannée]],FSPIELER,2))","v":10},{"$f":"IF(Tabelle3[[#This Row],[Position\nG / D / FC / FW]]=\"G\",VLOOKUP($M$5-Tabelle3[[#This Row],[Jahr\nannée]],FGOALIE,3),VLOOKUP($M$5-Tabelle3[[#This Row],[Jahr\nannée]],FSPIELER,3))","v":10},{"$f":"IF(Tabelle3[[#This Row],[Position\nG / D / FC / FW]]=\"G\",VLOOKUP($M$5-Tabelle3[[#This Row],[Jahr\nannée]],FGOALIE,4),VLOOKUP($M$5-Tabelle3[[#This Row],[Jahr\nannée]],FSPIELER,4))","v":20},{"$f":"IF(Tabelle3[[#This Row],[Position\nG / D / FC / FW]]=\"G\",VLOOKUP($M$5-Tabelle3[[#This Row],[Jahr\nannée]],FGOALIE,5),VLOOKUP($M$5-Tabelle3[[#This Row],[Jahr\nannée]],FSPIELER,5))","v":15},{"$f":"IF(Tabelle3[[#This Row],[Position\nG / D / FC / FW]]=\"G\",VLOOKUP($M$5-Tabelle3[[#This Row],[Jahr\nannée]],FGOALIE,6),VLOOKUP($M$5-Tabelle3[[#This Row],[Jahr\nannée]],FSPIELER,6))","v":10},{"$f":"IF(Tabelle3[[#This Row],[Position\nG / D / FC / FW]]=\"G\",VLOOKUP($M$5-Tabelle3[[#This Row],[Jahr\nannée]],FGOALIE,7),VLOOKUP($M$5-Tabelle3[[#This Row],[Jahr\nannée]],FSPIELER,7))","v":10},{"$f":"IF(Tabelle3[[#This Row],[Position\nG / D / FC / FW]]=\"G\",VLOOKUP($M$5-Tabelle3[[#This Row],[Jahr\nannée]],FGOALIE,9),VLOOKUP($M$5-Tabelle3[[#This Row],[Jahr\nannée]],FSPIELER,9))","v":15},{"$f":"IF(Tabelle3[[#This Row],[Position\nG / D / FC / FW]]=\"G\",VLOOKUP($M$5-Tabelle3[[#This Row],[Jahr\nannée]],FGOALIE,8),VLOOKUP($M$5-Tabelle3[[#This Row],[Jahr\nannée]],FSPIELER,8))","v":0},{"$f":"IF(Tabelle3[[#This Row],[Position\nG / D / FC / FW]]=\"G\",VLOOKUP($M$5-Tabelle3[[#This Row],[Jahr\nannée]],FGOALIE,10),VLOOKUP($M$5-Tabelle3[[#This Row],[Jahr\nannée]],FSPIELER,10))","v":0},{"$f":"IF(Tabelle3[[#This Row],[Position\nG / D / FC / FW]]=\"G\",VLOOKUP($M$5-Tabelle3[[#This Row],[Jahr\nannée]],FGOALIE,11),VLOOKUP($M$5-Tabelle3[[#This Row],[Jahr\nannée]],FSPIELER,11))","v":10}]
[14,null,null,"-",null,null,null,null,null,{"$f":"IF(ISBLANK('14'!$H$4),\"-\",'14'!$H$4)","v":"-"},{"$f":"IF(ISBLANK('14'!$H$5),\"-\",'14'!$H$5)","v":"-"},{"$f":"IF(ISBLANK('14'!$H$2),\"-\",'14'!$H$2)","v":"-"},null,null,null,null,null,null,null,{"$f":"'14'!$M$16","v":0},{"$f":"'14'!$M$20","v":0},{"$f":"'14'!$M$24","v":0},{"$f":"'14'!$M$29","v":0},{"$f":"'14'!$M$33","v":0},{"$f":"'14'!$M$37","v":0},{"$f":"'14'!$M$13","v":0},{"$f":"'14'!$AA$2","v":0},{"$f":"'14'!$AA$4","v":0},{"$f":"'14'!$AA$3","v":0},{"$f":"IF(Tabelle3[[#This Row],[SKILL]]=0,\"-\",IF(Tabelle3[[#This Row],[Sex]]=\"M\",SUMPRODUCT(Tabelle3[[#This Row],[SKILL]:[VERANLAGUNG\nPREDISPOSITION]],AJ24:AS24),SUMPRODUCT(Tabelle3[[#This Row],[SKILL]:[VERANLAGUNG\nPREDISPOSITION]],AT24:BC24)))","v":"-"},{"$f":"IFERROR(RANK(Tabelle3[[#This Row],[TOTAL ]],Tabelle3[[TOTAL ]],0),\"-\")","v":"-"},null,null,null,null,{"$f":"IF(Tabelle3[[#This Row],[Position\nG / D / FC / FW]]=\"G\",VLOOKUP($M$5-Tabelle3[[#This Row],[Jahr\nannée]],GOALI,2),VLOOKUP($M$5-Tabelle3[[#This Row],[Jahr\nannée]],SPIELER,2))","v":10},{"$f":"IF(Tabelle3[[#This Row],[Position\nG / D / FC / FW]]=\"G\",VLOOKUP($M$5-Tabelle3[[#This Row],[Jahr\nannée]],GOALI,3),VLOOKUP($M$5-Tabelle3[[#This Row],[Jahr\nannée]],SPIELER,3))","v":10},{"$f":"IF(Tabelle3[[#This Row],[Position\nG / D / FC / FW]]=\"G\",VLOOKUP($M$5-Tabelle3[[#This Row],[Jahr\nannée]],GOALI,4),VLOOKUP($M$5-Tabelle3[[#This Row],[Jahr\nannée]],SPIELER,4))","v":20},{"$f":"IF(Tabelle3[[#This Row],[Position\nG / D / FC / FW]]=\"G\",VLOOKUP($M$5-Tabelle3[[#This Row],[Jahr\nannée]],GOALI,5),VLOOKUP($M$5-Tabelle3[[#This Row],[Jahr\nannée]],SPIELER,5))","v":15},{"$f":"IF(Tabelle3[[#This Row],[Position\nG / D / FC / FW]]=\"G\",VLOOKUP($M$5-Tabelle3[[#This Row],[Jahr\nannée]],GOALI,6),VLOOKUP($M$5-Tabelle3[[#This Row],[Jahr\nannée]],SPIELER,6))","v":10},{"$f":"IF(Tabelle3[[#This Row],[Position\nG / D / FC / FW]]=\"G\",VLOOKUP($M$5-Tabelle3[[#This Row],[Jahr\nannée]],GOALI,7),VLOOKUP($M$5-Tabelle3[[#This Row],[Jahr\nannée]],SPIELER,7))","v":10},{"$f":"IF(Tabelle3[[#This Row],[Position\nG / D / FC / FW]]=\"G\",VLOOKUP($M$5-Tabelle3[[#This Row],[Jahr\nannée]],GOALI,9),VLOOKUP($M$5-Tabelle3[[#This Row],[Jahr\nannée]],SPIELER,9))","v":15},{"$f":"IF(Tabelle3[[#This Row],[Position\nG / D / FC / FW]]=\"G\",VLOOKUP($M$5-Tabelle3[[#This Row],[Jahr\nannée]],GOALI,8),VLOOKUP($M$5-Tabelle3[[#This Row],[Jahr\nannée]],SPIELER,8))","v":0},{"$f":"IF(Tabelle3[[#This Row],[Position\nG / D / FC / FW]]=\"G\",VLOOKUP($M$5-Tabelle3[[#This Row],[Jahr\nannée]],GOALI,10),VLOOKUP($M$5-Tabelle3[[#This Row],[Jahr\nannée]],SPIELER,10))","v":0},{"$f":"IF(Tabelle3[[#This Row],[Position\nG / D / FC / FW]]=\"G\",VLOOKUP($M$5-Tabelle3[[#This Row],[Jahr\nannée]],GOALI,11),VLOOKUP($M$5-Tabelle3[[#This Row],[Jahr\nannée]],SPIELER,11))","v":10},{"$f":"IF(Tabelle3[[#This Row],[Position\nG / D / FC / FW]]=\"G\",VLOOKUP($M$5-Tabelle3[[#This Row],[Jahr\nannée]],FGOALIE,2),VLOOKUP($M$5-Tabelle3[[#This Row],[Jahr\nannée]],FSPIELER,2))","v":10},{"$f":"IF(Tabelle3[[#This Row],[Position\nG / D / FC / FW]]=\"G\",VLOOKUP($M$5-Tabelle3[[#This Row],[Jahr\nannée]],FGOALIE,3),VLOOKUP($M$5-Tabelle3[[#This Row],[Jahr\nannée]],FSPIELER,3))","v":10},{"$f":"IF(Tabelle3[[#This Row],[Position\nG / D / FC / FW]]=\"G\",VLOOKUP($M$5-Tabelle3[[#This Row],[Jahr\nannée]],FGOALIE,4),VLOOKUP($M$5-Tabelle3[[#This Row],[Jahr\nannée]],FSPIELER,4))","v":20},{"$f":"IF(Tabelle3[[#This Row],[Position\nG / D / FC / FW]]=\"G\",VLOOKUP($M$5-Tabelle3[[#This Row],[Jahr\nannée]],FGOALIE,5),VLOOKUP($M$5-Tabelle3[[#This Row],[Jahr\nannée]],FSPIELER,5))","v":15},{"$f":"IF(Tabelle3[[#This Row],[Position\nG / D / FC / FW]]=\"G\",VLOOKUP($M$5-Tabelle3[[#This Row],[Jahr\nannée]],FGOALIE,6),VLOOKUP($M$5-Tabelle3[[#This Row],[Jahr\nannée]],FSPIELER,6))","v":10},{"$f":"IF(Tabelle3[[#This Row],[Position\nG / D / FC / FW]]=\"G\",VLOOKUP($M$5-Tabelle3[[#This Row],[Jahr\nannée]],FGOALIE,7),VLOOKUP($M$5-Tabelle3[[#This Row],[Jahr\nannée]],FSPIELER,7))","v":10},{"$f":"IF(Tabelle3[[#This Row],[Position\nG / D / FC / FW]]=\"G\",VLOOKUP($M$5-Tabelle3[[#This Row],[Jahr\nannée]],FGOALIE,9),VLOOKUP($M$5-Tabelle3[[#This Row],[Jahr\nannée]],FSPIELER,9))","v":15},{"$f":"IF(Tabelle3[[#This Row],[Position\nG / D / FC / FW]]=\"G\",VLOOKUP($M$5-Tabelle3[[#This Row],[Jahr\nannée]],FGOALIE,8),VLOOKUP($M$5-Tabelle3[[#This Row],[Jahr\nannée]],FSPIELER,8))","v":0},{"$f":"IF(Tabelle3[[#This Row],[Position\nG / D / FC / FW]]=\"G\",VLOOKUP($M$5-Tabelle3[[#This Row],[Jahr\nannée]],FGOALIE,10),VLOOKUP($M$5-Tabelle3[[#This Row],[Jahr\nannée]],FSPIELER,10))","v":0},{"$f":"IF(Tabelle3[[#This Row],[Position\nG / D / FC / FW]]=\"G\",VLOOKUP($M$5-Tabelle3[[#This Row],[Jahr\nannée]],FGOALIE,11),VLOOKUP($M$5-Tabelle3[[#This Row],[Jahr\nannée]],FSPIELER,11))","v":10}]
[15,null,null,"-",null,null,null,null,null,{"$f":"IF(ISBLANK('15'!$H$4),\"-\",'15'!$H$4)","v":"-"},{"$f":"IF(ISBLANK('15'!$H$5),\"-\",'15'!$H$5)","v":"-"},{"$f":"IF(ISBLANK('15'!$H$2),\"-\",'15'!$H$2)","v":"-"},null,null,null,null,null,null,null,{"$f":"'15'!$M$16","v":0},{"$f":"'15'!$M$20","v":0},{"$f":"'15'!$M$24","v":0},{"$f":"'15'!$M$29","v":0},{"$f":"'15'!$M$33","v":0},{"$f":"'15'!$M$37","v":0},{"$f":"'15'!$M$13","v":0},{"$f":"'15'!$AA$2","v":0},{"$f":"'15'!$AA$4","v":0},{"$f":"'15'!$AA$3","v":0},{"$f":"IF(Tabelle3[[#This Row],[SKILL]]=0,\"-\",IF(Tabelle3[[#This Row],[Sex]]=\"M\",SUMPRODUCT(Tabelle3[[#This Row],[SKILL]:[VERANLAGUNG\nPREDISPOSITION]],AJ25:AS25),SUMPRODUCT(Tabelle3[[#This Row],[SKILL]:[VERANLAGUNG\nPREDISPOSITION]],AT25:BC25)))","v":"-"},{"$f":"IFERROR(RANK(Tabelle3[[#This Row],[TOTAL ]],Tabelle3[[TOTAL ]],0),\"-\")","v":"-"},null,null,null,null,{"$f":"IF(Tabelle3[[#This Row],[Position\nG / D / FC / FW]]=\"G\",VLOOKUP($M$5-Tabelle3[[#This Row],[Jahr\nannée]],GOALI,2),VLOOKUP($M$5-Tabelle3[[#This Row],[Jahr\nannée]],SPIELER,2))","v":10},{"$f":"IF(Tabelle3[[#This Row],[Position\nG / D / FC / FW]]=\"G\",VLOOKUP($M$5-Tabelle3[[#This Row],[Jahr\nannée]],GOALI,3),VLOOKUP($M$5-Tabelle3[[#This Row],[Jahr\nannée]],SPIELER,3))","v":10},{"$f":"IF(Tabelle3[[#This Row],[Position\nG / D / FC / FW]]=\"G\",VLOOKUP($M$5-Tabelle3[[#This Row],[Jahr\nannée]],GOALI,4),VLOOKUP($M$5-Tabelle3[[#This Row],[Jahr\nannée]],SPIELER,4))","v":20},{"$f":"IF(Tabelle3[[#This Row],[Position\nG / D / FC / FW]]=\"G\",VLOOKUP($M$5-Tabelle3[[#This Row],[Jahr\nannée]],GOALI,5),VLOOKUP($M$5-Tabelle3[[#This Row],[Jahr\nannée]],SPIELER,5))","v":15},{"$f":"IF(Tabelle3[[#This Row],[Position\nG / D / FC / FW]]=\"G\",VLOOKUP($M$5-Tabelle3[[#This Row],[Jahr\nannée]],GOALI,6),VLOOKUP($M$5-Tabelle3[[#This Row],[Jahr\nannée]],SPIELER,6))","v":10},{"$f":"IF(Tabelle3[[#This Row],[Position\nG / D / FC / FW]]=\"G\",VLOOKUP($M$5-Tabelle3[[#This Row],[Jahr\nannée]],GOALI,7),VLOOKUP($M$5-Tabelle3[[#This Row],[Jahr\nannée]],SPIELER,7))","v":10},{"$f":"IF(Tabelle3[[#This Row],[Position\nG / D / FC / FW]]=\"G\",VLOOKUP($M$5-Tabelle3[[#This Row],[Jahr\nannée]],GOALI,9),VLOOKUP($M$5-Tabelle3[[#This Row],[Jahr\nannée]],SPIELER,9))","v":15},{"$f":"IF(Tabelle3[[#This Row],[Position\nG / D / FC / FW]]=\"G\",VLOOKUP($M$5-Tabelle3[[#This Row],[Jahr\nannée]],GOALI,8),VLOOKUP($M$5-Tabelle3[[#This Row],[Jahr\nannée]],SPIELER,8))","v":0},{"$f":"IF(Tabelle3[[#This Row],[Position\nG / D / FC / FW]]=\"G\",VLOOKUP($M$5-Tabelle3[[#This Row],[Jahr\nannée]],GOALI,10),VLOOKUP($M$5-Tabelle3[[#This Row],[Jahr\nannée]],SPIELER,10))","v":0},{"$f":"IF(Tabelle3[[#This Row],[Position\nG / D / FC / FW]]=\"G\",VLOOKUP($M$5-Tabelle3[[#This Row],[Jahr\nannée]],GOALI,11),VLOOKUP($M$5-Tabelle3[[#This Row],[Jahr\nannée]],SPIELER,11))","v":10},{"$f":"IF(Tabelle3[[#This Row],[Position\nG / D / FC / FW]]=\"G\",VLOOKUP($M$5-Tabelle3[[#This Row],[Jahr\nannée]],FGOALIE,2),VLOOKUP($M$5-Tabelle3[[#This Row],[Jahr\nannée]],FSPIELER,2))","v":10},{"$f":"IF(Tabelle3[[#This Row],[Position\nG / D / FC / FW]]=\"G\",VLOOKUP($M$5-Tabelle3[[#This Row],[Jahr\nannée]],FGOALIE,3),VLOOKUP($M$5-Tabelle3[[#This Row],[Jahr\nannée]],FSPIELER,3))","v":10},{"$f":"IF(Tabelle3[[#This Row],[Position\nG / D / FC / FW]]=\"G\",VLOOKUP($M$5-Tabelle3[[#This Row],[Jahr\nannée]],FGOALIE,4),VLOOKUP($M$5-Tabelle3[[#This Row],[Jahr\nannée]],FSPIELER,4))","v":20},{"$f":"IF(Tabelle3[[#This Row],[Position\nG / D / FC / FW]]=\"G\",VLOOKUP($M$5-Tabelle3[[#This Row],[Jahr\nannée]],FGOALIE,5),VLOOKUP($M$5-Tabelle3[[#This Row],[Jahr\nannée]],FSPIELER,5))","v":15},{"$f":"IF(Tabelle3[[#This Row],[Position\nG / D / FC / FW]]=\"G\",VLOOKUP($M$5-Tabelle3[[#This Row],[Jahr\nannée]],FGOALIE,6),VLOOKUP($M$5-Tabelle3[[#This Row],[Jahr\nannée]],FSPIELER,6))","v":10},{"$f":"IF(Tabelle3[[#This Row],[Position\nG / D / FC / FW]]=\"G\",VLOOKUP($M$5-Tabelle3[[#This Row],[Jahr\nannée]],FGOALIE,7),VLOOKUP($M$5-Tabelle3[[#This Row],[Jahr\nannée]],FSPIELER,7))","v":10},{"$f":"IF(Tabelle3[[#This Row],[Position\nG / D / FC / FW]]=\"G\",VLOOKUP($M$5-Tabelle3[[#This Row],[Jahr\nannée]],FGOALIE,9),VLOOKUP($M$5-Tabelle3[[#This Row],[Jahr\nannée]],FSPIELER,9))","v":15},{"$f":"IF(Tabelle3[[#This Row],[Position\nG / D / FC / FW]]=\"G\",VLOOKUP($M$5-Tabelle3[[#This Row],[Jahr\nannée]],FGOALIE,8),VLOOKUP($M$5-Tabelle3[[#This Row],[Jahr\nannée]],FSPIELER,8))","v":0},{"$f":"IF(Tabelle3[[#This Row],[Position\nG / D / FC / FW]]=\"G\",VLOOKUP($M$5-Tabelle3[[#This Row],[Jahr\nannée]],FGOALIE,10),VLOOKUP($M$5-Tabelle3[[#This Row],[Jahr\nannée]],FSPIELER,10))","v":0},{"$f":"IF(Tabelle3[[#This Row],[Position\nG / D / FC / FW]]=\"G\",VLOOKUP($M$5-Tabelle3[[#This Row],[Jahr\nannée]],FGOALIE,11),VLOOKUP($M$5-Tabelle3[[#This Row],[Jahr\nannée]],FSPIELER,11))","v":10}]
[16,null,null,"-",null,null,null,null,null,{"$f":"IF(ISBLANK('16'!$H$4),\"-\",'16'!$H$4)","v":"-"},{"$f":"IF(ISBLANK('16'!$H$5),\"-\",'16'!$H$5)","v":"-"},{"$f":"IF(ISBLANK('16'!$H$2),\"-\",'16'!$H$2)","v":"-"},null,null,null,null,null,null,null,{"$f":"'16'!$M$16","v":0},{"$f":"'16'!$M$20","v":0},{"$f":"'16'!$M$24","v":0},{"$f":"'16'!$M$29","v":0},{"$f":"'16'!$M$33","v":0},{"$f":"'16'!$M$37","v":0},{"$f":"'16'!$M$13","v":0},{"$f":"'16'!$AA$2","v":0},{"$f":"'16'!$AA$4","v":0},{"$f":"'16'!$AA$3","v":0},{"$f":"IF(Tabelle3[[#This Row],[SKILL]]=0,\"-\",IF(Tabelle3[[#This Row],[Sex]]=\"M\",SUMPRODUCT(Tabelle3[[#This Row],[SKILL]:[VERANLAGUNG\nPREDISPOSITION]],AJ26:AS26),SUMPRODUCT(Tabelle3[[#This Row],[SKILL]:[VERANLAGUNG\nPREDISPOSITION]],AT26:BC26)))","v":"-"},{"$f":"IFERROR(RANK(Tabelle3[[#This Row],[TOTAL ]],Tabelle3[[TOTAL ]],0),\"-\")","v":"-"},null,null,null,null,{"$f":"IF(Tabelle3[[#This Row],[Position\nG / D / FC / FW]]=\"G\",VLOOKUP($M$5-Tabelle3[[#This Row],[Jahr\nannée]],GOALI,2),VLOOKUP($M$5-Tabelle3[[#This Row],[Jahr\nannée]],SPIELER,2))","v":10},{"$f":"IF(Tabelle3[[#This Row],[Position\nG / D / FC / FW]]=\"G\",VLOOKUP($M$5-Tabelle3[[#This Row],[Jahr\nannée]],GOALI,3),VLOOKUP($M$5-Tabelle3[[#This Row],[Jahr\nannée]],SPIELER,3))","v":10},{"$f":"IF(Tabelle3[[#This Row],[Position\nG / D / FC / FW]]=\"G\",VLOOKUP($M$5-Tabelle3[[#This Row],[Jahr\nannée]],GOALI,4),VLOOKUP($M$5-Tabelle3[[#This Row],[Jahr\nannée]],SPIELER,4))","v":20},{"$f":"IF(Tabelle3[[#This Row],[Position\nG / D / FC / FW]]=\"G\",VLOOKUP($M$5-Tabelle3[[#This Row],[Jahr\nannée]],GOALI,5),VLOOKUP($M$5-Tabelle3[[#This Row],[Jahr\nannée]],SPIELER,5))","v":15},{"$f":"IF(Tabelle3[[#This Row],[Position\nG / D / FC / FW]]=\"G\",VLOOKUP($M$5-Tabelle3[[#This Row],[Jahr\nannée]],GOALI,6),VLOOKUP($M$5-Tabelle3[[#This Row],[Jahr\nannée]],SPIELER,6))","v":10},{"$f":"IF(Tabelle3[[#This Row],[Position\nG / D / FC / FW]]=\"G\",VLOOKUP($M$5-Tabelle3[[#This Row],[Jahr\nannée]],GOALI,7),VLOOKUP($M$5-Tabelle3[[#This Row],[Jahr\nannée]],SPIELER,7))","v":10},{"$f":"IF(Tabelle3[[#This Row],[Position\nG / D / FC / FW]]=\"G\",VLOOKUP($M$5-Tabelle3[[#This Row],[Jahr\nannée]],GOALI,9),VLOOKUP($M$5-Tabelle3[[#This Row],[Jahr\nannée]],SPIELER,9))","v":15},{"$f":"IF(Tabelle3[[#This Row],[Position\nG / D / FC / FW]]=\"G\",VLOOKUP($M$5-Tabelle3[[#This Row],[Jahr\nannée]],GOALI,8),VLOOKUP($M$5-Tabelle3[[#This Row],[Jahr\nannée]],SPIELER,8))","v":0},{"$f":"IF(Tabelle3[[#This Row],[Position\nG / D / FC / FW]]=\"G\",VLOOKUP($M$5-Tabelle3[[#This Row],[Jahr\nannée]],GOALI,10),VLOOKUP($M$5-Tabelle3[[#This Row],[Jahr\nannée]],SPIELER,10))","v":0},{"$f":"IF(Tabelle3[[#This Row],[Position\nG / D / FC / FW]]=\"G\",VLOOKUP($M$5-Tabelle3[[#This Row],[Jahr\nannée]],GOALI,11),VLOOKUP($M$5-Tabelle3[[#This Row],[Jahr\nannée]],SPIELER,11))","v":10},{"$f":"IF(Tabelle3[[#This Row],[Position\nG / D / FC / FW]]=\"G\",VLOOKUP($M$5-Tabelle3[[#This Row],[Jahr\nannée]],FGOALIE,2),VLOOKUP($M$5-Tabelle3[[#This Row],[Jahr\nannée]],FSPIELER,2))","v":10},{"$f":"IF(Tabelle3[[#This Row],[Position\nG / D / FC / FW]]=\"G\",VLOOKUP($M$5-Tabelle3[[#This Row],[Jahr\nannée]],FGOALIE,3),VLOOKUP($M$5-Tabelle3[[#This Row],[Jahr\nannée]],FSPIELER,3))","v":10},{"$f":"IF(Tabelle3[[#This Row],[Position\nG / D / FC / FW]]=\"G\",VLOOKUP($M$5-Tabelle3[[#This Row],[Jahr\nannée]],FGOALIE,4),VLOOKUP($M$5-Tabelle3[[#This Row],[Jahr\nannée]],FSPIELER,4))","v":20},{"$f":"IF(Tabelle3[[#This Row],[Position\nG / D / FC / FW]]=\"G\",VLOOKUP($M$5-Tabelle3[[#This Row],[Jahr\nannée]],FGOALIE,5),VLOOKUP($M$5-Tabelle3[[#This Row],[Jahr\nannée]],FSPIELER,5))","v":15},{"$f":"IF(Tabelle3[[#This Row],[Position\nG / D / FC / FW]]=\"G\",VLOOKUP($M$5-Tabelle3[[#This Row],[Jahr\nannée]],FGOALIE,6),VLOOKUP($M$5-Tabelle3[[#This Row],[Jahr\nannée]],FSPIELER,6))","v":10},{"$f":"IF(Tabelle3[[#This Row],[Position\nG / D / FC / FW]]=\"G\",VLOOKUP($M$5-Tabelle3[[#This Row],[Jahr\nannée]],FGOALIE,7),VLOOKUP($M$5-Tabelle3[[#This Row],[Jahr\nannée]],FSPIELER,7))","v":10},{"$f":"IF(Tabelle3[[#This Row],[Position\nG / D / FC / FW]]=\"G\",VLOOKUP($M$5-Tabelle3[[#This Row],[Jahr\nannée]],FGOALIE,9),VLOOKUP($M$5-Tabelle3[[#This Row],[Jahr\nannée]],FSPIELER,9))","v":15},{"$f":"IF(Tabelle3[[#This Row],[Position\nG / D / FC / FW]]=\"G\",VLOOKUP($M$5-Tabelle3[[#This Row],[Jahr\nannée]],FGOALIE,8),VLOOKUP($M$5-Tabelle3[[#This Row],[Jahr\nannée]],FSPIELER,8))","v":0},{"$f":"IF(Tabelle3[[#This Row],[Position\nG / D / FC / FW]]=\"G\",VLOOKUP($M$5-Tabelle3[[#This Row],[Jahr\nannée]],FGOALIE,10),VLOOKUP($M$5-Tabelle3[[#This Row],[Jahr\nannée]],FSPIELER,10))","v":0},{"$f":"IF(Tabelle3[[#This Row],[Position\nG / D / FC / FW]]=\"G\",VLOOKUP($M$5-Tabelle3[[#This Row],[Jahr\nannée]],FGOALIE,11),VLOOKUP($M$5-Tabelle3[[#This Row],[Jahr\nannée]],FSPIELER,11))","v":10}]
[17,null,null,"-",null,null,null,null,null,{"$f":"IF(ISBLANK('17'!$H$4),\"-\",'17'!$H$4)","v":"-"},{"$f":"IF(ISBLANK('17'!$H$5),\"-\",'17'!$H$5)","v":"-"},{"$f":"IF(ISBLANK('17'!$H$2),\"-\",'17'!$H$2)","v":"-"},null,null,null,null,null,null,null,{"$f":"'17'!$M$16","v":0},{"$f":"'17'!$M$20","v":0},{"$f":"'17'!$M$24","v":0},{"$f":"'17'!$M$29","v":0},{"$f":"'17'!$M$33","v":0},{"$f":"'17'!$M$37","v":0},{"$f":"'17'!$M$13","v":0},{"$f":"'17'!$AA$2","v":0},{"$f":"'17'!$AA$4","v":0},{"$f":"'17'!$AA$3","v":0},{"$f":"IF(Tabelle3[[#This Row],[SKILL]]=0,\"-\",IF(Tabelle3[[#This Row],[Sex]]=\"M\",SUMPRODUCT(Tabelle3[[#This Row],[SKILL]:[VERANLAGUNG\nPREDISPOSITION]],AJ27:AS27),SUMPRODUCT(Tabelle3[[#This Row],[SKILL]:[VERANLAGUNG\nPREDISPOSITION]],AT27:BC27)))","v":"-"},{"$f":"IFERROR(RANK(Tabelle3[[#This Row],[TOTAL ]],Tabelle3[[TOTAL ]],0),\"-\")","v":"-"},null,null,null,null,{"$f":"IF(Tabelle3[[#This Row],[Position\nG / D / FC / FW]]=\"G\",VLOOKUP($M$5-Tabelle3[[#This Row],[Jahr\nannée]],GOALI,2),VLOOKUP($M$5-Tabelle3[[#This Row],[Jahr\nannée]],SPIELER,2))","v":10},{"$f":"IF(Tabelle3[[#This Row],[Position\nG / D / FC / FW]]=\"G\",VLOOKUP($M$5-Tabelle3[[#This Row],[Jahr\nannée]],GOALI,3),VLOOKUP($M$5-Tabelle3[[#This Row],[Jahr\nannée]],SPIELER,3))","v":10},{"$f":"IF(Tabelle3[[#This Row],[Position\nG / D / FC / FW]]=\"G\",VLOOKUP($M$5-Tabelle3[[#This Row],[Jahr\nannée]],GOALI,4),VLOOKUP($M$5-Tabelle3[[#This Row],[Jahr\nannée]],SPIELER,4))","v":20},{"$f":"IF(Tabelle3[[#This Row],[Position\nG / D / FC / FW]]=\"G\",VLOOKUP($M$5-Tabelle3[[#This Row],[Jahr\nannée]],GOALI,5),VLOOKUP($M$5-Tabelle3[[#This Row],[Jahr\nannée]],SPIELER,5))","v":15},{"$f":"IF(Tabelle3[[#This Row],[Position\nG / D / FC / FW]]=\"G\",VLOOKUP($M$5-Tabelle3[[#This Row],[Jahr\nannée]],GOALI,6),VLOOKUP($M$5-Tabelle3[[#This Row],[Jahr\nannée]],SPIELER,6))","v":10},{"$f":"IF(Tabelle3[[#This Row],[Position\nG / D / FC / FW]]=\"G\",VLOOKUP($M$5-Tabelle3[[#This Row],[Jahr\nannée]],GOALI,7),VLOOKUP($M$5-Tabelle3[[#This Row],[Jahr\nannée]],SPIELER,7))","v":10},{"$f":"IF(Tabelle3[[#This Row],[Position\nG / D / FC / FW]]=\"G\",VLOOKUP($M$5-Tabelle3[[#This Row],[Jahr\nannée]],GOALI,9),VLOOKUP($M$5-Tabelle3[[#This Row],[Jahr\nannée]],SPIELER,9))","v":15},{"$f":"IF(Tabelle3[[#This Row],[Position\nG / D / FC / FW]]=\"G\",VLOOKUP($M$5-Tabelle3[[#This Row],[Jahr\nannée]],GOALI,8),VLOOKUP($M$5-Tabelle3[[#This Row],[Jahr\nannée]],SPIELER,8))","v":0},{"$f":"IF(Tabelle3[[#This Row],[Position\nG / D / FC / FW]]=\"G\",VLOOKUP($M$5-Tabelle3[[#This Row],[Jahr\nannée]],GOALI,10),VLOOKUP($M$5-Tabelle3[[#This Row],[Jahr\nannée]],SPIELER,10))","v":0},{"$f":"IF(Tabelle3[[#This Row],[Position\nG / D / FC / FW]]=\"G\",VLOOKUP($M$5-Tabelle3[[#This Row],[Jahr\nannée]],GOALI,11),VLOOKUP($M$5-Tabelle3[[#This Row],[Jahr\nannée]],SPIELER,11))","v":10},{"$f":"IF(Tabelle3[[#This Row],[Position\nG / D / FC / FW]]=\"G\",VLOOKUP($M$5-Tabelle3[[#This Row],[Jahr\nannée]],FGOALIE,2),VLOOKUP($M$5-Tabelle3[[#This Row],[Jahr\nannée]],FSPIELER,2))","v":10},{"$f":"IF(Tabelle3[[#This Row],[Position\nG / D / FC / FW]]=\"G\",VLOOKUP($M$5-Tabelle3[[#This Row],[Jahr\nannée]],FGOALIE,3),VLOOKUP($M$5-Tabelle3[[#This Row],[Jahr\nannée]],FSPIELER,3))","v":10},{"$f":"IF(Tabelle3[[#This Row],[Position\nG / D / FC / FW]]=\"G\",VLOOKUP($M$5-Tabelle3[[#This Row],[Jahr\nannée]],FGOALIE,4),VLOOKUP($M$5-Tabelle3[[#This Row],[Jahr\nannée]],FSPIELER,4))","v":20},{"$f":"IF(Tabelle3[[#This Row],[Position\nG / D / FC / FW]]=\"G\",VLOOKUP($M$5-Tabelle3[[#This Row],[Jahr\nannée]],FGOALIE,5),VLOOKUP($M$5-Tabelle3[[#This Row],[Jahr\nannée]],FSPIELER,5))","v":15},{"$f":"IF(Tabelle3[[#This Row],[Position\nG / D / FC / FW]]=\"G\",VLOOKUP($M$5-Tabelle3[[#This Row],[Jahr\nannée]],FGOALIE,6),VLOOKUP($M$5-Tabelle3[[#This Row],[Jahr\nannée]],FSPIELER,6))","v":10},{"$f":"IF(Tabelle3[[#This Row],[Position\nG / D / FC / FW]]=\"G\",VLOOKUP($M$5-Tabelle3[[#This Row],[Jahr\nannée]],FGOALIE,7),VLOOKUP($M$5-Tabelle3[[#This Row],[Jahr\nannée]],FSPIELER,7))","v":10},{"$f":"IF(Tabelle3[[#This Row],[Position\nG / D / FC / FW]]=\"G\",VLOOKUP($M$5-Tabelle3[[#This Row],[Jahr\nannée]],FGOALIE,9),VLOOKUP($M$5-Tabelle3[[#This Row],[Jahr\nannée]],FSPIELER,9))","v":15},{"$f":"IF(Tabelle3[[#This Row],[Position\nG / D / FC / FW]]=\"G\",VLOOKUP($M$5-Tabelle3[[#This Row],[Jahr\nannée]],FGOALIE,8),VLOOKUP($M$5-Tabelle3[[#This Row],[Jahr\nannée]],FSPIELER,8))","v":0},{"$f":"IF(Tabelle3[[#This Row],[Position\nG / D / FC / FW]]=\"G\",VLOOKUP($M$5-Tabelle3[[#This Row],[Jahr\nannée]],FGOALIE,10),VLOOKUP($M$5-Tabelle3[[#This Row],[Jahr\nannée]],FSPIELER,10))","v":0},{"$f":"IF(Tabelle3[[#This Row],[Position\nG / D / FC / FW]]=\"G\",VLOOKUP($M$5-Tabelle3[[#This Row],[Jahr\nannée]],FGOALIE,11),VLOOKUP($M$5-Tabelle3[[#This Row],[Jahr\nannée]],FSPIELER,11))","v":10}]
[18,null,null,"-",null,null,null,null,null,{"$f":"IF(ISBLANK('18'!$H$4),\"-\",'18'!$H$4)","v":"-"},{"$f":"IF(ISBLANK('18'!$H$5),\"-\",'18'!$H$5)","v":"-"},{"$f":"IF(ISBLANK('18'!$H$2),\"-\",'18'!$H$2)","v":"-"},null,null,null,null,null,null,null,{"$f":"'18'!$M$16","v":0},{"$f":"'18'!$M$20","v":0},{"$f":"'18'!$M$24","v":0},{"$f":"'18'!$M$29","v":0},{"$f":"'18'!$M$33","v":0},{"$f":"'18'!$M$37","v":0},{"$f":"'18'!$M$13","v":0},{"$f":"'18'!$AA$2","v":0},{"$f":"'18'!$AA$4","v":0},{"$f":"'18'!$AA$3","v":0},{"$f":"IF(Tabelle3[[#This Row],[SKILL]]=0,\"-\",IF(Tabelle3[[#This Row],[Sex]]=\"M\",SUMPRODUCT(Tabelle3[[#This Row],[SKILL]:[VERANLAGUNG\nPREDISPOSITION]],AJ28:AS28),SUMPRODUCT(Tabelle3[[#This Row],[SKILL]:[VERANLAGUNG\nPREDISPOSITION]],AT28:BC28)))","v":"-"},{"$f":"IFERROR(RANK(Tabelle3[[#This Row],[TOTAL ]],Tabelle3[[TOTAL ]],0),\"-\")","v":"-"},null,null,null,null,{"$f":"IF(Tabelle3[[#This Row],[Position\nG / D / FC / FW]]=\"G\",VLOOKUP($M$5-Tabelle3[[#This Row],[Jahr\nannée]],GOALI,2),VLOOKUP($M$5-Tabelle3[[#This Row],[Jahr\nannée]],SPIELER,2))","v":10},{"$f":"IF(Tabelle3[[#This Row],[Position\nG / D / FC / FW]]=\"G\",VLOOKUP($M$5-Tabelle3[[#This Row],[Jahr\nannée]],GOALI,3),VLOOKUP($M$5-Tabelle3[[#This Row],[Jahr\nannée]],SPIELER,3))","v":10},{"$f":"IF(Tabelle3[[#This Row],[Position\nG / D / FC / FW]]=\"G\",VLOOKUP($M$5-Tabelle3[[#This Row],[Jahr\nannée]],GOALI,4),VLOOKUP($M$5-Tabelle3[[#This Row],[Jahr\nannée]],SPIELER,4))","v":20},{"$f":"IF(Tabelle3[[#This Row],[Position\nG / D / FC / FW]]=\"G\",VLOOKUP($M$5-Tabelle3[[#This Row],[Jahr\nannée]],GOALI,5),VLOOKUP($M$5-Tabelle3[[#This Row],[Jahr\nannée]],SPIELER,5))","v":15},{"$f":"IF(Tabelle3[[#This Row],[Position\nG / D / FC / FW]]=\"G\",VLOOKUP($M$5-Tabelle3[[#This Row],[Jahr\nannée]],GOALI,6),VLOOKUP($M$5-Tabelle3[[#This Row],[Jahr\nannée]],SPIELER,6))","v":10},{"$f":"IF(Tabelle3[[#This Row],[Position\nG / D / FC / FW]]=\"G\",VLOOKUP($M$5-Tabelle3[[#This Row],[Jahr\nannée]],GOALI,7),VLOOKUP($M$5-Tabelle3[[#This Row],[Jahr\nannée]],SPIELER,7))","v":10},{"$f":"IF(Tabelle3[[#This Row],[Position\nG / D / FC / FW]]=\"G\",VLOOKUP($M$5-Tabelle3[[#This Row],[Jahr\nannée]],GOALI,9),VLOOKUP($M$5-Tabelle3[[#This Row],[Jahr\nannée]],SPIELER,9))","v":15},{"$f":"IF(Tabelle3[[#This Row],[Position\nG / D / FC / FW]]=\"G\",VLOOKUP($M$5-Tabelle3[[#This Row],[Jahr\nannée]],GOALI,8),VLOOKUP($M$5-Tabelle3[[#This Row],[Jahr\nannée]],SPIELER,8))","v":0},{"$f":"IF(Tabelle3[[#This Row],[Position\nG / D / FC / FW]]=\"G\",VLOOKUP($M$5-Tabelle3[[#This Row],[Jahr\nannée]],GOALI,10),VLOOKUP($M$5-Tabelle3[[#This Row],[Jahr\nannée]],SPIELER,10))","v":0},{"$f":"IF(Tabelle3[[#This Row],[Position\nG / D / FC / FW]]=\"G\",VLOOKUP($M$5-Tabelle3[[#This Row],[Jahr\nannée]],GOALI,11),VLOOKUP($M$5-Tabelle3[[#This Row],[Jahr\nannée]],SPIELER,11))","v":10},{"$f":"IF(Tabelle3[[#This Row],[Position\nG / D / FC / FW]]=\"G\",VLOOKUP($M$5-Tabelle3[[#This Row],[Jahr\nannée]],FGOALIE,2),VLOOKUP($M$5-Tabelle3[[#This Row],[Jahr\nannée]],FSPIELER,2))","v":10},{"$f":"IF(Tabelle3[[#This Row],[Position\nG / D / FC / FW]]=\"G\",VLOOKUP($M$5-Tabelle3[[#This Row],[Jahr\nannée]],FGOALIE,3),VLOOKUP($M$5-Tabelle3[[#This Row],[Jahr\nannée]],FSPIELER,3))","v":10},{"$f":"IF(Tabelle3[[#This Row],[Position\nG / D / FC / FW]]=\"G\",VLOOKUP($M$5-Tabelle3[[#This Row],[Jahr\nannée]],FGOALIE,4),VLOOKUP($M$5-Tabelle3[[#This Row],[Jahr\nannée]],FSPIELER,4))","v":20},{"$f":"IF(Tabelle3[[#This Row],[Position\nG / D / FC / FW]]=\"G\",VLOOKUP($M$5-Tabelle3[[#This Row],[Jahr\nannée]],FGOALIE,5),VLOOKUP($M$5-Tabelle3[[#This Row],[Jahr\nannée]],FSPIELER,5))","v":15},{"$f":"IF(Tabelle3[[#This Row],[Position\nG / D / FC / FW]]=\"G\",VLOOKUP($M$5-Tabelle3[[#This Row],[Jahr\nannée]],FGOALIE,6),VLOOKUP($M$5-Tabelle3[[#This Row],[Jahr\nannée]],FSPIELER,6))","v":10},{"$f":"IF(Tabelle3[[#This Row],[Position\nG / D / FC / FW]]=\"G\",VLOOKUP($M$5-Tabelle3[[#This Row],[Jahr\nannée]],FGOALIE,7),VLOOKUP($M$5-Tabelle3[[#This Row],[Jahr\nannée]],FSPIELER,7))","v":10},{"$f":"IF(Tabelle3[[#This Row],[Position\nG / D / FC / FW]]=\"G\",VLOOKUP($M$5-Tabelle3[[#This Row],[Jahr\nannée]],FGOALIE,9),VLOOKUP($M$5-Tabelle3[[#This Row],[Jahr\nannée]],FSPIELER,9))","v":15},{"$f":"IF(Tabelle3[[#This Row],[Position\nG / D / FC / FW]]=\"G\",VLOOKUP($M$5-Tabelle3[[#This Row],[Jahr\nannée]],FGOALIE,8),VLOOKUP($M$5-Tabelle3[[#This Row],[Jahr\nannée]],FSPIELER,8))","v":0},{"$f":"IF(Tabelle3[[#This Row],[Position\nG / D / FC / FW]]=\"G\",VLOOKUP($M$5-Tabelle3[[#This Row],[Jahr\nannée]],FGOALIE,10),VLOOKUP($M$5-Tabelle3[[#This Row],[Jahr\nannée]],FSPIELER,10))","v":0},{"$f":"IF(Tabelle3[[#This Row],[Position\nG / D / FC / FW]]=\"G\",VLOOKUP($M$5-Tabelle3[[#This Row],[Jahr\nannée]],FGOALIE,11),VLOOKUP($M$5-Tabelle3[[#This Row],[Jahr\nannée]],FSPIELER,11))","v":10}]
[19,null,null,"-",null,null,null,null,null,{"$f":"IF(ISBLANK('19'!$H$4),\"-\",'19'!$H$4)","v":"-"},{"$f":"IF(ISBLANK('19'!$H$5),\"-\",'19'!$H$5)","v":"-"},{"$f":"IF(ISBLANK('19'!$H$2),\"-\",'19'!$H$2)","v":"-"},null,null,null,null,null,null,null,{"$f":"'19'!$M$16","v":0},{"$f":"'19'!$M$20","v":0},{"$f":"'19'!$M$24","v":0},{"$f":"'19'!$M$29","v":0},{"$f":"'19'!$M$33","v":0},{"$f":"'19'!$M$37","v":0},{"$f":"'19'!$M$13","v":0},{"$f":"'19'!$AA$2","v":0},{"$f":"'19'!$AA$4","v":0},{"$f":"'19'!$AA$3","v":0},{"$f":"IF(Tabelle3[[#This Row],[SKILL]]=0,\"-\",IF(Tabelle3[[#This Row],[Sex]]=\"M\",SUMPRODUCT(Tabelle3[[#This Row],[SKILL]:[VERANLAGUNG\nPREDISPOSITION]],AJ29:AS29),SUMPRODUCT(Tabelle3[[#This Row],[SKILL]:[VERANLAGUNG\nPREDISPOSITION]],AT29:BC29)))","v":"-"},{"$f":"IFERROR(RANK(Tabelle3[[#This Row],[TOTAL ]],Tabelle3[[TOTAL ]],0),\"-\")","v":"-"},null,null,null,null,{"$f":"IF(Tabelle3[[#This Row],[Position\nG / D / FC / FW]]=\"G\",VLOOKUP($M$5-Tabelle3[[#This Row],[Jahr\nannée]],GOALI,2),VLOOKUP($M$5-Tabelle3[[#This Row],[Jahr\nannée]],SPIELER,2))","v":10},{"$f":"IF(Tabelle3[[#This Row],[Position\nG / D / FC / FW]]=\"G\",VLOOKUP($M$5-Tabelle3[[#This Row],[Jahr\nannée]],GOALI,3),VLOOKUP($M$5-Tabelle3[[#This Row],[Jahr\nannée]],SPIELER,3))","v":10},{"$f":"IF(Tabelle3[[#This Row],[Position\nG / D / FC / FW]]=\"G\",VLOOKUP($M$5-Tabelle3[[#This Row],[Jahr\nannée]],GOALI,4),VLOOKUP($M$5-Tabelle3[[#This Row],[Jahr\nannée]],SPIELER,4))","v":20},{"$f":"IF(Tabelle3[[#This Row],[Position\nG / D / FC / FW]]=\"G\",VLOOKUP($M$5-Tabelle3[[#This Row],[Jahr\nannée]],GOALI,5),VLOOKUP($M$5-Tabelle3[[#This Row],[Jahr\nannée]],SPIELER,5))","v":15},{"$f":"IF(Tabelle3[[#This Row],[Position\nG / D / FC / FW]]=\"G\",VLOOKUP($M$5-Tabelle3[[#This Row],[Jahr\nannée]],GOALI,6),VLOOKUP($M$5-Tabelle3[[#This Row],[Jahr\nannée]],SPIELER,6))","v":10},{"$f":"IF(Tabelle3[[#This Row],[Position\nG / D / FC / FW]]=\"G\",VLOOKUP($M$5-Tabelle3[[#This Row],[Jahr\nannée]],GOALI,7),VLOOKUP($M$5-Tabelle3[[#This Row],[Jahr\nannée]],SPIELER,7))","v":10},{"$f":"IF(Tabelle3[[#This Row],[Position\nG / D / FC / FW]]=\"G\",VLOOKUP($M$5-Tabelle3[[#This Row],[Jahr\nannée]],GOALI,9),VLOOKUP($M$5-Tabelle3[[#This Row],[Jahr\nannée]],SPIELER,9))","v":15},{"$f":"IF(Tabelle3[[#This Row],[Position\nG / D / FC / FW]]=\"G\",VLOOKUP($M$5-Tabelle3[[#This Row],[Jahr\nannée]],GOALI,8),VLOOKUP($M$5-Tabelle3[[#This Row],[Jahr\nannée]],SPIELER,8))","v":0},{"$f":"IF(Tabelle3[[#This Row],[Position\nG / D / FC / FW]]=\"G\",VLOOKUP($M$5-Tabelle3[[#This Row],[Jahr\nannée]],GOALI,10),VLOOKUP($M$5-Tabelle3[[#This Row],[Jahr\nannée]],SPIELER,10))","v":0},{"$f":"IF(Tabelle3[[#This Row],[Position\nG / D / FC / FW]]=\"G\",VLOOKUP($M$5-Tabelle3[[#This Row],[Jahr\nannée]],GOALI,11),VLOOKUP($M$5-Tabelle3[[#This Row],[Jahr\nannée]],SPIELER,11))","v":10},{"$f":"IF(Tabelle3[[#This Row],[Position\nG / D / FC / FW]]=\"G\",VLOOKUP($M$5-Tabelle3[[#This Row],[Jahr\nannée]],FGOALIE,2),VLOOKUP($M$5-Tabelle3[[#This Row],[Jahr\nannée]],FSPIELER,2))","v":10},{"$f":"IF(Tabelle3[[#This Row],[Position\nG / D / FC / FW]]=\"G\",VLOOKUP($M$5-Tabelle3[[#This Row],[Jahr\nannée]],FGOALIE,3),VLOOKUP($M$5-Tabelle3[[#This Row],[Jahr\nannée]],FSPIELER,3))","v":10},{"$f":"IF(Tabelle3[[#This Row],[Position\nG / D / FC / FW]]=\"G\",VLOOKUP($M$5-Tabelle3[[#This Row],[Jahr\nannée]],FGOALIE,4),VLOOKUP($M$5-Tabelle3[[#This Row],[Jahr\nannée]],FSPIELER,4))","v":20},{"$f":"IF(Tabelle3[[#This Row],[Position\nG / D / FC / FW]]=\"G\",VLOOKUP($M$5-Tabelle3[[#This Row],[Jahr\nannée]],FGOALIE,5),VLOOKUP($M$5-Tabelle3[[#This Row],[Jahr\nannée]],FSPIELER,5))","v":15},{"$f":"IF(Tabelle3[[#This Row],[Position\nG / D / FC / FW]]=\"G\",VLOOKUP($M$5-Tabelle3[[#This Row],[Jahr\nannée]],FGOALIE,6),VLOOKUP($M$5-Tabelle3[[#This Row],[Jahr\nannée]],FSPIELER,6))","v":10},{"$f":"IF(Tabelle3[[#This Row],[Position\nG / D / FC / FW]]=\"G\",VLOOKUP($M$5-Tabelle3[[#This Row],[Jahr\nannée]],FGOALIE,7),VLOOKUP($M$5-Tabelle3[[#This Row],[Jahr\nannée]],FSPIELER,7))","v":10},{"$f":"IF(Tabelle3[[#This Row],[Position\nG / D / FC / FW]]=\"G\",VLOOKUP($M$5-Tabelle3[[#This Row],[Jahr\nannée]],FGOALIE,9),VLOOKUP($M$5-Tabelle3[[#This Row],[Jahr\nannée]],FSPIELER,9))","v":15},{"$f":"IF(Tabelle3[[#This Row],[Position\nG / D / FC / FW]]=\"G\",VLOOKUP($M$5-Tabelle3[[#This Row],[Jahr\nannée]],FGOALIE,8),VLOOKUP($M$5-Tabelle3[[#This Row],[Jahr\nannée]],FSPIELER,8))","v":0},{"$f":"IF(Tabelle3[[#This Row],[Position\nG / D / FC / FW]]=\"G\",VLOOKUP($M$5-Tabelle3[[#This Row],[Jahr\nannée]],FGOALIE,10),VLOOKUP($M$5-Tabelle3[[#This Row],[Jahr\nannée]],FSPIELER,10))","v":0},{"$f":"IF(Tabelle3[[#This Row],[Position\nG / D / FC / FW]]=\"G\",VLOOKUP($M$5-Tabelle3[[#This Row],[Jahr\nannée]],FGOALIE,11),VLOOKUP($M$5-Tabelle3[[#This Row],[Jahr\nannée]],FSPIELER,11))","v":10}]
[20,null,null,"-",null,null,null,null,null,{"$f":"IF(ISBLANK('20'!$H$4),\"-\",'20'!$H$4)","v":"-"},{"$f":"IF(ISBLANK('20'!$H$5),\"-\",'20'!$H$5)","v":"-"},{"$f":"IF(ISBLANK('20'!$H$2),\"-\",'20'!$H$2)","v":"-"},null,null,null,null,null,null,null,{"$f":"'20'!$M$16","v":0},{"$f":"'20'!$M$20","v":0},{"$f":"'20'!$M$24","v":0},{"$f":"'20'!$M$29","v":0},{"$f":"'20'!$M$33","v":0},{"$f":"'20'!$M$37","v":0},{"$f":"'20'!$M$13","v":0},{"$f":"'20'!$AA$2","v":0},{"$f":"'20'!$AA$4","v":0},{"$f":"'20'!$AA$3","v":0},{"$f":"IF(Tabelle3[[#This Row],[SKILL]]=0,\"-\",IF(Tabelle3[[#This Row],[Sex]]=\"M\",SUMPRODUCT(Tabelle3[[#This Row],[SKILL]:[VERANLAGUNG\nPREDISPOSITION]],AJ30:AS30),SUMPRODUCT(Tabelle3[[#This Row],[SKILL]:[VERANLAGUNG\nPREDISPOSITION]],AT30:BC30)))","v":"-"},{"$f":"IFERROR(RANK(Tabelle3[[#This Row],[TOTAL ]],Tabelle3[[TOTAL ]],0),\"-\")","v":"-"},null,null,null,null,{"$f":"IF(Tabelle3[[#This Row],[Position\nG / D / FC / FW]]=\"G\",VLOOKUP($M$5-Tabelle3[[#This Row],[Jahr\nannée]],GOALI,2),VLOOKUP($M$5-Tabelle3[[#This Row],[Jahr\nannée]],SPIELER,2))","v":10},{"$f":"IF(Tabelle3[[#This Row],[Position\nG / D / FC / FW]]=\"G\",VLOOKUP($M$5-Tabelle3[[#This Row],[Jahr\nannée]],GOALI,3),VLOOKUP($M$5-Tabelle3[[#This Row],[Jahr\nannée]],SPIELER,3))","v":10},{"$f":"IF(Tabelle3[[#This Row],[Position\nG / D / FC / FW]]=\"G\",VLOOKUP($M$5-Tabelle3[[#This Row],[Jahr\nannée]],GOALI,4),VLOOKUP($M$5-Tabelle3[[#This Row],[Jahr\nannée]],SPIELER,4))","v":20},{"$f":"IF(Tabelle3[[#This Row],[Position\nG / D / FC / FW]]=\"G\",VLOOKUP($M$5-Tabelle3[[#This Row],[Jahr\nannée]],GOALI,5),VLOOKUP($M$5-Tabelle3[[#This Row],[Jahr\nannée]],SPIELER,5))","v":15},{"$f":"IF(Tabelle3[[#This Row],[Position\nG / D / FC / FW]]=\"G\",VLOOKUP($M$5-Tabelle3[[#This Row],[Jahr\nannée]],GOALI,6),VLOOKUP($M$5-Tabelle3[[#This Row],[Jahr\nannée]],SPIELER,6))","v":10},{"$f":"IF(Tabelle3[[#This Row],[Position\nG / D / FC / FW]]=\"G\",VLOOKUP($M$5-Tabelle3[[#This Row],[Jahr\nannée]],GOALI,7),VLOOKUP($M$5-Tabelle3[[#This Row],[Jahr\nannée]],SPIELER,7))","v":10},{"$f":"IF(Tabelle3[[#This Row],[Position\nG / D / FC / FW]]=\"G\",VLOOKUP($M$5-Tabelle3[[#This Row],[Jahr\nannée]],GOALI,9),VLOOKUP($M$5-Tabelle3[[#This Row],[Jahr\nannée]],SPIELER,9))","v":15},{"$f":"IF(Tabelle3[[#This Row],[Position\nG / D / FC / FW]]=\"G\",VLOOKUP($M$5-Tabelle3[[#This Row],[Jahr\nannée]],GOALI,8),VLOOKUP($M$5-Tabelle3[[#This Row],[Jahr\nannée]],SPIELER,8))","v":0},{"$f":"IF(Tabelle3[[#This Row],[Position\nG / D / FC / FW]]=\"G\",VLOOKUP($M$5-Tabelle3[[#This Row],[Jahr\nannée]],GOALI,10),VLOOKUP($M$5-Tabelle3[[#This Row],[Jahr\nannée]],SPIELER,10))","v":0},{"$f":"IF(Tabelle3[[#This Row],[Position\nG / D / FC / FW]]=\"G\",VLOOKUP($M$5-Tabelle3[[#This Row],[Jahr\nannée]],GOALI,11),VLOOKUP($M$5-Tabelle3[[#This Row],[Jahr\nannée]],SPIELER,11))","v":10},{"$f":"IF(Tabelle3[[#This Row],[Position\nG / D / FC / FW]]=\"G\",VLOOKUP($M$5-Tabelle3[[#This Row],[Jahr\nannée]],FGOALIE,2),VLOOKUP($M$5-Tabelle3[[#This Row],[Jahr\nannée]],FSPIELER,2))","v":10},{"$f":"IF(Tabelle3[[#This Row],[Position\nG / D / FC / FW]]=\"G\",VLOOKUP($M$5-Tabelle3[[#This Row],[Jahr\nannée]],FGOALIE,3),VLOOKUP($M$5-Tabelle3[[#This Row],[Jahr\nannée]],FSPIELER,3))","v":10},{"$f":"IF(Tabelle3[[#This Row],[Position\nG / D / FC / FW]]=\"G\",VLOOKUP($M$5-Tabelle3[[#This Row],[Jahr\nannée]],FGOALIE,4),VLOOKUP($M$5-Tabelle3[[#This Row],[Jahr\nannée]],FSPIELER,4))","v":20},{"$f":"IF(Tabelle3[[#This Row],[Position\nG / D / FC / FW]]=\"G\",VLOOKUP($M$5-Tabelle3[[#This Row],[Jahr\nannée]],FGOALIE,5),VLOOKUP($M$5-Tabelle3[[#This Row],[Jahr\nannée]],FSPIELER,5))","v":15},{"$f":"IF(Tabelle3[[#This Row],[Position\nG / D / FC / FW]]=\"G\",VLOOKUP($M$5-Tabelle3[[#This Row],[Jahr\nannée]],FGOALIE,6),VLOOKUP($M$5-Tabelle3[[#This Row],[Jahr\nannée]],FSPIELER,6))","v":10},{"$f":"IF(Tabelle3[[#This Row],[Position\nG / D / FC / FW]]=\"G\",VLOOKUP($M$5-Tabelle3[[#This Row],[Jahr\nannée]],FGOALIE,7),VLOOKUP($M$5-Tabelle3[[#This Row],[Jahr\nannée]],FSPIELER,7))","v":10},{"$f":"IF(Tabelle3[[#This Row],[Position\nG / D / FC / FW]]=\"G\",VLOOKUP($M$5-Tabelle3[[#This Row],[Jahr\nannée]],FGOALIE,9),VLOOKUP($M$5-Tabelle3[[#This Row],[Jahr\nannée]],FSPIELER,9))","v":15},{"$f":"IF(Tabelle3[[#This Row],[Position\nG / D / FC / FW]]=\"G\",VLOOKUP($M$5-Tabelle3[[#This Row],[Jahr\nannée]],FGOALIE,8),VLOOKUP($M$5-Tabelle3[[#This Row],[Jahr\nannée]],FSPIELER,8))","v":0},{"$f":"IF(Tabelle3[[#This Row],[Position\nG / D / FC / FW]]=\"G\",VLOOKUP($M$5-Tabelle3[[#This Row],[Jahr\nannée]],FGOALIE,10),VLOOKUP($M$5-Tabelle3[[#This Row],[Jahr\nannée]],FSPIELER,10))","v":0},{"$f":"IF(Tabelle3[[#This Row],[Position\nG / D / FC / FW]]=\"G\",VLOOKUP($M$5-Tabelle3[[#This Row],[Jahr\nannée]],FGOALIE,11),VLOOKUP($M$5-Tabelle3[[#This Row],[Jahr\nannée]],FSPIELER,11))","v":10}]
[21,null,null,"-",null,null,null,null,null,{"$f":"IF(ISBLANK('21'!$H$4),\"-\",'21'!$H$4)","v":"-"},{"$f":"IF(ISBLANK('21'!$H$5),\"-\",'21'!$H$5)","v":"-"},{"$f":"IF(ISBLANK('21'!$H$2),\"-\",'21'!$H$2)","v":"-"},null,null,null,null,null,null,null,{"$f":"'21'!$M$16","v":0},{"$f":"'21'!$M$20","v":0},{"$f":"'21'!$M$24","v":0},{"$f":"'21'!$M$29","v":0},{"$f":"'21'!$M$33","v":0},{"$f":"'21'!$M$37","v":0},{"$f":"'21'!$M$13","v":0},{"$f":"'21'!$AA$2","v":0},{"$f":"'21'!$AA$4","v":0},{"$f":"'21'!$AA$3","v":0},{"$f":"IF(Tabelle3[[#This Row],[SKILL]]=0,\"-\",IF(Tabelle3[[#This Row],[Sex]]=\"M\",SUMPRODUCT(Tabelle3[[#This Row],[SKILL]:[VERANLAGUNG\nPREDISPOSITION]],AJ31:AS31),SUMPRODUCT(Tabelle3[[#This Row],[SKILL]:[VERANLAGUNG\nPREDISPOSITION]],AT31:BC31)))","v":"-"},{"$f":"IFERROR(RANK(Tabelle3[[#This Row],[TOTAL ]],Tabelle3[[TOTAL ]],0),\"-\")","v":"-"},null,null,null,null,{"$f":"IF(Tabelle3[[#This Row],[Position\nG / D / FC / FW]]=\"G\",VLOOKUP($M$5-Tabelle3[[#This Row],[Jahr\nannée]],GOALI,2),VLOOKUP($M$5-Tabelle3[[#This Row],[Jahr\nannée]],SPIELER,2))","v":10},{"$f":"IF(Tabelle3[[#This Row],[Position\nG / D / FC / FW]]=\"G\",VLOOKUP($M$5-Tabelle3[[#This Row],[Jahr\nannée]],GOALI,3),VLOOKUP($M$5-Tabelle3[[#This Row],[Jahr\nannée]],SPIELER,3))","v":10},{"$f":"IF(Tabelle3[[#This Row],[Position\nG / D / FC / FW]]=\"G\",VLOOKUP($M$5-Tabelle3[[#This Row],[Jahr\nannée]],GOALI,4),VLOOKUP($M$5-Tabelle3[[#This Row],[Jahr\nannée]],SPIELER,4))","v":20},{"$f":"IF(Tabelle3[[#This Row],[Position\nG / D / FC / FW]]=\"G\",VLOOKUP($M$5-Tabelle3[[#This Row],[Jahr\nannée]],GOALI,5),VLOOKUP($M$5-Tabelle3[[#This Row],[Jahr\nannée]],SPIELER,5))","v":15},{"$f":"IF(Tabelle3[[#This Row],[Position\nG / D / FC / FW]]=\"G\",VLOOKUP($M$5-Tabelle3[[#This Row],[Jahr\nannée]],GOALI,6),VLOOKUP($M$5-Tabelle3[[#This Row],[Jahr\nannée]],SPIELER,6))","v":10},{"$f":"IF(Tabelle3[[#This Row],[Position\nG / D / FC / FW]]=\"G\",VLOOKUP($M$5-Tabelle3[[#This Row],[Jahr\nannée]],GOALI,7),VLOOKUP($M$5-Tabelle3[[#This Row],[Jahr\nannée]],SPIELER,7))","v":10},{"$f":"IF(Tabelle3[[#This Row],[Position\nG / D / FC / FW]]=\"G\",VLOOKUP($M$5-Tabelle3[[#This Row],[Jahr\nannée]],GOALI,9),VLOOKUP($M$5-Tabelle3[[#This Row],[Jahr\nannée]],SPIELER,9))","v":15},{"$f":"IF(Tabelle3[[#This Row],[Position\nG / D / FC / FW]]=\"G\",VLOOKUP($M$5-Tabelle3[[#This Row],[Jahr\nannée]],GOALI,8),VLOOKUP($M$5-Tabelle3[[#This Row],[Jahr\nannée]],SPIELER,8))","v":0},{"$f":"IF(Tabelle3[[#This Row],[Position\nG / D / FC / FW]]=\"G\",VLOOKUP($M$5-Tabelle3[[#This Row],[Jahr\nannée]],GOALI,10),VLOOKUP($M$5-Tabelle3[[#This Row],[Jahr\nannée]],SPIELER,10))","v":0},{"$f":"IF(Tabelle3[[#This Row],[Position\nG / D / FC / FW]]=\"G\",VLOOKUP($M$5-Tabelle3[[#This Row],[Jahr\nannée]],GOALI,11),VLOOKUP($M$5-Tabelle3[[#This Row],[Jahr\nannée]],SPIELER,11))","v":10},{"$f":"IF(Tabelle3[[#This Row],[Position\nG / D / FC / FW]]=\"G\",VLOOKUP($M$5-Tabelle3[[#This Row],[Jahr\nannée]],FGOALIE,2),VLOOKUP($M$5-Tabelle3[[#This Row],[Jahr\nannée]],FSPIELER,2))","v":10},{"$f":"IF(Tabelle3[[#This Row],[Position\nG / D / FC / FW]]=\"G\",VLOOKUP($M$5-Tabelle3[[#This Row],[Jahr\nannée]],FGOALIE,3),VLOOKUP($M$5-Tabelle3[[#This Row],[Jahr\nannée]],FSPIELER,3))","v":10},{"$f":"IF(Tabelle3[[#This Row],[Position\nG / D / FC / FW]]=\"G\",VLOOKUP($M$5-Tabelle3[[#This Row],[Jahr\nannée]],FGOALIE,4),VLOOKUP($M$5-Tabelle3[[#This Row],[Jahr\nannée]],FSPIELER,4))","v":20},{"$f":"IF(Tabelle3[[#This Row],[Position\nG / D / FC / FW]]=\"G\",VLOOKUP($M$5-Tabelle3[[#This Row],[Jahr\nannée]],FGOALIE,5),VLOOKUP($M$5-Tabelle3[[#This Row],[Jahr\nannée]],FSPIELER,5))","v":15},{"$f":"IF(Tabelle3[[#This Row],[Position\nG / D / FC / FW]]=\"G\",VLOOKUP($M$5-Tabelle3[[#This Row],[Jahr\nannée]],FGOALIE,6),VLOOKUP($M$5-Tabelle3[[#This Row],[Jahr\nannée]],FSPIELER,6))","v":10},{"$f":"IF(Tabelle3[[#This Row],[Position\nG / D / FC / FW]]=\"G\",VLOOKUP($M$5-Tabelle3[[#This Row],[Jahr\nannée]],FGOALIE,7),VLOOKUP($M$5-Tabelle3[[#This Row],[Jahr\nannée]],FSPIELER,7))","v":10},{"$f":"IF(Tabelle3[[#This Row],[Position\nG / D / FC / FW]]=\"G\",VLOOKUP($M$5-Tabelle3[[#This Row],[Jahr\nannée]],FGOALIE,9),VLOOKUP($M$5-Tabelle3[[#This Row],[Jahr\nannée]],FSPIELER,9))","v":15},{"$f":"IF(Tabelle3[[#This Row],[Position\nG / D / FC / FW]]=\"G\",VLOOKUP($M$5-Tabelle3[[#This Row],[Jahr\nannée]],FGOALIE,8),VLOOKUP($M$5-Tabelle3[[#This Row],[Jahr\nannée]],FSPIELER,8))","v":0},{"$f":"IF(Tabelle3[[#This Row],[Position\nG / D / FC / FW]]=\"G\",VLOOKUP($M$5-Tabelle3[[#This Row],[Jahr\nannée]],FGOALIE,10),VLOOKUP($M$5-Tabelle3[[#This Row],[Jahr\nannée]],FSPIELER,10))","v":0},{"$f":"IF(Tabelle3[[#This Row],[Position\nG / D / FC / FW]]=\"G\",VLOOKUP($M$5-Tabelle3[[#This Row],[Jahr\nannée]],FGOALIE,11),VLOOKUP($M$5-Tabelle3[[#This Row],[Jahr\nannée]],FSPIELER,11))","v":10}]
[22,null,null,"-",null,null,null,null,null,{"$f":"IF(ISBLANK('22'!$H$4),\"-\",'22'!$H$4)","v":"-"},{"$f":"IF(ISBLANK('22'!$H$5),\"-\",'22'!$H$5)","v":"-"},{"$f":"IF(ISBLANK('22'!$H$2),\"-\",'22'!$H$2)","v":"-"},null,null,null,null,null,null,null,{"$f":"'22'!$M$16","v":0},{"$f":"'22'!$M$20","v":0},{"$f":"'22'!$M$24","v":0},{"$f":"'22'!$M$29","v":0},{"$f":"'22'!$M$33","v":0},{"$f":"'22'!$M$37","v":0},{"$f":"'22'!$M$13","v":0},{"$f":"'22'!$AA$2","v":0},{"$f":"'22'!$AA$4","v":0},{"$f":"'22'!$AA$3","v":0},{"$f":"IF(Tabelle3[[#This Row],[SKILL]]=0,\"-\",IF(Tabelle3[[#This Row],[Sex]]=\"M\",SUMPRODUCT(Tabelle3[[#This Row],[SKILL]:[VERANLAGUNG\nPREDISPOSITION]],AJ32:AS32),SUMPRODUCT(Tabelle3[[#This Row],[SKILL]:[VERANLAGUNG\nPREDISPOSITION]],AT32:BC32)))","v":"-"},{"$f":"IFERROR(RANK(Tabelle3[[#This Row],[TOTAL ]],Tabelle3[[TOTAL ]],0),\"-\")","v":"-"},null,null,null,null,{"$f":"IF(Tabelle3[[#This Row],[Position\nG / D / FC / FW]]=\"G\",VLOOKUP($M$5-Tabelle3[[#This Row],[Jahr\nannée]],GOALI,2),VLOOKUP($M$5-Tabelle3[[#This Row],[Jahr\nannée]],SPIELER,2))","v":10},{"$f":"IF(Tabelle3[[#This Row],[Position\nG / D / FC / FW]]=\"G\",VLOOKUP($M$5-Tabelle3[[#This Row],[Jahr\nannée]],GOALI,3),VLOOKUP($M$5-Tabelle3[[#This Row],[Jahr\nannée]],SPIELER,3))","v":10},{"$f":"IF(Tabelle3[[#This Row],[Position\nG / D / FC / FW]]=\"G\",VLOOKUP($M$5-Tabelle3[[#This Row],[Jahr\nannée]],GOALI,4),VLOOKUP($M$5-Tabelle3[[#This Row],[Jahr\nannée]],SPIELER,4))","v":20},{"$f":"IF(Tabelle3[[#This Row],[Position\nG / D / FC / FW]]=\"G\",VLOOKUP($M$5-Tabelle3[[#This Row],[Jahr\nannée]],GOALI,5),VLOOKUP($M$5-Tabelle3[[#This Row],[Jahr\nannée]],SPIELER,5))","v":15},{"$f":"IF(Tabelle3[[#This Row],[Position\nG / D / FC / FW]]=\"G\",VLOOKUP($M$5-Tabelle3[[#This Row],[Jahr\nannée]],GOALI,6),VLOOKUP($M$5-Tabelle3[[#This Row],[Jahr\nannée]],SPIELER,6))","v":10},{"$f":"IF(Tabelle3[[#This Row],[Position\nG / D / FC / FW]]=\"G\",VLOOKUP($M$5-Tabelle3[[#This Row],[Jahr\nannée]],GOALI,7),VLOOKUP($M$5-Tabelle3[[#This Row],[Jahr\nannée]],SPIELER,7))","v":10},{"$f":"IF(Tabelle3[[#This Row],[Position\nG / D / FC / FW]]=\"G\",VLOOKUP($M$5-Tabelle3[[#This Row],[Jahr\nannée]],GOALI,9),VLOOKUP($M$5-Tabelle3[[#This Row],[Jahr\nannée]],SPIELER,9))","v":15},{"$f":"IF(Tabelle3[[#This Row],[Position\nG / D / FC / FW]]=\"G\",VLOOKUP($M$5-Tabelle3[[#This Row],[Jahr\nannée]],GOALI,8),VLOOKUP($M$5-Tabelle3[[#This Row],[Jahr\nannée]],SPIELER,8))","v":0},{"$f":"IF(Tabelle3[[#This Row],[Position\nG / D / FC / FW]]=\"G\",VLOOKUP($M$5-Tabelle3[[#This Row],[Jahr\nannée]],GOALI,10),VLOOKUP($M$5-Tabelle3[[#This Row],[Jahr\nannée]],SPIELER,10))","v":0},{"$f":"IF(Tabelle3[[#This Row],[Position\nG / D / FC / FW]]=\"G\",VLOOKUP($M$5-Tabelle3[[#This Row],[Jahr\nannée]],GOALI,11),VLOOKUP($M$5-Tabelle3[[#This Row],[Jahr\nannée]],SPIELER,11))","v":10},{"$f":"IF(Tabelle3[[#This Row],[Position\nG / D / FC / FW]]=\"G\",VLOOKUP($M$5-Tabelle3[[#This Row],[Jahr\nannée]],FGOALIE,2),VLOOKUP($M$5-Tabelle3[[#This Row],[Jahr\nannée]],FSPIELER,2))","v":10},{"$f":"IF(Tabelle3[[#This Row],[Position\nG / D / FC / FW]]=\"G\",VLOOKUP($M$5-Tabelle3[[#This Row],[Jahr\nannée]],FGOALIE,3),VLOOKUP($M$5-Tabelle3[[#This Row],[Jahr\nannée]],FSPIELER,3))","v":10},{"$f":"IF(Tabelle3[[#This Row],[Position\nG / D / FC / FW]]=\"G\",VLOOKUP($M$5-Tabelle3[[#This Row],[Jahr\nannée]],FGOALIE,4),VLOOKUP($M$5-Tabelle3[[#This Row],[Jahr\nannée]],FSPIELER,4))","v":20},{"$f":"IF(Tabelle3[[#This Row],[Position\nG / D / FC / FW]]=\"G\",VLOOKUP($M$5-Tabelle3[[#This Row],[Jahr\nannée]],FGOALIE,5),VLOOKUP($M$5-Tabelle3[[#This Row],[Jahr\nannée]],FSPIELER,5))","v":15},{"$f":"IF(Tabelle3[[#This Row],[Position\nG / D / FC / FW]]=\"G\",VLOOKUP($M$5-Tabelle3[[#This Row],[Jahr\nannée]],FGOALIE,6),VLOOKUP($M$5-Tabelle3[[#This Row],[Jahr\nannée]],FSPIELER,6))","v":10},{"$f":"IF(Tabelle3[[#This Row],[Position\nG / D / FC / FW]]=\"G\",VLOOKUP($M$5-Tabelle3[[#This Row],[Jahr\nannée]],FGOALIE,7),VLOOKUP($M$5-Tabelle3[[#This Row],[Jahr\nannée]],FSPIELER,7))","v":10},{"$f":"IF(Tabelle3[[#This Row],[Position\nG / D / FC / FW]]=\"G\",VLOOKUP($M$5-Tabelle3[[#This Row],[Jahr\nannée]],FGOALIE,9),VLOOKUP($M$5-Tabelle3[[#This Row],[Jahr\nannée]],FSPIELER,9))","v":15},{"$f":"IF(Tabelle3[[#This Row],[Position\nG / D / FC / FW]]=\"G\",VLOOKUP($M$5-Tabelle3[[#This Row],[Jahr\nannée]],FGOALIE,8),VLOOKUP($M$5-Tabelle3[[#This Row],[Jahr\nannée]],FSPIELER,8))","v":0},{"$f":"IF(Tabelle3[[#This Row],[Position\nG / D / FC / FW]]=\"G\",VLOOKUP($M$5-Tabelle3[[#This Row],[Jahr\nannée]],FGOALIE,10),VLOOKUP($M$5-Tabelle3[[#This Row],[Jahr\nannée]],FSPIELER,10))","v":0},{"$f":"IF(Tabelle3[[#This Row],[Position\nG / D / FC / FW]]=\"G\",VLOOKUP($M$5-Tabelle3[[#This Row],[Jahr\nannée]],FGOALIE,11),VLOOKUP($M$5-Tabelle3[[#This Row],[Jahr\nannée]],FSPIELER,11))","v":10}]
[23,null,null,"-",null,null,null,null,null,{"$f":"IF(ISBLANK('23'!$H$4),\"-\",'23'!$H$4)","v":"-"},{"$f":"IF(ISBLANK('23'!$H$5),\"-\",'23'!$H$5)","v":"-"},{"$f":"IF(ISBLANK('23'!$H$2),\"-\",'23'!$H$2)","v":"-"},null,null,null,null,null,null,null,{"$f":"'23'!$M$16","v":0},{"$f":"'23'!$M$20","v":0},{"$f":"'23'!$M$24","v":0},{"$f":"'23'!$M$29","v":0},{"$f":"'23'!$M$33","v":0},{"$f":"'23'!$M$37","v":0},{"$f":"'23'!$M$13","v":0},{"$f":"'23'!$AA$2","v":0},{"$f":"'23'!$AA$4","v":0},{"$f":"'23'!$AA$3","v":0},{"$f":"IF(Tabelle3[[#This Row],[SKILL]]=0,\"-\",IF(Tabelle3[[#This Row],[Sex]]=\"M\",SUMPRODUCT(Tabelle3[[#This Row],[SKILL]:[VERANLAGUNG\nPREDISPOSITION]],AJ33:AS33),SUMPRODUCT(Tabelle3[[#This Row],[SKILL]:[VERANLAGUNG\nPREDISPOSITION]],AT33:BC33)))","v":"-"},{"$f":"IFERROR(RANK(Tabelle3[[#This Row],[TOTAL ]],Tabelle3[[TOTAL ]],0),\"-\")","v":"-"},null,null,null,null,{"$f":"IF(Tabelle3[[#This Row],[Position\nG / D / FC / FW]]=\"G\",VLOOKUP($M$5-Tabelle3[[#This Row],[Jahr\nannée]],GOALI,2),VLOOKUP($M$5-Tabelle3[[#This Row],[Jahr\nannée]],SPIELER,2))","v":10},{"$f":"IF(Tabelle3[[#This Row],[Position\nG / D / FC / FW]]=\"G\",VLOOKUP($M$5-Tabelle3[[#This Row],[Jahr\nannée]],GOALI,3),VLOOKUP($M$5-Tabelle3[[#This Row],[Jahr\nannée]],SPIELER,3))","v":10},{"$f":"IF(Tabelle3[[#This Row],[Position\nG / D / FC / FW]]=\"G\",VLOOKUP($M$5-Tabelle3[[#This Row],[Jahr\nannée]],GOALI,4),VLOOKUP($M$5-Tabelle3[[#This Row],[Jahr\nannée]],SPIELER,4))","v":20},{"$f":"IF(Tabelle3[[#This Row],[Position\nG / D / FC / FW]]=\"G\",VLOOKUP($M$5-Tabelle3[[#This Row],[Jahr\nannée]],GOALI,5),VLOOKUP($M$5-Tabelle3[[#This Row],[Jahr\nannée]],SPIELER,5))","v":15},{"$f":"IF(Tabelle3[[#This Row],[Position\nG / D / FC / FW]]=\"G\",VLOOKUP($M$5-Tabelle3[[#This Row],[Jahr\nannée]],GOALI,6),VLOOKUP($M$5-Tabelle3[[#This Row],[Jahr\nannée]],SPIELER,6))","v":10},{"$f":"IF(Tabelle3[[#This Row],[Position\nG / D / FC / FW]]=\"G\",VLOOKUP($M$5-Tabelle3[[#This Row],[Jahr\nannée]],GOALI,7),VLOOKUP($M$5-Tabelle3[[#This Row],[Jahr\nannée]],SPIELER,7))","v":10},{"$f":"IF(Tabelle3[[#This Row],[Position\nG / D / FC / FW]]=\"G\",VLOOKUP($M$5-Tabelle3[[#This Row],[Jahr\nannée]],GOALI,9),VLOOKUP($M$5-Tabelle3[[#This Row],[Jahr\nannée]],SPIELER,9))","v":15},{"$f":"IF(Tabelle3[[#This Row],[Position\nG / D / FC / FW]]=\"G\",VLOOKUP($M$5-Tabelle3[[#This Row],[Jahr\nannée]],GOALI,8),VLOOKUP($M$5-Tabelle3[[#This Row],[Jahr\nannée]],SPIELER,8))","v":0},{"$f":"IF(Tabelle3[[#This Row],[Position\nG / D / FC / FW]]=\"G\",VLOOKUP($M$5-Tabelle3[[#This Row],[Jahr\nannée]],GOALI,10),VLOOKUP($M$5-Tabelle3[[#This Row],[Jahr\nannée]],SPIELER,10))","v":0},{"$f":"IF(Tabelle3[[#This Row],[Position\nG / D / FC / FW]]=\"G\",VLOOKUP($M$5-Tabelle3[[#This Row],[Jahr\nannée]],GOALI,11),VLOOKUP($M$5-Tabelle3[[#This Row],[Jahr\nannée]],SPIELER,11))","v":10},{"$f":"IF(Tabelle3[[#This Row],[Position\nG / D / FC / FW]]=\"G\",VLOOKUP($M$5-Tabelle3[[#This Row],[Jahr\nannée]],FGOALIE,2),VLOOKUP($M$5-Tabelle3[[#This Row],[Jahr\nannée]],FSPIELER,2))","v":10},{"$f":"IF(Tabelle3[[#This Row],[Position\nG / D / FC / FW]]=\"G\",VLOOKUP($M$5-Tabelle3[[#This Row],[Jahr\nannée]],FGOALIE,3),VLOOKUP($M$5-Tabelle3[[#This Row],[Jahr\nannée]],FSPIELER,3))","v":10},{"$f":"IF(Tabelle3[[#This Row],[Position\nG / D / FC / FW]]=\"G\",VLOOKUP($M$5-Tabelle3[[#This Row],[Jahr\nannée]],FGOALIE,4),VLOOKUP($M$5-Tabelle3[[#This Row],[Jahr\nannée]],FSPIELER,4))","v":20},{"$f":"IF(Tabelle3[[#This Row],[Position\nG / D / FC / FW]]=\"G\",VLOOKUP($M$5-Tabelle3[[#This Row],[Jahr\nannée]],FGOALIE,5),VLOOKUP($M$5-Tabelle3[[#This Row],[Jahr\nannée]],FSPIELER,5))","v":15},{"$f":"IF(Tabelle3[[#This Row],[Position\nG / D / FC / FW]]=\"G\",VLOOKUP($M$5-Tabelle3[[#This Row],[Jahr\nannée]],FGOALIE,6),VLOOKUP($M$5-Tabelle3[[#This Row],[Jahr\nannée]],FSPIELER,6))","v":10},{"$f":"IF(Tabelle3[[#This Row],[Position\nG / D / FC / FW]]=\"G\",VLOOKUP($M$5-Tabelle3[[#This Row],[Jahr\nannée]],FGOALIE,7),VLOOKUP($M$5-Tabelle3[[#This Row],[Jahr\nannée]],FSPIELER,7))","v":10},{"$f":"IF(Tabelle3[[#This Row],[Position\nG / D / FC / FW]]=\"G\",VLOOKUP($M$5-Tabelle3[[#This Row],[Jahr\nannée]],FGOALIE,9),VLOOKUP($M$5-Tabelle3[[#This Row],[Jahr\nannée]],FSPIELER,9))","v":15},{"$f":"IF(Tabelle3[[#This Row],[Position\nG / D / FC / FW]]=\"G\",VLOOKUP($M$5-Tabelle3[[#This Row],[Jahr\nannée]],FGOALIE,8),VLOOKUP($M$5-Tabelle3[[#This Row],[Jahr\nannée]],FSPIELER,8))","v":0},{"$f":"IF(Tabelle3[[#This Row],[Position\nG / D / FC / FW]]=\"G\",VLOOKUP($M$5-Tabelle3[[#This Row],[Jahr\nannée]],FGOALIE,10),VLOOKUP($M$5-Tabelle3[[#This Row],[Jahr\nannée]],FSPIELER,10))","v":0},{"$f":"IF(Tabelle3[[#This Row],[Position\nG / D / FC / FW]]=\"G\",VLOOKUP($M$5-Tabelle3[[#This Row],[Jahr\nannée]],FGOALIE,11),VLOOKUP($M$5-Tabelle3[[#This Row],[Jahr\nannée]],FSPIELER,11))","v":10}]
[24,null,null,"-",null,null,null,null,null,{"$f":"IF(ISBLANK('24'!$H$4),\"-\",'24'!$H$4)","v":"-"},{"$f":"IF(ISBLANK('24'!$H$5),\"-\",'24'!$H$5)","v":"-"},{"$f":"IF(ISBLANK('24'!$H$2),\"-\",'24'!$H$2)","v":"-"},null,null,null,null,null,null,null,{"$f":"'24'!$M$16","v":0},{"$f":"'24'!$M$20","v":0},{"$f":"'24'!$M$24","v":0},{"$f":"'24'!$M$29","v":0},{"$f":"'24'!$M$33","v":0},{"$f":"'24'!$M$37","v":0},{"$f":"'24'!$M$13","v":0},{"$f":"'24'!$AA$2","v":0},{"$f":"'24'!$AA$4","v":0},{"$f":"'24'!$AA$3","v":0},{"$f":"IF(Tabelle3[[#This Row],[SKILL]]=0,\"-\",IF(Tabelle3[[#This Row],[Sex]]=\"M\",SUMPRODUCT(Tabelle3[[#This Row],[SKILL]:[VERANLAGUNG\nPREDISPOSITION]],AJ34:AS34),SUMPRODUCT(Tabelle3[[#This Row],[SKILL]:[VERANLAGUNG\nPREDISPOSITION]],AT34:BC34)))","v":"-"},{"$f":"IFERROR(RANK(Tabelle3[[#This Row],[TOTAL ]],Tabelle3[[TOTAL ]],0),\"-\")","v":"-"},null,null,null,null,{"$f":"IF(Tabelle3[[#This Row],[Position\nG / D / FC / FW]]=\"G\",VLOOKUP($M$5-Tabelle3[[#This Row],[Jahr\nannée]],GOALI,2),VLOOKUP($M$5-Tabelle3[[#This Row],[Jahr\nannée]],SPIELER,2))","v":10},{"$f":"IF(Tabelle3[[#This Row],[Position\nG / D / FC / FW]]=\"G\",VLOOKUP($M$5-Tabelle3[[#This Row],[Jahr\nannée]],GOALI,3),VLOOKUP($M$5-Tabelle3[[#This Row],[Jahr\nannée]],SPIELER,3))","v":10},{"$f":"IF(Tabelle3[[#This Row],[Position\nG / D / FC / FW]]=\"G\",VLOOKUP($M$5-Tabelle3[[#This Row],[Jahr\nannée]],GOALI,4),VLOOKUP($M$5-Tabelle3[[#This Row],[Jahr\nannée]],SPIELER,4))","v":20},{"$f":"IF(Tabelle3[[#This Row],[Position\nG / D / FC / FW]]=\"G\",VLOOKUP($M$5-Tabelle3[[#This Row],[Jahr\nannée]],GOALI,5),VLOOKUP($M$5-Tabelle3[[#This Row],[Jahr\nannée]],SPIELER,5))","v":15},{"$f":"IF(Tabelle3[[#This Row],[Position\nG / D / FC / FW]]=\"G\",VLOOKUP($M$5-Tabelle3[[#This Row],[Jahr\nannée]],GOALI,6),VLOOKUP($M$5-Tabelle3[[#This Row],[Jahr\nannée]],SPIELER,6))","v":10},{"$f":"IF(Tabelle3[[#This Row],[Position\nG / D / FC / FW]]=\"G\",VLOOKUP($M$5-Tabelle3[[#This Row],[Jahr\nannée]],GOALI,7),VLOOKUP($M$5-Tabelle3[[#This Row],[Jahr\nannée]],SPIELER,7))","v":10},{"$f":"IF(Tabelle3[[#This Row],[Position\nG / D / FC / FW]]=\"G\",VLOOKUP($M$5-Tabelle3[[#This Row],[Jahr\nannée]],GOALI,9),VLOOKUP($M$5-Tabelle3[[#This Row],[Jahr\nannée]],SPIELER,9))","v":15},{"$f":"IF(Tabelle3[[#This Row],[Position\nG / D / FC / FW]]=\"G\",VLOOKUP($M$5-Tabelle3[[#This Row],[Jahr\nannée]],GOALI,8),VLOOKUP($M$5-Tabelle3[[#This Row],[Jahr\nannée]],SPIELER,8))","v":0},{"$f":"IF(Tabelle3[[#This Row],[Position\nG / D / FC / FW]]=\"G\",VLOOKUP($M$5-Tabelle3[[#This Row],[Jahr\nannée]],GOALI,10),VLOOKUP($M$5-Tabelle3[[#This Row],[Jahr\nannée]],SPIELER,10))","v":0},{"$f":"IF(Tabelle3[[#This Row],[Position\nG / D / FC / FW]]=\"G\",VLOOKUP($M$5-Tabelle3[[#This Row],[Jahr\nannée]],GOALI,11),VLOOKUP($M$5-Tabelle3[[#This Row],[Jahr\nannée]],SPIELER,11))","v":10},{"$f":"IF(Tabelle3[[#This Row],[Position\nG / D / FC / FW]]=\"G\",VLOOKUP($M$5-Tabelle3[[#This Row],[Jahr\nannée]],FGOALIE,2),VLOOKUP($M$5-Tabelle3[[#This Row],[Jahr\nannée]],FSPIELER,2))","v":10},{"$f":"IF(Tabelle3[[#This Row],[Position\nG / D / FC / FW]]=\"G\",VLOOKUP($M$5-Tabelle3[[#This Row],[Jahr\nannée]],FGOALIE,3),VLOOKUP($M$5-Tabelle3[[#This Row],[Jahr\nannée]],FSPIELER,3))","v":10},{"$f":"IF(Tabelle3[[#This Row],[Position\nG / D / FC / FW]]=\"G\",VLOOKUP($M$5-Tabelle3[[#This Row],[Jahr\nannée]],FGOALIE,4),VLOOKUP($M$5-Tabelle3[[#This Row],[Jahr\nannée]],FSPIELER,4))","v":20},{"$f":"IF(Tabelle3[[#This Row],[Position\nG / D / FC / FW]]=\"G\",VLOOKUP($M$5-Tabelle3[[#This Row],[Jahr\nannée]],FGOALIE,5),VLOOKUP($M$5-Tabelle3[[#This Row],[Jahr\nannée]],FSPIELER,5))","v":15},{"$f":"IF(Tabelle3[[#This Row],[Position\nG / D / FC / FW]]=\"G\",VLOOKUP($M$5-Tabelle3[[#This Row],[Jahr\nannée]],FGOALIE,6),VLOOKUP($M$5-Tabelle3[[#This Row],[Jahr\nannée]],FSPIELER,6))","v":10},{"$f":"IF(Tabelle3[[#This Row],[Position\nG / D / FC / FW]]=\"G\",VLOOKUP($M$5-Tabelle3[[#This Row],[Jahr\nannée]],FGOALIE,7),VLOOKUP($M$5-Tabelle3[[#This Row],[Jahr\nannée]],FSPIELER,7))","v":10},{"$f":"IF(Tabelle3[[#This Row],[Position\nG / D / FC / FW]]=\"G\",VLOOKUP($M$5-Tabelle3[[#This Row],[Jahr\nannée]],FGOALIE,9),VLOOKUP($M$5-Tabelle3[[#This Row],[Jahr\nannée]],FSPIELER,9))","v":15},{"$f":"IF(Tabelle3[[#This Row],[Position\nG / D / FC / FW]]=\"G\",VLOOKUP($M$5-Tabelle3[[#This Row],[Jahr\nannée]],FGOALIE,8),VLOOKUP($M$5-Tabelle3[[#This Row],[Jahr\nannée]],FSPIELER,8))","v":0},{"$f":"IF(Tabelle3[[#This Row],[Position\nG / D / FC / FW]]=\"G\",VLOOKUP($M$5-Tabelle3[[#This Row],[Jahr\nannée]],FGOALIE,10),VLOOKUP($M$5-Tabelle3[[#This Row],[Jahr\nannée]],FSPIELER,10))","v":0},{"$f":"IF(Tabelle3[[#This Row],[Position\nG / D / FC / FW]]=\"G\",VLOOKUP($M$5-Tabelle3[[#This Row],[Jahr\nannée]],FGOALIE,11),VLOOKUP($M$5-Tabelle3[[#This Row],[Jahr\nannée]],FSPIELER,11))","v":10}]
[25,null,null,"-",null,null,null,null,null,{"$f":"IF(ISBLANK('25'!$H$4),\"-\",'25'!$H$4)","v":"-"},{"$f":"IF(ISBLANK('25'!$H$5),\"-\",'25'!$H$5)","v":"-"},{"$f":"IF(ISBLANK('25'!$H$2),\"-\",'25'!$H$2)","v":"-"},null,null,null,null,null,null,null,{"$f":"'25'!$M$16","v":0},{"$f":"'25'!$M$20","v":0},{"$f":"'25'!$M$24","v":0},{"$f":"'25'!$M$29","v":0},{"$f":"'25'!$M$33","v":0},{"$f":"'25'!$M$37","v":0},{"$f":"'25'!$M$13","v":0},{"$f":"'25'!$AA$2","v":0},{"$f":"'25'!$AA$4","v":0},{"$f":"'25'!$AA$3","v":0},{"$f":"IF(Tabelle3[[#This Row],[SKILL]]=0,\"-\",IF(Tabelle3[[#This Row],[Sex]]=\"M\",SUMPRODUCT(Tabelle3[[#This Row],[SKILL]:[VERANLAGUNG\nPREDISPOSITION]],AJ35:AS35),SUMPRODUCT(Tabelle3[[#This Row],[SKILL]:[VERANLAGUNG\nPREDISPOSITION]],AT35:BC35)))","v":"-"},{"$f":"IFERROR(RANK(Tabelle3[[#This Row],[TOTAL ]],Tabelle3[[TOTAL ]],0),\"-\")","v":"-"},null,null,null,null,{"$f":"IF(Tabelle3[[#This Row],[Position\nG / D / FC / FW]]=\"G\",VLOOKUP($M$5-Tabelle3[[#This Row],[Jahr\nannée]],GOALI,2),VLOOKUP($M$5-Tabelle3[[#This Row],[Jahr\nannée]],SPIELER,2))","v":10},{"$f":"IF(Tabelle3[[#This Row],[Position\nG / D / FC / FW]]=\"G\",VLOOKUP($M$5-Tabelle3[[#This Row],[Jahr\nannée]],GOALI,3),VLOOKUP($M$5-Tabelle3[[#This Row],[Jahr\nannée]],SPIELER,3))","v":10},{"$f":"IF(Tabelle3[[#This Row],[Position\nG / D / FC / FW]]=\"G\",VLOOKUP($M$5-Tabelle3[[#This Row],[Jahr\nannée]],GOALI,4),VLOOKUP($M$5-Tabelle3[[#This Row],[Jahr\nannée]],SPIELER,4))","v":20},{"$f":"IF(Tabelle3[[#This Row],[Position\nG / D / FC / FW]]=\"G\",VLOOKUP($M$5-Tabelle3[[#This Row],[Jahr\nannée]],GOALI,5),VLOOKUP($M$5-Tabelle3[[#This Row],[Jahr\nannée]],SPIELER,5))","v":15},{"$f":"IF(Tabelle3[[#This Row],[Position\nG / D / FC / FW]]=\"G\",VLOOKUP($M$5-Tabelle3[[#This Row],[Jahr\nannée]],GOALI,6),VLOOKUP($M$5-Tabelle3[[#This Row],[Jahr\nannée]],SPIELER,6))","v":10},{"$f":"IF(Tabelle3[[#This Row],[Position\nG / D / FC / FW]]=\"G\",VLOOKUP($M$5-Tabelle3[[#This Row],[Jahr\nannée]],GOALI,7),VLOOKUP($M$5-Tabelle3[[#This Row],[Jahr\nannée]],SPIELER,7))","v":10},{"$f":"IF(Tabelle3[[#This Row],[Position\nG / D / FC / FW]]=\"G\",VLOOKUP($M$5-Tabelle3[[#This Row],[Jahr\nannée]],GOALI,9),VLOOKUP($M$5-Tabelle3[[#This Row],[Jahr\nannée]],SPIELER,9))","v":15},{"$f":"IF(Tabelle3[[#This Row],[Position\nG / D / FC / FW]]=\"G\",VLOOKUP($M$5-Tabelle3[[#This Row],[Jahr\nannée]],GOALI,8),VLOOKUP($M$5-Tabelle3[[#This Row],[Jahr\nannée]],SPIELER,8))","v":0},{"$f":"IF(Tabelle3[[#This Row],[Position\nG / D / FC / FW]]=\"G\",VLOOKUP($M$5-Tabelle3[[#This Row],[Jahr\nannée]],GOALI,10),VLOOKUP($M$5-Tabelle3[[#This Row],[Jahr\nannée]],SPIELER,10))","v":0},{"$f":"IF(Tabelle3[[#This Row],[Position\nG / D / FC / FW]]=\"G\",VLOOKUP($M$5-Tabelle3[[#This Row],[Jahr\nannée]],GOALI,11),VLOOKUP($M$5-Tabelle3[[#This Row],[Jahr\nannée]],SPIELER,11))","v":10},{"$f":"IF(Tabelle3[[#This Row],[Position\nG / D / FC / FW]]=\"G\",VLOOKUP($M$5-Tabelle3[[#This Row],[Jahr\nannée]],FGOALIE,2),VLOOKUP($M$5-Tabelle3[[#This Row],[Jahr\nannée]],FSPIELER,2))","v":10},{"$f":"IF(Tabelle3[[#This Row],[Position\nG / D / FC / FW]]=\"G\",VLOOKUP($M$5-Tabelle3[[#This Row],[Jahr\nannée]],FGOALIE,3),VLOOKUP($M$5-Tabelle3[[#This Row],[Jahr\nannée]],FSPIELER,3))","v":10},{"$f":"IF(Tabelle3[[#This Row],[Position\nG / D / FC / FW]]=\"G\",VLOOKUP($M$5-Tabelle3[[#This Row],[Jahr\nannée]],FGOALIE,4),VLOOKUP($M$5-Tabelle3[[#This Row],[Jahr\nannée]],FSPIELER,4))","v":20},{"$f":"IF(Tabelle3[[#This Row],[Position\nG / D / FC / FW]]=\"G\",VLOOKUP($M$5-Tabelle3[[#This Row],[Jahr\nannée]],FGOALIE,5),VLOOKUP($M$5-Tabelle3[[#This Row],[Jahr\nannée]],FSPIELER,5))","v":15},{"$f":"IF(Tabelle3[[#This Row],[Position\nG / D / FC / FW]]=\"G\",VLOOKUP($M$5-Tabelle3[[#This Row],[Jahr\nannée]],FGOALIE,6),VLOOKUP($M$5-Tabelle3[[#This Row],[Jahr\nannée]],FSPIELER,6))","v":10},{"$f":"IF(Tabelle3[[#This Row],[Position\nG / D / FC / FW]]=\"G\",VLOOKUP($M$5-Tabelle3[[#This Row],[Jahr\nannée]],FGOALIE,7),VLOOKUP($M$5-Tabelle3[[#This Row],[Jahr\nannée]],FSPIELER,7))","v":10},{"$f":"IF(Tabelle3[[#This Row],[Position\nG / D / FC / FW]]=\"G\",VLOOKUP($M$5-Tabelle3[[#This Row],[Jahr\nannée]],FGOALIE,9),VLOOKUP($M$5-Tabelle3[[#This Row],[Jahr\nannée]],FSPIELER,9))","v":15},{"$f":"IF(Tabelle3[[#This Row],[Position\nG / D / FC / FW]]=\"G\",VLOOKUP($M$5-Tabelle3[[#This Row],[Jahr\nannée]],FGOALIE,8),VLOOKUP($M$5-Tabelle3[[#This Row],[Jahr\nannée]],FSPIELER,8))","v":0},{"$f":"IF(Tabelle3[[#This Row],[Position\nG / D / FC / FW]]=\"G\",VLOOKUP($M$5-Tabelle3[[#This Row],[Jahr\nannée]],FGOALIE,10),VLOOKUP($M$5-Tabelle3[[#This Row],[Jahr\nannée]],FSPIELER,10))","v":0},{"$f":"IF(Tabelle3[[#This Row],[Position\nG / D / FC / FW]]=\"G\",VLOOKUP($M$5-Tabelle3[[#This Row],[Jahr\nannée]],FGOALIE,11),VLOOKUP($M$5-Tabelle3[[#This Row],[Jahr\nannée]],FSPIELER,11))","v":10}]
[26,null,null,"-",null,null,null,null,null,{"$f":"IF(ISBLANK('26'!$H$4),\"-\",'26'!$H$4)","v":"-"},{"$f":"IF(ISBLANK('26'!$H$5),\"-\",'26'!$H$5)","v":"-"},{"$f":"IF(ISBLANK('26'!$H$2),\"-\",'26'!$H$2)","v":"-"},null,null,null,null,null,null,null,{"$f":"'26'!$M$16","v":0},{"$f":"'26'!$M$20","v":0},{"$f":"'26'!$M$24","v":0},{"$f":"'26'!$M$29","v":0},{"$f":"'26'!$M$33","v":0},{"$f":"'26'!$M$37","v":0},{"$f":"'26'!$M$13","v":0},{"$f":"'26'!$AA$2","v":0},{"$f":"'26'!$AA$4","v":0},{"$f":"'26'!$AA$3","v":0},{"$f":"IF(Tabelle3[[#This Row],[SKILL]]=0,\"-\",IF(Tabelle3[[#This Row],[Sex]]=\"M\",SUMPRODUCT(Tabelle3[[#This Row],[SKILL]:[VERANLAGUNG\nPREDISPOSITION]],AJ36:AS36),SUMPRODUCT(Tabelle3[[#This Row],[SKILL]:[VERANLAGUNG\nPREDISPOSITION]],AT36:BC36)))","v":"-"},{"$f":"IFERROR(RANK(Tabelle3[[#This Row],[TOTAL ]],Tabelle3[[TOTAL ]],0),\"-\")","v":"-"},null,null,null,null,{"$f":"IF(Tabelle3[[#This Row],[Position\nG / D / FC / FW]]=\"G\",VLOOKUP($M$5-Tabelle3[[#This Row],[Jahr\nannée]],GOALI,2),VLOOKUP($M$5-Tabelle3[[#This Row],[Jahr\nannée]],SPIELER,2))","v":10},{"$f":"IF(Tabelle3[[#This Row],[Position\nG / D / FC / FW]]=\"G\",VLOOKUP($M$5-Tabelle3[[#This Row],[Jahr\nannée]],GOALI,3),VLOOKUP($M$5-Tabelle3[[#This Row],[Jahr\nannée]],SPIELER,3))","v":10},{"$f":"IF(Tabelle3[[#This Row],[Position\nG / D / FC / FW]]=\"G\",VLOOKUP($M$5-Tabelle3[[#This Row],[Jahr\nannée]],GOALI,4),VLOOKUP($M$5-Tabelle3[[#This Row],[Jahr\nannée]],SPIELER,4))","v":20},{"$f":"IF(Tabelle3[[#This Row],[Position\nG / D / FC / FW]]=\"G\",VLOOKUP($M$5-Tabelle3[[#This Row],[Jahr\nannée]],GOALI,5),VLOOKUP($M$5-Tabelle3[[#This Row],[Jahr\nannée]],SPIELER,5))","v":15},{"$f":"IF(Tabelle3[[#This Row],[Position\nG / D / FC / FW]]=\"G\",VLOOKUP($M$5-Tabelle3[[#This Row],[Jahr\nannée]],GOALI,6),VLOOKUP($M$5-Tabelle3[[#This Row],[Jahr\nannée]],SPIELER,6))","v":10},{"$f":"IF(Tabelle3[[#This Row],[Position\nG / D / FC / FW]]=\"G\",VLOOKUP($M$5-Tabelle3[[#This Row],[Jahr\nannée]],GOALI,7),VLOOKUP($M$5-Tabelle3[[#This Row],[Jahr\nannée]],SPIELER,7))","v":10},{"$f":"IF(Tabelle3[[#This Row],[Position\nG / D / FC / FW]]=\"G\",VLOOKUP($M$5-Tabelle3[[#This Row],[Jahr\nannée]],GOALI,9),VLOOKUP($M$5-Tabelle3[[#This Row],[Jahr\nannée]],SPIELER,9))","v":15},{"$f":"IF(Tabelle3[[#This Row],[Position\nG / D / FC / FW]]=\"G\",VLOOKUP($M$5-Tabelle3[[#This Row],[Jahr\nannée]],GOALI,8),VLOOKUP($M$5-Tabelle3[[#This Row],[Jahr\nannée]],SPIELER,8))","v":0},{"$f":"IF(Tabelle3[[#This Row],[Position\nG / D / FC / FW]]=\"G\",VLOOKUP($M$5-Tabelle3[[#This Row],[Jahr\nannée]],GOALI,10),VLOOKUP($M$5-Tabelle3[[#This Row],[Jahr\nannée]],SPIELER,10))","v":0},{"$f":"IF(Tabelle3[[#This Row],[Position\nG / D / FC / FW]]=\"G\",VLOOKUP($M$5-Tabelle3[[#This Row],[Jahr\nannée]],GOALI,11),VLOOKUP($M$5-Tabelle3[[#This Row],[Jahr\nannée]],SPIELER,11))","v":10},{"$f":"IF(Tabelle3[[#This Row],[Position\nG / D / FC / FW]]=\"G\",VLOOKUP($M$5-Tabelle3[[#This Row],[Jahr\nannée]],FGOALIE,2),VLOOKUP($M$5-Tabelle3[[#This Row],[Jahr\nannée]],FSPIELER,2))","v":10},{"$f":"IF(Tabelle3[[#This Row],[Position\nG / D / FC / FW]]=\"G\",VLOOKUP($M$5-Tabelle3[[#This Row],[Jahr\nannée]],FGOALIE,3),VLOOKUP($M$5-Tabelle3[[#This Row],[Jahr\nannée]],FSPIELER,3))","v":10},{"$f":"IF(Tabelle3[[#This Row],[Position\nG / D / FC / FW]]=\"G\",VLOOKUP($M$5-Tabelle3[[#This Row],[Jahr\nannée]],FGOALIE,4),VLOOKUP($M$5-Tabelle3[[#This Row],[Jahr\nannée]],FSPIELER,4))","v":20},{"$f":"IF(Tabelle3[[#This Row],[Position\nG / D / FC / FW]]=\"G\",VLOOKUP($M$5-Tabelle3[[#This Row],[Jahr\nannée]],FGOALIE,5),VLOOKUP($M$5-Tabelle3[[#This Row],[Jahr\nannée]],FSPIELER,5))","v":15},{"$f":"IF(Tabelle3[[#This Row],[Position\nG / D / FC / FW]]=\"G\",VLOOKUP($M$5-Tabelle3[[#This Row],[Jahr\nannée]],FGOALIE,6),VLOOKUP($M$5-Tabelle3[[#This Row],[Jahr\nannée]],FSPIELER,6))","v":10},{"$f":"IF(Tabelle3[[#This Row],[Position\nG / D / FC / FW]]=\"G\",VLOOKUP($M$5-Tabelle3[[#This Row],[Jahr\nannée]],FGOALIE,7),VLOOKUP($M$5-Tabelle3[[#This Row],[Jahr\nannée]],FSPIELER,7))","v":10},{"$f":"IF(Tabelle3[[#This Row],[Position\nG / D / FC / FW]]=\"G\",VLOOKUP($M$5-Tabelle3[[#This Row],[Jahr\nannée]],FGOALIE,9),VLOOKUP($M$5-Tabelle3[[#This Row],[Jahr\nannée]],FSPIELER,9))","v":15},{"$f":"IF(Tabelle3[[#This Row],[Position\nG / D / FC / FW]]=\"G\",VLOOKUP($M$5-Tabelle3[[#This Row],[Jahr\nannée]],FGOALIE,8),VLOOKUP($M$5-Tabelle3[[#This Row],[Jahr\nannée]],FSPIELER,8))","v":0},{"$f":"IF(Tabelle3[[#This Row],[Position\nG / D / FC / FW]]=\"G\",VLOOKUP($M$5-Tabelle3[[#This Row],[Jahr\nannée]],FGOALIE,10),VLOOKUP($M$5-Tabelle3[[#This Row],[Jahr\nannée]],FSPIELER,10))","v":0},{"$f":"IF(Tabelle3[[#This Row],[Position\nG / D / FC / FW]]=\"G\",VLOOKUP($M$5-Tabelle3[[#This Row],[Jahr\nannée]],FGOALIE,11),VLOOKUP($M$5-Tabelle3[[#This Row],[Jahr\nannée]],FSPIELER,11))","v":10}]
[27,null,null,"-",null,null,null,null,null,{"$f":"IF(ISBLANK('27'!$H$4),\"-\",'27'!$H$4)","v":"-"},{"$f":"IF(ISBLANK('27'!$H$5),\"-\",'27'!$H$5)","v":"-"},{"$f":"IF(ISBLANK('27'!$H$2),\"-\",'27'!$H$2)","v":"-"},null,null,null,null,null,null,null,{"$f":"'27'!$M$16","v":0},{"$f":"'27'!$M$20","v":0},{"$f":"'27'!$M$24","v":0},{"$f":"'27'!$M$29","v":0},{"$f":"'27'!$M$33","v":0},{"$f":"'27'!$M$37","v":0},{"$f":"'27'!$M$13","v":0},{"$f":"'27'!$AA$2","v":0},{"$f":"'27'!$AA$4","v":0},{"$f":"'27'!$AA$3","v":0},{"$f":"IF(Tabelle3[[#This Row],[SKILL]]=0,\"-\",IF(Tabelle3[[#This Row],[Sex]]=\"M\",SUMPRODUCT(Tabelle3[[#This Row],[SKILL]:[VERANLAGUNG\nPREDISPOSITION]],AJ37:AS37),SUMPRODUCT(Tabelle3[[#This Row],[SKILL]:[VERANLAGUNG\nPREDISPOSITION]],AT37:BC37)))","v":"-"},{"$f":"IFERROR(RANK(Tabelle3[[#This Row],[TOTAL ]],Tabelle3[[TOTAL ]],0),\"-\")","v":"-"},null,null,null,null,{"$f":"IF(Tabelle3[[#This Row],[Position\nG / D / FC / FW]]=\"G\",VLOOKUP($M$5-Tabelle3[[#This Row],[Jahr\nannée]],GOALI,2),VLOOKUP($M$5-Tabelle3[[#This Row],[Jahr\nannée]],SPIELER,2))","v":10},{"$f":"IF(Tabelle3[[#This Row],[Position\nG / D / FC / FW]]=\"G\",VLOOKUP($M$5-Tabelle3[[#This Row],[Jahr\nannée]],GOALI,3),VLOOKUP($M$5-Tabelle3[[#This Row],[Jahr\nannée]],SPIELER,3))","v":10},{"$f":"IF(Tabelle3[[#This Row],[Position\nG / D / FC / FW]]=\"G\",VLOOKUP($M$5-Tabelle3[[#This Row],[Jahr\nannée]],GOALI,4),VLOOKUP($M$5-Tabelle3[[#This Row],[Jahr\nannée]],SPIELER,4))","v":20},{"$f":"IF(Tabelle3[[#This Row],[Position\nG / D / FC / FW]]=\"G\",VLOOKUP($M$5-Tabelle3[[#This Row],[Jahr\nannée]],GOALI,5),VLOOKUP($M$5-Tabelle3[[#This Row],[Jahr\nannée]],SPIELER,5))","v":15},{"$f":"IF(Tabelle3[[#This Row],[Position\nG / D / FC / FW]]=\"G\",VLOOKUP($M$5-Tabelle3[[#This Row],[Jahr\nannée]],GOALI,6),VLOOKUP($M$5-Tabelle3[[#This Row],[Jahr\nannée]],SPIELER,6))","v":10},{"$f":"IF(Tabelle3[[#This Row],[Position\nG / D / FC / FW]]=\"G\",VLOOKUP($M$5-Tabelle3[[#This Row],[Jahr\nannée]],GOALI,7),VLOOKUP($M$5-Tabelle3[[#This Row],[Jahr\nannée]],SPIELER,7))","v":10},{"$f":"IF(Tabelle3[[#This Row],[Position\nG / D / FC / FW]]=\"G\",VLOOKUP($M$5-Tabelle3[[#This Row],[Jahr\nannée]],GOALI,9),VLOOKUP($M$5-Tabelle3[[#This Row],[Jahr\nannée]],SPIELER,9))","v":15},{"$f":"IF(Tabelle3[[#This Row],[Position\nG / D / FC / FW]]=\"G\",VLOOKUP($M$5-Tabelle3[[#This Row],[Jahr\nannée]],GOALI,8),VLOOKUP($M$5-Tabelle3[[#This Row],[Jahr\nannée]],SPIELER,8))","v":0},{"$f":"IF(Tabelle3[[#This Row],[Position\nG / D / FC / FW]]=\"G\",VLOOKUP($M$5-Tabelle3[[#This Row],[Jahr\nannée]],GOALI,10),VLOOKUP($M$5-Tabelle3[[#This Row],[Jahr\nannée]],SPIELER,10))","v":0},{"$f":"IF(Tabelle3[[#This Row],[Position\nG / D / FC / FW]]=\"G\",VLOOKUP($M$5-Tabelle3[[#This Row],[Jahr\nannée]],GOALI,11),VLOOKUP($M$5-Tabelle3[[#This Row],[Jahr\nannée]],SPIELER,11))","v":10},{"$f":"IF(Tabelle3[[#This Row],[Position\nG / D / FC / FW]]=\"G\",VLOOKUP($M$5-Tabelle3[[#This Row],[Jahr\nannée]],FGOALIE,2),VLOOKUP($M$5-Tabelle3[[#This Row],[Jahr\nannée]],FSPIELER,2))","v":10},{"$f":"IF(Tabelle3[[#This Row],[Position\nG / D / FC / FW]]=\"G\",VLOOKUP($M$5-Tabelle3[[#This Row],[Jahr\nannée]],FGOALIE,3),VLOOKUP($M$5-Tabelle3[[#This Row],[Jahr\nannée]],FSPIELER,3))","v":10},{"$f":"IF(Tabelle3[[#This Row],[Position\nG / D / FC / FW]]=\"G\",VLOOKUP($M$5-Tabelle3[[#This Row],[Jahr\nannée]],FGOALIE,4),VLOOKUP($M$5-Tabelle3[[#This Row],[Jahr\nannée]],FSPIELER,4))","v":20},{"$f":"IF(Tabelle3[[#This Row],[Position\nG / D / FC / FW]]=\"G\",VLOOKUP($M$5-Tabelle3[[#This Row],[Jahr\nannée]],FGOALIE,5),VLOOKUP($M$5-Tabelle3[[#This Row],[Jahr\nannée]],FSPIELER,5))","v":15},{"$f":"IF(Tabelle3[[#This Row],[Position\nG / D / FC / FW]]=\"G\",VLOOKUP($M$5-Tabelle3[[#This Row],[Jahr\nannée]],FGOALIE,6),VLOOKUP($M$5-Tabelle3[[#This Row],[Jahr\nannée]],FSPIELER,6))","v":10},{"$f":"IF(Tabelle3[[#This Row],[Position\nG / D / FC / FW]]=\"G\",VLOOKUP($M$5-Tabelle3[[#This Row],[Jahr\nannée]],FGOALIE,7),VLOOKUP($M$5-Tabelle3[[#This Row],[Jahr\nannée]],FSPIELER,7))","v":10},{"$f":"IF(Tabelle3[[#This Row],[Position\nG / D / FC / FW]]=\"G\",VLOOKUP($M$5-Tabelle3[[#This Row],[Jahr\nannée]],FGOALIE,9),VLOOKUP($M$5-Tabelle3[[#This Row],[Jahr\nannée]],FSPIELER,9))","v":15},{"$f":"IF(Tabelle3[[#This Row],[Position\nG / D / FC / FW]]=\"G\",VLOOKUP($M$5-Tabelle3[[#This Row],[Jahr\nannée]],FGOALIE,8),VLOOKUP($M$5-Tabelle3[[#This Row],[Jahr\nannée]],FSPIELER,8))","v":0},{"$f":"IF(Tabelle3[[#This Row],[Position\nG / D / FC / FW]]=\"G\",VLOOKUP($M$5-Tabelle3[[#This Row],[Jahr\nannée]],FGOALIE,10),VLOOKUP($M$5-Tabelle3[[#This Row],[Jahr\nannée]],FSPIELER,10))","v":0},{"$f":"IF(Tabelle3[[#This Row],[Position\nG / D / FC / FW]]=\"G\",VLOOKUP($M$5-Tabelle3[[#This Row],[Jahr\nannée]],FGOALIE,11),VLOOKUP($M$5-Tabelle3[[#This Row],[Jahr\nannée]],FSPIELER,11))","v":10}]
[28,null,null,"-",null,null,null,null,null,{"$f":"IF(ISBLANK('28'!$H$4),\"-\",'28'!$H$4)","v":"-"},{"$f":"IF(ISBLANK('28'!$H$5),\"-\",'28'!$H$5)","v":"-"},{"$f":"IF(ISBLANK('28'!$H$2),\"-\",'28'!$H$2)","v":"-"},null,null,null,null,null,null,null,{"$f":"'28'!$M$16","v":0},{"$f":"'28'!$M$20","v":0},{"$f":"'28'!$M$24","v":0},{"$f":"'28'!$M$29","v":0},{"$f":"'28'!$M$33","v":0},{"$f":"'28'!$M$37","v":0},{"$f":"'28'!$M$13","v":0},{"$f":"'28'!$AA$2","v":0},{"$f":"'28'!$AA$4","v":0},{"$f":"'28'!$AA$3","v":0},{"$f":"IF(Tabelle3[[#This Row],[SKILL]]=0,\"-\",IF(Tabelle3[[#This Row],[Sex]]=\"M\",SUMPRODUCT(Tabelle3[[#This Row],[SKILL]:[VERANLAGUNG\nPREDISPOSITION]],AJ38:AS38),SUMPRODUCT(Tabelle3[[#This Row],[SKILL]:[VERANLAGUNG\nPREDISPOSITION]],AT38:BC38)))","v":"-"},{"$f":"IFERROR(RANK(Tabelle3[[#This Row],[TOTAL ]],Tabelle3[[TOTAL ]],0),\"-\")","v":"-"},null,null,null,null,{"$f":"IF(Tabelle3[[#This Row],[Position\nG / D / FC / FW]]=\"G\",VLOOKUP($M$5-Tabelle3[[#This Row],[Jahr\nannée]],GOALI,2),VLOOKUP($M$5-Tabelle3[[#This Row],[Jahr\nannée]],SPIELER,2))","v":10},{"$f":"IF(Tabelle3[[#This Row],[Position\nG / D / FC / FW]]=\"G\",VLOOKUP($M$5-Tabelle3[[#This Row],[Jahr\nannée]],GOALI,3),VLOOKUP($M$5-Tabelle3[[#This Row],[Jahr\nannée]],SPIELER,3))","v":10},{"$f":"IF(Tabelle3[[#This Row],[Position\nG / D / FC / FW]]=\"G\",VLOOKUP($M$5-Tabelle3[[#This Row],[Jahr\nannée]],GOALI,4),VLOOKUP($M$5-Tabelle3[[#This Row],[Jahr\nannée]],SPIELER,4))","v":20},{"$f":"IF(Tabelle3[[#This Row],[Position\nG / D / FC / FW]]=\"G\",VLOOKUP($M$5-Tabelle3[[#This Row],[Jahr\nannée]],GOALI,5),VLOOKUP($M$5-Tabelle3[[#This Row],[Jahr\nannée]],SPIELER,5))","v":15},{"$f":"IF(Tabelle3[[#This Row],[Position\nG / D / FC / FW]]=\"G\",VLOOKUP($M$5-Tabelle3[[#This Row],[Jahr\nannée]],GOALI,6),VLOOKUP($M$5-Tabelle3[[#This Row],[Jahr\nannée]],SPIELER,6))","v":10},{"$f":"IF(Tabelle3[[#This Row],[Position\nG / D / FC / FW]]=\"G\",VLOOKUP($M$5-Tabelle3[[#This Row],[Jahr\nannée]],GOALI,7),VLOOKUP($M$5-Tabelle3[[#This Row],[Jahr\nannée]],SPIELER,7))","v":10},{"$f":"IF(Tabelle3[[#This Row],[Position\nG / D / FC / FW]]=\"G\",VLOOKUP($M$5-Tabelle3[[#This Row],[Jahr\nannée]],GOALI,9),VLOOKUP($M$5-Tabelle3[[#This Row],[Jahr\nannée]],SPIELER,9))","v":15},{"$f":"IF(Tabelle3[[#This Row],[Position\nG / D / FC / FW]]=\"G\",VLOOKUP($M$5-Tabelle3[[#This Row],[Jahr\nannée]],GOALI,8),VLOOKUP($M$5-Tabelle3[[#This Row],[Jahr\nannée]],SPIELER,8))","v":0},{"$f":"IF(Tabelle3[[#This Row],[Position\nG / D / FC / FW]]=\"G\",VLOOKUP($M$5-Tabelle3[[#This Row],[Jahr\nannée]],GOALI,10),VLOOKUP($M$5-Tabelle3[[#This Row],[Jahr\nannée]],SPIELER,10))","v":0},{"$f":"IF(Tabelle3[[#This Row],[Position\nG / D / FC / FW]]=\"G\",VLOOKUP($M$5-Tabelle3[[#This Row],[Jahr\nannée]],GOALI,11),VLOOKUP($M$5-Tabelle3[[#This Row],[Jahr\nannée]],SPIELER,11))","v":10},{"$f":"IF(Tabelle3[[#This Row],[Position\nG / D / FC / FW]]=\"G\",VLOOKUP($M$5-Tabelle3[[#This Row],[Jahr\nannée]],FGOALIE,2),VLOOKUP($M$5-Tabelle3[[#This Row],[Jahr\nannée]],FSPIELER,2))","v":10},{"$f":"IF(Tabelle3[[#This Row],[Position\nG / D / FC / FW]]=\"G\",VLOOKUP($M$5-Tabelle3[[#This Row],[Jahr\nannée]],FGOALIE,3),VLOOKUP($M$5-Tabelle3[[#This Row],[Jahr\nannée]],FSPIELER,3))","v":10},{"$f":"IF(Tabelle3[[#This Row],[Position\nG / D / FC / FW]]=\"G\",VLOOKUP($M$5-Tabelle3[[#This Row],[Jahr\nannée]],FGOALIE,4),VLOOKUP($M$5-Tabelle3[[#This Row],[Jahr\nannée]],FSPIELER,4))","v":20},{"$f":"IF(Tabelle3[[#This Row],[Position\nG / D / FC / FW]]=\"G\",VLOOKUP($M$5-Tabelle3[[#This Row],[Jahr\nannée]],FGOALIE,5),VLOOKUP($M$5-Tabelle3[[#This Row],[Jahr\nannée]],FSPIELER,5))","v":15},{"$f":"IF(Tabelle3[[#This Row],[Position\nG / D / FC / FW]]=\"G\",VLOOKUP($M$5-Tabelle3[[#This Row],[Jahr\nannée]],FGOALIE,6),VLOOKUP($M$5-Tabelle3[[#This Row],[Jahr\nannée]],FSPIELER,6))","v":10},{"$f":"IF(Tabelle3[[#This Row],[Position\nG / D / FC / FW]]=\"G\",VLOOKUP($M$5-Tabelle3[[#This Row],[Jahr\nannée]],FGOALIE,7),VLOOKUP($M$5-Tabelle3[[#This Row],[Jahr\nannée]],FSPIELER,7))","v":10},{"$f":"IF(Tabelle3[[#This Row],[Position\nG / D / FC / FW]]=\"G\",VLOOKUP($M$5-Tabelle3[[#This Row],[Jahr\nannée]],FGOALIE,9),VLOOKUP($M$5-Tabelle3[[#This Row],[Jahr\nannée]],FSPIELER,9))","v":15},{"$f":"IF(Tabelle3[[#This Row],[Position\nG / D / FC / FW]]=\"G\",VLOOKUP($M$5-Tabelle3[[#This Row],[Jahr\nannée]],FGOALIE,8),VLOOKUP($M$5-Tabelle3[[#This Row],[Jahr\nannée]],FSPIELER,8))","v":0},{"$f":"IF(Tabelle3[[#This Row],[Position\nG / D / FC / FW]]=\"G\",VLOOKUP($M$5-Tabelle3[[#This Row],[Jahr\nannée]],FGOALIE,10),VLOOKUP($M$5-Tabelle3[[#This Row],[Jahr\nannée]],FSPIELER,10))","v":0},{"$f":"IF(Tabelle3[[#This Row],[Position\nG / D / FC / FW]]=\"G\",VLOOKUP($M$5-Tabelle3[[#This Row],[Jahr\nannée]],FGOALIE,11),VLOOKUP($M$5-Tabelle3[[#This Row],[Jahr\nannée]],FSPIELER,11))","v":10}]
[29,null,null,"-",null,null,null,null,null,{"$f":"IF(ISBLANK('29'!$H$4),\"-\",'29'!$H$4)","v":"-"},{"$f":"IF(ISBLANK('29'!$H$5),\"-\",'29'!$H$5)","v":"-"},{"$f":"IF(ISBLANK('29'!$H$2),\"-\",'29'!$H$2)","v":"-"},null,null,null,null,null,null,null,{"$f":"'29'!$M$16","v":0},{"$f":"'29'!$M$20","v":0},{"$f":"'29'!$M$24","v":0},{"$f":"'29'!$M$29","v":0},{"$f":"'29'!$M$33","v":0},{"$f":"'29'!$M$37","v":0},{"$f":"'29'!$M$13","v":0},{"$f":"'29'!$AA$2","v":0},{"$f":"'29'!$AA$4","v":0},{"$f":"'29'!$AA$3","v":0},{"$f":"IF(Tabelle3[[#This Row],[SKILL]]=0,\"-\",IF(Tabelle3[[#This Row],[Sex]]=\"M\",SUMPRODUCT(Tabelle3[[#This Row],[SKILL]:[VERANLAGUNG\nPREDISPOSITION]],AJ39:AS39),SUMPRODUCT(Tabelle3[[#This Row],[SKILL]:[VERANLAGUNG\nPREDISPOSITION]],AT39:BC39)))","v":"-"},{"$f":"IFERROR(RANK(Tabelle3[[#This Row],[TOTAL ]],Tabelle3[[TOTAL ]],0),\"-\")","v":"-"},null,null,null,null,{"$f":"IF(Tabelle3[[#This Row],[Position\nG / D / FC / FW]]=\"G\",VLOOKUP($M$5-Tabelle3[[#This Row],[Jahr\nannée]],GOALI,2),VLOOKUP($M$5-Tabelle3[[#This Row],[Jahr\nannée]],SPIELER,2))","v":10},{"$f":"IF(Tabelle3[[#This Row],[Position\nG / D / FC / FW]]=\"G\",VLOOKUP($M$5-Tabelle3[[#This Row],[Jahr\nannée]],GOALI,3),VLOOKUP($M$5-Tabelle3[[#This Row],[Jahr\nannée]],SPIELER,3))","v":10},{"$f":"IF(Tabelle3[[#This Row],[Position\nG / D / FC / FW]]=\"G\",VLOOKUP($M$5-Tabelle3[[#This Row],[Jahr\nannée]],GOALI,4),VLOOKUP($M$5-Tabelle3[[#This Row],[Jahr\nannée]],SPIELER,4))","v":20},{"$f":"IF(Tabelle3[[#This Row],[Position\nG / D / FC / FW]]=\"G\",VLOOKUP($M$5-Tabelle3[[#This Row],[Jahr\nannée]],GOALI,5),VLOOKUP($M$5-Tabelle3[[#This Row],[Jahr\nannée]],SPIELER,5))","v":15},{"$f":"IF(Tabelle3[[#This Row],[Position\nG / D / FC / FW]]=\"G\",VLOOKUP($M$5-Tabelle3[[#This Row],[Jahr\nannée]],GOALI,6),VLOOKUP($M$5-Tabelle3[[#This Row],[Jahr\nannée]],SPIELER,6))","v":10},{"$f":"IF(Tabelle3[[#This Row],[Position\nG / D / FC / FW]]=\"G\",VLOOKUP($M$5-Tabelle3[[#This Row],[Jahr\nannée]],GOALI,7),VLOOKUP($M$5-Tabelle3[[#This Row],[Jahr\nannée]],SPIELER,7))","v":10},{"$f":"IF(Tabelle3[[#This Row],[Position\nG / D / FC / FW]]=\"G\",VLOOKUP($M$5-Tabelle3[[#This Row],[Jahr\nannée]],GOALI,9),VLOOKUP($M$5-Tabelle3[[#This Row],[Jahr\nannée]],SPIELER,9))","v":15},{"$f":"IF(Tabelle3[[#This Row],[Position\nG / D / FC / FW]]=\"G\",VLOOKUP($M$5-Tabelle3[[#This Row],[Jahr\nannée]],GOALI,8),VLOOKUP($M$5-Tabelle3[[#This Row],[Jahr\nannée]],SPIELER,8))","v":0},{"$f":"IF(Tabelle3[[#This Row],[Position\nG / D / FC / FW]]=\"G\",VLOOKUP($M$5-Tabelle3[[#This Row],[Jahr\nannée]],GOALI,10),VLOOKUP($M$5-Tabelle3[[#This Row],[Jahr\nannée]],SPIELER,10))","v":0},{"$f":"IF(Tabelle3[[#This Row],[Position\nG / D / FC / FW]]=\"G\",VLOOKUP($M$5-Tabelle3[[#This Row],[Jahr\nannée]],GOALI,11),VLOOKUP($M$5-Tabelle3[[#This Row],[Jahr\nannée]],SPIELER,11))","v":10},{"$f":"IF(Tabelle3[[#This Row],[Position\nG / D / FC / FW]]=\"G\",VLOOKUP($M$5-Tabelle3[[#This Row],[Jahr\nannée]],FGOALIE,2),VLOOKUP($M$5-Tabelle3[[#This Row],[Jahr\nannée]],FSPIELER,2))","v":10},{"$f":"IF(Tabelle3[[#This Row],[Position\nG / D / FC / FW]]=\"G\",VLOOKUP($M$5-Tabelle3[[#This Row],[Jahr\nannée]],FGOALIE,3),VLOOKUP($M$5-Tabelle3[[#This Row],[Jahr\nannée]],FSPIELER,3))","v":10},{"$f":"IF(Tabelle3[[#This Row],[Position\nG / D / FC / FW]]=\"G\",VLOOKUP($M$5-Tabelle3[[#This Row],[Jahr\nannée]],FGOALIE,4),VLOOKUP($M$5-Tabelle3[[#This Row],[Jahr\nannée]],FSPIELER,4))","v":20},{"$f":"IF(Tabelle3[[#This Row],[Position\nG / D / FC / FW]]=\"G\",VLOOKUP($M$5-Tabelle3[[#This Row],[Jahr\nannée]],FGOALIE,5),VLOOKUP($M$5-Tabelle3[[#This Row],[Jahr\nannée]],FSPIELER,5))","v":15},{"$f":"IF(Tabelle3[[#This Row],[Position\nG / D / FC / FW]]=\"G\",VLOOKUP($M$5-Tabelle3[[#This Row],[Jahr\nannée]],FGOALIE,6),VLOOKUP($M$5-Tabelle3[[#This Row],[Jahr\nannée]],FSPIELER,6))","v":10},{"$f":"IF(Tabelle3[[#This Row],[Position\nG / D / FC / FW]]=\"G\",VLOOKUP($M$5-Tabelle3[[#This Row],[Jahr\nannée]],FGOALIE,7),VLOOKUP($M$5-Tabelle3[[#This Row],[Jahr\nannée]],FSPIELER,7))","v":10},{"$f":"IF(Tabelle3[[#This Row],[Position\nG / D / FC / FW]]=\"G\",VLOOKUP($M$5-Tabelle3[[#This Row],[Jahr\nannée]],FGOALIE,9),VLOOKUP($M$5-Tabelle3[[#This Row],[Jahr\nannée]],FSPIELER,9))","v":15},{"$f":"IF(Tabelle3[[#This Row],[Position\nG / D / FC / FW]]=\"G\",VLOOKUP($M$5-Tabelle3[[#This Row],[Jahr\nannée]],FGOALIE,8),VLOOKUP($M$5-Tabelle3[[#This Row],[Jahr\nannée]],FSPIELER,8))","v":0},{"$f":"IF(Tabelle3[[#This Row],[Position\nG / D / FC / FW]]=\"G\",VLOOKUP($M$5-Tabelle3[[#This Row],[Jahr\nannée]],FGOALIE,10),VLOOKUP($M$5-Tabelle3[[#This Row],[Jahr\nannée]],FSPIELER,10))","v":0},{"$f":"IF(Tabelle3[[#This Row],[Position\nG / D / FC / FW]]=\"G\",VLOOKUP($M$5-Tabelle3[[#This Row],[Jahr\nannée]],FGOALIE,11),VLOOKUP($M$5-Tabelle3[[#This Row],[Jahr\nannée]],FSPIELER,11))","v":10}]
[30,null,null,"-",null,null,null,null,null,{"$f":"IF(ISBLANK('30'!$H$4),\"-\",'30'!$H$4)","v":"-"},{"$f":"IF(ISBLANK('30'!$H$5),\"-\",'30'!$H$5)","v":"-"},{"$f":"IF(ISBLANK('30'!$H$2),\"-\",'30'!$H$2)","v":"-"},null,null,null,null,null,null,null,{"$f":"'30'!$M$16","v":0},{"$f":"'30'!$M$20","v":0},{"$f":"'30'!$M$24","v":0},{"$f":"'30'!$M$29","v":0},{"$f":"'30'!$M$33","v":0},{"$f":"'30'!$M$37","v":0},{"$f":"'30'!$M$13","v":0},{"$f":"'30'!$AA$2","v":0},{"$f":"'30'!$AA$4","v":0},{"$f":"'30'!$AA$3","v":0},{"$f":"IF(Tabelle3[[#This Row],[SKILL]]=0,\"-\",IF(Tabelle3[[#This Row],[Sex]]=\"M\",SUMPRODUCT(Tabelle3[[#This Row],[SKILL]:[VERANLAGUNG\nPREDISPOSITION]],AJ40:AS40),SUMPRODUCT(Tabelle3[[#This Row],[SKILL]:[VERANLAGUNG\nPREDISPOSITION]],AT40:BC40)))","v":"-"},{"$f":"IFERROR(RANK(Tabelle3[[#This Row],[TOTAL ]],Tabelle3[[TOTAL ]],0),\"-\")","v":"-"},null,null,null,null,{"$f":"IF(Tabelle3[[#This Row],[Position\nG / D / FC / FW]]=\"G\",VLOOKUP($M$5-Tabelle3[[#This Row],[Jahr\nannée]],GOALI,2),VLOOKUP($M$5-Tabelle3[[#This Row],[Jahr\nannée]],SPIELER,2))","v":10},{"$f":"IF(Tabelle3[[#This Row],[Position\nG / D / FC / FW]]=\"G\",VLOOKUP($M$5-Tabelle3[[#This Row],[Jahr\nannée]],GOALI,3),VLOOKUP($M$5-Tabelle3[[#This Row],[Jahr\nannée]],SPIELER,3))","v":10},{"$f":"IF(Tabelle3[[#This Row],[Position\nG / D / FC / FW]]=\"G\",VLOOKUP($M$5-Tabelle3[[#This Row],[Jahr\nannée]],GOALI,4),VLOOKUP($M$5-Tabelle3[[#This Row],[Jahr\nannée]],SPIELER,4))","v":20},{"$f":"IF(Tabelle3[[#This Row],[Position\nG / D / FC / FW]]=\"G\",VLOOKUP($M$5-Tabelle3[[#This Row],[Jahr\nannée]],GOALI,5),VLOOKUP($M$5-Tabelle3[[#This Row],[Jahr\nannée]],SPIELER,5))","v":15},{"$f":"IF(Tabelle3[[#This Row],[Position\nG / D / FC / FW]]=\"G\",VLOOKUP($M$5-Tabelle3[[#This Row],[Jahr\nannée]],GOALI,6),VLOOKUP($M$5-Tabelle3[[#This Row],[Jahr\nannée]],SPIELER,6))","v":10},{"$f":"IF(Tabelle3[[#This Row],[Position\nG / D / FC / FW]]=\"G\",VLOOKUP($M$5-Tabelle3[[#This Row],[Jahr\nannée]],GOALI,7),VLOOKUP($M$5-Tabelle3[[#This Row],[Jahr\nannée]],SPIELER,7))","v":10},{"$f":"IF(Tabelle3[[#This Row],[Position\nG / D / FC / FW]]=\"G\",VLOOKUP($M$5-Tabelle3[[#This Row],[Jahr\nannée]],GOALI,9),VLOOKUP($M$5-Tabelle3[[#This Row],[Jahr\nannée]],SPIELER,9))","v":15},{"$f":"IF(Tabelle3[[#This Row],[Position\nG / D / FC / FW]]=\"G\",VLOOKUP($M$5-Tabelle3[[#This Row],[Jahr\nannée]],GOALI,8),VLOOKUP($M$5-Tabelle3[[#This Row],[Jahr\nannée]],SPIELER,8))","v":0},{"$f":"IF(Tabelle3[[#This Row],[Position\nG / D / FC / FW]]=\"G\",VLOOKUP($M$5-Tabelle3[[#This Row],[Jahr\nannée]],GOALI,10),VLOOKUP($M$5-Tabelle3[[#This Row],[Jahr\nannée]],SPIELER,10))","v":0},{"$f":"IF(Tabelle3[[#This Row],[Position\nG / D / FC / FW]]=\"G\",VLOOKUP($M$5-Tabelle3[[#This Row],[Jahr\nannée]],GOALI,11),VLOOKUP($M$5-Tabelle3[[#This Row],[Jahr\nannée]],SPIELER,11))","v":10},{"$f":"IF(Tabelle3[[#This Row],[Position\nG / D / FC / FW]]=\"G\",VLOOKUP($M$5-Tabelle3[[#This Row],[Jahr\nannée]],FGOALIE,2),VLOOKUP($M$5-Tabelle3[[#This Row],[Jahr\nannée]],FSPIELER,2))","v":10},{"$f":"IF(Tabelle3[[#This Row],[Position\nG / D / FC / FW]]=\"G\",VLOOKUP($M$5-Tabelle3[[#This Row],[Jahr\nannée]],FGOALIE,3),VLOOKUP($M$5-Tabelle3[[#This Row],[Jahr\nannée]],FSPIELER,3))","v":10},{"$f":"IF(Tabelle3[[#This Row],[Position\nG / D / FC / FW]]=\"G\",VLOOKUP($M$5-Tabelle3[[#This Row],[Jahr\nannée]],FGOALIE,4),VLOOKUP($M$5-Tabelle3[[#This Row],[Jahr\nannée]],FSPIELER,4))","v":20},{"$f":"IF(Tabelle3[[#This Row],[Position\nG / D / FC / FW]]=\"G\",VLOOKUP($M$5-Tabelle3[[#This Row],[Jahr\nannée]],FGOALIE,5),VLOOKUP($M$5-Tabelle3[[#This Row],[Jahr\nannée]],FSPIELER,5))","v":15},{"$f":"IF(Tabelle3[[#This Row],[Position\nG / D / FC / FW]]=\"G\",VLOOKUP($M$5-Tabelle3[[#This Row],[Jahr\nannée]],FGOALIE,6),VLOOKUP($M$5-Tabelle3[[#This Row],[Jahr\nannée]],FSPIELER,6))","v":10},{"$f":"IF(Tabelle3[[#This Row],[Position\nG / D / FC / FW]]=\"G\",VLOOKUP($M$5-Tabelle3[[#This Row],[Jahr\nannée]],FGOALIE,7),VLOOKUP($M$5-Tabelle3[[#This Row],[Jahr\nannée]],FSPIELER,7))","v":10},{"$f":"IF(Tabelle3[[#This Row],[Position\nG / D / FC / FW]]=\"G\",VLOOKUP($M$5-Tabelle3[[#This Row],[Jahr\nannée]],FGOALIE,9),VLOOKUP($M$5-Tabelle3[[#This Row],[Jahr\nannée]],FSPIELER,9))","v":15},{"$f":"IF(Tabelle3[[#This Row],[Position\nG / D / FC / FW]]=\"G\",VLOOKUP($M$5-Tabelle3[[#This Row],[Jahr\nannée]],FGOALIE,8),VLOOKUP($M$5-Tabelle3[[#This Row],[Jahr\nannée]],FSPIELER,8))","v":0},{"$f":"IF(Tabelle3[[#This Row],[Position\nG / D / FC / FW]]=\"G\",VLOOKUP($M$5-Tabelle3[[#This Row],[Jahr\nannée]],FGOALIE,10),VLOOKUP($M$5-Tabelle3[[#This Row],[Jahr\nannée]],FSPIELER,10))","v":0},{"$f":"IF(Tabelle3[[#This Row],[Position\nG / D / FC / FW]]=\"G\",VLOOKUP($M$5-Tabelle3[[#This Row],[Jahr\nannée]],FGOALIE,11),VLOOKUP($M$5-Tabelle3[[#This Row],[Jahr\nannée]],FSPIELER,11))","v":10}]

{"sheet":"1","index":4,"n_rows":40,"n_cols":36,"rows_kept":40,"cut":false,"hidden":false,"merged":[[11,13,11,14],[11,15,11,16],[29,3,29,5],[29,6,29,11],[34,3,34,5],[32,0,35,2],[32,3,32,5],[31,6,31,11],[31,3,31,5],[20,6,20,11],[22,3,22,5],[22,6,22,11],[12,12,13,12],[15,12,18,12],[28,0,31,2],[10,25,10,35],[36,13,39,13],[36,15,39,15],[36,17,39,17],[36,19,39,19],[36,21,39,21],[36,25,39,25],[36,26,39,32],[36,34,39,34],[11,17,11,18],[12,25,13,25],[32,21,35,21],[32,23,35,23],[32,19,35,19],[23,17,26,17],[23,19,26,19],[23,21,26,21],[23,23,26,23],[19,19,22,19],[19,21,22,21],[19,23,22,23],[19,17,22,17],[32,15,35,15],[28,15,31,15],[6,0,6,1],[2,2,2,5],[4,2,4,5],[15,3,15,5],[15,6,15,11],[4,0,4,1],[2,0,2,1],[3,0,3,1],[11,0,11,2],[12,0,13,2],[14,0,14,2],[15,0,18,2],[8,0,8,1],[17,3,17,5],[17,6,17,11],[18,3,18,5],[18,6,18,11],[16,6,16,11],[14,3,14,5],[14,6,14,11],[13,3,13,5],[13,6,13,11],[8,2,8,35],[10,0,10,24],[1,0,1,1],[7,0,7,1],[1,2,1,5],[11,26,11,32],[12,13,13,13],[23,6,23,11],[25,3,25,5],[27,3,27,5],[27,6,27,11],[19,12,22,12],[23,12,26,12],[24,3,24,5],[26,3,26,5],[26,6,26,11],[23,3,23,5],[20,3,20,5],[25,6,25,11],[24,6,24,11],[11,3,11,5],[23,0,26,2],[27,0,27,2],[19,6,19,11],[19,0,22,2],[7,2,7,35],[12,3,12,5],[12,6,12,11],[28,12,31,12],[19,13,22,13],[15,13,18,13],[14,19,14,20],[14,21,14,22],[14,23,14,24],[28,13,31,13],[23,15,26,15],[19,3,19,5],[28,6,28,11],[28,23,31,23],[15,15,18,15],[15,17,18,17],[15,19,18,19],[15,21,18,21],[15,23,18,23],[21,3,21,5],[21,6,21,11],[30,3,30,5],[30,6,30,11],[16,3,16,5],[28,21,31,21],[1,10,1,24],[2,11,2,24],[3,10,3,24],[4,10,4,24],[27,13,27,14],[27,15,27,16],[27,17,27,18],[27,19,27,20],[27,21,27,22],[27,23,27,24],[14,13,14,14],[14,15,14,16],[14,17,14,18],[23,13,26,13],[12,15,13,15],[12,17,13,17],[12,19,13,19],[12,21,13,21],[12,23,13,23],[11,19,11,20],[11,21,11,22],[6,2,6,35],[28,3,28,5],[11,23,11,24],[19,15,22,15],[11,6,11,11],[0,0,0,24],[0,25,0,26],[0,27,0,32],[0,33,0,35],[28,34,31,34],[32,25,35,25],[32,26,35,32],[32,34,35,34],[12,34,13,34],[15,25,18,25],[15,26,18,32],[15,34,18,34],[19,25,22,25],[19,26,22,32],[19,34,22,34],[23,25,26,25],[23,26,26,32],[23,34,26,34],[28,26,31,32],[27,26,27,32],[14,26,14,32],[12,26,13,32],[32,17,35,17],[28,25,31,25],[34,6,34,11],[36,0,39,2],[36,3,36,5],[36,6,36,11],[36,12,39,12],[36,23,39,23],[37,3,37,5],[37,6,37,11],[38,3,38,5],[38,6,38,11],[39,3,39,5],[39,6,39,11],[32,13,35,13],[32,12,35,12],[32,6,32,11],[33,3,33,5],[33,6,33,11],[35,3,35,5],[35,6,35,11],[28,17,31,17],[28,19,31,19]]}
["Infos personelles",null,null,null,null,null,null,null,null,null,null,null,null,null,null,null,null,null,null,null,null,null,null,null,null,"Predispositions",null,"Evaluations",null,null,null,null,null,"Rating"]
["PRENOM",null,{"$f":"IF(ISBLANK(VLOOKUP(1,Tabelle3[],3,0)),\"-\",VLOOKUP(1,Tabelle3[],3,0))","v":"xxx"},null,null,null,"POSITION",null,null,"ADRESSE",{"$f":"IF(ISBLANK(VLOOKUP(1,Tabelle3[],5,0)),\"-\",VLOOKUP(1,Tabelle3[],5,0))","v":"xxx"},null,null,null,null,null,null,null,null,null,null,null,null,null,null,"\"àage\" (Biologique/age relatif)",null,"Date 1",null,null,"cm",null,"Kg",null,"EXCELLENT",5]
["NOM",null,{"$f":"IF(ISBLANK(VLOOKUP(1,Tabelle3[],2,0)),\"-\",VLOOKUP(1,Tabelle3[],2,0))","v":"xxx"},null,null,null,"CANNE",null,null,"LIEU",{"$f":"IF(ISBLANK(VLOOKUP(1,Tabelle3[],7,0)),\"-\",VLOOKUP(1,Tabelle3[],7,0))","v":"xxxx"},{"$f":"IF(ISBLANK(VLOOKUP(1,Tabelle3[],6,0)),\"-\",VLOOKUP(1,Tabelle3[],6,0))","v":"xxx"},null,null,null,null,null,null,null,null,null,null,null,null,null,"predispositions",null,"Date 2",null,null,"cm",null,"Kg",null,"BON",4]
["DATE NAISS.",null,{"$f":"IF(ISBLANK(VLOOKUP(1,Tabelle3[],14,0)),\"-\",VLOOKUP(1,Tabelle3[],14,0))","v":"xx"},{"$f":"IF(ISBLANK(VLOOKUP(1,Tabelle3[],15,0)),\"-\",VLOOKUP(1,Tabelle3[],15,0))","v":"xx"},{"$f":"IF(ISBLANK(VLOOKUP(1,Tabelle3[],16,0)),\"-\",VLOOKUP(1,Tabelle3[],16,0))","v":"-"},null,"GRANDEUR",null,"cm (Final)","PHONE",{"$f":"IF(ISBLANK(VLOOKUP(1,Tabelle3[],8,0)),\"-\",VLOOKUP(1,Tabelle3[],8,0))","v":"xxx xxx xx xx"},null,null,null,null,null,null,null,null,null,null,null,null,null,null,"Entourage",null,"Date 3",null,null,"cm",null,"Kg",null,"MOYEN",3]
["SEXE",null,{"$f":"IF(ISBLANK(VLOOKUP(1,Tabelle3[],13,0)),\"-\",VLOOKUP(1,Tabelle3[],13,0))","v":"M"},null,null,null,"POIDS",null,"Kg (Final)","E-Mail",{"$f":"IF(ISBLANK(VLOOKUP(1,Tabelle3[],9,0)),\"-\",VLOOKUP(1,Tabelle3[],9,0))","v":"-"},null,null,null,null,null,null,null,null,null,null,null,null,null,null,null,null,"Date 4",null,null,"cm",null,"Kg",null,"MANQUES",2]
[null,null,null,null,null,null,null,null,null,null,null,null,null,null,null,null,null,null,null,null,null,null,null,null,null,null,null,"Date 5",null,null,"cm",null,"Kg",null,"INSUFFISANT",1]
["Vision",null,"xxx"]
["Next step",null,"xxx"]
["Profil du Joueur",null,"xxx"]
[]
["EVALUATION (COACH / JOUEUR)",null,null,null,null,null,null,null,null,null,null,null,null,null,null,null,null,null,null,null,null,null,null,null,null,"SMART"]
[{"$f":"'Skills explications FTEM'!A3:C3","v":"TEAM"},null,null,"CAPACITE",null,null,"OBSERVATION",null,null,null,null,null,"Final","Date1",null,"Date2",null,"Date3",null,"Date4",null,"Date5",null,"Player",null,"BUT","MESURES:\nSPECIFIQUE, MESURABLES, REALISTE",null,null,null,null,null,null,"DELAI","CONTRÔLE DU BUT","Date"]
[{"$f":"'Skills explications FTEM'!A4:C4","v":"ROLLE, SOZIAL"},null,null,{"$f":"IF($H$2=\"G\",'Skills explications FTEM'!Q4,'Skills explications FTEM'!D4)","v":"PENSER EQUIPE"},null,null,{"$f":"IF($H$2=\"G\",'Skills explications FTEM'!T4,'Skills explications FTEM'!G4)","v":"Identification au rôle, relation au cammarades (social, intégration)"},null,null,{"$f":"IF($H$2=\"G\",'Skills explications FTEM'!W4,'Skills explications FTEM'!J4)","v":0},null,null,null,{"$f":"IFERROR(AVERAGE(O13:O14),\"-\")","v":"-"},null,{"$f":"IFERROR(AVERAGE(Q13:Q14),\"-\")","v":"-"},null,{"$f":"IFERROR(AVERAGE(S13:S14),\"-\")","v":"-"},null,{"$f":"IFERROR(AVERAGE(U13:U14),\"-\")","v":"-"},null,{"$f":"IFERROR(AVERAGE(W13:W14),\"-\")","v":"-"},null,{"$f":"IFERROR(AVERAGE(Y13:Y14),\"-\")","v":"-"}]
[{"$f":"'Skills explications FTEM'!A5:C5","v":0},null,null,{"$f":"IF($H$2=\"G\",'Skills explications FTEM'!Q5,'Skills explications FTEM'!D5)","v":"LEADERSHIP"},null,null,{"$f":"IF($H$2=\"G\",'Skills explications FTEM'!T5,'Skills explications FTEM'!G5)","v":"prend des responsabilités, rend son coéquipier meilleur"},null,null,{"$f":"IF($H$2=\"G\",'Skills explications FTEM'!W5,'Skills explications FTEM'!J5)","v":0}]
[{"$f":"'Skills explications FTEM'!A6:C6","v":"ON ICE"},null,null,"CAPACITE",null,null,"OBSERVATION",null,null,null,null,null,null,"Date1",null,"Date2",null,"Date3",null,"Date4",null,"Date5",null,"Player",null,"BUT","MESURES:\nSPECIFIQUE, MESURABLES, REALISTE",null,null,null,null,null,null,"DELAI","CONTRÔLE DU BUT","Date"]
[{"$f":"'Skills explications FTEM'!A7:C7","v":"SKILL"},null,null,{"$f":"IF($H$2=\"G\",'Skills explications FTEM'!Q7,'Skills explications FTEM'!D7)","v":"TIR  (EFFET)"},null,null,{"$f":"IF($H$2=\"G\",'Skills explications FTEM'!T7,'Skills explications FTEM'!G7)","v":"Efficience (pas d'espace et de temps), variantes, degré de surprise (déclenchement rapide), précision, puissance (conclusion tactique)"},null,null,{"$f":"IF($H$2=\"G\",'Skills explications FTEM'!W7,'Skills explications FTEM'!J7)","v":0},null,null,null,{"$f":"IFERROR(AVERAGE(O16:O19),\"-\")","v":"-"},null,{"$f":"IFERROR(AVERAGE(Q16:Q19),\"-\")","v":"-"},null,{"$f":"IFERROR(AVERAGE(S16:S19),\"-\")","v":"-"},null,{"$f":"IFERROR(AVERAGE(U16:U19),\"-\")","v":"-"},null,{"$f":"IFERROR(AVERAGE(W16:W19),\"-\")","v":"-"},null,{"$f":"IFERROR(AVERAGE(Y16:Y19),\"-\")","v":"-"}]
[{"$f":"'Skills explications FTEM'!A8:C8","v":0},null,null,{"$f":"IF($H$2=\"G\",'Skills explications FTEM'!Q8,'Skills explications FTEM'!D8)","v":"PASSER"},null,null,{"$f":"IF($H$2=\"G\",'Skills explications FTEM'!T8,'Skills explications FTEM'!G8)","v":"Donne la passe (distance, passe flipée en revers), réception de la passe (précision, timing, coup droit, revers, patins), vitesse du puck"},null,null,{"$f":"IF($H$2=\"G\",'Skills explications FTEM'!W8,'Skills explications FTEM'!J8)","v":0}]
[{"$f":"'Skills explications FTEM'!A9:C9","v":0},null,null,{"$f":"IF($H$2=\"G\",'Skills explications FTEM'!Q9,'Skills explications FTEM'!D9)","v":"JEU DU CORPS"},null,null,{"$f":"IF($H$2=\"G\",'Skills explications FTEM'!T9,'Skills explications FTEM'!G9)","v":"Faculté de s'imposer physiquement, duels (sur la surface de glace ou à la bande), prendre des checks, lever la tête, niveau de lutte, dur mais correct, bloquer les tirs avec le corps"},null,null,{"$f":"IF($H$2=\"G\",'Skills explications FTEM'!W9,'Skills explications FTEM'!J9)","v":0},null,null,null,{"$f":"IFERROR(AVERAGE(O18:O19),\"-\")","v":"-"},null,{"$f":"IFERROR(AVERAGE(Q18:Q19),\"-\")","v":"-"},null,{"$f":"IFERROR(AVERAGE(S18:S19),\"-\")","v":"-"},null,{"$f":"IFERROR(AVERAGE(U18:U19),\"-\")","v":"-"},null,{"$f":"IFERROR(AVERAGE(W18:W19),\"-\")","v":"-"},null,"-"]
[{"$f":"'Skills explications FTEM'!A10:C10","v":0},null,null,{"$f":"IF($H$2=\"G\",'Skills explications FTEM'!Q10,'Skills explications FTEM'!D10)","v":"CONTRÔLE DU PUCK"},null,null,{"$f":"IF($H$2=\"G\",'Skills explications FTEM'!T10,'Skills explications FTEM'!G10)","v":"Contrôle du puck, dribbling, protection du puck, feintes (variantes: avec les patins ou avec et sans la bande), mise au jeu (bully)"},null,null,{"$f":"IF($H$2=\"G\",'Skills explications FTEM'!W10,'Skills explications FTEM'!J10)","v":0}]
[{"$f":"'Skills explications FTEM'!A11:C11","v":"SKATING"},null,null,{"$f":"IF($H$2=\"G\",'Skills explications FTEM'!Q11,'Skills explications FTEM'!D11)","v":"FOOTSPEED"},null,null,{"$f":"IF($H$2=\"G\",'Skills explications FTEM'!T11,'Skills explications FTEM'!G11)","v":"Accélération, départ, explosivité des 3 premiers pas, fréquence"},null,null,{"$f":"IF($H$2=\"G\",'Skills explications FTEM'!W11,'Skills explications FTEM'!J11)","v":0},null,null,null,{"$f":"IFERROR(AVERAGE(O20:O23),\"-\")","v":"-"},null,{"$f":"IFERROR(AVERAGE(Q20:Q23),\"-\")","v":"-"},null,{"$f":"IFERROR(AVERAGE(S20:S23),\"-\")","v":"-"},null,{"$f":"IFERROR(AVERAGE(U20:U23),\"-\")","v":"-"},null,{"$f":"IFERROR(AVERAGE(W20:W23),\"-\")","v":"-"},null,{"$f":"IFERROR(AVERAGE(Y20:Y23),\"-\")","v":"-"}]
[{"$f":"'Skills explications FTEM'!A12:C12","v":0},null,null,{"$f":"IF($H$2=\"G\",'Skills explications FTEM'!Q12,'Skills explications FTEM'!D12)","v":"MOBILITE"},null,null,{"$f":"IF($H$2=\"G\",'Skills explications FTEM'!T12,'Skills explications FTEM'!G12)","v":"Changements de direction, pivots, stop et start «Nummelin»"},null,null,{"$f":"IF($H$2=\"G\",'Skills explications FTEM'!W12,'Skills explications FTEM'!J12)","v":0}]
[{"$f":"'Skills explications FTEM'!A13:C13","v":0},null,null,{"$f":"IF($H$2=\"G\",'Skills explications FTEM'!Q13,'Skills explications FTEM'!D13)","v":"PATTINAGE ARRIÈRE"},null,null,{"$f":"IF($H$2=\"G\",'Skills explications FTEM'!T13,'Skills explications FTEM'!G13)","v":"Accélération, vitesse, équilibre"},null,null,{"$f":"IF($H$2=\"G\",'Skills explications FTEM'!W13,'Skills explications FTEM'!J13)","v":0}]
[{"$f":"'Skills explications FTEM'!A14:C14","v":0},null,null,{"$f":"IF($H$2=\"G\",'Skills explications FTEM'!Q14,'Skills explications FTEM'!D14)","v":"TOP SPEED"},null,null,{"$f":"IF($H$2=\"G\",'Skills explications FTEM'!T14,'Skills explications FTEM'!G14)","v":"Vitesse, faculté de glisse, avant et arrière, économie des forces"},null,null,{"$f":"IF($H$2=\"G\",'Skills explications FTEM'!W14,'Skills explications FTEM'!J14)","v":0}]
[{"$f":"'Skills explications FTEM'!A15:C15","v":"HOCKEY SENSE"},null,null,{"$f":"IF($H$2=\"G\",'Skills explications FTEM'!Q15,'Skills explications FTEM'!D15)","v":"SCORING"},null,null,{"$f":"IF($H$2=\"G\",'Skills explications FTEM'!T15,'Skills explications FTEM'!G15)","v":"Efficience, richesse des variantes, surpenant, vite, variante de tirs"},null,null,{"$f":"IF($H$2=\"G\",'Skills explications FTEM'!W15,'Skills explications FTEM'!J15)","v":0},null,null,null,{"$f":"IFERROR(AVERAGE(O24:O27),\"-\")","v":"-"},null,{"$f":"IFERROR(AVERAGE(Q24:Q27),\"-\")","v":"-"},null,{"$f":"IFERROR(AVERAGE(S24:S27),\"-\")","v":"-"},null,{"$f":"IFERROR(AVERAGE(U24:U27),\"-\")","v":"-"},null,{"$f":"IFERROR(AVERAGE(W24:W27),\"-\")","v":"-"},null,{"$f":"IFERROR(AVERAGE(Y24:Y27),\"-\")","v":"-"}]
[{"$f":"'Skills explications FTEM'!A16:C16","v":0},null,null,{"$f":"IF($H$2=\"G\",'Skills explications FTEM'!Q16,'Skills explications FTEM'!D16)","v":"AVEC PUCK"},null,null,{"$f":"IF($H$2=\"G\",'Skills explications FTEM'!T16,'Skills explications FTEM'!G16)","v":"créatif,  performing, batteling, fou, transition"},null,null,{"$f":"IF($H$2=\"G\",'Skills explications FTEM'!W16,'Skills explications FTEM'!J16)","v":0}]
[{"$f":"'Skills explications FTEM'!A17:C17","v":0},null,null,{"$f":"IF($H$2=\"G\",'Skills explications FTEM'!Q17,'Skills explications FTEM'!D17)","v":"SANS PUCK"},null,null,{"$f":"IF($H$2=\"G\",'Skills explications FTEM'!T17,'Skills explications FTEM'!G17)","v":"ouvert pour un passe (Support), 1:1, Gap"},null,null,{"$f":"IF($H$2=\"G\",'Skills explications FTEM'!W17,'Skills explications FTEM'!J17)","v":0}]
[{"$f":"'Skills explications FTEM'!A18:C18","v":0},null,null,{"$f":"IF($H$2=\"G\",'Skills explications FTEM'!Q18,'Skills explications FTEM'!D18)","v":"DEFENSIF"},null,null,{"$f":"IF($H$2=\"G\",'Skills explications FTEM'!T18,'Skills explications FTEM'!G18)","v":"on peut compter dessus,  1:1, Gap, identification de l'homme"},null,null,{"$f":"IF($H$2=\"G\",'Skills explications FTEM'!W18,'Skills explications FTEM'!J18)","v":0}]
[{"$f":"'Skills explications FTEM'!A19:C19","v":"PERSONALITY"},null,null,"CAPACITE",null,null,"OBSERVATION",null,null,null,null,null,null,"Date1",null,"Date2",null,"Date3",null,"Date4",null,"Date5",null,"Player",null,"BUT","MESURES:\nSPECIFIQUE, MESURABLES, REALISTE",null,null,null,null,null,null,"DELAI","CONTRÔLE DU BUT","Date"]
[{"$f":"'Skills explications FTEM'!A20:C20","v":"PERSONALITÉ"},null,null,{"$f":"IF($H$2=\"G\",'Skills explications FTEM'!Q20,'Skills explications FTEM'!D20)","v":"MOTIVATION"},null,null,{"$f":"IF($H$2=\"G\",'Skills explications FTEM'!T20,'Skills explications FTEM'!G20)","v":"Est toujours motivé, veut sans cesse se développer et apprendre, veut être le premier et avoir du succès, n'abandonne jamais et ne se laisse pas influencer par les échecs"},null,null,{"$f":"IF($H$2=\"G\",'Skills explications FTEM'!W20,'Skills explications FTEM'!J20)","v":0},null,null,null,{"$f":"IFERROR(AVERAGE(O29:O32),\"-\")","v":"-"},null,null,null,{"$f":"IFERROR(AVERAGE(S29:S32),\"-\")","v":"-"},null,{"$f":"IFERROR(AVERAGE(U29:U32),\"-\")","v":"-"},null,{"$f":"IFERROR(AVERAGE(W29:W32),\"-\")","v":"-"},null,{"$f":"IFERROR(AVERAGE(Y29:Y32),\"-\")","v":"-"}]
[{"$f":"'Skills explications FTEM'!A21:C21","v":0},null,null,{"$f":"IF($H$2=\"G\",'Skills explications FTEM'!Q21,'Skills explications FTEM'!D21)","v":"CONFIENCE EN SOI"},null,null,{"$f":"IF($H$2=\"G\",'Skills explications FTEM'!T21,'Skills explications FTEM'!G21)","v":"Est en confiance, «I can do it», peut estimer ses capacités (connaît ses qualités et ses défauts), peut réaliser ses qualités avec constance, est courageux et prend des risques calculés"},null,null,{"$f":"IF($H$2=\"G\",'Skills explications FTEM'!W21,'Skills explications FTEM'!J21)","v":0}]
[{"$f":"'Skills explications FTEM'!A22:C22","v":0},null,null,{"$f":"IF($H$2=\"G\",'Skills explications FTEM'!Q22,'Skills explications FTEM'!D22)","v":"FACULTÉES D'APPRENTISSAGE"},null,null,{"$f":"IF($H$2=\"G\",'Skills explications FTEM'!T22,'Skills explications FTEM'!G22)","v":"A une bonne perception (il peut mémoriser et peut réaliser), il a de la personnalité, essaie d'apprendre de ses erreurs et est entreprenant"},null,null,{"$f":"IF($H$2=\"G\",'Skills explications FTEM'!W22,'Skills explications FTEM'!J22)","v":0}]
[{"$f":"'Skills explications FTEM'!A23:C23","v":0},null,null,{"$f":"IF($H$2=\"G\",'Skills explications FTEM'!Q23,'Skills explications FTEM'!D23)","v":"PERFORMANCE, STYLE DE VIE"},null,null,{"$f":"IF($H$2=\"G\",'Skills explications FTEM'!T23,'Skills explications FTEM'!G23)","v":"Gère bien son environnement et son temps libre selon les principes de la performance, obstiné, tenace et axé sur l'objectif, accent sur sa propre performance, est courageux et peut s'imposer contre de la résistance, les défis le motivent"},null,null,{"$f":"IF($H$2=\"G\",'Skills explications FTEM'!W23,'Skills explications FTEM'!J23)","v":0}]
[{"$f":"'Skills explications FTEM'!A24:C24","v":"POWER MENTAL"},null,null,{"$f":"IF($H$2=\"G\",'Skills explications FTEM'!Q24,'Skills explications FTEM'!D24)","v":"GESTION DES ÉNERGIES"},null,null,{"$f":"IF($H$2=\"G\",'Skills explications FTEM'!T24,'Skills explications FTEM'!G24)","v":"Peut-il gérer ses propres énergies, prend-il soin de sa régénération, peut-il gérer les moments où il faut se donner à fond ou quand il faut déconnecter, bouton On/Off"},null,null,{"$f":"IF($H$2=\"G\",'Skills explications FTEM'!W24,'Skills explications FTEM'!J24)","v":0},null,null,null,{"$f":"IFERROR(AVERAGE(O33:O36),\"-\")","v":"-"},null,null,null,{"$f":"IFERROR(AVERAGE(S33:S36),\"-\")","v":"-"},null,{"$f":"IFERROR(AVERAGE(U33:U36),\"-\")","v":"-"},null,{"$f":"IFERROR(AVERAGE(W33:W36),\"-\")","v":"-"},null,{"$f":"IFERROR(AVERAGE(Y33:Y36),\"-\")","v":"-"}]
[{"$f":"'Skills explications FTEM'!A25:C25","v":0},null,null,{"$f":"IF($H$2=\"G\",'Skills explications FTEM'!Q25,'Skills explications FTEM'!D25)","v":"ENGAGEMENT"},null,null,{"$f":"IF($H$2=\"G\",'Skills explications FTEM'!T25,'Skills explications FTEM'!G25)","v":"Démontre beaucoup d'intensité dans les entraînements et les matchs, donne toujours son maximum et veut sans cesse repousser ses limites, a-t-il de la passion, s'efforce-t-il de s'entraîner avec une excellente qualité"},null,null,{"$f":"IF($H$2=\"G\",'Skills explications FTEM'!W25,'Skills explications FTEM'!J25)","v":0}]
[{"$f":"'Skills explications FTEM'!A26:C26","v":0},null,null,{"$f":"IF($H$2=\"G\",'Skills explications FTEM'!Q26,'Skills explications FTEM'!D26)","v":"CONTRÔLE DES ÉMOTIONS"},null,null,{"$f":"IF($H$2=\"G\",'Skills explications FTEM'!T26,'Skills explications FTEM'!G26)","v":"Peut-il gérer ses propres émotions et impulsions, reste-t-il sous contrôle lorsqu'il y a une grande pression, peut-il rester calme lorsque le niveau émotionnel et de frustration est élevé"},null,null,{"$f":"IF($H$2=\"G\",'Skills explications FTEM'!W26,'Skills explications FTEM'!J26)","v":0}]
[{"$f":"'Skills explications FTEM'!A27:C27","v":0},null,null,{"$f":"IF($H$2=\"G\",'Skills explications FTEM'!Q27,'Skills explications FTEM'!D27)","v":"PRÉPARATION"},null,null,{"$f":"IF($H$2=\"G\",'Skills explications FTEM'!T27,'Skills explications FTEM'!G27)","v":"Se prépare-t-il toujours bien, mentalement et physiquement, se prépare-t-il toujours bien pour obtenir le niveau de performance idéal (ILZ)"},null,null,{"$f":"IF($H$2=\"G\",'Skills explications FTEM'!W27,'Skills explications FTEM'!J27)","v":0}]
[{"$f":"'Skills explications FTEM'!A28:C28","v":"PYHSE (Athletik)"},null,null,{"$f":"IF($H$2=\"G\",'Skills explications FTEM'!Q28,'Skills explications FTEM'!D28)","v":"PRODUCTION DE LA PERFORMANCE"},null,null,{"$f":"IF($H$2=\"G\",'Skills explications FTEM'!T28,'Skills explications FTEM'!G28)","v":"A-t-il la puissance, la force, la vitesse nécessaires dans les jambes et le haut du corps (facteurs neuromusculaires)"},null,null,{"$f":"IF($H$2=\"G\",'Skills explications FTEM'!W28,'Skills explications FTEM'!J28)","v":0},null,null,null,{"$f":"IFERROR(AVERAGE(O37:O40),\"-\")","v":"-"},null,null,null,{"$f":"IFERROR(AVERAGE(S37:S40),\"-\")","v":"-"},null,{"$f":"IFERROR(AVERAGE(U37:U40),\"-\")","v":"-"},null,{"$f":"IFERROR(AVERAGE(W37:W40),\"-\")","v":"-"},null,{"$f":"IFERROR(AVERAGE(Y37:Y40),\"-\")","v":"-"}]
[{"$f":"'Skills explications FTEM'!A29:C29","v":0},null,null,{"$f":"IF($H$2=\"G\",'Skills explications FTEM'!Q29,'Skills explications FTEM'!D29)","v":"SPÉCIFIQUE AU SPORT, RÉSISTANT À L'EFFORT"},null,null,{"$f":"IF($H$2=\"G\",'Skills explications FTEM'!T29,'Skills explications FTEM'!G29)","v":"Est-il capable de maintenir sa puissance, sa force, sa vitesse durant un long temps de glace et peut-il récupérer complètement entre ses engagements (facteurs du métabolisme et cardiovasculaire)"},null,null,{"$f":"IF($H$2=\"G\",'Skills explications FTEM'!W29,'Skills explications FTEM'!J29)","v":0}]
[{"$f":"'Skills explications FTEM'!A30:C30","v":0},null,null,{"$f":"IF($H$2=\"G\",'Skills explications FTEM'!Q30,'Skills explications FTEM'!D30)","v":"MOBILITÉ/ COODINATION"},null,null,{"$f":"IF($H$2=\"G\",'Skills explications FTEM'!T30,'Skills explications FTEM'!G30)","v":"Gère-t-il ses aptitudes de mouvements de base, qui sont un fournisseur important des fonctions spécifiques «Skills» pour être efficace"},null,null,{"$f":"IF($H$2=\"G\",'Skills explications FTEM'!W30,'Skills explications FTEM'!J30)","v":0}]
[{"$f":"'Skills explications FTEM'!A31:C31","v":0},null,null,{"$f":"IF($H$2=\"G\",'Skills explications FTEM'!Q31,'Skills explications FTEM'!D31)","v":"ROBUSTESSE / PREVENTION"},null,null,{"$f":"IF($H$2=\"G\",'Skills explications FTEM'!T31,'Skills explications FTEM'!G31)","v":"A-t-il la force de base nécessaire (tension corporelle) pour gagner des duels et résister aux charges, A-t-il la stabilité nécessaire (ex. ses appuis) et la mobilité nécessaire au niveau des articulations centrales"},null,null,{"$f":"IF($H$2=\"G\",'Skills explications FTEM'!W31,'Skills explications FTEM'!J31)","v":0}]

{"sheet":"2","index":5,"n_rows":40,"n_cols":36,"rows_kept":40,"cut":false,"hidden":false,"merged":[[36,25,39,25],[36,26,39,32],[36,34,39,34],[32,0,35,2],[32,3,32,5],[32,6,32,11],[32,12,35,12],[32,13,35,13],[32,15,35,15],[36,0,39,2],[36,3,36,5],[36,6,36,11],[36,12,39,12],[36,23,39,23],[37,3,37,5],[37,6,37,11],[38,3,38,5],[38,6,38,11],[39,3,39,5],[39,6,39,11],[36,13,39,13],[36,15,39,15],[36,17,39,17],[36,19,39,19],[32,17,35,17],[32,19,35,19],[32,21,35,21],[32,23,35,23],[33,3,33,5],[33,6,33,11],[35,3,35,5],[35,6,35,11],[28,23,31,23],[34,3,34,5],[34,6,34,11],[27,0,27,2],[27,3,27,5],[27,6,27,11],[27,13,27,14],[27,15,27,16],[27,17,27,18],[27,19,27,20],[27,21,27,22],[28,17,31,17],[28,19,31,19],[28,21,31,21],[28,0,31,2],[28,3,28,5],[28,6,28,11],[28,12,31,12],[28,13,31,13],[28,15,31,15],[31,3,31,5],[31,6,31,11],[29,3,29,5],[29,6,29,11],[30,3,30,5],[30,6,30,11],[19,19,22,19],[19,21,22,21],[19,23,22,23],[20,3,20,5],[20,6,20,11],[22,3,22,5],[22,6,22,11],[26,3,26,5],[26,6,26,11],[23,23,26,23],[23,17,26,17],[23,19,26,19],[23,21,26,21],[24,3,24,5],[24,6,24,11],[25,3,25,5],[25,6,25,11],[23,3,23,5],[23,6,23,11],[23,12,26,12],[19,0,22,2],[19,3,19,5],[19,6,19,11],[19,12,22,12],[19,13,22,13],[19,15,22,15],[19,17,22,17],[23,13,26,13],[23,15,26,15],[23,0,26,2],[21,3,21,5],[21,6,21,11],[15,0,18,2],[15,3,15,5],[15,6,15,11],[15,12,18,12],[15,13,18,13],[16,3,16,5],[16,6,16,11],[17,3,17,5],[17,6,17,11],[15,15,18,15],[15,17,18,17],[15,19,18,19],[15,21,18,21],[15,23,18,23],[18,3,18,5],[18,6,18,11],[15,25,18,25],[15,26,18,32],[13,3,13,5],[13,6,13,11],[14,0,14,2],[14,3,14,5],[14,6,14,11],[14,13,14,14],[14,15,14,16],[14,17,14,18],[14,19,14,20],[12,0,13,2],[12,3,12,5],[12,6,12,11],[12,12,13,12],[12,13,13,13],[12,15,13,15],[12,17,13,17],[12,19,13,19],[10,0,10,24],[10,25,10,35],[11,0,11,2],[11,3,11,5],[11,13,11,14],[11,15,11,16],[11,17,11,18],[11,19,11,20],[11,21,11,22],[11,23,11,24],[11,26,11,32],[11,6,11,11],[7,0,7,1],[7,2,7,35],[8,0,8,1],[8,2,8,35],[3,0,3,1],[3,10,3,24],[4,0,4,1],[4,2,4,5],[4,10,4,24],[1,10,1,24],[2,0,2,1],[2,2,2,5],[2,11,2,24],[6,0,6,1],[6,2,6,35],[0,0,0,24],[0,25,0,26],[0,27,0,32],[0,33,0,35],[1,0,1,1],[1,2,1,5],[36,21,39,21],[28,34,31,34],[32,25,35,25],[32,26,35,32],[32,34,35,34],[12,25,13,25],[12,26,13,32],[12,34,13,34],[15,34,18,34],[19,25,22,25],[19,26,22,32],[19,34,22,34],[23,25,26,25],[23,26,26,32],[23,34,26,34],[14,26,14,32],[27,26,27,32],[28,25,31,25],[28,26,31,32],[12,23,13,23],[14,21,14,22],[14,23,14,24],[12,21,13,21],[27,23,27,24]]}
["Infos personelles",null,null,null,null,null,null,null,null,null,null,null,null,null,null,null,null,null,null,null,null,null,null,null,null,"Predispositions",null,"Evaluations",null,null,null,null,null,"Rating"]
["PRENOM",null,{"$f":"IF(ISBLANK(VLOOKUP(2,Tabelle3[],3,0)),\"-\",VLOOKUP(2,Tabelle3[],3,0))","v":"-"},null,null,null,"POSITION",null,null,"ADRESSE",{"$f":"IF(ISBLANK(VLOOKUP(2,Tabelle3[],5,0)),\"-\",VLOOKUP(2,Tabelle3[],5,0))","v":"-"},null,null,null,null,null,null,null,null,null,null,null,null,null,null,"\"àage\" (Biologique/age relatif)",null,"Date 1",null,null,"cm",null,"Kg",null,"AUSGEZEICHNET",5]
["NOM",null,{"$f":"IF(ISBLANK(VLOOKUP(2,Tabelle3[],2,0)),\"-\",VLOOKUP(2,Tabelle3[],2,0))","v":"-"},null,null,null,"CANNE",null,null,"LIEU",{"$f":"IF(ISBLANK(VLOOKUP(2,Tabelle3[],7,0)),\"-\",VLOOKUP(2,Tabelle3[],7,0))","v":"-"},{"$f":"IF(ISBLANK(VLOOKUP(2,Tabelle3[],6,0)),\"-\",VLOOKUP(2,Tabelle3[],6,0))","v":"-"},null,null,null,null,null,null,null,null,null,null,null,null,null,"predispositions",null,"Date 2",null,null,"cm",null,"Kg",null,"GUT",4]
["DATE NAISS.",null,{"$f":"IF(ISBLANK(VLOOKUP(2,Tabelle3[],14,0)),\"-\",VLOOKUP(2,Tabelle3[],14,0))","v":"-"},{"$f":"IF(ISBLANK(VLOOKUP(2,Tabelle3[],15,0)),\"-\",VLOOKUP(2,Tabelle3[],15,0))","v":"-"},{"$f":"IF(ISBLANK(VLOOKUP(2,Tabelle3[],16,0)),\"-\",VLOOKUP(2,Tabelle3[],16,0))","v":"-"},null,"GRANDEUR",null,"cm","PHONE",{"$f":"IF(ISBLANK(VLOOKUP(2,Tabelle3[],8,0)),\"-\",VLOOKUP(2,Tabelle3[],8,0))","v":"-"},null,null,null,null,null,null,null,null,null,null,null,null,null,null,"Entourage",null,"Date 3",null,null,"cm",null,"Kg",null,"DURCHSCHNITT",3]
["SEXE",null,{"$f":"IF(ISBLANK(VLOOKUP(2,Tabelle3[],13,0)),\"-\",VLOOKUP(2,Tabelle3[],13,0))","v":"-"},null,null,null,"POIDS",null,"Kg","E-Mail",{"$f":"IF(ISBLANK(VLOOKUP(2,Tabelle3[],9,0)),\"-\",VLOOKUP(2,Tabelle3[],9,0))","v":"-"},null,null,null,null,null,null,null,null,null,null,null,null,null,null,null,null,"Date 4",null,null,"cm",null,"Kg",null,"MANGELHAFT",2]
[null,null,null,null,null,null,null,null,null,null,null,null,null,null,null,null,null,null,null,null,null,null,null,null,null,null,null,"Date 5",null,null,"cm",null,"Kg",null,"UNGENÜGEND",1]
["Vision",null,"xxx"]
["Next step",null,"xxx"]
["Profil du Joueur",null,"xxx"]
[]
["EVALUATION (COACH / JOUEUR)",null,null,null,null,null,null,null,null,null,null,null,null,null,null,null,null,null,null,null,null,null,null,null,null,"SMART"]
[{"$f":"'Skills explications FTEM'!A3:C3","v":"TEAM"},null,null,"CAPACITE",null,null,"OBSERVATION",null,null,null,null,null,"Final","Date1",null,"Date2",null,"Date3",null,"Date4",null,"Date5",null,"Player",null,"BUT","MESURES:\nSPECIFIQUE, MESURABLES, REALISTE",null,null,null,null,null,null,"DELAI","CONTRÔLE DU BUT","Date"]
[{"$f":"'Skills explications FTEM'!A4:C4","v":"ROLLE, SOZIAL"},null,null,{"$f":"IF($H$2=\"G\",'Skills explications FTEM'!Q4,'Skills explications FTEM'!D4)","v":"PENSER EQUIPE"},null,null,{"$f":"IF($H$2=\"G\",'Skills explications FTEM'!T4,'Skills explications FTEM'!G4)","v":"Identification au rôle, relation au cammarades (social, intégration)"},null,null,{"$f":"IF($H$2=\"G\",'Skills explications FTEM'!W4,'Skills explications FTEM'!J4)","v":0},null,null,null,{"$f":"IFERROR(AVERAGE(O13:O14),\"-\")","v":"-"},null,{"$f":"IFERROR(AVERAGE(Q13:Q14),\"-\")","v":"-"},null,{"$f":"IFERROR(AVERAGE(S13:S14),\"-\")","v":"-"},null,{"$f":"IFERROR(AVERAGE(U13:U14),\"-\")","v":"-"},null,{"$f":"IFERROR(AVERAGE(W13:W14),\"-\")","v":"-"},null,{"$f":"IFERROR(AVERAGE(Y13:Y14),\"-\")","v":"-"}]
[{"$f":"'Skills explications FTEM'!A5:C5","v":0},null,null,{"$f":"IF($H$2=\"G\",'Skills explications FTEM'!Q5,'Skills explications FTEM'!D5)","v":"LEADERSHIP"},null,null,{"$f":"IF($H$2=\"G\",'Skills explications FTEM'!T5,'Skills explications FTEM'!G5)","v":"prend des responsabilités, rend son coéquipier meilleur"},null,null,{"$f":"IF($H$2=\"G\",'Skills explications FTEM'!W5,'Skills explications FTEM'!J5)","v":0}]
[{"$f":"'Skills explications FTEM'!A6:C6","v":"ON ICE"},null,null,"CAPACITE",null,null,"OBSERVATION",null,null,null,null,null,null,"Date1",null,"Date2",null,"Date3",null,"Date4",null,"Date5",null,"Player",null,"BUT","MESURES:\nSPECIFIQUE, MESURABLES, REALISTE",null,null,null,null,null,null,"DELAI","CONTRÔLE DU BUT","Date"]
[{"$f":"'Skills explications FTEM'!A7:C7","v":"SKILL"},null,null,{"$f":"IF($H$2=\"G\",'Skills explications FTEM'!Q7,'Skills explications FTEM'!D7)","v":"TIR  (EFFET)"},null,null,{"$f":"IF($H$2=\"G\",'Skills explications FTEM'!T7,'Skills explications FTEM'!G7)","v":"Efficience (pas d'espace et de temps), variantes, degré de surprise (déclenchement rapide), précision, puissance (conclusion tactique)"},null,null,{"$f":"IF($H$2=\"G\",'Skills explications FTEM'!W7,'Skills explications FTEM'!J7)","v":0},null,null,null,{"$f":"IFERROR(AVERAGE(O16:O19),\"-\")","v":"-"},null,{"$f":"IFERROR(AVERAGE(Q16:Q19),\"-\")","v":"-"},null,{"$f":"IFERROR(AVERAGE(S16:S19),\"-\")","v":"-"},null,{"$f":"IFERROR(AVERAGE(U16:U19),\"-\")","v":"-"},null,{"$f":"IFERROR(AVERAGE(W16:W19),\"-\")","v":"-"},null,{"$f":"IFERROR(AVERAGE(Y16:Y19),\"-\")","v":"-"}]
[{"$f":"'Skills explications FTEM'!A8:C8","v":0},null,null,{"$f":"IF($H$2=\"G\",'Skills explications FTEM'!Q8,'Skills explications FTEM'!D8)","v":"PASSER"},null,null,{"$f":"IF($H$2=\"G\",'Skills explications FTEM'!T8,'Skills explications FTEM'!G8)","v":"Donne la passe (distance, passe flipée en revers), réception de la passe (précision, timing, coup droit, revers, patins), vitesse du puck"},null,null,{"$f":"IF($H$2=\"G\",'Skills explications FTEM'!W8,'Skills explications FTEM'!J8)","v":0}]
[{"$f":"'Skills explications FTEM'!A9:C9","v":0},null,null,{"$f":"IF($H$2=\"G\",'Skills explications FTEM'!Q9,'Skills explications FTEM'!D9)","v":"JEU DU CORPS"},null,null,{"$f":"IF($H$2=\"G\",'Skills explications FTEM'!T9,'Skills explications FTEM'!G9)","v":"Faculté de s'imposer physiquement, duels (sur la surface de glace ou à la bande), prendre des checks, lever la tête, niveau de lutte, dur mais correct, bloquer les tirs avec le corps"},null,null,{"$f":"IF($H$2=\"G\",'Skills explications FTEM'!W9,'Skills explications FTEM'!J9)","v":0},null,null,null,{"$f":"IFERROR(AVERAGE(O18:O19),\"-\")","v":"-"},null,{"$f":"IFERROR(AVERAGE(Q18:Q19),\"-\")","v":"-"},null,{"$f":"IFERROR(AVERAGE(S18:S19),\"-\")","v":"-"},null,{"$f":"IFERROR(AVERAGE(U18:U19),\"-\")","v":"-"},null,{"$f":"IFERROR(AVERAGE(W18:W19),\"-\")","v":"-"},null,"-"]
[{"$f":"'Skills explications FTEM'!A10:C10","v":0},null,null,{"$f":"IF($H$2=\"G\",'Skills explications FTEM'!Q10,'Skills explications FTEM'!D10)","v":"CONTRÔLE DU PUCK"},null,null,{"$f":"IF($H$2=\"G\",'Skills explications FTEM'!T10,'Skills explications FTEM'!G10)","v":"Contrôle du puck, dribbling, protection du puck, feintes (variantes: avec les patins ou avec et sans la bande), mise au jeu (bully)"},null,null,{"$f":"IF($H$2=\"G\",'Skills explications FTEM'!W10,'Skills explications FTEM'!J10)","v":0}]
[{"$f":"'Skills explications FTEM'!A11:C11","v":"SKATING"},null,null,{"$f":"IF($H$2=\"G\",'Skills explications FTEM'!Q11,'Skills explications FTEM'!D11)","v":"FOOTSPEED"},null,null,{"$f":"IF($H$2=\"G\",'Skills explications FTEM'!T11,'Skills explications FTEM'!G11)","v":"Accélération, départ, explosivité des 3 premiers pas, fréquence"},null,null,{"$f":"IF($H$2=\"G\",'Skills explications FTEM'!W11,'Skills explications FTEM'!J11)","v":0},null,null,null,{"$f":"IFERROR(AVERAGE(O20:O23),\"-\")","v":"-"},null,{"$f":"IFERROR(AVERAGE(Q20:Q23),\"-\")","v":"-"},null,{"$f":"IFERROR(AVERAGE(S20:S23),\"-\")","v":"-"},null,{"$f":"IFERROR(AVERAGE(U20:U23),\"-\")","v":"-"},null,{"$f":"IFERROR(AVERAGE(W20:W23),\"-\")","v":"-"},null,{"$f":"IFERROR(AVERAGE(Y20:Y23),\"-\")","v":"-"}]
[{"$f":"'Skills explications FTEM'!A12:C12","v":0},null,null,{"$f":"IF($H$2=\"G\",'Skills explications FTEM'!Q12,'Skills explications FTEM'!D12)","v":"MOBILITE"},null,null,{"$f":"IF($H$2=\"G\",'Skills explications FTEM'!T12,'Skills explications FTEM'!G12)","v":"Changements de direction, pivots, stop et start «Nummelin»"},null,null,{"$f":"IF($H$2=\"G\",'Skills explications FTEM'!W12,'Skills explications FTEM'!J12)","v":0}]
[{"$f":"'Skills explications FTEM'!A13:C13","v":0},null,null,{"$f":"IF($H$2=\"G\",'Skills explications FTEM'!Q13,'Skills explications FTEM'!D13)","v":"PATTINAGE ARRIÈRE"},null,null,{"$f":"IF($H$2=\"G\",'Skills explications FTEM'!T13,'Skills explications FTEM'!G13)","v":"Accélération, vitesse, équilibre"},null,null,{"$f":"IF($H$2=\"G\",'Skills explications FTEM'!W13,'Skills explications FTEM'!J13)","v":0}]
[{"$f":"'Skills explications FTEM'!A14:C14","v":0},null,null,{"$f":"IF($H$2=\"G\",'Skills explications FTEM'!Q14,'Skills explications FTEM'!D14)","v":"TOP SPEED"},null,null,{"$f":"IF($H$2=\"G\",'Skills explications FTEM'!T14,'Skills explications FTEM'!G14)","v":"Vitesse, faculté de glisse, avant et arrière, économie des forces"},null,null,{"$f":"IF($H$2=\"G\",'Skills explications FTEM'!W14,'Skills explications FTEM'!J14)","v":0}]
[{"$f":"'Skills explications FTEM'!A15:C15","v":"HOCKEY SENSE"},null,null,{"$f":"IF($H$2=\"G\",'Skills explications FTEM'!Q15,'Skills explications FTEM'!D15)","v":"SCORING"},null,null,{"$f":"IF($H$2=\"G\",'Skills explications FTEM'!T15,'Skills explications FTEM'!G15)","v":"Efficience, richesse des variantes, surpenant, vite, variante de tirs"},null,null,{"$f":"IF($H$2=\"G\",'Skills explications FTEM'!W15,'Skills explications FTEM'!J15)","v":0},null,null,null,{"$f":"IFERROR(AVERAGE(O24:O27),\"-\")","v":"-"},null,{"$f":"IFERROR(AVERAGE(Q24:Q27),\"-\")","v":"-"},null,{"$f":"IFERROR(AVERAGE(S24:S27),\"-\")","v":"-"},null,{"$f":"IFERROR(AVERAGE(U24:U27),\"-\")","v":"-"},null,{"$f":"IFERROR(AVERAGE(W24:W27),\"-\")","v":"-"},null,{"$f":"IFERROR(AVERAGE(Y24:Y27),\"-\")","v":"-"}]
[{"$f":"'Skills explications FTEM'!A16:C16","v":0},null,null,{"$f":"IF($H$2=\"G\",'Skills explications FTEM'!Q16,'Skills explications FTEM'!D16)","v":"AVEC PUCK"},null,null,{"$f":"IF($H$2=\"G\",'Skills explications FTEM'!T16,'Skills explications FTEM'!G16)","v":"créatif,  performing, batteling, fou, transition"},null,null,{"$f":"IF($H$2=\"G\",'Skills explications FTEM'!W16,'Skills explications FTEM'!J16)","v":0}]
[{"$f":"'Skills explications FTEM'!A17:C17","v":0},null,null,{"$f":"IF($H$2=\"G\",'Skills explications FTEM'!Q17,'Skills explications FTEM'!D17)","v":"SANS PUCK"},null,null,{"$f":"IF($H$2=\"G\",'Skills explications FTEM'!T17,'Skills explications FTEM'!G17)","v":"ouvert pour un passe (Support), 1:1, Gap"},null,null,{"$f":"IF($H$2=\"G\",'Skills explications FTEM'!W17,'Skills explications FTEM'!J17)","v":0}]
[{"$f":"'Skills explications FTEM'!A18:C18","v":0},null,null,{"$f":"IF($H$2=\"G\",'Skills explications FTEM'!Q18,'Skills explications FTEM'!D18)","v":"DEFENSIF"},null,null,{"$f":"IF($H$2=\"G\",'Skills explications FTEM'!T18,'Skills explications FTEM'!G18)","v":"on peut compter dessus,  1:1, Gap, identification de l'homme"},null,null,{"$f":"IF($H$2=\"G\",'Skills explications FTEM'!W18,'Skills explications FTEM'!J18)","v":0}]
[{"$f":"'Skills explications FTEM'!A19:C19","v":"PERSONALITY"},null,null,"CAPACITE",null,null,"OBSERVATION",null,null,null,null,null,null,"Date1",null,"Date2",null,"Date3",null,"Date4",null,"Date5",null,"Player",null,"BUT","MESURES:\nSPECIFIQUE, MESURABLES, REALISTE",null,null,null,null,null,null,"DELAI","CONTRÔLE DU BUT","Date"]
[{"$f":"'Skills explications FTEM'!A20:C20","v":"PERSONALITÉ"},null,null,{"$f":"IF($H$2=\"G\",'Skills explications FTEM'!Q20,'Skills explications FTEM'!D20)","v":"MOTIVATION"},null,null,{"$f":"IF($H$2=\"G\",'Skills explications FTEM'!T20,'Skills explications FTEM'!G20)","v":"Est toujours motivé, veut sans cesse se développer et apprendre, veut être le premier et avoir du succès, n'abandonne jamais et ne se laisse pas influencer par les échecs"},null,null,{"$f":"IF($H$2=\"G\",'Skills explications FTEM'!W20,'Skills explications FTEM'!J20)","v":0},null,null,null,{"$f":"IFERROR(AVERAGE(O29:O32),\"-\")","v":"-"},null,null,null,{"$f":"IFERROR(AVERAGE(S29:S32),\"-\")","v":"-"},null,{"$f":"IFERROR(AVERAGE(U29:U32),\"-\")","v":"-"},null,{"$f":"IFERROR(AVERAGE(W29:W32),\"-\")","v":"-"},null,{"$f":"IFERROR(AVERAGE(Y29:Y32),\"-\")","v":"-"}]
[{"$f":"'Skills explications FTEM'!A21:C21","v":0},null,null,{"$f":"IF($H$2=\"G\",'Skills explications FTEM'!Q21,'Skills explications FTEM'!D21)","v":"CONFIENCE EN SOI"},null,null,{"$f":"IF($H$2=\"G\",'Skills explications FTEM'!T21,'Skills explications FTEM'!G21)","v":"Est en confiance, «I can do it», peut estimer ses capacités (connaît ses qualités et ses défauts), peut réaliser ses qualités avec constance, est courageux et prend des risques calculés"},null,null,{"$f":"IF($H$2=\"G\",'Skills explications FTEM'!W21,'Skills explications FTEM'!J21)","v":0}]
[{"$f":"'Skills explications FTEM'!A22:C22","v":0},null,null,{"$f":"IF($H$2=\"G\",'Skills explications FTEM'!Q22,'Skills explications FTEM'!D22)","v":"FACULTÉES D'APPRENTISSAGE"},null,null,{"$f":"IF($H$2=\"G\",'Skills explications FTEM'!T22,'Skills explications FTEM'!G22)","v":"A une bonne perception (il peut mémoriser et peut réaliser), il a de la personnalité, essaie d'apprendre de ses erreurs et est entreprenant"},null,null,{"$f":"IF($H$2=\"G\",'Skills explications FTEM'!W22,'Skills explications FTEM'!J22)","v":0}]
[{"$f":"'Skills explications FTEM'!A23:C23","v":0},null,null,{"$f":"IF($H$2=\"G\",'Skills explications FTEM'!Q23,'Skills explications FTEM'!D23)","v":"PERFORMANCE, STYLE DE VIE"},null,null,{"$f":"IF($H$2=\"G\",'Skills explications FTEM'!T23,'Skills explications FTEM'!G23)","v":"Gère bien son environnement et son temps libre selon les principes de la performance, obstiné, tenace et axé sur l'objectif, accent sur sa propre performance, est courageux et peut s'imposer contre de la résistance, les défis le motivent"},null,null,{"$f":"IF($H$2=\"G\",'Skills explications FTEM'!W23,'Skills explications FTEM'!J23)","v":0}]
[{"$f":"'Skills explications FTEM'!A24:C24","v":"POWER MENTAL"},null,null,{"$f":"IF($H$2=\"G\",'Skills explications FTEM'!Q24,'Skills explications FTEM'!D24)","v":"GESTION DES ÉNERGIES"},null,null,{"$f":"IF($H$2=\"G\",'Skills explications FTEM'!T24,'Skills explications FTEM'!G24)","v":"Peut-il gérer ses propres énergies, prend-il soin de sa régénération, peut-il gérer les moments où il faut se donner à fond ou quand il faut déconnecter, bouton On/Off"},null,null,{"$f":"IF($H$2=\"G\",'Skills explications FTEM'!W24,'Skills explications FTEM'!J24)","v":0},null,null,null,{"$f":"IFERROR(AVERAGE(O33:O36),\"-\")","v":"-"},null,null,null,{"$f":"IFERROR(AVERAGE(S33:S36),\"-\")","v":"-"},null,{"$f":"IFERROR(AVERAGE(U33:U36),\"-\")","v":"-"},null,{"$f":"IFERROR(AVERAGE(W33:W36),\"-\")","v":"-"},null,{"$f":"IFERROR(AVERAGE(Y33:Y36),\"-\")","v":"-"}]
[{"$f":"'Skills explications FTEM'!A25:C25","v":0},null,null,{"$f":"IF($H$2=\"G\",'Skills explications FTEM'!Q25,'Skills explications FTEM'!D25)","v":"ENGAGEMENT"},null,null,{"$f":"IF($H$2=\"G\",'Skills explications FTEM'!T25,'Skills explications FTEM'!G25)","v":"Démontre beaucoup d'intensité dans les entraînements et les matchs, donne toujours son maximum et veut sans cesse repousser ses limites, a-t-il de la passion, s'efforce-t-il de s'entraîner avec une excellente qualité"},null,null,{"$f":"IF($H$2=\"G\",'Skills explications FTEM'!W25,'Skills explications FTEM'!J25)","v":0}]
[{"$f":"'Skills explications FTEM'!A26:C26","v":0},null,null,{"$f":"IF($H$2=\"G\",'Skills explications FTEM'!Q26,'Skills explications FTEM'!D26)","v":"CONTRÔLE DES ÉMOTIONS"},null,null,{"$f":"IF($H$2=\"G\",'Skills explications FTEM'!T26,'Skills explications FTEM'!G26)","v":"Peut-il gérer ses propres émotions et impulsions, reste-t-il sous contrôle lorsqu'il y a une grande pression, peut-il rester calme lorsque le niveau émotionnel et de frustration est élevé"},null,null,{"$f":"IF($H$2=\"G\",'Skills explications FTEM'!W26,'Skills explications FTEM'!J26)","v":0}]
[{"$f":"'Skills explications FTEM'!A27:C27","v":0},null,null,{"$f":"IF($H$2=\"G\",'Skills explications FTEM'!Q27,'Skills explications FTEM'!D27)","v":"PRÉPARATION"},null,null,{"$f":"IF($H$2=\"G\",'Skills explications FTEM'!T27,'Skills explications FTEM'!G27)","v":"Se prépare-t-il toujours bien, mentalement et physiquement, se prépare-t-il toujours bien pour obtenir le niveau de performance idéal (ILZ)"},null,null,{"$f":"IF($H$2=\"G\",'Skills explications FTEM'!W27,'Skills explications FTEM'!J27)","v":0}]
[{"$f":"'Skills explications FTEM'!A28:C28","v":"PYHSE (Athletik)"},null,null,{"$f":"IF($H$2=\"G\",'Skills explications FTEM'!Q28,'Skills explications FTEM'!D28)","v":"PRODUCTION DE LA PERFORMANCE"},null,null,{"$f":"IF($H$2=\"G\",'Skills explications FTEM'!T28,'Skills explications FTEM'!G28)","v":"A-t-il la puissance, la force, la vitesse nécessaires dans les jambes et le haut du corps (facteurs neuromusculaires)"},null,null,{"$f":"IF($H$2=\"G\",'Skills explications FTEM'!W28,'Skills explications FTEM'!J28)","v":0},null,null,null,{"$f":"IFERROR(AVERAGE(O37:O40),\"-\")","v":"-"},null,null,null,{"$f":"IFERROR(AVERAGE(S37:S40),\"-\")","v":"-"},null,{"$f":"IFERROR(AVERAGE(U37:U40),\"-\")","v":"-"},null,{"$f":"IFERROR(AVERAGE(W37:W40),\"-\")","v":"-"},null,{"$f":"IFERROR(AVERAGE(Y37:Y40),\"-\")","v":"-"}]
[{"$f":"'Skills explications FTEM'!A29:C29","v":0},null,null,{"$f":"IF($H$2=\"G\",'Skills explications FTEM'!Q29,'Skills explications FTEM'!D29)","v":"SPÉCIFIQUE AU SPORT, RÉSISTANT À L'EFFORT"},null,null,{"$f":"IF($H$2=\"G\",'Skills explications FTEM'!T29,'Skills explications FTEM'!G29)","v":"Est-il capable de maintenir sa puissance, sa force, sa vitesse durant un long temps de glace et peut-il récupérer complètement entre ses engagements (facteurs du métabolisme et cardiovasculaire)"},null,null,{"$f":"IF($H$2=\"G\",'Skills explications FTEM'!W29,'Skills explications FTEM'!J29)","v":0}]
[{"$f":"'Skills explications FTEM'!A30:C30","v":0},null,null,{"$f":"IF($H$2=\"G\",'Skills explications FTEM'!Q30,'Skills explications FTEM'!D30)","v":"MOBILITÉ/ COODINATION"},null,null,{"$f":"IF($H$2=\"G\",'Skills explications FTEM'!T30,'Skills explications FTEM'!G30)","v":"Gère-t-il ses aptitudes de mouvements de base, qui sont un fournisseur important des fonctions spécifiques «Skills» pour être efficace"},null,null,{"$f":"IF($H$2=\"G\",'Skills explications FTEM'!W30,'Skills explications FTEM'!J30)","v":0}]
[{"$f":"'Skills explications FTEM'!A31:C31","v":0},null,null,{"$f":"IF($H$2=\"G\",'Skills explications FTEM'!Q31,'Skills explications FTEM'!D31)","v":"ROBUSTESSE / PREVENTION"},null,null,{"$f":"IF($H$2=\"G\",'Skills explications FTEM'!T31,'Skills explications FTEM'!G31)","v":"A-t-il la force de base nécessaire (tension corporelle) pour gagner des duels et résister aux charges, A-t-il la stabilité nécessaire (ex. ses appuis) et la mobilité nécessaire au niveau des articulations centrales"},null,null,{"$f":"IF($H$2=\"G\",'Skills explications FTEM'!W31,'Skills explications FTEM'!J31)","v":0}]

{"sheet":"3","index":6,"n_rows":40,"n_cols":36,"rows_kept":40,"cut":false,"hidden":false,"merged":[[36,25,39,25],[36,26,39,32],[36,34,39,34],[32,23,35,23],[33,3,33,5],[33,6,33,11],[35,3,35,5],[35,6,35,11],[32,0,35,2],[32,3,32,5],[32,6,32,11],[32,12,35,12],[32,13,35,13],[32,15,35,15],[36,0,39,2],[36,3,36,5],[36,6,36,11],[36,12,39,12],[36,23,39,23],[37,3,37,5],[37,6,37,11],[38,3,38,5],[38,6,38,11],[39,3,39,5],[27,21,27,22],[28,17,31,17],[28,19,31,19],[28,21,31,21],[29,3,29,5],[29,6,29,11],[30,3,30,5],[30,6,30,11],[32,17,35,17],[32,19,35,19],[32,21,35,21],[34,3,34,5],[34,6,34,11],[23,0,26,2],[23,3,23,5],[23,6,23,11],[23,12,26,12],[23,13,26,13],[23,15,26,15],[27,23,27,24],[27,26,27,32],[28,0,31,2],[28,3,28,5],[28,6,28,11],[28,12,31,12],[28,13,31,13],[28,15,31,15],[31,3,31,5],[31,6,31,11],[28,23,31,23],[27,0,27,2],[27,3,27,5],[27,6,27,11],[27,13,27,14],[27,15,27,16],[27,17,27,18],[27,19,27,20],[19,21,22,21],[19,23,22,23],[20,3,20,5],[20,6,20,11],[22,3,22,5],[22,6,22,11],[26,3,26,5],[26,6,26,11],[23,23,26,23],[23,17,26,17],[23,19,26,19],[23,21,26,21],[24,3,24,5],[24,6,24,11],[25,3,25,5],[25,6,25,11],[21,3,21,5],[21,6,21,11],[15,15,18,15],[15,17,18,17],[15,19,18,19],[15,21,18,21],[15,23,18,23],[18,3,18,5],[18,6,18,11],[19,0,22,2],[19,3,19,5],[19,6,19,11],[19,12,22,12],[19,13,22,13],[19,15,22,15],[19,17,22,17],[15,0,18,2],[15,3,15,5],[15,6,15,11],[15,12,18,12],[15,13,18,13],[16,3,16,5],[16,6,16,11],[17,3,17,5],[17,6,17,11],[19,19,22,19],[12,23,13,23],[13,3,13,5],[13,6,13,11],[14,0,14,2],[14,3,14,5],[14,6,14,11],[14,13,14,14],[14,15,14,16],[14,17,14,18],[14,19,14,20],[14,21,14,22],[14,23,14,24],[12,0,13,2],[12,3,12,5],[12,6,12,11],[12,12,13,12],[12,13,13,13],[12,15,13,15],[12,17,13,17],[12,19,13,19],[12,21,13,21],[11,0,11,2],[11,3,11,5],[11,13,11,14],[11,15,11,16],[11,17,11,18],[11,19,11,20],[11,21,11,22],[11,23,11,24],[11,26,11,32],[11,6,11,11],[0,33,0,35],[23,25,26,25],[23,26,26,32],[23,34,26,34],[28,25,31,25],[28,26,31,32],[28,34,31,34],[1,0,1,1],[1,2,1,5],[1,10,1,24],[2,0,2,1],[2,2,2,5],[2,11,2,24],[6,0,6,1],[6,2,6,35],[7,0,7,1],[7,2,7,35],[8,0,8,1],[8,2,8,35],[3,0,3,1],[3,10,3,24],[4,0,4,1],[4,2,4,5],[4,10,4,24],[39,6,39,11],[36,13,39,13],[36,15,39,15],[36,17,39,17],[36,19,39,19],[36,21,39,21],[0,0,0,24],[0,25,0,26],[0,27,0,32],[10,0,10,24],[10,25,10,35],[32,25,35,25],[32,26,35,32],[32,34,35,34],[12,25,13,25],[12,26,13,32],[12,34,13,34],[15,25,18,25],[15,26,18,32],[15,34,18,34],[19,25,22,25],[19,26,22,32],[19,34,22,34],[14,26,14,32]]}
["Infos personelles",null,null,null,null,null,null,null,null,null,null,null,null,null,null,null,null,null,null,null,null,null,null,null,null,"Predispositions",null,"Evaluations",null,null,null,null,null,"Rating"]
["PRENOM",null,{"$f":"IF(ISBLANK(VLOOKUP(3,Tabelle3[],3,0)),\"-\",VLOOKUP(3,Tabelle3[],3,0))","v":"-"},null,null,null,"POSITION",null,null,"ADRESSE",{"$f":"IF(ISBLANK(VLOOKUP(3,Tabelle3[],5,0)),\"-\",VLOOKUP(3,Tabelle3[],5,0))","v":"-"},null,null,null,null,null,null,null,null,null,null,null,null,null,null,"\"àage\" (Biologique/age relatif)",null,"Date 1",null,null,"cm",null,"Kg",null,"AUSGEZEICHNET",5]
["NOM",null,{"$f":"IF(ISBLANK(VLOOKUP(3,Tabelle3[],2,0)),\"-\",VLOOKUP(3,Tabelle3[],2,0))","v":"-"},null,null,null,"CANNE",null,null,"LIEU",{"$f":"IF(ISBLANK(VLOOKUP(3,Tabelle3[],7,0)),\"-\",VLOOKUP(3,Tabelle3[],7,0))","v":"-"},{"$f":"IF(ISBLANK(VLOOKUP(3,Tabelle3[],6,0)),\"-\",VLOOKUP(3,Tabelle3[],6,0))","v":"-"},null,null,null,null,null,null,null,null,null,null,null,null,null,"predispositions",null,"Date 2",null,null,"cm",null,"Kg",null,"GUT",4]
["DATE NAISS.",null,{"$f":"IF(ISBLANK(VLOOKUP(3,Tabelle3[],14,0)),\"-\",VLOOKUP(3,Tabelle3[],14,0))","v":"-"},{"$f":"IF(ISBLANK(VLOOKUP(3,Tabelle3[],15,0)),\"-\",VLOOKUP(3,Tabelle3[],15,0))","v":"-"},{"$f":"IF(ISBLANK(VLOOKUP(3,Tabelle3[],16,0)),\"-\",VLOOKUP(3,Tabelle3[],16,0))","v":"-"},null,"GRANDEUR",null,"cm","PHONE",{"$f":"IF(ISBLANK(VLOOKUP(3,Tabelle3[],8,0)),\"-\",VLOOKUP(3,Tabelle3[],8,0))","v":"-"},null,null,null,null,null,null,null,null,null,null,null,null,null,null,"Entourage",null,"Date 3",null,null,"cm",null,"Kg",null,"DURCHSCHNITT",3]
["SEXE",null,{"$f":"IF(ISBLANK(VLOOKUP(3,Tabelle3[],13,0)),\"-\",VLOOKUP(3,Tabelle3[],13,0))","v":"-"},null,null,null,"POIDS",null,"Kg","E-Mail",{"$f":"IF(ISBLANK(VLOOKUP(3,Tabelle3[],9,0)),\"-\",VLOOKUP(3,Tabelle3[],9,0))","v":"-"},null,null,null,null,null,null,null,null,null,null,null,null,null,null,null,null,"Date 4",null,null,"cm",null,"Kg",null,"MANGELHAFT",2]
[null,null,null,null,null,null,null,null,null,null,null,null,null,null,null,null,null,null,null,null,null,null,null,null,null,null,null,"Date 5",null,null,"cm",null,"Kg",null,"UNGENÜGEND",1]
["Vision",null,"xxx"]
["Next step",null,"xxx"]
["Profil du Joueur",null,"xxx"]
[]
["EVALUATION (COACH / JOUEUR)",null,null,null,null,null,null,null,null,null,null,null,null,null,null,null,null,null,null,null,null,null,null,null,null,"SMART"]
[{"$f":"'Skills explications FTEM'!A3:C3","v":"TEAM"},null,null,"CAPACITE",null,null,"OBSERVATION",null,null,null,null,null,"Final","Date1",null,"Date2",null,"Date3",null,"Date4",null,"Date5",null,"Player",null,"BUT","MESURES:\nSPECIFIQUE, MESURABLES, REALISTE",null,null,null,null,null,null,"DELAI","CONTRÔLE DU BUT","Date"]
[{"$f":"'Skills explications FTEM'!A4:C4","v":"ROLLE, SOZIAL"},null,null,{"$f":"IF($H$2=\"G\",'Skills explications FTEM'!Q4,'Skills explications FTEM'!D4)","v":"PENSER EQUIPE"},null,null,{"$f":"IF($H$2=\"G\",'Skills explications FTEM'!T4,'Skills explications FTEM'!G4)","v":"Identification au rôle, relation au cammarades (social, intégration)"},null,null,{"$f":"IF($H$2=\"G\",'Skills explications FTEM'!W4,'Skills explications FTEM'!J4)","v":0},null,null,null,{"$f":"IFERROR(AVERAGE(O13:O14),\"-\")","v":"-"},null,{"$f":"IFERROR(AVERAGE(Q13:Q14),\"-\")","v":"-"},null,{"$f":"IFERROR(AVERAGE(S13:S14),\"-\")","v":"-"},null,{"$f":"IFERROR(AVERAGE(U13:U14),\"-\")","v":"-"},null,{"$f":"IFERROR(AVERAGE(W13:W14),\"-\")","v":"-"},null,{"$f":"IFERROR(AVERAGE(Y13:Y14),\"-\")","v":"-"}]
[{"$f":"'Skills explications FTEM'!A5:C5","v":0},null,null,{"$f":"IF($H$2=\"G\",'Skills explications FTEM'!Q5,'Skills explications FTEM'!D5)","v":"LEADERSHIP"},null,null,{"$f":"IF($H$2=\"G\",'Skills explications FTEM'!T5,'Skills explications FTEM'!G5)","v":"prend des responsabilités, rend son coéquipier meilleur"},null,null,{"$f":"IF($H$2=\"G\",'Skills explications FTEM'!W5,'Skills explications FTEM'!J5)","v":0}]
[{"$f":"'Skills explications FTEM'!A6:C6","v":"ON ICE"},null,null,"CAPACITE",null,null,"OBSERVATION",null,null,null,null,null,null,"Date1",null,"Date2",null,"Date3",null,"Date4",null,"Date5",null,"Player",null,"BUT","MESURES:\nSPECIFIQUE, MESURABLES, REALISTE",null,null,null,null,null,null,"DELAI","CONTRÔLE DU BUT","Date"]
[{"$f":"'Skills explications FTEM'!A7:C7","v":"SKILL"},null,null,{"$f":"IF($H$2=\"G\",'Skills explications FTEM'!Q7,'Skills explications FTEM'!D7)","v":"TIR  (EFFET)"},null,null,{"$f":"IF($H$2=\"G\",'Skills explications FTEM'!T7,'Skills explications FTEM'!G7)","v":"Efficience (pas d'espace et de temps), variantes, degré de surprise (déclenchement rapide), précision, puissance (conclusion tactique)"},null,null,{"$f":"IF($H$2=\"G\",'Skills explications FTEM'!W7,'Skills explications FTEM'!J7)","v":0},null,null,null,{"$f":"IFERROR(AVERAGE(O16:O19),\"-\")","v":"-"},null,{"$f":"IFERROR(AVERAGE(Q16:Q19),\"-\")","v":"-"},null,{"$f":"IFERROR(AVERAGE(S16:S19),\"-\")","v":"-"},null,{"$f":"IFERROR(AVERAGE(U16:U19),\"-\")","v":"-"},null,{"$f":"IFERROR(AVERAGE(W16:W19),\"-\")","v":"-"},null,{"$f":"IFERROR(AVERAGE(Y16:Y19),\"-\")","v":"-"}]
[{"$f":"'Skills explications FTEM'!A8:C8","v":0},null,null,{"$f":"IF($H$2=\"G\",'Skills explications FTEM'!Q8,'Skills explications FTEM'!D8)","v":"PASSER"},null,null,{"$f":"IF($H$2=\"G\",'Skills explications FTEM'!T8,'Skills explications FTEM'!G8)","v":"Donne la passe (distance, passe flipée en revers), réception de la passe (précision, timing, coup droit, revers, patins), vitesse du puck"},null,null,{"$f":"IF($H$2=\"G\",'Skills explications FTEM'!W8,'Skills explications FTEM'!J8)","v":0}]
[{"$f":"'Skills explications FTEM'!A9:C9","v":0},null,null,{"$f":"IF($H$2=\"G\",'Skills explications FTEM'!Q9,'Skills explications FTEM'!D9)","v":"JEU DU CORPS"},null,null,{"$f":"IF($H$2=\"G\",'Skills explications FTEM'!T9,'Skills explications FTEM'!G9)","v":"Faculté de s'imposer physiquement, duels (sur la surface de glace ou à la bande), prendre des checks, lever la tête, niveau de lutte, dur mais correct, bloquer les tirs avec le corps"},null,null,{"$f":"IF($H$2=\"G\",'Skills explications FTEM'!W9,'Skills explications FTEM'!J9)","v":0},null,null,null,{"$f":"IFERROR(AVERAGE(O18:O19),\"-\")","v":"-"},null,{"$f":"IFERROR(AVERAGE(Q18:Q19),\"-\")","v":"-"},null,{"$f":"IFERROR(AVERAGE(S18:S19),\"-\")","v":"-"},null,{"$f":"IFERROR(AVERAGE(U18:U19),\"-\")","v":"-"},null,{"$f":"IFERROR(AVERAGE(W18:W19),\"-\")","v":"-"},null,"-"]
[{"$f":"'Skills explications FTEM'!A10:C10","v":0},null,null,{"$f":"IF($H$2=\"G\",'Skills explications FTEM'!Q10,'Skills explications FTEM'!D10)","v":"CONTRÔLE DU PUCK"},null,null,{"$f":"IF($H$2=\"G\",'Skills explications FTEM'!T10,'Skills explications FTEM'!G10)","v":"Contrôle du puck, dribbling, protection du puck, feintes (variantes: avec les patins ou avec et sans la bande), mise au jeu (bully)"},null,null,{"$f":"IF($H$2=\"G\",'Skills explications FTEM'!W10,'Skills explications FTEM'!J10)","v":0}]
[{"$f":"'Skills explications FTEM'!A11:C11","v":"SKATING"},null,null,{"$f":"IF($H$2=\"G\",'Skills explications FTEM'!Q11,'Skills explications FTEM'!D11)","v":"FOOTSPEED"},null,null,{"$f":"IF($H$2=\"G\",'Skills explications FTEM'!T11,'Skills explications FTEM'!G11)","v":"Accélération, départ, explosivité des 3 premiers pas, fréquence"},null,null,{"$f":"IF($H$2=\"G\",'Skills explications FTEM'!W11,'Skills explications FTEM'!J11)","v":0},null,null,null,{"$f":"IFERROR(AVERAGE(O20:O23),\"-\")","v":"-"},null,{"$f":"IFERROR(AVERAGE(Q20:Q23),\"-\")","v":"-"},null,{"$f":"IFERROR(AVERAGE(S20:S23),\"-\")","v":"-"},null,{"$f":"IFERROR(AVERAGE(U20:U23),\"-\")","v":"-"},null,{"$f":"IFERROR(AVERAGE(W20:W23),\"-\")","v":"-"},null,{"$f":"IFERROR(AVERAGE(Y20:Y23),\"-\")","v":"-"}]
[{"$f":"'Skills explications FTEM'!A12:C12","v":0},null,null,{"$f":"IF($H$2=\"G\",'Skills explications FTEM'!Q12,'Skills explications FTEM'!D12)","v":"MOBILITE"},null,null,{"$f":"IF($H$2=\"G\",'Skills explications FTEM'!T12,'Skills explications FTEM'!G12)","v":"Changements de direction, pivots, stop et start «Nummelin»"},null,null,{"$f":"IF($H$2=\"G\",'Skills explications FTEM'!W12,'Skills explications FTEM'!J12)","v":0}]
[{"$f":"'Skills explications FTEM'!A13:C13","v":0},null,null,{"$f":"IF($H$2=\"G\",'Skills explications FTEM'!Q13,'Skills explications FTEM'!D13)","v":"PATTINAGE ARRIÈRE"},null,null,{"$f":"IF($H$2=\"G\",'Skills explications FTEM'!T13,'Skills explications FTEM'!G13)","v":"Accélération, vitesse, équilibre"},null,null,{"$f":"IF($H$2=\"G\",'Skills explications FTEM'!W13,'Skills explications FTEM'!J13)","v":0}]
[{"$f":"'Skills explications FTEM'!A14:C14","v":0},null,null,{"$f":"IF($H$2=\"G\",'Skills explications FTEM'!Q14,'Skills explications FTEM'!D14)","v":"TOP SPEED"},null,null,{"$f":"IF($H$2=\"G\",'Skills explications FTEM'!T14,'Skills explications FTEM'!G14)","v":"Vitesse, faculté de glisse, avant et arrière, économie des forces"},null,null,{"$f":"IF($H$2=\"G\",'Skills explications FTEM'!W14,'Skills explications FTEM'!J14)","v":0}]
[{"$f":"'Skills explications FTEM'!A15:C15","v":"HOCKEY SENSE"},null,null,{"$f":"IF($H$2=\"G\",'Skills explications FTEM'!Q15,'Skills explications FTEM'!D15)","v":"SCORING"},null,null,{"$f":"IF($H$2=\"G\",'Skills explications FTEM'!T15,'Skills explications FTEM'!G15)","v":"Efficience, richesse des variantes, surpenant, vite, variante de tirs"},null,null,{"$f":"IF($H$2=\"G\",'Skills explications FTEM'!W15,'Skills explications FTEM'!J15)","v":0},null,null,null,{"$f":"IFERROR(AVERAGE(O24:O27),\"-\")","v":"-"},null,{"$f":"IFERROR(AVERAGE(Q24:Q27),\"-\")","v":"-"},null,{"$f":"IFERROR(AVERAGE(S24:S27),\"-\")","v":"-"},null,{"$f":"IFERROR(AVERAGE(U24:U27),\"-\")","v":"-"},null,{"$f":"IFERROR(AVERAGE(W24:W27),\"-\")","v":"-"},null,{"$f":"IFERROR(AVERAGE(Y24:Y27),\"-\")","v":"-"}]
[{"$f":"'Skills explications FTEM'!A16:C16","v":0},null,null,{"$f":"IF($H$2=\"G\",'Skills explications FTEM'!Q16,'Skills explications FTEM'!D16)","v":"AVEC PUCK"},null,null,{"$f":"IF($H$2=\"G\",'Skills explications FTEM'!T16,'Skills explications FTEM'!G16)","v":"créatif,  performing, batteling, fou, transition"},null,null,{"$f":"IF($H$2=\"G\",'Skills explications FTEM'!W16,'Skills explications FTEM'!J16)","v":0}]
[{"$f":"'Skills explications FTEM'!A17:C17","v":0},null,null,{"$f":"IF($H$2=\"G\",'Skills explications FTEM'!Q17,'Skills explications FTEM'!D17)","v":"SANS PUCK"},null,null,{"$f":"IF($H$2=\"G\",'Skills explications FTEM'!T17,'Skills explications FTEM'!G17)","v":"ouvert pour un passe (Support), 1:1, Gap"},null,null,{"$f":"IF($H$2=\"G\",'Skills explications FTEM'!W17,'Skills explications FTEM'!J17)","v":0}]
[{"$f":"'Skills explications FTEM'!A18:C18","v":0},null,null,{"$f":"IF($H$2=\"G\",'Skills explications FTEM'!Q18,'Skills explications FTEM'!D18)","v":"DEFENSIF"},null,null,{"$f":"IF($H$2=\"G\",'Skills explications FTEM'!T18,'Skills explications FTEM'!G18)","v":"on peut compter dessus,  1:1, Gap, identification de l'homme"},null,null,{"$f":"IF($H$2=\"G\",'Skills explications FTEM'!W18,'Skills explications FTEM'!J18)","v":0}]
[{"$f":"'Skills explications FTEM'!A19:C19","v":"PERSONALITY"},null,null,"CAPACITE",null,null,"OBSERVATION",null,null,null,null,null,null,"Date1",null,"Date2",null,"Date3",null,"Date4",null,"Date5",null,"Player",null,"BUT","MESURES:\nSPECIFIQUE, MESURABLES, REALISTE",null,null,null,null,null,null,"DELAI","CONTRÔLE DU BUT","Date"]
[{"$f":"'Skills explications FTEM'!A20:C20","v":"PERSONALITÉ"},null,null,{"$f":"IF($H$2=\"G\",'Skills explications FTEM'!Q20,'Skills explications FTEM'!D20)","v":"MOTIVATION"},null,null,{"$f":"IF($H$2=\"G\",'Skills explications FTEM'!T20,'Skills explications FTEM'!G20)","v":"Est toujours motivé, veut sans cesse se développer et apprendre, veut être le premier et avoir du succès, n'abandonne jamais et ne se laisse pas influencer par les échecs"},null,null,{"$f":"IF($H$2=\"G\",'Skills explications FTEM'!W20,'Skills explications FTEM'!J20)","v":0},null,null,null,{"$f":"IFERROR(AVERAGE(O29:O32),\"-\")","v":"-"},null,null,null,{"$f":"IFERROR(AVERAGE(S29:S32),\"-\")","v":"-"},null,{"$f":"IFERROR(AVERAGE(U29:U32),\"-\")","v":"-"},null,{"$f":"IFERROR(AVERAGE(W29:W32),\"-\")","v":"-"},null,{"$f":"IFERROR(AVERAGE(Y29:Y32),\"-\")","v":"-"}]
[{"$f":"'Skills explications FTEM'!A21:C21","v":0},null,null,{"$f":"IF($H$2=\"G\",'Skills explications FTEM'!Q21,'Skills explications FTEM'!D21)","v":"CONFIENCE EN SOI"},null,null,{"$f":"IF($H$2=\"G\",'Skills explications FTEM'!T21,'Skills explications FTEM'!G21)","v":"Est en confiance, «I can do it», peut estimer ses capacités (connaît ses qualités et ses défauts), peut réaliser ses qualités avec constance, est courageux et prend des risques calculés"},null,null,{"$f":"IF($H$2=\"G\",'Skills explications FTEM'!W21,'Skills explications FTEM'!J21)","v":0}]
[{"$f":"'Skills explications FTEM'!A22:C22","v":0},null,null,{"$f":"IF($H$2=\"G\",'Skills explications FTEM'!Q22,'Skills explications FTEM'!D22)","v":"FACULTÉES D'APPRENTISSAGE"},null,null,{"$f":"IF($H$2=\"G\",'Skills explications FTEM'!T22,'Skills explications FTEM'!G22)","v":"A une bonne perception (il peut mémoriser et peut réaliser), il a de la personnalité, essaie d'apprendre de ses erreurs et est entreprenant"},null,null,{"$f":"IF($H$2=\"G\",'Skills explications FTEM'!W22,'Skills explications FTEM'!J22)","v":0}]
[{"$f":"'Skills explications FTEM'!A23:C23","v":0},null,null,{"$f":"IF($H$2=\"G\",'Skills explications FTEM'!Q23,'Skills explications FTEM'!D23)","v":"PERFORMANCE, STYLE DE VIE"},null,null,{"$f":"IF($H$2=\"G\",'Skills explications FTEM'!T23,'Skills explications FTEM'!G23)","v":"Gère bien son environnement et son temps libre selon les principes de la performance, obstiné, tenace et axé sur l'objectif, accent sur sa propre performance, est courageux et peut s'imposer contre de la résistance, les défis le motivent"},null,null,{"$f":"IF($H$2=\"G\",'Skills explications FTEM'!W23,'Skills explications FTEM'!J23)","v":0}]
[{"$f":"'Skills explications FTEM'!A24:C24","v":"POWER MENTAL"},null,null,{"$f":"IF($H$2=\"G\",'Skills explications FTEM'!Q24,'Skills explications FTEM'!D24)","v":"GESTION DES ÉNERGIES"},null,null,{"$f":"IF($H$2=\"G\",'Skills explications FTEM'!T24,'Skills explications FTEM'!G24)","v":"Peut-il gérer ses propres énergies, prend-il soin de sa régénération, peut-il gérer les moments où il faut se donner à fond ou quand il faut déconnecter, bouton On/Off"},null,null,{"$f":"IF($H$2=\"G\",'Skills explications FTEM'!W24,'Skills explications FTEM'!J24)","v":0},null,null,null,{"$f":"IFERROR(AVERAGE(O33:O36),\"-\")","v":"-"},null,null,null,{"$f":"IFERROR(AVERAGE(S33:S36),\"-\")","v":"-"},null,{"$f":"IFERROR(AVERAGE(U33:U36),\"-\")","v":"-"},null,{"$f":"IFERROR(AVERAGE(W33:W36),\"-\")","v":"-"},null,{"$f":"IFERROR(AVERAGE(Y33:Y36),\"-\")","v":"-"}]
[{"$f":"'Skills explications FTEM'!A25:C25","v":0},null,null,{"$f":"IF($H$2=\"G\",'Skills explications FTEM'!Q25,'Skills explications FTEM'!D25)","v":"ENGAGEMENT"},null,null,{"$f":"IF($H$2=\"G\",'Skills explications FTEM'!T25,'Skills explications FTEM'!G25)","v":"Démontre beaucoup d'intensité dans les entraînements et les matchs, donne toujours son maximum et veut sans cesse repousser ses limites, a-t-il de la passion, s'efforce-t-il de s'entraîner avec une excellente qualité"},null,null,{"$f":"IF($H$2=\"G\",'Skills explications FTEM'!W25,'Skills explications FTEM'!J25)","v":0}]
[{"$f":"'Skills explications FTEM'!A26:C26","v":0},null,null,{"$f":"IF($H$2=\"G\",'Skills explications FTEM'!Q26,'Skills explications FTEM'!D26)","v":"CONTRÔLE DES ÉMOTIONS"},null,null,{"$f":"IF($H$2=\"G\",'Skills explications FTEM'!T26,'Skills explications FTEM'!G26)","v":"Peut-il gérer ses propres émotions et impulsions, reste-t-il sous contrôle lorsqu'il y a une grande pression, peut-il rester calme lorsque le niveau émotionnel et de frustration est élevé"},null,null,{"$f":"IF($H$2=\"G\",'Skills explications FTEM'!W26,'Skills explications FTEM'!J26)","v":0}]
[{"$f":"'Skills explications FTEM'!A27:C27","v":0},null,null,{"$f":"IF($H$2=\"G\",'Skills explications FTEM'!Q27,'Skills explications FTEM'!D27)","v":"PRÉPARATION"},null,null,{"$f":"IF($H$2=\"G\",'Skills explications FTEM'!T27,'Skills explications FTEM'!G27)","v":"Se prépare-t-il toujours bien, mentalement et physiquement, se prépare-t-il toujours bien pour obtenir le niveau de performance idéal (ILZ)"},null,null,{"$f":"IF($H$2=\"G\",'Skills explications FTEM'!W27,'Skills explications FTEM'!J27)","v":0}]
[{"$f":"'Skills explications FTEM'!A28:C28","v":"PYHSE (Athletik)"},null,null,{"$f":"IF($H$2=\"G\",'Skills explications FTEM'!Q28,'Skills explications FTEM'!D28)","v":"PRODUCTION DE LA PERFORMANCE"},null,null,{"$f":"IF($H$2=\"G\",'Skills explications FTEM'!T28,'Skills explications FTEM'!G28)","v":"A-t-il la puissance, la force, la vitesse nécessaires dans les jambes et le haut du corps (facteurs neuromusculaires)"},null,null,{"$f":"IF($H$2=\"G\",'Skills explications FTEM'!W28,'Skills explications FTEM'!J28)","v":0},null,null,null,{"$f":"IFERROR(AVERAGE(O37:O40),\"-\")","v":"-"},null,null,null,{"$f":"IFERROR(AVERAGE(S37:S40),\"-\")","v":"-"},null,{"$f":"IFERROR(AVERAGE(U37:U40),\"-\")","v":"-"},null,{"$f":"IFERROR(AVERAGE(W37:W40),\"-\")","v":"-"},null,{"$f":"IFERROR(AVERAGE(Y37:Y40),\"-\")","v":"-"}]
[{"$f":"'Skills explications FTEM'!A29:C29","v":0},null,null,{"$f":"IF($H$2=\"G\",'Skills explications FTEM'!Q29,'Skills explications FTEM'!D29)","v":"SPÉCIFIQUE AU SPORT, RÉSISTANT À L'EFFORT"},null,null,{"$f":"IF($H$2=\"G\",'Skills explications FTEM'!T29,'Skills explications FTEM'!G29)","v":"Est-il capable de maintenir sa puissance, sa force, sa vitesse durant un long temps de glace et peut-il récupérer complètement entre ses engagements (facteurs du métabolisme et cardiovasculaire)"},null,null,{"$f":"IF($H$2=\"G\",'Skills explications FTEM'!W29,'Skills explications FTEM'!J29)","v":0}]
[{"$f":"'Skills explications FTEM'!A30:C30","v":0},null,null,{"$f":"IF($H$2=\"G\",'Skills explications FTEM'!Q30,'Skills explications FTEM'!D30)","v":"MOBILITÉ/ COODINATION"},null,null,{"$f":"IF($H$2=\"G\",'Skills explications FTEM'!T30,'Skills explications FTEM'!G30)","v":"Gère-t-il ses aptitudes de mouvements de base, qui sont un fournisseur important des fonctions spécifiques «Skills» pour être efficace"},null,null,{"$f":"IF($H$2=\"G\",'Skills explications FTEM'!W30,'Skills explications FTEM'!J30)","v":0}]
[{"$f":"'Skills explications FTEM'!A31:C31","v":0},null,null,{"$f":"IF($H$2=\"G\",'Skills explications FTEM'!Q31,'Skills explications FTEM'!D31)","v":"ROBUSTESSE / PREVENTION"},null,null,{"$f":"IF($H$2=\"G\",'Skills explications FTEM'!T31,'Skills explications FTEM'!G31)","v":"A-t-il la force de base nécessaire (tension corporelle) pour gagner des duels et résister aux charges, A-t-il la stabilité nécessaire (ex. ses appuis) et la mobilité nécessaire au niveau des articulations centrales"},null,null,{"$f":"IF($H$2=\"G\",'Skills explications FTEM'!W31,'Skills explications FTEM'!J31)","v":0}]

{"sheet":"4","index":7,"n_rows":40,"n_cols":36,"rows_kept":40,"cut":false,"hidden":false,"merged":[[36,25,39,25],[36,26,39,32],[36,34,39,34],[32,23,35,23],[33,3,33,5],[33,6,33,11],[35,3,35,5],[35,6,35,11],[32,0,35,2],[32,3,32,5],[32,6,32,11],[32,12,35,12],[32,13,35,13],[32,15,35,15],[36,0,39,2],[36,3,36,5],[36,6,36,11],[36,12,39,12],[36,23,39,23],[37,3,37,5],[37,6,37,11],[38,3,38,5],[38,6,38,11],[39,3,39,5],[27,21,27,22],[28,17,31,17],[28,19,31,19],[28,21,31,21],[29,3,29,5],[29,6,29,11],[30,3,30,5],[30,6,30,11],[32,17,35,17],[32,19,35,19],[32,21,35,21],[34,3,34,5],[34,6,34,11],[23,0,26,2],[23,3,23,5],[23,6,23,11],[23,12,26,12],[23,13,26,13],[23,15,26,15],[27,23,27,24],[27,26,27,32],[28,0,31,2],[28,3,28,5],[28,6,28,11],[28,12,31,12],[28,13,31,13],[28,15,31,15],[31,3,31,5],[31,6,31,11],[28,23,31,23],[27,0,27,2],[27,3,27,5],[27,6,27,11],[27,13,27,14],[27,15,27,16],[27,17,27,18],[27,19,27,20],[19,21,22,21],[19,23,22,23],[20,3,20,5],[20,6,20,11],[22,3,22,5],[22,6,22,11],[26,3,26,5],[26,6,26,11],[23,23,26,23],[23,17,26,17],[23,19,26,19],[23,21,26,21],[24,3,24,5],[24,6,24,11],[25,3,25,5],[25,6,25,11],[21,3,21,5],[21,6,21,11],[15,15,18,15],[15,17,18,17],[15,19,18,19],[15,21,18,21],[15,23,18,23],[18,3,18,5],[18,6,18,11],[19,0,22,2],[19,3,19,5],[19,6,19,11],[19,12,22,12],[19,13,22,13],[19,15,22,15],[19,17,22,17],[15,0,18,2],[15,3,15,5],[15,6,15,11],[15,12,18,12],[15,13,18,13],[16,3,16,5],[16,6,16,11],[17,3,17,5],[17,6,17,11],[19,19,22,19],[12,23,13,23],[13,3,13,5],[13,6,13,11],[14,0,14,2],[14,3,14,5],[14,6,14,11],[14,13,14,14],[14,15,14,16],[14,17,14,18],[14,19,14,20],[14,21,14,22],[14,23,14,24],[12,0,13,2],[12,3,12,5],[12,6,12,11],[12,12,13,12],[12,13,13,13],[12,15,13,15],[12,17,13,17],[12,19,13,19],[12,21,13,21],[11,0,11,2],[11,3,11,5],[11,13,11,14],[11,15,11,16],[11,17,11,18],[11,19,11,20],[11,21,11,22],[11,23,11,24],[11,26,11,32],[11,6,11,11],[0,33,0,35],[23,25,26,25],[23,26,26,32],[23,34,26,34],[28,25,31,25],[28,26,31,32],[28,34,31,34],[1,0,1,1],[1,2,1,5],[1,10,1,24],[2,0,2,1],[2,2,2,5],[2,11,2,24],[6,0,6,1],[6,2,6,35],[7,0,7,1],[7,2,7,35],[8,0,8,1],[8,2,8,35],[3,0,3,1],[3,10,3,24],[4,0,4,1],[4,2,4,5],[4,10,4,24],[39,6,39,11],[36,13,39,13],[36,15,39,15],[36,17,39,17],[36,19,39,19],[36,21,39,21],[0,0,0,24],[0,25,0,26],[0,27,0,32],[10,0,10,24],[10,25,10,35],[32,25,35,25],[32,26,35,32],[32,34,35,34],[12,25,13,25],[12,26,13,32],[12,34,13,34],[15,25,18,25],[15,26,18,32],[15,34,18,34],[19,25,22,25],[19,26,22,32],[19,34,22,34],[14,26,14,32]]}
["Infos personelles",null,null,null,null,null,null,null,null,null,null,null,null,null,null,null,null,null,null,null,null,null,null,null,null,"Predispositions",null,"Evaluations",null,null,null,null,null,"Rating"]
["PRENOM",null,{"$f":"IF(ISBLANK(VLOOKUP(4,Tabelle3[],3,0)),\"-\",VLOOKUP(4,Tabelle3[],3,0))","v":"-"},null,null,null,"POSITION",null,null,"ADRESSE",{"$f":"IF(ISBLANK(VLOOKUP(4,Tabelle3[],5,0)),\"-\",VLOOKUP(4,Tabelle3[],5,0))","v":"-"},null,null,null,null,null,null,null,null,null,null,null,null,null,null,"\"àage\" (Biologique/age relatif)",null,"Date 1",null,null,"cm",null,"Kg",null,"AUSGEZEICHNET",5]
["NOM",null,{"$f":"IF(ISBLANK(VLOOKUP(4,Tabelle3[],2,0)),\"-\",VLOOKUP(4,Tabelle3[],2,0))","v":"-"},null,null,null,"CANNE",null,null,"LIEU",{"$f":"IF(ISBLANK(VLOOKUP(4,Tabelle3[],7,0)),\"-\",VLOOKUP(4,Tabelle3[],7,0))","v":"-"},{"$f":"IF(ISBLANK(VLOOKUP(4,Tabelle3[],6,0)),\"-\",VLOOKUP(4,Tabelle3[],6,0))","v":"-"},null,null,null,null,null,null,null,null,null,null,null,null,null,"predispositions",null,"Date 2",null,null,"cm",null,"Kg",null,"GUT",4]
["DATE NAISS.",null,{"$f":"IF(ISBLANK(VLOOKUP(4,Tabelle3[],14,0)),\"-\",VLOOKUP(4,Tabelle3[],14,0))","v":"-"},{"$f":"IF(ISBLANK(VLOOKUP(4,Tabelle3[],15,0)),\"-\",VLOOKUP(4,Tabelle3[],15,0))","v":"-"},{"$f":"IF(ISBLANK(VLOOKUP(4,Tabelle3[],16,0)),\"-\",VLOOKUP(4,Tabelle3[],16,0))","v":"-"},null,"GRANDEUR",null,"cm","PHONE",{"$f":"IF(ISBLANK(VLOOKUP(4,Tabelle3[],8,0)),\"-\",VLOOKUP(4,Tabelle3[],8,0))","v":"-"},null,null,null,null,null,null,null,null,null,null,null,null,null,null,"Entourage",null,"Date 3",null,null,"cm",null,"Kg",null,"DURCHSCHNITT",3]
["SEXE",null,{"$f":"IF(ISBLANK(VLOOKUP(4,Tabelle3[],13,0)),\"-\",VLOOKUP(4,Tabelle3[],13,0))","v":"-"},null,null,null,"POIDS",null,"Kg","E-Mail",{"$f":"IF(ISBLANK(VLOOKUP(4,Tabelle3[],9,0)),\"-\",VLOOKUP(4,Tabelle3[],9,0))","v":"-"},null,null,null,null,null,null,null,null,null,null,null,null,null,null,null,null,"Date 4",null,null,"cm",null,"Kg",null,"MANGELHAFT",2]
[null,null,null,null,null,null,null,null,null,null,null,null,null,null,null,null,null,null,null,null,null,null,null,null,null,null,null,"Date 5",null,null,"cm",null,"Kg",null,"UNGENÜGEND",1]
["Vision",null,"xxx"]
["Next step",null,"xxx"]
["Profil du Joueur",null,"xxx"]
[]
["EVALUATION (COACH / JOUEUR)",null,null,null,null,null,null,null,null,null,null,null,null,null,null,null,null,null,null,null,null,null,null,null,null,"SMART"]
[{"$f":"'Skills explications FTEM'!A3:C3","v":"TEAM"},null,null,"CAPACITE",null,null,"OBSERVATION",null,null,null,null,null,"Final","Date1",null,"Date2",null,"Date3",null,"Date4",null,"Date5",null,"Player",null,"BUT","MESURES:\nSPECIFIQUE, MESURABLES, REALISTE",null,null,null,null,null,null,"DELAI","CONTRÔLE DU BUT","Date"]
[{"$f":"'Skills explications FTEM'!A4:C4","v":"ROLLE, SOZIAL"},null,null,{"$f":"IF($H$2=\"G\",'Skills explications FTEM'!Q4,'Skills explications FTEM'!D4)","v":"PENSER EQUIPE"},null,null,{"$f":"IF($H$2=\"G\",'Skills explications FTEM'!T4,'Skills explications FTEM'!G4)","v":"Identification au rôle, relation au cammarades (social, intégration)"},null,null,{"$f":"IF($H$2=\"G\",'Skills explications FTEM'!W4,'Skills explications FTEM'!J4)","v":0},null,null,null,{"$f":"IFERROR(AVERAGE(O13:O14),\"-\")","v":"-"},null,{"$f":"IFERROR(AVERAGE(Q13:Q14),\"-\")","v":"-"},null,{"$f":"IFERROR(AVERAGE(S13:S14),\"-\")","v":"-"},null,{"$f":"IFERROR(AVERAGE(U13:U14),\"-\")","v":"-"},null,{"$f":"IFERROR(AVERAGE(W13:W14),\"-\")","v":"-"},null,{"$f":"IFERROR(AVERAGE(Y13:Y14),\"-\")","v":"-"}]
[{"$f":"'Skills explications FTEM'!A5:C5","v":0},null,null,{"$f":"IF($H$2=\"G\",'Skills explications FTEM'!Q5,'Skills explications FTEM'!D5)","v":"LEADERSHIP"},null,null,{"$f":"IF($H$2=\"G\",'Skills explications FTEM'!T5,'Skills explications FTEM'!G5)","v":"prend des responsabilités, rend son coéquipier meilleur"},null,null,{"$f":"IF($H$2=\"G\",'Skills explications FTEM'!W5,'Skills explications FTEM'!J5)","v":0}]
[{"$f":"'Skills explications FTEM'!A6:C6","v":"ON ICE"},null,null,"CAPACITE",null,null,"OBSERVATION",null,null,null,null,null,null,"Date1",null,"Date2",null,"Date3",null,"Date4",null,"Date5",null,"Player",null,"BUT","MESURES:\nSPECIFIQUE, MESURABLES, REALISTE",null,null,null,null,null,null,"DELAI","CONTRÔLE DU BUT","Date"]
[{"$f":"'Skills explications FTEM'!A7:C7","v":"SKILL"},null,null,{"$f":"IF($H$2=\"G\",'Skills explications FTEM'!Q7,'Skills explications FTEM'!D7)","v":"TIR  (EFFET)"},null,null,{"$f":"IF($H$2=\"G\",'Skills explications FTEM'!T7,'Skills explications FTEM'!G7)","v":"Efficience (pas d'espace et de temps), variantes, degré de surprise (déclenchement rapide), précision, puissance (conclusion tactique)"},null,null,{"$f":"IF($H$2=\"G\",'Skills explications FTEM'!W7,'Skills explications FTEM'!J7)","v":0},null,null,null,{"$f":"IFERROR(AVERAGE(O16:O19),\"-\")","v":"-"},null,{"$f":"IFERROR(AVERAGE(Q16:Q19),\"-\")","v":"-"},null,{"$f":"IFERROR(AVERAGE(S16:S19),\"-\")","v":"-"},null,{"$f":"IFERROR(AVERAGE(U16:U19),\"-\")","v":"-"},null,{"$f":"IFERROR(AVERAGE(W16:W19),\"-\")","v":"-"},null,{"$f":"IFERROR(AVERAGE(Y16:Y19),\"-\")","v":"-"}]
[{"$f":"'Skills explications FTEM'!A8:C8","v":0},null,null,{"$f":"IF($H$2=\"G\",'Skills explications FTEM'!Q8,'Skills explications FTEM'!D8)","v":"PASSER"},null,null,{"$f":"IF($H$2=\"G\",'Skills explications FTEM'!T8,'Skills explications FTEM'!G8)","v":"Donne la passe (distance, passe flipée en revers), réception de la passe (précision, timing, coup droit, revers, patins), vitesse du puck"},null,null,{"$f":"IF($H$2=\"G\",'Skills explications FTEM'!W8,'Skills explications FTEM'!J8)","v":0}]
[{"$f":"'Skills explications FTEM'!A9:C9","v":0},null,null,{"$f":"IF($H$2=\"G\",'Skills explications FTEM'!Q9,'Skills explications FTEM'!D9)","v":"JEU DU CORPS"},null,null,{"$f":"IF($H$2=\"G\",'Skills explications FTEM'!T9,'Skills explications FTEM'!G9)","v":"Faculté de s'imposer physiquement, duels (sur la surface de glace ou à la bande), prendre des checks, lever la tête, niveau de lutte, dur mais correct, bloquer les tirs avec le corps"},null,null,{"$f":"IF($H$2=\"G\",'Skills explications FTEM'!W9,'Skills explications FTEM'!J9)","v":0},null,null,null,{"$f":"IFERROR(AVERAGE(O18:O19),\"-\")","v":"-"},null,{"$f":"IFERROR(AVERAGE(Q18:Q19),\"-\")","v":"-"},null,{"$f":"IFERROR(AVERAGE(S18:S19),\"-\")","v":"-"},null,{"$f":"IFERROR(AVERAGE(U18:U19),\"-\")","v":"-"},null,{"$f":"IFERROR(AVERAGE(W18:W19),\"-\")","v":"-"},null,"-"]
[{"$f":"'Skills explications FTEM'!A10:C10","v":0},null,null,{"$f":"IF($H$2=\"G\",'Skills explications FTEM'!Q10,'Skills explications FTEM'!D10)","v":"CONTRÔLE DU PUCK"},null,null,{"$f":"IF($H$2=\"G\",'Skills explications FTEM'!T10,'Skills explications FTEM'!G10)","v":"Contrôle du puck, dribbling, protection du puck, feintes (variantes: avec les patins ou avec et sans la bande), mise au jeu (bully)"},null,null,{"$f":"IF($H$2=\"G\",'Skills explications FTEM'!W10,'Skills explications FTEM'!J10)","v":0}]
[{"$f":"'Skills explications FTEM'!A11:C11","v":"SKATING"},null,null,{"$f":"IF($H$2=\"G\",'Skills explications FTEM'!Q11,'Skills explications FTEM'!D11)","v":"FOOTSPEED"},null,null,{"$f":"IF($H$2=\"G\",'Skills explications FTEM'!T11,'Skills explications FTEM'!G11)","v":"Accélération, départ, explosivité des 3 premiers pas, fréquence"},null,null,{"$f":"IF($H$2=\"G\",'Skills explications FTEM'!W11,'Skills explications FTEM'!J11)","v":0},null,null,null,{"$f":"IFERROR(AVERAGE(O20:O23),\"-\")","v":"-"},null,{"$f":"IFERROR(AVERAGE(Q20:Q23),\"-\")","v":"-"},null,{"$f":"IFERROR(AVERAGE(S20:S23),\"-\")","v":"-"},null,{"$f":"IFERROR(AVERAGE(U20:U23),\"-\")","v":"-"},null,{"$f":"IFERROR(AVERAGE(W20:W23),\"-\")","v":"-"},null,{"$f":"IFERROR(AVERAGE(Y20:Y23),\"-\")","v":"-"}]
[{"$f":"'Skills explications FTEM'!A12:C12","v":0},null,null,{"$f":"IF($H$2=\"G\",'Skills explications FTEM'!Q12,'Skills explications FTEM'!D12)","v":"MOBILITE"},null,null,{"$f":"IF($H$2=\"G\",'Skills explications FTEM'!T12,'Skills explications FTEM'!G12)","v":"Changements de direction, pivots, stop et start «Nummelin»"},null,null,{"$f":"IF($H$2=\"G\",'Skills explications FTEM'!W12,'Skills explications FTEM'!J12)","v":0}]
[{"$f":"'Skills explications FTEM'!A13:C13","v":0},null,null,{"$f":"IF($H$2=\"G\",'Skills explications FTEM'!Q13,'Skills explications FTEM'!D13)","v":"PATTINAGE ARRIÈRE"},null,null,{"$f":"IF($H$2=\"G\",'Skills explications FTEM'!T13,'Skills explications FTEM'!G13)","v":"Accélération, vitesse, équilibre"},null,null,{"$f":"IF($H$2=\"G\",'Skills explications FTEM'!W13,'Skills explications FTEM'!J13)","v":0}]
[{"$f":"'Skills explications FTEM'!A14:C14","v":0},null,null,{"$f":"IF($H$2=\"G\",'Skills explications FTEM'!Q14,'Skills explications FTEM'!D14)","v":"TOP SPEED"},null,null,{"$f":"IF($H$2=\"G\",'Skills explications FTEM'!T14,'Skills explications FTEM'!G14)","v":"Vitesse, faculté de glisse, avant et arrière, économie des forces"},null,null,{"$f":"IF($H$2=\"G\",'Skills explications FTEM'!W14,'Skills explications FTEM'!J14)","v":0}]
[{"$f":"'Skills explications FTEM'!A15:C15","v":"HOCKEY SENSE"},null,null,{"$f":"IF($H$2=\"G\",'Skills explications FTEM'!Q15,'Skills explications FTEM'!D15)","v":"SCORING"},null,null,{"$f":"IF($H$2=\"G\",'Skills explications FTEM'!T15,'Skills explications FTEM'!G15)","v":"Efficience, richesse des variantes, surpenant, vite, variante de tirs"},null,null,{"$f":"IF($H$2=\"G\",'Skills explications FTEM'!W15,'Skills explications FTEM'!J15)","v":0},null,null,null,{"$f":"IFERROR(AVERAGE(O24:O27),\"-\")","v":"-"},null,{"$f":"IFERROR(AVERAGE(Q24:Q27),\"-\")","v":"-"},null,{"$f":"IFERROR(AVERAGE(S24:S27),\"-\")","v":"-"},null,{"$f":"IFERROR(AVERAGE(U24:U27),\"-\")","v":"-"},null,{"$f":"IFERROR(AVERAGE(W24:W27),\"-\")","v":"-"},null,{"$f":"IFERROR(AVERAGE(Y24:Y27),\"-\")","v":"-"}]
[{"$f":"'Skills explications FTEM'!A16:C16","v":0},null,null,{"$f":"IF($H$2=\"G\",'Skills explications FTEM'!Q16,'Skills explications FTEM'!D16)","v":"AVEC PUCK"},null,null,{"$f":"IF($H$2=\"G\",'Skills explications FTEM'!T16,'Skills explications FTEM'!G16)","v":"créatif,  performing, batteling, fou, transition"},null,null,{"$f":"IF($H$2=\"G\",'Skills explications FTEM'!W16,'Skills explications FTEM'!J16)","v":0}]
[{"$f":"'Skills explications FTEM'!A17:C17","v":0},null,null,{"$f":"IF($H$2=\"G\",'Skills explications FTEM'!Q17,'Skills explications FTEM'!D17)","v":"SANS PUCK"},null,null,{"$f":"IF($H$2=\"G\",'Skills explications FTEM'!T17,'Skills explications FTEM'!G17)","v":"ouvert pour un passe (Support), 1:1, Gap"},null,null,{"$f":"IF($H$2=\"G\",'Skills explications FTEM'!W17,'Skills explications FTEM'!J17)","v":0}]
[{"$f":"'Skills explications FTEM'!A18:C18","v":0},null,null,{"$f":"IF($H$2=\"G\",'Skills explications FTEM'!Q18,'Skills explications FTEM'!D18)","v":"DEFENSIF"},null,null,{"$f":"IF($H$2=\"G\",'Skills explications FTEM'!T18,'Skills explications FTEM'!G18)","v":"on peut compter dessus,  1:1, Gap, identification de l'homme"},null,null,{"$f":"IF($H$2=\"G\",'Skills explications FTEM'!W18,'Skills explications FTEM'!J18)","v":0}]
[{"$f":"'Skills explications FTEM'!A19:C19","v":"PERSONALITY"},null,null,"CAPACITE",null,null,"OBSERVATION",null,null,null,null,null,null,"Date1",null,"Date2",null,"Date3",null,"Date4",null,"Date5",null,"Player",null,"BUT","MESURES:\nSPECIFIQUE, MESURABLES, REALISTE",null,null,null,null,null,null,"DELAI","CONTRÔLE DU BUT","Date"]
[{"$f":"'Skills explications FTEM'!A20:C20","v":"PERSONALITÉ"},null,null,{"$f":"IF($H$2=\"G\",'Skills explications FTEM'!Q20,'Skills explications FTEM'!D20)","v":"MOTIVATION"},null,null,{"$f":"IF($H$2=\"G\",'Skills explications FTEM'!T20,'Skills explications FTEM'!G20)","v":"Est toujours motivé, veut sans cesse se développer et apprendre, veut être le premier et avoir du succès, n'abandonne jamais et ne se laisse pas influencer par les échecs"},null,null,{"$f":"IF($H$2=\"G\",'Skills explications FTEM'!W20,'Skills explications FTEM'!J20)","v":0},null,null,null,{"$f":"IFERROR(AVERAGE(O29:O32),\"-\")","v":"-"},null,null,null,{"$f":"IFERROR(AVERAGE(S29:S32),\"-\")","v":"-"},null,{"$f":"IFERROR(AVERAGE(U29:U32),\"-\")","v":"-"},null,{"$f":"IFERROR(AVERAGE(W29:W32),\"-\")","v":"-"},null,{"$f":"IFERROR(AVERAGE(Y29:Y32),\"-\")","v":"-"}]
[{"$f":"'Skills explications FTEM'!A21:C21","v":0},null,null,{"$f":"IF($H$2=\"G\",'Skills explications FTEM'!Q21,'Skills explications FTEM'!D21)","v":"CONFIENCE EN SOI"},null,null,{"$f":"IF($H$2=\"G\",'Skills explications FTEM'!T21,'Skills explications FTEM'!G21)","v":"Est en confiance, «I can do it», peut estimer ses capacités (connaît ses qualités et ses défauts), peut réaliser ses qualités avec constance, est courageux et prend des risques calculés"},null,null,{"$f":"IF($H$2=\"G\",'Skills explications FTEM'!W21,'Skills explications FTEM'!J21)","v":0}]
[{"$f":"'Skills explications FTEM'!A22:C22","v":0},null,null,{"$f":"IF($H$2=\"G\",'Skills explications FTEM'!Q22,'Skills explications FTEM'!D22)","v":"FACULTÉES D'APPRENTISSAGE"},null,null,{"$f":"IF($H$2=\"G\",'Skills explications FTEM'!T22,'Skills explications FTEM'!G22)","v":"A une bonne perception (il peut mémoriser et peut réaliser), il a de la personnalité, essaie d'apprendre de ses erreurs et est entreprenant"},null,null,{"$f":"IF($H$2=\"G\",'Skills explications FTEM'!W22,'Skills explications FTEM'!J22)","v":0}]
[{"$f":"'Skills explications FTEM'!A23:C23","v":0},null,null,{"$f":"IF($H$2=\"G\",'Skills explications FTEM'!Q23,'Skills explications FTEM'!D23)","v":"PERFORMANCE, STYLE DE VIE"},null,null,{"$f":"IF($H$2=\"G\",'Skills explications FTEM'!T23,'Skills explications FTEM'!G23)","v":"Gère bien son environnement et son temps libre selon les principes de la performance, obstiné, tenace et axé sur l'objectif, accent sur sa propre performance, est courageux et peut s'imposer contre de la résistance, les défis le motivent"},null,null,{"$f":"IF($H$2=\"G\",'Skills explications FTEM'!W23,'Skills explications FTEM'!J23)","v":0}]
[{"$f":"'Skills explications FTEM'!A24:C24","v":"POWER MENTAL"},null,null,{"$f":"IF($H$2=\"G\",'Skills explications FTEM'!Q24,'Skills explications FTEM'!D24)","v":"GESTION DES ÉNERGIES"},null,null,{"$f":"IF($H$2=\"G\",'Skills explications FTEM'!T24,'Skills explications FTEM'!G24)","v":"Peut-il gérer ses propres énergies, prend-il soin de sa régénération, peut-il gérer les moments où il faut se donner à fond ou quand il faut déconnecter, bouton On/Off"},null,null,{"$f":"IF($H$2=\"G\",'Skills explications FTEM'!W24,'Skills explications FTEM'!J24)","v":0},null,null,null,{"$f":"IFERROR(AVERAGE(O33:O36),\"-\")","v":"-"},null,null,null,{"$f":"IFERROR(AVERAGE(S33:S36),\"-\")","v":"-"},null,{"$f":"IFERROR(AVERAGE(U33:U36),\"-\")","v":"-"},null,{"$f":"IFERROR(AVERAGE(W33:W36),\"-\")","v":"-"},null,{"$f":"IFERROR(AVERAGE(Y33:Y36),\"-\")","v":"-"}]
[{"$f":"'Skills explications FTEM'!A25:C25","v":0},null,null,{"$f":"IF($H$2=\"G\",'Skills explications FTEM'!Q25,'Skills explications FTEM'!D25)","v":"ENGAGEMENT"},null,null,{"$f":"IF($H$2=\"G\",'Skills explications FTEM'!T25,'Skills explications FTEM'!G25)","v":"Démontre beaucoup d'intensité dans les entraînements et les matchs, donne toujours son maximum et veut sans cesse repousser ses limites, a-t-il de la passion, s'efforce-t-il de s'entraîner avec une excellente qualité"},null,null,{"$f":"IF($H$2=\"G\",'Skills explications FTEM'!W25,'Skills explications FTEM'!J25)","v":0}]
[{"$f":"'Skills explications FTEM'!A26:C26","v":0},null,null,{"$f":"IF($H$2=\"G\",'Skills explications FTEM'!Q26,'Skills explications FTEM'!D26)","v":"CONTRÔLE DES ÉMOTIONS"},null,null,{"$f":"IF($H$2=\"G\",'Skills explications FTEM'!T26,'Skills explications FTEM'!G26)","v":"Peut-il gérer ses propres émotions et impulsions, reste-t-il sous contrôle lorsqu'il y a une grande pression, peut-il rester calme lorsque le niveau émotionnel et de frustration est élevé"},null,null,{"$f":"IF($H$2=\"G\",'Skills explications FTEM'!W26,'Skills explications FTEM'!J26)","v":0}]
[{"$f":"'Skills explications FTEM'!A27:C27","v":0},null,null,{"$f":"IF($H$2=\"G\",'Skills explications FTEM'!Q27,'Skills explications FTEM'!D27)","v":"PRÉPARATION"},null,null,{"$f":"IF($H$2=\"G\",'Skills explications FTEM'!T27,'Skills explications FTEM'!G27)","v":"Se prépare-t-il toujours bien, mentalement et physiquement, se prépare-t-il toujours bien pour obtenir le niveau de performance idéal (ILZ)"},null,null,{"$f":"IF($H$2=\"G\",'Skills explications FTEM'!W27,'Skills explications FTEM'!J27)","v":0}]
[{"$f":"'Skills explications FTEM'!A28:C28","v":"PYHSE (Athletik)"},null,null,{"$f":"IF($H$2=\"G\",'Skills explications FTEM'!Q28,'Skills explications FTEM'!D28)","v":"PRODUCTION DE LA PERFORMANCE"},null,null,{"$f":"IF($H$2=\"G\",'Skills explications FTEM'!T28,'Skills explications FTEM'!G28)","v":"A-t-il la puissance, la force, la vitesse nécessaires dans les jambes et le haut du corps (facteurs neuromusculaires)"},null,null,{"$f":"IF($H$2=\"G\",'Skills explications FTEM'!W28,'Skills explications FTEM'!J28)","v":0},null,null,null,{"$f":"IFERROR(AVERAGE(O37:O40),\"-\")","v":"-"},null,null,null,{"$f":"IFERROR(AVERAGE(S37:S40),\"-\")","v":"-"},null,{"$f":"IFERROR(AVERAGE(U37:U40),\"-\")","v":"-"},null,{"$f":"IFERROR(AVERAGE(W37:W40),\"-\")","v":"-"},null,{"$f":"IFERROR(AVERAGE(Y37:Y40),\"-\")","v":"-"}]
[{"$f":"'Skills explications FTEM'!A29:C29","v":0},null,null,{"$f":"IF($H$2=\"G\",'Skills explications FTEM'!Q29,'Skills explications FTEM'!D29)","v":"SPÉCIFIQUE AU SPORT, RÉSISTANT À L'EFFORT"},null,null,{"$f":"IF($H$2=\"G\",'Skills explications FTEM'!T29,'Skills explications FTEM'!G29)","v":"Est-il capable de maintenir sa puissance, sa force, sa vitesse durant un long temps de glace et peut-il récupérer complètement entre ses engagements (facteurs du métabolisme et cardiovasculaire)"},null,null,{"$f":"IF($H$2=\"G\",'Skills explications FTEM'!W29,'Skills explications FTEM'!J29)","v":0}]
[{"$f":"'Skills explications FTEM'!A30:C30","v":0},null,null,{"$f":"IF($H$2=\"G\",'Skills explications FTEM'!Q30,'Skills explications FTEM'!D30)","v":"MOBILITÉ/ COODINATION"},null,null,{"$f":"IF($H$2=\"G\",'Skills explications FTEM'!T30,'Skills explications FTEM'!G30)","v":"Gère-t-il ses aptitudes de mouvements de base, qui sont un fournisseur important des fonctions spécifiques «Skills» pour être efficace"},null,null,{"$f":"IF($H$2=\"G\",'Skills explications FTEM'!W30,'Skills explications FTEM'!J30)","v":0}]
[{"$f":"'Skills explications FTEM'!A31:C31","v":0},null,null,{"$f":"IF($H$2=\"G\",'Skills explications FTEM'!Q31,'Skills explications FTEM'!D31)","v":"ROBUSTESSE / PREVENTION"},null,null,{"$f":"IF($H$2=\"G\",'Skills explications FTEM'!T31,'Skills explications FTEM'!G31)","v":"A-t-il la force de base nécessaire (tension corporelle) pour gagner des duels et résister aux charges, A-t-il la stabilité nécessaire (ex. ses appuis) et la mobilité nécessaire au niveau des articulations centrales"},null,null,{"$f":"IF($H$2=\"G\",'Skills explications FTEM'!W31,'Skills explications FTEM'!J31)","v":0}]

{"sheet":"5","index":8,"n_rows":40,"n_cols":36,"rows_kept":40,"cut":false,"hidden":false,"merged":[[36,25,39,25],[36,26,39,32],[36,34,39,34],[32,23,35,23],[33,3,33,5],[33,6,33,11],[35,3,35,5],[35,6,35,11],[32,0,35,2],[32,3,32,5],[32,6,32,11],[32,12,35,12],[32,13,35,13],[32,15,35,15],[36,0,39,2],[36,3,36,5],[36,6,36,11],[36,12,39,12],[36,23,39,23],[37,3,37,5],[37,6,37,11],[38,3,38,5],[38,6,38,11],[39,3,39,5],[27,21,27,22],[28,17,31,17],[28,19,31,19],[28,21,31,21],[29,3,29,5],[29,6,29,11],[30,3,30,5],[30,6,30,11],[32,17,35,17],[32,19,35,19],[32,21,35,21],[34,3,34,5],[34,6,34,11],[23,0,26,2],[23,3,23,5],[23,6,23,11],[23,12,26,12],[23,13,26,13],[23,15,26,15],[27,23,27,24],[27,26,27,32],[28,0,31,2],[28,3,28,5],[28,6,28,11],[28,12,31,12],[28,13,31,13],[28,15,31,15],[31,3,31,5],[31,6,31,11],[28,23,31,23],[27,0,27,2],[27,3,27,5],[27,6,27,11],[27,13,27,14],[27,15,27,16],[27,17,27,18],[27,19,27,20],[19,21,22,21],[19,23,22,23],[20,3,20,5],[20,6,20,11],[22,3,22,5],[22,6,22,11],[26,3,26,5],[26,6,26,11],[23,23,26,23],[23,17,26,17],[23,19,26,19],[23,21,26,21],[24,3,24,5],[24,6,24,11],[25,3,25,5],[25,6,25,11],[21,3,21,5],[21,6,21,11],[15,15,18,15],[15,17,18,17],[15,19,18,19],[15,21,18,21],[15,23,18,23],[18,3,18,5],[18,6,18,11],[19,0,22,2],[19,3,19,5],[19,6,19,11],[19,12,22,12],[19,13,22,13],[19,15,22,15],[19,17,22,17],[15,0,18,2],[15,3,15,5],[15,6,15,11],[15,12,18,12],[15,13,18,13],[16,3,16,5],[16,6,16,11],[17,3,17,5],[17,6,17,11],[19,19,22,19],[12,23,13,23],[13,3,13,5],[13,6,13,11],[14,0,14,2],[14,3,14,5],[14,6,14,11],[14,13,14,14],[14,15,14,16],[14,17,14,18],[14,19,14,20],[14,21,14,22],[14,23,14,24],[12,0,13,2],[12,3,12,5],[12,6,12,11],[12,12,13,12],[12,13,13,13],[12,15,13,15],[12,17,13,17],[12,19,13,19],[12,21,13,21],[11,0,11,2],[11,3,11,5],[11,13,11,14],[11,15,11,16],[11,17,11,18],[11,19,11,20],[11,21,11,22],[11,23,11,24],[11,26,11,32],[11,6,11,11],[0,33,0,35],[23,25,26,25],[23,26,26,32],[23,34,26,34],[28,25,31,25],[28,26,31,32],[28,34,31,34],[1,0,1,1],[1,2,1,5],[1,10,1,24],[2,0,2,1],[2,2,2,5],[2,11,2,24],[6,0,6,1],[6,2,6,35],[7,0,7,1],[7,2,7,35],[8,0,8,1],[8,2,8,35],[3,0,3,1],[3,10,3,24],[4,0,4,1],[4,2,4,5],[4,10,4,24],[39,6,39,11],[36,13,39,13],[36,15,39,15],[36,17,39,17],[36,19,39,19],[36,21,39,21],[0,0,0,24],[0,25,0,26],[0,27,0,32],[10,0,10,24],[10,25,10,35],[32,25,35,25],[32,26,35,32],[32,34,35,34],[12,25,13,25],[12,26,13,32],[12,34,13,34],[15,25,18,25],[15,26,18,32],[15,34,18,34],[19,25,22,25],[19,26,22,32],[19,34,22,34],[14,26,14,32]]}
["Infos personelles",null,null,null,null,null,null,null,null,null,null,null,null,null,null,null,null,null,null,null,null,null,null,null,null,"Predispositions",null,"Evaluations",null,null,null,null,null,"Rating"]
["PRENOM",null,{"$f":"IF(ISBLANK(VLOOKUP(5,Tabelle3[],3,0)),\"-\",VLOOKUP(5,Tabelle3[],3,0))","v":"-"},null,null,null,"POSITION",null,null,"ADRESSE",{"$f":"IF(ISBLANK(VLOOKUP(5,Tabelle3[],5,0)),\"-\",VLOOKUP(5,Tabelle3[],5,0))","v":"-"},null,null,null,null,null,null,null,null,null,null,null,null,null,null,"\"àage\" (Biologique/age relatif)",null,"Date 1",null,null,"cm",null,"Kg",null,"AUSGEZEICHNET",5]
["NOM",null,{"$f":"IF(ISBLANK(VLOOKUP(5,Tabelle3[],2,0)),\"-\",VLOOKUP(5,Tabelle3[],2,0))","v":"-"},null,null,null,"CANNE",null,null,"LIEU",{"$f":"IF(ISBLANK(VLOOKUP(5,Tabelle3[],7,0)),\"-\",VLOOKUP(5,Tabelle3[],7,0))","v":"-"},{"$f":"IF(ISBLANK(VLOOKUP(5,Tabelle3[],6,0)),\"-\",VLOOKUP(5,Tabelle3[],6,0))","v":"-"},null,null,null,null,null,null,null,null,null,null,null,null,null,"predispositions",null,"Date 2",null,null,"cm",null,"Kg",null,"GUT",4]
["DATE NAISS.",null,{"$f":"IF(ISBLANK(VLOOKUP(5,Tabelle3[],14,0)),\"-\",VLOOKUP(5,Tabelle3[],14,0))","v":"-"},{"$f":"IF(ISBLANK(VLOOKUP(5,Tabelle3[],15,0)),\"-\",VLOOKUP(5,Tabelle3[],15,0))","v":"-"},{"$f":"IF(ISBLANK(VLOOKUP(5,Tabelle3[],16,0)),\"-\",VLOOKUP(5,Tabelle3[],16,0))","v":"-"},null,"GRANDEUR",null,"cm","PHONE",{"$f":"IF(ISBLANK(VLOOKUP(5,Tabelle3[],8,0)),\"-\",VLOOKUP(5,Tabelle3[],8,0))","v":"-"},null,null,null,null,null,null,null,null,null,null,null,null,null,null,"Entourage",null,"Date 3",null,null,"cm",null,"Kg",null,"DURCHSCHNITT",3]
["SEXE",null,{"$f":"IF(ISBLANK(VLOOKUP(5,Tabelle3[],13,0)),\"-\",VLOOKUP(5,Tabelle3[],13,0))","v":"-"},null,null,null,"POIDS",null,"Kg","E-Mail",{"$f":"IF(ISBLANK(VLOOKUP(5,Tabelle3[],9,0)),\"-\",VLOOKUP(5,Tabelle3[],9,0))","v":"-"},null,null,null,null,null,null,null,null,null,null,null,null,null,null,null,null,"Date 4",null,null,"cm",null,"Kg",null,"MANGELHAFT",2]
[null,null,null,null,null,null,null,null,null,null,null,null,null,null,null,null,null,null,null,null,null,null,null,null,null,null,null,"Date 5",null,null,"cm",null,"Kg",null,"UNGENÜGEND",1]
["Vision",null,"xxx"]
["Next step",null,"xxx"]
["Profil du Joueur",null,"xxx"]
[]
["EVALUATION (COACH / JOUEUR)",null,null,null,null,null,null,null,null,null,null,null,null,null,null,null,null,null,null,null,null,null,null,null,null,"SMART"]
[{"$f":"'Skills explications FTEM'!A3:C3","v":"TEAM"},null,null,"CAPACITE",null,null,"OBSERVATION",null,null,null,null,null,"Final","Date1",null,"Date2",null,"Date3",null,"Date4",null,"Date5",null,"Player",null,"BUT","MESURES:\nSPECIFIQUE, MESURABLES, REALISTE",null,null,null,null,null,null,"DELAI","CONTRÔLE DU BUT","Date"]
[{"$f":"'Skills explications FTEM'!A4:C4","v":"ROLLE, SOZIAL"},null,null,{"$f":"IF($H$2=\"G\",'Skills explications FTEM'!Q4,'Skills explications FTEM'!D4)","v":"PENSER EQUIPE"},null,null,{"$f":"IF($H$2=\"G\",'Skills explications FTEM'!T4,'Skills explications FTEM'!G4)","v":"Identification au rôle, relation au cammarades (social, intégration)"},null,null,{"$f":"IF($H$2=\"G\",'Skills explications FTEM'!W4,'Skills explications FTEM'!J4)","v":0},null,null,null,{"$f":"IFERROR(AVERAGE(O13:O14),\"-\")","v":"-"},null,{"$f":"IFERROR(AVERAGE(Q13:Q14),\"-\")","v":"-"},null,{"$f":"IFERROR(AVERAGE(S13:S14),\"-\")","v":"-"},null,{"$f":"IFERROR(AVERAGE(U13:U14),\"-\")","v":"-"},null,{"$f":"IFERROR(AVERAGE(W13:W14),\"-\")","v":"-"},null,{"$f":"IFERROR(AVERAGE(Y13:Y14),\"-\")","v":"-"}]
[{"$f":"'Skills explications FTEM'!A5:C5","v":0},null,null,{"$f":"IF($H$2=\"G\",'Skills explications FTEM'!Q5,'Skills explications FTEM'!D5)","v":"LEADERSHIP"},null,null,{"$f":"IF($H$2=\"G\",'Skills explications FTEM'!T5,'Skills explications FTEM'!G5)","v":"prend des responsabilités, rend son coéquipier meilleur"},null,null,{"$f":"IF($H$2=\"G\",'Skills explications FTEM'!W5,'Skills explications FTEM'!J5)","v":0}]
[{"$f":"'Skills explications FTEM'!A6:C6","v":"ON ICE"},null,null,"CAPACITE",null,null,"OBSERVATION",null,null,null,null,null,null,"Date1",null,"Date2",null,"Date3",null,"Date4",null,"Date5",null,"Player",null,"BUT","MESURES:\nSPECIFIQUE, MESURABLES, REALISTE",null,null,null,null,null,null,"DELAI","CONTRÔLE DU BUT","Date"]
[{"$f":"'Skills explications FTEM'!A7:C7","v":"SKILL"},null,null,{"$f":"IF($H$2=\"G\",'Skills explications FTEM'!Q7,'Skills explications FTEM'!D7)","v":"TIR  (EFFET)"},null,null,{"$f":"IF($H$2=\"G\",'Skills explications FTEM'!T7,'Skills explications FTEM'!G7)","v":"Efficience (pas d'espace et de temps), variantes, degré de surprise (déclenchement rapide), précision, puissance (conclusion tactique)"},null,null,{"$f":"IF($H$2=\"G\",'Skills explications FTEM'!W7,'Skills explications FTEM'!J7)","v":0},null,null,null,{"$f":"IFERROR(AVERAGE(O16:O19),\"-\")","v":"-"},null,{"$f":"IFERROR(AVERAGE(Q16:Q19),\"-\")","v":"-"},null,{"$f":"IFERROR(AVERAGE(S16:S19),\"-\")","v":"-"},null,{"$f":"IFERROR(AVERAGE(U16:U19),\"-\")","v":"-"},null,{"$f":"IFERROR(AVERAGE(W16:W19),\"-\")","v":"-"},null,{"$f":"IFERROR(AVERAGE(Y16:Y19),\"-\")","v":"-"}]
[{"$f":"'Skills explications FTEM'!A8:C8","v":0},null,null,{"$f":"IF($H$2=\"G\",'Skills explications FTEM'!Q8,'Skills explications FTEM'!D8)","v":"PASSER"},null,null,{"$f":"IF($H$2=\"G\",'Skills explications FTEM'!T8,'Skills explications FTEM'!G8)","v":"Donne la passe (distance, passe flipée en revers), réception de la passe (précision, timing, coup droit, revers, patins), vitesse du puck"},null,null,{"$f":"IF($H$2=\"G\",'Skills explications FTEM'!W8,'Skills explications FTEM'!J8)","v":0}]
[{"$f":"'Skills explications FTEM'!A9:C9","v":0},null,null,{"$f":"IF($H$2=\"G\",'Skills explications FTEM'!Q9,'Skills explications FTEM'!D9)","v":"JEU DU CORPS"},null,null,{"$f":"IF($H$2=\"G\",'Skills explications FTEM'!T9,'Skills explications FTEM'!G9)","v":"Faculté de s'imposer physiquement, duels (sur la surface de glace ou à la bande), prendre des checks, lever la tête, niveau de lutte, dur mais correct, bloquer les tirs avec le corps"},null,null,{"$f":"IF($H$2=\"G\",'Skills explications FTEM'!W9,'Skills explications FTEM'!J9)","v":0},null,null,null,{"$f":"IFERROR(AVERAGE(O18:O19),\"-\")","v":"-"},null,{"$f":"IFERROR(AVERAGE(Q18:Q19),\"-\")","v":"-"},null,{"$f":"IFERROR(AVERAGE(S18:S19),\"-\")","v":"-"},null,{"$f":"IFERROR(AVERAGE(U18:U19),\"-\")","v":"-"},null,{"$f":"IFERROR(AVERAGE(W18:W19),\"-\")","v":"-"},null,"-"]
[{"$f":"'Skills explications FTEM'!A10:C10","v":0},null,null,{"$f":"IF($H$2=\"G\",'Skills explications FTEM'!Q10,'Skills explications FTEM'!D10)","v":"CONTRÔLE DU PUCK"},null,null,{"$f":"IF($H$2=\"G\",'Skills explications FTEM'!T10,'Skills explications FTEM'!G10)","v":"Contrôle du puck, dribbling, protection du puck, feintes (variantes: avec les patins ou avec et sans la bande), mise au jeu (bully)"},null,null,{"$f":"IF($H$2=\"G\",'Skills explications FTEM'!W10,'Skills explications FTEM'!J10)","v":0}]
[{"$f":"'Skills explications FTEM'!A11:C11","v":"SKATING"},null,null,{"$f":"IF($H$2=\"G\",'Skills explications FTEM'!Q11,'Skills explications FTEM'!D11)","v":"FOOTSPEED"},null,null,{"$f":"IF($H$2=\"G\",'Skills explications FTEM'!T11,'Skills explications FTEM'!G11)","v":"Accélération, départ, explosivité des 3 premiers pas, fréquence"},null,null,{"$f":"IF($H$2=\"G\",'Skills explications FTEM'!W11,'Skills explications FTEM'!J11)","v":0},null,null,null,{"$f":"IFERROR(AVERAGE(O20:O23),\"-\")","v":"-"},null,{"$f":"IFERROR(AVERAGE(Q20:Q23),\"-\")","v":"-"},null,{"$f":"IFERROR(AVERAGE(S20:S23),\"-\")","v":"-"},null,{"$f":"IFERROR(AVERAGE(U20:U23),\"-\")","v":"-"},null,{"$f":"IFERROR(AVERAGE(W20:W23),\"-\")","v":"-"},null,{"$f":"IFERROR(AVERAGE(Y20:Y23),\"-\")","v":"-"}]
[{"$f":"'Skills explications FTEM'!A12:C12","v":0},null,null,{"$f":"IF($H$2=\"G\",'Skills explications FTEM'!Q12,'Skills explications FTEM'!D12)","v":"MOBILITE"},null,null,{"$f":"IF($H$2=\"G\",'Skills explications FTEM'!T12,'Skills explications FTEM'!G12)","v":"Changements de direction, pivots, stop et start «Nummelin»"},null,null,{"$f":"IF($H$2=\"G\",'Skills explications FTEM'!W12,'Skills explications FTEM'!J12)","v":0}]
[{"$f":"'Skills explications FTEM'!A13:C13","v":0},null,null,{"$f":"IF($H$2=\"G\",'Skills explications FTEM'!Q13,'Skills explications FTEM'!D13)","v":"PATTINAGE ARRIÈRE"},null,null,{"$f":"IF($H$2=\"G\",'Skills explications FTEM'!T13,'Skills explications FTEM'!G13)","v":"Accélération, vitesse, équilibre"},null,null,{"$f":"IF($H$2=\"G\",'Skills explications FTEM'!W13,'Skills explications FTEM'!J13)","v":0}]
[{"$f":"'Skills explications FTEM'!A14:C14","v":0},null,null,{"$f":"IF($H$2=\"G\",'Skills explications FTEM'!Q14,'Skills explications FTEM'!D14)","v":"TOP SPEED"},null,null,{"$f":"IF($H$2=\"G\",'Skills explications FTEM'!T14,'Skills explications FTEM'!G14)","v":"Vitesse, faculté de glisse, avant et arrière, économie des forces"},null,null,{"$f":"IF($H$2=\"G\",'Skills explications FTEM'!W14,'Skills explications FTEM'!J14)","v":0}]
[{"$f":"'Skills explications FTEM'!A15:C15","v":"HOCKEY SENSE"},null,null,{"$f":"IF($H$2=\"G\",'Skills explications FTEM'!Q15,'Skills explications FTEM'!D15)","v":"SCORING"},null,null,{"$f":"IF($H$2=\"G\",'Skills explications FTEM'!T15,'Skills explications FTEM'!G15)","v":"Efficience, richesse des variantes, surpenant, vite, variante de tirs"},null,null,{"$f":"IF($H$2=\"G\",'Skills explications FTEM'!W15,'Skills explications FTEM'!J15)","v":0},null,null,null,{"$f":"IFERROR(AVERAGE(O24:O27),\"-\")","v":"-"},null,{"$f":"IFERROR(AVERAGE(Q24:Q27),\"-\")","v":"-"},null,{"$f":"IFERROR(AVERAGE(S24:S27),\"-\")","v":"-"},null,{"$f":"IFERROR(AVERAGE(U24:U27),\"-\")","v":"-"},null,{"$f":"IFERROR(AVERAGE(W24:W27),\"-\")","v":"-"},null,{"$f":"IFERROR(AVERAGE(Y24:Y27),\"-\")","v":"-"}]
[{"$f":"'Skills explications FTEM'!A16:C16","v":0},null,null,{"$f":"IF($H$2=\"G\",'Skills explications FTEM'!Q16,'Skills explications FTEM'!D16)","v":"AVEC PUCK"},null,null,{"$f":"IF($H$2=\"G\",'Skills explications FTEM'!T16,'Skills explications FTEM'!G16)","v":"créatif,  performing, batteling, fou, transition"},null,null,{"$f":"IF($H$2=\"G\",'Skills explications FTEM'!W16,'Skills explications FTEM'!J16)","v":0}]
[{"$f":"'Skills explications FTEM'!A17:C17","v":0},null,null,{"$f":"IF($H$2=\"G\",'Skills explications FTEM'!Q17,'Skills explications FTEM'!D17)","v":"SANS PUCK"},null,null,{"$f":"IF($H$2=\"G\",'Skills explications FTEM'!T17,'Skills explications FTEM'!G17)","v":"ouvert pour un passe (Support), 1:1, Gap"},null,null,{"$f":"IF($H$2=\"G\",'Skills explications FTEM'!W17,'Skills explications FTEM'!J17)","v":0}]
[{"$f":"'Skills explications FTEM'!A18:C18","v":0},null,null,{"$f":"IF($H$2=\"G\",'Skills explications FTEM'!Q18,'Skills explications FTEM'!D18)","v":"DEFENSIF"},null,null,{"$f":"IF($H$2=\"G\",'Skills explications FTEM'!T18,'Skills explications FTEM'!G18)","v":"on peut compter dessus,  1:1, Gap, identification de l'homme"},null,null,{"$f":"IF($H$2=\"G\",'Skills explications FTEM'!W18,'Skills explications FTEM'!J18)","v":0}]
[{"$f":"'Skills explications FTEM'!A19:C19","v":"PERSONALITY"},null,null,"CAPACITE",null,null,"OBSERVATION",null,null,null,null,null,null,"Date1",null,"Date2",null,"Date3",null,"Date4",null,"Date5",null,"Player",null,"BUT","MESURES:\nSPECIFIQUE, MESURABLES, REALISTE",null,null,null,null,null,null,"DELAI","CONTRÔLE DU BUT","Date"]
[{"$f":"'Skills explications FTEM'!A20:C20","v":"PERSONALITÉ"},null,null,{"$f":"IF($H$2=\"G\",'Skills explications FTEM'!Q20,'Skills explications FTEM'!D20)","v":"MOTIVATION"},null,null,{"$f":"IF($H$2=\"G\",'Skills explications FTEM'!T20,'Skills explications FTEM'!G20)","v":"Est toujours motivé, veut sans cesse se développer et apprendre, veut être le premier et avoir du succès, n'abandonne jamais et ne se laisse pas influencer par les échecs"},null,null,{"$f":"IF($H$2=\"G\",'Skills explications FTEM'!W20,'Skills explications FTEM'!J20)","v":0},null,null,null,{"$f":"IFERROR(AVERAGE(O29:O32),\"-\")","v":"-"},null,null,null,{"$f":"IFERROR(AVERAGE(S29:S32),\"-\")","v":"-"},null,{"$f":"IFERROR(AVERAGE(U29:U32),\"-\")","v":"-"},null,{"$f":"IFERROR(AVERAGE(W29:W32),\"-\")","v":"-"},null,{"$f":"IFERROR(AVERAGE(Y29:Y32),\"-\")","v":"-"}]
[{"$f":"'Skills explications FTEM'!A21:C21","v":0},null,null,{"$f":"IF($H$2=\"G\",'Skills explications FTEM'!Q21,'Skills explications FTEM'!D21)","v":"CONFIENCE EN SOI"},null,null,{"$f":"IF($H$2=\"G\",'Skills explications FTEM'!T21,'Skills explications FTEM'!G21)","v":"Est en confiance, «I can do it», peut estimer ses capacités (connaît ses qualités et ses défauts), peut réaliser ses qualités avec constance, est courageux et prend des risques calculés"},null,null,{"$f":"IF($H$2=\"G\",'Skills explications FTEM'!W21,'Skills explications FTEM'!J21)","v":0}]
[{"$f":"'Skills explications FTEM'!A22:C22","v":0},null,null,{"$f":"IF($H$2=\"G\",'Skills explications FTEM'!Q22,'Skills explications FTEM'!D22)","v":"FACULTÉES D'APPRENTISSAGE"},null,null,{"$f":"IF($H$2=\"G\",'Skills explications FTEM'!T22,'Skills explications FTEM'!G22)","v":"A une bonne perception (il peut mémoriser et peut réaliser), il a de la personnalité, essaie d'apprendre de ses erreurs et est entreprenant"},null,null,{"$f":"IF($H$2=\"G\",'Skills explications FTEM'!W22,'Skills explications FTEM'!J22)","v":0}]
[{"$f":"'Skills explications FTEM'!A23:C23","v":0},null,null,{"$f":"IF($H$2=\"G\",'Skills explications FTEM'!Q23,'Skills explications FTEM'!D23)","v":"PERFORMANCE, STYLE DE VIE"},null,null,{"$f":"IF($H$2=\"G\",'Skills explications FTEM'!T23,'Skills explications FTEM'!G23)","v":"Gère bien son environnement et son temps libre selon les principes de la performance, obstiné, tenace et axé sur l'objectif, accent sur sa propre performance, est courageux et peut s'imposer contre de la résistance, les défis le motivent"},null,null,{"$f":"IF($H$2=\"G\",'Skills explications FTEM'!W23,'Skills explications FTEM'!J23)","v":0}]
[{"$f":"'Skills explications FTEM'!A24:C24","v":"POWER MENTAL"},null,null,{"$f":"IF($H$2=\"G\",'Skills explications FTEM'!Q24,'Skills explications FTEM'!D24)","v":"GESTION DES ÉNERGIES"},null,null,{"$f":"IF($H$2=\"G\",'Skills explications FTEM'!T24,'Skills explications FTEM'!G24)","v":"Peut-il gérer ses propres énergies, prend-il soin de sa régénération, peut-il gérer les moments où il faut se donner à fond ou quand il faut déconnecter, bouton On/Off"},null,null,{"$f":"IF($H$2=\"G\",'Skills explications FTEM'!W24,'Skills explications FTEM'!J24)","v":0},null,null,null,{"$f":"IFERROR(AVERAGE(O33:O36),\"-\")","v":"-"},null,null,null,{"$f":"IFERROR(AVERAGE(S33:S36),\"-\")","v":"-"},null,{"$f":"IFERROR(AVERAGE(U33:U36),\"-\")","v":"-"},null,{"$f":"IFERROR(AVERAGE(W33:W36),\"-\")","v":"-"},null,{"$f":"IFERROR(AVERAGE(Y33:Y36),\"-\")","v":"-"}]
[{"$f":"'Skills explications FTEM'!A25:C25","v":0},null,null,{"$f":"IF($H$2=\"G\",'Skills explications FTEM'!Q25,'Skills explications FTEM'!D25)","v":"ENGAGEMENT"},null,null,{"$f":"IF($H$2=\"G\",'Skills explications FTEM'!T25,'Skills explications FTEM'!G25)","v":"Démontre beaucoup d'intensité dans les entraînements et les matchs, donne toujours son maximum et veut sans cesse repousser ses limites, a-t-il de la passion, s'efforce-t-il de s'entraîner avec une excellente qualité"},null,null,{"$f":"IF($H$2=\"G\",'Skills explications FTEM'!W25,'Skills explications FTEM'!J25)","v":0}]
[{"$f":"'Skills explications FTEM'!A26:C26","v":0},null,null,{"$f":"IF($H$2=\"G\",'Skills explications FTEM'!Q26,'Skills explications FTEM'!D26)","v":"CONTRÔLE DES ÉMOTIONS"},null,null,{"$f":"IF($H$2=\"G\",'Skills explications FTEM'!T26,'Skills explications FTEM'!G26)","v":"Peut-il gérer ses propres émotions et impulsions, reste-t-il sous contrôle lorsqu'il y a une grande pression, peut-il rester calme lorsque le niveau émotionnel et de frustration est élevé"},null,null,{"$f":"IF($H$2=\"G\",'Skills explications FTEM'!W26,'Skills explications FTEM'!J26)","v":0}]
[{"$f":"'Skills explications FTEM'!A27:C27","v":0},null,null,{"$f":"IF($H$2=\"G\",'Skills explications FTEM'!Q27,'Skills explications FTEM'!D27)","v":"PRÉPARATION"},null,null,{"$f":"IF($H$2=\"G\",'Skills explications FTEM'!T27,'Skills explications FTEM'!G27)","v":"Se prépare-t-il toujours bien, mentalement et physiquement, se prépare-t-il toujours bien pour obtenir le niveau de performance idéal (ILZ)"},null,null,{"$f":"IF($H$2=\"G\",'Skills explications FTEM'!W27,'Skills explications FTEM'!J27)","v":0}]
[{"$f":"'Skills explications FTEM'!A28:C28","v":"PYHSE (Athletik)"},null,null,{"$f":"IF($H$2=\"G\",'Skills explications FTEM'!Q28,'Skills explications FTEM'!D28)","v":"PRODUCTION DE LA PERFORMANCE"},null,null,{"$f":"IF($H$2=\"G\",'Skills explications FTEM'!T28,'Skills explications FTEM'!G28)","v":"A-t-il la puissance, la force, la vitesse nécessaires dans les jambes et le haut du corps (facteurs neuromusculaires)"},null,null,{"$f":"IF($H$2=\"G\",'Skills explications FTEM'!W28,'Skills explications FTEM'!J28)","v":0},null,null,null,{"$f":"IFERROR(AVERAGE(O37:O40),\"-\")","v":"-"},null,null,null,{"$f":"IFERROR(AVERAGE(S37:S40),\"-\")","v":"-"},null,{"$f":"IFERROR(AVERAGE(U37:U40),\"-\")","v":"-"},null,{"$f":"IFERROR(AVERAGE(W37:W40),\"-\")","v":"-"},null,{"$f":"IFERROR(AVERAGE(Y37:Y40),\"-\")","v":"-"}]
[{"$f":"'Skills explications FTEM'!A29:C29","v":0},null,null,{"$f":"IF($H$2=\"G\",'Skills explications FTEM'!Q29,'Skills explications FTEM'!D29)","v":"SPÉCIFIQUE AU SPORT, RÉSISTANT À L'EFFORT"},null,null,{"$f":"IF($H$2=\"G\",'Skills explications FTEM'!T29,'Skills explications FTEM'!G29)","v":"Est-il capable de maintenir sa puissance, sa force, sa vitesse durant un long temps de glace et peut-il récupérer complètement entre ses engagements (facteurs du métabolisme et cardiovasculaire)"},null,null,{"$f":"IF($H$2=\"G\",'Skills explications FTEM'!W29,'Skills explications FTEM'!J29)","v":0}]
[{"$f":"'Skills explications FTEM'!A30:C30","v":0},null,null,{"$f":"IF($H$2=\"G\",'Skills explications FTEM'!Q30,'Skills explications FTEM'!D30)","v":"MOBILITÉ/ COODINATION"},null,null,{"$f":"IF($H$2=\"G\",'Skills explications FTEM'!T30,'Skills explications FTEM'!G30)","v":"Gère-t-il ses aptitudes de mouvements de base, qui sont un fournisseur important des fonctions spécifiques «Skills» pour être efficace"},null,null,{"$f":"IF($H$2=\"G\",'Skills explications FTEM'!W30,'Skills explications FTEM'!J30)","v":0}]
[{"$f":"'Skills explications FTEM'!A31:C31","v":0},null,null,{"$f":"IF($H$2=\"G\",'Skills explications FTEM'!Q31,'Skills explications FTEM'!D31)","v":"ROBUSTESSE / PREVENTION"},null,null,{"$f":"IF($H$2=\"G\",'Skills explications FTEM'!T31,'Skills explications FTEM'!G31)","v":"A-t-il la force de base nécessaire (tension corporelle) pour gagner des duels et résister aux charges, A-t-il la stabilité nécessaire (ex. ses appuis) et la mobilité nécessaire au niveau des articulations centrales"},null,null,{"$f":"IF($H$2=\"G\",'Skills explications FTEM'!W31,'Skills explications FTEM'!J31)","v":0}]

{"sheet":"6","index":9,"n_rows":40,"n_cols":36,"rows_kept":40,"cut":false,"hidden":false,"merged":[[36,25,39,25],[36,26,39,32],[36,34,39,34],[32,23,35,23],[33,3,33,5],[33,6,33,11],[35,3,35,5],[35,6,35,11],[32,0,35,2],[32,3,32,5],[32,6,32,11],[32,12,35,12],[32,13,35,13],[32,15,35,15],[36,0,39,2],[36,3,36,5],[36,6,36,11],[36,12,39,12],[36,23,39,23],[37,3,37,5],[37,6,37,11],[38,3,38,5],[38,6,38,11],[39,3,39,5],[27,21,27,22],[28,17,31,17],[28,19,31,19],[28,21,31,21],[29,3,29,5],[29,6,29,11],[30,3,30,5],[30,6,30,11],[32,17,35,17],[32,19,35,19],[32,21,35,21],[34,3,34,5],[34,6,34,11],[23,0,26,2],[23,3,23,5],[23,6,23,11],[23,12,26,12],[23,13,26,13],[23,15,26,15],[27,23,27,24],[27,26,27,32],[28,0,31,2],[28,3,28,5],[28,6,28,11],[28,12,31,12],[28,13,31,13],[28,15,31,15],[31,3,31,5],[31,6,31,11],[28,23,31,23],[27,0,27,2],[27,3,27,5],[27,6,27,11],[27,13,27,14],[27,15,27,16],[27,17,27,18],[27,19,27,20],[19,21,22,21],[19,23,22,23],[20,3,20,5],[20,6,20,11],[22,3,22,5],[22,6,22,11],[26,3,26,5],[26,6,26,11],[23,23,26,23],[23,17,26,17],[23,19,26,19],[23,21,26,21],[24,3,24,5],[24,6,24,11],[25,3,25,5],[25,6,25,11],[21,3,21,5],[21,6,21,11],[15,15,18,15],[15,17,18,17],[15,19,18,19],[15,21,18,21],[15,23,18,23],[18,3,18,5],[18,6,18,11],[19,0,22,2],[19,3,19,5],[19,6,19,11],[19,12,22,12],[19,13,22,13],[19,15,22,15],[19,17,22,17],[15,0,18,2],[15,3,15,5],[15,6,15,11],[15,12,18,12],[15,13,18,13],[16,3,16,5],[16,6,16,11],[17,3,17,5],[17,6,17,11],[19,19,22,19],[12,23,13,23],[13,3,13,5],[13,6,13,11],[14,0,14,2],[14,3,14,5],[14,6,14,11],[14,13,14,14],[14,15,14,16],[14,17,14,18],[14,19,14,20],[14,21,14,22],[14,23,14,24],[12,0,13,2],[12,3,12,5],[12,6,12,11],[12,12,13,12],[12,13,13,13],[12,15,13,15],[12,17,13,17],[12,19,13,19],[12,21,13,21],[11,0,11,2],[11,3,11,5],[11,13,11,14],[11,15,11,16],[11,17,11,18],[11,19,11,20],[11,21,11,22],[11,23,11,24],[11,26,11,32],[11,6,11,11],[0,33,0,35],[23,25,26,25],[23,26,26,32],[23,34,26,34],[28,25,31,25],[28,26,31,32],[28,34,31,34],[1,0,1,1],[1,2,1,5],[1,10,1,24],[2,0,2,1],[2,2,2,5],[2,11,2,24],[6,0,6,1],[6,2,6,35],[7,0,7,1],[7,2,7,35],[8,0,8,1],[8,2,8,35],[3,0,3,1],[3,10,3,24],[4,0,4,1],[4,2,4,5],[4,10,4,24],[39,6,39,11],[36,13,39,13],[36,15,39,15],[36,17,39,17],[36,19,39,19],[36,21,39,21],[0,0,0,24],[0,25,0,26],[0,27,0,32],[10,0,10,24],[10,25,10,35],[32,25,35,25],[32,26,35,32],[32,34,35,34],[12,25,13,25],[12,26,13,32],[12,34,13,34],[15,25,18,25],[15,26,18,32],[15,34,18,34],[19,25,22,25],[19,26,22,32],[19,34,22,34],[14,26,14,32]]}
["Infos personelles",null,null,null,null,null,null,null,null,null,null,null,null,null,null,null,null,null,null,null,null,null,null,null,null,"Predispositions",null,"Evaluations",null,null,null,null,null,"Rating"]
["PRENOM",null,{"$f":"IF(ISBLANK(VLOOKUP(6,Tabelle3[],3,0)),\"-\",VLOOKUP(6,Tabelle3[],3,0))","v":"-"},null,null,null,"POSITION",null,null,"ADRESSE",{"$f":"IF(ISBLANK(VLOOKUP(6,Tabelle3[],5,0)),\"-\",VLOOKUP(6,Tabelle3[],5,0))","v":"-"},null,null,null,null,null,null,null,null,null,null,null,null,null,null,"\"àage\" (Biologique/age relatif)",null,"Date 1",null,null,"cm",null,"Kg",null,"AUSGEZEICHNET",5]
["NOM",null,{"$f":"IF(ISBLANK(VLOOKUP(6,Tabelle3[],2,0)),\"-\",VLOOKUP(6,Tabelle3[],2,0))","v":"-"},null,null,null,"CANNE",null,null,"LIEU",{"$f":"IF(ISBLANK(VLOOKUP(6,Tabelle3[],7,0)),\"-\",VLOOKUP(6,Tabelle3[],7,0))","v":"-"},{"$f":"IF(ISBLANK(VLOOKUP(6,Tabelle3[],6,0)),\"-\",VLOOKUP(6,Tabelle3[],6,0))","v":"-"},null,null,null,null,null,null,null,null,null,null,null,null,null,"predispositions",null,"Date 2",null,null,"cm",null,"Kg",null,"GUT",4]
["DATE NAISS.",null,{"$f":"IF(ISBLANK(VLOOKUP(6,Tabelle3[],14,0)),\"-\",VLOOKUP(6,Tabelle3[],14,0))","v":"-"},{"$f":"IF(ISBLANK(VLOOKUP(6,Tabelle3[],15,0)),\"-\",VLOOKUP(6,Tabelle3[],15,0))","v":"-"},{"$f":"IF(ISBLANK(VLOOKUP(6,Tabelle3[],16,0)),\"-\",VLOOKUP(6,Tabelle3[],16,0))","v":"-"},null,"GRANDEUR",null,"cm","PHONE",{"$f":"IF(ISBLANK(VLOOKUP(6,Tabelle3[],8,0)),\"-\",VLOOKUP(6,Tabelle3[],8,0))","v":"-"},null,null,null,null,null,null,null,null,null,null,null,null,null,null,"Entourage",null,"Date 3",null,null,"cm",null,"Kg",null,"DURCHSCHNITT",3]
["SEXE",null,{"$f":"IF(ISBLANK(VLOOKUP(6,Tabelle3[],13,0)),\"-\",VLOOKUP(6,Tabelle3[],13,0))","v":"-"},null,null,null,"POIDS",null,"Kg","E-Mail",{"$f":"IF(ISBLANK(VLOOKUP(6,Tabelle3[],9,0)),\"-\",VLOOKUP(6,Tabelle3[],9,0))","v":"-"},null,null,null,null,null,null,null,null,null,null,null,null,null,null,null,null,"Date 4",null,null,"cm",null,"Kg",null,"MANGELHAFT",2]
[null,null,null,null,null,null,null,null,null,null,null,null,null,null,null,null,null,null,null,null,null,null,null,null,null,null,null,"Date 5",null,null,"cm",null,"Kg",null,"UNGENÜGEND",1]
["Vision",null,"xxx"]
["Next step",null,"xxx"]
["Profil du Joueur",null,"xxx"]
[]
["EVALUATION (COACH / JOUEUR)",null,null,null,null,null,null,null,null,null,null,null,null,null,null,null,null,null,null,null,null,null,null,null,null,"SMART"]
[{"$f":"'Skills explications FTEM'!A3:C3","v":"TEAM"},null,null,"CAPACITE",null,null,"OBSERVATION",null,null,null,null,null,"Final","Date1",null,"Date2",null,"Date3",null,"Date4",null,"Date5",null,"Player",null,"BUT","MESURES:\nSPECIFIQUE, MESURABLES, REALISTE",null,null,null,null,null,null,"DELAI","CONTRÔLE DU BUT","Date"]
[{"$f":"'Skills explications FTEM'!A4:C4","v":"ROLLE, SOZIAL"},null,null,{"$f":"IF($H$2=\"G\",'Skills explications FTEM'!Q4,'Skills explications FTEM'!D4)","v":"PENSER EQUIPE"},null,null,{"$f":"IF($H$2=\"G\",'Skills explications FTEM'!T4,'Skills explications FTEM'!G4)","v":"Identification au rôle, relation au cammarades (social, intégration)"},null,null,{"$f":"IF($H$2=\"G\",'Skills explications FTEM'!W4,'Skills explications FTEM'!J4)","v":0},null,null,null,{"$f":"IFERROR(AVERAGE(O13:O14),\"-\")","v":"-"},null,{"$f":"IFERROR(AVERAGE(Q13:Q14),\"-\")","v":"-"},null,{"$f":"IFERROR(AVERAGE(S13:S14),\"-\")","v":"-"},null,{"$f":"IFERROR(AVERAGE(U13:U14),\"-\")","v":"-"},null,{"$f":"IFERROR(AVERAGE(W13:W14),\"-\")","v":"-"},null,{"$f":"IFERROR(AVERAGE(Y13:Y14),\"-\")","v":"-"}]
[{"$f":"'Skills explications FTEM'!A5:C5","v":0},null,null,{"$f":"IF($H$2=\"G\",'Skills explications FTEM'!Q5,'Skills explications FTEM'!D5)","v":"LEADERSHIP"},null,null,{"$f":"IF($H$2=\"G\",'Skills explications FTEM'!T5,'Skills explications FTEM'!G5)","v":"prend des responsabilités, rend son coéquipier meilleur"},null,null,{"$f":"IF($H$2=\"G\",'Skills explications FTEM'!W5,'Skills explications FTEM'!J5)","v":0}]
[{"$f":"'Skills explications FTEM'!A6:C6","v":"ON ICE"},null,null,"CAPACITE",null,null,"OBSERVATION",null,null,null,null,null,null,"Date1",null,"Date2",null,"Date3",null,"Date4",null,"Date5",null,"Player",null,"BUT","MESURES:\nSPECIFIQUE, MESURABLES, REALISTE",null,null,null,null,null,null,"DELAI","CONTRÔLE DU BUT","Date"]
[{"$f":"'Skills explications FTEM'!A7:C7","v":"SKILL"},null,null,{"$f":"IF($H$2=\"G\",'Skills explications FTEM'!Q7,'Skills explications FTEM'!D7)","v":"TIR  (EFFET)"},null,null,{"$f":"IF($H$2=\"G\",'Skills explications FTEM'!T7,'Skills explications FTEM'!G7)","v":"Efficience (pas d'espace et de temps), variantes, degré de surprise (déclenchement rapide), précision, puissance (conclusion tactique)"},null,null,{"$f":"IF($H$2=\"G\",'Skills explications FTEM'!W7,'Skills explications FTEM'!J7)","v":0},null,null,null,{"$f":"IFERROR(AVERAGE(O16:O19),\"-\")","v":"-"},null,{"$f":"IFERROR(AVERAGE(Q16:Q19),\"-\")","v":"-"},null,{"$f":"IFERROR(AVERAGE(S16:S19),\"-\")","v":"-"},null,{"$f":"IFERROR(AVERAGE(U16:U19),\"-\")","v":"-"},null,{"$f":"IFERROR(AVERAGE(W16:W19),\"-\")","v":"-"},null,{"$f":"IFERROR(AVERAGE(Y16:Y19),\"-\")","v":"-"}]
[{"$f":"'Skills explications FTEM'!A8:C8","v":0},null,null,{"$f":"IF($H$2=\"G\",'Skills explications FTEM'!Q8,'Skills explications FTEM'!D8)","v":"PASSER"},null,null,{"$f":"IF($H$2=\"G\",'Skills explications FTEM'!T8,'Skills explications FTEM'!G8)","v":"Donne la passe (distance, passe flipée en revers), réception de la passe (précision, timing, coup droit, revers, patins), vitesse du puck"},null,null,{"$f":"IF($H$2=\"G\",'Skills explications FTEM'!W8,'Skills explications FTEM'!J8)","v":0}]
[{"$f":"'Skills explications FTEM'!A9:C9","v":0},null,null,{"$f":"IF($H$2=\"G\",'Skills explications FTEM'!Q9,'Skills explications FTEM'!D9)","v":"JEU DU CORPS"},null,null,{"$f":"IF($H$2=\"G\",'Skills explications FTEM'!T9,'Skills explications FTEM'!G9)","v":"Faculté de s'imposer physiquement, duels (sur la surface de glace ou à la bande), prendre des checks, lever la tête, niveau de lutte, dur mais correct, bloquer les tirs avec le corps"},null,null,{"$f":"IF($H$2=\"G\",'Skills explications FTEM'!W9,'Skills explications FTEM'!J9)","v":0},null,null,null,{"$f":"IFERROR(AVERAGE(O18:O19),\"-\")","v":"-"},null,{"$f":"IFERROR(AVERAGE(Q18:Q19),\"-\")","v":"-"},null,{"$f":"IFERROR(AVERAGE(S18:S19),\"-\")","v":"-"},null,{"$f":"IFERROR(AVERAGE(U18:U19),\"-\")","v":"-"},null,{"$f":"IFERROR(AVERAGE(W18:W19),\"-\")","v":"-"},null,"-"]
[{"$f":"'Skills explications FTEM'!A10:C10","v":0},null,null,{"$f":"IF($H$2=\"G\",'Skills explications FTEM'!Q10,'Skills explications FTEM'!D10)","v":"CONTRÔLE DU PUCK"},null,null,{"$f":"IF($H$2=\"G\",'Skills explications FTEM'!T10,'Skills explications FTEM'!G10)","v":"Contrôle du puck, dribbling, protection du puck, feintes (variantes: avec les patins ou avec et sans la bande), mise au jeu (bully)"},null,null,{"$f":"IF($H$2=\"G\",'Skills explications FTEM'!W10,'Skills explications FTEM'!J10)","v":0}]
[{"$f":"'Skills explications FTEM'!A11:C11","v":"SKATING"},null,null,{"$f":"IF($H$2=\"G\",'Skills explications FTEM'!Q11,'Skills explications FTEM'!D11)","v":"FOOTSPEED"},null,null,{"$f":"IF($H$2=\"G\",'Skills explications FTEM'!T11,'Skills explications FTEM'!G11)","v":"Accélération, départ, explosivité des 3 premiers pas, fréquence"},null,null,{"$f":"IF($H$2=\"G\",'Skills explications FTEM'!W11,'Skills explications FTEM'!J11)","v":0},null,null,null,{"$f":"IFERROR(AVERAGE(O20:O23),\"-\")","v":"-"},null,{"$f":"IFERROR(AVERAGE(Q20:Q23),\"-\")","v":"-"},null,{"$f":"IFERROR(AVERAGE(S20:S23),\"-\")","v":"-"},null,{"$f":"IFERROR(AVERAGE(U20:U23),\"-\")","v":"-"},null,{"$f":"IFERROR(AVERAGE(W20:W23),\"-\")","v":"-"},null,{"$f":"IFERROR(AVERAGE(Y20:Y23),\"-\")","v":"-"}]
[{"$f":"'Skills explications FTEM'!A12:C12","v":0},null,null,{"$f":"IF($H$2=\"G\",'Skills explications FTEM'!Q12,'Skills explications FTEM'!D12)","v":"MOBILITE"},null,null,{"$f":"IF($H$2=\"G\",'Skills explications FTEM'!T12,'Skills explications FTEM'!G12)","v":"Changements de direction, pivots, stop et start «Nummelin»"},null,null,{"$f":"IF($H$2=\"G\",'Skills explications FTEM'!W12,'Skills explications FTEM'!J12)","v":0}]
[{"$f":"'Skills explications FTEM'!A13:C13","v":0},null,null,{"$f":"IF($H$2=\"G\",'Skills explications FTEM'!Q13,'Skills explications FTEM'!D13)","v":"PATTINAGE ARRIÈRE"},null,null,{"$f":"IF($H$2=\"G\",'Skills explications FTEM'!T13,'Skills explications FTEM'!G13)","v":"Accélération, vitesse, équilibre"},null,null,{"$f":"IF($H$2=\"G\",'Skills explications FTEM'!W13,'Skills explications FTEM'!J13)","v":0}]
[{"$f":"'Skills explications FTEM'!A14:C14","v":0},null,null,{"$f":"IF($H$2=\"G\",'Skills explications FTEM'!Q14,'Skills explications FTEM'!D14)","v":"TOP SPEED"},null,null,{"$f":"IF($H$2=\"G\",'Skills explications FTEM'!T14,'Skills explications FTEM'!G14)","v":"Vitesse, faculté de glisse, avant et arrière, économie des forces"},null,null,{"$f":"IF($H$2=\"G\",'Skills explications FTEM'!W14,'Skills explications FTEM'!J14)","v":0}]
[{"$f":"'Skills explications FTEM'!A15:C15","v":"HOCKEY SENSE"},null,null,{"$f":"IF($H$2=\"G\",'Skills explications FTEM'!Q15,'Skills explications FTEM'!D15)","v":"SCORING"},null,null,{"$f":"IF($H$2=\"G\",'Skills explications FTEM'!T15,'Skills explications FTEM'!G15)","v":"Efficience, richesse des variantes, surpenant, vite, variante de tirs"},null,null,{"$f":"IF($H$2=\"G\",'Skills explications FTEM'!W15,'Skills explications FTEM'!J15)","v":0},null,null,null,{"$f":"IFERROR(AVERAGE(O24:O27),\"-\")","v":"-"},null,{"$f":"IFERROR(AVERAGE(Q24:Q27),\"-\")","v":"-"},null,{"$f":"IFERROR(AVERAGE(S24:S27),\"-\")","v":"-"},null,{"$f":"IFERROR(AVERAGE(U24:U27),\"-\")","v":"-"},null,{"$f":"IFERROR(AVERAGE(W24:W27),\"-\")","v":"-"},null,{"$f":"IFERROR(AVERAGE(Y24:Y27),\"-\")","v":"-"}]
[{"$f":"'Skills explications FTEM'!A16:C16","v":0},null,null,{"$f":"IF($H$2=\"G\",'Skills explications FTEM'!Q16,'Skills explications FTEM'!D16)","v":"AVEC PUCK"},null,null,{"$f":"IF($H$2=\"G\",'Skills explications FTEM'!T16,'Skills explications FTEM'!G16)","v":"créatif,  performing, batteling, fou, transition"},null,null,{"$f":"IF($H$2=\"G\",'Skills explications FTEM'!W16,'Skills explications FTEM'!J16)","v":0}]
[{"$f":"'Skills explications FTEM'!A17:C17","v":0},null,null,{"$f":"IF($H$2=\"G\",'Skills explications FTEM'!Q17,'Skills explications FTEM'!D17)","v":"SANS PUCK"},null,null,{"$f":"IF($H$2=\"G\",'Skills explications FTEM'!T17,'Skills explications FTEM'!G17)","v":"ouvert pour un passe (Support), 1:1, Gap"},null,null,{"$f":"IF($H$2=\"G\",'Skills explications FTEM'!W17,'Skills explications FTEM'!J17)","v":0}]
[{"$f":"'Skills explications FTEM'!A18:C18","v":0},null,null,{"$f":"IF($H$2=\"G\",'Skills explications FTEM'!Q18,'Skills explications FTEM'!D18)","v":"DEFENSIF"},null,null,{"$f":"IF($H$2=\"G\",'Skills explications FTEM'!T18,'Skills explications FTEM'!G18)","v":"on peut compter dessus,  1:1, Gap, identification de l'homme"},null,null,{"$f":"IF($H$2=\"G\",'Skills explications FTEM'!W18,'Skills explications FTEM'!J18)","v":0}]
[{"$f":"'Skills explications FTEM'!A19:C19","v":"PERSONALITY"},null,null,"CAPACITE",null,null,"OBSERVATION",null,null,null,null,null,null,"Date1",null,"Date2",null,"Date3",null,"Date4",null,"Date5",null,"Player",null,"BUT","MESURES:\nSPECIFIQUE, MESURABLES, REALISTE",null,null,null,null,null,null,"DELAI","CONTRÔLE DU BUT","Date"]
[{"$f":"'Skills explications FTEM'!A20:C20","v":"PERSONALITÉ"},null,null,{"$f":"IF($H$2=\"G\",'Skills explications FTEM'!Q20,'Skills explications FTEM'!D20)","v":"MOTIVATION"},null,null,{"$f":"IF($H$2=\"G\",'Skills explications FTEM'!T20,'Skills explications FTEM'!G20)","v":"Est toujours motivé, veut sans cesse se développer et apprendre, veut être le premier et avoir du succès, n'abandonne jamais et ne se laisse pas influencer par les échecs"},null,null,{"$f":"IF($H$2=\"G\",'Skills explications FTEM'!W20,'Skills explications FTEM'!J20)","v":0},null,null,null,{"$f":"IFERROR(AVERAGE(O29:O32),\"-\")","v":"-"},null,null,null,{"$f":"IFERROR(AVERAGE(S29:S32),\"-\")","v":"-"},null,{"$f":"IFERROR(AVERAGE(U29:U32),\"-\")","v":"-"},null,{"$f":"IFERROR(AVERAGE(W29:W32),\"-\")","v":"-"},null,{"$f":"IFERROR(AVERAGE(Y29:Y32),\"-\")","v":"-"}]
[{"$f":"'Skills explications FTEM'!A21:C21","v":0},null,null,{"$f":"IF($H$2=\"G\",'Skills explications FTEM'!Q21,'Skills explications FTEM'!D21)","v":"CONFIENCE EN SOI"},null,null,{"$f":"IF($H$2=\"G\",'Skills explications FTEM'!T21,'Skills explications FTEM'!G21)","v":"Est en confiance, «I can do it», peut estimer ses capacités (connaît ses qualités et ses défauts), peut réaliser ses qualités avec constance, est courageux et prend des risques calculés"},null,null,{"$f":"IF($H$2=\"G\",'Skills explications FTEM'!W21,'Skills explications FTEM'!J21)","v":0}]
[{"$f":"'Skills explications FTEM'!A22:C22","v":0},null,null,{"$f":"IF($H$2=\"G\",'Skills explications FTEM'!Q22,'Skills explications FTEM'!D22)","v":"FACULTÉES D'APPRENTISSAGE"},null,null,{"$f":"IF($H$2=\"G\",'Skills explications FTEM'!T22,'Skills explications FTEM'!G22)","v":"A une bonne perception (il peut mémoriser et peut réaliser), il a de la personnalité, essaie d'apprendre de ses erreurs et est entreprenant"},null,null,{"$f":"IF($H$2=\"G\",'Skills explications FTEM'!W22,'Skills explications FTEM'!J22)","v":0}]
[{"$f":"'Skills explications FTEM'!A23:C23","v":0},null,null,{"$f":"IF($H$2=\"G\",'Skills explications FTEM'!Q23,'Skills explications FTEM'!D23)","v":"PERFORMANCE, STYLE DE VIE"},null,null,{"$f":"IF($H$2=\"G\",'Skills explications FTEM'!T23,'Skills explications FTEM'!G23)","v":"Gère bien son environnement et son temps libre selon les principes de la performance, obstiné, tenace et axé sur l'objectif, accent sur sa propre performance, est courageux et peut s'imposer contre de la résistance, les défis le motivent"},null,null,{"$f":"IF($H$2=\"G\",'Skills explications FTEM'!W23,'Skills explications FTEM'!J23)","v":0}]
[{"$f":"'Skills explications FTEM'!A24:C24","v":"POWER MENTAL"},null,null,{"$f":"IF($H$2=\"G\",'Skills explications FTEM'!Q24,'Skills explications FTEM'!D24)","v":"GESTION DES ÉNERGIES"},null,null,{"$f":"IF($H$2=\"G\",'Skills explications FTEM'!T24,'Skills explications FTEM'!G24)","v":"Peut-il gérer ses propres énergies, prend-il soin de sa régénération, peut-il gérer les moments où il faut se donner à fond ou quand il faut déconnecter, bouton On/Off"},null,null,{"$f":"IF($H$2=\"G\",'Skills explications FTEM'!W24,'Skills explications FTEM'!J24)","v":0},null,null,null,{"$f":"IFERROR(AVERAGE(O33:O36),\"-\")","v":"-"},null,null,null,{"$f":"IFERROR(AVERAGE(S33:S36),\"-\")","v":"-"},null,{"$f":"IFERROR(AVERAGE(U33:U36),\"-\")","v":"-"},null,{"$f":"IFERROR(AVERAGE(W33:W36),\"-\")","v":"-"},null,{"$f":"IFERROR(AVERAGE(Y33:Y36),\"-\")","v":"-"}]
[{"$f":"'Skills explications FTEM'!A25:C25","v":0},null,null,{"$f":"IF($H$2=\"G\",'Skills explications FTEM'!Q25,'Skills explications FTEM'!D25)","v":"ENGAGEMENT"},null,null,{"$f":"IF($H$2=\"G\",'Skills explications FTEM'!T25,'Skills explications FTEM'!G25)","v":"Démontre beaucoup d'intensité dans les entraînements et les matchs, donne toujours son maximum et veut sans cesse repousser ses limites, a-t-il de la passion, s'efforce-t-il de s'entraîner avec une excellente qualité"},null,null,{"$f":"IF($H$2=\"G\",'Skills explications FTEM'!W25,'Skills explications FTEM'!J25)","v":0}]
[{"$f":"'Skills explications FTEM'!A26:C26","v":0},null,null,{"$f":"IF($H$2=\"G\",'Skills explications FTEM'!Q26,'Skills explications FTEM'!D26)","v":"CONTRÔLE DES ÉMOTIONS"},null,null,{"$f":"IF($H$2=\"G\",'Skills explications FTEM'!T26,'Skills explications FTEM'!G26)","v":"Peut-il gérer ses propres émotions et impulsions, reste-t-il sous contrôle lorsqu'il y a une grande pression, peut-il rester calme lorsque le niveau émotionnel et de frustration est élevé"},null,null,{"$f":"IF($H$2=\"G\",'Skills explications FTEM'!W26,'Skills explications FTEM'!J26)","v":0}]
[{"$f":"'Skills explications FTEM'!A27:C27","v":0},null,null,{"$f":"IF($H$2=\"G\",'Skills explications FTEM'!Q27,'Skills explications FTEM'!D27)","v":"PRÉPARATION"},null,null,{"$f":"IF($H$2=\"G\",'Skills explications FTEM'!T27,'Skills explications FTEM'!G27)","v":"Se prépare-t-il toujours bien, mentalement et physiquement, se prépare-t-il toujours bien pour obtenir le niveau de performance idéal (ILZ)"},null,null,{"$f":"IF($H$2=\"G\",'Skills explications FTEM'!W27,'Skills explications FTEM'!J27)","v":0}]
[{"$f":"'Skills explications FTEM'!A28:C28","v":"PYHSE (Athletik)"},null,null,{"$f":"IF($H$2=\"G\",'Skills explications FTEM'!Q28,'Skills explications FTEM'!D28)","v":"PRODUCTION DE LA PERFORMANCE"},null,null,{"$f":"IF($H$2=\"G\",'Skills explications FTEM'!T28,'Skills explications FTEM'!G28)","v":"A-t-il la puissance, la force, la vitesse nécessaires dans les jambes et le haut du corps (facteurs neuromusculaires)"},null,null,{"$f":"IF($H$2=\"G\",'Skills explications FTEM'!W28,'Skills explications FTEM'!J28)","v":0},null,null,null,{"$f":"IFERROR(AVERAGE(O37:O40),\"-\")","v":"-"},null,null,null,{"$f":"IFERROR(AVERAGE(S37:S40),\"-\")","v":"-"},null,{"$f":"IFERROR(AVERAGE(U37:U40),\"-\")","v":"-"},null,{"$f":"IFERROR(AVERAGE(W37:W40),\"-\")","v":"-"},null,{"$f":"IFERROR(AVERAGE(Y37:Y40),\"-\")","v":"-"}]
[{"$f":"'Skills explications FTEM'!A29:C29","v":0},null,null,{"$f":"IF($H$2=\"G\",'Skills explications FTEM'!Q29,'Skills explications FTEM'!D29)","v":"SPÉCIFIQUE AU SPORT, RÉSISTANT À L'EFFORT"},null,null,{"$f":"IF($H$2=\"G\",'Skills explications FTEM'!T29,'Skills explications FTEM'!G29)","v":"Est-il capable de maintenir sa puissance, sa force, sa vitesse durant un long temps de glace et peut-il récupérer complètement entre ses engagements (facteurs du métabolisme et cardiovasculaire)"},null,null,{"$f":"IF($H$2=\"G\",'Skills explications FTEM'!W29,'Skills explications FTEM'!J29)","v":0}]
[{"$f":"'Skills explications FTEM'!A30:C30","v":0},null,null,{"$f":"IF($H$2=\"G\",'Skills explications FTEM'!Q30,'Skills explications FTEM'!D30)","v":"MOBILITÉ/ COODINATION"},null,null,{"$f":"IF($H$2=\"G\",'Skills explications FTEM'!T30,'Skills explications FTEM'!G30)","v":"Gère-t-il ses aptitudes de mouvements de base, qui sont un fournisseur important des fonctions spécifiques «Skills» pour être efficace"},null,null,{"$f":"IF($H$2=\"G\",'Skills explications FTEM'!W30,'Skills explications FTEM'!J30)","v":0}]
[{"$f":"'Skills explications FTEM'!A31:C31","v":0},null,null,{"$f":"IF($H$2=\"G\",'Skills explications FTEM'!Q31,'Skills explications FTEM'!D31)","v":"ROBUSTESSE / PREVENTION"},null,null,{"$f":"IF($H$2=\"G\",'Skills explications FTEM'!T31,'Skills explications FTEM'!G31)","v":"A-t-il la force de base nécessaire (tension corporelle) pour gagner des duels et résister aux charges, A-t-il la stabilité nécessaire (ex. ses appuis) et la mobilité nécessaire au niveau des articulations centrales"},null,null,{"$f":"IF($H$2=\"G\",'Skills explications FTEM'!W31,'Skills explications FTEM'!J31)","v":0}]

{"sheet":"7","index":10,"n_rows":40,"n_cols":36,"rows_kept":40,"cut":false,"hidden":false,"merged":[[36,25,39,25],[36,26,39,32],[36,34,39,34],[32,23,35,23],[33,3,33,5],[33,6,33,11],[35,3,35,5],[35,6,35,11],[32,0,35,2],[32,3,32,5],[32,6,32,11],[32,12,35,12],[32,13,35,13],[32,15,35,15],[36,0,39,2],[36,3,36,5],[36,6,36,11],[36,12,39,12],[36,23,39,23],[37,3,37,5],[37,6,37,11],[38,3,38,5],[38,6,38,11],[39,3,39,5],[27,21,27,22],[28,17,31,17],[28,19,31,19],[28,21,31,21],[29,3,29,5],[29,6,29,11],[30,3,30,5],[30,6,30,11],[32,17,35,17],[32,19,35,19],[32,21,35,21],[34,3,34,5],[34,6,34,11],[23,0,26,2],[23,3,23,5],[23,6,23,11],[23,12,26,12],[23,13,26,13],[23,15,26,15],[27,23,27,24],[27,26,27,32],[28,0,31,2],[28,3,28,5],[28,6,28,11],[28,12,31,12],[28,13,31,13],[28,15,31,15],[31,3,31,5],[31,6,31,11],[28,23,31,23],[27,0,27,2],[27,3,27,5],[27,6,27,11],[27,13,27,14],[27,15,27,16],[27,17,27,18],[27,19,27,20],[19,21,22,21],[19,23,22,23],[20,3,20,5],[20,6,20,11],[22,3,22,5],[22,6,22,11],[26,3,26,5],[26,6,26,11],[23,23,26,23],[23,17,26,17],[23,19,26,19],[23,21,26,21],[24,3,24,5],[24,6,24,11],[25,3,25,5],[25,6,25,11],[21,3,21,5],[21,6,21,11],[15,15,18,15],[15,17,18,17],[15,19,18,19],[15,21,18,21],[15,23,18,23],[18,3,18,5],[18,6,18,11],[19,0,22,2],[19,3,19,5],[19,6,19,11],[19,12,22,12],[19,13,22,13],[19,15,22,15],[19,17,22,17],[15,0,18,2],[15,3,15,5],[15,6,15,11],[15,12,18,12],[15,13,18,13],[16,3,16,5],[16,6,16,11],[17,3,17,5],[17,6,17,11],[19,19,22,19],[12,23,13,23],[13,3,13,5],[13,6,13,11],[14,0,14,2],[14,3,14,5],[14,6,14,11],[14,13,14,14],[14,15,14,16],[14,17,14,18],[14,19,14,20],[14,21,14,22],[14,23,14,24],[12,0,13,2],[12,3,12,5],[12,6,12,11],[12,12,13,12],[12,13,13,13],[12,15,13,15],[12,17,13,17],[12,19,13,19],[12,21,13,21],[11,0,11,2],[11,3,11,5],[11,13,11,14],[11,15,11,16],[11,17,11,18],[11,19,11,20],[11,21,11,22],[11,23,11,24],[11,26,11,32],[11,6,11,11],[0,33,0,35],[23,25,26,25],[23,26,26,32],[23,34,26,34],[28,25,31,25],[28,26,31,32],[28,34,31,34],[1,0,1,1],[1,2,1,5],[1,10,1,24],[2,0,2,1],[2,2,2,5],[2,11,2,24],[6,0,6,1],[6,2,6,35],[7,0,7,1],[7,2,7,35],[8,0,8,1],[8,2,8,35],[3,0,3,1],[3,10,3,24],[4,0,4,1],[4,2,4,5],[4,10,4,24],[39,6,39,11],[36,13,39,13],[36,15,39,15],[36,17,39,17],[36,19,39,19],[36,21,39,21],[0,0,0,24],[0,25,0,26],[0,27,0,32],[10,0,10,24],[10,25,10,35],[32,25,35,25],[32,26,35,32],[32,34,35,34],[12,25,13,25],[12,26,13,32],[12,34,13,34],[15,25,18,25],[15,26,18,32],[15,34,18,34],[19,25,22,25],[19,26,22,32],[19,34,22,34],[14,26,14,32]]}
["Infos personelles",null,null,null,null,null,null,null,null,null,null,null,null,null,null,null,null,null,null,null,null,null,null,null,null,"Predispositions",null,"Evaluations",null,null,null,null,null,"Rating"]
["PRENOM",null,{"$f":"IF(ISBLANK(VLOOKUP(7,Tabelle3[],3,0)),\"-\",VLOOKUP(7,Tabelle3[],3,0))","v":"-"},null,null,null,"POSITION",null,null,"ADRESSE",{"$f":"IF(ISBLANK(VLOOKUP(7,Tabelle3[],5,0)),\"-\",VLOOKUP(7,Tabelle3[],5,0))","v":"-"},null,null,null,null,null,null,null,null,null,null,null,null,null,null,"\"àage\" (Biologique/age relatif)",null,"Date 1",null,null,"cm",null,"Kg",null,"AUSGEZEICHNET",5]
["NOM",null,{"$f":"IF(ISBLANK(VLOOKUP(7,Tabelle3[],2,0)),\"-\",VLOOKUP(7,Tabelle3[],2,0))","v":"-"},null,null,null,"CANNE",null,null,"LIEU",{"$f":"IF(ISBLANK(VLOOKUP(7,Tabelle3[],7,0)),\"-\",VLOOKUP(7,Tabelle3[],7,0))","v":"-"},{"$f":"IF(ISBLANK(VLOOKUP(7,Tabelle3[],6,0)),\"-\",VLOOKUP(7,Tabelle3[],6,0))","v":"-"},null,null,null,null,null,null,null,null,null,null,null,null,null,"predispositions",null,"Date 2",null,null,"cm",null,"Kg",null,"GUT",4]
["DATE NAISS.",null,{"$f":"IF(ISBLANK(VLOOKUP(7,Tabelle3[],14,0)),\"-\",VLOOKUP(7,Tabelle3[],14,0))","v":"-"},{"$f":"IF(ISBLANK(VLOOKUP(7,Tabelle3[],15,0)),\"-\",VLOOKUP(7,Tabelle3[],15,0))","v":"-"},{"$f":"IF(ISBLANK(VLOOKUP(7,Tabelle3[],16,0)),\"-\",VLOOKUP(7,Tabelle3[],16,0))","v":"-"},null,"GRANDEUR",null,"cm","PHONE",{"$f":"IF(ISBLANK(VLOOKUP(7,Tabelle3[],8,0)),\"-\",VLOOKUP(7,Tabelle3[],8,0))","v":"-"},null,null,null,null,null,null,null,null,null,null,null,null,null,null,"Entourage",null,"Date 3",null,null,"cm",null,"Kg",null,"DURCHSCHNITT",3]
["SEXE",null,{"$f":"IF(ISBLANK(VLOOKUP(7,Tabelle3[],13,0)),\"-\",VLOOKUP(7,Tabelle3[],13,0))","v":"-"},null,null,null,"POIDS",null,"Kg","E-Mail",{"$f":"IF(ISBLANK(VLOOKUP(7,Tabelle3[],9,0)),\"-\",VLOOKUP(7,Tabelle3[],9,0))","v":"-"},null,null,null,null,null,null,null,null,null,null,null,null,null,null,null,null,"Date 4",null,null,"cm",null,"Kg",null,"MANGELHAFT",2]
[null,null,null,null,null,null,null,null,null,null,null,null,null,null,null,null,null,null,null,null,null,null,null,null,null,null,null,"Date 5",null,null,"cm",null,"Kg",null,"UNGENÜGEND",1]
["Vision",null,"xxx"]
["Next step",null,"xxx"]
["Profil du Joueur",null,"xxx"]
[]
["EVALUATION (COACH / JOUEUR)",null,null,null,null,null,null,null,null,null,null,null,null,null,null,null,null,null,null,null,null,null,null,null,null,"SMART"]
[{"$f":"'Skills explications FTEM'!A3:C3","v":"TEAM"},null,null,"CAPACITE",null,null,"OBSERVATION",null,null,null,null,null,"Final","Date1",null,"Date2",null,"Date3",null,"Date4",null,"Date5",null,"Player",null,"BUT","MESURES:\nSPECIFIQUE, MESURABLES, REALISTE",null,null,null,null,null,null,"DELAI","CONTRÔLE DU BUT","Date"]
[{"$f":"'Skills explications FTEM'!A4:C4","v":"ROLLE, SOZIAL"},null,null,{"$f":"IF($H$2=\"G\",'Skills explications FTEM'!Q4,'Skills explications FTEM'!D4)","v":"PENSER EQUIPE"},null,null,{"$f":"IF($H$2=\"G\",'Skills explications FTEM'!T4,'Skills explications FTEM'!G4)","v":"Identification au rôle, relation au cammarades (social, intégration)"},null,null,{"$f":"IF($H$2=\"G\",'Skills explications FTEM'!W4,'Skills explications FTEM'!J4)","v":0},null,null,null,{"$f":"IFERROR(AVERAGE(O13:O14),\"-\")","v":"-"},null,{"$f":"IFERROR(AVERAGE(Q13:Q14),\"-\")","v":"-"},null,{"$f":"IFERROR(AVERAGE(S13:S14),\"-\")","v":"-"},null,{"$f":"IFERROR(AVERAGE(U13:U14),\"-\")","v":"-"},null,{"$f":"IFERROR(AVERAGE(W13:W14),\"-\")","v":"-"},null,{"$f":"IFERROR(AVERAGE(Y13:Y14),\"-\")","v":"-"}]
[{"$f":"'Skills explications FTEM'!A5:C5","v":0},null,null,{"$f":"IF($H$2=\"G\",'Skills explications FTEM'!Q5,'Skills explications FTEM'!D5)","v":"LEADERSHIP"},null,null,{"$f":"IF($H$2=\"G\",'Skills explications FTEM'!T5,'Skills explications FTEM'!G5)","v":"prend des responsabilités, rend son coéquipier meilleur"},null,null,{"$f":"IF($H$2=\"G\",'Skills explications FTEM'!W5,'Skills explications FTEM'!J5)","v":0}]
[{"$f":"'Skills explications FTEM'!A6:C6","v":"ON ICE"},null,null,"CAPACITE",null,null,"OBSERVATION",null,null,null,null,null,null,"Date1",null,"Date2",null,"Date3",null,"Date4",null,"Date5",null,"Player",null,"BUT","MESURES:\nSPECIFIQUE, MESURABLES, REALISTE",null,null,null,null,null,null,"DELAI","CONTRÔLE DU BUT","Date"]
[{"$f":"'Skills explications FTEM'!A7:C7","v":"SKILL"},null,null,{"$f":"IF($H$2=\"G\",'Skills explications FTEM'!Q7,'Skills explications FTEM'!D7)","v":"TIR  (EFFET)"},null,null,{"$f":"IF($H$2=\"G\",'Skills explications FTEM'!T7,'Skills explications FTEM'!G7)","v":"Efficience (pas d'espace et de temps), variantes, degré de surprise (déclenchement rapide), précision, puissance (conclusion tactique)"},null,null,{"$f":"IF($H$2=\"G\",'Skills explications FTEM'!W7,'Skills explications FTEM'!J7)","v":0},null,null,null,{"$f":"IFERROR(AVERAGE(O16:O19),\"-\")","v":"-"},null,{"$f":"IFERROR(AVERAGE(Q16:Q19),\"-\")","v":"-"},null,{"$f":"IFERROR(AVERAGE(S16:S19),\"-\")","v":"-"},null,{"$f":"IFERROR(AVERAGE(U16:U19),\"-\")","v":"-"},null,{"$f":"IFERROR(AVERAGE(W16:W19),\"-\")","v":"-"},null,{"$f":"IFERROR(AVERAGE(Y16:Y19),\"-\")","v":"-"}]
[{"$f":"'Skills explications FTEM'!A8:C8","v":0},null,null,{"$f":"IF($H$2=\"G\",'Skills explications FTEM'!Q8,'Skills explications FTEM'!D8)","v":"PASSER"},null,null,{"$f":"IF($H$2=\"G\",'Skills explications FTEM'!T8,'Skills explications FTEM'!G8)","v":"Donne la passe (distance, passe flipée en revers), réception de la passe (précision, timing, coup droit, revers, patins), vitesse du puck"},null,null,{"$f":"IF($H$2=\"G\",'Skills explications FTEM'!W8,'Skills explications FTEM'!J8)","v":0}]
[{"$f":"'Skills explications FTEM'!A9:C9","v":0},null,null,{"$f":"IF($H$2=\"G\",'Skills explications FTEM'!Q9,'Skills explications FTEM'!D9)","v":"JEU DU CORPS"},null,null,{"$f":"IF($H$2=\"G\",'Skills explications FTEM'!T9,'Skills explications FTEM'!G9)","v":"Faculté de s'imposer physiquement, duels (sur la surface de glace ou à la bande), prendre des checks, lever la tête, niveau de lutte, dur mais correct, bloquer les tirs avec le corps"},null,null,{"$f":"IF($H$2=\"G\",'Skills explications FTEM'!W9,'Skills explications FTEM'!J9)","v":0},null,null,null,{"$f":"IFERROR(AVERAGE(O18:O19),\"-\")","v":"-"},null,{"$f":"IFERROR(AVERAGE(Q18:Q19),\"-\")","v":"-"},null,{"$f":"IFERROR(AVERAGE(S18:S19),\"-\")","v":"-"},null,{"$f":"IFERROR(AVERAGE(U18:U19),\"-\")","v":"-"},null,{"$f":"IFERROR(AVERAGE(W18:W19),\"-\")","v":"-"},null,"-"]
[{"$f":"'Skills explications FTEM'!A10:C10","v":0},null,null,{"$f":"IF($H$2=\"G\",'Skills explications FTEM'!Q10,'Skills explications FTEM'!D10)","v":"CONTRÔLE DU PUCK"},null,null,{"$f":"IF($H$2=\"G\",'Skills explications FTEM'!T10,'Skills explications FTEM'!G10)","v":"Contrôle du puck, dribbling, protection du puck, feintes (variantes: avec les patins ou avec et sans la bande), mise au jeu (bully)"},null,null,{"$f":"IF($H$2=\"G\",'Skills explications FTEM'!W10,'Skills explications FTEM'!J10)","v":0}]
[{"$f":"'Skills explications FTEM'!A11:C11","v":"SKATING"},null,null,{"$f":"IF($H$2=\"G\",'Skills explications FTEM'!Q11,'Skills explications FTEM'!D11)","v":"FOOTSPEED"},null,null,{"$f":"IF($H$2=\"G\",'Skills explications FTEM'!T11,'Skills explications FTEM'!G11)","v":"Accélération, départ, explosivité des 3 premiers pas, fréquence"},null,null,{"$f":"IF($H$2=\"G\",'Skills explications FTEM'!W11,'Skills explications FTEM'!J11)","v":0},null,null,null,{"$f":"IFERROR(AVERAGE(O20:O23),\"-\")","v":"-"},null,{"$f":"IFERROR(AVERAGE(Q20:Q23),\"-\")","v":"-"},null,{"$f":"IFERROR(AVERAGE(S20:S23),\"-\")","v":"-"},null,{"$f":"IFERROR(AVERAGE(U20:U23),\"-\")","v":"-"},null,{"$f":"IFERROR(AVERAGE(W20:W23),\"-\")","v":"-"},null,{"$f":"IFERROR(AVERAGE(Y20:Y23),\"-\")","v":"-"}]
[{"$f":"'Skills explications FTEM'!A12:C12","v":0},null,null,{"$f":"IF($H$2=\"G\",'Skills explications FTEM'!Q12,'Skills explications FTEM'!D12)","v":"MOBILITE"},null,null,{"$f":"IF($H$2=\"G\",'Skills explications FTEM'!T12,'Skills explications FTEM'!G12)","v":"Changements de direction, pivots, stop et start «Nummelin»"},null,null,{"$f":"IF($H$2=\"G\",'Skills explications FTEM'!W12,'Skills explications FTEM'!J12)","v":0}]
[{"$f":"'Skills explications FTEM'!A13:C13","v":0},null,null,{"$f":"IF($H$2=\"G\",'Skills explications FTEM'!Q13,'Skills explications FTEM'!D13)","v":"PATTINAGE ARRIÈRE"},null,null,{"$f":"IF($H$2=\"G\",'Skills explications FTEM'!T13,'Skills explications FTEM'!G13)","v":"Accélération, vitesse, équilibre"},null,null,{"$f":"IF($H$2=\"G\",'Skills explications FTEM'!W13,'Skills explications FTEM'!J13)","v":0}]
[{"$f":"'Skills explications FTEM'!A14:C14","v":0},null,null,{"$f":"IF($H$2=\"G\",'Skills explications FTEM'!Q14,'Skills explications FTEM'!D14)","v":"TOP SPEED"},null,null,{"$f":"IF($H$2=\"G\",'Skills explications FTEM'!T14,'Skills explications FTEM'!G14)","v":"Vitesse, faculté de glisse, avant et arrière, économie des forces"},null,null,{"$f":"IF($H$2=\"G\",'Skills explications FTEM'!W14,'Skills explications FTEM'!J14)","v":0}]
[{"$f":"'Skills explications FTEM'!A15:C15","v":"HOCKEY SENSE"},null,null,{"$f":"IF($H$2=\"G\",'Skills explications FTEM'!Q15,'Skills explications FTEM'!D15)","v":"SCORING"},null,null,{"$f":"IF($H$2=\"G\",'Skills explications FTEM'!T15,'Skills explications FTEM'!G15)","v":"Efficience, richesse des variantes, surpenant, vite, variante de tirs"},null,null,{"$f":"IF($H$2=\"G\",'Skills explications FTEM'!W15,'Skills explications FTEM'!J15)","v":0},null,null,null,{"$f":"IFERROR(AVERAGE(O24:O27),\"-\")","v":"-"},null,{"$f":"IFERROR(AVERAGE(Q24:Q27),\"-\")","v":"-"},null,{"$f":"IFERROR(AVERAGE(S24:S27),\"-\")","v":"-"},null,{"$f":"IFERROR(AVERAGE(U24:U27),\"-\")","v":"-"},null,{"$f":"IFERROR(AVERAGE(W24:W27),\"-\")","v":"-"},null,{"$f":"IFERROR(AVERAGE(Y24:Y27),\"-\")","v":"-"}]
[{"$f":"'Skills explications FTEM'!A16:C16","v":0},null,null,{"$f":"IF($H$2=\"G\",'Skills explications FTEM'!Q16,'Skills explications FTEM'!D16)","v":"AVEC PUCK"},null,null,{"$f":"IF($H$2=\"G\",'Skills explications FTEM'!T16,'Skills explications FTEM'!G16)","v":"créatif,  performing, batteling, fou, transition"},null,null,{"$f":"IF($H$2=\"G\",'Skills explications FTEM'!W16,'Skills explications FTEM'!J16)","v":0}]
[{"$f":"'Skills explications FTEM'!A17:C17","v":0},null,null,{"$f":"IF($H$2=\"G\",'Skills explications FTEM'!Q17,'Skills explications FTEM'!D17)","v":"SANS PUCK"},null,null,{"$f":"IF($H$2=\"G\",'Skills explications FTEM'!T17,'Skills explications FTEM'!G17)","v":"ouvert pour un passe (Support), 1:1, Gap"},null,null,{"$f":"IF($H$2=\"G\",'Skills explications FTEM'!W17,'Skills explications FTEM'!J17)","v":0}]
[{"$f":"'Skills explications FTEM'!A18:C18","v":0},null,null,{"$f":"IF($H$2=\"G\",'Skills explications FTEM'!Q18,'Skills explications FTEM'!D18)","v":"DEFENSIF"},null,null,{"$f":"IF($H$2=\"G\",'Skills explications FTEM'!T18,'Skills explications FTEM'!G18)","v":"on peut compter dessus,  1:1, Gap, identification de l'homme"},null,null,{"$f":"IF($H$2=\"G\",'Skills explications FTEM'!W18,'Skills explications FTEM'!J18)","v":0}]
[{"$f":"'Skills explications FTEM'!A19:C19","v":"PERSONALITY"},null,null,"CAPACITE",null,null,"OBSERVATION",null,null,null,null,null,null,"Date1",null,"Date2",null,"Date3",null,"Date4",null,"Date5",null,"Player",null,"BUT","MESURES:\nSPECIFIQUE, MESURABLES, REALISTE",null,null,null,null,null,null,"DELAI","CONTRÔLE DU BUT","Date"]
[{"$f":"'Skills explications FTEM'!A20:C20","v":"PERSONALITÉ"},null,null,{"$f":"IF($H$2=\"G\",'Skills explications FTEM'!Q20,'Skills explications FTEM'!D20)","v":"MOTIVATION"},null,null,{"$f":"IF($H$2=\"G\",'Skills explications FTEM'!T20,'Skills explications FTEM'!G20)","v":"Est toujours motivé, veut sans cesse se développer et apprendre, veut être le premier et avoir du succès, n'abandonne jamais et ne se laisse pas influencer par les échecs"},null,null,{"$f":"IF($H$2=\"G\",'Skills explications FTEM'!W20,'Skills explications FTEM'!J20)","v":0},null,null,null,{"$f":"IFERROR(AVERAGE(O29:O32),\"-\")","v":"-"},null,null,null,{"$f":"IFERROR(AVERAGE(S29:S32),\"-\")","v":"-"},null,{"$f":"IFERROR(AVERAGE(U29:U32),\"-\")","v":"-"},null,{"$f":"IFERROR(AVERAGE(W29:W32),\"-\")","v":"-"},null,{"$f":"IFERROR(AVERAGE(Y29:Y32),\"-\")","v":"-"}]
[{"$f":"'Skills explications FTEM'!A21:C21","v":0},null,null,{"$f":"IF($H$2=\"G\",'Skills explications FTEM'!Q21,'Skills explications FTEM'!D21)","v":"CONFIENCE EN SOI"},null,null,{"$f":"IF($H$2=\"G\",'Skills explications FTEM'!T21,'Skills explications FTEM'!G21)","v":"Est en confiance, «I can do it», peut estimer ses capacités (connaît ses qualités et ses défauts), peut réaliser ses qualités avec constance, est courageux et prend des risques calculés"},null,null,{"$f":"IF($H$2=\"G\",'Skills explications FTEM'!W21,'Skills explications FTEM'!J21)","v":0}]
[{"$f":"'Skills explications FTEM'!A22:C22","v":0},null,null,{"$f":"IF($H$2=\"G\",'Skills explications FTEM'!Q22,'Skills explications FTEM'!D22)","v":"FACULTÉES D'APPRENTISSAGE"},null,null,{"$f":"IF($H$2=\"G\",'Skills explications FTEM'!T22,'Skills explications FTEM'!G22)","v":"A une bonne perception (il peut mémoriser et peut réaliser), il a de la personnalité, essaie d'apprendre de ses erreurs et est entreprenant"},null,null,{"$f":"IF($H$2=\"G\",'Skills explications FTEM'!W22,'Skills explications FTEM'!J22)","v":0}]
[{"$f":"'Skills explications FTEM'!A23:C23","v":0},null,null,{"$f":"IF($H$2=\"G\",'Skills explications FTEM'!Q23,'Skills explications FTEM'!D23)","v":"PERFORMANCE, STYLE DE VIE"},null,null,{"$f":"IF($H$2=\"G\",'Skills explications FTEM'!T23,'Skills explications FTEM'!G23)","v":"Gère bien son environnement et son temps libre selon les principes de la performance, obstiné, tenace et axé sur l'objectif, accent sur sa propre performance, est courageux et peut s'imposer contre de la résistance, les défis le motivent"},null,null,{"$f":"IF($H$2=\"G\",'Skills explications FTEM'!W23,'Skills explications FTEM'!J23)","v":0}]
[{"$f":"'Skills explications FTEM'!A24:C24","v":"POWER MENTAL"},null,null,{"$f":"IF($H$2=\"G\",'Skills explications FTEM'!Q24,'Skills explications FTEM'!D24)","v":"GESTION DES ÉNERGIES"},null,null,{"$f":"IF($H$2=\"G\",'Skills explications FTEM'!T24,'Skills explications FTEM'!G24)","v":"Peut-il gérer ses propres énergies, prend-il soin de sa régénération, peut-il gérer les moments où il faut se donner à fond ou quand il faut déconnecter, bouton On/Off"},null,null,{"$f":"IF($H$2=\"G\",'Skills explications FTEM'!W24,'Skills explications FTEM'!J24)","v":0},null,null,null,{"$f":"IFERROR(AVERAGE(O33:O36),\"-\")","v":"-"},null,null,null,{"$f":"IFERROR(AVERAGE(S33:S36),\"-\")","v":"-"},null,{"$f":"IFERROR(AVERAGE(U33:U36),\"-\")","v":"-"},null,{"$f":"IFERROR(AVERAGE(W33:W36),\"-\")","v":"-"},null,{"$f":"IFERROR(AVERAGE(Y33:Y36),\"-\")","v":"-"}]
[{"$f":"'Skills explications FTEM'!A25:C25","v":0},null,null,{"$f":"IF($H$2=\"G\",'Skills explications FTEM'!Q25,'Skills explications FTEM'!D25)","v":"ENGAGEMENT"},null,null,{"$f":"IF($H$2=\"G\",'Skills explications FTEM'!T25,'Skills explications FTEM'!G25)","v":"Démontre beaucoup d'intensité dans les entraînements et les matchs, donne toujours son maximum et veut sans cesse repousser ses limites, a-t-il de la passion, s'efforce-t-il de s'entraîner avec une excellente qualité"},null,null,{"$f":"IF($H$2=\"G\",'Skills explications FTEM'!W25,'Skills explications FTEM'!J25)","v":0}]
[{"$f":"'Skills explications FTEM'!A26:C26","v":0},null,null,{"$f":"IF($H$2=\"G\",'Skills explications FTEM'!Q26,'Skills explications FTEM'!D26)","v":"CONTRÔLE DES ÉMOTIONS"},null,null,{"$f":"IF($H$2=\"G\",'Skills explications FTEM'!T26,'Skills explications FTEM'!G26)","v":"Peut-il gérer ses propres émotions et impulsions, reste-t-il sous contrôle lorsqu'il y a une grande pression, peut-il rester calme lorsque le niveau émotionnel et de frustration est élevé"},null,null,{"$f":"IF($H$2=\"G\",'Skills explications FTEM'!W26,'Skills explications FTEM'!J26)","v":0}]
[{"$f":"'Skills explications FTEM'!A27:C27","v":0},null,null,{"$f":"IF($H$2=\"G\",'Skills explications FTEM'!Q27,'Skills explications FTEM'!D27)","v":"PRÉPARATION"},null,null,{"$f":"IF($H$2=\"G\",'Skills explications FTEM'!T27,'Skills explications FTEM'!G27)","v":"Se prépare-t-il toujours bien, mentalement et physiquement, se prépare-t-il toujours bien pour obtenir le niveau de performance idéal (ILZ)"},null,null,{"$f":"IF($H$2=\"G\",'Skills explications FTEM'!W27,'Skills explications FTEM'!J27)","v":0}]
[{"$f":"'Skills explications FTEM'!A28:C28","v":"PYHSE (Athletik)"},null,null,{"$f":"IF($H$2=\"G\",'Skills explications FTEM'!Q28,'Skills explications FTEM'!D28)","v":"PRODUCTION DE LA PERFORMANCE"},null,null,{"$f":"IF($H$2=\"G\",'Skills explications FTEM'!T28,'Skills explications FTEM'!G28)","v":"A-t-il la puissance, la force, la vitesse nécessaires dans les jambes et le haut du corps (facteurs neuromusculaires)"},null,null,{"$f":"IF($H$2=\"G\",'Skills explications FTEM'!W28,'Skills explications FTEM'!J28)","v":0},null,null,null,{"$f":"IFERROR(AVERAGE(O37:O40),\"-\")","v":"-"},null,null,null,{"$f":"IFERROR(AVERAGE(S37:S40),\"-\")","v":"-"},null,{"$f":"IFERROR(AVERAGE(U37:U40),\"-\")","v":"-"},null,{"$f":"IFERROR(AVERAGE(W37:W40),\"-\")","v":"-"},null,{"$f":"IFERROR(AVERAGE(Y37:Y40),\"-\")","v":"-"}]
[{"$f":"'Skills explications FTEM'!A29:C29","v":0},null,null,{"$f":"IF($H$2=\"G\",'Skills explications FTEM'!Q29,'Skills explications FTEM'!D29)","v":"SPÉCIFIQUE AU SPORT, RÉSISTANT À L'EFFORT"},null,null,{"$f":"IF($H$2=\"G\",'Skills explications FTEM'!T29,'Skills explications FTEM'!G29)","v":"Est-il capable de maintenir sa puissance, sa force, sa vitesse durant un long temps de glace et peut-il récupérer complètement entre ses engagements (facteurs du métabolisme et cardiovasculaire)"},null,null,{"$f":"IF($H$2=\"G\",'Skills explications FTEM'!W29,'Skills explications FTEM'!J29)","v":0}]
[{"$f":"'Skills explications FTEM'!A30:C30","v":0},null,null,{"$f":"IF($H$2=\"G\",'Skills explications FTEM'!Q30,'Skills explications FTEM'!D30)","v":"MOBILITÉ/ COODINATION"},null,null,{"$f":"IF($H$2=\"G\",'Skills explications FTEM'!T30,'Skills explications FTEM'!G30)","v":"Gère-t-il ses aptitudes de mouvements de base, qui sont un fournisseur important des fonctions spécifiques «Skills» pour être efficace"},null,null,{"$f":"IF($H$2=\"G\",'Skills explications FTEM'!W30,'Skills explications FTEM'!J30)","v":0}]
[{"$f":"'Skills explications FTEM'!A31:C31","v":0},null,null,{"$f":"IF($H$2=\"G\",'Skills explications FTEM'!Q31,'Skills explications FTEM'!D31)","v":"ROBUSTESSE / PREVENTION"},null,null,{"$f":"IF($H$2=\"G\",'Skills explications FTEM'!T31,'Skills explications FTEM'!G31)","v":"A-t-il la force de base nécessaire (tension corporelle) pour gagner des duels et résister aux charges, A-t-il la stabilité nécessaire (ex. ses appuis) et la mobilité nécessaire au niveau des articulations centrales"},null,null,{"$f":"IF($H$2=\"G\",'Skills explications FTEM'!W31,'Skills explications FTEM'!J31)","v":0}]

{"sheet":"8","index":11,"n_rows":40,"n_cols":36,"rows_kept":40,"cut":false,"hidden":false,"merged":[[36,25,39,25],[36,26,39,32],[36,34,39,34],[32,23,35,23],[33,3,33,5],[33,6,33,11],[35,3,35,5],[35,6,35,11],[32,0,35,2],[32,3,32,5],[32,6,32,11],[32,12,35,12],[32,13,35,13],[32,15,35,15],[36,0,39,2],[36,3,36,5],[36,6,36,11],[36,12,39,12],[36,23,39,23],[37,3,37,5],[37,6,37,11],[38,3,38,5],[38,6,38,11],[39,3,39,5],[27,21,27,22],[28,17,31,17],[28,19,31,19],[28,21,31,21],[29,3,29,5],[29,6,29,11],[30,3,30,5],[30,6,30,11],[32,17,35,17],[32,19,35,19],[32,21,35,21],[34,3,34,5],[34,6,34,11],[23,0,26,2],[23,3,23,5],[23,6,23,11],[23,12,26,12],[23,13,26,13],[23,15,26,15],[27,23,27,24],[27,26,27,32],[28,0,31,2],[28,3,28,5],[28,6,28,11],[28,12,31,12],[28,13,31,13],[28,15,31,15],[31,3,31,5],[31,6,31,11],[28,23,31,23],[27,0,27,2],[27,3,27,5],[27,6,27,11],[27,13,27,14],[27,15,27,16],[27,17,27,18],[27,19,27,20],[19,21,22,21],[19,23,22,23],[20,3,20,5],[20,6,20,11],[22,3,22,5],[22,6,22,11],[26,3,26,5],[26,6,26,11],[23,23,26,23],[23,17,26,17],[23,19,26,19],[23,21,26,21],[24,3,24,5],[24,6,24,11],[25,3,25,5],[25,6,25,11],[21,3,21,5],[21,6,21,11],[15,15,18,15],[15,17,18,17],[15,19,18,19],[15,21,18,21],[15,23,18,23],[18,3,18,5],[18,6,18,11],[19,0,22,2],[19,3,19,5],[19,6,19,11],[19,12,22,12],[19,13,22,13],[19,15,22,15],[19,17,22,17],[15,0,18,2],[15,3,15,5],[15,6,15,11],[15,12,18,12],[15,13,18,13],[16,3,16,5],[16,6,16,11],[17,3,17,5],[17,6,17,11],[19,19,22,19],[12,23,13,23],[13,3,13,5],[13,6,13,11],[14,0,14,2],[14,3,14,5],[14,6,14,11],[14,13,14,14],[14,15,14,16],[14,17,14,18],[14,19,14,20],[14,21,14,22],[14,23,14,24],[12,0,13,2],[12,3,12,5],[12,6,12,11],[12,12,13,12],[12,13,13,13],[12,15,13,15],[12,17,13,17],[12,19,13,19],[12,21,13,21],[11,0,11,2],[11,3,11,5],[11,13,11,14],[11,15,11,16],[11,17,11,18],[11,19,11,20],[11,21,11,22],[11,23,11,24],[11,26,11,32],[11,6,11,11],[0,33,0,35],[23,25,26,25],[23,26,26,32],[23,34,26,34],[28,25,31,25],[28,26,31,32],[28,34,31,34],[1,0,1,1],[1,2,1,5],[1,10,1,24],[2,0,2,1],[2,2,2,5],[2,11,2,24],[6,0,6,1],[6,2,6,35],[7,0,7,1],[7,2,7,35],[8,0,8,1],[8,2,8,35],[3,0,3,1],[3,10,3,24],[4,0,4,1],[4,2,4,5],[4,10,4,24],[39,6,39,11],[36,13,39,13],[36,15,39,15],[36,17,39,17],[36,19,39,19],[36,21,39,21],[0,0,0,24],[0,25,0,26],[0,27,0,32],[10,0,10,24],[10,25,10,35],[32,25,35,25],[32,26,35,32],[32,34,35,34],[12,25,13,25],[12,26,13,32],[12,34,13,34],[15,25,18,25],[15,26,18,32],[15,34,18,34],[19,25,22,25],[19,26,22,32],[19,34,22,34],[14,26,14,32]]}
["Infos personelles",null,null,null,null,null,null,null,null,null,null,null,null,null,null,null,null,null,null,null,null,null,null,null,null,"Predispositions",null,"Evaluations",null,null,null,null,null,"Rating"]
["PRENOM",null,{"$f":"IF(ISBLANK(VLOOKUP(8,Tabelle3[],3,0)),\"-\",VLOOKUP(8,Tabelle3[],3,0))","v":"-"},null,null,null,"POSITION",null,null,"ADRESSE",{"$f":"IF(ISBLANK(VLOOKUP(8,Tabelle3[],5,0)),\"-\",VLOOKUP(8,Tabelle3[],5,0))","v":"-"},null,null,null,null,null,null,null,null,null,null,null,null,null,null,"\"àage\" (Biologique/age relatif)",null,"Date 1",null,null,"cm",null,"Kg",null,"AUSGEZEICHNET",5]
["NOM",null,{"$f":"IF(ISBLANK(VLOOKUP(8,Tabelle3[],2,0)),\"-\",VLOOKUP(8,Tabelle3[],2,0))","v":"-"},null,null,null,"CANNE",null,null,"LIEU",{"$f":"IF(ISBLANK(VLOOKUP(8,Tabelle3[],7,0)),\"-\",VLOOKUP(8,Tabelle3[],7,0))","v":"-"},{"$f":"IF(ISBLANK(VLOOKUP(8,Tabelle3[],6,0)),\"-\",VLOOKUP(8,Tabelle3[],6,0))","v":"-"},null,null,null,null,null,null,null,null,null,null,null,null,null,"predispositions",null,"Date 2",null,null,"cm",null,"Kg",null,"GUT",4]
["DATE NAISS.",null,{"$f":"IF(ISBLANK(VLOOKUP(8,Tabelle3[],14,0)),\"-\",VLOOKUP(8,Tabelle3[],14,0))","v":"-"},{"$f":"IF(ISBLANK(VLOOKUP(8,Tabelle3[],15,0)),\"-\",VLOOKUP(8,Tabelle3[],15,0))","v":"-"},{"$f":"IF(ISBLANK(VLOOKUP(8,Tabelle3[],16,0)),\"-\",VLOOKUP(8,Tabelle3[],16,0))","v":"-"},null,"GRANDEUR",null,"cm","PHONE",{"$f":"IF(ISBLANK(VLOOKUP(8,Tabelle3[],8,0)),\"-\",VLOOKUP(8,Tabelle3[],8,0))","v":"-"},null,null,null,null,null,null,null,null,null,null,null,null,null,null,"Entourage",null,"Date 3",null,null,"cm",null,"Kg",null,"DURCHSCHNITT",3]
["SEXE",null,{"$f":"IF(ISBLANK(VLOOKUP(8,Tabelle3[],13,0)),\"-\",VLOOKUP(8,Tabelle3[],13,0))","v":"-"},null,null,null,"POIDS",null,"Kg","E-Mail",{"$f":"IF(ISBLANK(VLOOKUP(8,Tabelle3[],9,0)),\"-\",VLOOKUP(8,Tabelle3[],9,0))","v":"-"},null,null,null,null,null,null,null,null,null,null,null,null,null,null,null,null,"Date 4",null,null,"cm",null,"Kg",null,"MANGELHAFT",2]
[null,null,null,null,null,null,null,null,null,null,null,null,null,null,null,null,null,null,null,null,null,null,null,null,null,null,null,"Date 5",null,null,"cm",null,"Kg",null,"UNGENÜGEND",1]
["Vision",null,"xxx"]
["Next step",null,"xxx"]
["Profil du Joueur",null,"xxx"]
[]
["EVALUATION (COACH / JOUEUR)",null,null,null,null,null,null,null,null,null,null,null,null,null,null,null,null,null,null,null,null,null,null,null,null,"SMART"]
[{"$f":"'Skills explications FTEM'!A3:C3","v":"TEAM"},null,null,"CAPACITE",null,null,"OBSERVATION",null,null,null,null,null,"Final","Date1",null,"Date2",null,"Date3",null,"Date4",null,"Date5",null,"Player",null,"BUT","MESURES:\nSPECIFIQUE, MESURABLES, REALISTE",null,null,null,null,null,null,"DELAI","CONTRÔLE DU BUT","Date"]
[{"$f":"'Skills explications FTEM'!A4:C4","v":"ROLLE, SOZIAL"},null,null,{"$f":"IF($H$2=\"G\",'Skills explications FTEM'!Q4,'Skills explications FTEM'!D4)","v":"PENSER EQUIPE"},null,null,{"$f":"IF($H$2=\"G\",'Skills explications FTEM'!T4,'Skills explications FTEM'!G4)","v":"Identification au rôle, relation au cammarades (social, intégration)"},null,null,{"$f":"IF($H$2=\"G\",'Skills explications FTEM'!W4,'Skills explications FTEM'!J4)","v":0},null,null,null,{"$f":"IFERROR(AVERAGE(O13:O14),\"-\")","v":"-"},null,{"$f":"IFERROR(AVERAGE(Q13:Q14),\"-\")","v":"-"},null,{"$f":"IFERROR(AVERAGE(S13:S14),\"-\")","v":"-"},null,{"$f":"IFERROR(AVERAGE(U13:U14),\"-\")","v":"-"},null,{"$f":"IFERROR(AVERAGE(W13:W14),\"-\")","v":"-"},null,{"$f":"IFERROR(AVERAGE(Y13:Y14),\"-\")","v":"-"}]
[{"$f":"'Skills explications FTEM'!A5:C5","v":0},null,null,{"$f":"IF($H$2=\"G\",'Skills explications FTEM'!Q5,'Skills explications FTEM'!D5)","v":"LEADERSHIP"},null,null,{"$f":"IF($H$2=\"G\",'Skills explications FTEM'!T5,'Skills explications FTEM'!G5)","v":"prend des responsabilités, rend son coéquipier meilleur"},null,null,{"$f":"IF($H$2=\"G\",'Skills explications FTEM'!W5,'Skills explications FTEM'!J5)","v":0}]
[{"$f":"'Skills explications FTEM'!A6:C6","v":"ON ICE"},null,null,"CAPACITE",null,null,"OBSERVATION",null,null,null,null,null,null,"Date1",null,"Date2",null,"Date3",null,"Date4",null,"Date5",null,"Player",null,"BUT","MESURES:\nSPECIFIQUE, MESURABLES, REALISTE",null,null,null,null,null,null,"DELAI","CONTRÔLE DU BUT","Date"]
[{"$f":"'Skills explications FTEM'!A7:C7","v":"SKILL"},null,null,{"$f":"IF($H$2=\"G\",'Skills explications FTEM'!Q7,'Skills explications FTEM'!D7)","v":"TIR  (EFFET)"},null,null,{"$f":"IF($H$2=\"G\",'Skills explications FTEM'!T7,'Skills explications FTEM'!G7)","v":"Efficience (pas d'espace et de temps), variantes, degré de surprise (déclenchement rapide), précision, puissance (conclusion tactique)"},null,null,{"$f":"IF($H$2=\"G\",'Skills explications FTEM'!W7,'Skills explications FTEM'!J7)","v":0},null,null,null,{"$f":"IFERROR(AVERAGE(O16:O19),\"-\")","v":"-"},null,{"$f":"IFERROR(AVERAGE(Q16:Q19),\"-\")","v":"-"},null,{"$f":"IFERROR(AVERAGE(S16:S19),\"-\")","v":"-"},null,{"$f":"IFERROR(AVERAGE(U16:U19),\"-\")","v":"-"},null,{"$f":"IFERROR(AVERAGE(W16:W19),\"-\")","v":"-"},null,{"$f":"IFERROR(AVERAGE(Y16:Y19),\"-\")","v":"-"}]
[{"$f":"'Skills explications FTEM'!A8:C8","v":0},null,null,{"$f":"IF($H$2=\"G\",'Skills explications FTEM'!Q8,'Skills explications FTEM'!D8)","v":"PASSER"},null,null,{"$f":"IF($H$2=\"G\",'Skills explications FTEM'!T8,'Skills explications FTEM'!G8)","v":"Donne la passe (distance, passe flipée en revers), réception de la passe (précision, timing, coup droit, revers, patins), vitesse du puck"},null,null,{"$f":"IF($H$2=\"G\",'Skills explications FTEM'!W8,'Skills explications FTEM'!J8)","v":0}]
[{"$f":"'Skills explications FTEM'!A9:C9","v":0},null,null,{"$f":"IF($H$2=\"G\",'Skills explications FTEM'!Q9,'Skills explications FTEM'!D9)","v":"JEU DU CORPS"},null,null,{"$f":"IF($H$2=\"G\",'Skills explications FTEM'!T9,'Skills explications FTEM'!G9)","v":"Faculté de s'imposer physiquement, duels (sur la surface de glace ou à la bande), prendre des checks, lever la tête, niveau de lutte, dur mais correct, bloquer les tirs avec le corps"},null,null,{"$f":"IF($H$2=\"G\",'Skills explications FTEM'!W9,'Skills explications FTEM'!J9)","v":0},null,null,null,{"$f":"IFERROR(AVERAGE(O18:O19),\"-\")","v":"-"},null,{"$f":"IFERROR(AVERAGE(Q18:Q19),\"-\")","v":"-"},null,{"$f":"IFERROR(AVERAGE(S18:S19),\"-\")","v":"-"},null,{"$f":"IFERROR(AVERAGE(U18:U19),\"-\")","v":"-"},null,{"$f":"IFERROR(AVERAGE(W18:W19),\"-\")","v":"-"},null,"-"]
[{"$f":"'Skills explications FTEM'!A10:C10","v":0},null,null,{"$f":"IF($H$2=\"G\",'Skills explications FTEM'!Q10,'Skills explications FTEM'!D10)","v":"CONTRÔLE DU PUCK"},null,null,{"$f":"IF($H$2=\"G\",'Skills explications FTEM'!T10,'Skills explications FTEM'!G10)","v":"Contrôle du puck, dribbling, protection du puck, feintes (variantes: avec les patins ou avec et sans la bande), mise au jeu (bully)"},null,null,{"$f":"IF($H$2=\"G\",'Skills explications FTEM'!W10,'Skills explications FTEM'!J10)","v":0}]
[{"$f":"'Skills explications FTEM'!A11:C11","v":"SKATING"},null,null,{"$f":"IF($H$2=\"G\",'Skills explications FTEM'!Q11,'Skills explications FTEM'!D11)","v":"FOOTSPEED"},null,null,{"$f":"IF($H$2=\"G\",'Skills explications FTEM'!T11,'Skills explications FTEM'!G11)","v":"Accélération, départ, explosivité des 3 premiers pas, fréquence"},null,null,{"$f":"IF($H$2=\"G\",'Skills explications FTEM'!W11,'Skills explications FTEM'!J11)","v":0},null,null,null,{"$f":"IFERROR(AVERAGE(O20:O23),\"-\")","v":"-"},null,{"$f":"IFERROR(AVERAGE(Q20:Q23),\"-\")","v":"-"},null,{"$f":"IFERROR(AVERAGE(S20:S23),\"-\")","v":"-"},null,{"$f":"IFERROR(AVERAGE(U20:U23),\"-\")","v":"-"},null,{"$f":"IFERROR(AVERAGE(W20:W23),\"-\")","v":"-"},null,{"$f":"IFERROR(AVERAGE(Y20:Y23),\"-\")","v":"-"}]
[{"$f":"'Skills explications FTEM'!A12:C12","v":0},null,null,{"$f":"IF($H$2=\"G\",'Skills explications FTEM'!Q12,'Skills explications FTEM'!D12)","v":"MOBILITE"},null,null,{"$f":"IF($H$2=\"G\",'Skills explications FTEM'!T12,'Skills explications FTEM'!G12)","v":"Changements de direction, pivots, stop et start «Nummelin»"},null,null,{"$f":"IF($H$2=\"G\",'Skills explications FTEM'!W12,'Skills explications FTEM'!J12)","v":0}]
[{"$f":"'Skills explications FTEM'!A13:C13","v":0},null,null,{"$f":"IF($H$2=\"G\",'Skills explications FTEM'!Q13,'Skills explications FTEM'!D13)","v":"PATTINAGE ARRIÈRE"},null,null,{"$f":"IF($H$2=\"G\",'Skills explications FTEM'!T13,'Skills explications FTEM'!G13)","v":"Accélération, vitesse, équilibre"},null,null,{"$f":"IF($H$2=\"G\",'Skills explications FTEM'!W13,'Skills explications FTEM'!J13)","v":0}]
[{"$f":"'Skills explications FTEM'!A14:C14","v":0},null,null,{"$f":"IF($H$2=\"G\",'Skills explications FTEM'!Q14,'Skills explications FTEM'!D14)","v":"TOP SPEED"},null,null,{"$f":"IF($H$2=\"G\",'Skills explications FTEM'!T14,'Skills explications FTEM'!G14)","v":"Vitesse, faculté de glisse, avant et arrière, économie des forces"},null,null,{"$f":"IF($H$2=\"G\",'Skills explications FTEM'!W14,'Skills explications FTEM'!J14)","v":0}]
[{"$f":"'Skills explications FTEM'!A15:C15","v":"HOCKEY SENSE"},null,null,{"$f":"IF($H$2=\"G\",'Skills explications FTEM'!Q15,'Skills explications FTEM'!D15)","v":"SCORING"},null,null,{"$f":"IF($H$2=\"G\",'Skills explications FTEM'!T15,'Skills explications FTEM'!G15)","v":"Efficience, richesse des variantes, surpenant, vite, variante de tirs"},null,null,{"$f":"IF($H$2=\"G\",'Skills explications FTEM'!W15,'Skills explications FTEM'!J15)","v":0},null,null,null,{"$f":"IFERROR(AVERAGE(O24:O27),\"-\")","v":"-"},null,{"$f":"IFERROR(AVERAGE(Q24:Q27),\"-\")","v":"-"},null,{"$f":"IFERROR(AVERAGE(S24:S27),\"-\")","v":"-"},null,{"$f":"IFERROR(AVERAGE(U24:U27),\"-\")","v":"-"},null,{"$f":"IFERROR(AVERAGE(W24:W27),\"-\")","v":"-"},null,{"$f":"IFERROR(AVERAGE(Y24:Y27),\"-\")","v":"-"}]
[{"$f":"'Skills explications FTEM'!A16:C16","v":0},null,null,{"$f":"IF($H$2=\"G\",'Skills explications FTEM'!Q16,'Skills explications FTEM'!D16)","v":"AVEC PUCK"},null,null,{"$f":"IF($H$2=\"G\",'Skills explications FTEM'!T16,'Skills explications FTEM'!G16)","v":"créatif,  performing, batteling, fou, transition"},null,null,{"$f":"IF($H$2=\"G\",'Skills explications FTEM'!W16,'Skills explications FTEM'!J16)","v":0}]
[{"$f":"'Skills explications FTEM'!A17:C17","v":0},null,null,{"$f":"IF($H$2=\"G\",'Skills explications FTEM'!Q17,'Skills explications FTEM'!D17)","v":"SANS PUCK"},null,null,{"$f":"IF($H$2=\"G\",'Skills explications FTEM'!T17,'Skills explications FTEM'!G17)","v":"ouvert pour un passe (Support), 1:1, Gap"},null,null,{"$f":"IF($H$2=\"G\",'Skills explications FTEM'!W17,'Skills explications FTEM'!J17)","v":0}]
[{"$f":"'Skills explications FTEM'!A18:C18","v":0},null,null,{"$f":"IF($H$2=\"G\",'Skills explications FTEM'!Q18,'Skills explications FTEM'!D18)","v":"DEFENSIF"},null,null,{"$f":"IF($H$2=\"G\",'Skills explications FTEM'!T18,'Skills explications FTEM'!G18)","v":"on peut compter dessus,  1:1, Gap, identification de l'homme"},null,null,{"$f":"IF($H$2=\"G\",'Skills explications FTEM'!W18,'Skills explications FTEM'!J18)","v":0}]
[{"$f":"'Skills explications FTEM'!A19:C19","v":"PERSONALITY"},null,null,"CAPACITE",null,null,"OBSERVATION",null,null,null,null,null,null,"Date1",null,"Date2",null,"Date3",null,"Date4",null,"Date5",null,"Player",null,"BUT","MESURES:\nSPECIFIQUE, MESURABLES, REALISTE",null,null,null,null,null,null,"DELAI","CONTRÔLE DU BUT","Date"]
[{"$f":"'Skills explications FTEM'!A20:C20","v":"PERSONALITÉ"},null,null,{"$f":"IF($H$2=\"G\",'Skills explications FTEM'!Q20,'Skills explications FTEM'!D20)","v":"MOTIVATION"},null,null,{"$f":"IF($H$2=\"G\",'Skills explications FTEM'!T20,'Skills explications FTEM'!G20)","v":"Est toujours motivé, veut sans cesse se développer et apprendre, veut être le premier et avoir du succès, n'abandonne jamais et ne se laisse pas influencer par les échecs"},null,null,{"$f":"IF($H$2=\"G\",'Skills explications FTEM'!W20,'Skills explications FTEM'!J20)","v":0},null,null,null,{"$f":"IFERROR(AVERAGE(O29:O32),\"-\")","v":"-"},null,null,null,{"$f":"IFERROR(AVERAGE(S29:S32),\"-\")","v":"-"},null,{"$f":"IFERROR(AVERAGE(U29:U32),\"-\")","v":"-"},null,{"$f":"IFERROR(AVERAGE(W29:W32),\"-\")","v":"-"},null,{"$f":"IFERROR(AVERAGE(Y29:Y32),\"-\")","v":"-"}]
[{"$f":"'Skills explications FTEM'!A21:C21","v":0},null,null,{"$f":"IF($H$2=\"G\",'Skills explications FTEM'!Q21,'Skills explications FTEM'!D21)","v":"CONFIENCE EN SOI"},null,null,{"$f":"IF($H$2=\"G\",'Skills explications FTEM'!T21,'Skills explications FTEM'!G21)","v":"Est en confiance, «I can do it», peut estimer ses capacités (connaît ses qualités et ses défauts), peut réaliser ses qualités avec constance, est courageux et prend des risques calculés"},null,null,{"$f":"IF($H$2=\"G\",'Skills explications FTEM'!W21,'Skills explications FTEM'!J21)","v":0}]
[{"$f":"'Skills explications FTEM'!A22:C22","v":0},null,null,{"$f":"IF($H$2=\"G\",'Skills explications FTEM'!Q22,'Skills explications FTEM'!D22)","v":"FACULTÉES D'APPRENTISSAGE"},null,null,{"$f":"IF($H$2=\"G\",'Skills explications FTEM'!T22,'Skills explications FTEM'!G22)","v":"A une bonne perception (il peut mémoriser et peut réaliser), il a de la personnalité, essaie d'apprendre de ses erreurs et est entreprenant"},null,null,{"$f":"IF($H$2=\"G\",'Skills explications FTEM'!W22,'Skills explications FTEM'!J22)","v":0}]
[{"$f":"'Skills explications FTEM'!A23:C23","v":0},null,null,{"$f":"IF($H$2=\"G\",'Skills explications FTEM'!Q23,'Skills explications FTEM'!D23)","v":"PERFORMANCE, STYLE DE VIE"},null,null,{"$f":"IF($H$2=\"G\",'Skills explications FTEM'!T23,'Skills explications FTEM'!G23)","v":"Gère bien son environnement et son temps libre selon les principes de la performance, obstiné, tenace et axé sur l'objectif, accent sur sa propre performance, est courageux et peut s'imposer contre de la résistance, les défis le motivent"},null,null,{"$f":"IF($H$2=\"G\",'Skills explications FTEM'!W23,'Skills explications FTEM'!J23)","v":0}]
[{"$f":"'Skills explications FTEM'!A24:C24","v":"POWER MENTAL"},null,null,{"$f":"IF($H$2=\"G\",'Skills explications FTEM'!Q24,'Skills explications FTEM'!D24)","v":"GESTION DES ÉNERGIES"},null,null,{"$f":"IF($H$2=\"G\",'Skills explications FTEM'!T24,'Skills explications FTEM'!G24)","v":"Peut-il gérer ses propres énergies, prend-il soin de sa régénération, peut-il gérer les moments où il faut se donner à fond ou quand il faut déconnecter, bouton On/Off"},null,null,{"$f":"IF($H$2=\"G\",'Skills explications FTEM'!W24,'Skills explications FTEM'!J24)","v":0},null,null,null,{"$f":"IFERROR(AVERAGE(O33:O36),\"-\")","v":"-"},null,null,null,{"$f":"IFERROR(AVERAGE(S33:S36),\"-\")","v":"-"},null,{"$f":"IFERROR(AVERAGE(U33:U36),\"-\")","v":"-"},null,{"$f":"IFERROR(AVERAGE(W33:W36),\"-\")","v":"-"},null,{"$f":"IFERROR(AVERAGE(Y33:Y36),\"-\")","v":"-"}]
[{"$f":"'Skills explications FTEM'!A25:C25","v":0},null,null,{"$f":"IF($H$2=\"G\",'Skills explications FTEM'!Q25,'Skills explications FTEM'!D25)","v":"ENGAGEMENT"},null,null,{"$f":"IF($H$2=\"G\",'Skills explications FTEM'!T25,'Skills explications FTEM'!G25)","v":"Démontre beaucoup d'intensité dans les entraînements et les matchs, donne toujours son maximum et veut sans cesse repousser ses limites, a-t-il de la passion, s'efforce-t-il de s'entraîner avec une excellente qualité"},null,null,{"$f":"IF($H$2=\"G\",'Skills explications FTEM'!W25,'Skills explications FTEM'!J25)","v":0}]
[{"$f":"'Skills explications FTEM'!A26:C26","v":0},null,null,{"$f":"IF($H$2=\"G\",'Skills explications FTEM'!Q26,'Skills explications FTEM'!D26)","v":"CONTRÔLE DES ÉMOTIONS"},null,null,{"$f":"IF($H$2=\"G\",'Skills explications FTEM'!T26,'Skills explications FTEM'!G26)","v":"Peut-il gérer ses propres émotions et impulsions, reste-t-il sous contrôle lorsqu'il y a une grande pression, peut-il rester calme lorsque le niveau émotionnel et de frustration est élevé"},null,null,{"$f":"IF($H$2=\"G\",'Skills explications FTEM'!W26,'Skills explications FTEM'!J26)","v":0}]
[{"$f":"'Skills explications FTEM'!A27:C27","v":0},null,null,{"$f":"IF($H$2=\"G\",'Skills explications FTEM'!Q27,'Skills explications FTEM'!D27)","v":"PRÉPARATION"},null,null,{"$f":"IF($H$2=\"G\",'Skills explications FTEM'!T27,'Skills explications FTEM'!G27)","v":"Se prépare-t-il toujours bien, mentalement et physiquement, se prépare-t-il toujours bien pour obtenir le niveau de performance idéal (ILZ)"},null,null,{"$f":"IF($H$2=\"G\",'Skills explications FTEM'!W27,'Skills explications FTEM'!J27)","v":0}]
[{"$f":"'Skills explications FTEM'!A28:C28","v":"PYHSE (Athletik)"},null,null,{"$f":"IF($H$2=\"G\",'Skills explications FTEM'!Q28,'Skills explications FTEM'!D28)","v":"PRODUCTION DE LA PERFORMANCE"},null,null,{"$f":"IF($H$2=\"G\",'Skills explications FTEM'!T28,'Skills explications FTEM'!G28)","v":"A-t-il la puissance, la force, la vitesse nécessaires dans les jambes et le haut du corps (facteurs neuromusculaires)"},null,null,{"$f":"IF($H$2=\"G\",'Skills explications FTEM'!W28,'Skills explications FTEM'!J28)","v":0},null,null,null,{"$f":"IFERROR(AVERAGE(O37:O40),\"-\")","v":"-"},null,null,null,{"$f":"IFERROR(AVERAGE(S37:S40),\"-\")","v":"-"},null,{"$f":"IFERROR(AVERAGE(U37:U40),\"-\")","v":"-"},null,{"$f":"IFERROR(AVERAGE(W37:W40),\"-\")","v":"-"},null,{"$f":"IFERROR(AVERAGE(Y37:Y40),\"-\")","v":"-"}]
[{"$f":"'Skills explications FTEM'!A29:C29","v":0},null,null,{"$f":"IF($H$2=\"G\",'Skills explications FTEM'!Q29,'Skills explications FTEM'!D29)","v":"SPÉCIFIQUE AU SPORT, RÉSISTANT À L'EFFORT"},null,null,{"$f":"IF($H$2=\"G\",'Skills explications FTEM'!T29,'Skills explications FTEM'!G29)","v":"Est-il capable de maintenir sa puissance, sa force, sa vitesse durant un long temps de glace et peut-il récupérer complètement entre ses engagements (facteurs du métabolisme et cardiovasculaire)"},null,null,{"$f":"IF($H$2=\"G\",'Skills explications FTEM'!W29,'Skills explications FTEM'!J29)","v":0}]
[{"$f":"'Skills explications FTEM'!A30:C30","v":0},null,null,{"$f":"IF($H$2=\"G\",'Skills explications FTEM'!Q30,'Skills explications FTEM'!D30)","v":"MOBILITÉ/ COODINATION"},null,null,{"$f":"IF($H$2=\"G\",'Skills explications FTEM'!T30,'Skills explications FTEM'!G30)","v":"Gère-t-il ses aptitudes de mouvements de base, qui sont un fournisseur important des fonctions spécifiques «Skills» pour être efficace"},null,null,{"$f":"IF($H$2=\"G\",'Skills explications FTEM'!W30,'Skills explications FTEM'!J30)","v":0}]
[{"$f":"'Skills explications FTEM'!A31:C31","v":0},null,null,{"$f":"IF($H$2=\"G\",'Skills explications FTEM'!Q31,'Skills explications FTEM'!D31)","v":"ROBUSTESSE / PREVENTION"},null,null,{"$f":"IF($H$2=\"G\",'Skills explications FTEM'!T31,'Skills explications FTEM'!G31)","v":"A-t-il la force de base nécessaire (tension corporelle) pour gagner des duels et résister aux charges, A-t-il la stabilité nécessaire (ex. ses appuis) et la mobilité nécessaire au niveau des articulations centrales"},null,null,{"$f":"IF($H$2=\"G\",'Skills explications FTEM'!W31,'Skills explications FTEM'!J31)","v":0}]

{"sheet":"9","index":12,"n_rows":40,"n_cols":36,"rows_kept":40,"cut":false,"hidden":false,"merged":[[36,25,39,25],[36,26,39,32],[36,34,39,34],[32,23,35,23],[33,3,33,5],[33,6,33,11],[35,3,35,5],[35,6,35,11],[32,0,35,2],[32,3,32,5],[32,6,32,11],[32,12,35,12],[32,13,35,13],[32,15,35,15],[36,0,39,2],[36,3,36,5],[36,6,36,11],[36,12,39,12],[36,23,39,23],[37,3,37,5],[37,6,37,11],[38,3,38,5],[38,6,38,11],[39,3,39,5],[27,21,27,22],[28,17,31,17],[28,19,31,19],[28,21,31,21],[29,3,29,5],[29,6,29,11],[30,3,30,5],[30,6,30,11],[32,17,35,17],[32,19,35,19],[32,21,35,21],[34,3,34,5],[34,6,34,11],[23,0,26,2],[23,3,23,5],[23,6,23,11],[23,12,26,12],[23,13,26,13],[23,15,26,15],[27,23,27,24],[27,26,27,32],[28,0,31,2],[28,3,28,5],[28,6,28,11],[28,12,31,12],[28,13,31,13],[28,15,31,15],[31,3,31,5],[31,6,31,11],[28,23,31,23],[27,0,27,2],[27,3,27,5],[27,6,27,11],[27,13,27,14],[27,15,27,16],[27,17,27,18],[27,19,27,20],[19,21,22,21],[19,23,22,23],[20,3,20,5],[20,6,20,11],[22,3,22,5],[22,6,22,11],[26,3,26,5],[26,6,26,11],[23,23,26,23],[23,17,26,17],[23,19,26,19],[23,21,26,21],[24,3,24,5],[24,6,24,11],[25,3,25,5],[25,6,25,11],[21,3,21,5],[21,6,21,11],[15,15,18,15],[15,17,18,17],[15,19,18,19],[15,21,18,21],[15,23,18,23],[18,3,18,5],[18,6,18,11],[19,0,22,2],[19,3,19,5],[19,6,19,11],[19,12,22,12],[19,13,22,13],[19,15,22,15],[19,17,22,17],[15,0,18,2],[15,3,15,5],[15,6,15,11],[15,12,18,12],[15,13,18,13],[16,3,16,5],[16,6,16,11],[17,3,17,5],[17,6,17,11],[19,19,22,19],[12,23,13,23],[13,3,13,5],[13,6,13,11],[14,0,14,2],[14,3,14,5],[14,6,14,11],[14,13,14,14],[14,15,14,16],[14,17,14,18],[14,19,14,20],[14,21,14,22],[14,23,14,24],[12,0,13,2],[12,3,12,5],[12,6,12,11],[12,12,13,12],[12,13,13,13],[12,15,13,15],[12,17,13,17],[12,19,13,19],[12,21,13,21],[11,0,11,2],[11,3,11,5],[11,13,11,14],[11,15,11,16],[11,17,11,18],[11,19,11,20],[11,21,11,22],[11,23,11,24],[11,26,11,32],[11,6,11,11],[0,33,0,35],[23,25,26,25],[23,26,26,32],[23,34,26,34],[28,25,31,25],[28,26,31,32],[28,34,31,34],[1,0,1,1],[1,2,1,5],[1,10,1,24],[2,0,2,1],[2,2,2,5],[2,11,2,24],[6,0,6,1],[6,2,6,35],[7,0,7,1],[7,2,7,35],[8,0,8,1],[8,2,8,35],[3,0,3,1],[3,10,3,24],[4,0,4,1],[4,2,4,5],[4,10,4,24],[39,6,39,11],[36,13,39,13],[36,15,39,15],[36,17,39,17],[36,19,39,19],[36,21,39,21],[0,0,0,24],[0,25,0,26],[0,27,0,32],[10,0,10,24],[10,25,10,35],[32,25,35,25],[32,26,35,32],[32,34,35,34],[12,25,13,25],[12,26,13,32],[12,34,13,34],[15,25,18,25],[15,26,18,32],[15,34,18,34],[19,25,22,25],[19,26,22,32],[19,34,22,34],[14,26,14,32]]}
["Infos personelles",null,null,null,null,null,null,null,null,null,null,null,null,null,null,null,null,null,null,null,null,null,null,null,null,"Predispositions",null,"Evaluations",null,null,null,null,null,"Rating"]
["PRENOM",null,{"$f":"IF(ISBLANK(VLOOKUP(9,Tabelle3[],3,0)),\"-\",VLOOKUP(9,Tabelle3[],3,0))","v":"-"},null,null,null,"POSITION",null,null,"ADRESSE",{"$f":"IF(ISBLANK(VLOOKUP(9,Tabelle3[],5,0)),\"-\",VLOOKUP(9,Tabelle3[],5,0))","v":"-"},null,null,null,null,null,null,null,null,null,null,null,null,null,null,"\"àage\" (Biologique/age relatif)",null,"Date 1",null,null,"cm",null,"Kg",null,"AUSGEZEICHNET",5]
["NOM",null,{"$f":"IF(ISBLANK(VLOOKUP(9,Tabelle3[],2,0)),\"-\",VLOOKUP(9,Tabelle3[],2,0))","v":"-"},null,null,null,"CANNE",null,null,"LIEU",{"$f":"IF(ISBLANK(VLOOKUP(9,Tabelle3[],7,0)),\"-\",VLOOKUP(9,Tabelle3[],7,0))","v":"-"},{"$f":"IF(ISBLANK(VLOOKUP(9,Tabelle3[],6,0)),\"-\",VLOOKUP(9,Tabelle3[],6,0))","v":"-"},null,null,null,null,null,null,null,null,null,null,null,null,null,"predispositions",null,"Date 2",null,null,"cm",null,"Kg",null,"GUT",4]
["DATE NAISS.",null,{"$f":"IF(ISBLANK(VLOOKUP(9,Tabelle3[],14,0)),\"-\",VLOOKUP(9,Tabelle3[],14,0))","v":"-"},{"$f":"IF(ISBLANK(VLOOKUP(9,Tabelle3[],15,0)),\"-\",VLOOKUP(9,Tabelle3[],15,0))","v":"-"},{"$f":"IF(ISBLANK(VLOOKUP(9,Tabelle3[],16,0)),\"-\",VLOOKUP(9,Tabelle3[],16,0))","v":"-"},null,"GRANDEUR",null,"cm","PHONE",{"$f":"IF(ISBLANK(VLOOKUP(9,Tabelle3[],8,0)),\"-\",VLOOKUP(9,Tabelle3[],8,0))","v":"-"},null,null,null,null,null,null,null,null,null,null,null,null,null,null,"Entourage",null,"Date 3",null,null,"cm",null,"Kg",null,"DURCHSCHNITT",3]
["SEXE",null,{"$f":"IF(ISBLANK(VLOOKUP(9,Tabelle3[],13,0)),\"-\",VLOOKUP(9,Tabelle3[],13,0))","v":"-"},null,null,null,"POIDS",null,"Kg","E-Mail",{"$f":"IF(ISBLANK(VLOOKUP(9,Tabelle3[],9,0)),\"-\",VLOOKUP(9,Tabelle3[],9,0))","v":"-"},null,null,null,null,null,null,null,null,null,null,null,null,null,null,null,null,"Date 4",null,null,"cm",null,"Kg",null,"MANGELHAFT",2]
[null,null,null,null,null,null,null,null,null,null,null,null,null,null,null,null,null,null,null,null,null,null,null,null,null,null,null,"Date 5",null,null,"cm",null,"Kg",null,"UNGENÜGEND",1]
["Vision",null,"xxx"]
["Next step",null,"xxx"]
["Profil du Joueur",null,"xxx"]
[]
["EVALUATION (COACH / JOUEUR)",null,null,null,null,null,null,null,null,null,null,null,null,null,null,null,null,null,null,null,null,null,null,null,null,"SMART"]
[{"$f":"'Skills explications FTEM'!A3:C3","v":"TEAM"},null,null,"CAPACITE",null,null,"OBSERVATION",null,null,null,null,null,"Final","Date1",null,"Date2",null,"Date3",null,"Date4",null,"Date5",null,"Player",null,"BUT","MESURES:\nSPECIFIQUE, MESURABLES, REALISTE",null,null,null,null,null,null,"DELAI","CONTRÔLE DU BUT","Date"]
[{"$f":"'Skills explications FTEM'!A4:C4","v":"ROLLE, SOZIAL"},null,null,{"$f":"IF($H$2=\"G\",'Skills explications FTEM'!Q4,'Skills explications FTEM'!D4)","v":"PENSER EQUIPE"},null,null,{"$f":"IF($H$2=\"G\",'Skills explications FTEM'!T4,'Skills explications FTEM'!G4)","v":"Identification au rôle, relation au cammarades (social, intégration)"},null,null,{"$f":"IF($H$2=\"G\",'Skills explications FTEM'!W4,'Skills explications FTEM'!J4)","v":0},null,null,null,{"$f":"IFERROR(AVERAGE(O13:O14),\"-\")","v":"-"},null,{"$f":"IFERROR(AVERAGE(Q13:Q14),\"-\")","v":"-"},null,{"$f":"IFERROR(AVERAGE(S13:S14),\"-\")","v":"-"},null,{"$f":"IFERROR(AVERAGE(U13:U14),\"-\")","v":"-"},null,{"$f":"IFERROR(AVERAGE(W13:W14),\"-\")","v":"-"},null,{"$f":"IFERROR(AVERAGE(Y13:Y14),\"-\")","v":"-"}]
[{"$f":"'Skills explications FTEM'!A5:C5","v":0},null,null,{"$f":"IF($H$2=\"G\",'Skills explications FTEM'!Q5,'Skills explications FTEM'!D5)","v":"LEADERSHIP"},null,null,{"$f":"IF($H$2=\"G\",'Skills explications FTEM'!T5,'Skills explications FTEM'!G5)","v":"prend des responsabilités, rend son coéquipier meilleur"},null,null,{"$f":"IF($H$2=\"G\",'Skills explications FTEM'!W5,'Skills explications FTEM'!J5)","v":0}]
[{"$f":"'Skills explications FTEM'!A6:C6","v":"ON ICE"},null,null,"CAPACITE",null,null,"OBSERVATION",null,null,null,null,null,null,"Date1",null,"Date2",null,"Date3",null,"Date4",null,"Date5",null,"Player",null,"BUT","MESURES:\nSPECIFIQUE, MESURABLES, REALISTE",null,null,null,null,null,null,"DELAI","CONTRÔLE DU BUT","Date"]
[{"$f":"'Skills explications FTEM'!A7:C7","v":"SKILL"},null,null,{"$f":"IF($H$2=\"G\",'Skills explications FTEM'!Q7,'Skills explications FTEM'!D7)","v":"TIR  (EFFET)"},null,null,{"$f":"IF($H$2=\"G\",'Skills explications FTEM'!T7,'Skills explications FTEM'!G7)","v":"Efficience (pas d'espace et de temps), variantes, degré de surprise (déclenchement rapide), précision, puissance (conclusion tactique)"},null,null,{"$f":"IF($H$2=\"G\",'Skills explications FTEM'!W7,'Skills explications FTEM'!J7)","v":0},null,null,null,{"$f":"IFERROR(AVERAGE(O16:O19),\"-\")","v":"-"},null,{"$f":"IFERROR(AVERAGE(Q16:Q19),\"-\")","v":"-"},null,{"$f":"IFERROR(AVERAGE(S16:S19),\"-\")","v":"-"},null,{"$f":"IFERROR(AVERAGE(U16:U19),\"-\")","v":"-"},null,{"$f":"IFERROR(AVERAGE(W16:W19),\"-\")","v":"-"},null,{"$f":"IFERROR(AVERAGE(Y16:Y19),\"-\")","v":"-"}]
[{"$f":"'Skills explications FTEM'!A8:C8","v":0},null,null,{"$f":"IF($H$2=\"G\",'Skills explications FTEM'!Q8,'Skills explications FTEM'!D8)","v":"PASSER"},null,null,{"$f":"IF($H$2=\"G\",'Skills explications FTEM'!T8,'Skills explications FTEM'!G8)","v":"Donne la passe (distance, passe flipée en revers), réception de la passe (précision, timing, coup droit, revers, patins), vitesse du puck"},null,null,{"$f":"IF($H$2=\"G\",'Skills explications FTEM'!W8,'Skills explications FTEM'!J8)","v":0}]
[{"$f":"'Skills explications FTEM'!A9:C9","v":0},null,null,{"$f":"IF($H$2=\"G\",'Skills explications FTEM'!Q9,'Skills explications FTEM'!D9)","v":"JEU DU CORPS"},null,null,{"$f":"IF($H$2=\"G\",'Skills explications FTEM'!T9,'Skills explications FTEM'!G9)","v":"Faculté de s'imposer physiquement, duels (sur la surface de glace ou à la bande), prendre des checks, lever la tête, niveau de lutte, dur mais correct, bloquer les tirs avec le corps"},null,null,{"$f":"IF($H$2=\"G\",'Skills explications FTEM'!W9,'Skills explications FTEM'!J9)","v":0},null,null,null,{"$f":"IFERROR(AVERAGE(O18:O19),\"-\")","v":"-"},null,{"$f":"IFERROR(AVERAGE(Q18:Q19),\"-\")","v":"-"},null,{"$f":"IFERROR(AVERAGE(S18:S19),\"-\")","v":"-"},null,{"$f":"IFERROR(AVERAGE(U18:U19),\"-\")","v":"-"},null,{"$f":"IFERROR(AVERAGE(W18:W19),\"-\")","v":"-"},null,"-"]
[{"$f":"'Skills explications FTEM'!A10:C10","v":0},null,null,{"$f":"IF($H$2=\"G\",'Skills explications FTEM'!Q10,'Skills explications FTEM'!D10)","v":"CONTRÔLE DU PUCK"},null,null,{"$f":"IF($H$2=\"G\",'Skills explications FTEM'!T10,'Skills explications FTEM'!G10)","v":"Contrôle du puck, dribbling, protection du puck, feintes (variantes: avec les patins ou avec et sans la bande), mise au jeu (bully)"},null,null,{"$f":"IF($H$2=\"G\",'Skills explications FTEM'!W10,'Skills explications FTEM'!J10)","v":0}]
[{"$f":"'Skills explications FTEM'!A11:C11","v":"SKATING"},null,null,{"$f":"IF($H$2=\"G\",'Skills explications FTEM'!Q11,'Skills explications FTEM'!D11)","v":"FOOTSPEED"},null,null,{"$f":"IF($H$2=\"G\",'Skills explications FTEM'!T11,'Skills explications FTEM'!G11)","v":"Accélération, départ, explosivité des 3 premiers pas, fréquence"},null,null,{"$f":"IF($H$2=\"G\",'Skills explications FTEM'!W11,'Skills explications FTEM'!J11)","v":0},null,null,null,{"$f":"IFERROR(AVERAGE(O20:O23),\"-\")","v":"-"},null,{"$f":"IFERROR(AVERAGE(Q20:Q23),\"-\")","v":"-"},null,{"$f":"IFERROR(AVERAGE(S20:S23),\"-\")","v":"-"},null,{"$f":"IFERROR(AVERAGE(U20:U23),\"-\")","v":"-"},null,{"$f":"IFERROR(AVERAGE(W20:W23),\"-\")","v":"-"},null,{"$f":"IFERROR(AVERAGE(Y20:Y23),\"-\")","v":"-"}]
[{"$f":"'Skills explications FTEM'!A12:C12","v":0},null,null,{"$f":"IF($H$2=\"G\",'Skills explications FTEM'!Q12,'Skills explications FTEM'!D12)","v":"MOBILITE"},null,null,{"$f":"IF($H$2=\"G\",'Skills explications FTEM'!T12,'Skills explications FTEM'!G12)","v":"Changements de direction, pivots, stop et start «Nummelin»"},null,null,{"$f":"IF($H$2=\"G\",'Skills explications FTEM'!W12,'Skills explications FTEM'!J12)","v":0}]
[{"$f":"'Skills explications FTEM'!A13:C13","v":0},null,null,{"$f":"IF($H$2=\"G\",'Skills explications FTEM'!Q13,'Skills explications FTEM'!D13)","v":"PATTINAGE ARRIÈRE"},null,null,{"$f":"IF($H$2=\"G\",'Skills explications FTEM'!T13,'Skills explications FTEM'!G13)","v":"Accélération, vitesse, équilibre"},null,null,{"$f":"IF($H$2=\"G\",'Skills explications FTEM'!W13,'Skills explications FTEM'!J13)","v":0}]
[{"$f":"'Skills explications FTEM'!A14:C14","v":0},null,null,{"$f":"IF($H$2=\"G\",'Skills explications FTEM'!Q14,'Skills explications FTEM'!D14)","v":"TOP SPEED"},null,null,{"$f":"IF($H$2=\"G\",'Skills explications FTEM'!T14,'Skills explications FTEM'!G14)","v":"Vitesse, faculté de glisse, avant et arrière, économie des forces"},null,null,{"$f":"IF($H$2=\"G\",'Skills explications FTEM'!W14,'Skills explications FTEM'!J14)","v":0}]
[{"$f":"'Skills explications FTEM'!A15:C15","v":"HOCKEY SENSE"},null,null,{"$f":"IF($H$2=\"G\",'Skills explications FTEM'!Q15,'Skills explications FTEM'!D15)","v":"SCORING"},null,null,{"$f":"IF($H$2=\"G\",'Skills explications FTEM'!T15,'Skills explications FTEM'!G15)","v":"Efficience, richesse des variantes, surpenant, vite, variante de tirs"},null,null,{"$f":"IF($H$2=\"G\",'Skills explications FTEM'!W15,'Skills explications FTEM'!J15)","v":0},null,null,null,{"$f":"IFERROR(AVERAGE(O24:O27),\"-\")","v":"-"},null,{"$f":"IFERROR(AVERAGE(Q24:Q27),\"-\")","v":"-"},null,{"$f":"IFERROR(AVERAGE(S24:S27),\"-\")","v":"-"},null,{"$f":"IFERROR(AVERAGE(U24:U27),\"-\")","v":"-"},null,{"$f":"IFERROR(AVERAGE(W24:W27),\"-\")","v":"-"},null,{"$f":"IFERROR(AVERAGE(Y24:Y27),\"-\")","v":"-"}]
[{"$f":"'Skills explications FTEM'!A16:C16","v":0},null,null,{"$f":"IF($H$2=\"G\",'Skills explications FTEM'!Q16,'Skills explications FTEM'!D16)","v":"AVEC PUCK"},null,null,{"$f":"IF($H$2=\"G\",'Skills explications FTEM'!T16,'Skills explications FTEM'!G16)","v":"créatif,  performing, batteling, fou, transition"},null,null,{"$f":"IF($H$2=\"G\",'Skills explications FTEM'!W16,'Skills explications FTEM'!J16)","v":0}]
[{"$f":"'Skills explications FTEM'!A17:C17","v":0},null,null,{"$f":"IF($H$2=\"G\",'Skills explications FTEM'!Q17,'Skills explications FTEM'!D17)","v":"SANS PUCK"},null,null,{"$f":"IF($H$2=\"G\",'Skills explications FTEM'!T17,'Skills explications FTEM'!G17)","v":"ouvert pour un passe (Support), 1:1, Gap"},null,null,{"$f":"IF($H$2=\"G\",'Skills explications FTEM'!W17,'Skills explications FTEM'!J17)","v":0}]
[{"$f":"'Skills explications FTEM'!A18:C18","v":0},null,null,{"$f":"IF($H$2=\"G\",'Skills explications FTEM'!Q18,'Skills explications FTEM'!D18)","v":"DEFENSIF"},null,null,{"$f":"IF($H$2=\"G\",'Skills explications FTEM'!T18,'Skills explications FTEM'!G18)","v":"on peut compter dessus,  1:1, Gap, identification de l'homme"},null,null,{"$f":"IF($H$2=\"G\",'Skills explications FTEM'!W18,'Skills explications FTEM'!J18)","v":0}]
[{"$f":"'Skills explications FTEM'!A19:C19","v":"PERSONALITY"},null,null,"CAPACITE",null,null,"OBSERVATION",null,null,null,null,null,null,"Date1",null,"Date2",null,"Date3",null,"Date4",null,"Date5",null,"Player",null,"BUT","MESURES:\nSPECIFIQUE, MESURABLES, REALISTE",null,null,null,null,null,null,"DELAI","CONTRÔLE DU BUT","Date"]
[{"$f":"'Skills explications FTEM'!A20:C20","v":"PERSONALITÉ"},null,null,{"$f":"IF($H$2=\"G\",'Skills explications FTEM'!Q20,'Skills explications FTEM'!D20)","v":"MOTIVATION"},null,null,{"$f":"IF($H$2=\"G\",'Skills explications FTEM'!T20,'Skills explications FTEM'!G20)","v":"Est toujours motivé, veut sans cesse se développer et apprendre, veut être le premier et avoir du succès, n'abandonne jamais et ne se laisse pas influencer par les échecs"},null,null,{"$f":"IF($H$2=\"G\",'Skills explications FTEM'!W20,'Skills explications FTEM'!J20)","v":0},null,null,null,{"$f":"IFERROR(AVERAGE(O29:O32),\"-\")","v":"-"},null,null,null,{"$f":"IFERROR(AVERAGE(S29:S32),\"-\")","v":"-"},null,{"$f":"IFERROR(AVERAGE(U29:U32),\"-\")","v":"-"},null,{"$f":"IFERROR(AVERAGE(W29:W32),\"-\")","v":"-"},null,{"$f":"IFERROR(AVERAGE(Y29:Y32),\"-\")","v":"-"}]
[{"$f":"'Skills explications FTEM'!A21:C21","v":0},null,null,{"$f":"IF($H$2=\"G\",'Skills explications FTEM'!Q21,'Skills explications FTEM'!D21)","v":"CONFIENCE EN SOI"},null,null,{"$f":"IF($H$2=\"G\",'Skills explications FTEM'!T21,'Skills explications FTEM'!G21)","v":"Est en confiance, «I can do it», peut estimer ses capacités (connaît ses qualités et ses défauts), peut réaliser ses qualités avec constance, est courageux et prend des risques calculés"},null,null,{"$f":"IF($H$2=\"G\",'Skills explications FTEM'!W21,'Skills explications FTEM'!J21)","v":0}]
[{"$f":"'Skills explications FTEM'!A22:C22","v":0},null,null,{"$f":"IF($H$2=\"G\",'Skills explications FTEM'!Q22,'Skills explications FTEM'!D22)","v":"FACULTÉES D'APPRENTISSAGE"},null,null,{"$f":"IF($H$2=\"G\",'Skills explications FTEM'!T22,'Skills explications FTEM'!G22)","v":"A une bonne perception (il peut mémoriser et peut réaliser), il a de la personnalité, essaie d'apprendre de ses erreurs et est entreprenant"},null,null,{"$f":"IF($H$2=\"G\",'Skills explications FTEM'!W22,'Skills explications FTEM'!J22)","v":0}]
[{"$f":"'Skills explications FTEM'!A23:C23","v":0},null,null,{"$f":"IF($H$2=\"G\",'Skills explications FTEM'!Q23,'Skills explications FTEM'!D23)","v":"PERFORMANCE, STYLE DE VIE"},null,null,{"$f":"IF($H$2=\"G\",'Skills explications FTEM'!T23,'Skills explications FTEM'!G23)","v":"Gère bien son environnement et son temps libre selon les principes de la performance, obstiné, tenace et axé sur l'objectif, accent sur sa propre performance, est courageux et peut s'imposer contre de la résistance, les défis le motivent"},null,null,{"$f":"IF($H$2=\"G\",'Skills explications FTEM'!W23,'Skills explications FTEM'!J23)","v":0}]
[{"$f":"'Skills explications FTEM'!A24:C24","v":"POWER MENTAL"},null,null,{"$f":"IF($H$2=\"G\",'Skills explications FTEM'!Q24,'Skills explications FTEM'!D24)","v":"GESTION DES ÉNERGIES"},null,null,{"$f":"IF($H$2=\"G\",'Skills explications FTEM'!T24,'Skills explications FTEM'!G24)","v":"Peut-il gérer ses propres énergies, prend-il soin de sa régénération, peut-il gérer les moments où il faut se donner à fond ou quand il faut déconnecter, bouton On/Off"},null,null,{"$f":"IF($H$2=\"G\",'Skills explications FTEM'!W24,'Skills explications FTEM'!J24)","v":0},null,null,null,{"$f":"IFERROR(AVERAGE(O33:O36),\"-\")","v":"-"},null,null,null,{"$f":"IFERROR(AVERAGE(S33:S36),\"-\")","v":"-"},null,{"$f":"IFERROR(AVERAGE(U33:U36),\"-\")","v":"-"},null,{"$f":"IFERROR(AVERAGE(W33:W36),\"-\")","v":"-"},null,{"$f":"IFERROR(AVERAGE(Y33:Y36),\"-\")","v":"-"}]
[{"$f":"'Skills explications FTEM'!A25:C25","v":0},null,null,{"$f":"IF($H$2=\"G\",'Skills explications FTEM'!Q25,'Skills explications FTEM'!D25)","v":"ENGAGEMENT"},null,null,{"$f":"IF($H$2=\"G\",'Skills explications FTEM'!T25,'Skills explications FTEM'!G25)","v":"Démontre beaucoup d'intensité dans les entraînements et les matchs, donne toujours son maximum et veut sans cesse repousser ses limites, a-t-il de la passion, s'efforce-t-il de s'entraîner avec une excellente qualité"},null,null,{"$f":"IF($H$2=\"G\",'Skills explications FTEM'!W25,'Skills explications FTEM'!J25)","v":0}]
[{"$f":"'Skills explications FTEM'!A26:C26","v":0},null,null,{"$f":"IF($H$2=\"G\",'Skills explications FTEM'!Q26,'Skills explications FTEM'!D26)","v":"CONTRÔLE DES ÉMOTIONS"},null,null,{"$f":"IF($H$2=\"G\",'Skills explications FTEM'!T26,'Skills explications FTEM'!G26)","v":"Peut-il gérer ses propres émotions et impulsions, reste-t-il sous contrôle lorsqu'il y a une grande pression, peut-il rester calme lorsque le niveau émotionnel et de frustration est élevé"},null,null,{"$f":"IF($H$2=\"G\",'Skills explications FTEM'!W26,'Skills explications FTEM'!J26)","v":0}]
[{"$f":"'Skills explications FTEM'!A27:C27","v":0},null,null,{"$f":"IF($H$2=\"G\",'Skills explications FTEM'!Q27,'Skills explications FTEM'!D27)","v":"PRÉPARATION"},null,null,{"$f":"IF($H$2=\"G\",'Skills explications FTEM'!T27,'Skills explications FTEM'!G27)","v":"Se prépare-t-il toujours bien, mentalement et physiquement, se prépare-t-il toujours bien pour obtenir le niveau de performance idéal (ILZ)"},null,null,{"$f":"IF($H$2=\"G\",'Skills explications FTEM'!W27,'Skills explications FTEM'!J27)","v":0}]
[{"$f":"'Skills explications FTEM'!A28:C28","v":"PYHSE (Athletik)"},null,null,{"$f":"IF($H$2=\"G\",'Skills explications FTEM'!Q28,'Skills explications FTEM'!D28)","v":"PRODUCTION DE LA PERFORMANCE"},null,null,{"$f":"IF($H$2=\"G\",'Skills explications FTEM'!T28,'Skills explications FTEM'!G28)","v":"A-t-il la puissance, la force, la vitesse nécessaires dans les jambes et le haut du corps (facteurs neuromusculaires)"},null,null,{"$f":"IF($H$2=\"G\",'Skills explications FTEM'!W28,'Skills explications FTEM'!J28)","v":0},null,null,null,{"$f":"IFERROR(AVERAGE(O37:O40),\"-\")","v":"-"},null,null,null,{"$f":"IFERROR(AVERAGE(S37:S40),\"-\")","v":"-"},null,{"$f":"IFERROR(AVERAGE(U37:U40),\"-\")","v":"-"},null,{"$f":"IFERROR(AVERAGE(W37:W40),\"-\")","v":"-"},null,{"$f":"IFERROR(AVERAGE(Y37:Y40),\"-\")","v":"-"}]
[{"$f":"'Skills explications FTEM'!A29:C29","v":0},null,null,{"$f":"IF($H$2=\"G\",'Skills explications FTEM'!Q29,'Skills explications FTEM'!D29)","v":"SPÉCIFIQUE AU SPORT, RÉSISTANT À L'EFFORT"},null,null,{"$f":"IF($H$2=\"G\",'Skills explications FTEM'!T29,'Skills explications FTEM'!G29)","v":"Est-il capable de maintenir sa puissance, sa force, sa vitesse durant un long temps de glace et peut-il récupérer complètement entre ses engagements (facteurs du métabolisme et cardiovasculaire)"},null,null,{"$f":"IF($H$2=\"G\",'Skills explications FTEM'!W29,'Skills explications FTEM'!J29)","v":0}]
[{"$f":"'Skills explications FTEM'!A30:C30","v":0},null,null,{"$f":"IF($H$2=\"G\",'Skills explications FTEM'!Q30,'Skills explications FTEM'!D30)","v":"MOBILITÉ/ COODINATION"},null,null,{"$f":"IF($H$2=\"G\",'Skills explications FTEM'!T30,'Skills explications FTEM'!G30)","v":"Gère-t-il ses aptitudes de mouvements de base, qui sont un fournisseur important des fonctions spécifiques «Skills» pour être efficace"},null,null,{"$f":"IF($H$2=\"G\",'Skills explications FTEM'!W30,'Skills explications FTEM'!J30)","v":0}]
[{"$f":"'Skills explications FTEM'!A31:C31","v":0},null,null,{"$f":"IF($H$2=\"G\",'Skills explications FTEM'!Q31,'Skills explications FTEM'!D31)","v":"ROBUSTESSE / PREVENTION"},null,null,{"$f":"IF($H$2=\"G\",'Skills explications FTEM'!T31,'Skills explications FTEM'!G31)","v":"A-t-il la force de base nécessaire (tension corporelle) pour gagner des duels et résister aux charges, A-t-il la stabilité nécessaire (ex. ses appuis) et la mobilité nécessaire au niveau des articulations centrales"},null,null,{"$f":"IF($H$2=\"G\",'Skills explications FTEM'!W31,'Skills explications FTEM'!J31)","v":0}]

{"sheet":"10","index":13,"n_rows":40,"n_cols":36,"rows_kept":40,"cut":false,"hidden":false,"merged":[[36,25,39,25],[36,26,39,32],[36,34,39,34],[32,23,35,23],[33,3,33,5],[33,6,33,11],[35,3,35,5],[35,6,35,11],[32,0,35,2],[32,3,32,5],[32,6,32,11],[32,12,35,12],[32,13,35,13],[32,15,35,15],[36,0,39,2],[36,3,36,5],[36,6,36,11],[36,12,39,12],[36,23,39,23],[37,3,37,5],[37,6,37,11],[38,3,38,5],[38,6,38,11],[39,3,39,5],[27,21,27,22],[28,17,31,17],[28,19,31,19],[28,21,31,21],[29,3,29,5],[29,6,29,11],[30,3,30,5],[30,6,30,11],[32,17,35,17],[32,19,35,19],[32,21,35,21],[34,3,34,5],[34,6,34,11],[23,0,26,2],[23,3,23,5],[23,6,23,11],[23,12,26,12],[23,13,26,13],[23,15,26,15],[27,23,27,24],[27,26,27,32],[28,0,31,2],[28,3,28,5],[28,6,28,11],[28,12,31,12],[28,13,31,13],[28,15,31,15],[31,3,31,5],[31,6,31,11],[28,23,31,23],[27,0,27,2],[27,3,27,5],[27,6,27,11],[27,13,27,14],[27,15,27,16],[27,17,27,18],[27,19,27,20],[19,21,22,21],[19,23,22,23],[20,3,20,5],[20,6,20,11],[22,3,22,5],[22,6,22,11],[26,3,26,5],[26,6,26,11],[23,23,26,23],[23,17,26,17],[23,19,26,19],[23,21,26,21],[24,3,24,5],[24,6,24,11],[25,3,25,5],[25,6,25,11],[21,3,21,5],[21,6,21,11],[15,15,18,15],[15,17,18,17],[15,19,18,19],[15,21,18,21],[15,23,18,23],[18,3,18,5],[18,6,18,11],[19,0,22,2],[19,3,19,5],[19,6,19,11],[19,12,22,12],[19,13,22,13],[19,15,22,15],[19,17,22,17],[15,0,18,2],[15,3,15,5],[15,6,15,11],[15,12,18,12],[15,13,18,13],[16,3,16,5],[16,6,16,11],[17,3,17,5],[17,6,17,11],[19,19,22,19],[12,23,13,23],[13,3,13,5],[13,6,13,11],[14,0,14,2],[14,3,14,5],[14,6,14,11],[14,13,14,14],[14,15,14,16],[14,17,14,18],[14,19,14,20],[14,21,14,22],[14,23,14,24],[12,0,13,2],[12,3,12,5],[12,6,12,11],[12,12,13,12],[12,13,13,13],[12,15,13,15],[12,17,13,17],[12,19,13,19],[12,21,13,21],[11,0,11,2],[11,3,11,5],[11,13,11,14],[11,15,11,16],[11,17,11,18],[11,19,11,20],[11,21,11,22],[11,23,11,24],[11,26,11,32],[11,6,11,11],[0,33,0,35],[23,25,26,25],[23,26,26,32],[23,34,26,34],[28,25,31,25],[28,26,31,32],[28,34,31,34],[1,0,1,1],[1,2,1,5],[1,10,1,24],[2,0,2,1],[2,2,2,5],[2,11,2,24],[6,0,6,1],[6,2,6,35],[7,0,7,1],[7,2,7,35],[8,0,8,1],[8,2,8,35],[3,0,3,1],[3,10,3,24],[4,0,4,1],[4,2,4,5],[4,10,4,24],[39,6,39,11],[36,13,39,13],[36,15,39,15],[36,17,39,17],[36,19,39,19],[36,21,39,21],[0,0,0,24],[0,25,0,26],[0,27,0,32],[10,0,10,24],[10,25,10,35],[32,25,35,25],[32,26,35,32],[32,34,35,34],[12,25,13,25],[12,26,13,32],[12,34,13,34],[15,25,18,25],[15,26,18,32],[15,34,18,34],[19,25,22,25],[19,26,22,32],[19,34,22,34],[14,26,14,32]]}
["Infos personelles",null,null,null,null,null,null,null,null,null,null,null,null,null,null,null,null,null,null,null,null,null,null,null,null,"Predispositions",null,"Evaluations",null,null,null,null,null,"Rating"]
["PRENOM",null,{"$f":"IF(ISBLANK(VLOOKUP(10,Tabelle3[],3,0)),\"-\",VLOOKUP(10,Tabelle3[],3,0))","v":"-"},null,null,null,"POSITION",null,null,"ADRESSE",{"$f":"IF(ISBLANK(VLOOKUP(10,Tabelle3[],5,0)),\"-\",VLOOKUP(10,Tabelle3[],5,0))","v":"-"},null,null,null,null,null,null,null,null,null,null,null,null,null,null,"\"àage\" (Biologique/age relatif)",null,"Date 1",null,null,"cm",null,"Kg",null,"AUSGEZEICHNET",5]
["NOM",null,{"$f":"IF(ISBLANK(VLOOKUP(10,Tabelle3[],2,0)),\"-\",VLOOKUP(10,Tabelle3[],2,0))","v":"-"},null,null,null,"CANNE",null,null,"LIEU",{"$f":"IF(ISBLANK(VLOOKUP(10,Tabelle3[],7,0)),\"-\",VLOOKUP(10,Tabelle3[],7,0))","v":"-"},{"$f":"IF(ISBLANK(VLOOKUP(10,Tabelle3[],6,0)),\"-\",VLOOKUP(10,Tabelle3[],6,0))","v":"-"},null,null,null,null,null,null,null,null,null,null,null,null,null,"predispositions",null,"Date 2",null,null,"cm",null,"Kg",null,"GUT",4]
["DATE NAISS.",null,{"$f":"IF(ISBLANK(VLOOKUP(10,Tabelle3[],14,0)),\"-\",VLOOKUP(10,Tabelle3[],14,0))","v":"-"},{"$f":"IF(ISBLANK(VLOOKUP(10,Tabelle3[],15,0)),\"-\",VLOOKUP(10,Tabelle3[],15,0))","v":"-"},{"$f":"IF(ISBLANK(VLOOKUP(10,Tabelle3[],16,0)),\"-\",VLOOKUP(10,Tabelle3[],16,0))","v":"-"},null,"GRANDEUR",null,"cm","PHONE",{"$f":"IF(ISBLANK(VLOOKUP(10,Tabelle3[],8,0)),\"-\",VLOOKUP(10,Tabelle3[],8,0))","v":"-"},null,null,null,null,null,null,null,null,null,null,null,null,null,null,"Entourage",null,"Date 3",null,null,"cm",null,"Kg",null,"DURCHSCHNITT",3]
["SEXE",null,{"$f":"IF(ISBLANK(VLOOKUP(10,Tabelle3[],13,0)),\"-\",VLOOKUP(10,Tabelle3[],13,0))","v":"-"},null,null,null,"POIDS",null,"Kg","E-Mail",{"$f":"IF(ISBLANK(VLOOKUP(10,Tabelle3[],9,0)),\"-\",VLOOKUP(10,Tabelle3[],9,0))","v":"-"},null,null,null,null,null,null,null,null,null,null,null,null,null,null,null,null,"Date 4",null,null,"cm",null,"Kg",null,"MANGELHAFT",2]
[null,null,null,null,null,null,null,null,null,null,null,null,null,null,null,null,null,null,null,null,null,null,null,null,null,null,null,"Date 5",null,null,"cm",null,"Kg",null,"UNGENÜGEND",1]
["Vision",null,"xxx"]
["Next step",null,"xxx"]
["Profil du Joueur",null,"xxx"]
[]
["EVALUATION (COACH / JOUEUR)",null,null,null,null,null,null,null,null,null,null,null,null,null,null,null,null,null,null,null,null,null,null,null,null,"SMART"]
[{"$f":"'Skills explications FTEM'!A3:C3","v":"TEAM"},null,null,"CAPACITE",null,null,"OBSERVATION",null,null,null,null,null,"Final","Date1",null,"Date2",null,"Date3",null,"Date4",null,"Date5",null,"Player",null,"BUT","MESURES:\nSPECIFIQUE, MESURABLES, REALISTE",null,null,null,null,null,null,"DELAI","CONTRÔLE DU BUT","Date"]
[{"$f":"'Skills explications FTEM'!A4:C4","v":"ROLLE, SOZIAL"},null,null,{"$f":"IF($H$2=\"G\",'Skills explications FTEM'!Q4,'Skills explications FTEM'!D4)","v":"PENSER EQUIPE"},null,null,{"$f":"IF($H$2=\"G\",'Skills explications FTEM'!T4,'Skills explications FTEM'!G4)","v":"Identification au rôle, relation au cammarades (social, intégration)"},null,null,{"$f":"IF($H$2=\"G\",'Skills explications FTEM'!W4,'Skills explications FTEM'!J4)","v":0},null,null,null,{"$f":"IFERROR(AVERAGE(O13:O14),\"-\")","v":"-"},null,{"$f":"IFERROR(AVERAGE(Q13:Q14),\"-\")","v":"-"},null,{"$f":"IFERROR(AVERAGE(S13:S14),\"-\")","v":"-"},null,{"$f":"IFERROR(AVERAGE(U13:U14),\"-\")","v":"-"},null,{"$f":"IFERROR(AVERAGE(W13:W14),\"-\")","v":"-"},null,{"$f":"IFERROR(AVERAGE(Y13:Y14),\"-\")","v":"-"}]
[{"$f":"'Skills explications FTEM'!A5:C5","v":0},null,null,{"$f":"IF($H$2=\"G\",'Skills explications FTEM'!Q5,'Skills explications FTEM'!D5)","v":"LEADERSHIP"},null,null,{"$f":"IF($H$2=\"G\",'Skills explications FTEM'!T5,'Skills explications FTEM'!G5)","v":"prend des responsabilités, rend son coéquipier meilleur"},null,null,{"$f":"IF($H$2=\"G\",'Skills explications FTEM'!W5,'Skills explications FTEM'!J5)","v":0}]
[{"$f":"'Skills explications FTEM'!A6:C6","v":"ON ICE"},null,null,"CAPACITE",null,null,"OBSERVATION",null,null,null,null,null,null,"Date1",null,"Date2",null,"Date3",null,"Date4",null,"Date5",null,"Player",null,"BUT","MESURES:\nSPECIFIQUE, MESURABLES, REALISTE",null,null,null,null,null,null,"DELAI","CONTRÔLE DU BUT","Date"]
[{"$f":"'Skills explications FTEM'!A7:C7","v":"SKILL"},null,null,{"$f":"IF($H$2=\"G\",'Skills explications FTEM'!Q7,'Skills explications FTEM'!D7)","v":"TIR  (EFFET)"},null,null,{"$f":"IF($H$2=\"G\",'Skills explications FTEM'!T7,'Skills explications FTEM'!G7)","v":"Efficience (pas d'espace et de temps), variantes, degré de surprise (déclenchement rapide), précision, puissance (conclusion tactique)"},null,null,{"$f":"IF($H$2=\"G\",'Skills explications FTEM'!W7,'Skills explications FTEM'!J7)","v":0},null,null,null,{"$f":"IFERROR(AVERAGE(O16:O19),\"-\")","v":"-"},null,{"$f":"IFERROR(AVERAGE(Q16:Q19),\"-\")","v":"-"},null,{"$f":"IFERROR(AVERAGE(S16:S19),\"-\")","v":"-"},null,{"$f":"IFERROR(AVERAGE(U16:U19),\"-\")","v":"-"},null,{"$f":"IFERROR(AVERAGE(W16:W19),\"-\")","v":"-"},null,{"$f":"IFERROR(AVERAGE(Y16:Y19),\"-\")","v":"-"}]
[{"$f":"'Skills explications FTEM'!A8:C8","v":0},null,null,{"$f":"IF($H$2=\"G\",'Skills explications FTEM'!Q8,'Skills explications FTEM'!D8)","v":"PASSER"},null,null,{"$f":"IF($H$2=\"G\",'Skills explications FTEM'!T8,'Skills explications FTEM'!G8)","v":"Donne la passe (distance, passe flipée en revers), réception de la passe (précision, timing, coup droit, revers, patins), vitesse du puck"},null,null,{"$f":"IF($H$2=\"G\",'Skills explications FTEM'!W8,'Skills explications FTEM'!J8)","v":0}]
[{"$f":"'Skills explications FTEM'!A9:C9","v":0},null,null,{"$f":"IF($H$2=\"G\",'Skills explications FTEM'!Q9,'Skills explications FTEM'!D9)","v":"JEU DU CORPS"},null,null,{"$f":"IF($H$2=\"G\",'Skills explications FTEM'!T9,'Skills explications FTEM'!G9)","v":"Faculté de s'imposer physiquement, duels (sur la surface de glace ou à la bande), prendre des checks, lever la tête, niveau de lutte, dur mais correct, bloquer les tirs avec le corps"},null,null,{"$f":"IF($H$2=\"G\",'Skills explications FTEM'!W9,'Skills explications FTEM'!J9)","v":0},null,null,null,{"$f":"IFERROR(AVERAGE(O18:O19),\"-\")","v":"-"},null,{"$f":"IFERROR(AVERAGE(Q18:Q19),\"-\")","v":"-"},null,{"$f":"IFERROR(AVERAGE(S18:S19),\"-\")","v":"-"},null,{"$f":"IFERROR(AVERAGE(U18:U19),\"-\")","v":"-"},null,{"$f":"IFERROR(AVERAGE(W18:W19),\"-\")","v":"-"},null,"-"]
[{"$f":"'Skills explications FTEM'!A10:C10","v":0},null,null,{"$f":"IF($H$2=\"G\",'Skills explications FTEM'!Q10,'Skills explications FTEM'!D10)","v":"CONTRÔLE DU PUCK"},null,null,{"$f":"IF($H$2=\"G\",'Skills explications FTEM'!T10,'Skills explications FTEM'!G10)","v":"Contrôle du puck, dribbling, protection du puck, feintes (variantes: avec les patins ou avec et sans la bande), mise au jeu (bully)"},null,null,{"$f":"IF($H$2=\"G\",'Skills explications FTEM'!W10,'Skills explications FTEM'!J10)","v":0}]
[{"$f":"'Skills explications FTEM'!A11:C11","v":"SKATING"},null,null,{"$f":"IF($H$2=\"G\",'Skills explications FTEM'!Q11,'Skills explications FTEM'!D11)","v":"FOOTSPEED"},null,null,{"$f":"IF($H$2=\"G\",'Skills explications FTEM'!T11,'Skills explications FTEM'!G11)","v":"Accélération, départ, explosivité des 3 premiers pas, fréquence"},null,null,{"$f":"IF($H$2=\"G\",'Skills explications FTEM'!W11,'Skills explications FTEM'!J11)","v":0},null,null,null,{"$f":"IFERROR(AVERAGE(O20:O23),\"-\")","v":"-"},null,{"$f":"IFERROR(AVERAGE(Q20:Q23),\"-\")","v":"-"},null,{"$f":"IFERROR(AVERAGE(S20:S23),\"-\")","v":"-"},null,{"$f":"IFERROR(AVERAGE(U20:U23),\"-\")","v":"-"},null,{"$f":"IFERROR(AVERAGE(W20:W23),\"-\")","v":"-"},null,{"$f":"IFERROR(AVERAGE(Y20:Y23),\"-\")","v":"-"}]
[{"$f":"'Skills explications FTEM'!A12:C12","v":0},null,null,{"$f":"IF($H$2=\"G\",'Skills explications FTEM'!Q12,'Skills explications FTEM'!D12)","v":"MOBILITE"},null,null,{"$f":"IF($H$2=\"G\",'Skills explications FTEM'!T12,'Skills explications FTEM'!G12)","v":"Changements de direction, pivots, stop et start «Nummelin»"},null,null,{"$f":"IF($H$2=\"G\",'Skills explications FTEM'!W12,'Skills explications FTEM'!J12)","v":0}]
[{"$f":"'Skills explications FTEM'!A13:C13","v":0},null,null,{"$f":"IF($H$2=\"G\",'Skills explications FTEM'!Q13,'Skills explications FTEM'!D13)","v":"PATTINAGE ARRIÈRE"},null,null,{"$f":"IF($H$2=\"G\",'Skills explications FTEM'!T13,'Skills explications FTEM'!G13)","v":"Accélération, vitesse, équilibre"},null,null,{"$f":"IF($H$2=\"G\",'Skills explications FTEM'!W13,'Skills explications FTEM'!J13)","v":0}]
[{"$f":"'Skills explications FTEM'!A14:C14","v":0},null,null,{"$f":"IF($H$2=\"G\",'Skills explications FTEM'!Q14,'Skills explications FTEM'!D14)","v":"TOP SPEED"},null,null,{"$f":"IF($H$2=\"G\",'Skills explications FTEM'!T14,'Skills explications FTEM'!G14)","v":"Vitesse, faculté de glisse, avant et arrière, économie des forces"},null,null,{"$f":"IF($H$2=\"G\",'Skills explications FTEM'!W14,'Skills explications FTEM'!J14)","v":0}]
[{"$f":"'Skills explications FTEM'!A15:C15","v":"HOCKEY SENSE"},null,null,{"$f":"IF($H$2=\"G\",'Skills explications FTEM'!Q15,'Skills explications FTEM'!D15)","v":"SCORING"},null,null,{"$f":"IF($H$2=\"G\",'Skills explications FTEM'!T15,'Skills explications FTEM'!G15)","v":"Efficience, richesse des variantes, surpenant, vite, variante de tirs"},null,null,{"$f":"IF($H$2=\"G\",'Skills explications FTEM'!W15,'Skills explications FTEM'!J15)","v":0},null,null,null,{"$f":"IFERROR(AVERAGE(O24:O27),\"-\")","v":"-"},null,{"$f":"IFERROR(AVERAGE(Q24:Q27),\"-\")","v":"-"},null,{"$f":"IFERROR(AVERAGE(S24:S27),\"-\")","v":"-"},null,{"$f":"IFERROR(AVERAGE(U24:U27),\"-\")","v":"-"},null,{"$f":"IFERROR(AVERAGE(W24:W27),\"-\")","v":"-"},null,{"$f":"IFERROR(AVERAGE(Y24:Y27),\"-\")","v":"-"}]
[{"$f":"'Skills explications FTEM'!A16:C16","v":0},null,null,{"$f":"IF($H$2=\"G\",'Skills explications FTEM'!Q16,'Skills explications FTEM'!D16)","v":"AVEC PUCK"},null,null,{"$f":"IF($H$2=\"G\",'Skills explications FTEM'!T16,'Skills explications FTEM'!G16)","v":"créatif,  performing, batteling, fou, transition"},null,null,{"$f":"IF($H$2=\"G\",'Skills explications FTEM'!W16,'Skills explications FTEM'!J16)","v":0}]
[{"$f":"'Skills explications FTEM'!A17:C17","v":0},null,null,{"$f":"IF($H$2=\"G\",'Skills explications FTEM'!Q17,'Skills explications FTEM'!D17)","v":"SANS PUCK"},null,null,{"$f":"IF($H$2=\"G\",'Skills explications FTEM'!T17,'Skills explications FTEM'!G17)","v":"ouvert pour un passe (Support), 1:1, Gap"},null,null,{"$f":"IF($H$2=\"G\",'Skills explications FTEM'!W17,'Skills explications FTEM'!J17)","v":0}]
[{"$f":"'Skills explications FTEM'!A18:C18","v":0},null,null,{"$f":"IF($H$2=\"G\",'Skills explications FTEM'!Q18,'Skills explications FTEM'!D18)","v":"DEFENSIF"},null,null,{"$f":"IF($H$2=\"G\",'Skills explications FTEM'!T18,'Skills explications FTEM'!G18)","v":"on peut compter dessus,  1:1, Gap, identification de l'homme"},null,null,{"$f":"IF($H$2=\"G\",'Skills explications FTEM'!W18,'Skills explications FTEM'!J18)","v":0}]
[{"$f":"'Skills explications FTEM'!A19:C19","v":"PERSONALITY"},null,null,"CAPACITE",null,null,"OBSERVATION",null,null,null,null,null,null,"Date1",null,"Date2",null,"Date3",null,"Date4",null,"Date5",null,"Player",null,"BUT","MESURES:\nSPECIFIQUE, MESURABLES, REALISTE",null,null,null,null,null,null,"DELAI","CONTRÔLE DU BUT","Date"]
[{"$f":"'Skills explications FTEM'!A20:C20","v":"PERSONALITÉ"},null,null,{"$f":"IF($H$2=\"G\",'Skills explications FTEM'!Q20,'Skills explications FTEM'!D20)","v":"MOTIVATION"},null,null,{"$f":"IF($H$2=\"G\",'Skills explications FTEM'!T20,'Skills explications FTEM'!G20)","v":"Est toujours motivé, veut sans cesse se développer et apprendre, veut être le premier et avoir du succès, n'abandonne jamais et ne se laisse pas influencer par les échecs"},null,null,{"$f":"IF($H$2=\"G\",'Skills explications FTEM'!W20,'Skills explications FTEM'!J20)","v":0},null,null,null,{"$f":"IFERROR(AVERAGE(O29:O32),\"-\")","v":"-"},null,null,null,{"$f":"IFERROR(AVERAGE(S29:S32),\"-\")","v":"-"},null,{"$f":"IFERROR(AVERAGE(U29:U32),\"-\")","v":"-"},null,{"$f":"IFERROR(AVERAGE(W29:W32),\"-\")","v":"-"},null,{"$f":"IFERROR(AVERAGE(Y29:Y32),\"-\")","v":"-"}]
[{"$f":"'Skills explications FTEM'!A21:C21","v":0},null,null,{"$f":"IF($H$2=\"G\",'Skills explications FTEM'!Q21,'Skills explications FTEM'!D21)","v":"CONFIENCE EN SOI"},null,null,{"$f":"IF($H$2=\"G\",'Skills explications FTEM'!T21,'Skills explications FTEM'!G21)","v":"Est en confiance, «I can do it», peut estimer ses capacités (connaît ses qualités et ses défauts), peut réaliser ses qualités avec constance, est courageux et prend des risques calculés"},null,null,{"$f":"IF($H$2=\"G\",'Skills explications FTEM'!W21,'Skills explications FTEM'!J21)","v":0}]
[{"$f":"'Skills explications FTEM'!A22:C22","v":0},null,null,{"$f":"IF($H$2=\"G\",'Skills explications FTEM'!Q22,'Skills explications FTEM'!D22)","v":"FACULTÉES D'APPRENTISSAGE"},null,null,{"$f":"IF($H$2=\"G\",'Skills explications FTEM'!T22,'Skills explications FTEM'!G22)","v":"A une bonne perception (il peut mémoriser et peut réaliser), il a de la personnalité, essaie d'apprendre de ses erreurs et est entreprenant"},null,null,{"$f":"IF($H$2=\"G\",'Skills explications FTEM'!W22,'Skills explications FTEM'!J22)","v":0}]
[{"$f":"'Skills explications FTEM'!A23:C23","v":0},null,null,{"$f":"IF($H$2=\"G\",'Skills explications FTEM'!Q23,'Skills explications FTEM'!D23)","v":"PERFORMANCE, STYLE DE VIE"},null,null,{"$f":"IF($H$2=\"G\",'Skills explications FTEM'!T23,'Skills explications FTEM'!G23)","v":"Gère bien son environnement et son temps libre selon les principes de la performance, obstiné, tenace et axé sur l'objectif, accent sur sa propre performance, est courageux et peut s'imposer contre de la résistance, les défis le motivent"},null,null,{"$f":"IF($H$2=\"G\",'Skills explications FTEM'!W23,'Skills explications FTEM'!J23)","v":0}]
[{"$f":"'Skills explications FTEM'!A24:C24","v":"POWER MENTAL"},null,null,{"$f":"IF($H$2=\"G\",'Skills explications FTEM'!Q24,'Skills explications FTEM'!D24)","v":"GESTION DES ÉNERGIES"},null,null,{"$f":"IF($H$2=\"G\",'Skills explications FTEM'!T24,'Skills explications FTEM'!G24)","v":"Peut-il gérer ses propres énergies, prend-il soin de sa régénération, peut-il gérer les moments où il faut se donner à fond ou quand il faut déconnecter, bouton On/Off"},null,null,{"$f":"IF($H$2=\"G\",'Skills explications FTEM'!W24,'Skills explications FTEM'!J24)","v":0},null,null,null,{"$f":"IFERROR(AVERAGE(O33:O36),\"-\")","v":"-"},null,null,null,{"$f":"IFERROR(AVERAGE(S33:S36),\"-\")","v":"-"},null,{"$f":"IFERROR(AVERAGE(U33:U36),\"-\")","v":"-"},null,{"$f":"IFERROR(AVERAGE(W33:W36),\"-\")","v":"-"},null,{"$f":"IFERROR(AVERAGE(Y33:Y36),\"-\")","v":"-"}]
[{"$f":"'Skills explications FTEM'!A25:C25","v":0},null,null,{"$f":"IF($H$2=\"G\",'Skills explications FTEM'!Q25,'Skills explications FTEM'!D25)","v":"ENGAGEMENT"},null,null,{"$f":"IF($H$2=\"G\",'Skills explications FTEM'!T25,'Skills explications FTEM'!G25)","v":"Démontre beaucoup d'intensité dans les entraînements et les matchs, donne toujours son maximum et veut sans cesse repousser ses limites, a-t-il de la passion, s'efforce-t-il de s'entraîner avec une excellente qualité"},null,null,{"$f":"IF($H$2=\"G\",'Skills explications FTEM'!W25,'Skills explications FTEM'!J25)","v":0}]
[{"$f":"'Skills explications FTEM'!A26:C26","v":0},null,null,{"$f":"IF($H$2=\"G\",'Skills explications FTEM'!Q26,'Skills explications FTEM'!D26)","v":"CONTRÔLE DES ÉMOTIONS"},null,null,{"$f":"IF($H$2=\"G\",'Skills explications FTEM'!T26,'Skills explications FTEM'!G26)","v":"Peut-il gérer ses propres émotions et impulsions, reste-t-il sous contrôle lorsqu'il y a une grande pression, peut-il rester calme lorsque le niveau émotionnel et de frustration est élevé"},null,null,{"$f":"IF($H$2=\"G\",'Skills explications FTEM'!W26,'Skills explications FTEM'!J26)","v":0}]
[{"$f":"'Skills explications FTEM'!A27:C27","v":0},null,null,{"$f":"IF($H$2=\"G\",'Skills explications FTEM'!Q27,'Skills explications FTEM'!D27)","v":"PRÉPARATION"},null,null,{"$f":"IF($H$2=\"G\",'Skills explications FTEM'!T27,'Skills explications FTEM'!G27)","v":"Se prépare-t-il toujours bien, mentalement et physiquement, se prépare-t-il toujours bien pour obtenir le niveau de performance idéal (ILZ)"},null,null,{"$f":"IF($H$2=\"G\",'Skills explications FTEM'!W27,'Skills explications FTEM'!J27)","v":0}]
[{"$f":"'Skills explications FTEM'!A28:C28","v":"PYHSE (Athletik)"},null,null,{"$f":"IF($H$2=\"G\",'Skills explications FTEM'!Q28,'Skills explications FTEM'!D28)","v":"PRODUCTION DE LA PERFORMANCE"},null,null,{"$f":"IF($H$2=\"G\",'Skills explications FTEM'!T28,'Skills explications FTEM'!G28)","v":"A-t-il la puissance, la force, la vitesse nécessaires dans les jambes et le haut du corps (facteurs neuromusculaires)"},null,null,{"$f":"IF($H$2=\"G\",'Skills explications FTEM'!W28,'Skills explications FTEM'!J28)","v":0},null,null,null,{"$f":"IFERROR(AVERAGE(O37:O40),\"-\")","v":"-"},null,null,null,{"$f":"IFERROR(AVERAGE(S37:S40),\"-\")","v":"-"},null,{"$f":"IFERROR(AVERAGE(U37:U40),\"-\")","v":"-"},null,{"$f":"IFERROR(AVERAGE(W37:W40),\"-\")","v":"-"},null,{"$f":"IFERROR(AVERAGE(Y37:Y40),\"-\")","v":"-"}]
[{"$f":"'Skills explications FTEM'!A29:C29","v":0},null,null,{"$f":"IF($H$2=\"G\",'Skills explications FTEM'!Q29,'Skills explications FTEM'!D29)","v":"SPÉCIFIQUE AU SPORT, RÉSISTANT À L'EFFORT"},null,null,{"$f":"IF($H$2=\"G\",'Skills explications FTEM'!T29,'Skills explications FTEM'!G29)","v":"Est-il capable de maintenir sa puissance, sa force, sa vitesse durant un long temps de glace et peut-il récupérer complètement entre ses engagements (facteurs du métabolisme et cardiovasculaire)"},null,null,{"$f":"IF($H$2=\"G\",'Skills explications FTEM'!W29,'Skills explications FTEM'!J29)","v":0}]
[{"$f":"'Skills explications FTEM'!A30:C30","v":0},null,null,{"$f":"IF($H$2=\"G\",'Skills explications FTEM'!Q30,'Skills explications FTEM'!D30)","v":"MOBILITÉ/ COODINATION"},null,null,{"$f":"IF($H$2=\"G\",'Skills explications FTEM'!T30,'Skills explications FTEM'!G30)","v":"Gère-t-il ses aptitudes de mouvements de base, qui sont un fournisseur important des fonctions spécifiques «Skills» pour être efficace"},null,null,{"$f":"IF($H$2=\"G\",'Skills explications FTEM'!W30,'Skills explications FTEM'!J30)","v":0}]
[{"$f":"'Skills explications FTEM'!A31:C31","v":0},null,null,{"$f":"IF($H$2=\"G\",'Skills explications FTEM'!Q31,'Skills explications FTEM'!D31)","v":"ROBUSTESSE / PREVENTION"},null,null,{"$f":"IF($H$2=\"G\",'Skills explications FTEM'!T31,'Skills explications FTEM'!G31)","v":"A-t-il la force de base nécessaire (tension corporelle) pour gagner des duels et résister aux charges, A-t-il la stabilité nécessaire (ex. ses appuis) et la mobilité nécessaire au niveau des articulations centrales"},null,null,{"$f":"IF($H$2=\"G\",'Skills explications FTEM'!W31,'Skills explications FTEM'!J31)","v":0}]

{"sheet":"11","index":14,"n_rows":40,"n_cols":36,"rows_kept":40,"cut":false,"hidden":false,"merged":[[36,25,39,25],[36,26,39,32],[36,34,39,34],[32,23,35,23],[33,3,33,5],[33,6,33,11],[35,3,35,5],[35,6,35,11],[32,0,35,2],[32,3,32,5],[32,6,32,11],[32,12,35,12],[32,13,35,13],[32,15,35,15],[36,0,39,2],[36,3,36,5],[36,6,36,11],[36,12,39,12],[36,23,39,23],[37,3,37,5],[37,6,37,11],[38,3,38,5],[38,6,38,11],[39,3,39,5],[27,21,27,22],[28,17,31,17],[28,19,31,19],[28,21,31,21],[29,3,29,5],[29,6,29,11],[30,3,30,5],[30,6,30,11],[32,17,35,17],[32,19,35,19],[32,21,35,21],[34,3,34,5],[34,6,34,11],[23,0,26,2],[23,3,23,5],[23,6,23,11],[23,12,26,12],[23,13,26,13],[23,15,26,15],[27,23,27,24],[27,26,27,32],[28,0,31,2],[28,3,28,5],[28,6,28,11],[28,12,31,12],[28,13,31,13],[28,15,31,15],[31,3,31,5],[31,6,31,11],[28,23,31,23],[27,0,27,2],[27,3,27,5],[27,6,27,11],[27,13,27,14],[27,15,27,16],[27,17,27,18],[27,19,27,20],[19,21,22,21],[19,23,22,23],[20,3,20,5],[20,6,20,11],[22,3,22,5],[22,6,22,11],[26,3,26,5],[26,6,26,11],[23,23,26,23],[23,17,26,17],[23,19,26,19],[23,21,26,21],[24,3,24,5],[24,6,24,11],[25,3,25,5],[25,6,25,11],[21,3,21,5],[21,6,21,11],[15,15,18,15],[15,17,18,17],[15,19,18,19],[15,21,18,21],[15,23,18,23],[18,3,18,5],[18,6,18,11],[19,0,22,2],[19,3,19,5],[19,6,19,11],[19,12,22,12],[19,13,22,13],[19,15,22,15],[19,17,22,17],[15,0,18,2],[15,3,15,5],[15,6,15,11],[15,12,18,12],[15,13,18,13],[16,3,16,5],[16,6,16,11],[17,3,17,5],[17,6,17,11],[19,19,22,19],[12,23,13,23],[13,3,13,5],[13,6,13,11],[14,0,14,2],[14,3,14,5],[14,6,14,11],[14,13,14,14],[14,15,14,16],[14,17,14,18],[14,19,14,20],[14,21,14,22],[14,23,14,24],[12,0,13,2],[12,3,12,5],[12,6,12,11],[12,12,13,12],[12,13,13,13],[12,15,13,15],[12,17,13,17],[12,19,13,19],[12,21,13,21],[11,0,11,2],[11,3,11,5],[11,13,11,14],[11,15,11,16],[11,17,11,18],[11,19,11,20],[11,21,11,22],[11,23,11,24],[11,26,11,32],[11,6,11,11],[0,33,0,35],[23,25,26,25],[23,26,26,32],[23,34,26,34],[28,25,31,25],[28,26,31,32],[28,34,31,34],[1,0,1,1],[1,2,1,5],[1,10,1,24],[2,0,2,1],[2,2,2,5],[2,11,2,24],[6,0,6,1],[6,2,6,35],[7,0,7,1],[7,2,7,35],[8,0,8,1],[8,2,8,35],[3,0,3,1],[3,10,3,24],[4,0,4,1],[4,2,4,5],[4,10,4,24],[39,6,39,11],[36,13,39,13],[36,15,39,15],[36,17,39,17],[36,19,39,19],[36,21,39,21],[0,0,0,24],[0,25,0,26],[0,27,0,32],[10,0,10,24],[10,25,10,35],[32,25,35,25],[32,26,35,32],[32,34,35,34],[12,25,13,25],[12,26,13,32],[12,34,13,34],[15,25,18,25],[15,26,18,32],[15,34,18,34],[19,25,22,25],[19,26,22,32],[19,34,22,34],[14,26,14,32]]}
["Infos personelles",null,null,null,null,null,null,null,null,null,null,null,null,null,null,null,null,null,null,null,null,null,null,null,null,"Predispositions",null,"Evaluations",null,null,null,null,null,"Rating"]
["PRENOM",null,{"$f":"IF(ISBLANK(VLOOKUP(11,Tabelle3[],3,0)),\"-\",VLOOKUP(11,Tabelle3[],3,0))","v":"-"},null,null,null,"POSITION",null,null,"ADRESSE",{"$f":"IF(ISBLANK(VLOOKUP(11,Tabelle3[],5,0)),\"-\",VLOOKUP(11,Tabelle3[],5,0))","v":"-"},null,null,null,null,null,null,null,null,null,null,null,null,null,null,"\"àage\" (Biologique/age relatif)",null,"Date 1",null,null,"cm",null,"Kg",null,"AUSGEZEICHNET",5]
["NOM",null,{"$f":"IF(ISBLANK(VLOOKUP(11,Tabelle3[],2,0)),\"-\",VLOOKUP(11,Tabelle3[],2,0))","v":"-"},null,null,null,"CANNE",null,null,"LIEU",{"$f":"IF(ISBLANK(VLOOKUP(11,Tabelle3[],7,0)),\"-\",VLOOKUP(11,Tabelle3[],7,0))","v":"-"},{"$f":"IF(ISBLANK(VLOOKUP(11,Tabelle3[],6,0)),\"-\",VLOOKUP(11,Tabelle3[],6,0))","v":"-"},null,null,null,null,null,null,null,null,null,null,null,null,null,"predispositions",null,"Date 2",null,null,"cm",null,"Kg",null,"GUT",4]
["DATE NAISS.",null,{"$f":"IF(ISBLANK(VLOOKUP(11,Tabelle3[],14,0)),\"-\",VLOOKUP(11,Tabelle3[],14,0))","v":"-"},{"$f":"IF(ISBLANK(VLOOKUP(11,Tabelle3[],15,0)),\"-\",VLOOKUP(11,Tabelle3[],15,0))","v":"-"},{"$f":"IF(ISBLANK(VLOOKUP(11,Tabelle3[],16,0)),\"-\",VLOOKUP(11,Tabelle3[],16,0))","v":"-"},null,"GRANDEUR",null,"cm","PHONE",{"$f":"IF(ISBLANK(VLOOKUP(11,Tabelle3[],8,0)),\"-\",VLOOKUP(11,Tabelle3[],8,0))","v":"-"},null,null,null,null,null,null,null,null,null,null,null,null,null,null,"Entourage",null,"Date 3",null,null,"cm",null,"Kg",null,"DURCHSCHNITT",3]
["SEXE",null,{"$f":"IF(ISBLANK(VLOOKUP(11,Tabelle3[],13,0)),\"-\",VLOOKUP(11,Tabelle3[],13,0))","v":"-"},null,null,null,"POIDS",null,"Kg","E-Mail",{"$f":"IF(ISBLANK(VLOOKUP(11,Tabelle3[],9,0)),\"-\",VLOOKUP(11,Tabelle3[],9,0))","v":"-"},null,null,null,null,null,null,null,null,null,null,null,null,null,null,null,null,"Date 4",null,null,"cm",null,"Kg",null,"MANGELHAFT",2]
[null,null,null,null,null,null,null,null,null,null,null,null,null,null,null,null,null,null,null,null,null,null,null,null,null,null,null,"Date 5",null,null,"cm",null,"Kg",null,"UNGENÜGEND",1]
["Vision",null,"xxx"]
["Next step",null,"xxx"]
["Profil du Joueur",null,"xxx"]
[]
["EVALUATION (COACH / JOUEUR)",null,null,null,null,null,null,null,null,null,null,null,null,null,null,null,null,null,null,null,null,null,null,null,null,"SMART"]
[{"$f":"'Skills explications FTEM'!A3:C3","v":"TEAM"},null,null,"CAPACITE",null,null,"OBSERVATION",null,null,null,null,null,"Final","Date1",null,"Date2",null,"Date3",null,"Date4",null,"Date5",null,"Player",null,"BUT","MESURES:\nSPECIFIQUE, MESURABLES, REALISTE",null,null,null,null,null,null,"DELAI","CONTRÔLE DU BUT","Date"]
[{"$f":"'Skills explications FTEM'!A4:C4","v":"ROLLE, SOZIAL"},null,null,{"$f":"IF($H$2=\"G\",'Skills explications FTEM'!Q4,'Skills explications FTEM'!D4)","v":"PENSER EQUIPE"},null,null,{"$f":"IF($H$2=\"G\",'Skills explications FTEM'!T4,'Skills explications FTEM'!G4)","v":"Identification au rôle, relation au cammarades (social, intégration)"},null,null,{"$f":"IF($H$2=\"G\",'Skills explications FTEM'!W4,'Skills explications FTEM'!J4)","v":0},null,null,null,{"$f":"IFERROR(AVERAGE(O13:O14),\"-\")","v":"-"},null,{"$f":"IFERROR(AVERAGE(Q13:Q14),\"-\")","v":"-"},null,{"$f":"IFERROR(AVERAGE(S13:S14),\"-\")","v":"-"},null,{"$f":"IFERROR(AVERAGE(U13:U14),\"-\")","v":"-"},null,{"$f":"IFERROR(AVERAGE(W13:W14),\"-\")","v":"-"},null,{"$f":"IFERROR(AVERAGE(Y13:Y14),\"-\")","v":"-"}]
[{"$f":"'Skills explications FTEM'!A5:C5","v":0},null,null,{"$f":"IF($H$2=\"G\",'Skills explications FTEM'!Q5,'Skills explications FTEM'!D5)","v":"LEADERSHIP"},null,null,{"$f":"IF($H$2=\"G\",'Skills explications FTEM'!T5,'Skills explications FTEM'!G5)","v":"prend des responsabilités, rend son coéquipier meilleur"},null,null,{"$f":"IF($H$2=\"G\",'Skills explications FTEM'!W5,'Skills explications FTEM'!J5)","v":0}]
[{"$f":"'Skills explications FTEM'!A6:C6","v":"ON ICE"},null,null,"CAPACITE",null,null,"OBSERVATION",null,null,null,null,null,null,"Date1",null,"Date2",null,"Date3",null,"Date4",null,"Date5",null,"Player",null,"BUT","MESURES:\nSPECIFIQUE, MESURABLES, REALISTE",null,null,null,null,null,null,"DELAI","CONTRÔLE DU BUT","Date"]
[{"$f":"'Skills explications FTEM'!A7:C7","v":"SKILL"},null,null,{"$f":"IF($H$2=\"G\",'Skills explications FTEM'!Q7,'Skills explications FTEM'!D7)","v":"TIR  (EFFET)"},null,null,{"$f":"IF($H$2=\"G\",'Skills explications FTEM'!T7,'Skills explications FTEM'!G7)","v":"Efficience (pas d'espace et de temps), variantes, degré de surprise (déclenchement rapide), précision, puissance (conclusion tactique)"},null,null,{"$f":"IF($H$2=\"G\",'Skills explications FTEM'!W7,'Skills explications FTEM'!J7)","v":0},null,null,null,{"$f":"IFERROR(AVERAGE(O16:O19),\"-\")","v":"-"},null,{"$f":"IFERROR(AVERAGE(Q16:Q19),\"-\")","v":"-"},null,{"$f":"IFERROR(AVERAGE(S16:S19),\"-\")","v":"-"},null,{"$f":"IFERROR(AVERAGE(U16:U19),\"-\")","v":"-"},null,{"$f":"IFERROR(AVERAGE(W16:W19),\"-\")","v":"-"},null,{"$f":"IFERROR(AVERAGE(Y16:Y19),\"-\")","v":"-"}]
[{"$f":"'Skills explications FTEM'!A8:C8","v":0},null,null,{"$f":"IF($H$2=\"G\",'Skills explications FTEM'!Q8,'Skills explications FTEM'!D8)","v":"PASSER"},null,null,{"$f":"IF($H$2=\"G\",'Skills explications FTEM'!T8,'Skills explications FTEM'!G8)","v":"Donne la passe (distance, passe flipée en revers), réception de la passe (précision, timing, coup droit, revers, patins), vitesse du puck"},null,null,{"$f":"IF($H$2=\"G\",'Skills explications FTEM'!W8,'Skills explications FTEM'!J8)","v":0}]
[{"$f":"'Skills explications FTEM'!A9:C9","v":0},null,null,{"$f":"IF($H$2=\"G\",'Skills explications FTEM'!Q9,'Skills explications FTEM'!D9)","v":"JEU DU CORPS"},null,null,{"$f":"IF($H$2=\"G\",'Skills explications FTEM'!T9,'Skills explications FTEM'!G9)","v":"Faculté de s'imposer physiquement, duels (sur la surface de glace ou à la bande), prendre des checks, lever la tête, niveau de lutte, dur mais correct, bloquer les tirs avec le corps"},null,null,{"$f":"IF($H$2=\"G\",'Skills explications FTEM'!W9,'Skills explications FTEM'!J9)","v":0},null,null,null,{"$f":"IFERROR(AVERAGE(O18:O19),\"-\")","v":"-"},null,{"$f":"IFERROR(AVERAGE(Q18:Q19),\"-\")","v":"-"},null,{"$f":"IFERROR(AVERAGE(S18:S19),\"-\")","v":"-"},null,{"$f":"IFERROR(AVERAGE(U18:U19),\"-\")","v":"-"},null,{"$f":"IFERROR(AVERAGE(W18:W19),\"-\")","v":"-"},null,"-"]
[{"$f":"'Skills explications FTEM'!A10:C10","v":0},null,null,{"$f":"IF($H$2=\"G\",'Skills explications FTEM'!Q10,'Skills explications FTEM'!D10)","v":"CONTRÔLE DU PUCK"},null,null,{"$f":"IF($H$2=\"G\",'Skills explications FTEM'!T10,'Skills explications FTEM'!G10)","v":"Contrôle du puck, dribbling, protection du puck, feintes (variantes: avec les patins ou avec et sans la bande), mise au jeu (bully)"},null,null,{"$f":"IF($H$2=\"G\",'Skills explications FTEM'!W10,'Skills explications FTEM'!J10)","v":0}]
[{"$f":"'Skills explications FTEM'!A11:C11","v":"SKATING"},null,null,{"$f":"IF($H$2=\"G\",'Skills explications FTEM'!Q11,'Skills explications FTEM'!D11)","v":"FOOTSPEED"},null,null,{"$f":"IF($H$2=\"G\",'Skills explications FTEM'!T11,'Skills explications FTEM'!G11)","v":"Accélération, départ, explosivité des 3 premiers pas, fréquence"},null,null,{"$f":"IF($H$2=\"G\",'Skills explications FTEM'!W11,'Skills explications FTEM'!J11)","v":0},null,null,null,{"$f":"IFERROR(AVERAGE(O20:O23),\"-\")","v":"-"},null,{"$f":"IFERROR(AVERAGE(Q20:Q23),\"-\")","v":"-"},null,{"$f":"IFERROR(AVERAGE(S20:S23),\"-\")","v":"-"},null,{"$f":"IFERROR(AVERAGE(U20:U23),\"-\")","v":"-"},null,{"$f":"IFERROR(AVERAGE(W20:W23),\"-\")","v":"-"},null,{"$f":"IFERROR(AVERAGE(Y20:Y23),\"-\")","v":"-"}]
[{"$f":"'Skills explications FTEM'!A12:C12","v":0},null,null,{"$f":"IF($H$2=\"G\",'Skills explications FTEM'!Q12,'Skills explications FTEM'!D12)","v":"MOBILITE"},null,null,{"$f":"IF($H$2=\"G\",'Skills explications FTEM'!T12,'Skills explications FTEM'!G12)","v":"Changements de direction, pivots, stop et start «Nummelin»"},null,null,{"$f":"IF($H$2=\"G\",'Skills explications FTEM'!W12,'Skills explications FTEM'!J12)","v":0}]
[{"$f":"'Skills explications FTEM'!A13:C13","v":0},null,null,{"$f":"IF($H$2=\"G\",'Skills explications FTEM'!Q13,'Skills explications FTEM'!D13)","v":"PATTINAGE ARRIÈRE"},null,null,{"$f":"IF($H$2=\"G\",'Skills explications FTEM'!T13,'Skills explications FTEM'!G13)","v":"Accélération, vitesse, équilibre"},null,null,{"$f":"IF($H$2=\"G\",'Skills explications FTEM'!W13,'Skills explications FTEM'!J13)","v":0}]
[{"$f":"'Skills explications FTEM'!A14:C14","v":0},null,null,{"$f":"IF($H$2=\"G\",'Skills explications FTEM'!Q14,'Skills explications FTEM'!D14)","v":"TOP SPEED"},null,null,{"$f":"IF($H$2=\"G\",'Skills explications FTEM'!T14,'Skills explications FTEM'!G14)","v":"Vitesse, faculté de glisse, avant et arrière, économie des forces"},null,null,{"$f":"IF($H$2=\"G\",'Skills explications FTEM'!W14,'Skills explications FTEM'!J14)","v":0}]
[{"$f":"'Skills explications FTEM'!A15:C15","v":"HOCKEY SENSE"},null,null,{"$f":"IF($H$2=\"G\",'Skills explications FTEM'!Q15,'Skills explications FTEM'!D15)","v":"SCORING"},null,null,{"$f":"IF($H$2=\"G\",'Skills explications FTEM'!T15,'Skills explications FTEM'!G15)","v":"Efficience, richesse des variantes, surpenant, vite, variante de tirs"},null,null,{"$f":"IF($H$2=\"G\",'Skills explications FTEM'!W15,'Skills explications FTEM'!J15)","v":0},null,null,null,{"$f":"IFERROR(AVERAGE(O24:O27),\"-\")","v":"-"},null,{"$f":"IFERROR(AVERAGE(Q24:Q27),\"-\")","v":"-"},null,{"$f":"IFERROR(AVERAGE(S24:S27),\"-\")","v":"-"},null,{"$f":"IFERROR(AVERAGE(U24:U27),\"-\")","v":"-"},null,{"$f":"IFERROR(AVERAGE(W24:W27),\"-\")","v":"-"},null,{"$f":"IFERROR(AVERAGE(Y24:Y27),\"-\")","v":"-"}]
[{"$f":"'Skills explications FTEM'!A16:C16","v":0},null,null,{"$f":"IF($H$2=\"G\",'Skills explications FTEM'!Q16,'Skills explications FTEM'!D16)","v":"AVEC PUCK"},null,null,{"$f":"IF($H$2=\"G\",'Skills explications FTEM'!T16,'Skills explications FTEM'!G16)","v":"créatif,  performing, batteling, fou, transition"},null,null,{"$f":"IF($H$2=\"G\",'Skills explications FTEM'!W16,'Skills explications FTEM'!J16)","v":0}]
[{"$f":"'Skills explications FTEM'!A17:C17","v":0},null,null,{"$f":"IF($H$2=\"G\",'Skills explications FTEM'!Q17,'Skills explications FTEM'!D17)","v":"SANS PUCK"},null,null,{"$f":"IF($H$2=\"G\",'Skills explications FTEM'!T17,'Skills explications FTEM'!G17)","v":"ouvert pour un passe (Support), 1:1, Gap"},null,null,{"$f":"IF($H$2=\"G\",'Skills explications FTEM'!W17,'Skills explications FTEM'!J17)","v":0}]
[{"$f":"'Skills explications FTEM'!A18:C18","v":0},null,null,{"$f":"IF($H$2=\"G\",'Skills explications FTEM'!Q18,'Skills explications FTEM'!D18)","v":"DEFENSIF"},null,null,{"$f":"IF($H$2=\"G\",'Skills explications FTEM'!T18,'Skills explications FTEM'!G18)","v":"on peut compter dessus,  1:1, Gap, identification de l'homme"},null,null,{"$f":"IF($H$2=\"G\",'Skills explications FTEM'!W18,'Skills explications FTEM'!J18)","v":0}]
[{"$f":"'Skills explications FTEM'!A19:C19","v":"PERSONALITY"},null,null,"CAPACITE",null,null,"OBSERVATION",null,null,null,null,null,null,"Date1",null,"Date2",null,"Date3",null,"Date4",null,"Date5",null,"Player",null,"BUT","MESURES:\nSPECIFIQUE, MESURABLES, REALISTE",null,null,null,null,null,null,"DELAI","CONTRÔLE DU BUT","Date"]
[{"$f":"'Skills explications FTEM'!A20:C20","v":"PERSONALITÉ"},null,null,{"$f":"IF($H$2=\"G\",'Skills explications FTEM'!Q20,'Skills explications FTEM'!D20)","v":"MOTIVATION"},null,null,{"$f":"IF($H$2=\"G\",'Skills explications FTEM'!T20,'Skills explications FTEM'!G20)","v":"Est toujours motivé, veut sans cesse se développer et apprendre, veut être le premier et avoir du succès, n'abandonne jamais et ne se laisse pas influencer par les échecs"},null,null,{"$f":"IF($H$2=\"G\",'Skills explications FTEM'!W20,'Skills explications FTEM'!J20)","v":0},null,null,null,{"$f":"IFERROR(AVERAGE(O29:O32),\"-\")","v":"-"},null,null,null,{"$f":"IFERROR(AVERAGE(S29:S32),\"-\")","v":"-"},null,{"$f":"IFERROR(AVERAGE(U29:U32),\"-\")","v":"-"},null,{"$f":"IFERROR(AVERAGE(W29:W32),\"-\")","v":"-"},null,{"$f":"IFERROR(AVERAGE(Y29:Y32),\"-\")","v":"-"}]
[{"$f":"'Skills explications FTEM'!A21:C21","v":0},null,null,{"$f":"IF($H$2=\"G\",'Skills explications FTEM'!Q21,'Skills explications FTEM'!D21)","v":"CONFIENCE EN SOI"},null,null,{"$f":"IF($H$2=\"G\",'Skills explications FTEM'!T21,'Skills explications FTEM'!G21)","v":"Est en confiance, «I can do it», peut estimer ses capacités (connaît ses qualités et ses défauts), peut réaliser ses qualités avec constance, est courageux et prend des risques calculés"},null,null,{"$f":"IF($H$2=\"G\",'Skills explications FTEM'!W21,'Skills explications FTEM'!J21)","v":0}]
[{"$f":"'Skills explications FTEM'!A22:C22","v":0},null,null,{"$f":"IF($H$2=\"G\",'Skills explications FTEM'!Q22,'Skills explications FTEM'!D22)","v":"FACULTÉES D'APPRENTISSAGE"},null,null,{"$f":"IF($H$2=\"G\",'Skills explications FTEM'!T22,'Skills explications FTEM'!G22)","v":"A une bonne perception (il peut mémoriser et peut réaliser), il a de la personnalité, essaie d'apprendre de ses erreurs et est entreprenant"},null,null,{"$f":"IF($H$2=\"G\",'Skills explications FTEM'!W22,'Skills explications FTEM'!J22)","v":0}]
[{"$f":"'Skills explications FTEM'!A23:C23","v":0},null,null,{"$f":"IF($H$2=\"G\",'Skills explications FTEM'!Q23,'Skills explications FTEM'!D23)","v":"PERFORMANCE, STYLE DE VIE"},null,null,{"$f":"IF($H$2=\"G\",'Skills explications FTEM'!T23,'Skills explications FTEM'!G23)","v":"Gère bien son environnement et son temps libre selon les principes de la performance, obstiné, tenace et axé sur l'objectif, accent sur sa propre performance, est courageux et peut s'imposer contre de la résistance, les défis le motivent"},null,null,{"$f":"IF($H$2=\"G\",'Skills explications FTEM'!W23,'Skills explications FTEM'!J23)","v":0}]
[{"$f":"'Skills explications FTEM'!A24:C24","v":"POWER MENTAL"},null,null,{"$f":"IF($H$2=\"G\",'Skills explications FTEM'!Q24,'Skills explications FTEM'!D24)","v":"GESTION DES ÉNERGIES"},null,null,{"$f":"IF($H$2=\"G\",'Skills explications FTEM'!T24,'Skills explications FTEM'!G24)","v":"Peut-il gérer ses propres énergies, prend-il soin de sa régénération, peut-il gérer les moments où il faut se donner à fond ou quand il faut déconnecter, bouton On/Off"},null,null,{"$f":"IF($H$2=\"G\",'Skills explications FTEM'!W24,'Skills explications FTEM'!J24)","v":0},null,null,null,{"$f":"IFERROR(AVERAGE(O33:O36),\"-\")","v":"-"},null,null,null,{"$f":"IFERROR(AVERAGE(S33:S36),\"-\")","v":"-"},null,{"$f":"IFERROR(AVERAGE(U33:U36),\"-\")","v":"-"},null,{"$f":"IFERROR(AVERAGE(W33:W36),\"-\")","v":"-"},null,{"$f":"IFERROR(AVERAGE(Y33:Y36),\"-\")","v":"-"}]
[{"$f":"'Skills explications FTEM'!A25:C25","v":0},null,null,{"$f":"IF($H$2=\"G\",'Skills explications FTEM'!Q25,'Skills explications FTEM'!D25)","v":"ENGAGEMENT"},null,null,{"$f":"IF($H$2=\"G\",'Skills explications FTEM'!T25,'Skills explications FTEM'!G25)","v":"Démontre beaucoup d'intensité dans les entraînements et les matchs, donne toujours son maximum et veut sans cesse repousser ses limites, a-t-il de la passion, s'efforce-t-il de s'entraîner avec une excellente qualité"},null,null,{"$f":"IF($H$2=\"G\",'Skills explications FTEM'!W25,'Skills explications FTEM'!J25)","v":0}]
[{"$f":"'Skills explications FTEM'!A26:C26","v":0},null,null,{"$f":"IF($H$2=\"G\",'Skills explications FTEM'!Q26,'Skills explications FTEM'!D26)","v":"CONTRÔLE DES ÉMOTIONS"},null,null,{"$f":"IF($H$2=\"G\",'Skills explications FTEM'!T26,'Skills explications FTEM'!G26)","v":"Peut-il gérer ses propres émotions et impulsions, reste-t-il sous contrôle lorsqu'il y a une grande pression, peut-il rester calme lorsque le niveau émotionnel et de frustration est élevé"},null,null,{"$f":"IF($H$2=\"G\",'Skills explications FTEM'!W26,'Skills explications FTEM'!J26)","v":0}]
[{"$f":"'Skills explications FTEM'!A27:C27","v":0},null,null,{"$f":"IF($H$2=\"G\",'Skills explications FTEM'!Q27,'Skills explications FTEM'!D27)","v":"PRÉPARATION"},null,null,{"$f":"IF($H$2=\"G\",'Skills explications FTEM'!T27,'Skills explications FTEM'!G27)","v":"Se prépare-t-il toujours bien, mentalement et physiquement, se prépare-t-il toujours bien pour obtenir le niveau de performance idéal (ILZ)"},null,null,{"$f":"IF($H$2=\"G\",'Skills explications FTEM'!W27,'Skills explications FTEM'!J27)","v":0}]
[{"$f":"'Skills explications FTEM'!A28:C28","v":"PYHSE (Athletik)"},null,null,{"$f":"IF($H$2=\"G\",'Skills explications FTEM'!Q28,'Skills explications FTEM'!D28)","v":"PRODUCTION DE LA PERFORMANCE"},null,null,{"$f":"IF($H$2=\"G\",'Skills explications FTEM'!T28,'Skills explications FTEM'!G28)","v":"A-t-il la puissance, la force, la vitesse nécessaires dans les jambes et le haut du corps (facteurs neuromusculaires)"},null,null,{"$f":"IF($H$2=\"G\",'Skills explications FTEM'!W28,'Skills explications FTEM'!J28)","v":0},null,null,null,{"$f":"IFERROR(AVERAGE(O37:O40),\"-\")","v":"-"},null,null,null,{"$f":"IFERROR(AVERAGE(S37:S40),\"-\")","v":"-"},null,{"$f":"IFERROR(AVERAGE(U37:U40),\"-\")","v":"-"},null,{"$f":"IFERROR(AVERAGE(W37:W40),\"-\")","v":"-"},null,{"$f":"IFERROR(AVERAGE(Y37:Y40),\"-\")","v":"-"}]
[{"$f":"'Skills explications FTEM'!A29:C29","v":0},null,null,{"$f":"IF($H$2=\"G\",'Skills explications FTEM'!Q29,'Skills explications FTEM'!D29)","v":"SPÉCIFIQUE AU SPORT, RÉSISTANT À L'EFFORT"},null,null,{"$f":"IF($H$2=\"G\",'Skills explications FTEM'!T29,'Skills explications FTEM'!G29)","v":"Est-il capable de maintenir sa puissance, sa force, sa vitesse durant un long temps de glace et peut-il récupérer complètement entre ses engagements (facteurs du métabolisme et cardiovasculaire)"},null,null,{"$f":"IF($H$2=\"G\",'Skills explications FTEM'!W29,'Skills explications FTEM'!J29)","v":0}]
[{"$f":"'Skills explications FTEM'!A30:C30","v":0},null,null,{"$f":"IF($H$2=\"G\",'Skills explications FTEM'!Q30,'Skills explications FTEM'!D30)","v":"MOBILITÉ/ COODINATION"},null,null,{"$f":"IF($H$2=\"G\",'Skills explications FTEM'!T30,'Skills explications FTEM'!G30)","v":"Gère-t-il ses aptitudes de mouvements de base, qui sont un fournisseur important des fonctions spécifiques «Skills» pour être efficace"},null,null,{"$f":"IF($H$2=\"G\",'Skills explications FTEM'!W30,'Skills explications FTEM'!J30)","v":0}]
[{"$f":"'Skills explications FTEM'!A31:C31","v":0},null,null,{"$f":"IF($H$2=\"G\",'Skills explications FTEM'!Q31,'Skills explications FTEM'!D31)","v":"ROBUSTESSE / PREVENTION"},null,null,{"$f":"IF($H$2=\"G\",'Skills explications FTEM'!T31,'Skills explications FTEM'!G31)","v":"A-t-il la force de base nécessaire (tension corporelle) pour gagner des duels et résister aux charges, A-t-il la stabilité nécessaire (ex. ses appuis) et la mobilité nécessaire au niveau des articulations centrales"},null,null,{"$f":"IF($H$2=\"G\",'Skills explications FTEM'!W31,'Skills explications FTEM'!J31)","v":0}]

{"sheet":"12","index":15,"n_rows":40,"n_cols":36,"rows_kept":40,"cut":false,"hidden":false,"merged":[[36,25,39,25],[36,26,39,32],[36,34,39,34],[32,23,35,23],[33,3,33,5],[33,6,33,11],[35,3,35,5],[35,6,35,11],[32,0,35,2],[32,3,32,5],[32,6,32,11],[32,12,35,12],[32,13,35,13],[32,15,35,15],[36,0,39,2],[36,3,36,5],[36,6,36,11],[36,12,39,12],[36,23,39,23],[37,3,37,5],[37,6,37,11],[38,3,38,5],[38,6,38,11],[39,3,39,5],[27,21,27,22],[28,17,31,17],[28,19,31,19],[28,21,31,21],[29,3,29,5],[29,6,29,11],[30,3,30,5],[30,6,30,11],[32,17,35,17],[32,19,35,19],[32,21,35,21],[34,3,34,5],[34,6,34,11],[23,0,26,2],[23,3,23,5],[23,6,23,11],[23,12,26,12],[23,13,26,13],[23,15,26,15],[27,23,27,24],[27,26,27,32],[28,0,31,2],[28,3,28,5],[28,6,28,11],[28,12,31,12],[28,13,31,13],[28,15,31,15],[31,3,31,5],[31,6,31,11],[28,23,31,23],[27,0,27,2],[27,3,27,5],[27,6,27,11],[27,13,27,14],[27,15,27,16],[27,17,27,18],[27,19,27,20],[19,21,22,21],[19,23,22,23],[20,3,20,5],[20,6,20,11],[22,3,22,5],[22,6,22,11],[26,3,26,5],[26,6,26,11],[23,23,26,23],[23,17,26,17],[23,19,26,19],[23,21,26,21],[24,3,24,5],[24,6,24,11],[25,3,25,5],[25,6,25,11],[21,3,21,5],[21,6,21,11],[15,15,18,15],[15,17,18,17],[15,19,18,19],[15,21,18,21],[15,23,18,23],[18,3,18,5],[18,6,18,11],[19,0,22,2],[19,3,19,5],[19,6,19,11],[19,12,22,12],[19,13,22,13],[19,15,22,15],[19,17,22,17],[15,0,18,2],[15,3,15,5],[15,6,15,11],[15,12,18,12],[15,13,18,13],[16,3,16,5],[16,6,16,11],[17,3,17,5],[17,6,17,11],[19,19,22,19],[12,23,13,23],[13,3,13,5],[13,6,13,11],[14,0,14,2],[14,3,14,5],[14,6,14,11],[14,13,14,14],[14,15,14,16],[14,17,14,18],[14,19,14,20],[14,21,14,22],[14,23,14,24],[12,0,13,2],[12,3,12,5],[12,6,12,11],[12,12,13,12],[12,13,13,13],[12,15,13,15],[12,17,13,17],[12,19,13,19],[12,21,13,21],[11,0,11,2],[11,3,11,5],[11,13,11,14],[11,15,11,16],[11,17,11,18],[11,19,11,20],[11,21,11,22],[11,23,11,24],[11,26,11,32],[11,6,11,11],[0,33,0,35],[23,25,26,25],[23,26,26,32],[23,34,26,34],[28,25,31,25],[28,26,31,32],[28,34,31,34],[1,0,1,1],[1,2,1,5],[1,10,1,24],[2,0,2,1],[2,2,2,5],[2,11,2,24],[6,0,6,1],[6,2,6,35],[7,0,7,1],[7,2,7,35],[8,0,8,1],[8,2,8,35],[3,0,3,1],[3,10,3,24],[4,0,4,1],[4,2,4,5],[4,10,4,24],[39,6,39,11],[36,13,39,13],[36,15,39,15],[36,17,39,17],[36,19,39,19],[36,21,39,21],[0,0,0,24],[0,25,0,26],[0,27,0,32],[10,0,10,24],[10,25,10,35],[32,25,35,25],[32,26,35,32],[32,34,35,34],[12,25,13,25],[12,26,13,32],[12,34,13,34],[15,25,18,25],[15,26,18,32],[15,34,18,34],[19,25,22,25],[19,26,22,32],[19,34,22,34],[14,26,14,32]]}
["Infos personelles",null,null,null,null,null,null,null,null,null,null,null,null,null,null,null,null,null,null,null,null,null,null,null,null,"Predispositions",null,"Evaluations",null,null,null,null,null,"Rating"]
["PRENOM",null,{"$f":"IF(ISBLANK(VLOOKUP(12,Tabelle3[],3,0)),\"-\",VLOOKUP(12,Tabelle3[],3,0))","v":"-"},null,null,null,"POSITION",null,null,"ADRESSE",{"$f":"IF(ISBLANK(VLOOKUP(12,Tabelle3[],5,0)),\"-\",VLOOKUP(12,Tabelle3[],5,0))","v":"-"},null,null,null,null,null,null,null,null,null,null,null,null,null,null,"\"àage\" (Biologique/age relatif)",null,"Date 1",null,null,"cm",null,"Kg",null,"AUSGEZEICHNET",5]
["NOM",null,{"$f":"IF(ISBLANK(VLOOKUP(12,Tabelle3[],2,0)),\"-\",VLOOKUP(12,Tabelle3[],2,0))","v":"-"},null,null,null,"CANNE",null,null,"LIEU",{"$f":"IF(ISBLANK(VLOOKUP(12,Tabelle3[],7,0)),\"-\",VLOOKUP(12,Tabelle3[],7,0))","v":"-"},{"$f":"IF(ISBLANK(VLOOKUP(12,Tabelle3[],6,0)),\"-\",VLOOKUP(12,Tabelle3[],6,0))","v":"-"},null,null,null,null,null,null,null,null,null,null,null,null,null,"predispositions",null,"Date 2",null,null,"cm",null,"Kg",null,"GUT",4]
["DATE NAISS.",null,{"$f":"IF(ISBLANK(VLOOKUP(12,Tabelle3[],14,0)),\"-\",VLOOKUP(12,Tabelle3[],14,0))","v":"-"},{"$f":"IF(ISBLANK(VLOOKUP(12,Tabelle3[],15,0)),\"-\",VLOOKUP(12,Tabelle3[],15,0))","v":"-"},{"$f":"IF(ISBLANK(VLOOKUP(12,Tabelle3[],16,0)),\"-\",VLOOKUP(12,Tabelle3[],16,0))","v":"-"},null,"GRANDEUR",null,"cm","PHONE",{"$f":"IF(ISBLANK(VLOOKUP(12,Tabelle3[],8,0)),\"-\",VLOOKUP(12,Tabelle3[],8,0))","v":"-"},null,null,null,null,null,null,null,null,null,null,null,null,null,null,"Entourage",null,"Date 3",null,null,"cm",null,"Kg",null,"DURCHSCHNITT",3]
["SEXE",null,{"$f":"IF(ISBLANK(VLOOKUP(12,Tabelle3[],13,0)),\"-\",VLOOKUP(12,Tabelle3[],13,0))","v":"-"},null,null,null,"POIDS",null,"Kg","E-Mail",{"$f":"IF(ISBLANK(VLOOKUP(12,Tabelle3[],9,0)),\"-\",VLOOKUP(12,Tabelle3[],9,0))","v":"-"},null,null,null,null,null,null,null,null,null,null,null,null,null,null,null,null,"Date 4",null,null,"cm",null,"Kg",null,"MANGELHAFT",2]
[null,null,null,null,null,null,null,null,null,null,null,null,null,null,null,null,null,null,null,null,null,null,null,null,null,null,null,"Date 5",null,null,"cm",null,"Kg",null,"UNGENÜGEND",1]
["Vision",null,"xxx"]
["Next step",null,"xxx"]
["Profil du Joueur",null,"xxx"]
[]
["EVALUATION (COACH / JOUEUR)",null,null,null,null,null,null,null,null,null,null,null,null,null,null,null,null,null,null,null,null,null,null,null,null,"SMART"]
[{"$f":"'Skills explications FTEM'!A3:C3","v":"TEAM"},null,null,"CAPACITE",null,null,"OBSERVATION",null,null,null,null,null,"Final","Date1",null,"Date2",null,"Date3",null,"Date4",null,"Date5",null,"Player",null,"BUT","MESURES:\nSPECIFIQUE, MESURABLES, REALISTE",null,null,null,null,null,null,"DELAI","CONTRÔLE DU BUT","Date"]
[{"$f":"'Skills explications FTEM'!A4:C4","v":"ROLLE, SOZIAL"},null,null,{"$f":"IF($H$2=\"G\",'Skills explications FTEM'!Q4,'Skills explications FTEM'!D4)","v":"PENSER EQUIPE"},null,null,{"$f":"IF($H$2=\"G\",'Skills explications FTEM'!T4,'Skills explications FTEM'!G4)","v":"Identification au rôle, relation au cammarades (social, intégration)"},null,null,{"$f":"IF($H$2=\"G\",'Skills explications FTEM'!W4,'Skills explications FTEM'!J4)","v":0},null,null,null,{"$f":"IFERROR(AVERAGE(O13:O14),\"-\")","v":"-"},null,{"$f":"IFERROR(AVERAGE(Q13:Q14),\"-\")","v":"-"},null,{"$f":"IFERROR(AVERAGE(S13:S14),\"-\")","v":"-"},null,{"$f":"IFERROR(AVERAGE(U13:U14),\"-\")","v":"-"},null,{"$f":"IFERROR(AVERAGE(W13:W14),\"-\")","v":"-"},null,{"$f":"IFERROR(AVERAGE(Y13:Y14),\"-\")","v":"-"}]
[{"$f":"'Skills explications FTEM'!A5:C5","v":0},null,null,{"$f":"IF($H$2=\"G\",'Skills explications FTEM'!Q5,'Skills explications FTEM'!D5)","v":"LEADERSHIP"},null,null,{"$f":"IF($H$2=\"G\",'Skills explications FTEM'!T5,'Skills explications FTEM'!G5)","v":"prend des responsabilités, rend son coéquipier meilleur"},null,null,{"$f":"IF($H$2=\"G\",'Skills explications FTEM'!W5,'Skills explications FTEM'!J5)","v":0}]
[{"$f":"'Skills explications FTEM'!A6:C6","v":"ON ICE"},null,null,"CAPACITE",null,null,"OBSERVATION",null,null,null,null,null,null,"Date1",null,"Date2",null,"Date3",null,"Date4",null,"Date5",null,"Player",null,"BUT","MESURES:\nSPECIFIQUE, MESURABLES, REALISTE",null,null,null,null,null,null,"DELAI","CONTRÔLE DU BUT","Date"]
[{"$f":"'Skills explications FTEM'!A7:C7","v":"SKILL"},null,null,{"$f":"IF($H$2=\"G\",'Skills explications FTEM'!Q7,'Skills explications FTEM'!D7)","v":"TIR  (EFFET)"},null,null,{"$f":"IF($H$2=\"G\",'Skills explications FTEM'!T7,'Skills explications FTEM'!G7)","v":"Efficience (pas d'espace et de temps), variantes, degré de surprise (déclenchement rapide), précision, puissance (conclusion tactique)"},null,null,{"$f":"IF($H$2=\"G\",'Skills explications FTEM'!W7,'Skills explications FTEM'!J7)","v":0},null,null,null,{"$f":"IFERROR(AVERAGE(O16:O19),\"-\")","v":"-"},null,{"$f":"IFERROR(AVERAGE(Q16:Q19),\"-\")","v":"-"},null,{"$f":"IFERROR(AVERAGE(S16:S19),\"-\")","v":"-"},null,{"$f":"IFERROR(AVERAGE(U16:U19),\"-\")","v":"-"},null,{"$f":"IFERROR(AVERAGE(W16:W19),\"-\")","v":"-"},null,{"$f":"IFERROR(AVERAGE(Y16:Y19),\"-\")","v":"-"}]
[{"$f":"'Skills explications FTEM'!A8:C8","v":0},null,null,{"$f":"IF($H$2=\"G\",'Skills explications FTEM'!Q8,'Skills explications FTEM'!D8)","v":"PASSER"},null,null,{"$f":"IF($H$2=\"G\",'Skills explications FTEM'!T8,'Skills explications FTEM'!G8)","v":"Donne la passe (distance, passe flipée en revers), réception de la passe (précision, timing, coup droit, revers, patins), vitesse du puck"},null,null,{"$f":"IF($H$2=\"G\",'Skills explications FTEM'!W8,'Skills explications FTEM'!J8)","v":0}]
[{"$f":"'Skills explications FTEM'!A9:C9","v":0},null,null,{"$f":"IF($H$2=\"G\",'Skills explications FTEM'!Q9,'Skills explications FTEM'!D9)","v":"JEU DU CORPS"},null,null,{"$f":"IF($H$2=\"G\",'Skills explications FTEM'!T9,'Skills explications FTEM'!G9)","v":"Faculté de s'imposer physiquement, duels (sur la surface de glace ou à la bande), prendre des checks, lever la tête, niveau de lutte, dur mais correct, bloquer les tirs avec le corps"},null,null,{"$f":"IF($H$2=\"G\",'Skills explications FTEM'!W9,'Skills explications FTEM'!J9)","v":0},null,null,null,{"$f":"IFERROR(AVERAGE(O18:O19),\"-\")","v":"-"},null,{"$f":"IFERROR(AVERAGE(Q18:Q19),\"-\")","v":"-"},null,{"$f":"IFERROR(AVERAGE(S18:S19),\"-\")","v":"-"},null,{"$f":"IFERROR(AVERAGE(U18:U19),\"-\")","v":"-"},null,{"$f":"IFERROR(AVERAGE(W18:W19),\"-\")","v":"-"},null,"-"]
[{"$f":"'Skills explications FTEM'!A10:C10","v":0},null,null,{"$f":"IF($H$2=\"G\",'Skills explications FTEM'!Q10,'Skills explications FTEM'!D10)","v":"CONTRÔLE DU PUCK"},null,null,{"$f":"IF($H$2=\"G\",'Skills explications FTEM'!T10,'Skills explications FTEM'!G10)","v":"Contrôle du puck, dribbling, protection du puck, feintes (variantes: avec les patins ou avec et sans la bande), mise au jeu (bully)"},null,null,{"$f":"IF($H$2=\"G\",'Skills explications FTEM'!W10,'Skills explications FTEM'!J10)","v":0}]
[{"$f":"'Skills explications FTEM'!A11:C11","v":"SKATING"},null,null,{"$f":"IF($H$2=\"G\",'Skills explications FTEM'!Q11,'Skills explications FTEM'!D11)","v":"FOOTSPEED"},null,null,{"$f":"IF($H$2=\"G\",'Skills explications FTEM'!T11,'Skills explications FTEM'!G11)","v":"Accélération, départ, explosivité des 3 premiers pas, fréquence"},null,null,{"$f":"IF($H$2=\"G\",'Skills explications FTEM'!W11,'Skills explications FTEM'!J11)","v":0},null,null,null,{"$f":"IFERROR(AVERAGE(O20:O23),\"-\")","v":"-"},null,{"$f":"IFERROR(AVERAGE(Q20:Q23),\"-\")","v":"-"},null,{"$f":"IFERROR(AVERAGE(S20:S23),\"-\")","v":"-"},null,{"$f":"IFERROR(AVERAGE(U20:U23),\"-\")","v":"-"},null,{"$f":"IFERROR(AVERAGE(W20:W23),\"-\")","v":"-"},null,{"$f":"IFERROR(AVERAGE(Y20:Y23),\"-\")","v":"-"}]
[{"$f":"'Skills explications FTEM'!A12:C12","v":0},null,null,{"$f":"IF($H$2=\"G\",'Skills explications FTEM'!Q12,'Skills explications FTEM'!D12)","v":"MOBILITE"},null,null,{"$f":"IF($H$2=\"G\",'Skills explications FTEM'!T12,'Skills explications FTEM'!G12)","v":"Changements de direction, pivots, stop et start «Nummelin»"},null,null,{"$f":"IF($H$2=\"G\",'Skills explications FTEM'!W12,'Skills explications FTEM'!J12)","v":0}]
[{"$f":"'Skills explications FTEM'!A13:C13","v":0},null,null,{"$f":"IF($H$2=\"G\",'Skills explications FTEM'!Q13,'Skills explications FTEM'!D13)","v":"PATTINAGE ARRIÈRE"},null,null,{"$f":"IF($H$2=\"G\",'Skills explications FTEM'!T13,'Skills explications FTEM'!G13)","v":"Accélération, vitesse, équilibre"},null,null,{"$f":"IF($H$2=\"G\",'Skills explications FTEM'!W13,'Skills explications FTEM'!J13)","v":0}]
[{"$f":"'Skills explications FTEM'!A14:C14","v":0},null,null,{"$f":"IF($H$2=\"G\",'Skills explications FTEM'!Q14,'Skills explications FTEM'!D14)","v":"TOP SPEED"},null,null,{"$f":"IF($H$2=\"G\",'Skills explications FTEM'!T14,'Skills explications FTEM'!G14)","v":"Vitesse, faculté de glisse, avant et arrière, économie des forces"},null,null,{"$f":"IF($H$2=\"G\",'Skills explications FTEM'!W14,'Skills explications FTEM'!J14)","v":0}]
[{"$f":"'Skills explications FTEM'!A15:C15","v":"HOCKEY SENSE"},null,null,{"$f":"IF($H$2=\"G\",'Skills explications FTEM'!Q15,'Skills explications FTEM'!D15)","v":"SCORING"},null,null,{"$f":"IF($H$2=\"G\",'Skills explications FTEM'!T15,'Skills explications FTEM'!G15)","v":"Efficience, richesse des variantes, surpenant, vite, variante de tirs"},null,null,{"$f":"IF($H$2=\"G\",'Skills explications FTEM'!W15,'Skills explications FTEM'!J15)","v":0},null,null,null,{"$f":"IFERROR(AVERAGE(O24:O27),\"-\")","v":"-"},null,{"$f":"IFERROR(AVERAGE(Q24:Q27),\"-\")","v":"-"},null,{"$f":"IFERROR(AVERAGE(S24:S27),\"-\")","v":"-"},null,{"$f":"IFERROR(AVERAGE(U24:U27),\"-\")","v":"-"},null,{"$f":"IFERROR(AVERAGE(W24:W27),\"-\")","v":"-"},null,{"$f":"IFERROR(AVERAGE(Y24:Y27),\"-\")","v":"-"}]
[{"$f":"'Skills explications FTEM'!A16:C16","v":0},null,null,{"$f":"IF($H$2=\"G\",'Skills explications FTEM'!Q16,'Skills explications FTEM'!D16)","v":"AVEC PUCK"},null,null,{"$f":"IF($H$2=\"G\",'Skills explications FTEM'!T16,'Skills explications FTEM'!G16)","v":"créatif,  performing, batteling, fou, transition"},null,null,{"$f":"IF($H$2=\"G\",'Skills explications FTEM'!W16,'Skills explications FTEM'!J16)","v":0}]
[{"$f":"'Skills explications FTEM'!A17:C17","v":0},null,null,{"$f":"IF($H$2=\"G\",'Skills explications FTEM'!Q17,'Skills explications FTEM'!D17)","v":"SANS PUCK"},null,null,{"$f":"IF($H$2=\"G\",'Skills explications FTEM'!T17,'Skills explications FTEM'!G17)","v":"ouvert pour un passe (Support), 1:1, Gap"},null,null,{"$f":"IF($H$2=\"G\",'Skills explications FTEM'!W17,'Skills explications FTEM'!J17)","v":0}]
[{"$f":"'Skills explications FTEM'!A18:C18","v":0},null,null,{"$f":"IF($H$2=\"G\",'Skills explications FTEM'!Q18,'Skills explications FTEM'!D18)","v":"DEFENSIF"},null,null,{"$f":"IF($H$2=\"G\",'Skills explications FTEM'!T18,'Skills explications FTEM'!G18)","v":"on peut compter dessus,  1:1, Gap, identification de l'homme"},null,null,{"$f":"IF($H$2=\"G\",'Skills explications FTEM'!W18,'Skills explications FTEM'!J18)","v":0}]
[{"$f":"'Skills explications FTEM'!A19:C19","v":"PERSONALITY"},null,null,"CAPACITE",null,null,"OBSERVATION",null,null,null,null,null,null,"Date1",null,"Date2",null,"Date3",null,"Date4",null,"Date5",null,"Player",null,"BUT","MESURES:\nSPECIFIQUE, MESURABLES, REALISTE",null,null,null,null,null,null,"DELAI","CONTRÔLE DU BUT","Date"]
[{"$f":"'Skills explications FTEM'!A20:C20","v":"PERSONALITÉ"},null,null,{"$f":"IF($H$2=\"G\",'Skills explications FTEM'!Q20,'Skills explications FTEM'!D20)","v":"MOTIVATION"},null,null,{"$f":"IF($H$2=\"G\",'Skills explications FTEM'!T20,'Skills explications FTEM'!G20)","v":"Est toujours motivé, veut sans cesse se développer et apprendre, veut être le premier et avoir du succès, n'abandonne jamais et ne se laisse pas influencer par les échecs"},null,null,{"$f":"IF($H$2=\"G\",'Skills explications FTEM'!W20,'Skills explications FTEM'!J20)","v":0},null,null,null,{"$f":"IFERROR(AVERAGE(O29:O32),\"-\")","v":"-"},null,null,null,{"$f":"IFERROR(AVERAGE(S29:S32),\"-\")","v":"-"},null,{"$f":"IFERROR(AVERAGE(U29:U32),\"-\")","v":"-"},null,{"$f":"IFERROR(AVERAGE(W29:W32),\"-\")","v":"-"},null,{"$f":"IFERROR(AVERAGE(Y29:Y32),\"-\")","v":"-"}]
[{"$f":"'Skills explications FTEM'!A21:C21","v":0},null,null,{"$f":"IF($H$2=\"G\",'Skills explications FTEM'!Q21,'Skills explications FTEM'!D21)","v":"CONFIENCE EN SOI"},null,null,{"$f":"IF($H$2=\"G\",'Skills explications FTEM'!T21,'Skills explications FTEM'!G21)","v":"Est en confiance, «I can do it», peut estimer ses capacités (connaît ses qualités et ses défauts), peut réaliser ses qualités avec constance, est courageux et prend des risques calculés"},null,null,{"$f":"IF($H$2=\"G\",'Skills explications FTEM'!W21,'Skills explications FTEM'!J21)","v":0}]
[{"$f":"'Skills explications FTEM'!A22:C22","v":0},null,null,{"$f":"IF($H$2=\"G\",'Skills explications FTEM'!Q22,'Skills explications FTEM'!D22)","v":"FACULTÉES D'APPRENTISSAGE"},null,null,{"$f":"IF($H$2=\"G\",'Skills explications FTEM'!T22,'Skills explications FTEM'!G22)","v":"A une bonne perception (il peut mémoriser et peut réaliser), il a de la personnalité, essaie d'apprendre de ses erreurs et est entreprenant"},null,null,{"$f":"IF($H$2=\"G\",'Skills explications FTEM'!W22,'Skills explications FTEM'!J22)","v":0}]
[{"$f":"'Skills explications FTEM'!A23:C23","v":0},null,null,{"$f":"IF($H$2=\"G\",'Skills explications FTEM'!Q23,'Skills explications FTEM'!D23)","v":"PERFORMANCE, STYLE DE VIE"},null,null,{"$f":"IF($H$2=\"G\",'Skills explications FTEM'!T23,'Skills explications FTEM'!G23)","v":"Gère bien son environnement et son temps libre selon les principes de la performance, obstiné, tenace et axé sur l'objectif, accent sur sa propre performance, est courageux et peut s'imposer contre de la résistance, les défis le motivent"},null,null,{"$f":"IF($H$2=\"G\",'Skills explications FTEM'!W23,'Skills explications FTEM'!J23)","v":0}]
[{"$f":"'Skills explications FTEM'!A24:C24","v":"POWER MENTAL"},null,null,{"$f":"IF($H$2=\"G\",'Skills explications FTEM'!Q24,'Skills explications FTEM'!D24)","v":"GESTION DES ÉNERGIES"},null,null,{"$f":"IF($H$2=\"G\",'Skills explications FTEM'!T24,'Skills explications FTEM'!G24)","v":"Peut-il gérer ses propres énergies, prend-il soin de sa régénération, peut-il gérer les moments où il faut se donner à fond ou quand il faut déconnecter, bouton On/Off"},null,null,{"$f":"IF($H$2=\"G\",'Skills explications FTEM'!W24,'Skills explications FTEM'!J24)","v":0},null,null,null,{"$f":"IFERROR(AVERAGE(O33:O36),\"-\")","v":"-"},null,null,null,{"$f":"IFERROR(AVERAGE(S33:S36),\"-\")","v":"-"},null,{"$f":"IFERROR(AVERAGE(U33:U36),\"-\")","v":"-"},null,{"$f":"IFERROR(AVERAGE(W33:W36),\"-\")","v":"-"},null,{"$f":"IFERROR(AVERAGE(Y33:Y36),\"-\")","v":"-"}]
[{"$f":"'Skills explications FTEM'!A25:C25","v":0},null,null,{"$f":"IF($H$2=\"G\",'Skills explications FTEM'!Q25,'Skills explications FTEM'!D25)","v":"ENGAGEMENT"},null,null,{"$f":"IF($H$2=\"G\",'Skills explications FTEM'!T25,'Skills explications FTEM'!G25)","v":"Démontre beaucoup d'intensité dans les entraînements et les matchs, donne toujours son maximum et veut sans cesse repousser ses limites, a-t-il de la passion, s'efforce-t-il de s'entraîner avec une excellente qualité"},null,null,{"$f":"IF($H$2=\"G\",'Skills explications FTEM'!W25,'Skills explications FTEM'!J25)","v":0}]
[{"$f":"'Skills explications FTEM'!A26:C26","v":0},null,null,{"$f":"IF($H$2=\"G\",'Skills explications FTEM'!Q26,'Skills explications FTEM'!D26)","v":"CONTRÔLE DES ÉMOTIONS"},null,null,{"$f":"IF($H$2=\"G\",'Skills explications FTEM'!T26,'Skills explications FTEM'!G26)","v":"Peut-il gérer ses propres émotions et impulsions, reste-t-il sous contrôle lorsqu'il y a une grande pression, peut-il rester calme lorsque le niveau émotionnel et de frustration est élevé"},null,null,{"$f":"IF($H$2=\"G\",'Skills explications FTEM'!W26,'Skills explications FTEM'!J26)","v":0}]
[{"$f":"'Skills explications FTEM'!A27:C27","v":0},null,null,{"$f":"IF($H$2=\"G\",'Skills explications FTEM'!Q27,'Skills explications FTEM'!D27)","v":"PRÉPARATION"},null,null,{"$f":"IF($H$2=\"G\",'Skills explications FTEM'!T27,'Skills explications FTEM'!G27)","v":"Se prépare-t-il toujours bien, mentalement et physiquement, se prépare-t-il toujours bien pour obtenir le niveau de performance idéal (ILZ)"},null,null,{"$f":"IF($H$2=\"G\",'Skills explications FTEM'!W27,'Skills explications FTEM'!J27)","v":0}]
[{"$f":"'Skills explications FTEM'!A28:C28","v":"PYHSE (Athletik)"},null,null,{"$f":"IF($H$2=\"G\",'Skills explications FTEM'!Q28,'Skills explications FTEM'!D28)","v":"PRODUCTION DE LA PERFORMANCE"},null,null,{"$f":"IF($H$2=\"G\",'Skills explications FTEM'!T28,'Skills explications FTEM'!G28)","v":"A-t-il la puissance, la force, la vitesse nécessaires dans les jambes et le haut du corps (facteurs neuromusculaires)"},null,null,{"$f":"IF($H$2=\"G\",'Skills explications FTEM'!W28,'Skills explications FTEM'!J28)","v":0},null,null,null,{"$f":"IFERROR(AVERAGE(O37:O40),\"-\")","v":"-"},null,null,null,{"$f":"IFERROR(AVERAGE(S37:S40),\"-\")","v":"-"},null,{"$f":"IFERROR(AVERAGE(U37:U40),\"-\")","v":"-"},null,{"$f":"IFERROR(AVERAGE(W37:W40),\"-\")","v":"-"},null,{"$f":"IFERROR(AVERAGE(Y37:Y40),\"-\")","v":"-"}]
[{"$f":"'Skills explications FTEM'!A29:C29","v":0},null,null,{"$f":"IF($H$2=\"G\",'Skills explications FTEM'!Q29,'Skills explications FTEM'!D29)","v":"SPÉCIFIQUE AU SPORT, RÉSISTANT À L'EFFORT"},null,null,{"$f":"IF($H$2=\"G\",'Skills explications FTEM'!T29,'Skills explications FTEM'!G29)","v":"Est-il capable de maintenir sa puissance, sa force, sa vitesse durant un long temps de glace et peut-il récupérer complètement entre ses engagements (facteurs du métabolisme et cardiovasculaire)"},null,null,{"$f":"IF($H$2=\"G\",'Skills explications FTEM'!W29,'Skills explications FTEM'!J29)","v":0}]
[{"$f":"'Skills explications FTEM'!A30:C30","v":0},null,null,{"$f":"IF($H$2=\"G\",'Skills explications FTEM'!Q30,'Skills explications FTEM'!D30)","v":"MOBILITÉ/ COODINATION"},null,null,{"$f":"IF($H$2=\"G\",'Skills explications FTEM'!T30,'Skills explications FTEM'!G30)","v":"Gère-t-il ses aptitudes de mouvements de base, qui sont un fournisseur important des fonctions spécifiques «Skills» pour être efficace"},null,null,{"$f":"IF($H$2=\"G\",'Skills explications FTEM'!W30,'Skills explications FTEM'!J30)","v":0}]
[{"$f":"'Skills explications FTEM'!A31:C31","v":0},null,null,{"$f":"IF($H$2=\"G\",'Skills explications FTEM'!Q31,'Skills explications FTEM'!D31)","v":"ROBUSTESSE / PREVENTION"},null,null,{"$f":"IF($H$2=\"G\",'Skills explications FTEM'!T31,'Skills explications FTEM'!G31)","v":"A-t-il la force de base nécessaire (tension corporelle) pour gagner des duels et résister aux charges, A-t-il la stabilité nécessaire (ex. ses appuis) et la mobilité nécessaire au niveau des articulations centrales"},null,null,{"$f":"IF($H$2=\"G\",'Skills explications FTEM'!W31,'Skills explications FTEM'!J31)","v":0}]

{"sheet":"13","index":16,"n_rows":40,"n_cols":36,"rows_kept":40,"cut":false,"hidden":false,"merged":[[36,25,39,25],[36,26,39,32],[36,34,39,34],[32,23,35,23],[33,3,33,5],[33,6,33,11],[35,3,35,5],[35,6,35,11],[32,0,35,2],[32,3,32,5],[32,6,32,11],[32,12,35,12],[32,13,35,13],[32,15,35,15],[36,0,39,2],[36,3,36,5],[36,6,36,11],[36,12,39,12],[36,23,39,23],[37,3,37,5],[37,6,37,11],[38,3,38,5],[38,6,38,11],[39,3,39,5],[27,21,27,22],[28,17,31,17],[28,19,31,19],[28,21,31,21],[29,3,29,5],[29,6,29,11],[30,3,30,5],[30,6,30,11],[32,17,35,17],[32,19,35,19],[32,21,35,21],[34,3,34,5],[34,6,34,11],[23,0,26,2],[23,3,23,5],[23,6,23,11],[23,12,26,12],[23,13,26,13],[23,15,26,15],[27,23,27,24],[27,26,27,32],[28,0,31,2],[28,3,28,5],[28,6,28,11],[28,12,31,12],[28,13,31,13],[28,15,31,15],[31,3,31,5],[31,6,31,11],[28,23,31,23],[27,0,27,2],[27,3,27,5],[27,6,27,11],[27,13,27,14],[27,15,27,16],[27,17,27,18],[27,19,27,20],[19,21,22,21],[19,23,22,23],[20,3,20,5],[20,6,20,11],[22,3,22,5],[22,6,22,11],[26,3,26,5],[26,6,26,11],[23,23,26,23],[23,17,26,17],[23,19,26,19],[23,21,26,21],[24,3,24,5],[24,6,24,11],[25,3,25,5],[25,6,25,11],[21,3,21,5],[21,6,21,11],[15,15,18,15],[15,17,18,17],[15,19,18,19],[15,21,18,21],[15,23,18,23],[18,3,18,5],[18,6,18,11],[19,0,22,2],[19,3,19,5],[19,6,19,11],[19,12,22,12],[19,13,22,13],[19,15,22,15],[19,17,22,17],[15,0,18,2],[15,3,15,5],[15,6,15,11],[15,12,18,12],[15,13,18,13],[16,3,16,5],[16,6,16,11],[17,3,17,5],[17,6,17,11],[19,19,22,19],[12,23,13,23],[13,3,13,5],[13,6,13,11],[14,0,14,2],[14,3,14,5],[14,6,14,11],[14,13,14,14],[14,15,14,16],[14,17,14,18],[14,19,14,20],[14,21,14,22],[14,23,14,24],[12,0,13,2],[12,3,12,5],[12,6,12,11],[12,12,13,12],[12,13,13,13],[12,15,13,15],[12,17,13,17],[12,19,13,19],[12,21,13,21],[11,0,11,2],[11,3,11,5],[11,13,11,14],[11,15,11,16],[11,17,11,18],[11,19,11,20],[11,21,11,22],[11,23,11,24],[11,26,11,32],[11,6,11,11],[0,33,0,35],[23,25,26,25],[23,26,26,32],[23,34,26,34],[28,25,31,25],[28,26,31,32],[28,34,31,34],[1,0,1,1],[1,2,1,5],[1,10,1,24],[2,0,2,1],[2,2,2,5],[2,11,2,24],[6,0,6,1],[6,2,6,35],[7,0,7,1],[7,2,7,35],[8,0,8,1],[8,2,8,35],[3,0,3,1],[3,10,3,24],[4,0,4,1],[4,2,4,5],[4,10,4,24],[39,6,39,11],[36,13,39,13],[36,15,39,15],[36,17,39,17],[36,19,39,19],[36,21,39,21],[0,0,0,24],[0,25,0,26],[0,27,0,32],[10,0,10,24],[10,25,10,35],[32,25,35,25],[32,26,35,32],[32,34,35,34],[12,25,13,25],[12,26,13,32],[12,34,13,34],[15,25,18,25],[15,26,18,32],[15,34,18,34],[19,25,22,25],[19,26,22,32],[19,34,22,34],[14,26,14,32]]}
["Infos personelles",null,null,null,null,null,null,null,null,null,null,null,null,null,null,null,null,null,null,null,null,null,null,null,null,"Predispositions",null,"Evaluations",null,null,null,null,null,"Rating"]
["PRENOM",null,{"$f":"IF(ISBLANK(VLOOKUP(13,Tabelle3[],3,0)),\"-\",VLOOKUP(13,Tabelle3[],3,0))","v":"-"},null,null,null,"POSITION",null,null,"ADRESSE",{"$f":"IF(ISBLANK(VLOOKUP(13,Tabelle3[],5,0)),\"-\",VLOOKUP(13,Tabelle3[],5,0))","v":"-"},null,null,null,null,null,null,null,null,null,null,null,null,null,null,"\"àage\" (Biologique/age relatif)",null,"Date 1",null,null,"cm",null,"Kg",null,"AUSGEZEICHNET",5]
["NOM",null,{"$f":"IF(ISBLANK(VLOOKUP(13,Tabelle3[],2,0)),\"-\",VLOOKUP(13,Tabelle3[],2,0))","v":"-"},null,null,null,"CANNE",null,null,"LIEU",{"$f":"IF(ISBLANK(VLOOKUP(13,Tabelle3[],7,0)),\"-\",VLOOKUP(13,Tabelle3[],7,0))","v":"-"},{"$f":"IF(ISBLANK(VLOOKUP(13,Tabelle3[],6,0)),\"-\",VLOOKUP(13,Tabelle3[],6,0))","v":"-"},null,null,null,null,null,null,null,null,null,null,null,null,null,"predispositions",null,"Date 2",null,null,"cm",null,"Kg",null,"GUT",4]
["DATE NAISS.",null,{"$f":"IF(ISBLANK(VLOOKUP(13,Tabelle3[],14,0)),\"-\",VLOOKUP(13,Tabelle3[],14,0))","v":"-"},{"$f":"IF(ISBLANK(VLOOKUP(13,Tabelle3[],15,0)),\"-\",VLOOKUP(13,Tabelle3[],15,0))","v":"-"},{"$f":"IF(ISBLANK(VLOOKUP(13,Tabelle3[],16,0)),\"-\",VLOOKUP(13,Tabelle3[],16,0))","v":"-"},null,"GRANDEUR",null,"cm","PHONE",{"$f":"IF(ISBLANK(VLOOKUP(13,Tabelle3[],8,0)),\"-\",VLOOKUP(13,Tabelle3[],8,0))","v":"-"},null,null,null,null,null,null,null,null,null,null,null,null,null,null,"Entourage",null,"Date 3",null,null,"cm",null,"Kg",null,"DURCHSCHNITT",3]
["SEXE",null,{"$f":"IF(ISBLANK(VLOOKUP(13,Tabelle3[],13,0)),\"-\",VLOOKUP(13,Tabelle3[],13,0))","v":"-"},null,null,null,"POIDS",null,"Kg","E-Mail",{"$f":"IF(ISBLANK(VLOOKUP(13,Tabelle3[],9,0)),\"-\",VLOOKUP(13,Tabelle3[],9,0))","v":"-"},null,null,null,null,null,null,null,null,null,null,null,null,null,null,null,null,"Date 4",null,null,"cm",null,"Kg",null,"MANGELHAFT",2]
[null,null,null,null,null,null,null,null,null,null,null,null,null,null,null,null,null,null,null,null,null,null,null,null,null,null,null,"Date 5",null,null,"cm",null,"Kg",null,"UNGENÜGEND",1]
["Vision",null,"xxx"]
["Next step",null,"xxx"]
["Profil du Joueur",null,"xxx"]
[]
["EVALUATION (COACH / JOUEUR)",null,null,null,null,null,null,null,null,null,null,null,null,null,null,null,null,null,null,null,null,null,null,null,null,"SMART"]
[{"$f":"'Skills explications FTEM'!A3:C3","v":"TEAM"},null,null,"CAPACITE",null,null,"OBSERVATION",null,null,null,null,null,"Final","Date1",null,"Date2",null,"Date3",null,"Date4",null,"Date5",null,"Player",null,"BUT","MESURES:\nSPECIFIQUE, MESURABLES, REALISTE",null,null,null,null,null,null,"DELAI","CONTRÔLE DU BUT","Date"]
[{"$f":"'Skills explications FTEM'!A4:C4","v":"ROLLE, SOZIAL"},null,null,{"$f":"IF($H$2=\"G\",'Skills explications FTEM'!Q4,'Skills explications FTEM'!D4)","v":"PENSER EQUIPE"},null,null,{"$f":"IF($H$2=\"G\",'Skills explications FTEM'!T4,'Skills explications FTEM'!G4)","v":"Identification au rôle, relation au cammarades (social, intégration)"},null,null,{"$f":"IF($H$2=\"G\",'Skills explications FTEM'!W4,'Skills explications FTEM'!J4)","v":0},null,null,null,{"$f":"IFERROR(AVERAGE(O13:O14),\"-\")","v":"-"},null,{"$f":"IFERROR(AVERAGE(Q13:Q14),\"-\")","v":"-"},null,{"$f":"IFERROR(AVERAGE(S13:S14),\"-\")","v":"-"},null,{"$f":"IFERROR(AVERAGE(U13:U14),\"-\")","v":"-"},null,{"$f":"IFERROR(AVERAGE(W13:W14),\"-\")","v":"-"},null,{"$f":"IFERROR(AVERAGE(Y13:Y14),\"-\")","v":"-"}]
[{"$f":"'Skills explications FTEM'!A5:C5","v":0},null,null,{"$f":"IF($H$2=\"G\",'Skills explications FTEM'!Q5,'Skills explications FTEM'!D5)","v":"LEADERSHIP"},null,null,{"$f":"IF($H$2=\"G\",'Skills explications FTEM'!T5,'Skills explications FTEM'!G5)","v":"prend des responsabilités, rend son coéquipier meilleur"},null,null,{"$f":"IF($H$2=\"G\",'Skills explications FTEM'!W5,'Skills explications FTEM'!J5)","v":0}]
[{"$f":"'Skills explications FTEM'!A6:C6","v":"ON ICE"},null,null,"CAPACITE",null,null,"OBSERVATION",null,null,null,null,null,null,"Date1",null,"Date2",null,"Date3",null,"Date4",null,"Date5",null,"Player",null,"BUT","MESURES:\nSPECIFIQUE, MESURABLES, REALISTE",null,null,null,null,null,null,"DELAI","CONTRÔLE DU BUT","Date"]
[{"$f":"'Skills explications FTEM'!A7:C7","v":"SKILL"},null,null,{"$f":"IF($H$2=\"G\",'Skills explications FTEM'!Q7,'Skills explications FTEM'!D7)","v":"TIR  (EFFET)"},null,null,{"$f":"IF($H$2=\"G\",'Skills explications FTEM'!T7,'Skills explications FTEM'!G7)","v":"Efficience (pas d'espace et de temps), variantes, degré de surprise (déclenchement rapide), précision, puissance (conclusion tactique)"},null,null,{"$f":"IF($H$2=\"G\",'Skills explications FTEM'!W7,'Skills explications FTEM'!J7)","v":0},null,null,null,{"$f":"IFERROR(AVERAGE(O16:O19),\"-\")","v":"-"},null,{"$f":"IFERROR(AVERAGE(Q16:Q19),\"-\")","v":"-"},null,{"$f":"IFERROR(AVERAGE(S16:S19),\"-\")","v":"-"},null,{"$f":"IFERROR(AVERAGE(U16:U19),\"-\")","v":"-"},null,{"$f":"IFERROR(AVERAGE(W16:W19),\"-\")","v":"-"},null,{"$f":"IFERROR(AVERAGE(Y16:Y19),\"-\")","v":"-"}]
[{"$f":"'Skills explications FTEM'!A8:C8","v":0},null,null,{"$f":"IF($H$2=\"G\",'Skills explications FTEM'!Q8,'Skills explications FTEM'!D8)","v":"PASSER"},null,null,{"$f":"IF($H$2=\"G\",'Skills explications FTEM'!T8,'Skills explications FTEM'!G8)","v":"Donne la passe (distance, passe flipée en revers), réception de la passe (précision, timing, coup droit, revers, patins), vitesse du puck"},null,null,{"$f":"IF($H$2=\"G\",'Skills explications FTEM'!W8,'Skills explications FTEM'!J8)","v":0}]
[{"$f":"'Skills explications FTEM'!A9:C9","v":0},null,null,{"$f":"IF($H$2=\"G\",'Skills explications FTEM'!Q9,'Skills explications FTEM'!D9)","v":"JEU DU CORPS"},null,null,{"$f":"IF($H$2=\"G\",'Skills explications FTEM'!T9,'Skills explications FTEM'!G9)","v":"Faculté de s'imposer physiquement, duels (sur la surface de glace ou à la bande), prendre des checks, lever la tête, niveau de lutte, dur mais correct, bloquer les tirs avec le corps"},null,null,{"$f":"IF($H$2=\"G\",'Skills explications FTEM'!W9,'Skills explications FTEM'!J9)","v":0},null,null,null,{"$f":"IFERROR(AVERAGE(O18:O19),\"-\")","v":"-"},null,{"$f":"IFERROR(AVERAGE(Q18:Q19),\"-\")","v":"-"},null,{"$f":"IFERROR(AVERAGE(S18:S19),\"-\")","v":"-"},null,{"$f":"IFERROR(AVERAGE(U18:U19),\"-\")","v":"-"},null,{"$f":"IFERROR(AVERAGE(W18:W19),\"-\")","v":"-"},null,"-"]
[{"$f":"'Skills explications FTEM'!A10:C10","v":0},null,null,{"$f":"IF($H$2=\"G\",'Skills explications FTEM'!Q10,'Skills explications FTEM'!D10)","v":"CONTRÔLE DU PUCK"},null,null,{"$f":"IF($H$2=\"G\",'Skills explications FTEM'!T10,'Skills explications FTEM'!G10)","v":"Contrôle du puck, dribbling, protection du puck, feintes (variantes: avec les patins ou avec et sans la bande), mise au jeu (bully)"},null,null,{"$f":"IF($H$2=\"G\",'Skills explications FTEM'!W10,'Skills explications FTEM'!J10)","v":0}]
[{"$f":"'Skills explications FTEM'!A11:C11","v":"SKATING"},null,null,{"$f":"IF($H$2=\"G\",'Skills explications FTEM'!Q11,'Skills explications FTEM'!D11)","v":"FOOTSPEED"},null,null,{"$f":"IF($H$2=\"G\",'Skills explications FTEM'!T11,'Skills explications FTEM'!G11)","v":"Accélération, départ, explosivité des 3 premiers pas, fréquence"},null,null,{"$f":"IF($H$2=\"G\",'Skills explications FTEM'!W11,'Skills explications FTEM'!J11)","v":0},null,null,null,{"$f":"IFERROR(AVERAGE(O20:O23),\"-\")","v":"-"},null,{"$f":"IFERROR(AVERAGE(Q20:Q23),\"-\")","v":"-"},null,{"$f":"IFERROR(AVERAGE(S20:S23),\"-\")","v":"-"},null,{"$f":"IFERROR(AVERAGE(U20:U23),\"-\")","v":"-"},null,{"$f":"IFERROR(AVERAGE(W20:W23),\"-\")","v":"-"},null,{"$f":"IFERROR(AVERAGE(Y20:Y23),\"-\")","v":"-"}]
[{"$f":"'Skills explications FTEM'!A12:C12","v":0},null,null,{"$f":"IF($H$2=\"G\",'Skills explications FTEM'!Q12,'Skills explications FTEM'!D12)","v":"MOBILITE"},null,null,{"$f":"IF($H$2=\"G\",'Skills explications FTEM'!T12,'Skills explications FTEM'!G12)","v":"Changements de direction, pivots, stop et start «Nummelin»"},null,null,{"$f":"IF($H$2=\"G\",'Skills explications FTEM'!W12,'Skills explications FTEM'!J12)","v":0}]
[{"$f":"'Skills explications FTEM'!A13:C13","v":0},null,null,{"$f":"IF($H$2=\"G\",'Skills explications FTEM'!Q13,'Skills explications FTEM'!D13)","v":"PATTINAGE ARRIÈRE"},null,null,{"$f":"IF($H$2=\"G\",'Skills explications FTEM'!T13,'Skills explications FTEM'!G13)","v":"Accélération, vitesse, équilibre"},null,null,{"$f":"IF($H$2=\"G\",'Skills explications FTEM'!W13,'Skills explications FTEM'!J13)","v":0}]
[{"$f":"'Skills explications FTEM'!A14:C14","v":0},null,null,{"$f":"IF($H$2=\"G\",'Skills explications FTEM'!Q14,'Skills explications FTEM'!D14)","v":"TOP SPEED"},null,null,{"$f":"IF($H$2=\"G\",'Skills explications FTEM'!T14,'Skills explications FTEM'!G14)","v":"Vitesse, faculté de glisse, avant et arrière, économie des forces"},null,null,{"$f":"IF($H$2=\"G\",'Skills explications FTEM'!W14,'Skills explications FTEM'!J14)","v":0}]
[{"$f":"'Skills explications FTEM'!A15:C15","v":"HOCKEY SENSE"},null,null,{"$f":"IF($H$2=\"G\",'Skills explications FTEM'!Q15,'Skills explications FTEM'!D15)","v":"SCORING"},null,null,{"$f":"IF($H$2=\"G\",'Skills explications FTEM'!T15,'Skills explications FTEM'!G15)","v":"Efficience, richesse des variantes, surpenant, vite, variante de tirs"},null,null,{"$f":"IF($H$2=\"G\",'Skills explications FTEM'!W15,'Skills explications FTEM'!J15)","v":0},null,null,null,{"$f":"IFERROR(AVERAGE(O24:O27),\"-\")","v":"-"},null,{"$f":"IFERROR(AVERAGE(Q24:Q27),\"-\")","v":"-"},null,{"$f":"IFERROR(AVERAGE(S24:S27),\"-\")","v":"-"},null,{"$f":"IFERROR(AVERAGE(U24:U27),\"-\")","v":"-"},null,{"$f":"IFERROR(AVERAGE(W24:W27),\"-\")","v":"-"},null,{"$f":"IFERROR(AVERAGE(Y24:Y27),\"-\")","v":"-"}]
[{"$f":"'Skills explications FTEM'!A16:C16","v":0},null,null,{"$f":"IF($H$2=\"G\",'Skills explications FTEM'!Q16,'Skills explications FTEM'!D16)","v":"AVEC PUCK"},null,null,{"$f":"IF($H$2=\"G\",'Skills explications FTEM'!T16,'Skills explications FTEM'!G16)","v":"créatif,  performing, batteling, fou, transition"},null,null,{"$f":"IF($H$2=\"G\",'Skills explications FTEM'!W16,'Skills explications FTEM'!J16)","v":0}]
[{"$f":"'Skills explications FTEM'!A17:C17","v":0},null,null,{"$f":"IF($H$2=\"G\",'Skills explications FTEM'!Q17,'Skills explications FTEM'!D17)","v":"SANS PUCK"},null,null,{"$f":"IF($H$2=\"G\",'Skills explications FTEM'!T17,'Skills explications FTEM'!G17)","v":"ouvert pour un passe (Support), 1:1, Gap"},null,null,{"$f":"IF($H$2=\"G\",'Skills explications FTEM'!W17,'Skills explications FTEM'!J17)","v":0}]
[{"$f":"'Skills explications FTEM'!A18:C18","v":0},null,null,{"$f":"IF($H$2=\"G\",'Skills explications FTEM'!Q18,'Skills explications FTEM'!D18)","v":"DEFENSIF"},null,null,{"$f":"IF($H$2=\"G\",'Skills explications FTEM'!T18,'Skills explications FTEM'!G18)","v":"on peut compter dessus,  1:1, Gap, identification de l'homme"},null,null,{"$f":"IF($H$2=\"G\",'Skills explications FTEM'!W18,'Skills explications FTEM'!J18)","v":0}]
[{"$f":"'Skills explications FTEM'!A19:C19","v":"PERSONALITY"},null,null,"CAPACITE",null,null,"OBSERVATION",null,null,null,null,null,null,"Date1",null,"Date2",null,"Date3",null,"Date4",null,"Date5",null,"Player",null,"BUT","MESURES:\nSPECIFIQUE, MESURABLES, REALISTE",null,null,null,null,null,null,"DELAI","CONTRÔLE DU BUT","Date"]
[{"$f":"'Skills explications FTEM'!A20:C20","v":"PERSONALITÉ"},null,null,{"$f":"IF($H$2=\"G\",'Skills explications FTEM'!Q20,'Skills explications FTEM'!D20)","v":"MOTIVATION"},null,null,{"$f":"IF($H$2=\"G\",'Skills explications FTEM'!T20,'Skills explications FTEM'!G20)","v":"Est toujours motivé, veut sans cesse se développer et apprendre, veut être le premier et avoir du succès, n'abandonne jamais et ne se laisse pas influencer par les échecs"},null,null,{"$f":"IF($H$2=\"G\",'Skills explications FTEM'!W20,'Skills explications FTEM'!J20)","v":0},null,null,null,{"$f":"IFERROR(AVERAGE(O29:O32),\"-\")","v":"-"},null,null,null,{"$f":"IFERROR(AVERAGE(S29:S32),\"-\")","v":"-"},null,{"$f":"IFERROR(AVERAGE(U29:U32),\"-\")","v":"-"},null,{"$f":"IFERROR(AVERAGE(W29:W32),\"-\")","v":"-"},null,{"$f":"IFERROR(AVERAGE(Y29:Y32),\"-\")","v":"-"}]
[{"$f":"'Skills explications FTEM'!A21:C21","v":0},null,null,{"$f":"IF($H$2=\"G\",'Skills explications FTEM'!Q21,'Skills explications FTEM'!D21)","v":"CONFIENCE EN SOI"},null,null,{"$f":"IF($H$2=\"G\",'Skills explications FTEM'!T21,'Skills explications FTEM'!G21)","v":"Est en confiance, «I can do it», peut estimer ses capacités (connaît ses qualités et ses défauts), peut réaliser ses qualités avec constance, est courageux et prend des risques calculés"},null,null,{"$f":"IF($H$2=\"G\",'Skills explications FTEM'!W21,'Skills explications FTEM'!J21)","v":0}]
[{"$f":"'Skills explications FTEM'!A22:C22","v":0},null,null,{"$f":"IF($H$2=\"G\",'Skills explications FTEM'!Q22,'Skills explications FTEM'!D22)","v":"FACULTÉES D'APPRENTISSAGE"},null,null,{"$f":"IF($H$2=\"G\",'Skills explications FTEM'!T22,'Skills explications FTEM'!G22)","v":"A une bonne perception (il peut mémoriser et peut réaliser), il a de la personnalité, essaie d'apprendre de ses erreurs et est entreprenant"},null,null,{"$f":"IF($H$2=\"G\",'Skills explications FTEM'!W22,'Skills explications FTEM'!J22)","v":0}]
[{"$f":"'Skills explications FTEM'!A23:C23","v":0},null,null,{"$f":"IF($H$2=\"G\",'Skills explications FTEM'!Q23,'Skills explications FTEM'!D23)","v":"PERFORMANCE, STYLE DE VIE"},null,null,{"$f":"IF($H$2=\"G\",'Skills explications FTEM'!T23,'Skills explications FTEM'!G23)","v":"Gère bien son environnement et son temps libre selon les principes de la performance, obstiné, tenace et axé sur l'objectif, accent sur sa propre performance, est courageux et peut s'imposer contre de la résistance, les défis le motivent"},null,null,{"$f":"IF($H$2=\"G\",'Skills explications FTEM'!W23,'Skills explications FTEM'!J23)","v":0}]
[{"$f":"'Skills explications FTEM'!A24:C24","v":"POWER MENTAL"},null,null,{"$f":"IF($H$2=\"G\",'Skills explications FTEM'!Q24,'Skills explications FTEM'!D24)","v":"GESTION DES ÉNERGIES"},null,null,{"$f":"IF($H$2=\"G\",'Skills explications FTEM'!T24,'Skills explications FTEM'!G24)","v":"Peut-il gérer ses propres énergies, prend-il soin de sa régénération, peut-il gérer les moments où il faut se donner à fond ou quand il faut déconnecter, bouton On/Off"},null,null,{"$f":"IF($H$2=\"G\",'Skills explications FTEM'!W24,'Skills explications FTEM'!J24)","v":0},null,null,null,{"$f":"IFERROR(AVERAGE(O33:O36),\"-\")","v":"-"},null,null,null,{"$f":"IFERROR(AVERAGE(S33:S36),\"-\")","v":"-"},null,{"$f":"IFERROR(AVERAGE(U33:U36),\"-\")","v":"-"},null,{"$f":"IFERROR(AVERAGE(W33:W36),\"-\")","v":"-"},null,{"$f":"IFERROR(AVERAGE(Y33:Y36),\"-\")","v":"-"}]
[{"$f":"'Skills explications FTEM'!A25:C25","v":0},null,null,{"$f":"IF($H$2=\"G\",'Skills explications FTEM'!Q25,'Skills explications FTEM'!D25)","v":"ENGAGEMENT"},null,null,{"$f":"IF($H$2=\"G\",'Skills explications FTEM'!T25,'Skills explications FTEM'!G25)","v":"Démontre beaucoup d'intensité dans les entraînements et les matchs, donne toujours son maximum et veut sans cesse repousser ses limites, a-t-il de la passion, s'efforce-t-il de s'entraîner avec une excellente qualité"},null,null,{"$f":"IF($H$2=\"G\",'Skills explications FTEM'!W25,'Skills explications FTEM'!J25)","v":0}]
[{"$f":"'Skills explications FTEM'!A26:C26","v":0},null,null,{"$f":"IF($H$2=\"G\",'Skills explications FTEM'!Q26,'Skills explications FTEM'!D26)","v":"CONTRÔLE DES ÉMOTIONS"},null,null,{"$f":"IF($H$2=\"G\",'Skills explications FTEM'!T26,'Skills explications FTEM'!G26)","v":"Peut-il gérer ses propres émotions et impulsions, reste-t-il sous contrôle lorsqu'il y a une grande pression, peut-il rester calme lorsque le niveau émotionnel et de frustration est élevé"},null,null,{"$f":"IF($H$2=\"G\",'Skills explications FTEM'!W26,'Skills explications FTEM'!J26)","v":0}]
[{"$f":"'Skills explications FTEM'!A27:C27","v":0},null,null,{"$f":"IF($H$2=\"G\",'Skills explications FTEM'!Q27,'Skills explications FTEM'!D27)","v":"PRÉPARATION"},null,null,{"$f":"IF($H$2=\"G\",'Skills explications FTEM'!T27,'Skills explications FTEM'!G27)","v":"Se prépare-t-il toujours bien, mentalement et physiquement, se prépare-t-il toujours bien pour obtenir le niveau de performance idéal (ILZ)"},null,null,{"$f":"IF($H$2=\"G\",'Skills explications FTEM'!W27,'Skills explications FTEM'!J27)","v":0}]
[{"$f":"'Skills explications FTEM'!A28:C28","v":"PYHSE (Athletik)"},null,null,{"$f":"IF($H$2=\"G\",'Skills explications FTEM'!Q28,'Skills explications FTEM'!D28)","v":"PRODUCTION DE LA PERFORMANCE"},null,null,{"$f":"IF($H$2=\"G\",'Skills explications FTEM'!T28,'Skills explications FTEM'!G28)","v":"A-t-il la puissance, la force, la vitesse nécessaires dans les jambes et le haut du corps (facteurs neuromusculaires)"},null,null,{"$f":"IF($H$2=\"G\",'Skills explications FTEM'!W28,'Skills explications FTEM'!J28)","v":0},null,null,null,{"$f":"IFERROR(AVERAGE(O37:O40),\"-\")","v":"-"},null,null,null,{"$f":"IFERROR(AVERAGE(S37:S40),\"-\")","v":"-"},null,{"$f":"IFERROR(AVERAGE(U37:U40),\"-\")","v":"-"},null,{"$f":"IFERROR(AVERAGE(W37:W40),\"-\")","v":"-"},null,{"$f":"IFERROR(AVERAGE(Y37:Y40),\"-\")","v":"-"}]
[{"$f":"'Skills explications FTEM'!A29:C29","v":0},null,null,{"$f":"IF($H$2=\"G\",'Skills explications FTEM'!Q29,'Skills explications FTEM'!D29)","v":"SPÉCIFIQUE AU SPORT, RÉSISTANT À L'EFFORT"},null,null,{"$f":"IF($H$2=\"G\",'Skills explications FTEM'!T29,'Skills explications FTEM'!G29)","v":"Est-il capable de maintenir sa puissance, sa force, sa vitesse durant un long temps de glace et peut-il récupérer complètement entre ses engagements (facteurs du métabolisme et cardiovasculaire)"},null,null,{"$f":"IF($H$2=\"G\",'Skills explications FTEM'!W29,'Skills explications FTEM'!J29)","v":0}]
[{"$f":"'Skills explications FTEM'!A30:C30","v":0},null,null,{"$f":"IF($H$2=\"G\",'Skills explications FTEM'!Q30,'Skills explications FTEM'!D30)","v":"MOBILITÉ/ COODINATION"},null,null,{"$f":"IF($H$2=\"G\",'Skills explications FTEM'!T30,'Skills explications FTEM'!G30)","v":"Gère-t-il ses aptitudes de mouvements de base, qui sont un fournisseur important des fonctions spécifiques «Skills» pour être efficace"},null,null,{"$f":"IF($H$2=\"G\",'Skills explications FTEM'!W30,'Skills explications FTEM'!J30)","v":0}]
[{"$f":"'Skills explications FTEM'!A31:C31","v":0},null,null,{"$f":"IF($H$2=\"G\",'Skills explications FTEM'!Q31,'Skills explications FTEM'!D31)","v":"ROBUSTESSE / PREVENTION"},null,null,{"$f":"IF($H$2=\"G\",'Skills explications FTEM'!T31,'Skills explications FTEM'!G31)","v":"A-t-il la force de base nécessaire (tension corporelle) pour gagner des duels et résister aux charges, A-t-il la stabilité nécessaire (ex. ses appuis) et la mobilité nécessaire au niveau des articulations centrales"},null,null,{"$f":"IF($H$2=\"G\",'Skills explications FTEM'!W31,'Skills explications FTEM'!J31)","v":0}]

{"sheet":"14","index":17,"n_rows":40,"n_cols":36,"rows_kept":40,"cut":false,"hidden":false,"merged":[[36,25,39,25],[36,26,39,32],[36,34,39,34],[32,23,35,23],[33,3,33,5],[33,6,33,11],[35,3,35,5],[35,6,35,11],[32,0,35,2],[32,3,32,5],[32,6,32,11],[32,12,35,12],[32,13,35,13],[32,15,35,15],[36,0,39,2],[36,3,36,5],[36,6,36,11],[36,12,39,12],[36,23,39,23],[37,3,37,5],[37,6,37,11],[38,3,38,5],[38,6,38,11],[39,3,39,5],[27,21,27,22],[28,17,31,17],[28,19,31,19],[28,21,31,21],[29,3,29,5],[29,6,29,11],[30,3,30,5],[30,6,30,11],[32,17,35,17],[32,19,35,19],[32,21,35,21],[34,3,34,5],[34,6,34,11],[23,0,26,2],[23,3,23,5],[23,6,23,11],[23,12,26,12],[23,13,26,13],[23,15,26,15],[27,23,27,24],[27,26,27,32],[28,0,31,2],[28,3,28,5],[28,6,28,11],[28,12,31,12],[28,13,31,13],[28,15,31,15],[31,3,31,5],[31,6,31,11],[28,23,31,23],[27,0,27,2],[27,3,27,5],[27,6,27,11],[27,13,27,14],[27,15,27,16],[27,17,27,18],[27,19,27,20],[19,21,22,21],[19,23,22,23],[20,3,20,5],[20,6,20,11],[22,3,22,5],[22,6,22,11],[26,3,26,5],[26,6,26,11],[23,23,26,23],[23,17,26,17],[23,19,26,19],[23,21,26,21],[24,3,24,5],[24,6,24,11],[25,3,25,5],[25,6,25,11],[21,3,21,5],[21,6,21,11],[15,15,18,15],[15,17,18,17],[15,19,18,19],[15,21,18,21],[15,23,18,23],[18,3,18,5],[18,6,18,11],[19,0,22,2],[19,3,19,5],[19,6,19,11],[19,12,22,12],[19,13,22,13],[19,15,22,15],[19,17,22,17],[15,0,18,2],[15,3,15,5],[15,6,15,11],[15,12,18,12],[15,13,18,13],[16,3,16,5],[16,6,16,11],[17,3,17,5],[17,6,17,11],[19,19,22,19],[12,23,13,23],[13,3,13,5],[13,6,13,11],[14,0,14,2],[14,3,14,5],[14,6,14,11],[14,13,14,14],[14,15,14,16],[14,17,14,18],[14,19,14,20],[14,21,14,22],[14,23,14,24],[12,0,13,2],[12,3,12,5],[12,6,12,11],[12,12,13,12],[12,13,13,13],[12,15,13,15],[12,17,13,17],[12,19,13,19],[12,21,13,21],[11,0,11,2],[11,3,11,5],[11,13,11,14],[11,15,11,16],[11,17,11,18],[11,19,11,20],[11,21,11,22],[11,23,11,24],[11,26,11,32],[11,6,11,11],[0,33,0,35],[23,25,26,25],[23,26,26,32],[23,34,26,34],[28,25,31,25],[28,26,31,32],[28,34,31,34],[1,0,1,1],[1,2,1,5],[1,10,1,24],[2,0,2,1],[2,2,2,5],[2,11,2,24],[6,0,6,1],[6,2,6,35],[7,0,7,1],[7,2,7,35],[8,0,8,1],[8,2,8,35],[3,0,3,1],[3,10,3,24],[4,0,4,1],[4,2,4,5],[4,10,4,24],[39,6,39,11],[36,13,39,13],[36,15,39,15],[36,17,39,17],[36,19,39,19],[36,21,39,21],[0,0,0,24],[0,25,0,26],[0,27,0,32],[10,0,10,24],[10,25,10,35],[32,25,35,25],[32,26,35,32],[32,34,35,34],[12,25,13,25],[12,26,13,32],[12,34,13,34],[15,25,18,25],[15,26,18,32],[15,34,18,34],[19,25,22,25],[19,26,22,32],[19,34,22,34],[14,26,14,32]]}
["Infos personelles",null,null,null,null,null,null,null,null,null,null,null,null,null,null,null,null,null,null,null,null,null,null,null,null,"Predispositions",null,"Evaluations",null,null,null,null,null,"Rating"]
["PRENOM",null,{"$f":"IF(ISBLANK(VLOOKUP(14,Tabelle3[],3,0)),\"-\",VLOOKUP(14,Tabelle3[],3,0))","v":"-"},null,null,null,"POSITION",null,null,"ADRESSE",{"$f":"IF(ISBLANK(VLOOKUP(14,Tabelle3[],5,0)),\"-\",VLOOKUP(14,Tabelle3[],5,0))","v":"-"},null,null,null,null,null,null,null,null,null,null,null,null,null,null,"\"àage\" (Biologique/age relatif)",null,"Date 1",null,null,"cm",null,"Kg",null,"AUSGEZEICHNET",5]
["NOM",null,{"$f":"IF(ISBLANK(VLOOKUP(14,Tabelle3[],2,0)),\"-\",VLOOKUP(14,Tabelle3[],2,0))","v":"-"},null,null,null,"CANNE",null,null,"LIEU",{"$f":"IF(ISBLANK(VLOOKUP(14,Tabelle3[],7,0)),\"-\",VLOOKUP(14,Tabelle3[],7,0))","v":"-"},{"$f":"IF(ISBLANK(VLOOKUP(14,Tabelle3[],6,0)),\"-\",VLOOKUP(14,Tabelle3[],6,0))","v":"-"},null,null,null,null,null,null,null,null,null,null,null,null,null,"predispositions",null,"Date 2",null,null,"cm",null,"Kg",null,"GUT",4]
["DATE NAISS.",null,{"$f":"IF(ISBLANK(VLOOKUP(14,Tabelle3[],14,0)),\"-\",VLOOKUP(14,Tabelle3[],14,0))","v":"-"},{"$f":"IF(ISBLANK(VLOOKUP(14,Tabelle3[],15,0)),\"-\",VLOOKUP(14,Tabelle3[],15,0))","v":"-"},{"$f":"IF(ISBLANK(VLOOKUP(14,Tabelle3[],16,0)),\"-\",VLOOKUP(14,Tabelle3[],16,0))","v":"-"},null,"GRANDEUR",null,"cm","PHONE",{"$f":"IF(ISBLANK(VLOOKUP(14,Tabelle3[],8,0)),\"-\",VLOOKUP(14,Tabelle3[],8,0))","v":"-"},null,null,null,null,null,null,null,null,null,null,null,null,null,null,"Entourage",null,"Date 3",null,null,"cm",null,"Kg",null,"DURCHSCHNITT",3]
["SEXE",null,{"$f":"IF(ISBLANK(VLOOKUP(14,Tabelle3[],13,0)),\"-\",VLOOKUP(14,Tabelle3[],13,0))","v":"-"},null,null,null,"POIDS",null,"Kg","E-Mail",{"$f":"IF(ISBLANK(VLOOKUP(14,Tabelle3[],9,0)),\"-\",VLOOKUP(14,Tabelle3[],9,0))","v":"-"},null,null,null,null,null,null,null,null,null,null,null,null,null,null,null,null,"Date 4",null,null,"cm",null,"Kg",null,"MANGELHAFT",2]
[null,null,null,null,null,null,null,null,null,null,null,null,null,null,null,null,null,null,null,null,null,null,null,null,null,null,null,"Date 5",null,null,"cm",null,"Kg",null,"UNGENÜGEND",1]
["Vision",null,"xxx"]
["Next step",null,"xxx"]
["Profil du Joueur",null,"xxx"]
[]
["EVALUATION (COACH / JOUEUR)",null,null,null,null,null,null,null,null,null,null,null,null,null,null,null,null,null,null,null,null,null,null,null,null,"SMART"]
[{"$f":"'Skills explications FTEM'!A3:C3","v":"TEAM"},null,null,"CAPACITE",null,null,"OBSERVATION",null,null,null,null,null,"Final","Date1",null,"Date2",null,"Date3",null,"Date4",null,"Date5",null,"Player",null,"BUT","MESURES:\nSPECIFIQUE, MESURABLES, REALISTE",null,null,null,null,null,null,"DELAI","CONTRÔLE DU BUT","Date"]
[{"$f":"'Skills explications FTEM'!A4:C4","v":"ROLLE, SOZIAL"},null,null,{"$f":"IF($H$2=\"G\",'Skills explications FTEM'!Q4,'Skills explications FTEM'!D4)","v":"PENSER EQUIPE"},null,null,{"$f":"IF($H$2=\"G\",'Skills explications FTEM'!T4,'Skills explications FTEM'!G4)","v":"Identification au rôle, relation au cammarades (social, intégration)"},null,null,{"$f":"IF($H$2=\"G\",'Skills explications FTEM'!W4,'Skills explications FTEM'!J4)","v":0},null,null,null,{"$f":"IFERROR(AVERAGE(O13:O14),\"-\")","v":"-"},null,{"$f":"IFERROR(AVERAGE(Q13:Q14),\"-\")","v":"-"},null,{"$f":"IFERROR(AVERAGE(S13:S14),\"-\")","v":"-"},null,{"$f":"IFERROR(AVERAGE(U13:U14),\"-\")","v":"-"},null,{"$f":"IFERROR(AVERAGE(W13:W14),\"-\")","v":"-"},null,{"$f":"IFERROR(AVERAGE(Y13:Y14),\"-\")","v":"-"}]
[{"$f":"'Skills explications FTEM'!A5:C5","v":0},null,null,{"$f":"IF($H$2=\"G\",'Skills explications FTEM'!Q5,'Skills explications FTEM'!D5)","v":"LEADERSHIP"},null,null,{"$f":"IF($H$2=\"G\",'Skills explications FTEM'!T5,'Skills explications FTEM'!G5)","v":"prend des responsabilités, rend son coéquipier meilleur"},null,null,{"$f":"IF($H$2=\"G\",'Skills explications FTEM'!W5,'Skills explications FTEM'!J5)","v":0}]
[{"$f":"'Skills explications FTEM'!A6:C6","v":"ON ICE"},null,null,"CAPACITE",null,null,"OBSERVATION",null,null,null,null,null,null,"Date1",null,"Date2",null,"Date3",null,"Date4",null,"Date5",null,"Player",null,"BUT","MESURES:\nSPECIFIQUE, MESURABLES, REALISTE",null,null,null,null,null,null,"DELAI","CONTRÔLE DU BUT","Date"]
[{"$f":"'Skills explications FTEM'!A7:C7","v":"SKILL"},null,null,{"$f":"IF($H$2=\"G\",'Skills explications FTEM'!Q7,'Skills explications FTEM'!D7)","v":"TIR  (EFFET)"},null,null,{"$f":"IF($H$2=\"G\",'Skills explications FTEM'!T7,'Skills explications FTEM'!G7)","v":"Efficience (pas d'espace et de temps), variantes, degré de surprise (déclenchement rapide), précision, puissance (conclusion tactique)"},null,null,{"$f":"IF($H$2=\"G\",'Skills explications FTEM'!W7,'Skills explications FTEM'!J7)","v":0},null,null,null,{"$f":"IFERROR(AVERAGE(O16:O19),\"-\")","v":"-"},null,{"$f":"IFERROR(AVERAGE(Q16:Q19),\"-\")","v":"-"},null,{"$f":"IFERROR(AVERAGE(S16:S19),\"-\")","v":"-"},null,{"$f":"IFERROR(AVERAGE(U16:U19),\"-\")","v":"-"},null,{"$f":"IFERROR(AVERAGE(W16:W19),\"-\")","v":"-"},null,{"$f":"IFERROR(AVERAGE(Y16:Y19),\"-\")","v":"-"}]
[{"$f":"'Skills explications FTEM'!A8:C8","v":0},null,null,{"$f":"IF($H$2=\"G\",'Skills explications FTEM'!Q8,'Skills explications FTEM'!D8)","v":"PASSER"},null,null,{"$f":"IF($H$2=\"G\",'Skills explications FTEM'!T8,'Skills explications FTEM'!G8)","v":"Donne la passe (distance, passe flipée en revers), réception de la passe (précision, timing, coup droit, revers, patins), vitesse du puck"},null,null,{"$f":"IF($H$2=\"G\",'Skills explications FTEM'!W8,'Skills explications FTEM'!J8)","v":0}]
[{"$f":"'Skills explications FTEM'!A9:C9","v":0},null,null,{"$f":"IF($H$2=\"G\",'Skills explications FTEM'!Q9,'Skills explications FTEM'!D9)","v":"JEU DU CORPS"},null,null,{"$f":"IF($H$2=\"G\",'Skills explications FTEM'!T9,'Skills explications FTEM'!G9)","v":"Faculté de s'imposer physiquement, duels (sur la surface de glace ou à la bande), prendre des checks, lever la tête, niveau de lutte, dur mais correct, bloquer les tirs avec le corps"},null,null,{"$f":"IF($H$2=\"G\",'Skills explications FTEM'!W9,'Skills explications FTEM'!J9)","v":0},null,null,null,{"$f":"IFERROR(AVERAGE(O18:O19),\"-\")","v":"-"},null,{"$f":"IFERROR(AVERAGE(Q18:Q19),\"-\")","v":"-"},null,{"$f":"IFERROR(AVERAGE(S18:S19),\"-\")","v":"-"},null,{"$f":"IFERROR(AVERAGE(U18:U19),\"-\")","v":"-"},null,{"$f":"IFERROR(AVERAGE(W18:W19),\"-\")","v":"-"},null,"-"]
[{"$f":"'Skills explications FTEM'!A10:C10","v":0},null,null,{"$f":"IF($H$2=\"G\",'Skills explications FTEM'!Q10,'Skills explications FTEM'!D10)","v":"CONTRÔLE DU PUCK"},null,null,{"$f":"IF($H$2=\"G\",'Skills explications FTEM'!T10,'Skills explications FTEM'!G10)","v":"Contrôle du puck, dribbling, protection du puck, feintes (variantes: avec les patins ou avec et sans la bande), mise au jeu (bully)"},null,null,{"$f":"IF($H$2=\"G\",'Skills explications FTEM'!W10,'Skills explications FTEM'!J10)","v":0}]
[{"$f":"'Skills explications FTEM'!A11:C11","v":"SKATING"},null,null,{"$f":"IF($H$2=\"G\",'Skills explications FTEM'!Q11,'Skills explications FTEM'!D11)","v":"FOOTSPEED"},null,null,{"$f":"IF($H$2=\"G\",'Skills explications FTEM'!T11,'Skills explications FTEM'!G11)","v":"Accélération, départ, explosivité des 3 premiers pas, fréquence"},null,null,{"$f":"IF($H$2=\"G\",'Skills explications FTEM'!W11,'Skills explications FTEM'!J11)","v":0},null,null,null,{"$f":"IFERROR(AVERAGE(O20:O23),\"-\")","v":"-"},null,{"$f":"IFERROR(AVERAGE(Q20:Q23),\"-\")","v":"-"},null,{"$f":"IFERROR(AVERAGE(S20:S23),\"-\")","v":"-"},null,{"$f":"IFERROR(AVERAGE(U20:U23),\"-\")","v":"-"},null,{"$f":"IFERROR(AVERAGE(W20:W23),\"-\")","v":"-"},null,{"$f":"IFERROR(AVERAGE(Y20:Y23),\"-\")","v":"-"}]
[{"$f":"'Skills explications FTEM'!A12:C12","v":0},null,null,{"$f":"IF($H$2=\"G\",'Skills explications FTEM'!Q12,'Skills explications FTEM'!D12)","v":"MOBILITE"},null,null,{"$f":"IF($H$2=\"G\",'Skills explications FTEM'!T12,'Skills explications FTEM'!G12)","v":"Changements de direction, pivots, stop et start «Nummelin»"},null,null,{"$f":"IF($H$2=\"G\",'Skills explications FTEM'!W12,'Skills explications FTEM'!J12)","v":0}]
[{"$f":"'Skills explications FTEM'!A13:C13","v":0},null,null,{"$f":"IF($H$2=\"G\",'Skills explications FTEM'!Q13,'Skills explications FTEM'!D13)","v":"PATTINAGE ARRIÈRE"},null,null,{"$f":"IF($H$2=\"G\",'Skills explications FTEM'!T13,'Skills explications FTEM'!G13)","v":"Accélération, vitesse, équilibre"},null,null,{"$f":"IF($H$2=\"G\",'Skills explications FTEM'!W13,'Skills explications FTEM'!J13)","v":0}]
[{"$f":"'Skills explications FTEM'!A14:C14","v":0},null,null,{"$f":"IF($H$2=\"G\",'Skills explications FTEM'!Q14,'Skills explications FTEM'!D14)","v":"TOP SPEED"},null,null,{"$f":"IF($H$2=\"G\",'Skills explications FTEM'!T14,'Skills explications FTEM'!G14)","v":"Vitesse, faculté de glisse, avant et arrière, économie des forces"},null,null,{"$f":"IF($H$2=\"G\",'Skills explications FTEM'!W14,'Skills explications FTEM'!J14)","v":0}]
[{"$f":"'Skills explications FTEM'!A15:C15","v":"HOCKEY SENSE"},null,null,{"$f":"IF($H$2=\"G\",'Skills explications FTEM'!Q15,'Skills explications FTEM'!D15)","v":"SCORING"},null,null,{"$f":"IF($H$2=\"G\",'Skills explications FTEM'!T15,'Skills explications FTEM'!G15)","v":"Efficience, richesse des variantes, surpenant, vite, variante de tirs"},null,null,{"$f":"IF($H$2=\"G\",'Skills explications FTEM'!W15,'Skills explications FTEM'!J15)","v":0},null,null,null,{"$f":"IFERROR(AVERAGE(O24:O27),\"-\")","v":"-"},null,{"$f":"IFERROR(AVERAGE(Q24:Q27),\"-\")","v":"-"},null,{"$f":"IFERROR(AVERAGE(S24:S27),\"-\")","v":"-"},null,{"$f":"IFERROR(AVERAGE(U24:U27),\"-\")","v":"-"},null,{"$f":"IFERROR(AVERAGE(W24:W27),\"-\")","v":"-"},null,{"$f":"IFERROR(AVERAGE(Y24:Y27),\"-\")","v":"-"}]
[{"$f":"'Skills explications FTEM'!A16:C16","v":0},null,null,{"$f":"IF($H$2=\"G\",'Skills explications FTEM'!Q16,'Skills explications FTEM'!D16)","v":"AVEC PUCK"},null,null,{"$f":"IF($H$2=\"G\",'Skills explications FTEM'!T16,'Skills explications FTEM'!G16)","v":"créatif,  performing, batteling, fou, transition"},null,null,{"$f":"IF($H$2=\"G\",'Skills explications FTEM'!W16,'Skills explications FTEM'!J16)","v":0}]
[{"$f":"'Skills explications FTEM'!A17:C17","v":0},null,null,{"$f":"IF($H$2=\"G\",'Skills explications FTEM'!Q17,'Skills explications FTEM'!D17)","v":"SANS PUCK"},null,null,{"$f":"IF($H$2=\"G\",'Skills explications FTEM'!T17,'Skills explications FTEM'!G17)","v":"ouvert pour un passe (Support), 1:1, Gap"},null,null,{"$f":"IF($H$2=\"G\",'Skills explications FTEM'!W17,'Skills explications FTEM'!J17)","v":0}]
[{"$f":"'Skills explications FTEM'!A18:C18","v":0},null,null,{"$f":"IF($H$2=\"G\",'Skills explications FTEM'!Q18,'Skills explications FTEM'!D18)","v":"DEFENSIF"},null,null,{"$f":"IF($H$2=\"G\",'Skills explications FTEM'!T18,'Skills explications FTEM'!G18)","v":"on peut compter dessus,  1:1, Gap, identification de l'homme"},null,null,{"$f":"IF($H$2=\"G\",'Skills explications FTEM'!W18,'Skills explications FTEM'!J18)","v":0}]
[{"$f":"'Skills explications FTEM'!A19:C19","v":"PERSONALITY"},null,null,"CAPACITE",null,null,"OBSERVATION",null,null,null,null,null,null,"Date1",null,"Date2",null,"Date3",null,"Date4",null,"Date5",null,"Player",null,"BUT","MESURES:\nSPECIFIQUE, MESURABLES, REALISTE",null,null,null,null,null,null,"DELAI","CONTRÔLE DU BUT","Date"]
[{"$f":"'Skills explications FTEM'!A20:C20","v":"PERSONALITÉ"},null,null,{"$f":"IF($H$2=\"G\",'Skills explications FTEM'!Q20,'Skills explications FTEM'!D20)","v":"MOTIVATION"},null,null,{"$f":"IF($H$2=\"G\",'Skills explications FTEM'!T20,'Skills explications FTEM'!G20)","v":"Est toujours motivé, veut sans cesse se développer et apprendre, veut être le premier et avoir du succès, n'abandonne jamais et ne se laisse pas influencer par les échecs"},null,null,{"$f":"IF($H$2=\"G\",'Skills explications FTEM'!W20,'Skills explications FTEM'!J20)","v":0},null,null,null,{"$f":"IFERROR(AVERAGE(O29:O32),\"-\")","v":"-"},null,null,null,{"$f":"IFERROR(AVERAGE(S29:S32),\"-\")","v":"-"},null,{"$f":"IFERROR(AVERAGE(U29:U32),\"-\")","v":"-"},null,{"$f":"IFERROR(AVERAGE(W29:W32),\"-\")","v":"-"},null,{"$f":"IFERROR(AVERAGE(Y29:Y32),\"-\")","v":"-"}]
[{"$f":"'Skills explications FTEM'!A21:C21","v":0},null,null,{"$f":"IF($H$2=\"G\",'Skills explications FTEM'!Q21,'Skills explications FTEM'!D21)","v":"CONFIENCE EN SOI"},null,null,{"$f":"IF($H$2=\"G\",'Skills explications FTEM'!T21,'Skills explications FTEM'!G21)","v":"Est en confiance, «I can do it», peut estimer ses capacités (connaît ses qualités et ses défauts), peut réaliser ses qualités avec constance, est courageux et prend des risques calculés"},null,null,{"$f":"IF($H$2=\"G\",'Skills explications FTEM'!W21,'Skills explications FTEM'!J21)","v":0}]
[{"$f":"'Skills explications FTEM'!A22:C22","v":0},null,null,{"$f":"IF($H$2=\"G\",'Skills explications FTEM'!Q22,'Skills explications FTEM'!D22)","v":"FACULTÉES D'APPRENTISSAGE"},null,null,{"$f":"IF($H$2=\"G\",'Skills explications FTEM'!T22,'Skills explications FTEM'!G22)","v":"A une bonne perception (il peut mémoriser et peut réaliser), il a de la personnalité, essaie d'apprendre de ses erreurs et est entreprenant"},null,null,{"$f":"IF($H$2=\"G\",'Skills explications FTEM'!W22,'Skills explications FTEM'!J22)","v":0}]
[{"$f":"'Skills explications FTEM'!A23:C23","v":0},null,null,{"$f":"IF($H$2=\"G\",'Skills explications FTEM'!Q23,'Skills explications FTEM'!D23)","v":"PERFORMANCE, STYLE DE VIE"},null,null,{"$f":"IF($H$2=\"G\",'Skills explications FTEM'!T23,'Skills explications FTEM'!G23)","v":"Gère bien son environnement et son temps libre selon les principes de la performance, obstiné, tenace et axé sur l'objectif, accent sur sa propre performance, est courageux et peut s'imposer contre de la résistance, les défis le motivent"},null,null,{"$f":"IF($H$2=\"G\",'Skills explications FTEM'!W23,'Skills explications FTEM'!J23)","v":0}]
[{"$f":"'Skills explications FTEM'!A24:C24","v":"POWER MENTAL"},null,null,{"$f":"IF($H$2=\"G\",'Skills explications FTEM'!Q24,'Skills explications FTEM'!D24)","v":"GESTION DES ÉNERGIES"},null,null,{"$f":"IF($H$2=\"G\",'Skills explications FTEM'!T24,'Skills explications FTEM'!G24)","v":"Peut-il gérer ses propres énergies, prend-il soin de sa régénération, peut-il gérer les moments où il faut se donner à fond ou quand il faut déconnecter, bouton On/Off"},null,null,{"$f":"IF($H$2=\"G\",'Skills explications FTEM'!W24,'Skills explications FTEM'!J24)","v":0},null,null,null,{"$f":"IFERROR(AVERAGE(O33:O36),\"-\")","v":"-"},null,null,null,{"$f":"IFERROR(AVERAGE(S33:S36),\"-\")","v":"-"},null,{"$f":"IFERROR(AVERAGE(U33:U36),\"-\")","v":"-"},null,{"$f":"IFERROR(AVERAGE(W33:W36),\"-\")","v":"-"},null,{"$f":"IFERROR(AVERAGE(Y33:Y36),\"-\")","v":"-"}]
[{"$f":"'Skills explications FTEM'!A25:C25","v":0},null,null,{"$f":"IF($H$2=\"G\",'Skills explications FTEM'!Q25,'Skills explications FTEM'!D25)","v":"ENGAGEMENT"},null,null,{"$f":"IF($H$2=\"G\",'Skills explications FTEM'!T25,'Skills explications FTEM'!G25)","v":"Démontre beaucoup d'intensité dans les entraînements et les matchs, donne toujours son maximum et veut sans cesse repousser ses limites, a-t-il de la passion, s'efforce-t-il de s'entraîner avec une excellente qualité"},null,null,{"$f":"IF($H$2=\"G\",'Skills explications FTEM'!W25,'Skills explications FTEM'!J25)","v":0}]
[{"$f":"'Skills explications FTEM'!A26:C26","v":0},null,null,{"$f":"IF($H$2=\"G\",'Skills explications FTEM'!Q26,'Skills explications FTEM'!D26)","v":"CONTRÔLE DES ÉMOTIONS"},null,null,{"$f":"IF($H$2=\"G\",'Skills explications FTEM'!T26,'Skills explications FTEM'!G26)","v":"Peut-il gérer ses propres émotions et impulsions, reste-t-il sous contrôle lorsqu'il y a une grande pression, peut-il rester calme lorsque le niveau émotionnel et de frustration est élevé"},null,null,{"$f":"IF($H$2=\"G\",'Skills explications FTEM'!W26,'Skills explications FTEM'!J26)","v":0}]
[{"$f":"'Skills explications FTEM'!A27:C27","v":0},null,null,{"$f":"IF($H$2=\"G\",'Skills explications FTEM'!Q27,'Skills explications FTEM'!D27)","v":"PRÉPARATION"},null,null,{"$f":"IF($H$2=\"G\",'Skills explications FTEM'!T27,'Skills explications FTEM'!G27)","v":"Se prépare-t-il toujours bien, mentalement et physiquement, se prépare-t-il toujours bien pour obtenir le niveau de performance idéal (ILZ)"},null,null,{"$f":"IF($H$2=\"G\",'Skills explications FTEM'!W27,'Skills explications FTEM'!J27)","v":0}]
[{"$f":"'Skills explications FTEM'!A28:C28","v":"PYHSE (Athletik)"},null,null,{"$f":"IF($H$2=\"G\",'Skills explications FTEM'!Q28,'Skills explications FTEM'!D28)","v":"PRODUCTION DE LA PERFORMANCE"},null,null,{"$f":"IF($H$2=\"G\",'Skills explications FTEM'!T28,'Skills explications FTEM'!G28)","v":"A-t-il la puissance, la force, la vitesse nécessaires dans les jambes et le haut du corps (facteurs neuromusculaires)"},null,null,{"$f":"IF($H$2=\"G\",'Skills explications FTEM'!W28,'Skills explications FTEM'!J28)","v":0},null,null,null,{"$f":"IFERROR(AVERAGE(O37:O40),\"-\")","v":"-"},null,null,null,{"$f":"IFERROR(AVERAGE(S37:S40),\"-\")","v":"-"},null,{"$f":"IFERROR(AVERAGE(U37:U40),\"-\")","v":"-"},null,{"$f":"IFERROR(AVERAGE(W37:W40),\"-\")","v":"-"},null,{"$f":"IFERROR(AVERAGE(Y37:Y40),\"-\")","v":"-"}]
[{"$f":"'Skills explications FTEM'!A29:C29","v":0},null,null,{"$f":"IF($H$2=\"G\",'Skills explications FTEM'!Q29,'Skills explications FTEM'!D29)","v":"SPÉCIFIQUE AU SPORT, RÉSISTANT À L'EFFORT"},null,null,{"$f":"IF($H$2=\"G\",'Skills explications FTEM'!T29,'Skills explications FTEM'!G29)","v":"Est-il capable de maintenir sa puissance, sa force, sa vitesse durant un long temps de glace et peut-il récupérer complètement entre ses engagements (facteurs du métabolisme et cardiovasculaire)"},null,null,{"$f":"IF($H$2=\"G\",'Skills explications FTEM'!W29,'Skills explications FTEM'!J29)","v":0}]
[{"$f":"'Skills explications FTEM'!A30:C30","v":0},null,null,{"$f":"IF($H$2=\"G\",'Skills explications FTEM'!Q30,'Skills explications FTEM'!D30)","v":"MOBILITÉ/ COODINATION"},null,null,{"$f":"IF($H$2=\"G\",'Skills explications FTEM'!T30,'Skills explications FTEM'!G30)","v":"Gère-t-il ses aptitudes de mouvements de base, qui sont un fournisseur important des fonctions spécifiques «Skills» pour être efficace"},null,null,{"$f":"IF($H$2=\"G\",'Skills explications FTEM'!W30,'Skills explications FTEM'!J30)","v":0}]
[{"$f":"'Skills explications FTEM'!A31:C31","v":0},null,null,{"$f":"IF($H$2=\"G\",'Skills explications FTEM'!Q31,'Skills explications FTEM'!D31)","v":"ROBUSTESSE / PREVENTION"},null,null,{"$f":"IF($H$2=\"G\",'Skills explications FTEM'!T31,'Skills explications FTEM'!G31)","v":"A-t-il la force de base nécessaire (tension corporelle) pour gagner des duels et résister aux charges, A-t-il la stabilité nécessaire (ex. ses appuis) et la mobilité nécessaire au niveau des articulations centrales"},null,null,{"$f":"IF($H$2=\"G\",'Skills explications FTEM'!W31,'Skills explications FTEM'!J31)","v":0}]

{"sheet":"15","index":18,"n_rows":40,"n_cols":36,"rows_kept":40,"cut":false,"hidden":false,"merged":[[36,25,39,25],[36,26,39,32],[36,34,39,34],[32,23,35,23],[33,3,33,5],[33,6,33,11],[35,3,35,5],[35,6,35,11],[32,0,35,2],[32,3,32,5],[32,6,32,11],[32,12,35,12],[32,13,35,13],[32,15,35,15],[36,0,39,2],[36,3,36,5],[36,6,36,11],[36,12,39,12],[36,23,39,23],[37,3,37,5],[37,6,37,11],[38,3,38,5],[38,6,38,11],[39,3,39,5],[27,21,27,22],[28,17,31,17],[28,19,31,19],[28,21,31,21],[29,3,29,5],[29,6,29,11],[30,3,30,5],[30,6,30,11],[32,17,35,17],[32,19,35,19],[32,21,35,21],[34,3,34,5],[34,6,34,11],[23,0,26,2],[23,3,23,5],[23,6,23,11],[23,12,26,12],[23,13,26,13],[23,15,26,15],[27,23,27,24],[27,26,27,32],[28,0,31,2],[28,3,28,5],[28,6,28,11],[28,12,31,12],[28,13,31,13],[28,15,31,15],[31,3,31,5],[31,6,31,11],[28,23,31,23],[27,0,27,2],[27,3,27,5],[27,6,27,11],[27,13,27,14],[27,15,27,16],[27,17,27,18],[27,19,27,20],[19,21,22,21],[19,23,22,23],[20,3,20,5],[20,6,20,11],[22,3,22,5],[22,6,22,11],[26,3,26,5],[26,6,26,11],[23,23,26,23],[23,17,26,17],[23,19,26,19],[23,21,26,21],[24,3,24,5],[24,6,24,11],[25,3,25,5],[25,6,25,11],[21,3,21,5],[21,6,21,11],[15,15,18,15],[15,17,18,17],[15,19,18,19],[15,21,18,21],[15,23,18,23],[18,3,18,5],[18,6,18,11],[19,0,22,2],[19,3,19,5],[19,6,19,11],[19,12,22,12],[19,13,22,13],[19,15,22,15],[19,17,22,17],[15,0,18,2],[15,3,15,5],[15,6,15,11],[15,12,18,12],[15,13,18,13],[16,3,16,5],[16,6,16,11],[17,3,17,5],[17,6,17,11],[19,19,22,19],[12,23,13,23],[13,3,13,5],[13,6,13,11],[14,0,14,2],[14,3,14,5],[14,6,14,11],[14,13,14,14],[14,15,14,16],[14,17,14,18],[14,19,14,20],[14,21,14,22],[14,23,14,24],[12,0,13,2],[12,3,12,5],[12,6,12,11],[12,12,13,12],[12,13,13,13],[12,15,13,15],[12,17,13,17],[12,19,13,19],[12,21,13,21],[11,0,11,2],[11,3,11,5],[11,13,11,14],[11,15,11,16],[11,17,11,18],[11,19,11,20],[11,21,11,22],[11,23,11,24],[11,26,11,32],[11,6,11,11],[0,33,0,35],[23,25,26,25],[23,26,26,32],[23,34,26,34],[28,25,31,25],[28,26,31,32],[28,34,31,34],[1,0,1,1],[1,2,1,5],[1,10,1,24],[2,0,2,1],[2,2,2,5],[2,11,2,24],[6,0,6,1],[6,2,6,35],[7,0,7,1],[7,2,7,35],[8,0,8,1],[8,2,8,35],[3,0,3,1],[3,10,3,24],[4,0,4,1],[4,2,4,5],[4,10,4,24],[39,6,39,11],[36,13,39,13],[36,15,39,15],[36,17,39,17],[36,19,39,19],[36,21,39,21],[0,0,0,24],[0,25,0,26],[0,27,0,32],[10,0,10,24],[10,25,10,35],[32,25,35,25],[32,26,35,32],[32,34,35,34],[12,25,13,25],[12,26,13,32],[12,34,13,34],[15,25,18,25],[15,26,18,32],[15,34,18,34],[19,25,22,25],[19,26,22,32],[19,34,22,34],[14,26,14,32]]}
["Infos personelles",null,null,null,null,null,null,null,null,null,null,null,null,null,null,null,null,null,null,null,null,null,null,null,null,"Predispositions",null,"Evaluations",null,null,null,null,null,"Rating"]
["PRENOM",null,{"$f":"IF(ISBLANK(VLOOKUP(15,Tabelle3[],3,0)),\"-\",VLOOKUP(15,Tabelle3[],3,0))","v":"-"},null,null,null,"POSITION",null,null,"ADRESSE",{"$f":"IF(ISBLANK(VLOOKUP(15,Tabelle3[],5,0)),\"-\",VLOOKUP(15,Tabelle3[],5,0))","v":"-"},null,null,null,null,null,null,null,null,null,null,null,null,null,null,"\"àage\" (Biologique/age relatif)",null,"Date 1",null,null,"cm",null,"Kg",null,"AUSGEZEICHNET",5]
["NOM",null,{"$f":"IF(ISBLANK(VLOOKUP(15,Tabelle3[],2,0)),\"-\",VLOOKUP(15,Tabelle3[],2,0))","v":"-"},null,null,null,"CANNE",null,null,"LIEU",{"$f":"IF(ISBLANK(VLOOKUP(15,Tabelle3[],7,0)),\"-\",VLOOKUP(15,Tabelle3[],7,0))","v":"-"},{"$f":"IF(ISBLANK(VLOOKUP(15,Tabelle3[],6,0)),\"-\",VLOOKUP(15,Tabelle3[],6,0))","v":"-"},null,null,null,null,null,null,null,null,null,null,null,null,null,"predispositions",null,"Date 2",null,null,"cm",null,"Kg",null,"GUT",4]
["DATE NAISS.",null,{"$f":"IF(ISBLANK(VLOOKUP(15,Tabelle3[],14,0)),\"-\",VLOOKUP(15,Tabelle3[],14,0))","v":"-"},{"$f":"IF(ISBLANK(VLOOKUP(15,Tabelle3[],15,0)),\"-\",VLOOKUP(15,Tabelle3[],15,0))","v":"-"},{"$f":"IF(ISBLANK(VLOOKUP(15,Tabelle3[],16,0)),\"-\",VLOOKUP(15,Tabelle3[],16,0))","v":"-"},null,"GRANDEUR",null,"cm","PHONE",{"$f":"IF(ISBLANK(VLOOKUP(15,Tabelle3[],8,0)),\"-\",VLOOKUP(15,Tabelle3[],8,0))","v":"-"},null,null,null,null,null,null,null,null,null,null,null,null,null,null,"Entourage",null,"Date 3",null,null,"cm",null,"Kg",null,"DURCHSCHNITT",3]
["SEXE",null,{"$f":"IF(ISBLANK(VLOOKUP(15,Tabelle3[],13,0)),\"-\",VLOOKUP(15,Tabelle3[],13,0))","v":"-"},null,null,null,"POIDS",null,"Kg","E-Mail",{"$f":"IF(ISBLANK(VLOOKUP(15,Tabelle3[],9,0)),\"-\",VLOOKUP(15,Tabelle3[],9,0))","v":"-"},null,null,null,null,null,null,null,null,null,null,null,null,null,null,null,null,"Date 4",null,null,"cm",null,"Kg",null,"MANGELHAFT",2]
[null,null,null,null,null,null,null,null,null,null,null,null,null,null,null,null,null,null,null,null,null,null,null,null,null,null,null,"Date 5",null,null,"cm",null,"Kg",null,"UNGENÜGEND",1]
["Vision",null,"xxx"]
["Next step",null,"xxx"]
["Profil du Joueur",null,"xxx"]
[]
["EVALUATION (COACH / JOUEUR)",null,null,null,null,null,null,null,null,null,null,null,null,null,null,null,null,null,null,null,null,null,null,null,null,"SMART"]
[{"$f":"'Skills explications FTEM'!A3:C3","v":"TEAM"},null,null,"CAPACITE",null,null,"OBSERVATION",null,null,null,null,null,"Final","Date1",null,"Date2",null,"Date3",null,"Date4",null,"Date5",null,"Player",null,"BUT","MESURES:\nSPECIFIQUE, MESURABLES, REALISTE",null,null,null,null,null,null,"DELAI","CONTRÔLE DU BUT","Date"]
[{"$f":"'Skills explications FTEM'!A4:C4","v":"ROLLE, SOZIAL"},null,null,{"$f":"IF($H$2=\"G\",'Skills explications FTEM'!Q4,'Skills explications FTEM'!D4)","v":"PENSER EQUIPE"},null,null,{"$f":"IF($H$2=\"G\",'Skills explications FTEM'!T4,'Skills explications FTEM'!G4)","v":"Identification au rôle, relation au cammarades (social, intégration)"},null,null,{"$f":"IF($H$2=\"G\",'Skills explications FTEM'!W4,'Skills explications FTEM'!J4)","v":0},null,null,null,{"$f":"IFERROR(AVERAGE(O13:O14),\"-\")","v":"-"},null,{"$f":"IFERROR(AVERAGE(Q13:Q14),\"-\")","v":"-"},null,{"$f":"IFERROR(AVERAGE(S13:S14),\"-\")","v":"-"},null,{"$f":"IFERROR(AVERAGE(U13:U14),\"-\")","v":"-"},null,{"$f":"IFERROR(AVERAGE(W13:W14),\"-\")","v":"-"},null,{"$f":"IFERROR(AVERAGE(Y13:Y14),\"-\")","v":"-"}]
[{"$f":"'Skills explications FTEM'!A5:C5","v":0},null,null,{"$f":"IF($H$2=\"G\",'Skills explications FTEM'!Q5,'Skills explications FTEM'!D5)","v":"LEADERSHIP"},null,null,{"$f":"IF($H$2=\"G\",'Skills explications FTEM'!T5,'Skills explications FTEM'!G5)","v":"prend des responsabilités, rend son coéquipier meilleur"},null,null,{"$f":"IF($H$2=\"G\",'Skills explications FTEM'!W5,'Skills explications FTEM'!J5)","v":0}]
[{"$f":"'Skills explications FTEM'!A6:C6","v":"ON ICE"},null,null,"CAPACITE",null,null,"OBSERVATION",null,null,null,null,null,null,"Date1",null,"Date2",null,"Date3",null,"Date4",null,"Date5",null,"Player",null,"BUT","MESURES:\nSPECIFIQUE, MESURABLES, REALISTE",null,null,null,null,null,null,"DELAI","CONTRÔLE DU BUT","Date"]
[{"$f":"'Skills explications FTEM'!A7:C7","v":"SKILL"},null,null,{"$f":"IF($H$2=\"G\",'Skills explications FTEM'!Q7,'Skills explications FTEM'!D7)","v":"TIR  (EFFET)"},null,null,{"$f":"IF($H$2=\"G\",'Skills explications FTEM'!T7,'Skills explications FTEM'!G7)","v":"Efficience (pas d'espace et de temps), variantes, degré de surprise (déclenchement rapide), précision, puissance (conclusion tactique)"},null,null,{"$f":"IF($H$2=\"G\",'Skills explications FTEM'!W7,'Skills explications FTEM'!J7)","v":0},null,null,null,{"$f":"IFERROR(AVERAGE(O16:O19),\"-\")","v":"-"},null,{"$f":"IFERROR(AVERAGE(Q16:Q19),\"-\")","v":"-"},null,{"$f":"IFERROR(AVERAGE(S16:S19),\"-\")","v":"-"},null,{"$f":"IFERROR(AVERAGE(U16:U19),\"-\")","v":"-"},null,{"$f":"IFERROR(AVERAGE(W16:W19),\"-\")","v":"-"},null,{"$f":"IFERROR(AVERAGE(Y16:Y19),\"-\")","v":"-"}]
[{"$f":"'Skills explications FTEM'!A8:C8","v":0},null,null,{"$f":"IF($H$2=\"G\",'Skills explications FTEM'!Q8,'Skills explications FTEM'!D8)","v":"PASSER"},null,null,{"$f":"IF($H$2=\"G\",'Skills explications FTEM'!T8,'Skills explications FTEM'!G8)","v":"Donne la passe (distance, passe flipée en revers), réception de la passe (précision, timing, coup droit, revers, patins), vitesse du puck"},null,null,{"$f":"IF($H$2=\"G\",'Skills explications FTEM'!W8,'Skills explications FTEM'!J8)","v":0}]
[{"$f":"'Skills explications FTEM'!A9:C9","v":0},null,null,{"$f":"IF($H$2=\"G\",'Skills explications FTEM'!Q9,'Skills explications FTEM'!D9)","v":"JEU DU CORPS"},null,null,{"$f":"IF($H$2=\"G\",'Skills explications FTEM'!T9,'Skills explications FTEM'!G9)","v":"Faculté de s'imposer physiquement, duels (sur la surface de glace ou à la bande), prendre des checks, lever la tête, niveau de lutte, dur mais correct, bloquer les tirs avec le corps"},null,null,{"$f":"IF($H$2=\"G\",'Skills explications FTEM'!W9,'Skills explications FTEM'!J9)","v":0},null,null,null,{"$f":"IFERROR(AVERAGE(O18:O19),\"-\")","v":"-"},null,{"$f":"IFERROR(AVERAGE(Q18:Q19),\"-\")","v":"-"},null,{"$f":"IFERROR(AVERAGE(S18:S19),\"-\")","v":"-"},null,{"$f":"IFERROR(AVERAGE(U18:U19),\"-\")","v":"-"},null,{"$f":"IFERROR(AVERAGE(W18:W19),\"-\")","v":"-"},null,"-"]
[{"$f":"'Skills explications FTEM'!A10:C10","v":0},null,null,{"$f":"IF($H$2=\"G\",'Skills explications FTEM'!Q10,'Skills explications FTEM'!D10)","v":"CONTRÔLE DU PUCK"},null,null,{"$f":"IF($H$2=\"G\",'Skills explications FTEM'!T10,'Skills explications FTEM'!G10)","v":"Contrôle du puck, dribbling, protection du puck, feintes (variantes: avec les patins ou avec et sans la bande), mise au jeu (bully)"},null,null,{"$f":"IF($H$2=\"G\",'Skills explications FTEM'!W10,'Skills explications FTEM'!J10)","v":0}]
[{"$f":"'Skills explications FTEM'!A11:C11","v":"SKATING"},null,null,{"$f":"IF($H$2=\"G\",'Skills explications FTEM'!Q11,'Skills explications FTEM'!D11)","v":"FOOTSPEED"},null,null,{"$f":"IF($H$2=\"G\",'Skills explications FTEM'!T11,'Skills explications FTEM'!G11)","v":"Accélération, départ, explosivité des 3 premiers pas, fréquence"},null,null,{"$f":"IF($H$2=\"G\",'Skills explications FTEM'!W11,'Skills explications FTEM'!J11)","v":0},null,null,null,{"$f":"IFERROR(AVERAGE(O20:O23),\"-\")","v":"-"},null,{"$f":"IFERROR(AVERAGE(Q20:Q23),\"-\")","v":"-"},null,{"$f":"IFERROR(AVERAGE(S20:S23),\"-\")","v":"-"},null,{"$f":"IFERROR(AVERAGE(U20:U23),\"-\")","v":"-"},null,{"$f":"IFERROR(AVERAGE(W20:W23),\"-\")","v":"-"},null,{"$f":"IFERROR(AVERAGE(Y20:Y23),\"-\")","v":"-"}]
[{"$f":"'Skills explications FTEM'!A12:C12","v":0},null,null,{"$f":"IF($H$2=\"G\",'Skills explications FTEM'!Q12,'Skills explications FTEM'!D12)","v":"MOBILITE"},null,null,{"$f":"IF($H$2=\"G\",'Skills explications FTEM'!T12,'Skills explications FTEM'!G12)","v":"Changements de direction, pivots, stop et start «Nummelin»"},null,null,{"$f":"IF($H$2=\"G\",'Skills explications FTEM'!W12,'Skills explications FTEM'!J12)","v":0}]
[{"$f":"'Skills explications FTEM'!A13:C13","v":0},null,null,{"$f":"IF($H$2=\"G\",'Skills explications FTEM'!Q13,'Skills explications FTEM'!D13)","v":"PATTINAGE ARRIÈRE"},null,null,{"$f":"IF($H$2=\"G\",'Skills explications FTEM'!T13,'Skills explications FTEM'!G13)","v":"Accélération, vitesse, équilibre"},null,null,{"$f":"IF($H$2=\"G\",'Skills explications FTEM'!W13,'Skills explications FTEM'!J13)","v":0}]
[{"$f":"'Skills explications FTEM'!A14:C14","v":0},null,null,{"$f":"IF($H$2=\"G\",'Skills explications FTEM'!Q14,'Skills explications FTEM'!D14)","v":"TOP SPEED"},null,null,{"$f":"IF($H$2=\"G\",'Skills explications FTEM'!T14,'Skills explications FTEM'!G14)","v":"Vitesse, faculté de glisse, avant et arrière, économie des forces"},null,null,{"$f":"IF($H$2=\"G\",'Skills explications FTEM'!W14,'Skills explications FTEM'!J14)","v":0}]
[{"$f":"'Skills explications FTEM'!A15:C15","v":"HOCKEY SENSE"},null,null,{"$f":"IF($H$2=\"G\",'Skills explications FTEM'!Q15,'Skills explications FTEM'!D15)","v":"SCORING"},null,null,{"$f":"IF($H$2=\"G\",'Skills explications FTEM'!T15,'Skills explications FTEM'!G15)","v":"Efficience, richesse des variantes, surpenant, vite, variante de tirs"},null,null,{"$f":"IF($H$2=\"G\",'Skills explications FTEM'!W15,'Skills explications FTEM'!J15)","v":0},null,null,null,{"$f":"IFERROR(AVERAGE(O24:O27),\"-\")","v":"-"},null,{"$f":"IFERROR(AVERAGE(Q24:Q27),\"-\")","v":"-"},null,{"$f":"IFERROR(AVERAGE(S24:S27),\"-\")","v":"-"},null,{"$f":"IFERROR(AVERAGE(U24:U27),\"-\")","v":"-"},null,{"$f":"IFERROR(AVERAGE(W24:W27),\"-\")","v":"-"},null,{"$f":"IFERROR(AVERAGE(Y24:Y27),\"-\")","v":"-"}]
[{"$f":"'Skills explications FTEM'!A16:C16","v":0},null,null,{"$f":"IF($H$2=\"G\",'Skills explications FTEM'!Q16,'Skills explications FTEM'!D16)","v":"AVEC PUCK"},null,null,{"$f":"IF($H$2=\"G\",'Skills explications FTEM'!T16,'Skills explications FTEM'!G16)","v":"créatif,  performing, batteling, fou, transition"},null,null,{"$f":"IF($H$2=\"G\",'Skills explications FTEM'!W16,'Skills explications FTEM'!J16)","v":0}]
[{"$f":"'Skills explications FTEM'!A17:C17","v":0},null,null,{"$f":"IF($H$2=\"G\",'Skills explications FTEM'!Q17,'Skills explications FTEM'!D17)","v":"SANS PUCK"},null,null,{"$f":"IF($H$2=\"G\",'Skills explications FTEM'!T17,'Skills explications FTEM'!G17)","v":"ouvert pour un passe (Support), 1:1, Gap"},null,null,{"$f":"IF($H$2=\"G\",'Skills explications FTEM'!W17,'Skills explications FTEM'!J17)","v":0}]
[{"$f":"'Skills explications FTEM'!A18:C18","v":0},null,null,{"$f":"IF($H$2=\"G\",'Skills explications FTEM'!Q18,'Skills explications FTEM'!D18)","v":"DEFENSIF"},null,null,{"$f":"IF($H$2=\"G\",'Skills explications FTEM'!T18,'Skills explications FTEM'!G18)","v":"on peut compter dessus,  1:1, Gap, identification de l'homme"},null,null,{"$f":"IF($H$2=\"G\",'Skills explications FTEM'!W18,'Skills explications FTEM'!J18)","v":0}]
[{"$f":"'Skills explications FTEM'!A19:C19","v":"PERSONALITY"},null,null,"CAPACITE",null,null,"OBSERVATION",null,null,null,null,null,null,"Date1",null,"Date2",null,"Date3",null,"Date4",null,"Date5",null,"Player",null,"BUT","MESURES:\nSPECIFIQUE, MESURABLES, REALISTE",null,null,null,null,null,null,"DELAI","CONTRÔLE DU BUT","Date"]
[{"$f":"'Skills explications FTEM'!A20:C20","v":"PERSONALITÉ"},null,null,{"$f":"IF($H$2=\"G\",'Skills explications FTEM'!Q20,'Skills explications FTEM'!D20)","v":"MOTIVATION"},null,null,{"$f":"IF($H$2=\"G\",'Skills explications FTEM'!T20,'Skills explications FTEM'!G20)","v":"Est toujours motivé, veut sans cesse se développer et apprendre, veut être le premier et avoir du succès, n'abandonne jamais et ne se laisse pas influencer par les échecs"},null,null,{"$f":"IF($H$2=\"G\",'Skills explications FTEM'!W20,'Skills explications FTEM'!J20)","v":0},null,null,null,{"$f":"IFERROR(AVERAGE(O29:O32),\"-\")","v":"-"},null,null,null,{"$f":"IFERROR(AVERAGE(S29:S32),\"-\")","v":"-"},null,{"$f":"IFERROR(AVERAGE(U29:U32),\"-\")","v":"-"},null,{"$f":"IFERROR(AVERAGE(W29:W32),\"-\")","v":"-"},null,{"$f":"IFERROR(AVERAGE(Y29:Y32),\"-\")","v":"-"}]
[{"$f":"'Skills explications FTEM'!A21:C21","v":0},null,null,{"$f":"IF($H$2=\"G\",'Skills explications FTEM'!Q21,'Skills explications FTEM'!D21)","v":"CONFIENCE EN SOI"},null,null,{"$f":"IF($H$2=\"G\",'Skills explications FTEM'!T21,'Skills explications FTEM'!G21)","v":"Est en confiance, «I can do it», peut estimer ses capacités (connaît ses qualités et ses défauts), peut réaliser ses qualités avec constance, est courageux et prend des risques calculés"},null,null,{"$f":"IF($H$2=\"G\",'Skills explications FTEM'!W21,'Skills explications FTEM'!J21)","v":0}]
[{"$f":"'Skills explications FTEM'!A22:C22","v":0},null,null,{"$f":"IF($H$2=\"G\",'Skills explications FTEM'!Q22,'Skills explications FTEM'!D22)","v":"FACULTÉES D'APPRENTISSAGE"},null,null,{"$f":"IF($H$2=\"G\",'Skills explications FTEM'!T22,'Skills explications FTEM'!G22)","v":"A une bonne perception (il peut mémoriser et peut réaliser), il a de la personnalité, essaie d'apprendre de ses erreurs et est entreprenant"},null,null,{"$f":"IF($H$2=\"G\",'Skills explications FTEM'!W22,'Skills explications FTEM'!J22)","v":0}]
[{"$f":"'Skills explications FTEM'!A23:C23","v":0},null,null,{"$f":"IF($H$2=\"G\",'Skills explications FTEM'!Q23,'Skills explications FTEM'!D23)","v":"PERFORMANCE, STYLE DE VIE"},null,null,{"$f":"IF($H$2=\"G\",'Skills explications FTEM'!T23,'Skills explications FTEM'!G23)","v":"Gère bien son environnement et son temps libre selon les principes de la performance, obstiné, tenace et axé sur l'objectif, accent sur sa propre performance, est courageux et peut s'imposer contre de la résistance, les défis le motivent"},null,null,{"$f":"IF($H$2=\"G\",'Skills explications FTEM'!W23,'Skills explications FTEM'!J23)","v":0}]
[{"$f":"'Skills explications FTEM'!A24:C24","v":"POWER MENTAL"},null,null,{"$f":"IF($H$2=\"G\",'Skills explications FTEM'!Q24,'Skills explications FTEM'!D24)","v":"GESTION DES ÉNERGIES"},null,null,{"$f":"IF($H$2=\"G\",'Skills explications FTEM'!T24,'Skills explications FTEM'!G24)","v":"Peut-il gérer ses propres énergies, prend-il soin de sa régénération, peut-il gérer les moments où il faut se donner à fond ou quand il faut déconnecter, bouton On/Off"},null,null,{"$f":"IF($H$2=\"G\",'Skills explications FTEM'!W24,'Skills explications FTEM'!J24)","v":0},null,null,null,{"$f":"IFERROR(AVERAGE(O33:O36),\"-\")","v":"-"},null,null,null,{"$f":"IFERROR(AVERAGE(S33:S36),\"-\")","v":"-"},null,{"$f":"IFERROR(AVERAGE(U33:U36),\"-\")","v":"-"},null,{"$f":"IFERROR(AVERAGE(W33:W36),\"-\")","v":"-"},null,{"$f":"IFERROR(AVERAGE(Y33:Y36),\"-\")","v":"-"}]
[{"$f":"'Skills explications FTEM'!A25:C25","v":0},null,null,{"$f":"IF($H$2=\"G\",'Skills explications FTEM'!Q25,'Skills explications FTEM'!D25)","v":"ENGAGEMENT"},null,null,{"$f":"IF($H$2=\"G\",'Skills explications FTEM'!T25,'Skills explications FTEM'!G25)","v":"Démontre beaucoup d'intensité dans les entraînements et les matchs, donne toujours son maximum et veut sans cesse repousser ses limites, a-t-il de la passion, s'efforce-t-il de s'entraîner avec une excellente qualité"},null,null,{"$f":"IF($H$2=\"G\",'Skills explications FTEM'!W25,'Skills explications FTEM'!J25)","v":0}]
[{"$f":"'Skills explications FTEM'!A26:C26","v":0},null,null,{"$f":"IF($H$2=\"G\",'Skills explications FTEM'!Q26,'Skills explications FTEM'!D26)","v":"CONTRÔLE DES ÉMOTIONS"},null,null,{"$f":"IF($H$2=\"G\",'Skills explications FTEM'!T26,'Skills explications FTEM'!G26)","v":"Peut-il gérer ses propres émotions et impulsions, reste-t-il sous contrôle lorsqu'il y a une grande pression, peut-il rester calme lorsque le niveau émotionnel et de frustration est élevé"},null,null,{"$f":"IF($H$2=\"G\",'Skills explications FTEM'!W26,'Skills explications FTEM'!J26)","v":0}]
[{"$f":"'Skills explications FTEM'!A27:C27","v":0},null,null,{"$f":"IF($H$2=\"G\",'Skills explications FTEM'!Q27,'Skills explications FTEM'!D27)","v":"PRÉPARATION"},null,null,{"$f":"IF($H$2=\"G\",'Skills explications FTEM'!T27,'Skills explications FTEM'!G27)","v":"Se prépare-t-il toujours bien, mentalement et physiquement, se prépare-t-il toujours bien pour obtenir le niveau de performance idéal (ILZ)"},null,null,{"$f":"IF($H$2=\"G\",'Skills explications FTEM'!W27,'Skills explications FTEM'!J27)","v":0}]
[{"$f":"'Skills explications FTEM'!A28:C28","v":"PYHSE (Athletik)"},null,null,{"$f":"IF($H$2=\"G\",'Skills explications FTEM'!Q28,'Skills explications FTEM'!D28)","v":"PRODUCTION DE LA PERFORMANCE"},null,null,{"$f":"IF($H$2=\"G\",'Skills explications FTEM'!T28,'Skills explications FTEM'!G28)","v":"A-t-il la puissance, la force, la vitesse nécessaires dans les jambes et le haut du corps (facteurs neuromusculaires)"},null,null,{"$f":"IF($H$2=\"G\",'Skills explications FTEM'!W28,'Skills explications FTEM'!J28)","v":0},null,null,null,{"$f":"IFERROR(AVERAGE(O37:O40),\"-\")","v":"-"},null,null,null,{"$f":"IFERROR(AVERAGE(S37:S40),\"-\")","v":"-"},null,{"$f":"IFERROR(AVERAGE(U37:U40),\"-\")","v":"-"},null,{"$f":"IFERROR(AVERAGE(W37:W40),\"-\")","v":"-"},null,{"$f":"IFERROR(AVERAGE(Y37:Y40),\"-\")","v":"-"}]
[{"$f":"'Skills explications FTEM'!A29:C29","v":0},null,null,{"$f":"IF($H$2=\"G\",'Skills explications FTEM'!Q29,'Skills explications FTEM'!D29)","v":"SPÉCIFIQUE AU SPORT, RÉSISTANT À L'EFFORT"},null,null,{"$f":"IF($H$2=\"G\",'Skills explications FTEM'!T29,'Skills explications FTEM'!G29)","v":"Est-il capable de maintenir sa puissance, sa force, sa vitesse durant un long temps de glace et peut-il récupérer complètement entre ses engagements (facteurs du métabolisme et cardiovasculaire)"},null,null,{"$f":"IF($H$2=\"G\",'Skills explications FTEM'!W29,'Skills explications FTEM'!J29)","v":0}]
[{"$f":"'Skills explications FTEM'!A30:C30","v":0},null,null,{"$f":"IF($H$2=\"G\",'Skills explications FTEM'!Q30,'Skills explications FTEM'!D30)","v":"MOBILITÉ/ COODINATION"},null,null,{"$f":"IF($H$2=\"G\",'Skills explications FTEM'!T30,'Skills explications FTEM'!G30)","v":"Gère-t-il ses aptitudes de mouvements de base, qui sont un fournisseur important des fonctions spécifiques «Skills» pour être efficace"},null,null,{"$f":"IF($H$2=\"G\",'Skills explications FTEM'!W30,'Skills explications FTEM'!J30)","v":0}]
[{"$f":"'Skills explications FTEM'!A31:C31","v":0},null,null,{"$f":"IF($H$2=\"G\",'Skills explications FTEM'!Q31,'Skills explications FTEM'!D31)","v":"ROBUSTESSE / PREVENTION"},null,null,{"$f":"IF($H$2=\"G\",'Skills explications FTEM'!T31,'Skills explications FTEM'!G31)","v":"A-t-il la force de base nécessaire (tension corporelle) pour gagner des duels et résister aux charges, A-t-il la stabilité nécessaire (ex. ses appuis) et la mobilité nécessaire au niveau des articulations centrales"},null,null,{"$f":"IF($H$2=\"G\",'Skills explications FTEM'!W31,'Skills explications FTEM'!J31)","v":0}]

{"sheet":"16","index":19,"n_rows":40,"n_cols":36,"rows_kept":40,"cut":false,"hidden":false,"merged":[[36,25,39,25],[36,26,39,32],[36,34,39,34],[32,23,35,23],[33,3,33,5],[33,6,33,11],[35,3,35,5],[35,6,35,11],[32,0,35,2],[32,3,32,5],[32,6,32,11],[32,12,35,12],[32,13,35,13],[32,15,35,15],[36,0,39,2],[36,3,36,5],[36,6,36,11],[36,12,39,12],[36,23,39,23],[37,3,37,5],[37,6,37,11],[38,3,38,5],[38,6,38,11],[39,3,39,5],[27,21,27,22],[28,17,31,17],[28,19,31,19],[28,21,31,21],[29,3,29,5],[29,6,29,11],[30,3,30,5],[30,6,30,11],[32,17,35,17],[32,19,35,19],[32,21,35,21],[34,3,34,5],[34,6,34,11],[23,0,26,2],[23,3,23,5],[23,6,23,11],[23,12,26,12],[23,13,26,13],[23,15,26,15],[27,23,27,24],[27,26,27,32],[28,0,31,2],[28,3,28,5],[28,6,28,11],[28,12,31,12],[28,13,31,13],[28,15,31,15],[31,3,31,5],[31,6,31,11],[28,23,31,23],[27,0,27,2],[27,3,27,5],[27,6,27,11],[27,13,27,14],[27,15,27,16],[27,17,27,18],[27,19,27,20],[19,21,22,21],[19,23,22,23],[20,3,20,5],[20,6,20,11],[22,3,22,5],[22,6,22,11],[26,3,26,5],[26,6,26,11],[23,23,26,23],[23,17,26,17],[23,19,26,19],[23,21,26,21],[24,3,24,5],[24,6,24,11],[25,3,25,5],[25,6,25,11],[21,3,21,5],[21,6,21,11],[15,15,18,15],[15,17,18,17],[15,19,18,19],[15,21,18,21],[15,23,18,23],[18,3,18,5],[18,6,18,11],[19,0,22,2],[19,3,19,5],[19,6,19,11],[19,12,22,12],[19,13,22,13],[19,15,22,15],[19,17,22,17],[15,0,18,2],[15,3,15,5],[15,6,15,11],[15,12,18,12],[15,13,18,13],[16,3,16,5],[16,6,16,11],[17,3,17,5],[17,6,17,11],[19,19,22,19],[12,23,13,23],[13,3,13,5],[13,6,13,11],[14,0,14,2],[14,3,14,5],[14,6,14,11],[14,13,14,14],[14,15,14,16],[14,17,14,18],[14,19,14,20],[14,21,14,22],[14,23,14,24],[12,0,13,2],[12,3,12,5],[12,6,12,11],[12,12,13,12],[12,13,13,13],[12,15,13,15],[12,17,13,17],[12,19,13,19],[12,21,13,21],[11,0,11,2],[11,3,11,5],[11,13,11,14],[11,15,11,16],[11,17,11,18],[11,19,11,20],[11,21,11,22],[11,23,11,24],[11,26,11,32],[11,6,11,11],[0,33,0,35],[23,25,26,25],[23,26,26,32],[23,34,26,34],[28,25,31,25],[28,26,31,32],[28,34,31,34],[1,0,1,1],[1,2,1,5],[1,10,1,24],[2,0,2,1],[2,2,2,5],[2,11,2,24],[6,0,6,1],[6,2,6,35],[7,0,7,1],[7,2,7,35],[8,0,8,1],[8,2,8,35],[3,0,3,1],[3,10,3,24],[4,0,4,1],[4,2,4,5],[4,10,4,24],[39,6,39,11],[36,13,39,13],[36,15,39,15],[36,17,39,17],[36,19,39,19],[36,21,39,21],[0,0,0,24],[0,25,0,26],[0,27,0,32],[10,0,10,24],[10,25,10,35],[32,25,35,25],[32,26,35,32],[32,34,35,34],[12,25,13,25],[12,26,13,32],[12,34,13,34],[15,25,18,25],[15,26,18,32],[15,34,18,34],[19,25,22,25],[19,26,22,32],[19,34,22,34],[14,26,14,32]]}
["Infos personelles",null,null,null,null,null,null,null,null,null,null,null,null,null,null,null,null,null,null,null,null,null,null,null,null,"Predispositions",null,"Evaluations",null,null,null,null,null,"Rating"]
["PRENOM",null,{"$f":"IF(ISBLANK(VLOOKUP(16,Tabelle3[],3,0)),\"-\",VLOOKUP(16,Tabelle3[],3,0))","v":"-"},null,null,null,"POSITION",null,null,"ADRESSE",{"$f":"IF(ISBLANK(VLOOKUP(16,Tabelle3[],5,0)),\"-\",VLOOKUP(16,Tabelle3[],5,0))","v":"-"},null,null,null,null,null,null,null,null,null,null,null,null,null,null,"\"àage\" (Biologique/age relatif)",null,"Date 1",null,null,"cm",null,"Kg",null,"AUSGEZEICHNET",5]
["NOM",null,{"$f":"IF(ISBLANK(VLOOKUP(16,Tabelle3[],2,0)),\"-\",VLOOKUP(16,Tabelle3[],2,0))","v":"-"},null,null,null,"CANNE",null,null,"LIEU",{"$f":"IF(ISBLANK(VLOOKUP(16,Tabelle3[],7,0)),\"-\",VLOOKUP(16,Tabelle3[],7,0))","v":"-"},{"$f":"IF(ISBLANK(VLOOKUP(16,Tabelle3[],6,0)),\"-\",VLOOKUP(16,Tabelle3[],6,0))","v":"-"},null,null,null,null,null,null,null,null,null,null,null,null,null,"predispositions",null,"Date 2",null,null,"cm",null,"Kg",null,"GUT",4]
["DATE NAISS.",null,{"$f":"IF(ISBLANK(VLOOKUP(16,Tabelle3[],14,0)),\"-\",VLOOKUP(16,Tabelle3[],14,0))","v":"-"},{"$f":"IF(ISBLANK(VLOOKUP(16,Tabelle3[],15,0)),\"-\",VLOOKUP(16,Tabelle3[],15,0))","v":"-"},{"$f":"IF(ISBLANK(VLOOKUP(16,Tabelle3[],16,0)),\"-\",VLOOKUP(16,Tabelle3[],16,0))","v":"-"},null,"GRANDEUR",null,"cm","PHONE",{"$f":"IF(ISBLANK(VLOOKUP(16,Tabelle3[],8,0)),\"-\",VLOOKUP(16,Tabelle3[],8,0))","v":"-"},null,null,null,null,null,null,null,null,null,null,null,null,null,null,"Entourage",null,"Date 3",null,null,"cm",null,"Kg",null,"DURCHSCHNITT",3]
["SEXE",null,{"$f":"IF(ISBLANK(VLOOKUP(16,Tabelle3[],13,0)),\"-\",VLOOKUP(16,Tabelle3[],13,0))","v":"-"},null,null,null,"POIDS",null,"Kg","E-Mail",{"$f":"IF(ISBLANK(VLOOKUP(16,Tabelle3[],9,0)),\"-\",VLOOKUP(16,Tabelle3[],9,0))","v":"-"},null,null,null,null,null,null,null,null,null,null,null,null,null,null,null,null,"Date 4",null,null,"cm",null,"Kg",null,"MANGELHAFT",2]
[null,null,null,null,null,null,null,null,null,null,null,null,null,null,null,null,null,null,null,null,null,null,null,null,null,null,null,"Date 5",null,null,"cm",null,"Kg",null,"UNGENÜGEND",1]
["Vision",null,"xxx"]
["Next step",null,"xxx"]
["Profil du Joueur",null,"xxx"]
[]
["EVALUATION (COACH / JOUEUR)",null,null,null,null,null,null,null,null,null,null,null,null,null,null,null,null,null,null,null,null,null,null,null,null,"SMART"]
[{"$f":"'Skills explications FTEM'!A3:C3","v":"TEAM"},null,null,"CAPACITE",null,null,"OBSERVATION",null,null,null,null,null,"Final","Date1",null,"Date2",null,"Date3",null,"Date4",null,"Date5",null,"Player",null,"BUT","MESURES:\nSPECIFIQUE, MESURABLES, REALISTE",null,null,null,null,null,null,"DELAI","CONTRÔLE DU BUT","Date"]
[{"$f":"'Skills explications FTEM'!A4:C4","v":"ROLLE, SOZIAL"},null,null,{"$f":"IF($H$2=\"G\",'Skills explications FTEM'!Q4,'Skills explications FTEM'!D4)","v":"PENSER EQUIPE"},null,null,{"$f":"IF($H$2=\"G\",'Skills explications FTEM'!T4,'Skills explications FTEM'!G4)","v":"Identification au rôle, relation au cammarades (social, intégration)"},null,null,{"$f":"IF($H$2=\"G\",'Skills explications FTEM'!W4,'Skills explications FTEM'!J4)","v":0},null,null,null,{"$f":"IFERROR(AVERAGE(O13:O14),\"-\")","v":"-"},null,{"$f":"IFERROR(AVERAGE(Q13:Q14),\"-\")","v":"-"},null,{"$f":"IFERROR(AVERAGE(S13:S14),\"-\")","v":"-"},null,{"$f":"IFERROR(AVERAGE(U13:U14),\"-\")","v":"-"},null,{"$f":"IFERROR(AVERAGE(W13:W14),\"-\")","v":"-"},null,{"$f":"IFERROR(AVERAGE(Y13:Y14),\"-\")","v":"-"}]
[{"$f":"'Skills explications FTEM'!A5:C5","v":0},null,null,{"$f":"IF($H$2=\"G\",'Skills explications FTEM'!Q5,'Skills explications FTEM'!D5)","v":"LEADERSHIP"},null,null,{"$f":"IF($H$2=\"G\",'Skills explications FTEM'!T5,'Skills explications FTEM'!G5)","v":"prend des responsabilités, rend son coéquipier meilleur"},null,null,{"$f":"IF($H$2=\"G\",'Skills explications FTEM'!W5,'Skills explications FTEM'!J5)","v":0}]
[{"$f":"'Skills explications FTEM'!A6:C6","v":"ON ICE"},null,null,"CAPACITE",null,null,"OBSERVATION",null,null,null,null,null,null,"Date1",null,"Date2",null,"Date3",null,"Date4",null,"Date5",null,"Player",null,"BUT","MESURES:\nSPECIFIQUE, MESURABLES, REALISTE",null,null,null,null,null,null,"DELAI","CONTRÔLE DU BUT","Date"]
[{"$f":"'Skills explications FTEM'!A7:C7","v":"SKILL"},null,null,{"$f":"IF($H$2=\"G\",'Skills explications FTEM'!Q7,'Skills explications FTEM'!D7)","v":"TIR  (EFFET)"},null,null,{"$f":"IF($H$2=\"G\",'Skills explications FTEM'!T7,'Skills explications FTEM'!G7)","v":"Efficience (pas d'espace et de temps), variantes, degré de surprise (déclenchement rapide), précision, puissance (conclusion tactique)"},null,null,{"$f":"IF($H$2=\"G\",'Skills explications FTEM'!W7,'Skills explications FTEM'!J7)","v":0},null,null,null,{"$f":"IFERROR(AVERAGE(O16:O19),\"-\")","v":"-"},null,{"$f":"IFERROR(AVERAGE(Q16:Q19),\"-\")","v":"-"},null,{"$f":"IFERROR(AVERAGE(S16:S19),\"-\")","v":"-"},null,{"$f":"IFERROR(AVERAGE(U16:U19),\"-\")","v":"-"},null,{"$f":"IFERROR(AVERAGE(W16:W19),\"-\")","v":"-"},null,{"$f":"IFERROR(AVERAGE(Y16:Y19),\"-\")","v":"-"}]
[{"$f":"'Skills explications FTEM'!A8:C8","v":0},null,null,{"$f":"IF($H$2=\"G\",'Skills explications FTEM'!Q8,'Skills explications FTEM'!D8)","v":"PASSER"},null,null,{"$f":"IF($H$2=\"G\",'Skills explications FTEM'!T8,'Skills explications FTEM'!G8)","v":"Donne la passe (distance, passe flipée en revers), réception de la passe (précision, timing, coup droit, revers, patins), vitesse du puck"},null,null,{"$f":"IF($H$2=\"G\",'Skills explications FTEM'!W8,'Skills explications FTEM'!J8)","v":0}]
[{"$f":"'Skills explications FTEM'!A9:C9","v":0},null,null,{"$f":"IF($H$2=\"G\",'Skills explications FTEM'!Q9,'Skills explications FTEM'!D9)","v":"JEU DU CORPS"},null,null,{"$f":"IF($H$2=\"G\",'Skills explications FTEM'!T9,'Skills explications FTEM'!G9)","v":"Faculté de s'imposer physiquement, duels (sur la surface de glace ou à la bande), prendre des checks, lever la tête, niveau de lutte, dur mais correct, bloquer les tirs avec le corps"},null,null,{"$f":"IF($H$2=\"G\",'Skills explications FTEM'!W9,'Skills explications FTEM'!J9)","v":0},null,null,null,{"$f":"IFERROR(AVERAGE(O18:O19),\"-\")","v":"-"},null,{"$f":"IFERROR(AVERAGE(Q18:Q19),\"-\")","v":"-"},null,{"$f":"IFERROR(AVERAGE(S18:S19),\"-\")","v":"-"},null,{"$f":"IFERROR(AVERAGE(U18:U19),\"-\")","v":"-"},null,{"$f":"IFERROR(AVERAGE(W18:W19),\"-\")","v":"-"},null,"-"]
[{"$f":"'Skills explications FTEM'!A10:C10","v":0},null,null,{"$f":"IF($H$2=\"G\",'Skills explications FTEM'!Q10,'Skills explications FTEM'!D10)","v":"CONTRÔLE DU PUCK"},null,null,{"$f":"IF($H$2=\"G\",'Skills explications FTEM'!T10,'Skills explications FTEM'!G10)","v":"Contrôle du puck, dribbling, protection du puck, feintes (variantes: avec les patins ou avec et sans la bande), mise au jeu (bully)"},null,null,{"$f":"IF($H$2=\"G\",'Skills explications FTEM'!W10,'Skills explications FTEM'!J10)","v":0}]
[{"$f":"'Skills explications FTEM'!A11:C11","v":"SKATING"},null,null,{"$f":"IF($H$2=\"G\",'Skills explications FTEM'!Q11,'Skills explications FTEM'!D11)","v":"FOOTSPEED"},null,null,{"$f":"IF($H$2=\"G\",'Skills explications FTEM'!T11,'Skills explications FTEM'!G11)","v":"Accélération, départ, explosivité des 3 premiers pas, fréquence"},null,null,{"$f":"IF($H$2=\"G\",'Skills explications FTEM'!W11,'Skills explications FTEM'!J11)","v":0},null,null,null,{"$f":"IFERROR(AVERAGE(O20:O23),\"-\")","v":"-"},null,{"$f":"IFERROR(AVERAGE(Q20:Q23),\"-\")","v":"-"},null,{"$f":"IFERROR(AVERAGE(S20:S23),\"-\")","v":"-"},null,{"$f":"IFERROR(AVERAGE(U20:U23),\"-\")","v":"-"},null,{"$f":"IFERROR(AVERAGE(W20:W23),\"-\")","v":"-"},null,{"$f":"IFERROR(AVERAGE(Y20:Y23),\"-\")","v":"-"}]
[{"$f":"'Skills explications FTEM'!A12:C12","v":0},null,null,{"$f":"IF($H$2=\"G\",'Skills explications FTEM'!Q12,'Skills explications FTEM'!D12)","v":"MOBILITE"},null,null,{"$f":"IF($H$2=\"G\",'Skills explications FTEM'!T12,'Skills explications FTEM'!G12)","v":"Changements de direction, pivots, stop et start «Nummelin»"},null,null,{"$f":"IF($H$2=\"G\",'Skills explications FTEM'!W12,'Skills explications FTEM'!J12)","v":0}]
[{"$f":"'Skills explications FTEM'!A13:C13","v":0},null,null,{"$f":"IF($H$2=\"G\",'Skills explications FTEM'!Q13,'Skills explications FTEM'!D13)","v":"PATTINAGE ARRIÈRE"},null,null,{"$f":"IF($H$2=\"G\",'Skills explications FTEM'!T13,'Skills explications FTEM'!G13)","v":"Accélération, vitesse, équilibre"},null,null,{"$f":"IF($H$2=\"G\",'Skills explications FTEM'!W13,'Skills explications FTEM'!J13)","v":0}]
[{"$f":"'Skills explications FTEM'!A14:C14","v":0},null,null,{"$f":"IF($H$2=\"G\",'Skills explications FTEM'!Q14,'Skills explications FTEM'!D14)","v":"TOP SPEED"},null,null,{"$f":"IF($H$2=\"G\",'Skills explications FTEM'!T14,'Skills explications FTEM'!G14)","v":"Vitesse, faculté de glisse, avant et arrière, économie des forces"},null,null,{"$f":"IF($H$2=\"G\",'Skills explications FTEM'!W14,'Skills explications FTEM'!J14)","v":0}]
[{"$f":"'Skills explications FTEM'!A15:C15","v":"HOCKEY SENSE"},null,null,{"$f":"IF($H$2=\"G\",'Skills explications FTEM'!Q15,'Skills explications FTEM'!D15)","v":"SCORING"},null,null,{"$f":"IF($H$2=\"G\",'Skills explications FTEM'!T15,'Skills explications FTEM'!G15)","v":"Efficience, richesse des variantes, surpenant, vite, variante de tirs"},null,null,{"$f":"IF($H$2=\"G\",'Skills explications FTEM'!W15,'Skills explications FTEM'!J15)","v":0},null,null,null,{"$f":"IFERROR(AVERAGE(O24:O27),\"-\")","v":"-"},null,{"$f":"IFERROR(AVERAGE(Q24:Q27),\"-\")","v":"-"},null,{"$f":"IFERROR(AVERAGE(S24:S27),\"-\")","v":"-"},null,{"$f":"IFERROR(AVERAGE(U24:U27),\"-\")","v":"-"},null,{"$f":"IFERROR(AVERAGE(W24:W27),\"-\")","v":"-"},null,{"$f":"IFERROR(AVERAGE(Y24:Y27),\"-\")","v":"-"}]
[{"$f":"'Skills explications FTEM'!A16:C16","v":0},null,null,{"$f":"IF($H$2=\"G\",'Skills explications FTEM'!Q16,'Skills explications FTEM'!D16)","v":"AVEC PUCK"},null,null,{"$f":"IF($H$2=\"G\",'Skills explications FTEM'!T16,'Skills explications FTEM'!G16)","v":"créatif,  performing, batteling, fou, transition"},null,null,{"$f":"IF($H$2=\"G\",'Skills explications FTEM'!W16,'Skills explications FTEM'!J16)","v":0}]
[{"$f":"'Skills explications FTEM'!A17:C17","v":0},null,null,{"$f":"IF($H$2=\"G\",'Skills explications FTEM'!Q17,'Skills explications FTEM'!D17)","v":"SANS PUCK"},null,null,{"$f":"IF($H$2=\"G\",'Skills explications FTEM'!T17,'Skills explications FTEM'!G17)","v":"ouvert pour un passe (Support), 1:1, Gap"},null,null,{"$f":"IF($H$2=\"G\",'Skills explications FTEM'!W17,'Skills explications FTEM'!J17)","v":0}]
[{"$f":"'Skills explications FTEM'!A18:C18","v":0},null,null,{"$f":"IF($H$2=\"G\",'Skills explications FTEM'!Q18,'Skills explications FTEM'!D18)","v":"DEFENSIF"},null,null,{"$f":"IF($H$2=\"G\",'Skills explications FTEM'!T18,'Skills explications FTEM'!G18)","v":"on peut compter dessus,  1:1, Gap, identification de l'homme"},null,null,{"$f":"IF($H$2=\"G\",'Skills explications FTEM'!W18,'Skills explications FTEM'!J18)","v":0}]
[{"$f":"'Skills explications FTEM'!A19:C19","v":"PERSONALITY"},null,null,"CAPACITE",null,null,"OBSERVATION",null,null,null,null,null,null,"Date1",null,"Date2",null,"Date3",null,"Date4",null,"Date5",null,"Player",null,"BUT","MESURES:\nSPECIFIQUE, MESURABLES, REALISTE",null,null,null,null,null,null,"DELAI","CONTRÔLE DU BUT","Date"]
[{"$f":"'Skills explications FTEM'!A20:C20","v":"PERSONALITÉ"},null,null,{"$f":"IF($H$2=\"G\",'Skills explications FTEM'!Q20,'Skills explications FTEM'!D20)","v":"MOTIVATION"},null,null,{"$f":"IF($H$2=\"G\",'Skills explications FTEM'!T20,'Skills explications FTEM'!G20)","v":"Est toujours motivé, veut sans cesse se développer et apprendre, veut être le premier et avoir du succès, n'abandonne jamais et ne se laisse pas influencer par les échecs"},null,null,{"$f":"IF($H$2=\"G\",'Skills explications FTEM'!W20,'Skills explications FTEM'!J20)","v":0},null,null,null,{"$f":"IFERROR(AVERAGE(O29:O32),\"-\")","v":"-"},null,null,null,{"$f":"IFERROR(AVERAGE(S29:S32),\"-\")","v":"-"},null,{"$f":"IFERROR(AVERAGE(U29:U32),\"-\")","v":"-"},null,{"$f":"IFERROR(AVERAGE(W29:W32),\"-\")","v":"-"},null,{"$f":"IFERROR(AVERAGE(Y29:Y32),\"-\")","v":"-"}]
[{"$f":"'Skills explications FTEM'!A21:C21","v":0},null,null,{"$f":"IF($H$2=\"G\",'Skills explications FTEM'!Q21,'Skills explications FTEM'!D21)","v":"CONFIENCE EN SOI"},null,null,{"$f":"IF($H$2=\"G\",'Skills explications FTEM'!T21,'Skills explications FTEM'!G21)","v":"Est en confiance, «I can do it», peut estimer ses capacités (connaît ses qualités et ses défauts), peut réaliser ses qualités avec constance, est courageux et prend des risques calculés"},null,null,{"$f":"IF($H$2=\"G\",'Skills explications FTEM'!W21,'Skills explications FTEM'!J21)","v":0}]
[{"$f":"'Skills explications FTEM'!A22:C22","v":0},null,null,{"$f":"IF($H$2=\"G\",'Skills explications FTEM'!Q22,'Skills explications FTEM'!D22)","v":"FACULTÉES D'APPRENTISSAGE"},null,null,{"$f":"IF($H$2=\"G\",'Skills explications FTEM'!T22,'Skills explications FTEM'!G22)","v":"A une bonne perception (il peut mémoriser et peut réaliser), il a de la personnalité, essaie d'apprendre de ses erreurs et est entreprenant"},null,null,{"$f":"IF($H$2=\"G\",'Skills explications FTEM'!W22,'Skills explications FTEM'!J22)","v":0}]
[{"$f":"'Skills explications FTEM'!A23:C23","v":0},null,null,{"$f":"IF($H$2=\"G\",'Skills explications FTEM'!Q23,'Skills explications FTEM'!D23)","v":"PERFORMANCE, STYLE DE VIE"},null,null,{"$f":"IF($H$2=\"G\",'Skills explications FTEM'!T23,'Skills explications FTEM'!G23)","v":"Gère bien son environnement et son temps libre selon les principes de la performance, obstiné, tenace et axé sur l'objectif, accent sur sa propre performance, est courageux et peut s'imposer contre de la résistance, les défis le motivent"},null,null,{"$f":"IF($H$2=\"G\",'Skills explications FTEM'!W23,'Skills explications FTEM'!J23)","v":0}]
[{"$f":"'Skills explications FTEM'!A24:C24","v":"POWER MENTAL"},null,null,{"$f":"IF($H$2=\"G\",'Skills explications FTEM'!Q24,'Skills explications FTEM'!D24)","v":"GESTION DES ÉNERGIES"},null,null,{"$f":"IF($H$2=\"G\",'Skills explications FTEM'!T24,'Skills explications FTEM'!G24)","v":"Peut-il gérer ses propres énergies, prend-il soin de sa régénération, peut-il gérer les moments où il faut se donner à fond ou quand il faut déconnecter, bouton On/Off"},null,null,{"$f":"IF($H$2=\"G\",'Skills explications FTEM'!W24,'Skills explications FTEM'!J24)","v":0},null,null,null,{"$f":"IFERROR(AVERAGE(O33:O36),\"-\")","v":"-"},null,null,null,{"$f":"IFERROR(AVERAGE(S33:S36),\"-\")","v":"-"},null,{"$f":"IFERROR(AVERAGE(U33:U36),\"-\")","v":"-"},null,{"$f":"IFERROR(AVERAGE(W33:W36),\"-\")","v":"-"},null,{"$f":"IFERROR(AVERAGE(Y33:Y36),\"-\")","v":"-"}]
[{"$f":"'Skills explications FTEM'!A25:C25","v":0},null,null,{"$f":"IF($H$2=\"G\",'Skills explications FTEM'!Q25,'Skills explications FTEM'!D25)","v":"ENGAGEMENT"},null,null,{"$f":"IF($H$2=\"G\",'Skills explications FTEM'!T25,'Skills explications FTEM'!G25)","v":"Démontre beaucoup d'intensité dans les entraînements et les matchs, donne toujours son maximum et veut sans cesse repousser ses limites, a-t-il de la passion, s'efforce-t-il de s'entraîner avec une excellente qualité"},null,null,{"$f":"IF($H$2=\"G\",'Skills explications FTEM'!W25,'Skills explications FTEM'!J25)","v":0}]
[{"$f":"'Skills explications FTEM'!A26:C26","v":0},null,null,{"$f":"IF($H$2=\"G\",'Skills explications FTEM'!Q26,'Skills explications FTEM'!D26)","v":"CONTRÔLE DES ÉMOTIONS"},null,null,{"$f":"IF($H$2=\"G\",'Skills explications FTEM'!T26,'Skills explications FTEM'!G26)","v":"Peut-il gérer ses propres émotions et impulsions, reste-t-il sous contrôle lorsqu'il y a une grande pression, peut-il rester calme lorsque le niveau émotionnel et de frustration est élevé"},null,null,{"$f":"IF($H$2=\"G\",'Skills explications FTEM'!W26,'Skills explications FTEM'!J26)","v":0}]
[{"$f":"'Skills explications FTEM'!A27:C27","v":0},null,null,{"$f":"IF($H$2=\"G\",'Skills explications FTEM'!Q27,'Skills explications FTEM'!D27)","v":"PRÉPARATION"},null,null,{"$f":"IF($H$2=\"G\",'Skills explications FTEM'!T27,'Skills explications FTEM'!G27)","v":"Se prépare-t-il toujours bien, mentalement et physiquement, se prépare-t-il toujours bien pour obtenir le niveau de performance idéal (ILZ)"},null,null,{"$f":"IF($H$2=\"G\",'Skills explications FTEM'!W27,'Skills explications FTEM'!J27)","v":0}]
[{"$f":"'Skills explications FTEM'!A28:C28","v":"PYHSE (Athletik)"},null,null,{"$f":"IF($H$2=\"G\",'Skills explications FTEM'!Q28,'Skills explications FTEM'!D28)","v":"PRODUCTION DE LA PERFORMANCE"},null,null,{"$f":"IF($H$2=\"G\",'Skills explications FTEM'!T28,'Skills explications FTEM'!G28)","v":"A-t-il la puissance, la force, la vitesse nécessaires dans les jambes et le haut du corps (facteurs neuromusculaires)"},null,null,{"$f":"IF($H$2=\"G\",'Skills explications FTEM'!W28,'Skills explications FTEM'!J28)","v":0},null,null,null,{"$f":"IFERROR(AVERAGE(O37:O40),\"-\")","v":"-"},null,null,null,{"$f":"IFERROR(AVERAGE(S37:S40),\"-\")","v":"-"},null,{"$f":"IFERROR(AVERAGE(U37:U40),\"-\")","v":"-"},null,{"$f":"IFERROR(AVERAGE(W37:W40),\"-\")","v":"-"},null,{"$f":"IFERROR(AVERAGE(Y37:Y40),\"-\")","v":"-"}]
[{"$f":"'Skills explications FTEM'!A29:C29","v":0},null,null,{"$f":"IF($H$2=\"G\",'Skills explications FTEM'!Q29,'Skills explications FTEM'!D29)","v":"SPÉCIFIQUE AU SPORT, RÉSISTANT À L'EFFORT"},null,null,{"$f":"IF($H$2=\"G\",'Skills explications FTEM'!T29,'Skills explications FTEM'!G29)","v":"Est-il capable de maintenir sa puissance, sa force, sa vitesse durant un long temps de glace et peut-il récupérer complètement entre ses engagements (facteurs du métabolisme et cardiovasculaire)"},null,null,{"$f":"IF($H$2=\"G\",'Skills explications FTEM'!W29,'Skills explications FTEM'!J29)","v":0}]
[{"$f":"'Skills explications FTEM'!A30:C30","v":0},null,null,{"$f":"IF($H$2=\"G\",'Skills explications FTEM'!Q30,'Skills explications FTEM'!D30)","v":"MOBILITÉ/ COODINATION"},null,null,{"$f":"IF($H$2=\"G\",'Skills explications FTEM'!T30,'Skills explications FTEM'!G30)","v":"Gère-t-il ses aptitudes de mouvements de base, qui sont un fournisseur important des fonctions spécifiques «Skills» pour être efficace"},null,null,{"$f":"IF($H$2=\"G\",'Skills explications FTEM'!W30,'Skills explications FTEM'!J30)","v":0}]
[{"$f":"'Skills explications FTEM'!A31:C31","v":0},null,null,{"$f":"IF($H$2=\"G\",'Skills explications FTEM'!Q31,'Skills explications FTEM'!D31)","v":"ROBUSTESSE / PREVENTION"},null,null,{"$f":"IF($H$2=\"G\",'Skills explications FTEM'!T31,'Skills explications FTEM'!G31)","v":"A-t-il la force de base nécessaire (tension corporelle) pour gagner des duels et résister aux charges, A-t-il la stabilité nécessaire (ex. ses appuis) et la mobilité nécessaire au niveau des articulations centrales"},null,null,{"$f":"IF($H$2=\"G\",'Skills explications FTEM'!W31,'Skills explications FTEM'!J31)","v":0}]

{"sheet":"17","index":20,"n_rows":40,"n_cols":36,"rows_kept":40,"cut":false,"hidden":false,"merged":[[36,25,39,25],[36,26,39,32],[36,34,39,34],[32,23,35,23],[33,3,33,5],[33,6,33,11],[35,3,35,5],[35,6,35,11],[32,0,35,2],[32,3,32,5],[32,6,32,11],[32,12,35,12],[32,13,35,13],[32,15,35,15],[36,0,39,2],[36,3,36,5],[36,6,36,11],[36,12,39,12],[36,23,39,23],[37,3,37,5],[37,6,37,11],[38,3,38,5],[38,6,38,11],[39,3,39,5],[27,21,27,22],[28,17,31,17],[28,19,31,19],[28,21,31,21],[29,3,29,5],[29,6,29,11],[30,3,30,5],[30,6,30,11],[32,17,35,17],[32,19,35,19],[32,21,35,21],[34,3,34,5],[34,6,34,11],[23,0,26,2],[23,3,23,5],[23,6,23,11],[23,12,26,12],[23,13,26,13],[23,15,26,15],[27,23,27,24],[27,26,27,32],[28,0,31,2],[28,3,28,5],[28,6,28,11],[28,12,31,12],[28,13,31,13],[28,15,31,15],[31,3,31,5],[31,6,31,11],[28,23,31,23],[27,0,27,2],[27,3,27,5],[27,6,27,11],[27,13,27,14],[27,15,27,16],[27,17,27,18],[27,19,27,20],[19,21,22,21],[19,23,22,23],[20,3,20,5],[20,6,20,11],[22,3,22,5],[22,6,22,11],[26,3,26,5],[26,6,26,11],[23,23,26,23],[23,17,26,17],[23,19,26,19],[23,21,26,21],[24,3,24,5],[24,6,24,11],[25,3,25,5],[25,6,25,11],[21,3,21,5],[21,6,21,11],[15,15,18,15],[15,17,18,17],[15,19,18,19],[15,21,18,21],[15,23,18,23],[18,3,18,5],[18,6,18,11],[19,0,22,2],[19,3,19,5],[19,6,19,11],[19,12,22,12],[19,13,22,13],[19,15,22,15],[19,17,22,17],[15,0,18,2],[15,3,15,5],[15,6,15,11],[15,12,18,12],[15,13,18,13],[16,3,16,5],[16,6,16,11],[17,3,17,5],[17,6,17,11],[19,19,22,19],[12,23,13,23],[13,3,13,5],[13,6,13,11],[14,0,14,2],[14,3,14,5],[14,6,14,11],[14,13,14,14],[14,15,14,16],[14,17,14,18],[14,19,14,20],[14,21,14,22],[14,23,14,24],[12,0,13,2],[12,3,12,5],[12,6,12,11],[12,12,13,12],[12,13,13,13],[12,15,13,15],[12,17,13,17],[12,19,13,19],[12,21,13,21],[11,0,11,2],[11,3,11,5],[11,13,11,14],[11,15,11,16],[11,17,11,18],[11,19,11,20],[11,21,11,22],[11,23,11,24],[11,26,11,32],[11,6,11,11],[0,33,0,35],[23,25,26,25],[23,26,26,32],[23,34,26,34],[28,25,31,25],[28,26,31,32],[28,34,31,34],[1,0,1,1],[1,2,1,5],[1,10,1,24],[2,0,2,1],[2,2,2,5],[2,11,2,24],[6,0,6,1],[6,2,6,35],[7,0,7,1],[7,2,7,35],[8,0,8,1],[8,2,8,35],[3,0,3,1],[3,10,3,24],[4,0,4,1],[4,2,4,5],[4,10,4,24],[39,6,39,11],[36,13,39,13],[36,15,39,15],[36,17,39,17],[36,19,39,19],[36,21,39,21],[0,0,0,24],[0,25,0,26],[0,27,0,32],[10,0,10,24],[10,25,10,35],[32,25,35,25],[32,26,35,32],[32,34,35,34],[12,25,13,25],[12,26,13,32],[12,34,13,34],[15,25,18,25],[15,26,18,32],[15,34,18,34],[19,25,22,25],[19,26,22,32],[19,34,22,34],[14,26,14,32]]}
["Infos personelles",null,null,null,null,null,null,null,null,null,null,null,null,null,null,null,null,null,null,null,null,null,null,null,null,"Predispositions",null,"Evaluations",null,null,null,null,null,"Rating"]
["PRENOM",null,{"$f":"IF(ISBLANK(VLOOKUP(17,Tabelle3[],3,0)),\"-\",VLOOKUP(17,Tabelle3[],3,0))","v":"-"},null,null,null,"POSITION",null,null,"ADRESSE",{"$f":"IF(ISBLANK(VLOOKUP(17,Tabelle3[],5,0)),\"-\",VLOOKUP(17,Tabelle3[],5,0))","v":"-"},null,null,null,null,null,null,null,null,null,null,null,null,null,null,"\"àage\" (Biologique/age relatif)",null,"Date 1",null,null,"cm",null,"Kg",null,"AUSGEZEICHNET",5]
["NOM",null,{"$f":"IF(ISBLANK(VLOOKUP(17,Tabelle3[],2,0)),\"-\",VLOOKUP(17,Tabelle3[],2,0))","v":"-"},null,null,null,"CANNE",null,null,"LIEU",{"$f":"IF(ISBLANK(VLOOKUP(17,Tabelle3[],7,0)),\"-\",VLOOKUP(17,Tabelle3[],7,0))","v":"-"},{"$f":"IF(ISBLANK(VLOOKUP(17,Tabelle3[],6,0)),\"-\",VLOOKUP(17,Tabelle3[],6,0))","v":"-"},null,null,null,null,null,null,null,null,null,null,null,null,null,"predispositions",null,"Date 2",null,null,"cm",null,"Kg",null,"GUT",4]
["DATE NAISS.",null,{"$f":"IF(ISBLANK(VLOOKUP(17,Tabelle3[],14,0)),\"-\",VLOOKUP(17,Tabelle3[],14,0))","v":"-"},{"$f":"IF(ISBLANK(VLOOKUP(17,Tabelle3[],15,0)),\"-\",VLOOKUP(17,Tabelle3[],15,0))","v":"-"},{"$f":"IF(ISBLANK(VLOOKUP(17,Tabelle3[],16,0)),\"-\",VLOOKUP(17,Tabelle3[],16,0))","v":"-"},null,"GRANDEUR",null,"cm","PHONE",{"$f":"IF(ISBLANK(VLOOKUP(17,Tabelle3[],8,0)),\"-\",VLOOKUP(17,Tabelle3[],8,0))","v":"-"},null,null,null,null,null,null,null,null,null,null,null,null,null,null,"Entourage",null,"Date 3",null,null,"cm",null,"Kg",null,"DURCHSCHNITT",3]
["SEXE",null,{"$f":"IF(ISBLANK(VLOOKUP(17,Tabelle3[],13,0)),\"-\",VLOOKUP(17,Tabelle3[],13,0))","v":"-"},null,null,null,"POIDS",null,"Kg","E-Mail",{"$f":"IF(ISBLANK(VLOOKUP(17,Tabelle3[],9,0)),\"-\",VLOOKUP(17,Tabelle3[],9,0))","v":"-"},null,null,null,null,null,null,null,null,null,null,null,null,null,null,null,null,"Date 4",null,null,"cm",null,"Kg",null,"MANGELHAFT",2]
[null,null,null,null,null,null,null,null,null,null,null,null,null,null,null,null,null,null,null,null,null,null,null,null,null,null,null,"Date 5",null,null,"cm",null,"Kg",null,"UNGENÜGEND",1]
["Vision",null,"xxx"]
["Next step",null,"xxx"]
["Profil du Joueur",null,"xxx"]
[]
["EVALUATION (COACH / JOUEUR)",null,null,null,null,null,null,null,null,null,null,null,null,null,null,null,null,null,null,null,null,null,null,null,null,"SMART"]
[{"$f":"'Skills explications FTEM'!A3:C3","v":"TEAM"},null,null,"CAPACITE",null,null,"OBSERVATION",null,null,null,null,null,"Final","Date1",null,"Date2",null,"Date3",null,"Date4",null,"Date5",null,"Player",null,"BUT","MESURES:\nSPECIFIQUE, MESURABLES, REALISTE",null,null,null,null,null,null,"DELAI","CONTRÔLE DU BUT","Date"]
[{"$f":"'Skills explications FTEM'!A4:C4","v":"ROLLE, SOZIAL"},null,null,{"$f":"IF($H$2=\"G\",'Skills explications FTEM'!Q4,'Skills explications FTEM'!D4)","v":"PENSER EQUIPE"},null,null,{"$f":"IF($H$2=\"G\",'Skills explications FTEM'!T4,'Skills explications FTEM'!G4)","v":"Identification au rôle, relation au cammarades (social, intégration)"},null,null,{"$f":"IF($H$2=\"G\",'Skills explications FTEM'!W4,'Skills explications FTEM'!J4)","v":0},null,null,null,{"$f":"IFERROR(AVERAGE(O13:O14),\"-\")","v":"-"},null,{"$f":"IFERROR(AVERAGE(Q13:Q14),\"-\")","v":"-"},null,{"$f":"IFERROR(AVERAGE(S13:S14),\"-\")","v":"-"},null,{"$f":"IFERROR(AVERAGE(U13:U14),\"-\")","v":"-"},null,{"$f":"IFERROR(AVERAGE(W13:W14),\"-\")","v":"-"},null,{"$f":"IFERROR(AVERAGE(Y13:Y14),\"-\")","v":"-"}]
[{"$f":"'Skills explications FTEM'!A5:C5","v":0},null,null,{"$f":"IF($H$2=\"G\",'Skills explications FTEM'!Q5,'Skills explications FTEM'!D5)","v":"LEADERSHIP"},null,null,{"$f":"IF($H$2=\"G\",'Skills explications FTEM'!T5,'Skills explications FTEM'!G5)","v":"prend des responsabilités, rend son coéquipier meilleur"},null,null,{"$f":"IF($H$2=\"G\",'Skills explications FTEM'!W5,'Skills explications FTEM'!J5)","v":0}]
[{"$f":"'Skills explications FTEM'!A6:C6","v":"ON ICE"},null,null,"CAPACITE",null,null,"OBSERVATION",null,null,null,null,null,null,"Date1",null,"Date2",null,"Date3",null,"Date4",null,"Date5",null,"Player",null,"BUT","MESURES:\nSPECIFIQUE, MESURABLES, REALISTE",null,null,null,null,null,null,"DELAI","CONTRÔLE DU BUT","Date"]
[{"$f":"'Skills explications FTEM'!A7:C7","v":"SKILL"},null,null,{"$f":"IF($H$2=\"G\",'Skills explications FTEM'!Q7,'Skills explications FTEM'!D7)","v":"TIR  (EFFET)"},null,null,{"$f":"IF($H$2=\"G\",'Skills explications FTEM'!T7,'Skills explications FTEM'!G7)","v":"Efficience (pas d'espace et de temps), variantes, degré de surprise (déclenchement rapide), précision, puissance (conclusion tactique)"},null,null,{"$f":"IF($H$2=\"G\",'Skills explications FTEM'!W7,'Skills explications FTEM'!J7)","v":0},null,null,null,{"$f":"IFERROR(AVERAGE(O16:O19),\"-\")","v":"-"},null,{"$f":"IFERROR(AVERAGE(Q16:Q19),\"-\")","v":"-"},null,{"$f":"IFERROR(AVERAGE(S16:S19),\"-\")","v":"-"},null,{"$f":"IFERROR(AVERAGE(U16:U19),\"-\")","v":"-"},null,{"$f":"IFERROR(AVERAGE(W16:W19),\"-\")","v":"-"},null,{"$f":"IFERROR(AVERAGE(Y16:Y19),\"-\")","v":"-"}]
[{"$f":"'Skills explications FTEM'!A8:C8","v":0},null,null,{"$f":"IF($H$2=\"G\",'Skills explications FTEM'!Q8,'Skills explications FTEM'!D8)","v":"PASSER"},null,null,{"$f":"IF($H$2=\"G\",'Skills explications FTEM'!T8,'Skills explications FTEM'!G8)","v":"Donne la passe (distance, passe flipée en revers), réception de la passe (précision, timing, coup droit, revers, patins), vitesse du puck"},null,null,{"$f":"IF($H$2=\"G\",'Skills explications FTEM'!W8,'Skills explications FTEM'!J8)","v":0}]
[{"$f":"'Skills explications FTEM'!A9:C9","v":0},null,null,{"$f":"IF($H$2=\"G\",'Skills explications FTEM'!Q9,'Skills explications FTEM'!D9)","v":"JEU DU CORPS"},null,null,{"$f":"IF($H$2=\"G\",'Skills explications FTEM'!T9,'Skills explications FTEM'!G9)","v":"Faculté de s'imposer physiquement, duels (sur la surface de glace ou à la bande), prendre des checks, lever la tête, niveau de lutte, dur mais correct, bloquer les tirs avec le corps"},null,null,{"$f":"IF($H$2=\"G\",'Skills explications FTEM'!W9,'Skills explications FTEM'!J9)","v":0},null,null,null,{"$f":"IFERROR(AVERAGE(O18:O19),\"-\")","v":"-"},null,{"$f":"IFERROR(AVERAGE(Q18:Q19),\"-\")","v":"-"},null,{"$f":"IFERROR(AVERAGE(S18:S19),\"-\")","v":"-"},null,{"$f":"IFERROR(AVERAGE(U18:U19),\"-\")","v":"-"},null,{"$f":"IFERROR(AVERAGE(W18:W19),\"-\")","v":"-"},null,"-"]
[{"$f":"'Skills explications FTEM'!A10:C10","v":0},null,null,{"$f":"IF($H$2=\"G\",'Skills explications FTEM'!Q10,'Skills explications FTEM'!D10)","v":"CONTRÔLE DU PUCK"},null,null,{"$f":"IF($H$2=\"G\",'Skills explications FTEM'!T10,'Skills explications FTEM'!G10)","v":"Contrôle du puck, dribbling, protection du puck, feintes (variantes: avec les patins ou avec et sans la bande), mise au jeu (bully)"},null,null,{"$f":"IF($H$2=\"G\",'Skills explications FTEM'!W10,'Skills explications FTEM'!J10)","v":0}]
[{"$f":"'Skills explications FTEM'!A11:C11","v":"SKATING"},null,null,{"$f":"IF($H$2=\"G\",'Skills explications FTEM'!Q11,'Skills explications FTEM'!D11)","v":"FOOTSPEED"},null,null,{"$f":"IF($H$2=\"G\",'Skills explications FTEM'!T11,'Skills explications FTEM'!G11)","v":"Accélération, départ, explosivité des 3 premiers pas, fréquence"},null,null,{"$f":"IF($H$2=\"G\",'Skills explications FTEM'!W11,'Skills explications FTEM'!J11)","v":0},null,null,null,{"$f":"IFERROR(AVERAGE(O20:O23),\"-\")","v":"-"},null,{"$f":"IFERROR(AVERAGE(Q20:Q23),\"-\")","v":"-"},null,{"$f":"IFERROR(AVERAGE(S20:S23),\"-\")","v":"-"},null,{"$f":"IFERROR(AVERAGE(U20:U23),\"-\")","v":"-"},null,{"$f":"IFERROR(AVERAGE(W20:W23),\"-\")","v":"-"},null,{"$f":"IFERROR(AVERAGE(Y20:Y23),\"-\")","v":"-"}]
[{"$f":"'Skills explications FTEM'!A12:C12","v":0},null,null,{"$f":"IF($H$2=\"G\",'Skills explications FTEM'!Q12,'Skills explications FTEM'!D12)","v":"MOBILITE"},null,null,{"$f":"IF($H$2=\"G\",'Skills explications FTEM'!T12,'Skills explications FTEM'!G12)","v":"Changements de direction, pivots, stop et start «Nummelin»"},null,null,{"$f":"IF($H$2=\"G\",'Skills explications FTEM'!W12,'Skills explications FTEM'!J12)","v":0}]
[{"$f":"'Skills explications FTEM'!A13:C13","v":0},null,null,{"$f":"IF($H$2=\"G\",'Skills explications FTEM'!Q13,'Skills explications FTEM'!D13)","v":"PATTINAGE ARRIÈRE"},null,null,{"$f":"IF($H$2=\"G\",'Skills explications FTEM'!T13,'Skills explications FTEM'!G13)","v":"Accélération, vitesse, équilibre"},null,null,{"$f":"IF($H$2=\"G\",'Skills explications FTEM'!W13,'Skills explications FTEM'!J13)","v":0}]
[{"$f":"'Skills explications FTEM'!A14:C14","v":0},null,null,{"$f":"IF($H$2=\"G\",'Skills explications FTEM'!Q14,'Skills explications FTEM'!D14)","v":"TOP SPEED"},null,null,{"$f":"IF($H$2=\"G\",'Skills explications FTEM'!T14,'Skills explications FTEM'!G14)","v":"Vitesse, faculté de glisse, avant et arrière, économie des forces"},null,null,{"$f":"IF($H$2=\"G\",'Skills explications FTEM'!W14,'Skills explications FTEM'!J14)","v":0}]
[{"$f":"'Skills explications FTEM'!A15:C15","v":"HOCKEY SENSE"},null,null,{"$f":"IF($H$2=\"G\",'Skills explications FTEM'!Q15,'Skills explications FTEM'!D15)","v":"SCORING"},null,null,{"$f":"IF($H$2=\"G\",'Skills explications FTEM'!T15,'Skills explications FTEM'!G15)","v":"Efficience, richesse des variantes, surpenant, vite, variante de tirs"},null,null,{"$f":"IF($H$2=\"G\",'Skills explications FTEM'!W15,'Skills explications FTEM'!J15)","v":0},null,null,null,{"$f":"IFERROR(AVERAGE(O24:O27),\"-\")","v":"-"},null,{"$f":"IFERROR(AVERAGE(Q24:Q27),\"-\")","v":"-"},null,{"$f":"IFERROR(AVERAGE(S24:S27),\"-\")","v":"-"},null,{"$f":"IFERROR(AVERAGE(U24:U27),\"-\")","v":"-"},null,{"$f":"IFERROR(AVERAGE(W24:W27),\"-\")","v":"-"},null,{"$f":"IFERROR(AVERAGE(Y24:Y27),\"-\")","v":"-"}]
[{"$f":"'Skills explications FTEM'!A16:C16","v":0},null,null,{"$f":"IF($H$2=\"G\",'Skills explications FTEM'!Q16,'Skills explications FTEM'!D16)","v":"AVEC PUCK"},null,null,{"$f":"IF($H$2=\"G\",'Skills explications FTEM'!T16,'Skills explications FTEM'!G16)","v":"créatif,  performing, batteling, fou, transition"},null,null,{"$f":"IF($H$2=\"G\",'Skills explications FTEM'!W16,'Skills explications FTEM'!J16)","v":0}]
[{"$f":"'Skills explications FTEM'!A17:C17","v":0},null,null,{"$f":"IF($H$2=\"G\",'Skills explications FTEM'!Q17,'Skills explications FTEM'!D17)","v":"SANS PUCK"},null,null,{"$f":"IF($H$2=\"G\",'Skills explications FTEM'!T17,'Skills explications FTEM'!G17)","v":"ouvert pour un passe (Support), 1:1, Gap"},null,null,{"$f":"IF($H$2=\"G\",'Skills explications FTEM'!W17,'Skills explications FTEM'!J17)","v":0}]
[{"$f":"'Skills explications FTEM'!A18:C18","v":0},null,null,{"$f":"IF($H$2=\"G\",'Skills explications FTEM'!Q18,'Skills explications FTEM'!D18)","v":"DEFENSIF"},null,null,{"$f":"IF($H$2=\"G\",'Skills explications FTEM'!T18,'Skills explications FTEM'!G18)","v":"on peut compter dessus,  1:1, Gap, identification de l'homme"},null,null,{"$f":"IF($H$2=\"G\",'Skills explications FTEM'!W18,'Skills explications FTEM'!J18)","v":0}]
[{"$f":"'Skills explications FTEM'!A19:C19","v":"PERSONALITY"},null,null,"CAPACITE",null,null,"OBSERVATION",null,null,null,null,null,null,"Date1",null,"Date2",null,"Date3",null,"Date4",null,"Date5",null,"Player",null,"BUT","MESURES:\nSPECIFIQUE, MESURABLES, REALISTE",null,null,null,null,null,null,"DELAI","CONTRÔLE DU BUT","Date"]
[{"$f":"'Skills explications FTEM'!A20:C20","v":"PERSONALITÉ"},null,null,{"$f":"IF($H$2=\"G\",'Skills explications FTEM'!Q20,'Skills explications FTEM'!D20)","v":"MOTIVATION"},null,null,{"$f":"IF($H$2=\"G\",'Skills explications FTEM'!T20,'Skills explications FTEM'!G20)","v":"Est toujours motivé, veut sans cesse se développer et apprendre, veut être le premier et avoir du succès, n'abandonne jamais et ne se laisse pas influencer par les échecs"},null,null,{"$f":"IF($H$2=\"G\",'Skills explications FTEM'!W20,'Skills explications FTEM'!J20)","v":0},null,null,null,{"$f":"IFERROR(AVERAGE(O29:O32),\"-\")","v":"-"},null,null,null,{"$f":"IFERROR(AVERAGE(S29:S32),\"-\")","v":"-"},null,{"$f":"IFERROR(AVERAGE(U29:U32),\"-\")","v":"-"},null,{"$f":"IFERROR(AVERAGE(W29:W32),\"-\")","v":"-"},null,{"$f":"IFERROR(AVERAGE(Y29:Y32),\"-\")","v":"-"}]
[{"$f":"'Skills explications FTEM'!A21:C21","v":0},null,null,{"$f":"IF($H$2=\"G\",'Skills explications FTEM'!Q21,'Skills explications FTEM'!D21)","v":"CONFIENCE EN SOI"},null,null,{"$f":"IF($H$2=\"G\",'Skills explications FTEM'!T21,'Skills explications FTEM'!G21)","v":"Est en confiance, «I can do it», peut estimer ses capacités (connaît ses qualités et ses défauts), peut réaliser ses qualités avec constance, est courageux et prend des risques calculés"},null,null,{"$f":"IF($H$2=\"G\",'Skills explications FTEM'!W21,'Skills explications FTEM'!J21)","v":0}]
[{"$f":"'Skills explications FTEM'!A22:C22","v":0},null,null,{"$f":"IF($H$2=\"G\",'Skills explications FTEM'!Q22,'Skills explications FTEM'!D22)","v":"FACULTÉES D'APPRENTISSAGE"},null,null,{"$f":"IF($H$2=\"G\",'Skills explications FTEM'!T22,'Skills explications FTEM'!G22)","v":"A une bonne perception (il peut mémoriser et peut réaliser), il a de la personnalité, essaie d'apprendre de ses erreurs et est entreprenant"},null,null,{"$f":"IF($H$2=\"G\",'Skills explications FTEM'!W22,'Skills explications FTEM'!J22)","v":0}]
[{"$f":"'Skills explications FTEM'!A23:C23","v":0},null,null,{"$f":"IF($H$2=\"G\",'Skills explications FTEM'!Q23,'Skills explications FTEM'!D23)","v":"PERFORMANCE, STYLE DE VIE"},null,null,{"$f":"IF($H$2=\"G\",'Skills explications FTEM'!T23,'Skills explications FTEM'!G23)","v":"Gère bien son environnement et son temps libre selon les principes de la performance, obstiné, tenace et axé sur l'objectif, accent sur sa propre performance, est courageux et peut s'imposer contre de la résistance, les défis le motivent"},null,null,{"$f":"IF($H$2=\"G\",'Skills explications FTEM'!W23,'Skills explications FTEM'!J23)","v":0}]
[{"$f":"'Skills explications FTEM'!A24:C24","v":"POWER MENTAL"},null,null,{"$f":"IF($H$2=\"G\",'Skills explications FTEM'!Q24,'Skills explications FTEM'!D24)","v":"GESTION DES ÉNERGIES"},null,null,{"$f":"IF($H$2=\"G\",'Skills explications FTEM'!T24,'Skills explications FTEM'!G24)","v":"Peut-il gérer ses propres énergies, prend-il soin de sa régénération, peut-il gérer les moments où il faut se donner à fond ou quand il faut déconnecter, bouton On/Off"},null,null,{"$f":"IF($H$2=\"G\",'Skills explications FTEM'!W24,'Skills explications FTEM'!J24)","v":0},null,null,null,{"$f":"IFERROR(AVERAGE(O33:O36),\"-\")","v":"-"},null,null,null,{"$f":"IFERROR(AVERAGE(S33:S36),\"-\")","v":"-"},null,{"$f":"IFERROR(AVERAGE(U33:U36),\"-\")","v":"-"},null,{"$f":"IFERROR(AVERAGE(W33:W36),\"-\")","v":"-"},null,{"$f":"IFERROR(AVERAGE(Y33:Y36),\"-\")","v":"-"}]
[{"$f":"'Skills explications FTEM'!A25:C25","v":0},null,null,{"$f":"IF($H$2=\"G\",'Skills explications FTEM'!Q25,'Skills explications FTEM'!D25)","v":"ENGAGEMENT"},null,null,{"$f":"IF($H$2=\"G\",'Skills explications FTEM'!T25,'Skills explications FTEM'!G25)","v":"Démontre beaucoup d'intensité dans les entraînements et les matchs, donne toujours son maximum et veut sans cesse repousser ses limites, a-t-il de la passion, s'efforce-t-il de s'entraîner avec une excellente qualité"},null,null,{"$f":"IF($H$2=\"G\",'Skills explications FTEM'!W25,'Skills explications FTEM'!J25)","v":0}]
[{"$f":"'Skills explications FTEM'!A26:C26","v":0},null,null,{"$f":"IF($H$2=\"G\",'Skills explications FTEM'!Q26,'Skills explications FTEM'!D26)","v":"CONTRÔLE DES ÉMOTIONS"},null,null,{"$f":"IF($H$2=\"G\",'Skills explications FTEM'!T26,'Skills explications FTEM'!G26)","v":"Peut-il gérer ses propres émotions et impulsions, reste-t-il sous contrôle lorsqu'il y a une grande pression, peut-il rester calme lorsque le niveau émotionnel et de frustration est élevé"},null,null,{"$f":"IF($H$2=\"G\",'Skills explications FTEM'!W26,'Skills explications FTEM'!J26)","v":0}]
[{"$f":"'Skills explications FTEM'!A27:C27","v":0},null,null,{"$f":"IF($H$2=\"G\",'Skills explications FTEM'!Q27,'Skills explications FTEM'!D27)","v":"PRÉPARATION"},null,null,{"$f":"IF($H$2=\"G\",'Skills explications FTEM'!T27,'Skills explications FTEM'!G27)","v":"Se prépare-t-il toujours bien, mentalement et physiquement, se prépare-t-il toujours bien pour obtenir le niveau de performance idéal (ILZ)"},null,null,{"$f":"IF($H$2=\"G\",'Skills explications FTEM'!W27,'Skills explications FTEM'!J27)","v":0}]
[{"$f":"'Skills explications FTEM'!A28:C28","v":"PYHSE (Athletik)"},null,null,{"$f":"IF($H$2=\"G\",'Skills explications FTEM'!Q28,'Skills explications FTEM'!D28)","v":"PRODUCTION DE LA PERFORMANCE"},null,null,{"$f":"IF($H$2=\"G\",'Skills explications FTEM'!T28,'Skills explications FTEM'!G28)","v":"A-t-il la puissance, la force, la vitesse nécessaires dans les jambes et le haut du corps (facteurs neuromusculaires)"},null,null,{"$f":"IF($H$2=\"G\",'Skills explications FTEM'!W28,'Skills explications FTEM'!J28)","v":0},null,null,null,{"$f":"IFERROR(AVERAGE(O37:O40),\"-\")","v":"-"},null,null,null,{"$f":"IFERROR(AVERAGE(S37:S40),\"-\")","v":"-"},null,{"$f":"IFERROR(AVERAGE(U37:U40),\"-\")","v":"-"},null,{"$f":"IFERROR(AVERAGE(W37:W40),\"-\")","v":"-"},null,{"$f":"IFERROR(AVERAGE(Y37:Y40),\"-\")","v":"-"}]
[{"$f":"'Skills explications FTEM'!A29:C29","v":0},null,null,{"$f":"IF($H$2=\"G\",'Skills explications FTEM'!Q29,'Skills explications FTEM'!D29)","v":"SPÉCIFIQUE AU SPORT, RÉSISTANT À L'EFFORT"},null,null,{"$f":"IF($H$2=\"G\",'Skills explications FTEM'!T29,'Skills explications FTEM'!G29)","v":"Est-il capable de maintenir sa puissance, sa force, sa vitesse durant un long temps de glace et peut-il récupérer complètement entre ses engagements (facteurs du métabolisme et cardiovasculaire)"},null,null,{"$f":"IF($H$2=\"G\",'Skills explications FTEM'!W29,'Skills explications FTEM'!J29)","v":0}]
[{"$f":"'Skills explications FTEM'!A30:C30","v":0},null,null,{"$f":"IF($H$2=\"G\",'Skills explications FTEM'!Q30,'Skills explications FTEM'!D30)","v":"MOBILITÉ/ COODINATION"},null,null,{"$f":"IF($H$2=\"G\",'Skills explications FTEM'!T30,'Skills explications FTEM'!G30)","v":"Gère-t-il ses aptitudes de mouvements de base, qui sont un fournisseur important des fonctions spécifiques «Skills» pour être efficace"},null,null,{"$f":"IF($H$2=\"G\",'Skills explications FTEM'!W30,'Skills explications FTEM'!J30)","v":0}]
[{"$f":"'Skills explications FTEM'!A31:C31","v":0},null,null,{"$f":"IF($H$2=\"G\",'Skills explications FTEM'!Q31,'Skills explications FTEM'!D31)","v":"ROBUSTESSE / PREVENTION"},null,null,{"$f":"IF($H$2=\"G\",'Skills explications FTEM'!T31,'Skills explications FTEM'!G31)","v":"A-t-il la force de base nécessaire (tension corporelle) pour gagner des duels et résister aux charges, A-t-il la stabilité nécessaire (ex. ses appuis) et la mobilité nécessaire au niveau des articulations centrales"},null,null,{"$f":"IF($H$2=\"G\",'Skills explications FTEM'!W31,'Skills explications FTEM'!J31)","v":0}]

{"sheet":"18","index":21,"n_rows":40,"n_cols":36,"rows_kept":40,"cut":false,"hidden":false,"merged":[[36,25,39,25],[36,26,39,32],[36,34,39,34],[32,23,35,23],[33,3,33,5],[33,6,33,11],[35,3,35,5],[35,6,35,11],[32,0,35,2],[32,3,32,5],[32,6,32,11],[32,12,35,12],[32,13,35,13],[32,15,35,15],[36,0,39,2],[36,3,36,5],[36,6,36,11],[36,12,39,12],[36,23,39,23],[37,3,37,5],[37,6,37,11],[38,3,38,5],[38,6,38,11],[39,3,39,5],[27,21,27,22],[28,17,31,17],[28,19,31,19],[28,21,31,21],[29,3,29,5],[29,6,29,11],[30,3,30,5],[30,6,30,11],[32,17,35,17],[32,19,35,19],[32,21,35,21],[34,3,34,5],[34,6,34,11],[23,0,26,2],[23,3,23,5],[23,6,23,11],[23,12,26,12],[23,13,26,13],[23,15,26,15],[27,23,27,24],[27,26,27,32],[28,0,31,2],[28,3,28,5],[28,6,28,11],[28,12,31,12],[28,13,31,13],[28,15,31,15],[31,3,31,5],[31,6,31,11],[28,23,31,23],[27,0,27,2],[27,3,27,5],[27,6,27,11],[27,13,27,14],[27,15,27,16],[27,17,27,18],[27,19,27,20],[19,21,22,21],[19,23,22,23],[20,3,20,5],[20,6,20,11],[22,3,22,5],[22,6,22,11],[26,3,26,5],[26,6,26,11],[23,23,26,23],[23,17,26,17],[23,19,26,19],[23,21,26,21],[24,3,24,5],[24,6,24,11],[25,3,25,5],[25,6,25,11],[21,3,21,5],[21,6,21,11],[15,15,18,15],[15,17,18,17],[15,19,18,19],[15,21,18,21],[15,23,18,23],[18,3,18,5],[18,6,18,11],[19,0,22,2],[19,3,19,5],[19,6,19,11],[19,12,22,12],[19,13,22,13],[19,15,22,15],[19,17,22,17],[15,0,18,2],[15,3,15,5],[15,6,15,11],[15,12,18,12],[15,13,18,13],[16,3,16,5],[16,6,16,11],[17,3,17,5],[17,6,17,11],[19,19,22,19],[12,23,13,23],[13,3,13,5],[13,6,13,11],[14,0,14,2],[14,3,14,5],[14,6,14,11],[14,13,14,14],[14,15,14,16],[14,17,14,18],[14,19,14,20],[14,21,14,22],[14,23,14,24],[12,0,13,2],[12,3,12,5],[12,6,12,11],[12,12,13,12],[12,13,13,13],[12,15,13,15],[12,17,13,17],[12,19,13,19],[12,21,13,21],[11,0,11,2],[11,3,11,5],[11,13,11,14],[11,15,11,16],[11,17,11,18],[11,19,11,20],[11,21,11,22],[11,23,11,24],[11,26,11,32],[11,6,11,11],[0,33,0,35],[23,25,26,25],[23,26,26,32],[23,34,26,34],[28,25,31,25],[28,26,31,32],[28,34,31,34],[1,0,1,1],[1,2,1,5],[1,10,1,24],[2,0,2,1],[2,2,2,5],[2,11,2,24],[6,0,6,1],[6,2,6,35],[7,0,7,1],[7,2,7,35],[8,0,8,1],[8,2,8,35],[3,0,3,1],[3,10,3,24],[4,0,4,1],[4,2,4,5],[4,10,4,24],[39,6,39,11],[36,13,39,13],[36,15,39,15],[36,17,39,17],[36,19,39,19],[36,21,39,21],[0,0,0,24],[0,25,0,26],[0,27,0,32],[10,0,10,24],[10,25,10,35],[32,25,35,25],[32,26,35,32],[32,34,35,34],[12,25,13,25],[12,26,13,32],[12,34,13,34],[15,25,18,25],[15,26,18,32],[15,34,18,34],[19,25,22,25],[19,26,22,32],[19,34,22,34],[14,26,14,32]]}
["Infos personelles",null,null,null,null,null,null,null,null,null,null,null,null,null,null,null,null,null,null,null,null,null,null,null,null,"Predispositions",null,"Evaluations",null,null,null,null,null,"Rating"]
["PRENOM",null,{"$f":"IF(ISBLANK(VLOOKUP(18,Tabelle3[],3,0)),\"-\",VLOOKUP(18,Tabelle3[],3,0))","v":"-"},null,null,null,"POSITION",null,null,"ADRESSE",{"$f":"IF(ISBLANK(VLOOKUP(18,Tabelle3[],5,0)),\"-\",VLOOKUP(18,Tabelle3[],5,0))","v":"-"},null,null,null,null,null,null,null,null,null,null,null,null,null,null,"\"àage\" (Biologique/age relatif)",null,"Date 1",null,null,"cm",null,"Kg",null,"AUSGEZEICHNET",5]
["NOM",null,{"$f":"IF(ISBLANK(VLOOKUP(18,Tabelle3[],2,0)),\"-\",VLOOKUP(18,Tabelle3[],2,0))","v":"-"},null,null,null,"CANNE",null,null,"LIEU",{"$f":"IF(ISBLANK(VLOOKUP(18,Tabelle3[],7,0)),\"-\",VLOOKUP(18,Tabelle3[],7,0))","v":"-"},{"$f":"IF(ISBLANK(VLOOKUP(18,Tabelle3[],6,0)),\"-\",VLOOKUP(18,Tabelle3[],6,0))","v":"-"},null,null,null,null,null,null,null,null,null,null,null,null,null,"predispositions",null,"Date 2",null,null,"cm",null,"Kg",null,"GUT",4]
["DATE NAISS.",null,{"$f":"IF(ISBLANK(VLOOKUP(18,Tabelle3[],14,0)),\"-\",VLOOKUP(18,Tabelle3[],14,0))","v":"-"},{"$f":"IF(ISBLANK(VLOOKUP(18,Tabelle3[],15,0)),\"-\",VLOOKUP(18,Tabelle3[],15,0))","v":"-"},{"$f":"IF(ISBLANK(VLOOKUP(18,Tabelle3[],16,0)),\"-\",VLOOKUP(18,Tabelle3[],16,0))","v":"-"},null,"GRANDEUR",null,"cm","PHONE",{"$f":"IF(ISBLANK(VLOOKUP(18,Tabelle3[],8,0)),\"-\",VLOOKUP(18,Tabelle3[],8,0))","v":"-"},null,null,null,null,null,null,null,null,null,null,null,null,null,null,"Entourage",null,"Date 3",null,null,"cm",null,"Kg",null,"DURCHSCHNITT",3]
["SEXE",null,{"$f":"IF(ISBLANK(VLOOKUP(18,Tabelle3[],13,0)),\"-\",VLOOKUP(18,Tabelle3[],13,0))","v":"-"},null,null,null,"POIDS",null,"Kg","E-Mail",{"$f":"IF(ISBLANK(VLOOKUP(18,Tabelle3[],9,0)),\"-\",VLOOKUP(18,Tabelle3[],9,0))","v":"-"},null,null,null,null,null,null,null,null,null,null,null,null,null,null,null,null,"Date 4",null,null,"cm",null,"Kg",null,"MANGELHAFT",2]
[null,null,null,null,null,null,null,null,null,null,null,null,null,null,null,null,null,null,null,null,null,null,null,null,null,null,null,"Date 5",null,null,"cm",null,"Kg",null,"UNGENÜGEND",1]
["Vision",null,"xxx"]
["Next step",null,"xxx"]
["Profil du Joueur",null,"xxx"]
[]
["EVALUATION (COACH / JOUEUR)",null,null,null,null,null,null,null,null,null,null,null,null,null,null,null,null,null,null,null,null,null,null,null,null,"SMART"]
[{"$f":"'Skills explications FTEM'!A3:C3","v":"TEAM"},null,null,"CAPACITE",null,null,"OBSERVATION",null,null,null,null,null,"Final","Date1",null,"Date2",null,"Date3",null,"Date4",null,"Date5",null,"Player",null,"BUT","MESURES:\nSPECIFIQUE, MESURABLES, REALISTE",null,null,null,null,null,null,"DELAI","CONTRÔLE DU BUT","Date"]
[{"$f":"'Skills explications FTEM'!A4:C4","v":"ROLLE, SOZIAL"},null,null,{"$f":"IF($H$2=\"G\",'Skills explications FTEM'!Q4,'Skills explications FTEM'!D4)","v":"PENSER EQUIPE"},null,null,{"$f":"IF($H$2=\"G\",'Skills explications FTEM'!T4,'Skills explications FTEM'!G4)","v":"Identification au rôle, relation au cammarades (social, intégration)"},null,null,{"$f":"IF($H$2=\"G\",'Skills explications FTEM'!W4,'Skills explications FTEM'!J4)","v":0},null,null,null,{"$f":"IFERROR(AVERAGE(O13:O14),\"-\")","v":"-"},null,{"$f":"IFERROR(AVERAGE(Q13:Q14),\"-\")","v":"-"},null,{"$f":"IFERROR(AVERAGE(S13:S14),\"-\")","v":"-"},null,{"$f":"IFERROR(AVERAGE(U13:U14),\"-\")","v":"-"},null,{"$f":"IFERROR(AVERAGE(W13:W14),\"-\")","v":"-"},null,{"$f":"IFERROR(AVERAGE(Y13:Y14),\"-\")","v":"-"}]
[{"$f":"'Skills explications FTEM'!A5:C5","v":0},null,null,{"$f":"IF($H$2=\"G\",'Skills explications FTEM'!Q5,'Skills explications FTEM'!D5)","v":"LEADERSHIP"},null,null,{"$f":"IF($H$2=\"G\",'Skills explications FTEM'!T5,'Skills explications FTEM'!G5)","v":"prend des responsabilités, rend son coéquipier meilleur"},null,null,{"$f":"IF($H$2=\"G\",'Skills explications FTEM'!W5,'Skills explications FTEM'!J5)","v":0}]
[{"$f":"'Skills explications FTEM'!A6:C6","v":"ON ICE"},null,null,"CAPACITE",null,null,"OBSERVATION",null,null,null,null,null,null,"Date1",null,"Date2",null,"Date3",null,"Date4",null,"Date5",null,"Player",null,"BUT","MESURES:\nSPECIFIQUE, MESURABLES, REALISTE",null,null,null,null,null,null,"DELAI","CONTRÔLE DU BUT","Date"]
[{"$f":"'Skills explications FTEM'!A7:C7","v":"SKILL"},null,null,{"$f":"IF($H$2=\"G\",'Skills explications FTEM'!Q7,'Skills explications FTEM'!D7)","v":"TIR  (EFFET)"},null,null,{"$f":"IF($H$2=\"G\",'Skills explications FTEM'!T7,'Skills explications FTEM'!G7)","v":"Efficience (pas d'espace et de temps), variantes, degré de surprise (déclenchement rapide), précision, puissance (conclusion tactique)"},null,null,{"$f":"IF($H$2=\"G\",'Skills explications FTEM'!W7,'Skills explications FTEM'!J7)","v":0},null,null,null,{"$f":"IFERROR(AVERAGE(O16:O19),\"-\")","v":"-"},null,{"$f":"IFERROR(AVERAGE(Q16:Q19),\"-\")","v":"-"},null,{"$f":"IFERROR(AVERAGE(S16:S19),\"-\")","v":"-"},null,{"$f":"IFERROR(AVERAGE(U16:U19),\"-\")","v":"-"},null,{"$f":"IFERROR(AVERAGE(W16:W19),\"-\")","v":"-"},null,{"$f":"IFERROR(AVERAGE(Y16:Y19),\"-\")","v":"-"}]
[{"$f":"'Skills explications FTEM'!A8:C8","v":0},null,null,{"$f":"IF($H$2=\"G\",'Skills explications FTEM'!Q8,'Skills explications FTEM'!D8)","v":"PASSER"},null,null,{"$f":"IF($H$2=\"G\",'Skills explications FTEM'!T8,'Skills explications FTEM'!G8)","v":"Donne la passe (distance, passe flipée en revers), réception de la passe (précision, timing, coup droit, revers, patins), vitesse du puck"},null,null,{"$f":"IF($H$2=\"G\",'Skills explications FTEM'!W8,'Skills explications FTEM'!J8)","v":0}]
[{"$f":"'Skills explications FTEM'!A9:C9","v":0},null,null,{"$f":"IF($H$2=\"G\",'Skills explications FTEM'!Q9,'Skills explications FTEM'!D9)","v":"JEU DU CORPS"},null,null,{"$f":"IF($H$2=\"G\",'Skills explications FTEM'!T9,'Skills explications FTEM'!G9)","v":"Faculté de s'imposer physiquement, duels (sur la surface de glace ou à la bande), prendre des checks, lever la tête, niveau de lutte, dur mais correct, bloquer les tirs avec le corps"},null,null,{"$f":"IF($H$2=\"G\",'Skills explications FTEM'!W9,'Skills explications FTEM'!J9)","v":0},null,null,null,{"$f":"IFERROR(AVERAGE(O18:O19),\"-\")","v":"-"},null,{"$f":"IFERROR(AVERAGE(Q18:Q19),\"-\")","v":"-"},null,{"$f":"IFERROR(AVERAGE(S18:S19),\"-\")","v":"-"},null,{"$f":"IFERROR(AVERAGE(U18:U19),\"-\")","v":"-"},null,{"$f":"IFERROR(AVERAGE(W18:W19),\"-\")","v":"-"},null,"-"]
[{"$f":"'Skills explications FTEM'!A10:C10","v":0},null,null,{"$f":"IF($H$2=\"G\",'Skills explications FTEM'!Q10,'Skills explications FTEM'!D10)","v":"CONTRÔLE DU PUCK"},null,null,{"$f":"IF($H$2=\"G\",'Skills explications FTEM'!T10,'Skills explications FTEM'!G10)","v":"Contrôle du puck, dribbling, protection du puck, feintes (variantes: avec les patins ou avec et sans la bande), mise au jeu (bully)"},null,null,{"$f":"IF($H$2=\"G\",'Skills explications FTEM'!W10,'Skills explications FTEM'!J10)","v":0}]
[{"$f":"'Skills explications FTEM'!A11:C11","v":"SKATING"},null,null,{"$f":"IF($H$2=\"G\",'Skills explications FTEM'!Q11,'Skills explications FTEM'!D11)","v":"FOOTSPEED"},null,null,{"$f":"IF($H$2=\"G\",'Skills explications FTEM'!T11,'Skills explications FTEM'!G11)","v":"Accélération, départ, explosivité des 3 premiers pas, fréquence"},null,null,{"$f":"IF($H$2=\"G\",'Skills explications FTEM'!W11,'Skills explications FTEM'!J11)","v":0},null,null,null,{"$f":"IFERROR(AVERAGE(O20:O23),\"-\")","v":"-"},null,{"$f":"IFERROR(AVERAGE(Q20:Q23),\"-\")","v":"-"},null,{"$f":"IFERROR(AVERAGE(S20:S23),\"-\")","v":"-"},null,{"$f":"IFERROR(AVERAGE(U20:U23),\"-\")","v":"-"},null,{"$f":"IFERROR(AVERAGE(W20:W23),\"-\")","v":"-"},null,{"$f":"IFERROR(AVERAGE(Y20:Y23),\"-\")","v":"-"}]
[{"$f":"'Skills explications FTEM'!A12:C12","v":0},null,null,{"$f":"IF($H$2=\"G\",'Skills explications FTEM'!Q12,'Skills explications FTEM'!D12)","v":"MOBILITE"},null,null,{"$f":"IF($H$2=\"G\",'Skills explications FTEM'!T12,'Skills explications FTEM'!G12)","v":"Changements de direction, pivots, stop et start «Nummelin»"},null,null,{"$f":"IF($H$2=\"G\",'Skills explications FTEM'!W12,'Skills explications FTEM'!J12)","v":0}]
[{"$f":"'Skills explications FTEM'!A13:C13","v":0},null,null,{"$f":"IF($H$2=\"G\",'Skills explications FTEM'!Q13,'Skills explications FTEM'!D13)","v":"PATTINAGE ARRIÈRE"},null,null,{"$f":"IF($H$2=\"G\",'Skills explications FTEM'!T13,'Skills explications FTEM'!G13)","v":"Accélération, vitesse, équilibre"},null,null,{"$f":"IF($H$2=\"G\",'Skills explications FTEM'!W13,'Skills explications FTEM'!J13)","v":0}]
[{"$f":"'Skills explications FTEM'!A14:C14","v":0},null,null,{"$f":"IF($H$2=\"G\",'Skills explications FTEM'!Q14,'Skills explications FTEM'!D14)","v":"TOP SPEED"},null,null,{"$f":"IF($H$2=\"G\",'Skills explications FTEM'!T14,'Skills explications FTEM'!G14)","v":"Vitesse, faculté de glisse, avant et arrière, économie des forces"},null,null,{"$f":"IF($H$2=\"G\",'Skills explications FTEM'!W14,'Skills explications FTEM'!J14)","v":0}]
[{"$f":"'Skills explications FTEM'!A15:C15","v":"HOCKEY SENSE"},null,null,{"$f":"IF($H$2=\"G\",'Skills explications FTEM'!Q15,'Skills explications FTEM'!D15)","v":"SCORING"},null,null,{"$f":"IF($H$2=\"G\",'Skills explications FTEM'!T15,'Skills explications FTEM'!G15)","v":"Efficience, richesse des variantes, surpenant, vite, variante de tirs"},null,null,{"$f":"IF($H$2=\"G\",'Skills explications FTEM'!W15,'Skills explications FTEM'!J15)","v":0},null,null,null,{"$f":"IFERROR(AVERAGE(O24:O27),\"-\")","v":"-"},null,{"$f":"IFERROR(AVERAGE(Q24:Q27),\"-\")","v":"-"},null,{"$f":"IFERROR(AVERAGE(S24:S27),\"-\")","v":"-"},null,{"$f":"IFERROR(AVERAGE(U24:U27),\"-\")","v":"-"},null,{"$f":"IFERROR(AVERAGE(W24:W27),\"-\")","v":"-"},null,{"$f":"IFERROR(AVERAGE(Y24:Y27),\"-\")","v":"-"}]
[{"$f":"'Skills explications FTEM'!A16:C16","v":0},null,null,{"$f":"IF($H$2=\"G\",'Skills explications FTEM'!Q16,'Skills explications FTEM'!D16)","v":"AVEC PUCK"},null,null,{"$f":"IF($H$2=\"G\",'Skills explications FTEM'!T16,'Skills explications FTEM'!G16)","v":"créatif,  performing, batteling, fou, transition"},null,null,{"$f":"IF($H$2=\"G\",'Skills explications FTEM'!W16,'Skills explications FTEM'!J16)","v":0}]
[{"$f":"'Skills explications FTEM'!A17:C17","v":0},null,null,{"$f":"IF($H$2=\"G\",'Skills explications FTEM'!Q17,'Skills explications FTEM'!D17)","v":"SANS PUCK"},null,null,{"$f":"IF($H$2=\"G\",'Skills explications FTEM'!T17,'Skills explications FTEM'!G17)","v":"ouvert pour un passe (Support), 1:1, Gap"},null,null,{"$f":"IF($H$2=\"G\",'Skills explications FTEM'!W17,'Skills explications FTEM'!J17)","v":0}]
[{"$f":"'Skills explications FTEM'!A18:C18","v":0},null,null,{"$f":"IF($H$2=\"G\",'Skills explications FTEM'!Q18,'Skills explications FTEM'!D18)","v":"DEFENSIF"},null,null,{"$f":"IF($H$2=\"G\",'Skills explications FTEM'!T18,'Skills explications FTEM'!G18)","v":"on peut compter dessus,  1:1, Gap, identification de l'homme"},null,null,{"$f":"IF($H$2=\"G\",'Skills explications FTEM'!W18,'Skills explications FTEM'!J18)","v":0}]
[{"$f":"'Skills explications FTEM'!A19:C19","v":"PERSONALITY"},null,null,"CAPACITE",null,null,"OBSERVATION",null,null,null,null,null,null,"Date1",null,"Date2",null,"Date3",null,"Date4",null,"Date5",null,"Player",null,"BUT","MESURES:\nSPECIFIQUE, MESURABLES, REALISTE",null,null,null,null,null,null,"DELAI","CONTRÔLE DU BUT","Date"]
[{"$f":"'Skills explications FTEM'!A20:C20","v":"PERSONALITÉ"},null,null,{"$f":"IF($H$2=\"G\",'Skills explications FTEM'!Q20,'Skills explications FTEM'!D20)","v":"MOTIVATION"},null,null,{"$f":"IF($H$2=\"G\",'Skills explications FTEM'!T20,'Skills explications FTEM'!G20)","v":"Est toujours motivé, veut sans cesse se développer et apprendre, veut être le premier et avoir du succès, n'abandonne jamais et ne se laisse pas influencer par les échecs"},null,null,{"$f":"IF($H$2=\"G\",'Skills explications FTEM'!W20,'Skills explications FTEM'!J20)","v":0},null,null,null,{"$f":"IFERROR(AVERAGE(O29:O32),\"-\")","v":"-"},null,null,null,{"$f":"IFERROR(AVERAGE(S29:S32),\"-\")","v":"-"},null,{"$f":"IFERROR(AVERAGE(U29:U32),\"-\")","v":"-"},null,{"$f":"IFERROR(AVERAGE(W29:W32),\"-\")","v":"-"},null,{"$f":"IFERROR(AVERAGE(Y29:Y32),\"-\")","v":"-"}]
[{"$f":"'Skills explications FTEM'!A21:C21","v":0},null,null,{"$f":"IF($H$2=\"G\",'Skills explications FTEM'!Q21,'Skills explications FTEM'!D21)","v":"CONFIENCE EN SOI"},null,null,{"$f":"IF($H$2=\"G\",'Skills explications FTEM'!T21,'Skills explications FTEM'!G21)","v":"Est en confiance, «I can do it», peut estimer ses capacités (connaît ses qualités et ses défauts), peut réaliser ses qualités avec constance, est courageux et prend des risques calculés"},null,null,{"$f":"IF($H$2=\"G\",'Skills explications FTEM'!W21,'Skills explications FTEM'!J21)","v":0}]
[{"$f":"'Skills explications FTEM'!A22:C22","v":0},null,null,{"$f":"IF($H$2=\"G\",'Skills explications FTEM'!Q22,'Skills explications FTEM'!D22)","v":"FACULTÉES D'APPRENTISSAGE"},null,null,{"$f":"IF($H$2=\"G\",'Skills explications FTEM'!T22,'Skills explications FTEM'!G22)","v":"A une bonne perception (il peut mémoriser et peut réaliser), il a de la personnalité, essaie d'apprendre de ses erreurs et est entreprenant"},null,null,{"$f":"IF($H$2=\"G\",'Skills explications FTEM'!W22,'Skills explications FTEM'!J22)","v":0}]
[{"$f":"'Skills explications FTEM'!A23:C23","v":0},null,null,{"$f":"IF($H$2=\"G\",'Skills explications FTEM'!Q23,'Skills explications FTEM'!D23)","v":"PERFORMANCE, STYLE DE VIE"},null,null,{"$f":"IF($H$2=\"G\",'Skills explications FTEM'!T23,'Skills explications FTEM'!G23)","v":"Gère bien son environnement et son temps libre selon les principes de la performance, obstiné, tenace et axé sur l'objectif, accent sur sa propre performance, est courageux et peut s'imposer contre de la résistance, les défis le motivent"},null,null,{"$f":"IF($H$2=\"G\",'Skills explications FTEM'!W23,'Skills explications FTEM'!J23)","v":0}]
[{"$f":"'Skills explications FTEM'!A24:C24","v":"POWER MENTAL"},null,null,{"$f":"IF($H$2=\"G\",'Skills explications FTEM'!Q24,'Skills explications FTEM'!D24)","v":"GESTION DES ÉNERGIES"},null,null,{"$f":"IF($H$2=\"G\",'Skills explications FTEM'!T24,'Skills explications FTEM'!G24)","v":"Peut-il gérer ses propres énergies, prend-il soin de sa régénération, peut-il gérer les moments où il faut se donner à fond ou quand il faut déconnecter, bouton On/Off"},null,null,{"$f":"IF($H$2=\"G\",'Skills explications FTEM'!W24,'Skills explications FTEM'!J24)","v":0},null,null,null,{"$f":"IFERROR(AVERAGE(O33:O36),\"-\")","v":"-"},null,null,null,{"$f":"IFERROR(AVERAGE(S33:S36),\"-\")","v":"-"},null,{"$f":"IFERROR(AVERAGE(U33:U36),\"-\")","v":"-"},null,{"$f":"IFERROR(AVERAGE(W33:W36),\"-\")","v":"-"},null,{"$f":"IFERROR(AVERAGE(Y33:Y36),\"-\")","v":"-"}]
[{"$f":"'Skills explications FTEM'!A25:C25","v":0},null,null,{"$f":"IF($H$2=\"G\",'Skills explications FTEM'!Q25,'Skills explications FTEM'!D25)","v":"ENGAGEMENT"},null,null,{"$f":"IF($H$2=\"G\",'Skills explications FTEM'!T25,'Skills explications FTEM'!G25)","v":"Démontre beaucoup d'intensité dans les entraînements et les matchs, donne toujours son maximum et veut sans cesse repousser ses limites, a-t-il de la passion, s'efforce-t-il de s'entraîner avec une excellente qualité"},null,null,{"$f":"IF($H$2=\"G\",'Skills explications FTEM'!W25,'Skills explications FTEM'!J25)","v":0}]
[{"$f":"'Skills explications FTEM'!A26:C26","v":0},null,null,{"$f":"IF($H$2=\"G\",'Skills explications FTEM'!Q26,'Skills explications FTEM'!D26)","v":"CONTRÔLE DES ÉMOTIONS"},null,null,{"$f":"IF($H$2=\"G\",'Skills explications FTEM'!T26,'Skills explications FTEM'!G26)","v":"Peut-il gérer ses propres émotions et impulsions, reste-t-il sous contrôle lorsqu'il y a une grande pression, peut-il rester calme lorsque le niveau émotionnel et de frustration est élevé"},null,null,{"$f":"IF($H$2=\"G\",'Skills explications FTEM'!W26,'Skills explications FTEM'!J26)","v":0}]
[{"$f":"'Skills explications FTEM'!A27:C27","v":0},null,null,{"$f":"IF($H$2=\"G\",'Skills explications FTEM'!Q27,'Skills explications FTEM'!D27)","v":"PRÉPARATION"},null,null,{"$f":"IF($H$2=\"G\",'Skills explications FTEM'!T27,'Skills explications FTEM'!G27)","v":"Se prépare-t-il toujours bien, mentalement et physiquement, se prépare-t-il toujours bien pour obtenir le niveau de performance idéal (ILZ)"},null,null,{"$f":"IF($H$2=\"G\",'Skills explications FTEM'!W27,'Skills explications FTEM'!J27)","v":0}]
[{"$f":"'Skills explications FTEM'!A28:C28","v":"PYHSE (Athletik)"},null,null,{"$f":"IF($H$2=\"G\",'Skills explications FTEM'!Q28,'Skills explications FTEM'!D28)","v":"PRODUCTION DE LA PERFORMANCE"},null,null,{"$f":"IF($H$2=\"G\",'Skills explications FTEM'!T28,'Skills explications FTEM'!G28)","v":"A-t-il la puissance, la force, la vitesse nécessaires dans les jambes et le haut du corps (facteurs neuromusculaires)"},null,null,{"$f":"IF($H$2=\"G\",'Skills explications FTEM'!W28,'Skills explications FTEM'!J28)","v":0},null,null,null,{"$f":"IFERROR(AVERAGE(O37:O40),\"-\")","v":"-"},null,null,null,{"$f":"IFERROR(AVERAGE(S37:S40),\"-\")","v":"-"},null,{"$f":"IFERROR(AVERAGE(U37:U40),\"-\")","v":"-"},null,{"$f":"IFERROR(AVERAGE(W37:W40),\"-\")","v":"-"},null,{"$f":"IFERROR(AVERAGE(Y37:Y40),\"-\")","v":"-"}]
[{"$f":"'Skills explications FTEM'!A29:C29","v":0},null,null,{"$f":"IF($H$2=\"G\",'Skills explications FTEM'!Q29,'Skills explications FTEM'!D29)","v":"SPÉCIFIQUE AU SPORT, RÉSISTANT À L'EFFORT"},null,null,{"$f":"IF($H$2=\"G\",'Skills explications FTEM'!T29,'Skills explications FTEM'!G29)","v":"Est-il capable de maintenir sa puissance, sa force, sa vitesse durant un long temps de glace et peut-il récupérer complètement entre ses engagements (facteurs du métabolisme et cardiovasculaire)"},null,null,{"$f":"IF($H$2=\"G\",'Skills explications FTEM'!W29,'Skills explications FTEM'!J29)","v":0}]
[{"$f":"'Skills explications FTEM'!A30:C30","v":0},null,null,{"$f":"IF($H$2=\"G\",'Skills explications FTEM'!Q30,'Skills explications FTEM'!D30)","v":"MOBILITÉ/ COODINATION"},null,null,{"$f":"IF($H$2=\"G\",'Skills explications FTEM'!T30,'Skills explications FTEM'!G30)","v":"Gère-t-il ses aptitudes de mouvements de base, qui sont un fournisseur important des fonctions spécifiques «Skills» pour être efficace"},null,null,{"$f":"IF($H$2=\"G\",'Skills explications FTEM'!W30,'Skills explications FTEM'!J30)","v":0}]
[{"$f":"'Skills explications FTEM'!A31:C31","v":0},null,null,{"$f":"IF($H$2=\"G\",'Skills explications FTEM'!Q31,'Skills explications FTEM'!D31)","v":"ROBUSTESSE / PREVENTION"},null,null,{"$f":"IF($H$2=\"G\",'Skills explications FTEM'!T31,'Skills explications FTEM'!G31)","v":"A-t-il la force de base nécessaire (tension corporelle) pour gagner des duels et résister aux charges, A-t-il la stabilité nécessaire (ex. ses appuis) et la mobilité nécessaire au niveau des articulations centrales"},null,null,{"$f":"IF($H$2=\"G\",'Skills explications FTEM'!W31,'Skills explications FTEM'!J31)","v":0}]

{"sheet":"19","index":22,"n_rows":40,"n_cols":36,"rows_kept":40,"cut":false,"hidden":false,"merged":[[36,25,39,25],[36,26,39,32],[36,34,39,34],[32,23,35,23],[33,3,33,5],[33,6,33,11],[35,3,35,5],[35,6,35,11],[32,0,35,2],[32,3,32,5],[32,6,32,11],[32,12,35,12],[32,13,35,13],[32,15,35,15],[36,0,39,2],[36,3,36,5],[36,6,36,11],[36,12,39,12],[36,23,39,23],[37,3,37,5],[37,6,37,11],[38,3,38,5],[38,6,38,11],[39,3,39,5],[27,21,27,22],[28,17,31,17],[28,19,31,19],[28,21,31,21],[29,3,29,5],[29,6,29,11],[30,3,30,5],[30,6,30,11],[32,17,35,17],[32,19,35,19],[32,21,35,21],[34,3,34,5],[34,6,34,11],[23,0,26,2],[23,3,23,5],[23,6,23,11],[23,12,26,12],[23,13,26,13],[23,15,26,15],[27,23,27,24],[27,26,27,32],[28,0,31,2],[28,3,28,5],[28,6,28,11],[28,12,31,12],[28,13,31,13],[28,15,31,15],[31,3,31,5],[31,6,31,11],[28,23,31,23],[27,0,27,2],[27,3,27,5],[27,6,27,11],[27,13,27,14],[27,15,27,16],[27,17,27,18],[27,19,27,20],[19,21,22,21],[19,23,22,23],[20,3,20,5],[20,6,20,11],[22,3,22,5],[22,6,22,11],[26,3,26,5],[26,6,26,11],[23,23,26,23],[23,17,26,17],[23,19,26,19],[23,21,26,21],[24,3,24,5],[24,6,24,11],[25,3,25,5],[25,6,25,11],[21,3,21,5],[21,6,21,11],[15,15,18,15],[15,17,18,17],[15,19,18,19],[15,21,18,21],[15,23,18,23],[18,3,18,5],[18,6,18,11],[19,0,22,2],[19,3,19,5],[19,6,19,11],[19,12,22,12],[19,13,22,13],[19,15,22,15],[19,17,22,17],[15,0,18,2],[15,3,15,5],[15,6,15,11],[15,12,18,12],[15,13,18,13],[16,3,16,5],[16,6,16,11],[17,3,17,5],[17,6,17,11],[19,19,22,19],[12,23,13,23],[13,3,13,5],[13,6,13,11],[14,0,14,2],[14,3,14,5],[14,6,14,11],[14,13,14,14],[14,15,14,16],[14,17,14,18],[14,19,14,20],[14,21,14,22],[14,23,14,24],[12,0,13,2],[12,3,12,5],[12,6,12,11],[12,12,13,12],[12,13,13,13],[12,15,13,15],[12,17,13,17],[12,19,13,19],[12,21,13,21],[11,0,11,2],[11,3,11,5],[11,13,11,14],[11,15,11,16],[11,17,11,18],[11,19,11,20],[11,21,11,22],[11,23,11,24],[11,26,11,32],[11,6,11,11],[0,33,0,35],[23,25,26,25],[23,26,26,32],[23,34,26,34],[28,25,31,25],[28,26,31,32],[28,34,31,34],[1,0,1,1],[1,2,1,5],[1,10,1,24],[2,0,2,1],[2,2,2,5],[2,11,2,24],[6,0,6,1],[6,2,6,35],[7,0,7,1],[7,2,7,35],[8,0,8,1],[8,2,8,35],[3,0,3,1],[3,10,3,24],[4,0,4,1],[4,2,4,5],[4,10,4,24],[39,6,39,11],[36,13,39,13],[36,15,39,15],[36,17,39,17],[36,19,39,19],[36,21,39,21],[0,0,0,24],[0,25,0,26],[0,27,0,32],[10,0,10,24],[10,25,10,35],[32,25,35,25],[32,26,35,32],[32,34,35,34],[12,25,13,25],[12,26,13,32],[12,34,13,34],[15,25,18,25],[15,26,18,32],[15,34,18,34],[19,25,22,25],[19,26,22,32],[19,34,22,34],[14,26,14,32]]}
["Infos personelles",null,null,null,null,null,null,null,null,null,null,null,null,null,null,null,null,null,null,null,null,null,null,null,null,"Predispositions",null,"Evaluations",null,null,null,null,null,"Rating"]
["PRENOM",null,{"$f":"IF(ISBLANK(VLOOKUP(19,Tabelle3[],3,0)),\"-\",VLOOKUP(19,Tabelle3[],3,0))","v":"-"},null,null,null,"POSITION",null,null,"ADRESSE",{"$f":"IF(ISBLANK(VLOOKUP(19,Tabelle3[],5,0)),\"-\",VLOOKUP(19,Tabelle3[],5,0))","v":"-"},null,null,null,null,null,null,null,null,null,null,null,null,null,null,"\"àage\" (Biologique/age relatif)",null,"Date 1",null,null,"cm",null,"Kg",null,"AUSGEZEICHNET",5]
["NOM",null,{"$f":"IF(ISBLANK(VLOOKUP(19,Tabelle3[],2,0)),\"-\",VLOOKUP(19,Tabelle3[],2,0))","v":"-"},null,null,null,"CANNE",null,null,"LIEU",{"$f":"IF(ISBLANK(VLOOKUP(19,Tabelle3[],7,0)),\"-\",VLOOKUP(19,Tabelle3[],7,0))","v":"-"},{"$f":"IF(ISBLANK(VLOOKUP(19,Tabelle3[],6,0)),\"-\",VLOOKUP(19,Tabelle3[],6,0))","v":"-"},null,null,null,null,null,null,null,null,null,null,null,null,null,"predispositions",null,"Date 2",null,null,"cm",null,"Kg",null,"GUT",4]
["DATE NAISS.",null,{"$f":"IF(ISBLANK(VLOOKUP(19,Tabelle3[],14,0)),\"-\",VLOOKUP(19,Tabelle3[],14,0))","v":"-"},{"$f":"IF(ISBLANK(VLOOKUP(19,Tabelle3[],15,0)),\"-\",VLOOKUP(19,Tabelle3[],15,0))","v":"-"},{"$f":"IF(ISBLANK(VLOOKUP(19,Tabelle3[],16,0)),\"-\",VLOOKUP(19,Tabelle3[],16,0))","v":"-"},null,"GRANDEUR",null,"cm","PHONE",{"$f":"IF(ISBLANK(VLOOKUP(19,Tabelle3[],8,0)),\"-\",VLOOKUP(19,Tabelle3[],8,0))","v":"-"},null,null,null,null,null,null,null,null,null,null,null,null,null,null,"Entourage",null,"Date 3",null,null,"cm",null,"Kg",null,"DURCHSCHNITT",3]
["SEXE",null,{"$f":"IF(ISBLANK(VLOOKUP(19,Tabelle3[],13,0)),\"-\",VLOOKUP(19,Tabelle3[],13,0))","v":"-"},null,null,null,"POIDS",null,"Kg","E-Mail",{"$f":"IF(ISBLANK(VLOOKUP(19,Tabelle3[],9,0)),\"-\",VLOOKUP(19,Tabelle3[],9,0))","v":"-"},null,null,null,null,null,null,null,null,null,null,null,null,null,null,null,null,"Date 4",null,null,"cm",null,"Kg",null,"MANGELHAFT",2]
[null,null,null,null,null,null,null,null,null,null,null,null,null,null,null,null,null,null,null,null,null,null,null,null,null,null,null,"Date 5",null,null,"cm",null,"Kg",null,"UNGENÜGEND",1]
["Vision",null,"xxx"]
["Next step",null,"xxx"]
["Profil du Joueur",null,"xxx"]
[]
["EVALUATION (COACH / JOUEUR)",null,null,null,null,null,null,null,null,null,null,null,null,null,null,null,null,null,null,null,null,null,null,null,null,"SMART"]
[{"$f":"'Skills explications FTEM'!A3:C3","v":"TEAM"},null,null,"CAPACITE",null,null,"OBSERVATION",null,null,null,null,null,"Final","Date1",null,"Date2",null,"Date3",null,"Date4",null,"Date5",null,"Player",null,"BUT","MESURES:\nSPECIFIQUE, MESURABLES, REALISTE",null,null,null,null,null,null,"DELAI","CONTRÔLE DU BUT","Date"]
[{"$f":"'Skills explications FTEM'!A4:C4","v":"ROLLE, SOZIAL"},null,null,{"$f":"IF($H$2=\"G\",'Skills explications FTEM'!Q4,'Skills explications FTEM'!D4)","v":"PENSER EQUIPE"},null,null,{"$f":"IF($H$2=\"G\",'Skills explications FTEM'!T4,'Skills explications FTEM'!G4)","v":"Identification au rôle, relation au cammarades (social, intégration)"},null,null,{"$f":"IF($H$2=\"G\",'Skills explications FTEM'!W4,'Skills explications FTEM'!J4)","v":0},null,null,null,{"$f":"IFERROR(AVERAGE(O13:O14),\"-\")","v":"-"},null,{"$f":"IFERROR(AVERAGE(Q13:Q14),\"-\")","v":"-"},null,{"$f":"IFERROR(AVERAGE(S13:S14),\"-\")","v":"-"},null,{"$f":"IFERROR(AVERAGE(U13:U14),\"-\")","v":"-"},null,{"$f":"IFERROR(AVERAGE(W13:W14),\"-\")","v":"-"},null,{"$f":"IFERROR(AVERAGE(Y13:Y14),\"-\")","v":"-"}]
[{"$f":"'Skills explications FTEM'!A5:C5","v":0},null,null,{"$f":"IF($H$2=\"G\",'Skills explications FTEM'!Q5,'Skills explications FTEM'!D5)","v":"LEADERSHIP"},null,null,{"$f":"IF($H$2=\"G\",'Skills explications FTEM'!T5,'Skills explications FTEM'!G5)","v":"prend des responsabilités, rend son coéquipier meilleur"},null,null,{"$f":"IF($H$2=\"G\",'Skills explications FTEM'!W5,'Skills explications FTEM'!J5)","v":0}]
[{"$f":"'Skills explications FTEM'!A6:C6","v":"ON ICE"},null,null,"CAPACITE",null,null,"OBSERVATION",null,null,null,null,null,null,"Date1",null,"Date2",null,"Date3",null,"Date4",null,"Date5",null,"Player",null,"BUT","MESURES:\nSPECIFIQUE, MESURABLES, REALISTE",null,null,null,null,null,null,"DELAI","CONTRÔLE DU BUT","Date"]
[{"$f":"'Skills explications FTEM'!A7:C7","v":"SKILL"},null,null,{"$f":"IF($H$2=\"G\",'Skills explications FTEM'!Q7,'Skills explications FTEM'!D7)","v":"TIR  (EFFET)"},null,null,{"$f":"IF($H$2=\"G\",'Skills explications FTEM'!T7,'Skills explications FTEM'!G7)","v":"Efficience (pas d'espace et de temps), variantes, degré de surprise (déclenchement rapide), précision, puissance (conclusion tactique)"},null,null,{"$f":"IF($H$2=\"G\",'Skills explications FTEM'!W7,'Skills explications FTEM'!J7)","v":0},null,null,null,{"$f":"IFERROR(AVERAGE(O16:O19),\"-\")","v":"-"},null,{"$f":"IFERROR(AVERAGE(Q16:Q19),\"-\")","v":"-"},null,{"$f":"IFERROR(AVERAGE(S16:S19),\"-\")","v":"-"},null,{"$f":"IFERROR(AVERAGE(U16:U19),\"-\")","v":"-"},null,{"$f":"IFERROR(AVERAGE(W16:W19),\"-\")","v":"-"},null,{"$f":"IFERROR(AVERAGE(Y16:Y19),\"-\")","v":"-"}]
[{"$f":"'Skills explications FTEM'!A8:C8","v":0},null,null,{"$f":"IF($H$2=\"G\",'Skills explications FTEM'!Q8,'Skills explications FTEM'!D8)","v":"PASSER"},null,null,{"$f":"IF($H$2=\"G\",'Skills explications FTEM'!T8,'Skills explications FTEM'!G8)","v":"Donne la passe (distance, passe flipée en revers), réception de la passe (précision, timing, coup droit, revers, patins), vitesse du puck"},null,null,{"$f":"IF($H$2=\"G\",'Skills explications FTEM'!W8,'Skills explications FTEM'!J8)","v":0}]
[{"$f":"'Skills explications FTEM'!A9:C9","v":0},null,null,{"$f":"IF($H$2=\"G\",'Skills explications FTEM'!Q9,'Skills explications FTEM'!D9)","v":"JEU DU CORPS"},null,null,{"$f":"IF($H$2=\"G\",'Skills explications FTEM'!T9,'Skills explications FTEM'!G9)","v":"Faculté de s'imposer physiquement, duels (sur la surface de glace ou à la bande), prendre des checks, lever la tête, niveau de lutte, dur mais correct, bloquer les tirs avec le corps"},null,null,{"$f":"IF($H$2=\"G\",'Skills explications FTEM'!W9,'Skills explications FTEM'!J9)","v":0},null,null,null,{"$f":"IFERROR(AVERAGE(O18:O19),\"-\")","v":"-"},null,{"$f":"IFERROR(AVERAGE(Q18:Q19),\"-\")","v":"-"},null,{"$f":"IFERROR(AVERAGE(S18:S19),\"-\")","v":"-"},null,{"$f":"IFERROR(AVERAGE(U18:U19),\"-\")","v":"-"},null,{"$f":"IFERROR(AVERAGE(W18:W19),\"-\")","v":"-"},null,"-"]
[{"$f":"'Skills explications FTEM'!A10:C10","v":0},null,null,{"$f":"IF($H$2=\"G\",'Skills explications FTEM'!Q10,'Skills explications FTEM'!D10)","v":"CONTRÔLE DU PUCK"},null,null,{"$f":"IF($H$2=\"G\",'Skills explications FTEM'!T10,'Skills explications FTEM'!G10)","v":"Contrôle du puck, dribbling, protection du puck, feintes (variantes: avec les patins ou avec et sans la bande), mise au jeu (bully)"},null,null,{"$f":"IF($H$2=\"G\",'Skills explications FTEM'!W10,'Skills explications FTEM'!J10)","v":0}]
[{"$f":"'Skills explications FTEM'!A11:C11","v":"SKATING"},null,null,{"$f":"IF($H$2=\"G\",'Skills explications FTEM'!Q11,'Skills explications FTEM'!D11)","v":"FOOTSPEED"},null,null,{"$f":"IF($H$2=\"G\",'Skills explications FTEM'!T11,'Skills explications FTEM'!G11)","v":"Accélération, départ, explosivité des 3 premiers pas, fréquence"},null,null,{"$f":"IF($H$2=\"G\",'Skills explications FTEM'!W11,'Skills explications FTEM'!J11)","v":0},null,null,null,{"$f":"IFERROR(AVERAGE(O20:O23),\"-\")","v":"-"},null,{"$f":"IFERROR(AVERAGE(Q20:Q23),\"-\")","v":"-"},null,{"$f":"IFERROR(AVERAGE(S20:S23),\"-\")","v":"-"},null,{"$f":"IFERROR(AVERAGE(U20:U23),\"-\")","v":"-"},null,{"$f":"IFERROR(AVERAGE(W20:W23),\"-\")","v":"-"},null,{"$f":"IFERROR(AVERAGE(Y20:Y23),\"-\")","v":"-"}]
[{"$f":"'Skills explications FTEM'!A12:C12","v":0},null,null,{"$f":"IF($H$2=\"G\",'Skills explications FTEM'!Q12,'Skills explications FTEM'!D12)","v":"MOBILITE"},null,null,{"$f":"IF($H$2=\"G\",'Skills explications FTEM'!T12,'Skills explications FTEM'!G12)","v":"Changements de direction, pivots, stop et start «Nummelin»"},null,null,{"$f":"IF($H$2=\"G\",'Skills explications FTEM'!W12,'Skills explications FTEM'!J12)","v":0}]
[{"$f":"'Skills explications FTEM'!A13:C13","v":0},null,null,{"$f":"IF($H$2=\"G\",'Skills explications FTEM'!Q13,'Skills explications FTEM'!D13)","v":"PATTINAGE ARRIÈRE"},null,null,{"$f":"IF($H$2=\"G\",'Skills explications FTEM'!T13,'Skills explications FTEM'!G13)","v":"Accélération, vitesse, équilibre"},null,null,{"$f":"IF($H$2=\"G\",'Skills explications FTEM'!W13,'Skills explications FTEM'!J13)","v":0}]
[{"$f":"'Skills explications FTEM'!A14:C14","v":0},null,null,{"$f":"IF($H$2=\"G\",'Skills explications FTEM'!Q14,'Skills explications FTEM'!D14)","v":"TOP SPEED"},null,null,{"$f":"IF($H$2=\"G\",'Skills explications FTEM'!T14,'Skills explications FTEM'!G14)","v":"Vitesse, faculté de glisse, avant et arrière, économie des forces"},null,null,{"$f":"IF($H$2=\"G\",'Skills explications FTEM'!W14,'Skills explications FTEM'!J14)","v":0}]
[{"$f":"'Skills explications FTEM'!A15:C15","v":"HOCKEY SENSE"},null,null,{"$f":"IF($H$2=\"G\",'Skills explications FTEM'!Q15,'Skills explications FTEM'!D15)","v":"SCORING"},null,null,{"$f":"IF($H$2=\"G\",'Skills explications FTEM'!T15,'Skills explications FTEM'!G15)","v":"Efficience, richesse des variantes, surpenant, vite, variante de tirs"},null,null,{"$f":"IF($H$2=\"G\",'Skills explications FTEM'!W15,'Skills explications FTEM'!J15)","v":0},null,null,null,{"$f":"IFERROR(AVERAGE(O24:O27),\"-\")","v":"-"},null,{"$f":"IFERROR(AVERAGE(Q24:Q27),\"-\")","v":"-"},null,{"$f":"IFERROR(AVERAGE(S24:S27),\"-\")","v":"-"},null,{"$f":"IFERROR(AVERAGE(U24:U27),\"-\")","v":"-"},null,{"$f":"IFERROR(AVERAGE(W24:W27),\"-\")","v":"-"},null,{"$f":"IFERROR(AVERAGE(Y24:Y27),\"-\")","v":"-"}]
[{"$f":"'Skills explications FTEM'!A16:C16","v":0},null,null,{"$f":"IF($H$2=\"G\",'Skills explications FTEM'!Q16,'Skills explications FTEM'!D16)","v":"AVEC PUCK"},null,null,{"$f":"IF($H$2=\"G\",'Skills explications FTEM'!T16,'Skills explications FTEM'!G16)","v":"créatif,  performing, batteling, fou, transition"},null,null,{"$f":"IF($H$2=\"G\",'Skills explications FTEM'!W16,'Skills explications FTEM'!J16)","v":0}]
[{"$f":"'Skills explications FTEM'!A17:C17","v":0},null,null,{"$f":"IF($H$2=\"G\",'Skills explications FTEM'!Q17,'Skills explications FTEM'!D17)","v":"SANS PUCK"},null,null,{"$f":"IF($H$2=\"G\",'Skills explications FTEM'!T17,'Skills explications FTEM'!G17)","v":"ouvert pour un passe (Support), 1:1, Gap"},null,null,{"$f":"IF($H$2=\"G\",'Skills explications FTEM'!W17,'Skills explications FTEM'!J17)","v":0}]
[{"$f":"'Skills explications FTEM'!A18:C18","v":0},null,null,{"$f":"IF($H$2=\"G\",'Skills explications FTEM'!Q18,'Skills explications FTEM'!D18)","v":"DEFENSIF"},null,null,{"$f":"IF($H$2=\"G\",'Skills explications FTEM'!T18,'Skills explications FTEM'!G18)","v":"on peut compter dessus,  1:1, Gap, identification de l'homme"},null,null,{"$f":"IF($H$2=\"G\",'Skills explications FTEM'!W18,'Skills explications FTEM'!J18)","v":0}]
[{"$f":"'Skills explications FTEM'!A19:C19","v":"PERSONALITY"},null,null,"CAPACITE",null,null,"OBSERVATION",null,null,null,null,null,null,"Date1",null,"Date2",null,"Date3",null,"Date4",null,"Date5",null,"Player",null,"BUT","MESURES:\nSPECIFIQUE, MESURABLES, REALISTE",null,null,null,null,null,null,"DELAI","CONTRÔLE DU BUT","Date"]
[{"$f":"'Skills explications FTEM'!A20:C20","v":"PERSONALITÉ"},null,null,{"$f":"IF($H$2=\"G\",'Skills explications FTEM'!Q20,'Skills explications FTEM'!D20)","v":"MOTIVATION"},null,null,{"$f":"IF($H$2=\"G\",'Skills explications FTEM'!T20,'Skills explications FTEM'!G20)","v":"Est toujours motivé, veut sans cesse se développer et apprendre, veut être le premier et avoir du succès, n'abandonne jamais et ne se laisse pas influencer par les échecs"},null,null,{"$f":"IF($H$2=\"G\",'Skills explications FTEM'!W20,'Skills explications FTEM'!J20)","v":0},null,null,null,{"$f":"IFERROR(AVERAGE(O29:O32),\"-\")","v":"-"},null,null,null,{"$f":"IFERROR(AVERAGE(S29:S32),\"-\")","v":"-"},null,{"$f":"IFERROR(AVERAGE(U29:U32),\"-\")","v":"-"},null,{"$f":"IFERROR(AVERAGE(W29:W32),\"-\")","v":"-"},null,{"$f":"IFERROR(AVERAGE(Y29:Y32),\"-\")","v":"-"}]
[{"$f":"'Skills explications FTEM'!A21:C21","v":0},null,null,{"$f":"IF($H$2=\"G\",'Skills explications FTEM'!Q21,'Skills explications FTEM'!D21)","v":"CONFIENCE EN SOI"},null,null,{"$f":"IF($H$2=\"G\",'Skills explications FTEM'!T21,'Skills explications FTEM'!G21)","v":"Est en confiance, «I can do it», peut estimer ses capacités (connaît ses qualités et ses défauts), peut réaliser ses qualités avec constance, est courageux et prend des risques calculés"},null,null,{"$f":"IF($H$2=\"G\",'Skills explications FTEM'!W21,'Skills explications FTEM'!J21)","v":0}]
[{"$f":"'Skills explications FTEM'!A22:C22","v":0},null,null,{"$f":"IF($H$2=\"G\",'Skills explications FTEM'!Q22,'Skills explications FTEM'!D22)","v":"FACULTÉES D'APPRENTISSAGE"},null,null,{"$f":"IF($H$2=\"G\",'Skills explications FTEM'!T22,'Skills explications FTEM'!G22)","v":"A une bonne perception (il peut mémoriser et peut réaliser), il a de la personnalité, essaie d'apprendre de ses erreurs et est entreprenant"},null,null,{"$f":"IF($H$2=\"G\",'Skills explications FTEM'!W22,'Skills explications FTEM'!J22)","v":0}]
[{"$f":"'Skills explications FTEM'!A23:C23","v":0},null,null,{"$f":"IF($H$2=\"G\",'Skills explications FTEM'!Q23,'Skills explications FTEM'!D23)","v":"PERFORMANCE, STYLE DE VIE"},null,null,{"$f":"IF($H$2=\"G\",'Skills explications FTEM'!T23,'Skills explications FTEM'!G23)","v":"Gère bien son environnement et son temps libre selon les principes de la performance, obstiné, tenace et axé sur l'objectif, accent sur sa propre performance, est courageux et peut s'imposer contre de la résistance, les défis le motivent"},null,null,{"$f":"IF($H$2=\"G\",'Skills explications FTEM'!W23,'Skills explications FTEM'!J23)","v":0}]
[{"$f":"'Skills explications FTEM'!A24:C24","v":"POWER MENTAL"},null,null,{"$f":"IF($H$2=\"G\",'Skills explications FTEM'!Q24,'Skills explications FTEM'!D24)","v":"GESTION DES ÉNERGIES"},null,null,{"$f":"IF($H$2=\"G\",'Skills explications FTEM'!T24,'Skills explications FTEM'!G24)","v":"Peut-il gérer ses propres énergies, prend-il soin de sa régénération, peut-il gérer les moments où il faut se donner à fond ou quand il faut déconnecter, bouton On/Off"},null,null,{"$f":"IF($H$2=\"G\",'Skills explications FTEM'!W24,'Skills explications FTEM'!J24)","v":0},null,null,null,{"$f":"IFERROR(AVERAGE(O33:O36),\"-\")","v":"-"},null,null,null,{"$f":"IFERROR(AVERAGE(S33:S36),\"-\")","v":"-"},null,{"$f":"IFERROR(AVERAGE(U33:U36),\"-\")","v":"-"},null,{"$f":"IFERROR(AVERAGE(W33:W36),\"-\")","v":"-"},null,{"$f":"IFERROR(AVERAGE(Y33:Y36),\"-\")","v":"-"}]
[{"$f":"'Skills explications FTEM'!A25:C25","v":0},null,null,{"$f":"IF($H$2=\"G\",'Skills explications FTEM'!Q25,'Skills explications FTEM'!D25)","v":"ENGAGEMENT"},null,null,{"$f":"IF($H$2=\"G\",'Skills explications FTEM'!T25,'Skills explications FTEM'!G25)","v":"Démontre beaucoup d'intensité dans les entraînements et les matchs, donne toujours son maximum et veut sans cesse repousser ses limites, a-t-il de la passion, s'efforce-t-il de s'entraîner avec une excellente qualité"},null,null,{"$f":"IF($H$2=\"G\",'Skills explications FTEM'!W25,'Skills explications FTEM'!J25)","v":0}]
[{"$f":"'Skills explications FTEM'!A26:C26","v":0},null,null,{"$f":"IF($H$2=\"G\",'Skills explications FTEM'!Q26,'Skills explications FTEM'!D26)","v":"CONTRÔLE DES ÉMOTIONS"},null,null,{"$f":"IF($H$2=\"G\",'Skills explications FTEM'!T26,'Skills explications FTEM'!G26)","v":"Peut-il gérer ses propres émotions et impulsions, reste-t-il sous contrôle lorsqu'il y a une grande pression, peut-il rester calme lorsque le niveau émotionnel et de frustration est élevé"},null,null,{"$f":"IF($H$2=\"G\",'Skills explications FTEM'!W26,'Skills explications FTEM'!J26)","v":0}]
[{"$f":"'Skills explications FTEM'!A27:C27","v":0},null,null,{"$f":"IF($H$2=\"G\",'Skills explications FTEM'!Q27,'Skills explications FTEM'!D27)","v":"PRÉPARATION"},null,null,{"$f":"IF($H$2=\"G\",'Skills explications FTEM'!T27,'Skills explications FTEM'!G27)","v":"Se prépare-t-il toujours bien, mentalement et physiquement, se prépare-t-il toujours bien pour obtenir le niveau de performance idéal (ILZ)"},null,null,{"$f":"IF($H$2=\"G\",'Skills explications FTEM'!W27,'Skills explications FTEM'!J27)","v":0}]
[{"$f":"'Skills explications FTEM'!A28:C28","v":"PYHSE (Athletik)"},null,null,{"$f":"IF($H$2=\"G\",'Skills explications FTEM'!Q28,'Skills explications FTEM'!D28)","v":"PRODUCTION DE LA PERFORMANCE"},null,null,{"$f":"IF($H$2=\"G\",'Skills explications FTEM'!T28,'Skills explications FTEM'!G28)","v":"A-t-il la puissance, la force, la vitesse nécessaires dans les jambes et le haut du corps (facteurs neuromusculaires)"},null,null,{"$f":"IF($H$2=\"G\",'Skills explications FTEM'!W28,'Skills explications FTEM'!J28)","v":0},null,null,null,{"$f":"IFERROR(AVERAGE(O37:O40),\"-\")","v":"-"},null,null,null,{"$f":"IFERROR(AVERAGE(S37:S40),\"-\")","v":"-"},null,{"$f":"IFERROR(AVERAGE(U37:U40),\"-\")","v":"-"},null,{"$f":"IFERROR(AVERAGE(W37:W40),\"-\")","v":"-"},null,{"$f":"IFERROR(AVERAGE(Y37:Y40),\"-\")","v":"-"}]
[{"$f":"'Skills explications FTEM'!A29:C29","v":0},null,null,{"$f":"IF($H$2=\"G\",'Skills explications FTEM'!Q29,'Skills explications FTEM'!D29)","v":"SPÉCIFIQUE AU SPORT, RÉSISTANT À L'EFFORT"},null,null,{"$f":"IF($H$2=\"G\",'Skills explications FTEM'!T29,'Skills explications FTEM'!G29)","v":"Est-il capable de maintenir sa puissance, sa force, sa vitesse durant un long temps de glace et peut-il récupérer complètement entre ses engagements (facteurs du métabolisme et cardiovasculaire)"},null,null,{"$f":"IF($H$2=\"G\",'Skills explications FTEM'!W29,'Skills explications FTEM'!J29)","v":0}]
[{"$f":"'Skills explications FTEM'!A30:C30","v":0},null,null,{"$f":"IF($H$2=\"G\",'Skills explications FTEM'!Q30,'Skills explications FTEM'!D30)","v":"MOBILITÉ/ COODINATION"},null,null,{"$f":"IF($H$2=\"G\",'Skills explications FTEM'!T30,'Skills explications FTEM'!G30)","v":"Gère-t-il ses aptitudes de mouvements de base, qui sont un fournisseur important des fonctions spécifiques «Skills» pour être efficace"},null,null,{"$f":"IF($H$2=\"G\",'Skills explications FTEM'!W30,'Skills explications FTEM'!J30)","v":0}]
[{"$f":"'Skills explications FTEM'!A31:C31","v":0},null,null,{"$f":"IF($H$2=\"G\",'Skills explications FTEM'!Q31,'Skills explications FTEM'!D31)","v":"ROBUSTESSE / PREVENTION"},null,null,{"$f":"IF($H$2=\"G\",'Skills explications FTEM'!T31,'Skills explications FTEM'!G31)","v":"A-t-il la force de base nécessaire (tension corporelle) pour gagner des duels et résister aux charges, A-t-il la stabilité nécessaire (ex. ses appuis) et la mobilité nécessaire au niveau des articulations centrales"},null,null,{"$f":"IF($H$2=\"G\",'Skills explications FTEM'!W31,'Skills explications FTEM'!J31)","v":0}]

{"sheet":"20","index":23,"n_rows":40,"n_cols":36,"rows_kept":40,"cut":false,"hidden":false,"merged":[[36,25,39,25],[36,26,39,32],[36,34,39,34],[32,23,35,23],[33,3,33,5],[33,6,33,11],[35,3,35,5],[35,6,35,11],[32,0,35,2],[32,3,32,5],[32,6,32,11],[32,12,35,12],[32,13,35,13],[32,15,35,15],[36,0,39,2],[36,3,36,5],[36,6,36,11],[36,12,39,12],[36,23,39,23],[37,3,37,5],[37,6,37,11],[38,3,38,5],[38,6,38,11],[39,3,39,5],[27,21,27,22],[28,17,31,17],[28,19,31,19],[28,21,31,21],[29,3,29,5],[29,6,29,11],[30,3,30,5],[30,6,30,11],[32,17,35,17],[32,19,35,19],[32,21,35,21],[34,3,34,5],[34,6,34,11],[23,0,26,2],[23,3,23,5],[23,6,23,11],[23,12,26,12],[23,13,26,13],[23,15,26,15],[27,23,27,24],[27,26,27,32],[28,0,31,2],[28,3,28,5],[28,6,28,11],[28,12,31,12],[28,13,31,13],[28,15,31,15],[31,3,31,5],[31,6,31,11],[28,23,31,23],[27,0,27,2],[27,3,27,5],[27,6,27,11],[27,13,27,14],[27,15,27,16],[27,17,27,18],[27,19,27,20],[19,21,22,21],[19,23,22,23],[20,3,20,5],[20,6,20,11],[22,3,22,5],[22,6,22,11],[26,3,26,5],[26,6,26,11],[23,23,26,23],[23,17,26,17],[23,19,26,19],[23,21,26,21],[24,3,24,5],[24,6,24,11],[25,3,25,5],[25,6,25,11],[21,3,21,5],[21,6,21,11],[15,15,18,15],[15,17,18,17],[15,19,18,19],[15,21,18,21],[15,23,18,23],[18,3,18,5],[18,6,18,11],[19,0,22,2],[19,3,19,5],[19,6,19,11],[19,12,22,12],[19,13,22,13],[19,15,22,15],[19,17,22,17],[15,0,18,2],[15,3,15,5],[15,6,15,11],[15,12,18,12],[15,13,18,13],[16,3,16,5],[16,6,16,11],[17,3,17,5],[17,6,17,11],[19,19,22,19],[12,23,13,23],[13,3,13,5],[13,6,13,11],[14,0,14,2],[14,3,14,5],[14,6,14,11],[14,13,14,14],[14,15,14,16],[14,17,14,18],[14,19,14,20],[14,21,14,22],[14,23,14,24],[12,0,13,2],[12,3,12,5],[12,6,12,11],[12,12,13,12],[12,13,13,13],[12,15,13,15],[12,17,13,17],[12,19,13,19],[12,21,13,21],[11,0,11,2],[11,3,11,5],[11,13,11,14],[11,15,11,16],[11,17,11,18],[11,19,11,20],[11,21,11,22],[11,23,11,24],[11,26,11,32],[11,6,11,11],[0,33,0,35],[23,25,26,25],[23,26,26,32],[23,34,26,34],[28,25,31,25],[28,26,31,32],[28,34,31,34],[1,0,1,1],[1,2,1,5],[1,10,1,24],[2,0,2,1],[2,2,2,5],[2,11,2,24],[6,0,6,1],[6,2,6,35],[7,0,7,1],[7,2,7,35],[8,0,8,1],[8,2,8,35],[3,0,3,1],[3,10,3,24],[4,0,4,1],[4,2,4,5],[4,10,4,24],[39,6,39,11],[36,13,39,13],[36,15,39,15],[36,17,39,17],[36,19,39,19],[36,21,39,21],[0,0,0,24],[0,25,0,26],[0,27,0,32],[10,0,10,24],[10,25,10,35],[32,25,35,25],[32,26,35,32],[32,34,35,34],[12,25,13,25],[12,26,13,32],[12,34,13,34],[15,25,18,25],[15,26,18,32],[15,34,18,34],[19,25,22,25],[19,26,22,32],[19,34,22,34],[14,26,14,32]]}
["Infos personelles",null,null,null,null,null,null,null,null,null,null,null,null,null,null,null,null,null,null,null,null,null,null,null,null,"Predispositions",null,"Evaluations",null,null,null,null,null,"Rating"]
["PRENOM",null,{"$f":"IF(ISBLANK(VLOOKUP(20,Tabelle3[],3,0)),\"-\",VLOOKUP(20,Tabelle3[],3,0))","v":"-"},null,null,null,"POSITION",null,null,"ADRESSE",{"$f":"IF(ISBLANK(VLOOKUP(20,Tabelle3[],5,0)),\"-\",VLOOKUP(20,Tabelle3[],5,0))","v":"-"},null,null,null,null,null,null,null,null,null,null,null,null,null,null,"\"àage\" (Biologique/age relatif)",null,"Date 1",null,null,"cm",null,"Kg",null,"AUSGEZEICHNET",5]
["NOM",null,{"$f":"IF(ISBLANK(VLOOKUP(20,Tabelle3[],2,0)),\"-\",VLOOKUP(20,Tabelle3[],2,0))","v":"-"},null,null,null,"CANNE",null,null,"LIEU",{"$f":"IF(ISBLANK(VLOOKUP(20,Tabelle3[],7,0)),\"-\",VLOOKUP(20,Tabelle3[],7,0))","v":"-"},{"$f":"IF(ISBLANK(VLOOKUP(20,Tabelle3[],6,0)),\"-\",VLOOKUP(20,Tabelle3[],6,0))","v":"-"},null,null,null,null,null,null,null,null,null,null,null,null,null,"predispositions",null,"Date 2",null,null,"cm",null,"Kg",null,"GUT",4]
["DATE NAISS.",null,{"$f":"IF(ISBLANK(VLOOKUP(20,Tabelle3[],14,0)),\"-\",VLOOKUP(20,Tabelle3[],14,0))","v":"-"},{"$f":"IF(ISBLANK(VLOOKUP(20,Tabelle3[],15,0)),\"-\",VLOOKUP(20,Tabelle3[],15,0))","v":"-"},{"$f":"IF(ISBLANK(VLOOKUP(20,Tabelle3[],16,0)),\"-\",VLOOKUP(20,Tabelle3[],16,0))","v":"-"},null,"GRANDEUR",null,"cm","PHONE",{"$f":"IF(ISBLANK(VLOOKUP(20,Tabelle3[],8,0)),\"-\",VLOOKUP(20,Tabelle3[],8,0))","v":"-"},null,null,null,null,null,null,null,null,null,null,null,null,null,null,"Entourage",null,"Date 3",null,null,"cm",null,"Kg",null,"DURCHSCHNITT",3]
["SEXE",null,{"$f":"IF(ISBLANK(VLOOKUP(20,Tabelle3[],13,0)),\"-\",VLOOKUP(20,Tabelle3[],13,0))","v":"-"},null,null,null,"POIDS",null,"Kg","E-Mail",{"$f":"IF(ISBLANK(VLOOKUP(20,Tabelle3[],9,0)),\"-\",VLOOKUP(20,Tabelle3[],9,0))","v":"-"},null,null,null,null,null,null,null,null,null,null,null,null,null,null,null,null,"Date 4",null,null,"cm",null,"Kg",null,"MANGELHAFT",2]
[null,null,null,null,null,null,null,null,null,null,null,null,null,null,null,null,null,null,null,null,null,null,null,null,null,null,null,"Date 5",null,null,"cm",null,"Kg",null,"UNGENÜGEND",1]
["Vision",null,"xxx"]
["Next step",null,"xxx"]
["Profil du Joueur",null,"xxx"]
[]
["EVALUATION (COACH / JOUEUR)",null,null,null,null,null,null,null,null,null,null,null,null,null,null,null,null,null,null,null,null,null,null,null,null,"SMART"]
[{"$f":"'Skills explications FTEM'!A3:C3","v":"TEAM"},null,null,"CAPACITE",null,null,"OBSERVATION",null,null,null,null,null,"Final","Date1",null,"Date2",null,"Date3",null,"Date4",null,"Date5",null,"Player",null,"BUT","MESURES:\nSPECIFIQUE, MESURABLES, REALISTE",null,null,null,null,null,null,"DELAI","CONTRÔLE DU BUT","Date"]
[{"$f":"'Skills explications FTEM'!A4:C4","v":"ROLLE, SOZIAL"},null,null,{"$f":"IF($H$2=\"G\",'Skills explications FTEM'!Q4,'Skills explications FTEM'!D4)","v":"PENSER EQUIPE"},null,null,{"$f":"IF($H$2=\"G\",'Skills explications FTEM'!T4,'Skills explications FTEM'!G4)","v":"Identification au rôle, relation au cammarades (social, intégration)"},null,null,{"$f":"IF($H$2=\"G\",'Skills explications FTEM'!W4,'Skills explications FTEM'!J4)","v":0},null,null,null,{"$f":"IFERROR(AVERAGE(O13:O14),\"-\")","v":"-"},null,{"$f":"IFERROR(AVERAGE(Q13:Q14),\"-\")","v":"-"},null,{"$f":"IFERROR(AVERAGE(S13:S14),\"-\")","v":"-"},null,{"$f":"IFERROR(AVERAGE(U13:U14),\"-\")","v":"-"},null,{"$f":"IFERROR(AVERAGE(W13:W14),\"-\")","v":"-"},null,{"$f":"IFERROR(AVERAGE(Y13:Y14),\"-\")","v":"-"}]
[{"$f":"'Skills explications FTEM'!A5:C5","v":0},null,null,{"$f":"IF($H$2=\"G\",'Skills explications FTEM'!Q5,'Skills explications FTEM'!D5)","v":"LEADERSHIP"},null,null,{"$f":"IF($H$2=\"G\",'Skills explications FTEM'!T5,'Skills explications FTEM'!G5)","v":"prend des responsabilités, rend son coéquipier meilleur"},null,null,{"$f":"IF($H$2=\"G\",'Skills explications FTEM'!W5,'Skills explications FTEM'!J5)","v":0}]
[{"$f":"'Skills explications FTEM'!A6:C6","v":"ON ICE"},null,null,"CAPACITE",null,null,"OBSERVATION",null,null,null,null,null,null,"Date1",null,"Date2",null,"Date3",null,"Date4",null,"Date5",null,"Player",null,"BUT","MESURES:\nSPECIFIQUE, MESURABLES, REALISTE",null,null,null,null,null,null,"DELAI","CONTRÔLE DU BUT","Date"]
[{"$f":"'Skills explications FTEM'!A7:C7","v":"SKILL"},null,null,{"$f":"IF($H$2=\"G\",'Skills explications FTEM'!Q7,'Skills explications FTEM'!D7)","v":"TIR  (EFFET)"},null,null,{"$f":"IF($H$2=\"G\",'Skills explications FTEM'!T7,'Skills explications FTEM'!G7)","v":"Efficience (pas d'espace et de temps), variantes, degré de surprise (déclenchement rapide), précision, puissance (conclusion tactique)"},null,null,{"$f":"IF($H$2=\"G\",'Skills explications FTEM'!W7,'Skills explications FTEM'!J7)","v":0},null,null,null,{"$f":"IFERROR(AVERAGE(O16:O19),\"-\")","v":"-"},null,{"$f":"IFERROR(AVERAGE(Q16:Q19),\"-\")","v":"-"},null,{"$f":"IFERROR(AVERAGE(S16:S19),\"-\")","v":"-"},null,{"$f":"IFERROR(AVERAGE(U16:U19),\"-\")","v":"-"},null,{"$f":"IFERROR(AVERAGE(W16:W19),\"-\")","v":"-"},null,{"$f":"IFERROR(AVERAGE(Y16:Y19),\"-\")","v":"-"}]
[{"$f":"'Skills explications FTEM'!A8:C8","v":0},null,null,{"$f":"IF($H$2=\"G\",'Skills explications FTEM'!Q8,'Skills explications FTEM'!D8)","v":"PASSER"},null,null,{"$f":"IF($H$2=\"G\",'Skills explications FTEM'!T8,'Skills explications FTEM'!G8)","v":"Donne la passe (distance, passe flipée en revers), réception de la passe (précision, timing, coup droit, revers, patins), vitesse du puck"},null,null,{"$f":"IF($H$2=\"G\",'Skills explications FTEM'!W8,'Skills explications FTEM'!J8)","v":0}]
[{"$f":"'Skills explications FTEM'!A9:C9","v":0},null,null,{"$f":"IF($H$2=\"G\",'Skills explications FTEM'!Q9,'Skills explications FTEM'!D9)","v":"JEU DU CORPS"},null,null,{"$f":"IF($H$2=\"G\",'Skills explications FTEM'!T9,'Skills explications FTEM'!G9)","v":"Faculté de s'imposer physiquement, duels (sur la surface de glace ou à la bande), prendre des checks, lever la tête, niveau de lutte, dur mais correct, bloquer les tirs avec le corps"},null,null,{"$f":"IF($H$2=\"G\",'Skills explications FTEM'!W9,'Skills explications FTEM'!J9)","v":0},null,null,null,{"$f":"IFERROR(AVERAGE(O18:O19),\"-\")","v":"-"},null,{"$f":"IFERROR(AVERAGE(Q18:Q19),\"-\")","v":"-"},null,{"$f":"IFERROR(AVERAGE(S18:S19),\"-\")","v":"-"},null,{"$f":"IFERROR(AVERAGE(U18:U19),\"-\")","v":"-"},null,{"$f":"IFERROR(AVERAGE(W18:W19),\"-\")","v":"-"},null,"-"]
[{"$f":"'Skills explications FTEM'!A10:C10","v":0},null,null,{"$f":"IF($H$2=\"G\",'Skills explications FTEM'!Q10,'Skills explications FTEM'!D10)","v":"CONTRÔLE DU PUCK"},null,null,{"$f":"IF($H$2=\"G\",'Skills explications FTEM'!T10,'Skills explications FTEM'!G10)","v":"Contrôle du puck, dribbling, protection du puck, feintes (variantes: avec les patins ou avec et sans la bande), mise au jeu (bully)"},null,null,{"$f":"IF($H$2=\"G\",'Skills explications FTEM'!W10,'Skills explications FTEM'!J10)","v":0}]
[{"$f":"'Skills explications FTEM'!A11:C11","v":"SKATING"},null,null,{"$f":"IF($H$2=\"G\",'Skills explications FTEM'!Q11,'Skills explications FTEM'!D11)","v":"FOOTSPEED"},null,null,{"$f":"IF($H$2=\"G\",'Skills explications FTEM'!T11,'Skills explications FTEM'!G11)","v":"Accélération, départ, explosivité des 3 premiers pas, fréquence"},null,null,{"$f":"IF($H$2=\"G\",'Skills explications FTEM'!W11,'Skills explications FTEM'!J11)","v":0},null,null,null,{"$f":"IFERROR(AVERAGE(O20:O23),\"-\")","v":"-"},null,{"$f":"IFERROR(AVERAGE(Q20:Q23),\"-\")","v":"-"},null,{"$f":"IFERROR(AVERAGE(S20:S23),\"-\")","v":"-"},null,{"$f":"IFERROR(AVERAGE(U20:U23),\"-\")","v":"-"},null,{"$f":"IFERROR(AVERAGE(W20:W23),\"-\")","v":"-"},null,{"$f":"IFERROR(AVERAGE(Y20:Y23),\"-\")","v":"-"}]
[{"$f":"'Skills explications FTEM'!A12:C12","v":0},null,null,{"$f":"IF($H$2=\"G\",'Skills explications FTEM'!Q12,'Skills explications FTEM'!D12)","v":"MOBILITE"},null,null,{"$f":"IF($H$2=\"G\",'Skills explications FTEM'!T12,'Skills explications FTEM'!G12)","v":"Changements de direction, pivots, stop et start «Nummelin»"},null,null,{"$f":"IF($H$2=\"G\",'Skills explications FTEM'!W12,'Skills explications FTEM'!J12)","v":0}]
[{"$f":"'Skills explications FTEM'!A13:C13","v":0},null,null,{"$f":"IF($H$2=\"G\",'Skills explications FTEM'!Q13,'Skills explications FTEM'!D13)","v":"PATTINAGE ARRIÈRE"},null,null,{"$f":"IF($H$2=\"G\",'Skills explications FTEM'!T13,'Skills explications FTEM'!G13)","v":"Accélération, vitesse, équilibre"},null,null,{"$f":"IF($H$2=\"G\",'Skills explications FTEM'!W13,'Skills explications FTEM'!J13)","v":0}]
[{"$f":"'Skills explications FTEM'!A14:C14","v":0},null,null,{"$f":"IF($H$2=\"G\",'Skills explications FTEM'!Q14,'Skills explications FTEM'!D14)","v":"TOP SPEED"},null,null,{"$f":"IF($H$2=\"G\",'Skills explications FTEM'!T14,'Skills explications FTEM'!G14)","v":"Vitesse, faculté de glisse, avant et arrière, économie des forces"},null,null,{"$f":"IF($H$2=\"G\",'Skills explications FTEM'!W14,'Skills explications FTEM'!J14)","v":0}]
[{"$f":"'Skills explications FTEM'!A15:C15","v":"HOCKEY SENSE"},null,null,{"$f":"IF($H$2=\"G\",'Skills explications FTEM'!Q15,'Skills explications FTEM'!D15)","v":"SCORING"},null,null,{"$f":"IF($H$2=\"G\",'Skills explications FTEM'!T15,'Skills explications FTEM'!G15)","v":"Efficience, richesse des variantes, surpenant, vite, variante de tirs"},null,null,{"$f":"IF($H$2=\"G\",'Skills explications FTEM'!W15,'Skills explications FTEM'!J15)","v":0},null,null,null,{"$f":"IFERROR(AVERAGE(O24:O27),\"-\")","v":"-"},null,{"$f":"IFERROR(AVERAGE(Q24:Q27),\"-\")","v":"-"},null,{"$f":"IFERROR(AVERAGE(S24:S27),\"-\")","v":"-"},null,{"$f":"IFERROR(AVERAGE(U24:U27),\"-\")","v":"-"},null,{"$f":"IFERROR(AVERAGE(W24:W27),\"-\")","v":"-"},null,{"$f":"IFERROR(AVERAGE(Y24:Y27),\"-\")","v":"-"}]
[{"$f":"'Skills explications FTEM'!A16:C16","v":0},null,null,{"$f":"IF($H$2=\"G\",'Skills explications FTEM'!Q16,'Skills explications FTEM'!D16)","v":"AVEC PUCK"},null,null,{"$f":"IF($H$2=\"G\",'Skills explications FTEM'!T16,'Skills explications FTEM'!G16)","v":"créatif,  performing, batteling, fou, transition"},null,null,{"$f":"IF($H$2=\"G\",'Skills explications FTEM'!W16,'Skills explications FTEM'!J16)","v":0}]
[{"$f":"'Skills explications FTEM'!A17:C17","v":0},null,null,{"$f":"IF($H$2=\"G\",'Skills explications FTEM'!Q17,'Skills explications FTEM'!D17)","v":"SANS PUCK"},null,null,{"$f":"IF($H$2=\"G\",'Skills explications FTEM'!T17,'Skills explications FTEM'!G17)","v":"ouvert pour un passe (Support), 1:1, Gap"},null,null,{"$f":"IF($H$2=\"G\",'Skills explications FTEM'!W17,'Skills explications FTEM'!J17)","v":0}]
[{"$f":"'Skills explications FTEM'!A18:C18","v":0},null,null,{"$f":"IF($H$2=\"G\",'Skills explications FTEM'!Q18,'Skills explications FTEM'!D18)","v":"DEFENSIF"},null,null,{"$f":"IF($H$2=\"G\",'Skills explications FTEM'!T18,'Skills explications FTEM'!G18)","v":"on peut compter dessus,  1:1, Gap, identification de l'homme"},null,null,{"$f":"IF($H$2=\"G\",'Skills explications FTEM'!W18,'Skills explications FTEM'!J18)","v":0}]
[{"$f":"'Skills explications FTEM'!A19:C19","v":"PERSONALITY"},null,null,"CAPACITE",null,null,"OBSERVATION",null,null,null,null,null,null,"Date1",null,"Date2",null,"Date3",null,"Date4",null,"Date5",null,"Player",null,"BUT","MESURES:\nSPECIFIQUE, MESURABLES, REALISTE",null,null,null,null,null,null,"DELAI","CONTRÔLE DU BUT","Date"]
[{"$f":"'Skills explications FTEM'!A20:C20","v":"PERSONALITÉ"},null,null,{"$f":"IF($H$2=\"G\",'Skills explications FTEM'!Q20,'Skills explications FTEM'!D20)","v":"MOTIVATION"},null,null,{"$f":"IF($H$2=\"G\",'Skills explications FTEM'!T20,'Skills explications FTEM'!G20)","v":"Est toujours motivé, veut sans cesse se développer et apprendre, veut être le premier et avoir du succès, n'abandonne jamais et ne se laisse pas influencer par les échecs"},null,null,{"$f":"IF($H$2=\"G\",'Skills explications FTEM'!W20,'Skills explications FTEM'!J20)","v":0},null,null,null,{"$f":"IFERROR(AVERAGE(O29:O32),\"-\")","v":"-"},null,null,null,{"$f":"IFERROR(AVERAGE(S29:S32),\"-\")","v":"-"},null,{"$f":"IFERROR(AVERAGE(U29:U32),\"-\")","v":"-"},null,{"$f":"IFERROR(AVERAGE(W29:W32),\"-\")","v":"-"},null,{"$f":"IFERROR(AVERAGE(Y29:Y32),\"-\")","v":"-"}]
[{"$f":"'Skills explications FTEM'!A21:C21","v":0},null,null,{"$f":"IF($H$2=\"G\",'Skills explications FTEM'!Q21,'Skills explications FTEM'!D21)","v":"CONFIENCE EN SOI"},null,null,{"$f":"IF($H$2=\"G\",'Skills explications FTEM'!T21,'Skills explications FTEM'!G21)","v":"Est en confiance, «I can do it», peut estimer ses capacités (connaît ses qualités et ses défauts), peut réaliser ses qualités avec constance, est courageux et prend des risques calculés"},null,null,{"$f":"IF($H$2=\"G\",'Skills explications FTEM'!W21,'Skills explications FTEM'!J21)","v":0}]
[{"$f":"'Skills explications FTEM'!A22:C22","v":0},null,null,{"$f":"IF($H$2=\"G\",'Skills explications FTEM'!Q22,'Skills explications FTEM'!D22)","v":"FACULTÉES D'APPRENTISSAGE"},null,null,{"$f":"IF($H$2=\"G\",'Skills explications FTEM'!T22,'Skills explications FTEM'!G22)","v":"A une bonne perception (il peut mémoriser et peut réaliser), il a de la personnalité, essaie d'apprendre de ses erreurs et est entreprenant"},null,null,{"$f":"IF($H$2=\"G\",'Skills explications FTEM'!W22,'Skills explications FTEM'!J22)","v":0}]
[{"$f":"'Skills explications FTEM'!A23:C23","v":0},null,null,{"$f":"IF($H$2=\"G\",'Skills explications FTEM'!Q23,'Skills explications FTEM'!D23)","v":"PERFORMANCE, STYLE DE VIE"},null,null,{"$f":"IF($H$2=\"G\",'Skills explications FTEM'!T23,'Skills explications FTEM'!G23)","v":"Gère bien son environnement et son temps libre selon les principes de la performance, obstiné, tenace et axé sur l'objectif, accent sur sa propre performance, est courageux et peut s'imposer contre de la résistance, les défis le motivent"},null,null,{"$f":"IF($H$2=\"G\",'Skills explications FTEM'!W23,'Skills explications FTEM'!J23)","v":0}]
[{"$f":"'Skills explications FTEM'!A24:C24","v":"POWER MENTAL"},null,null,{"$f":"IF($H$2=\"G\",'Skills explications FTEM'!Q24,'Skills explications FTEM'!D24)","v":"GESTION DES ÉNERGIES"},null,null,{"$f":"IF($H$2=\"G\",'Skills explications FTEM'!T24,'Skills explications FTEM'!G24)","v":"Peut-il gérer ses propres énergies, prend-il soin de sa régénération, peut-il gérer les moments où il faut se donner à fond ou quand il faut déconnecter, bouton On/Off"},null,null,{"$f":"IF($H$2=\"G\",'Skills explications FTEM'!W24,'Skills explications FTEM'!J24)","v":0},null,null,null,{"$f":"IFERROR(AVERAGE(O33:O36),\"-\")","v":"-"},null,null,null,{"$f":"IFERROR(AVERAGE(S33:S36),\"-\")","v":"-"},null,{"$f":"IFERROR(AVERAGE(U33:U36),\"-\")","v":"-"},null,{"$f":"IFERROR(AVERAGE(W33:W36),\"-\")","v":"-"},null,{"$f":"IFERROR(AVERAGE(Y33:Y36),\"-\")","v":"-"}]
[{"$f":"'Skills explications FTEM'!A25:C25","v":0},null,null,{"$f":"IF($H$2=\"G\",'Skills explications FTEM'!Q25,'Skills explications FTEM'!D25)","v":"ENGAGEMENT"},null,null,{"$f":"IF($H$2=\"G\",'Skills explications FTEM'!T25,'Skills explications FTEM'!G25)","v":"Démontre beaucoup d'intensité dans les entraînements et les matchs, donne toujours son maximum et veut sans cesse repousser ses limites, a-t-il de la passion, s'efforce-t-il de s'entraîner avec une excellente qualité"},null,null,{"$f":"IF($H$2=\"G\",'Skills explications FTEM'!W25,'Skills explications FTEM'!J25)","v":0}]
[{"$f":"'Skills explications FTEM'!A26:C26","v":0},null,null,{"$f":"IF($H$2=\"G\",'Skills explications FTEM'!Q26,'Skills explications FTEM'!D26)","v":"CONTRÔLE DES ÉMOTIONS"},null,null,{"$f":"IF($H$2=\"G\",'Skills explications FTEM'!T26,'Skills explications FTEM'!G26)","v":"Peut-il gérer ses propres émotions et impulsions, reste-t-il sous contrôle lorsqu'il y a une grande pression, peut-il rester calme lorsque le niveau émotionnel et de frustration est élevé"},null,null,{"$f":"IF($H$2=\"G\",'Skills explications FTEM'!W26,'Skills explications FTEM'!J26)","v":0}]
[{"$f":"'Skills explications FTEM'!A27:C27","v":0},null,null,{"$f":"IF($H$2=\"G\",'Skills explications FTEM'!Q27,'Skills explications FTEM'!D27)","v":"PRÉPARATION"},null,null,{"$f":"IF($H$2=\"G\",'Skills explications FTEM'!T27,'Skills explications FTEM'!G27)","v":"Se prépare-t-il toujours bien, mentalement et physiquement, se prépare-t-il toujours bien pour obtenir le niveau de performance idéal (ILZ)"},null,null,{"$f":"IF($H$2=\"G\",'Skills explications FTEM'!W27,'Skills explications FTEM'!J27)","v":0}]
[{"$f":"'Skills explications FTEM'!A28:C28","v":"PYHSE (Athletik)"},null,null,{"$f":"IF($H$2=\"G\",'Skills explications FTEM'!Q28,'Skills explications FTEM'!D28)","v":"PRODUCTION DE LA PERFORMANCE"},null,null,{"$f":"IF($H$2=\"G\",'Skills explications FTEM'!T28,'Skills explications FTEM'!G28)","v":"A-t-il la puissance, la force, la vitesse nécessaires dans les jambes et le haut du corps (facteurs neuromusculaires)"},null,null,{"$f":"IF($H$2=\"G\",'Skills explications FTEM'!W28,'Skills explications FTEM'!J28)","v":0},null,null,null,{"$f":"IFERROR(AVERAGE(O37:O40),\"-\")","v":"-"},null,null,null,{"$f":"IFERROR(AVERAGE(S37:S40),\"-\")","v":"-"},null,{"$f":"IFERROR(AVERAGE(U37:U40),\"-\")","v":"-"},null,{"$f":"IFERROR(AVERAGE(W37:W40),\"-\")","v":"-"},null,{"$f":"IFERROR(AVERAGE(Y37:Y40),\"-\")","v":"-"}]
[{"$f":"'Skills explications FTEM'!A29:C29","v":0},null,null,{"$f":"IF($H$2=\"G\",'Skills explications FTEM'!Q29,'Skills explications FTEM'!D29)","v":"SPÉCIFIQUE AU SPORT, RÉSISTANT À L'EFFORT"},null,null,{"$f":"IF($H$2=\"G\",'Skills explications FTEM'!T29,'Skills explications FTEM'!G29)","v":"Est-il capable de maintenir sa puissance, sa force, sa vitesse durant un long temps de glace et peut-il récupérer complètement entre ses engagements (facteurs du métabolisme et cardiovasculaire)"},null,null,{"$f":"IF($H$2=\"G\",'Skills explications FTEM'!W29,'Skills explications FTEM'!J29)","v":0}]
[{"$f":"'Skills explications FTEM'!A30:C30","v":0},null,null,{"$f":"IF($H$2=\"G\",'Skills explications FTEM'!Q30,'Skills explications FTEM'!D30)","v":"MOBILITÉ/ COODINATION"},null,null,{"$f":"IF($H$2=\"G\",'Skills explications FTEM'!T30,'Skills explications FTEM'!G30)","v":"Gère-t-il ses aptitudes de mouvements de base, qui sont un fournisseur important des fonctions spécifiques «Skills» pour être efficace"},null,null,{"$f":"IF($H$2=\"G\",'Skills explications FTEM'!W30,'Skills explications FTEM'!J30)","v":0}]
[{"$f":"'Skills explications FTEM'!A31:C31","v":0},null,null,{"$f":"IF($H$2=\"G\",'Skills explications FTEM'!Q31,'Skills explications FTEM'!D31)","v":"ROBUSTESSE / PREVENTION"},null,null,{"$f":"IF($H$2=\"G\",'Skills explications FTEM'!T31,'Skills explications FTEM'!G31)","v":"A-t-il la force de base nécessaire (tension corporelle) pour gagner des duels et résister aux charges, A-t-il la stabilité nécessaire (ex. ses appuis) et la mobilité nécessaire au niveau des articulations centrales"},null,null,{"$f":"IF($H$2=\"G\",'Skills explications FTEM'!W31,'Skills explications FTEM'!J31)","v":0}]

{"sheet":"21","index":24,"n_rows":40,"n_cols":36,"rows_kept":40,"cut":false,"hidden":false,"merged":[[36,25,39,25],[36,26,39,32],[36,34,39,34],[32,23,35,23],[33,3,33,5],[33,6,33,11],[35,3,35,5],[35,6,35,11],[32,0,35,2],[32,3,32,5],[32,6,32,11],[32,12,35,12],[32,13,35,13],[32,15,35,15],[36,0,39,2],[36,3,36,5],[36,6,36,11],[36,12,39,12],[36,23,39,23],[37,3,37,5],[37,6,37,11],[38,3,38,5],[38,6,38,11],[39,3,39,5],[27,21,27,22],[28,17,31,17],[28,19,31,19],[28,21,31,21],[29,3,29,5],[29,6,29,11],[30,3,30,5],[30,6,30,11],[32,17,35,17],[32,19,35,19],[32,21,35,21],[34,3,34,5],[34,6,34,11],[23,0,26,2],[23,3,23,5],[23,6,23,11],[23,12,26,12],[23,13,26,13],[23,15,26,15],[27,23,27,24],[27,26,27,32],[28,0,31,2],[28,3,28,5],[28,6,28,11],[28,12,31,12],[28,13,31,13],[28,15,31,15],[31,3,31,5],[31,6,31,11],[28,23,31,23],[27,0,27,2],[27,3,27,5],[27,6,27,11],[27,13,27,14],[27,15,27,16],[27,17,27,18],[27,19,27,20],[19,21,22,21],[19,23,22,23],[20,3,20,5],[20,6,20,11],[22,3,22,5],[22,6,22,11],[26,3,26,5],[26,6,26,11],[23,23,26,23],[23,17,26,17],[23,19,26,19],[23,21,26,21],[24,3,24,5],[24,6,24,11],[25,3,25,5],[25,6,25,11],[21,3,21,5],[21,6,21,11],[15,15,18,15],[15,17,18,17],[15,19,18,19],[15,21,18,21],[15,23,18,23],[18,3,18,5],[18,6,18,11],[19,0,22,2],[19,3,19,5],[19,6,19,11],[19,12,22,12],[19,13,22,13],[19,15,22,15],[19,17,22,17],[15,0,18,2],[15,3,15,5],[15,6,15,11],[15,12,18,12],[15,13,18,13],[16,3,16,5],[16,6,16,11],[17,3,17,5],[17,6,17,11],[19,19,22,19],[12,23,13,23],[13,3,13,5],[13,6,13,11],[14,0,14,2],[14,3,14,5],[14,6,14,11],[14,13,14,14],[14,15,14,16],[14,17,14,18],[14,19,14,20],[14,21,14,22],[14,23,14,24],[12,0,13,2],[12,3,12,5],[12,6,12,11],[12,12,13,12],[12,13,13,13],[12,15,13,15],[12,17,13,17],[12,19,13,19],[12,21,13,21],[11,0,11,2],[11,3,11,5],[11,13,11,14],[11,15,11,16],[11,17,11,18],[11,19,11,20],[11,21,11,22],[11,23,11,24],[11,26,11,32],[11,6,11,11],[0,33,0,35],[23,25,26,25],[23,26,26,32],[23,34,26,34],[28,25,31,25],[28,26,31,32],[28,34,31,34],[1,0,1,1],[1,2,1,5],[1,10,1,24],[2,0,2,1],[2,2,2,5],[2,11,2,24],[6,0,6,1],[6,2,6,35],[7,0,7,1],[7,2,7,35],[8,0,8,1],[8,2,8,35],[3,0,3,1],[3,10,3,24],[4,0,4,1],[4,2,4,5],[4,10,4,24],[39,6,39,11],[36,13,39,13],[36,15,39,15],[36,17,39,17],[36,19,39,19],[36,21,39,21],[0,0,0,24],[0,25,0,26],[0,27,0,32],[10,0,10,24],[10,25,10,35],[32,25,35,25],[32,26,35,32],[32,34,35,34],[12,25,13,25],[12,26,13,32],[12,34,13,34],[15,25,18,25],[15,26,18,32],[15,34,18,34],[19,25,22,25],[19,26,22,32],[19,34,22,34],[14,26,14,32]]}
["Infos personelles",null,null,null,null,null,null,null,null,null,null,null,null,null,null,null,null,null,null,null,null,null,null,null,null,"Predispositions",null,"Evaluations",null,null,null,null,null,"Rating"]
["PRENOM",null,{"$f":"IF(ISBLANK(VLOOKUP(21,Tabelle3[],3,0)),\"-\",VLOOKUP(21,Tabelle3[],3,0))","v":"-"},null,null,null,"POSITION",null,null,"ADRESSE",{"$f":"IF(ISBLANK(VLOOKUP(21,Tabelle3[],5,0)),\"-\",VLOOKUP(21,Tabelle3[],5,0))","v":"-"},null,null,null,null,null,null,null,null,null,null,null,null,null,null,"\"àage\" (Biologique/age relatif)",null,"Date 1",null,null,"cm",null,"Kg",null,"AUSGEZEICHNET",5]
["NOM",null,{"$f":"IF(ISBLANK(VLOOKUP(21,Tabelle3[],2,0)),\"-\",VLOOKUP(21,Tabelle3[],2,0))","v":"-"},null,null,null,"CANNE",null,null,"LIEU",{"$f":"IF(ISBLANK(VLOOKUP(21,Tabelle3[],7,0)),\"-\",VLOOKUP(21,Tabelle3[],7,0))","v":"-"},{"$f":"IF(ISBLANK(VLOOKUP(21,Tabelle3[],6,0)),\"-\",VLOOKUP(21,Tabelle3[],6,0))","v":"-"},null,null,null,null,null,null,null,null,null,null,null,null,null,"predispositions",null,"Date 2",null,null,"cm",null,"Kg",null,"GUT",4]
["DATE NAISS.",null,{"$f":"IF(ISBLANK(VLOOKUP(21,Tabelle3[],14,0)),\"-\",VLOOKUP(21,Tabelle3[],14,0))","v":"-"},{"$f":"IF(ISBLANK(VLOOKUP(21,Tabelle3[],15,0)),\"-\",VLOOKUP(21,Tabelle3[],15,0))","v":"-"},{"$f":"IF(ISBLANK(VLOOKUP(21,Tabelle3[],16,0)),\"-\",VLOOKUP(21,Tabelle3[],16,0))","v":"-"},null,"GRANDEUR",null,"cm","PHONE",{"$f":"IF(ISBLANK(VLOOKUP(21,Tabelle3[],8,0)),\"-\",VLOOKUP(21,Tabelle3[],8,0))","v":"-"},null,null,null,null,null,null,null,null,null,null,null,null,null,null,"Entourage",null,"Date 3",null,null,"cm",null,"Kg",null,"DURCHSCHNITT",3]
["SEXE",null,{"$f":"IF(ISBLANK(VLOOKUP(21,Tabelle3[],13,0)),\"-\",VLOOKUP(21,Tabelle3[],13,0))","v":"-"},null,null,null,"POIDS",null,"Kg","E-Mail",{"$f":"IF(ISBLANK(VLOOKUP(21,Tabelle3[],9,0)),\"-\",VLOOKUP(21,Tabelle3[],9,0))","v":"-"},null,null,null,null,null,null,null,null,null,null,null,null,null,null,null,null,"Date 4",null,null,"cm",null,"Kg",null,"MANGELHAFT",2]
[null,null,null,null,null,null,null,null,null,null,null,null,null,null,null,null,null,null,null,null,null,null,null,null,null,null,null,"Date 5",null,null,"cm",null,"Kg",null,"UNGENÜGEND",1]
["Vision",null,"xxx"]
["Next step",null,"xxx"]
["Profil du Joueur",null,"xxx"]
[]
["EVALUATION (COACH / JOUEUR)",null,null,null,null,null,null,null,null,null,null,null,null,null,null,null,null,null,null,null,null,null,null,null,null,"SMART"]
[{"$f":"'Skills explications FTEM'!A3:C3","v":"TEAM"},null,null,"CAPACITE",null,null,"OBSERVATION",null,null,null,null,null,"Final","Date1",null,"Date2",null,"Date3",null,"Date4",null,"Date5",null,"Player",null,"BUT","MESURES:\nSPECIFIQUE, MESURABLES, REALISTE",null,null,null,null,null,null,"DELAI","CONTRÔLE DU BUT","Date"]
[{"$f":"'Skills explications FTEM'!A4:C4","v":"ROLLE, SOZIAL"},null,null,{"$f":"IF($H$2=\"G\",'Skills explications FTEM'!Q4,'Skills explications FTEM'!D4)","v":"PENSER EQUIPE"},null,null,{"$f":"IF($H$2=\"G\",'Skills explications FTEM'!T4,'Skills explications FTEM'!G4)","v":"Identification au rôle, relation au cammarades (social, intégration)"},null,null,{"$f":"IF($H$2=\"G\",'Skills explications FTEM'!W4,'Skills explications FTEM'!J4)","v":0},null,null,null,{"$f":"IFERROR(AVERAGE(O13:O14),\"-\")","v":"-"},null,{"$f":"IFERROR(AVERAGE(Q13:Q14),\"-\")","v":"-"},null,{"$f":"IFERROR(AVERAGE(S13:S14),\"-\")","v":"-"},null,{"$f":"IFERROR(AVERAGE(U13:U14),\"-\")","v":"-"},null,{"$f":"IFERROR(AVERAGE(W13:W14),\"-\")","v":"-"},null,{"$f":"IFERROR(AVERAGE(Y13:Y14),\"-\")","v":"-"}]
[{"$f":"'Skills explications FTEM'!A5:C5","v":0},null,null,{"$f":"IF($H$2=\"G\",'Skills explications FTEM'!Q5,'Skills explications FTEM'!D5)","v":"LEADERSHIP"},null,null,{"$f":"IF($H$2=\"G\",'Skills explications FTEM'!T5,'Skills explications FTEM'!G5)","v":"prend des responsabilités, rend son coéquipier meilleur"},null,null,{"$f":"IF($H$2=\"G\",'Skills explications FTEM'!W5,'Skills explications FTEM'!J5)","v":0}]
[{"$f":"'Skills explications FTEM'!A6:C6","v":"ON ICE"},null,null,"CAPACITE",null,null,"OBSERVATION",null,null,null,null,null,null,"Date1",null,"Date2",null,"Date3",null,"Date4",null,"Date5",null,"Player",null,"BUT","MESURES:\nSPECIFIQUE, MESURABLES, REALISTE",null,null,null,null,null,null,"DELAI","CONTRÔLE DU BUT","Date"]
[{"$f":"'Skills explications FTEM'!A7:C7","v":"SKILL"},null,null,{"$f":"IF($H$2=\"G\",'Skills explications FTEM'!Q7,'Skills explications FTEM'!D7)","v":"TIR  (EFFET)"},null,null,{"$f":"IF($H$2=\"G\",'Skills explications FTEM'!T7,'Skills explications FTEM'!G7)","v":"Efficience (pas d'espace et de temps), variantes, degré de surprise (déclenchement rapide), précision, puissance (conclusion tactique)"},null,null,{"$f":"IF($H$2=\"G\",'Skills explications FTEM'!W7,'Skills explications FTEM'!J7)","v":0},null,null,null,{"$f":"IFERROR(AVERAGE(O16:O19),\"-\")","v":"-"},null,{"$f":"IFERROR(AVERAGE(Q16:Q19),\"-\")","v":"-"},null,{"$f":"IFERROR(AVERAGE(S16:S19),\"-\")","v":"-"},null,{"$f":"IFERROR(AVERAGE(U16:U19),\"-\")","v":"-"},null,{"$f":"IFERROR(AVERAGE(W16:W19),\"-\")","v":"-"},null,{"$f":"IFERROR(AVERAGE(Y16:Y19),\"-\")","v":"-"}]
[{"$f":"'Skills explications FTEM'!A8:C8","v":0},null,null,{"$f":"IF($H$2=\"G\",'Skills explications FTEM'!Q8,'Skills explications FTEM'!D8)","v":"PASSER"},null,null,{"$f":"IF($H$2=\"G\",'Skills explications FTEM'!T8,'Skills explications FTEM'!G8)","v":"Donne la passe (distance, passe flipée en revers), réception de la passe (précision, timing, coup droit, revers, patins), vitesse du puck"},null,null,{"$f":"IF($H$2=\"G\",'Skills explications FTEM'!W8,'Skills explications FTEM'!J8)","v":0}]
[{"$f":"'Skills explications FTEM'!A9:C9","v":0},null,null,{"$f":"IF($H$2=\"G\",'Skills explications FTEM'!Q9,'Skills explications FTEM'!D9)","v":"JEU DU CORPS"},null,null,{"$f":"IF($H$2=\"G\",'Skills explications FTEM'!T9,'Skills explications FTEM'!G9)","v":"Faculté de s'imposer physiquement, duels (sur la surface de glace ou à la bande), prendre des checks, lever la tête, niveau de lutte, dur mais correct, bloquer les tirs avec le corps"},null,null,{"$f":"IF($H$2=\"G\",'Skills explications FTEM'!W9,'Skills explications FTEM'!J9)","v":0},null,null,null,{"$f":"IFERROR(AVERAGE(O18:O19),\"-\")","v":"-"},null,{"$f":"IFERROR(AVERAGE(Q18:Q19),\"-\")","v":"-"},null,{"$f":"IFERROR(AVERAGE(S18:S19),\"-\")","v":"-"},null,{"$f":"IFERROR(AVERAGE(U18:U19),\"-\")","v":"-"},null,{"$f":"IFERROR(AVERAGE(W18:W19),\"-\")","v":"-"},null,"-"]
[{"$f":"'Skills explications FTEM'!A10:C10","v":0},null,null,{"$f":"IF($H$2=\"G\",'Skills explications FTEM'!Q10,'Skills explications FTEM'!D10)","v":"CONTRÔLE DU PUCK"},null,null,{"$f":"IF($H$2=\"G\",'Skills explications FTEM'!T10,'Skills explications FTEM'!G10)","v":"Contrôle du puck, dribbling, protection du puck, feintes (variantes: avec les patins ou avec et sans la bande), mise au jeu (bully)"},null,null,{"$f":"IF($H$2=\"G\",'Skills explications FTEM'!W10,'Skills explications FTEM'!J10)","v":0}]
[{"$f":"'Skills explications FTEM'!A11:C11","v":"SKATING"},null,null,{"$f":"IF($H$2=\"G\",'Skills explications FTEM'!Q11,'Skills explications FTEM'!D11)","v":"FOOTSPEED"},null,null,{"$f":"IF($H$2=\"G\",'Skills explications FTEM'!T11,'Skills explications FTEM'!G11)","v":"Accélération, départ, explosivité des 3 premiers pas, fréquence"},null,null,{"$f":"IF($H$2=\"G\",'Skills explications FTEM'!W11,'Skills explications FTEM'!J11)","v":0},null,null,null,{"$f":"IFERROR(AVERAGE(O20:O23),\"-\")","v":"-"},null,{"$f":"IFERROR(AVERAGE(Q20:Q23),\"-\")","v":"-"},null,{"$f":"IFERROR(AVERAGE(S20:S23),\"-\")","v":"-"},null,{"$f":"IFERROR(AVERAGE(U20:U23),\"-\")","v":"-"},null,{"$f":"IFERROR(AVERAGE(W20:W23),\"-\")","v":"-"},null,{"$f":"IFERROR(AVERAGE(Y20:Y23),\"-\")","v":"-"}]
[{"$f":"'Skills explications FTEM'!A12:C12","v":0},null,null,{"$f":"IF($H$2=\"G\",'Skills explications FTEM'!Q12,'Skills explications FTEM'!D12)","v":"MOBILITE"},null,null,{"$f":"IF($H$2=\"G\",'Skills explications FTEM'!T12,'Skills explications FTEM'!G12)","v":"Changements de direction, pivots, stop et start «Nummelin»"},null,null,{"$f":"IF($H$2=\"G\",'Skills explications FTEM'!W12,'Skills explications FTEM'!J12)","v":0}]
[{"$f":"'Skills explications FTEM'!A13:C13","v":0},null,null,{"$f":"IF($H$2=\"G\",'Skills explications FTEM'!Q13,'Skills explications FTEM'!D13)","v":"PATTINAGE ARRIÈRE"},null,null,{"$f":"IF($H$2=\"G\",'Skills explications FTEM'!T13,'Skills explications FTEM'!G13)","v":"Accélération, vitesse, équilibre"},null,null,{"$f":"IF($H$2=\"G\",'Skills explications FTEM'!W13,'Skills explications FTEM'!J13)","v":0}]
[{"$f":"'Skills explications FTEM'!A14:C14","v":0},null,null,{"$f":"IF($H$2=\"G\",'Skills explications FTEM'!Q14,'Skills explications FTEM'!D14)","v":"TOP SPEED"},null,null,{"$f":"IF($H$2=\"G\",'Skills explications FTEM'!T14,'Skills explications FTEM'!G14)","v":"Vitesse, faculté de glisse, avant et arrière, économie des forces"},null,null,{"$f":"IF($H$2=\"G\",'Skills explications FTEM'!W14,'Skills explications FTEM'!J14)","v":0}]
[{"$f":"'Skills explications FTEM'!A15:C15","v":"HOCKEY SENSE"},null,null,{"$f":"IF($H$2=\"G\",'Skills explications FTEM'!Q15,'Skills explications FTEM'!D15)","v":"SCORING"},null,null,{"$f":"IF($H$2=\"G\",'Skills explications FTEM'!T15,'Skills explications FTEM'!G15)","v":"Efficience, richesse des variantes, surpenant, vite, variante de tirs"},null,null,{"$f":"IF($H$2=\"G\",'Skills explications FTEM'!W15,'Skills explications FTEM'!J15)","v":0},null,null,null,{"$f":"IFERROR(AVERAGE(O24:O27),\"-\")","v":"-"},null,{"$f":"IFERROR(AVERAGE(Q24:Q27),\"-\")","v":"-"},null,{"$f":"IFERROR(AVERAGE(S24:S27),\"-\")","v":"-"},null,{"$f":"IFERROR(AVERAGE(U24:U27),\"-\")","v":"-"},null,{"$f":"IFERROR(AVERAGE(W24:W27),\"-\")","v":"-"},null,{"$f":"IFERROR(AVERAGE(Y24:Y27),\"-\")","v":"-"}]
[{"$f":"'Skills explications FTEM'!A16:C16","v":0},null,null,{"$f":"IF($H$2=\"G\",'Skills explications FTEM'!Q16,'Skills explications FTEM'!D16)","v":"AVEC PUCK"},null,null,{"$f":"IF($H$2=\"G\",'Skills explications FTEM'!T16,'Skills explications FTEM'!G16)","v":"créatif,  performing, batteling, fou, transition"},null,null,{"$f":"IF($H$2=\"G\",'Skills explications FTEM'!W16,'Skills explications FTEM'!J16)","v":0}]
[{"$f":"'Skills explications FTEM'!A17:C17","v":0},null,null,{"$f":"IF($H$2=\"G\",'Skills explications FTEM'!Q17,'Skills explications FTEM'!D17)","v":"SANS PUCK"},null,null,{"$f":"IF($H$2=\"G\",'Skills explications FTEM'!T17,'Skills explications FTEM'!G17)","v":"ouvert pour un passe (Support), 1:1, Gap"},null,null,{"$f":"IF($H$2=\"G\",'Skills explications FTEM'!W17,'Skills explications FTEM'!J17)","v":0}]
[{"$f":"'Skills explications FTEM'!A18:C18","v":0},null,null,{"$f":"IF($H$2=\"G\",'Skills explications FTEM'!Q18,'Skills explications FTEM'!D18)","v":"DEFENSIF"},null,null,{"$f":"IF($H$2=\"G\",'Skills explications FTEM'!T18,'Skills explications FTEM'!G18)","v":"on peut compter dessus,  1:1, Gap, identification de l'homme"},null,null,{"$f":"IF($H$2=\"G\",'Skills explications FTEM'!W18,'Skills explications FTEM'!J18)","v":0}]
[{"$f":"'Skills explications FTEM'!A19:C19","v":"PERSONALITY"},null,null,"CAPACITE",null,null,"OBSERVATION",null,null,null,null,null,null,"Date1",null,"Date2",null,"Date3",null,"Date4",null,"Date5",null,"Player",null,"BUT","MESURES:\nSPECIFIQUE, MESURABLES, REALISTE",null,null,null,null,null,null,"DELAI","CONTRÔLE DU BUT","Date"]
[{"$f":"'Skills explications FTEM'!A20:C20","v":"PERSONALITÉ"},null,null,{"$f":"IF($H$2=\"G\",'Skills explications FTEM'!Q20,'Skills explications FTEM'!D20)","v":"MOTIVATION"},null,null,{"$f":"IF($H$2=\"G\",'Skills explications FTEM'!T20,'Skills explications FTEM'!G20)","v":"Est toujours motivé, veut sans cesse se développer et apprendre, veut être le premier et avoir du succès, n'abandonne jamais et ne se laisse pas influencer par les échecs"},null,null,{"$f":"IF($H$2=\"G\",'Skills explications FTEM'!W20,'Skills explications FTEM'!J20)","v":0},null,null,null,{"$f":"IFERROR(AVERAGE(O29:O32),\"-\")","v":"-"},null,null,null,{"$f":"IFERROR(AVERAGE(S29:S32),\"-\")","v":"-"},null,{"$f":"IFERROR(AVERAGE(U29:U32),\"-\")","v":"-"},null,{"$f":"IFERROR(AVERAGE(W29:W32),\"-\")","v":"-"},null,{"$f":"IFERROR(AVERAGE(Y29:Y32),\"-\")","v":"-"}]
[{"$f":"'Skills explications FTEM'!A21:C21","v":0},null,null,{"$f":"IF($H$2=\"G\",'Skills explications FTEM'!Q21,'Skills explications FTEM'!D21)","v":"CONFIENCE EN SOI"},null,null,{"$f":"IF($H$2=\"G\",'Skills explications FTEM'!T21,'Skills explications FTEM'!G21)","v":"Est en confiance, «I can do it», peut estimer ses capacités (connaît ses qualités et ses défauts), peut réaliser ses qualités avec constance, est courageux et prend des risques calculés"},null,null,{"$f":"IF($H$2=\"G\",'Skills explications FTEM'!W21,'Skills explications FTEM'!J21)","v":0}]
[{"$f":"'Skills explications FTEM'!A22:C22","v":0},null,null,{"$f":"IF($H$2=\"G\",'Skills explications FTEM'!Q22,'Skills explications FTEM'!D22)","v":"FACULTÉES D'APPRENTISSAGE"},null,null,{"$f":"IF($H$2=\"G\",'Skills explications FTEM'!T22,'Skills explications FTEM'!G22)","v":"A une bonne perception (il peut mémoriser et peut réaliser), il a de la personnalité, essaie d'apprendre de ses erreurs et est entreprenant"},null,null,{"$f":"IF($H$2=\"G\",'Skills explications FTEM'!W22,'Skills explications FTEM'!J22)","v":0}]
[{"$f":"'Skills explications FTEM'!A23:C23","v":0},null,null,{"$f":"IF($H$2=\"G\",'Skills explications FTEM'!Q23,'Skills explications FTEM'!D23)","v":"PERFORMANCE, STYLE DE VIE"},null,null,{"$f":"IF($H$2=\"G\",'Skills explications FTEM'!T23,'Skills explications FTEM'!G23)","v":"Gère bien son environnement et son temps libre selon les principes de la performance, obstiné, tenace et axé sur l'objectif, accent sur sa propre performance, est courageux et peut s'imposer contre de la résistance, les défis le motivent"},null,null,{"$f":"IF($H$2=\"G\",'Skills explications FTEM'!W23,'Skills explications FTEM'!J23)","v":0}]
[{"$f":"'Skills explications FTEM'!A24:C24","v":"POWER MENTAL"},null,null,{"$f":"IF($H$2=\"G\",'Skills explications FTEM'!Q24,'Skills explications FTEM'!D24)","v":"GESTION DES ÉNERGIES"},null,null,{"$f":"IF($H$2=\"G\",'Skills explications FTEM'!T24,'Skills explications FTEM'!G24)","v":"Peut-il gérer ses propres énergies, prend-il soin de sa régénération, peut-il gérer les moments où il faut se donner à fond ou quand il faut déconnecter, bouton On/Off"},null,null,{"$f":"IF($H$2=\"G\",'Skills explications FTEM'!W24,'Skills explications FTEM'!J24)","v":0},null,null,null,{"$f":"IFERROR(AVERAGE(O33:O36),\"-\")","v":"-"},null,null,null,{"$f":"IFERROR(AVERAGE(S33:S36),\"-\")","v":"-"},null,{"$f":"IFERROR(AVERAGE(U33:U36),\"-\")","v":"-"},null,{"$f":"IFERROR(AVERAGE(W33:W36),\"-\")","v":"-"},null,{"$f":"IFERROR(AVERAGE(Y33:Y36),\"-\")","v":"-"}]
[{"$f":"'Skills explications FTEM'!A25:C25","v":0},null,null,{"$f":"IF($H$2=\"G\",'Skills explications FTEM'!Q25,'Skills explications FTEM'!D25)","v":"ENGAGEMENT"},null,null,{"$f":"IF($H$2=\"G\",'Skills explications FTEM'!T25,'Skills explications FTEM'!G25)","v":"Démontre beaucoup d'intensité dans les entraînements et les matchs, donne toujours son maximum et veut sans cesse repousser ses limites, a-t-il de la passion, s'efforce-t-il de s'entraîner avec une excellente qualité"},null,null,{"$f":"IF($H$2=\"G\",'Skills explications FTEM'!W25,'Skills explications FTEM'!J25)","v":0}]
[{"$f":"'Skills explications FTEM'!A26:C26","v":0},null,null,{"$f":"IF($H$2=\"G\",'Skills explications FTEM'!Q26,'Skills explications FTEM'!D26)","v":"CONTRÔLE DES ÉMOTIONS"},null,null,{"$f":"IF($H$2=\"G\",'Skills explications FTEM'!T26,'Skills explications FTEM'!G26)","v":"Peut-il gérer ses propres émotions et impulsions, reste-t-il sous contrôle lorsqu'il y a une grande pression, peut-il rester calme lorsque le niveau émotionnel et de frustration est élevé"},null,null,{"$f":"IF($H$2=\"G\",'Skills explications FTEM'!W26,'Skills explications FTEM'!J26)","v":0}]
[{"$f":"'Skills explications FTEM'!A27:C27","v":0},null,null,{"$f":"IF($H$2=\"G\",'Skills explications FTEM'!Q27,'Skills explications FTEM'!D27)","v":"PRÉPARATION"},null,null,{"$f":"IF($H$2=\"G\",'Skills explications FTEM'!T27,'Skills explications FTEM'!G27)","v":"Se prépare-t-il toujours bien, mentalement et physiquement, se prépare-t-il toujours bien pour obtenir le niveau de performance idéal (ILZ)"},null,null,{"$f":"IF($H$2=\"G\",'Skills explications FTEM'!W27,'Skills explications FTEM'!J27)","v":0}]
[{"$f":"'Skills explications FTEM'!A28:C28","v":"PYHSE (Athletik)"},null,null,{"$f":"IF($H$2=\"G\",'Skills explications FTEM'!Q28,'Skills explications FTEM'!D28)","v":"PRODUCTION DE LA PERFORMANCE"},null,null,{"$f":"IF($H$2=\"G\",'Skills explications FTEM'!T28,'Skills explications FTEM'!G28)","v":"A-t-il la puissance, la force, la vitesse nécessaires dans les jambes et le haut du corps (facteurs neuromusculaires)"},null,null,{"$f":"IF($H$2=\"G\",'Skills explications FTEM'!W28,'Skills explications FTEM'!J28)","v":0},null,null,null,{"$f":"IFERROR(AVERAGE(O37:O40),\"-\")","v":"-"},null,null,null,{"$f":"IFERROR(AVERAGE(S37:S40),\"-\")","v":"-"},null,{"$f":"IFERROR(AVERAGE(U37:U40),\"-\")","v":"-"},null,{"$f":"IFERROR(AVERAGE(W37:W40),\"-\")","v":"-"},null,{"$f":"IFERROR(AVERAGE(Y37:Y40),\"-\")","v":"-"}]
[{"$f":"'Skills explications FTEM'!A29:C29","v":0},null,null,{"$f":"IF($H$2=\"G\",'Skills explications FTEM'!Q29,'Skills explications FTEM'!D29)","v":"SPÉCIFIQUE AU SPORT, RÉSISTANT À L'EFFORT"},null,null,{"$f":"IF($H$2=\"G\",'Skills explications FTEM'!T29,'Skills explications FTEM'!G29)","v":"Est-il capable de maintenir sa puissance, sa force, sa vitesse durant un long temps de glace et peut-il récupérer complètement entre ses engagements (facteurs du métabolisme et cardiovasculaire)"},null,null,{"$f":"IF($H$2=\"G\",'Skills explications FTEM'!W29,'Skills explications FTEM'!J29)","v":0}]
[{"$f":"'Skills explications FTEM'!A30:C30","v":0},null,null,{"$f":"IF($H$2=\"G\",'Skills explications FTEM'!Q30,'Skills explications FTEM'!D30)","v":"MOBILITÉ/ COODINATION"},null,null,{"$f":"IF($H$2=\"G\",'Skills explications FTEM'!T30,'Skills explications FTEM'!G30)","v":"Gère-t-il ses aptitudes de mouvements de base, qui sont un fournisseur important des fonctions spécifiques «Skills» pour être efficace"},null,null,{"$f":"IF($H$2=\"G\",'Skills explications FTEM'!W30,'Skills explications FTEM'!J30)","v":0}]
[{"$f":"'Skills explications FTEM'!A31:C31","v":0},null,null,{"$f":"IF($H$2=\"G\",'Skills explications FTEM'!Q31,'Skills explications FTEM'!D31)","v":"ROBUSTESSE / PREVENTION"},null,null,{"$f":"IF($H$2=\"G\",'Skills explications FTEM'!T31,'Skills explications FTEM'!G31)","v":"A-t-il la force de base nécessaire (tension corporelle) pour gagner des duels et résister aux charges, A-t-il la stabilité nécessaire (ex. ses appuis) et la mobilité nécessaire au niveau des articulations centrales"},null,null,{"$f":"IF($H$2=\"G\",'Skills explications FTEM'!W31,'Skills explications FTEM'!J31)","v":0}]

{"sheet":"22","index":25,"n_rows":40,"n_cols":36,"rows_kept":40,"cut":false,"hidden":false,"merged":[[36,25,39,25],[36,26,39,32],[36,34,39,34],[32,23,35,23],[33,3,33,5],[33,6,33,11],[35,3,35,5],[35,6,35,11],[32,0,35,2],[32,3,32,5],[32,6,32,11],[32,12,35,12],[32,13,35,13],[32,15,35,15],[36,0,39,2],[36,3,36,5],[36,6,36,11],[36,12,39,12],[36,23,39,23],[37,3,37,5],[37,6,37,11],[38,3,38,5],[38,6,38,11],[39,3,39,5],[27,21,27,22],[28,17,31,17],[28,19,31,19],[28,21,31,21],[29,3,29,5],[29,6,29,11],[30,3,30,5],[30,6,30,11],[32,17,35,17],[32,19,35,19],[32,21,35,21],[34,3,34,5],[34,6,34,11],[23,0,26,2],[23,3,23,5],[23,6,23,11],[23,12,26,12],[23,13,26,13],[23,15,26,15],[27,23,27,24],[27,26,27,32],[28,0,31,2],[28,3,28,5],[28,6,28,11],[28,12,31,12],[28,13,31,13],[28,15,31,15],[31,3,31,5],[31,6,31,11],[28,23,31,23],[27,0,27,2],[27,3,27,5],[27,6,27,11],[27,13,27,14],[27,15,27,16],[27,17,27,18],[27,19,27,20],[19,21,22,21],[19,23,22,23],[20,3,20,5],[20,6,20,11],[22,3,22,5],[22,6,22,11],[26,3,26,5],[26,6,26,11],[23,23,26,23],[23,17,26,17],[23,19,26,19],[23,21,26,21],[24,3,24,5],[24,6,24,11],[25,3,25,5],[25,6,25,11],[21,3,21,5],[21,6,21,11],[15,15,18,15],[15,17,18,17],[15,19,18,19],[15,21,18,21],[15,23,18,23],[18,3,18,5],[18,6,18,11],[19,0,22,2],[19,3,19,5],[19,6,19,11],[19,12,22,12],[19,13,22,13],[19,15,22,15],[19,17,22,17],[15,0,18,2],[15,3,15,5],[15,6,15,11],[15,12,18,12],[15,13,18,13],[16,3,16,5],[16,6,16,11],[17,3,17,5],[17,6,17,11],[19,19,22,19],[12,23,13,23],[13,3,13,5],[13,6,13,11],[14,0,14,2],[14,3,14,5],[14,6,14,11],[14,13,14,14],[14,15,14,16],[14,17,14,18],[14,19,14,20],[14,21,14,22],[14,23,14,24],[12,0,13,2],[12,3,12,5],[12,6,12,11],[12,12,13,12],[12,13,13,13],[12,15,13,15],[12,17,13,17],[12,19,13,19],[12,21,13,21],[11,0,11,2],[11,3,11,5],[11,13,11,14],[11,15,11,16],[11,17,11,18],[11,19,11,20],[11,21,11,22],[11,23,11,24],[11,26,11,32],[11,6,11,11],[0,33,0,35],[23,25,26,25],[23,26,26,32],[23,34,26,34],[28,25,31,25],[28,26,31,32],[28,34,31,34],[1,0,1,1],[1,2,1,5],[1,10,1,24],[2,0,2,1],[2,2,2,5],[2,11,2,24],[6,0,6,1],[6,2,6,35],[7,0,7,1],[7,2,7,35],[8,0,8,1],[8,2,8,35],[3,0,3,1],[3,10,3,24],[4,0,4,1],[4,2,4,5],[4,10,4,24],[39,6,39,11],[36,13,39,13],[36,15,39,15],[36,17,39,17],[36,19,39,19],[36,21,39,21],[0,0,0,24],[0,25,0,26],[0,27,0,32],[10,0,10,24],[10,25,10,35],[32,25,35,25],[32,26,35,32],[32,34,35,34],[12,25,13,25],[12,26,13,32],[12,34,13,34],[15,25,18,25],[15,26,18,32],[15,34,18,34],[19,25,22,25],[19,26,22,32],[19,34,22,34],[14,26,14,32]]}
["Infos personelles",null,null,null,null,null,null,null,null,null,null,null,null,null,null,null,null,null,null,null,null,null,null,null,null,"Predispositions",null,"Evaluations",null,null,null,null,null,"Rating"]
["PRENOM",null,{"$f":"IF(ISBLANK(VLOOKUP(22,Tabelle3[],3,0)),\"-\",VLOOKUP(22,Tabelle3[],3,0))","v":"-"},null,null,null,"POSITION",null,null,"ADRESSE",{"$f":"IF(ISBLANK(VLOOKUP(22,Tabelle3[],5,0)),\"-\",VLOOKUP(22,Tabelle3[],5,0))","v":"-"},null,null,null,null,null,null,null,null,null,null,null,null,null,null,"\"àage\" (Biologique/age relatif)",null,"Date 1",null,null,"cm",null,"Kg",null,"AUSGEZEICHNET",5]
["NOM",null,{"$f":"IF(ISBLANK(VLOOKUP(22,Tabelle3[],2,0)),\"-\",VLOOKUP(22,Tabelle3[],2,0))","v":"-"},null,null,null,"CANNE",null,null,"LIEU",{"$f":"IF(ISBLANK(VLOOKUP(22,Tabelle3[],7,0)),\"-\",VLOOKUP(22,Tabelle3[],7,0))","v":"-"},{"$f":"IF(ISBLANK(VLOOKUP(22,Tabelle3[],6,0)),\"-\",VLOOKUP(22,Tabelle3[],6,0))","v":"-"},null,null,null,null,null,null,null,null,null,null,null,null,null,"predispositions",null,"Date 2",null,null,"cm",null,"Kg",null,"GUT",4]
["DATE NAISS.",null,{"$f":"IF(ISBLANK(VLOOKUP(22,Tabelle3[],14,0)),\"-\",VLOOKUP(22,Tabelle3[],14,0))","v":"-"},{"$f":"IF(ISBLANK(VLOOKUP(22,Tabelle3[],15,0)),\"-\",VLOOKUP(22,Tabelle3[],15,0))","v":"-"},{"$f":"IF(ISBLANK(VLOOKUP(22,Tabelle3[],16,0)),\"-\",VLOOKUP(22,Tabelle3[],16,0))","v":"-"},null,"GRANDEUR",null,"cm","PHONE",{"$f":"IF(ISBLANK(VLOOKUP(22,Tabelle3[],8,0)),\"-\",VLOOKUP(22,Tabelle3[],8,0))","v":"-"},null,null,null,null,null,null,null,null,null,null,null,null,null,null,"Entourage",null,"Date 3",null,null,"cm",null,"Kg",null,"DURCHSCHNITT",3]
["SEXE",null,{"$f":"IF(ISBLANK(VLOOKUP(22,Tabelle3[],13,0)),\"-\",VLOOKUP(22,Tabelle3[],13,0))","v":"-"},null,null,null,"POIDS",null,"Kg","E-Mail",{"$f":"IF(ISBLANK(VLOOKUP(22,Tabelle3[],9,0)),\"-\",VLOOKUP(22,Tabelle3[],9,0))","v":"-"},null,null,null,null,null,null,null,null,null,null,null,null,null,null,null,null,"Date 4",null,null,"cm",null,"Kg",null,"MANGELHAFT",2]
[null,null,null,null,null,null,null,null,null,null,null,null,null,null,null,null,null,null,null,null,null,null,null,null,null,null,null,"Date 5",null,null,"cm",null,"Kg",null,"UNGENÜGEND",1]
["Vision",null,"xxx"]
["Next step",null,"xxx"]
["Profil du Joueur",null,"xxx"]
[]
["EVALUATION (COACH / JOUEUR)",null,null,null,null,null,null,null,null,null,null,null,null,null,null,null,null,null,null,null,null,null,null,null,null,"SMART"]
[{"$f":"'Skills explications FTEM'!A3:C3","v":"TEAM"},null,null,"CAPACITE",null,null,"OBSERVATION",null,null,null,null,null,"Final","Date1",null,"Date2",null,"Date3",null,"Date4",null,"Date5",null,"Player",null,"BUT","MESURES:\nSPECIFIQUE, MESURABLES, REALISTE",null,null,null,null,null,null,"DELAI","CONTRÔLE DU BUT","Date"]
[{"$f":"'Skills explications FTEM'!A4:C4","v":"ROLLE, SOZIAL"},null,null,{"$f":"IF($H$2=\"G\",'Skills explications FTEM'!Q4,'Skills explications FTEM'!D4)","v":"PENSER EQUIPE"},null,null,{"$f":"IF($H$2=\"G\",'Skills explications FTEM'!T4,'Skills explications FTEM'!G4)","v":"Identification au rôle, relation au cammarades (social, intégration)"},null,null,{"$f":"IF($H$2=\"G\",'Skills explications FTEM'!W4,'Skills explications FTEM'!J4)","v":0},null,null,null,{"$f":"IFERROR(AVERAGE(O13:O14),\"-\")","v":"-"},null,{"$f":"IFERROR(AVERAGE(Q13:Q14),\"-\")","v":"-"},null,{"$f":"IFERROR(AVERAGE(S13:S14),\"-\")","v":"-"},null,{"$f":"IFERROR(AVERAGE(U13:U14),\"-\")","v":"-"},null,{"$f":"IFERROR(AVERAGE(W13:W14),\"-\")","v":"-"},null,{"$f":"IFERROR(AVERAGE(Y13:Y14),\"-\")","v":"-"}]
[{"$f":"'Skills explications FTEM'!A5:C5","v":0},null,null,{"$f":"IF($H$2=\"G\",'Skills explications FTEM'!Q5,'Skills explications FTEM'!D5)","v":"LEADERSHIP"},null,null,{"$f":"IF($H$2=\"G\",'Skills explications FTEM'!T5,'Skills explications FTEM'!G5)","v":"prend des responsabilités, rend son coéquipier meilleur"},null,null,{"$f":"IF($H$2=\"G\",'Skills explications FTEM'!W5,'Skills explications FTEM'!J5)","v":0}]
[{"$f":"'Skills explications FTEM'!A6:C6","v":"ON ICE"},null,null,"CAPACITE",null,null,"OBSERVATION",null,null,null,null,null,null,"Date1",null,"Date2",null,"Date3",null,"Date4",null,"Date5",null,"Player",null,"BUT","MESURES:\nSPECIFIQUE, MESURABLES, REALISTE",null,null,null,null,null,null,"DELAI","CONTRÔLE DU BUT","Date"]
[{"$f":"'Skills explications FTEM'!A7:C7","v":"SKILL"},null,null,{"$f":"IF($H$2=\"G\",'Skills explications FTEM'!Q7,'Skills explications FTEM'!D7)","v":"TIR  (EFFET)"},null,null,{"$f":"IF($H$2=\"G\",'Skills explications FTEM'!T7,'Skills explications FTEM'!G7)","v":"Efficience (pas d'espace et de temps), variantes, degré de surprise (déclenchement rapide), précision, puissance (conclusion tactique)"},null,null,{"$f":"IF($H$2=\"G\",'Skills explications FTEM'!W7,'Skills explications FTEM'!J7)","v":0},null,null,null,{"$f":"IFERROR(AVERAGE(O16:O19),\"-\")","v":"-"},null,{"$f":"IFERROR(AVERAGE(Q16:Q19),\"-\")","v":"-"},null,{"$f":"IFERROR(AVERAGE(S16:S19),\"-\")","v":"-"},null,{"$f":"IFERROR(AVERAGE(U16:U19),\"-\")","v":"-"},null,{"$f":"IFERROR(AVERAGE(W16:W19),\"-\")","v":"-"},null,{"$f":"IFERROR(AVERAGE(Y16:Y19),\"-\")","v":"-"}]
[{"$f":"'Skills explications FTEM'!A8:C8","v":0},null,null,{"$f":"IF($H$2=\"G\",'Skills explications FTEM'!Q8,'Skills explications FTEM'!D8)","v":"PASSER"},null,null,{"$f":"IF($H$2=\"G\",'Skills explications FTEM'!T8,'Skills explications FTEM'!G8)","v":"Donne la passe (distance, passe flipée en revers), réception de la passe (précision, timing, coup droit, revers, patins), vitesse du puck"},null,null,{"$f":"IF($H$2=\"G\",'Skills explications FTEM'!W8,'Skills explications FTEM'!J8)","v":0}]
[{"$f":"'Skills explications FTEM'!A9:C9","v":0},null,null,{"$f":"IF($H$2=\"G\",'Skills explications FTEM'!Q9,'Skills explications FTEM'!D9)","v":"JEU DU CORPS"},null,null,{"$f":"IF($H$2=\"G\",'Skills explications FTEM'!T9,'Skills explications FTEM'!G9)","v":"Faculté de s'imposer physiquement, duels (sur la surface de glace ou à la bande), prendre des checks, lever la tête, niveau de lutte, dur mais correct, bloquer les tirs avec le corps"},null,null,{"$f":"IF($H$2=\"G\",'Skills explications FTEM'!W9,'Skills explications FTEM'!J9)","v":0},null,null,null,{"$f":"IFERROR(AVERAGE(O18:O19),\"-\")","v":"-"},null,{"$f":"IFERROR(AVERAGE(Q18:Q19),\"-\")","v":"-"},null,{"$f":"IFERROR(AVERAGE(S18:S19),\"-\")","v":"-"},null,{"$f":"IFERROR(AVERAGE(U18:U19),\"-\")","v":"-"},null,{"$f":"IFERROR(AVERAGE(W18:W19),\"-\")","v":"-"},null,"-"]
[{"$f":"'Skills explications FTEM'!A10:C10","v":0},null,null,{"$f":"IF($H$2=\"G\",'Skills explications FTEM'!Q10,'Skills explications FTEM'!D10)","v":"CONTRÔLE DU PUCK"},null,null,{"$f":"IF($H$2=\"G\",'Skills explications FTEM'!T10,'Skills explications FTEM'!G10)","v":"Contrôle du puck, dribbling, protection du puck, feintes (variantes: avec les patins ou avec et sans la bande), mise au jeu (bully)"},null,null,{"$f":"IF($H$2=\"G\",'Skills explications FTEM'!W10,'Skills explications FTEM'!J10)","v":0}]
[{"$f":"'Skills explications FTEM'!A11:C11","v":"SKATING"},null,null,{"$f":"IF($H$2=\"G\",'Skills explications FTEM'!Q11,'Skills explications FTEM'!D11)","v":"FOOTSPEED"},null,null,{"$f":"IF($H$2=\"G\",'Skills explications FTEM'!T11,'Skills explications FTEM'!G11)","v":"Accélération, départ, explosivité des 3 premiers pas, fréquence"},null,null,{"$f":"IF($H$2=\"G\",'Skills explications FTEM'!W11,'Skills explications FTEM'!J11)","v":0},null,null,null,{"$f":"IFERROR(AVERAGE(O20:O23),\"-\")","v":"-"},null,{"$f":"IFERROR(AVERAGE(Q20:Q23),\"-\")","v":"-"},null,{"$f":"IFERROR(AVERAGE(S20:S23),\"-\")","v":"-"},null,{"$f":"IFERROR(AVERAGE(U20:U23),\"-\")","v":"-"},null,{"$f":"IFERROR(AVERAGE(W20:W23),\"-\")","v":"-"},null,{"$f":"IFERROR(AVERAGE(Y20:Y23),\"-\")","v":"-"}]
[{"$f":"'Skills explications FTEM'!A12:C12","v":0},null,null,{"$f":"IF($H$2=\"G\",'Skills explications FTEM'!Q12,'Skills explications FTEM'!D12)","v":"MOBILITE"},null,null,{"$f":"IF($H$2=\"G\",'Skills explications FTEM'!T12,'Skills explications FTEM'!G12)","v":"Changements de direction, pivots, stop et start «Nummelin»"},null,null,{"$f":"IF($H$2=\"G\",'Skills explications FTEM'!W12,'Skills explications FTEM'!J12)","v":0}]
[{"$f":"'Skills explications FTEM'!A13:C13","v":0},null,null,{"$f":"IF($H$2=\"G\",'Skills explications FTEM'!Q13,'Skills explications FTEM'!D13)","v":"PATTINAGE ARRIÈRE"},null,null,{"$f":"IF($H$2=\"G\",'Skills explications FTEM'!T13,'Skills explications FTEM'!G13)","v":"Accélération, vitesse, équilibre"},null,null,{"$f":"IF($H$2=\"G\",'Skills explications FTEM'!W13,'Skills explications FTEM'!J13)","v":0}]
[{"$f":"'Skills explications FTEM'!A14:C14","v":0},null,null,{"$f":"IF($H$2=\"G\",'Skills explications FTEM'!Q14,'Skills explications FTEM'!D14)","v":"TOP SPEED"},null,null,{"$f":"IF($H$2=\"G\",'Skills explications FTEM'!T14,'Skills explications FTEM'!G14)","v":"Vitesse, faculté de glisse, avant et arrière, économie des forces"},null,null,{"$f":"IF($H$2=\"G\",'Skills explications FTEM'!W14,'Skills explications FTEM'!J14)","v":0}]
[{"$f":"'Skills explications FTEM'!A15:C15","v":"HOCKEY SENSE"},null,null,{"$f":"IF($H$2=\"G\",'Skills explications FTEM'!Q15,'Skills explications FTEM'!D15)","v":"SCORING"},null,null,{"$f":"IF($H$2=\"G\",'Skills explications FTEM'!T15,'Skills explications FTEM'!G15)","v":"Efficience, richesse des variantes, surpenant, vite, variante de tirs"},null,null,{"$f":"IF($H$2=\"G\",'Skills explications FTEM'!W15,'Skills explications FTEM'!J15)","v":0},null,null,null,{"$f":"IFERROR(AVERAGE(O24:O27),\"-\")","v":"-"},null,{"$f":"IFERROR(AVERAGE(Q24:Q27),\"-\")","v":"-"},null,{"$f":"IFERROR(AVERAGE(S24:S27),\"-\")","v":"-"},null,{"$f":"IFERROR(AVERAGE(U24:U27),\"-\")","v":"-"},null,{"$f":"IFERROR(AVERAGE(W24:W27),\"-\")","v":"-"},null,{"$f":"IFERROR(AVERAGE(Y24:Y27),\"-\")","v":"-"}]
[{"$f":"'Skills explications FTEM'!A16:C16","v":0},null,null,{"$f":"IF($H$2=\"G\",'Skills explications FTEM'!Q16,'Skills explications FTEM'!D16)","v":"AVEC PUCK"},null,null,{"$f":"IF($H$2=\"G\",'Skills explications FTEM'!T16,'Skills explications FTEM'!G16)","v":"créatif,  performing, batteling, fou, transition"},null,null,{"$f":"IF($H$2=\"G\",'Skills explications FTEM'!W16,'Skills explications FTEM'!J16)","v":0}]
[{"$f":"'Skills explications FTEM'!A17:C17","v":0},null,null,{"$f":"IF($H$2=\"G\",'Skills explications FTEM'!Q17,'Skills explications FTEM'!D17)","v":"SANS PUCK"},null,null,{"$f":"IF($H$2=\"G\",'Skills explications FTEM'!T17,'Skills explications FTEM'!G17)","v":"ouvert pour un passe (Support), 1:1, Gap"},null,null,{"$f":"IF($H$2=\"G\",'Skills explications FTEM'!W17,'Skills explications FTEM'!J17)","v":0}]
[{"$f":"'Skills explications FTEM'!A18:C18","v":0},null,null,{"$f":"IF($H$2=\"G\",'Skills explications FTEM'!Q18,'Skills explications FTEM'!D18)","v":"DEFENSIF"},null,null,{"$f":"IF($H$2=\"G\",'Skills explications FTEM'!T18,'Skills explications FTEM'!G18)","v":"on peut compter dessus,  1:1, Gap, identification de l'homme"},null,null,{"$f":"IF($H$2=\"G\",'Skills explications FTEM'!W18,'Skills explications FTEM'!J18)","v":0}]
[{"$f":"'Skills explications FTEM'!A19:C19","v":"PERSONALITY"},null,null,"CAPACITE",null,null,"OBSERVATION",null,null,null,null,null,null,"Date1",null,"Date2",null,"Date3",null,"Date4",null,"Date5",null,"Player",null,"BUT","MESURES:\nSPECIFIQUE, MESURABLES, REALISTE",null,null,null,null,null,null,"DELAI","CONTRÔLE DU BUT","Date"]
[{"$f":"'Skills explications FTEM'!A20:C20","v":"PERSONALITÉ"},null,null,{"$f":"IF($H$2=\"G\",'Skills explications FTEM'!Q20,'Skills explications FTEM'!D20)","v":"MOTIVATION"},null,null,{"$f":"IF($H$2=\"G\",'Skills explications FTEM'!T20,'Skills explications FTEM'!G20)","v":"Est toujours motivé, veut sans cesse se développer et apprendre, veut être le premier et avoir du succès, n'abandonne jamais et ne se laisse pas influencer par les échecs"},null,null,{"$f":"IF($H$2=\"G\",'Skills explications FTEM'!W20,'Skills explications FTEM'!J20)","v":0},null,null,null,{"$f":"IFERROR(AVERAGE(O29:O32),\"-\")","v":"-"},null,null,null,{"$f":"IFERROR(AVERAGE(S29:S32),\"-\")","v":"-"},null,{"$f":"IFERROR(AVERAGE(U29:U32),\"-\")","v":"-"},null,{"$f":"IFERROR(AVERAGE(W29:W32),\"-\")","v":"-"},null,{"$f":"IFERROR(AVERAGE(Y29:Y32),\"-\")","v":"-"}]
[{"$f":"'Skills explications FTEM'!A21:C21","v":0},null,null,{"$f":"IF($H$2=\"G\",'Skills explications FTEM'!Q21,'Skills explications FTEM'!D21)","v":"CONFIENCE EN SOI"},null,null,{"$f":"IF($H$2=\"G\",'Skills explications FTEM'!T21,'Skills explications FTEM'!G21)","v":"Est en confiance, «I can do it», peut estimer ses capacités (connaît ses qualités et ses défauts), peut réaliser ses qualités avec constance, est courageux et prend des risques calculés"},null,null,{"$f":"IF($H$2=\"G\",'Skills explications FTEM'!W21,'Skills explications FTEM'!J21)","v":0}]
[{"$f":"'Skills explications FTEM'!A22:C22","v":0},null,null,{"$f":"IF($H$2=\"G\",'Skills explications FTEM'!Q22,'Skills explications FTEM'!D22)","v":"FACULTÉES D'APPRENTISSAGE"},null,null,{"$f":"IF($H$2=\"G\",'Skills explications FTEM'!T22,'Skills explications FTEM'!G22)","v":"A une bonne perception (il peut mémoriser et peut réaliser), il a de la personnalité, essaie d'apprendre de ses erreurs et est entreprenant"},null,null,{"$f":"IF($H$2=\"G\",'Skills explications FTEM'!W22,'Skills explications FTEM'!J22)","v":0}]
[{"$f":"'Skills explications FTEM'!A23:C23","v":0},null,null,{"$f":"IF($H$2=\"G\",'Skills explications FTEM'!Q23,'Skills explications FTEM'!D23)","v":"PERFORMANCE, STYLE DE VIE"},null,null,{"$f":"IF($H$2=\"G\",'Skills explications FTEM'!T23,'Skills explications FTEM'!G23)","v":"Gère bien son environnement et son temps libre selon les principes de la performance, obstiné, tenace et axé sur l'objectif, accent sur sa propre performance, est courageux et peut s'imposer contre de la résistance, les défis le motivent"},null,null,{"$f":"IF($H$2=\"G\",'Skills explications FTEM'!W23,'Skills explications FTEM'!J23)","v":0}]
[{"$f":"'Skills explications FTEM'!A24:C24","v":"POWER MENTAL"},null,null,{"$f":"IF($H$2=\"G\",'Skills explications FTEM'!Q24,'Skills explications FTEM'!D24)","v":"GESTION DES ÉNERGIES"},null,null,{"$f":"IF($H$2=\"G\",'Skills explications FTEM'!T24,'Skills explications FTEM'!G24)","v":"Peut-il gérer ses propres énergies, prend-il soin de sa régénération, peut-il gérer les moments où il faut se donner à fond ou quand il faut déconnecter, bouton On/Off"},null,null,{"$f":"IF($H$2=\"G\",'Skills explications FTEM'!W24,'Skills explications FTEM'!J24)","v":0},null,null,null,{"$f":"IFERROR(AVERAGE(O33:O36),\"-\")","v":"-"},null,null,null,{"$f":"IFERROR(AVERAGE(S33:S36),\"-\")","v":"-"},null,{"$f":"IFERROR(AVERAGE(U33:U36),\"-\")","v":"-"},null,{"$f":"IFERROR(AVERAGE(W33:W36),\"-\")","v":"-"},null,{"$f":"IFERROR(AVERAGE(Y33:Y36),\"-\")","v":"-"}]
[{"$f":"'Skills explications FTEM'!A25:C25","v":0},null,null,{"$f":"IF($H$2=\"G\",'Skills explications FTEM'!Q25,'Skills explications FTEM'!D25)","v":"ENGAGEMENT"},null,null,{"$f":"IF($H$2=\"G\",'Skills explications FTEM'!T25,'Skills explications FTEM'!G25)","v":"Démontre beaucoup d'intensité dans les entraînements et les matchs, donne toujours son maximum et veut sans cesse repousser ses limites, a-t-il de la passion, s'efforce-t-il de s'entraîner avec une excellente qualité"},null,null,{"$f":"IF($H$2=\"G\",'Skills explications FTEM'!W25,'Skills explications FTEM'!J25)","v":0}]
[{"$f":"'Skills explications FTEM'!A26:C26","v":0},null,null,{"$f":"IF($H$2=\"G\",'Skills explications FTEM'!Q26,'Skills explications FTEM'!D26)","v":"CONTRÔLE DES ÉMOTIONS"},null,null,{"$f":"IF($H$2=\"G\",'Skills explications FTEM'!T26,'Skills explications FTEM'!G26)","v":"Peut-il gérer ses propres émotions et impulsions, reste-t-il sous contrôle lorsqu'il y a une grande pression, peut-il rester calme lorsque le niveau émotionnel et de frustration est élevé"},null,null,{"$f":"IF($H$2=\"G\",'Skills explications FTEM'!W26,'Skills explications FTEM'!J26)","v":0}]
[{"$f":"'Skills explications FTEM'!A27:C27","v":0},null,null,{"$f":"IF($H$2=\"G\",'Skills explications FTEM'!Q27,'Skills explications FTEM'!D27)","v":"PRÉPARATION"},null,null,{"$f":"IF($H$2=\"G\",'Skills explications FTEM'!T27,'Skills explications FTEM'!G27)","v":"Se prépare-t-il toujours bien, mentalement et physiquement, se prépare-t-il toujours bien pour obtenir le niveau de performance idéal (ILZ)"},null,null,{"$f":"IF($H$2=\"G\",'Skills explications FTEM'!W27,'Skills explications FTEM'!J27)","v":0}]
[{"$f":"'Skills explications FTEM'!A28:C28","v":"PYHSE (Athletik)"},null,null,{"$f":"IF($H$2=\"G\",'Skills explications FTEM'!Q28,'Skills explications FTEM'!D28)","v":"PRODUCTION DE LA PERFORMANCE"},null,null,{"$f":"IF($H$2=\"G\",'Skills explications FTEM'!T28,'Skills explications FTEM'!G28)","v":"A-t-il la puissance, la force, la vitesse nécessaires dans les jambes et le haut du corps (facteurs neuromusculaires)"},null,null,{"$f":"IF($H$2=\"G\",'Skills explications FTEM'!W28,'Skills explications FTEM'!J28)","v":0},null,null,null,{"$f":"IFERROR(AVERAGE(O37:O40),\"-\")","v":"-"},null,null,null,{"$f":"IFERROR(AVERAGE(S37:S40),\"-\")","v":"-"},null,{"$f":"IFERROR(AVERAGE(U37:U40),\"-\")","v":"-"},null,{"$f":"IFERROR(AVERAGE(W37:W40),\"-\")","v":"-"},null,{"$f":"IFERROR(AVERAGE(Y37:Y40),\"-\")","v":"-"}]
[{"$f":"'Skills explications FTEM'!A29:C29","v":0},null,null,{"$f":"IF($H$2=\"G\",'Skills explications FTEM'!Q29,'Skills explications FTEM'!D29)","v":"SPÉCIFIQUE AU SPORT, RÉSISTANT À L'EFFORT"},null,null,{"$f":"IF($H$2=\"G\",'Skills explications FTEM'!T29,'Skills explications FTEM'!G29)","v":"Est-il capable de maintenir sa puissance, sa force, sa vitesse durant un long temps de glace et peut-il récupérer complètement entre ses engagements (facteurs du métabolisme et cardiovasculaire)"},null,null,{"$f":"IF($H$2=\"G\",'Skills explications FTEM'!W29,'Skills explications FTEM'!J29)","v":0}]
[{"$f":"'Skills explications FTEM'!A30:C30","v":0},null,null,{"$f":"IF($H$2=\"G\",'Skills explications FTEM'!Q30,'Skills explications FTEM'!D30)","v":"MOBILITÉ/ COODINATION"},null,null,{"$f":"IF($H$2=\"G\",'Skills explications FTEM'!T30,'Skills explications FTEM'!G30)","v":"Gère-t-il ses aptitudes de mouvements de base, qui sont un fournisseur important des fonctions spécifiques «Skills» pour être efficace"},null,null,{"$f":"IF($H$2=\"G\",'Skills explications FTEM'!W30,'Skills explications FTEM'!J30)","v":0}]
[{"$f":"'Skills explications FTEM'!A31:C31","v":0},null,null,{"$f":"IF($H$2=\"G\",'Skills explications FTEM'!Q31,'Skills explications FTEM'!D31)","v":"ROBUSTESSE / PREVENTION"},null,null,{"$f":"IF($H$2=\"G\",'Skills explications FTEM'!T31,'Skills explications FTEM'!G31)","v":"A-t-il la force de base nécessaire (tension corporelle) pour gagner des duels et résister aux charges, A-t-il la stabilité nécessaire (ex. ses appuis) et la mobilité nécessaire au niveau des articulations centrales"},null,null,{"$f":"IF($H$2=\"G\",'Skills explications FTEM'!W31,'Skills explications FTEM'!J31)","v":0}]

{"sheet":"23","index":26,"n_rows":40,"n_cols":36,"rows_kept":40,"cut":false,"hidden":false,"merged":[[36,25,39,25],[36,26,39,32],[36,34,39,34],[32,23,35,23],[33,3,33,5],[33,6,33,11],[35,3,35,5],[35,6,35,11],[32,0,35,2],[32,3,32,5],[32,6,32,11],[32,12,35,12],[32,13,35,13],[32,15,35,15],[36,0,39,2],[36,3,36,5],[36,6,36,11],[36,12,39,12],[36,23,39,23],[37,3,37,5],[37,6,37,11],[38,3,38,5],[38,6,38,11],[39,3,39,5],[27,21,27,22],[28,17,31,17],[28,19,31,19],[28,21,31,21],[29,3,29,5],[29,6,29,11],[30,3,30,5],[30,6,30,11],[32,17,35,17],[32,19,35,19],[32,21,35,21],[34,3,34,5],[34,6,34,11],[23,0,26,2],[23,3,23,5],[23,6,23,11],[23,12,26,12],[23,13,26,13],[23,15,26,15],[27,23,27,24],[27,26,27,32],[28,0,31,2],[28,3,28,5],[28,6,28,11],[28,12,31,12],[28,13,31,13],[28,15,31,15],[31,3,31,5],[31,6,31,11],[28,23,31,23],[27,0,27,2],[27,3,27,5],[27,6,27,11],[27,13,27,14],[27,15,27,16],[27,17,27,18],[27,19,27,20],[19,21,22,21],[19,23,22,23],[20,3,20,5],[20,6,20,11],[22,3,22,5],[22,6,22,11],[26,3,26,5],[26,6,26,11],[23,23,26,23],[23,17,26,17],[23,19,26,19],[23,21,26,21],[24,3,24,5],[24,6,24,11],[25,3,25,5],[25,6,25,11],[21,3,21,5],[21,6,21,11],[15,15,18,15],[15,17,18,17],[15,19,18,19],[15,21,18,21],[15,23,18,23],[18,3,18,5],[18,6,18,11],[19,0,22,2],[19,3,19,5],[19,6,19,11],[19,12,22,12],[19,13,22,13],[19,15,22,15],[19,17,22,17],[15,0,18,2],[15,3,15,5],[15,6,15,11],[15,12,18,12],[15,13,18,13],[16,3,16,5],[16,6,16,11],[17,3,17,5],[17,6,17,11],[19,19,22,19],[12,23,13,23],[13,3,13,5],[13,6,13,11],[14,0,14,2],[14,3,14,5],[14,6,14,11],[14,13,14,14],[14,15,14,16],[14,17,14,18],[14,19,14,20],[14,21,14,22],[14,23,14,24],[12,0,13,2],[12,3,12,5],[12,6,12,11],[12,12,13,12],[12,13,13,13],[12,15,13,15],[12,17,13,17],[12,19,13,19],[12,21,13,21],[11,0,11,2],[11,3,11,5],[11,13,11,14],[11,15,11,16],[11,17,11,18],[11,19,11,20],[11,21,11,22],[11,23,11,24],[11,26,11,32],[11,6,11,11],[0,33,0,35],[23,25,26,25],[23,26,26,32],[23,34,26,34],[28,25,31,25],[28,26,31,32],[28,34,31,34],[1,0,1,1],[1,2,1,5],[1,10,1,24],[2,0,2,1],[2,2,2,5],[2,11,2,24],[6,0,6,1],[6,2,6,35],[7,0,7,1],[7,2,7,35],[8,0,8,1],[8,2,8,35],[3,0,3,1],[3,10,3,24],[4,0,4,1],[4,2,4,5],[4,10,4,24],[39,6,39,11],[36,13,39,13],[36,15,39,15],[36,17,39,17],[36,19,39,19],[36,21,39,21],[0,0,0,24],[0,25,0,26],[0,27,0,32],[10,0,10,24],[10,25,10,35],[32,25,35,25],[32,26,35,32],[32,34,35,34],[12,25,13,25],[12,26,13,32],[12,34,13,34],[15,25,18,25],[15,26,18,32],[15,34,18,34],[19,25,22,25],[19,26,22,32],[19,34,22,34],[14,26,14,32]]}
["Infos personelles",null,null,null,null,null,null,null,null,null,null,null,null,null,null,null,null,null,null,null,null,null,null,null,null,"Predispositions",null,"Evaluations",null,null,null,null,null,"Rating"]
["PRENOM",null,{"$f":"IF(ISBLANK(VLOOKUP(23,Tabelle3[],3,0)),\"-\",VLOOKUP(23,Tabelle3[],3,0))","v":"-"},null,null,null,"POSITION",null,null,"ADRESSE",{"$f":"IF(ISBLANK(VLOOKUP(23,Tabelle3[],5,0)),\"-\",VLOOKUP(23,Tabelle3[],5,0))","v":"-"},null,null,null,null,null,null,null,null,null,null,null,null,null,null,"\"àage\" (Biologique/age relatif)",null,"Date 1",null,null,"cm",null,"Kg",null,"AUSGEZEICHNET",5]
["NOM",null,{"$f":"IF(ISBLANK(VLOOKUP(23,Tabelle3[],2,0)),\"-\",VLOOKUP(23,Tabelle3[],2,0))","v":"-"},null,null,null,"CANNE",null,null,"LIEU",{"$f":"IF(ISBLANK(VLOOKUP(23,Tabelle3[],7,0)),\"-\",VLOOKUP(23,Tabelle3[],7,0))","v":"-"},{"$f":"IF(ISBLANK(VLOOKUP(23,Tabelle3[],6,0)),\"-\",VLOOKUP(23,Tabelle3[],6,0))","v":"-"},null,null,null,null,null,null,null,null,null,null,null,null,null,"predispositions",null,"Date 2",null,null,"cm",null,"Kg",null,"GUT",4]
["DATE NAISS.",null,{"$f":"IF(ISBLANK(VLOOKUP(23,Tabelle3[],14,0)),\"-\",VLOOKUP(23,Tabelle3[],14,0))","v":"-"},{"$f":"IF(ISBLANK(VLOOKUP(23,Tabelle3[],15,0)),\"-\",VLOOKUP(23,Tabelle3[],15,0))","v":"-"},{"$f":"IF(ISBLANK(VLOOKUP(23,Tabelle3[],16,0)),\"-\",VLOOKUP(23,Tabelle3[],16,0))","v":"-"},null,"GRANDEUR",null,"cm","PHONE",{"$f":"IF(ISBLANK(VLOOKUP(23,Tabelle3[],8,0)),\"-\",VLOOKUP(23,Tabelle3[],8,0))","v":"-"},null,null,null,null,null,null,null,null,null,null,null,null,null,null,"Entourage",null,"Date 3",null,null,"cm",null,"Kg",null,"DURCHSCHNITT",3]
["SEXE",null,{"$f":"IF(ISBLANK(VLOOKUP(23,Tabelle3[],13,0)),\"-\",VLOOKUP(23,Tabelle3[],13,0))","v":"-"},null,null,null,"POIDS",null,"Kg","E-Mail",{"$f":"IF(ISBLANK(VLOOKUP(23,Tabelle3[],9,0)),\"-\",VLOOKUP(23,Tabelle3[],9,0))","v":"-"},null,null,null,null,null,null,null,null,null,null,null,null,null,null,null,null,"Date 4",null,null,"cm",null,"Kg",null,"MANGELHAFT",2]
[null,null,null,null,null,null,null,null,null,null,null,null,null,null,null,null,null,null,null,null,null,null,null,null,null,null,null,"Date 5",null,null,"cm",null,"Kg",null,"UNGENÜGEND",1]
["Vision",null,"xxx"]
["Next step",null,"xxx"]
["Profil du Joueur",null,"xxx"]
[]
["EVALUATION (COACH / JOUEUR)",null,null,null,null,null,null,null,null,null,null,null,null,null,null,null,null,null,null,null,null,null,null,null,null,"SMART"]
[{"$f":"'Skills explications FTEM'!A3:C3","v":"TEAM"},null,null,"CAPACITE",null,null,"OBSERVATION",null,null,null,null,null,"Final","Date1",null,"Date2",null,"Date3",null,"Date4",null,"Date5",null,"Player",null,"BUT","MESURES:\nSPECIFIQUE, MESURABLES, REALISTE",null,null,null,null,null,null,"DELAI","CONTRÔLE DU BUT","Date"]
[{"$f":"'Skills explications FTEM'!A4:C4","v":"ROLLE, SOZIAL"},null,null,{"$f":"IF($H$2=\"G\",'Skills explications FTEM'!Q4,'Skills explications FTEM'!D4)","v":"PENSER EQUIPE"},null,null,{"$f":"IF($H$2=\"G\",'Skills explications FTEM'!T4,'Skills explications FTEM'!G4)","v":"Identification au rôle, relation au cammarades (social, intégration)"},null,null,{"$f":"IF($H$2=\"G\",'Skills explications FTEM'!W4,'Skills explications FTEM'!J4)","v":0},null,null,null,{"$f":"IFERROR(AVERAGE(O13:O14),\"-\")","v":"-"},null,{"$f":"IFERROR(AVERAGE(Q13:Q14),\"-\")","v":"-"},null,{"$f":"IFERROR(AVERAGE(S13:S14),\"-\")","v":"-"},null,{"$f":"IFERROR(AVERAGE(U13:U14),\"-\")","v":"-"},null,{"$f":"IFERROR(AVERAGE(W13:W14),\"-\")","v":"-"},null,{"$f":"IFERROR(AVERAGE(Y13:Y14),\"-\")","v":"-"}]
[{"$f":"'Skills explications FTEM'!A5:C5","v":0},null,null,{"$f":"IF($H$2=\"G\",'Skills explications FTEM'!Q5,'Skills explications FTEM'!D5)","v":"LEADERSHIP"},null,null,{"$f":"IF($H$2=\"G\",'Skills explications FTEM'!T5,'Skills explications FTEM'!G5)","v":"prend des responsabilités, rend son coéquipier meilleur"},null,null,{"$f":"IF($H$2=\"G\",'Skills explications FTEM'!W5,'Skills explications FTEM'!J5)","v":0}]
[{"$f":"'Skills explications FTEM'!A6:C6","v":"ON ICE"},null,null,"CAPACITE",null,null,"OBSERVATION",null,null,null,null,null,null,"Date1",null,"Date2",null,"Date3",null,"Date4",null,"Date5",null,"Player",null,"BUT","MESURES:\nSPECIFIQUE, MESURABLES, REALISTE",null,null,null,null,null,null,"DELAI","CONTRÔLE DU BUT","Date"]
[{"$f":"'Skills explications FTEM'!A7:C7","v":"SKILL"},null,null,{"$f":"IF($H$2=\"G\",'Skills explications FTEM'!Q7,'Skills explications FTEM'!D7)","v":"TIR  (EFFET)"},null,null,{"$f":"IF($H$2=\"G\",'Skills explications FTEM'!T7,'Skills explications FTEM'!G7)","v":"Efficience (pas d'espace et de temps), variantes, degré de surprise (déclenchement rapide), précision, puissance (conclusion tactique)"},null,null,{"$f":"IF($H$2=\"G\",'Skills explications FTEM'!W7,'Skills explications FTEM'!J7)","v":0},null,null,null,{"$f":"IFERROR(AVERAGE(O16:O19),\"-\")","v":"-"},null,{"$f":"IFERROR(AVERAGE(Q16:Q19),\"-\")","v":"-"},null,{"$f":"IFERROR(AVERAGE(S16:S19),\"-\")","v":"-"},null,{"$f":"IFERROR(AVERAGE(U16:U19),\"-\")","v":"-"},null,{"$f":"IFERROR(AVERAGE(W16:W19),\"-\")","v":"-"},null,{"$f":"IFERROR(AVERAGE(Y16:Y19),\"-\")","v":"-"}]
[{"$f":"'Skills explications FTEM'!A8:C8","v":0},null,null,{"$f":"IF($H$2=\"G\",'Skills explications FTEM'!Q8,'Skills explications FTEM'!D8)","v":"PASSER"},null,null,{"$f":"IF($H$2=\"G\",'Skills explications FTEM'!T8,'Skills explications FTEM'!G8)","v":"Donne la passe (distance, passe flipée en revers), réception de la passe (précision, timing, coup droit, revers, patins), vitesse du puck"},null,null,{"$f":"IF($H$2=\"G\",'Skills explications FTEM'!W8,'Skills explications FTEM'!J8)","v":0}]
[{"$f":"'Skills explications FTEM'!A9:C9","v":0},null,null,{"$f":"IF($H$2=\"G\",'Skills explications FTEM'!Q9,'Skills explications FTEM'!D9)","v":"JEU DU CORPS"},null,null,{"$f":"IF($H$2=\"G\",'Skills explications FTEM'!T9,'Skills explications FTEM'!G9)","v":"Faculté de s'imposer physiquement, duels (sur la surface de glace ou à la bande), prendre des checks, lever la tête, niveau de lutte, dur mais correct, bloquer les tirs avec le corps"},null,null,{"$f":"IF($H$2=\"G\",'Skills explications FTEM'!W9,'Skills explications FTEM'!J9)","v":0},null,null,null,{"$f":"IFERROR(AVERAGE(O18:O19),\"-\")","v":"-"},null,{"$f":"IFERROR(AVERAGE(Q18:Q19),\"-\")","v":"-"},null,{"$f":"IFERROR(AVERAGE(S18:S19),\"-\")","v":"-"},null,{"$f":"IFERROR(AVERAGE(U18:U19),\"-\")","v":"-"},null,{"$f":"IFERROR(AVERAGE(W18:W19),\"-\")","v":"-"},null,"-"]
[{"$f":"'Skills explications FTEM'!A10:C10","v":0},null,null,{"$f":"IF($H$2=\"G\",'Skills explications FTEM'!Q10,'Skills explications FTEM'!D10)","v":"CONTRÔLE DU PUCK"},null,null,{"$f":"IF($H$2=\"G\",'Skills explications FTEM'!T10,'Skills explications FTEM'!G10)","v":"Contrôle du puck, dribbling, protection du puck, feintes (variantes: avec les patins ou avec et sans la bande), mise au jeu (bully)"},null,null,{"$f":"IF($H$2=\"G\",'Skills explications FTEM'!W10,'Skills explications FTEM'!J10)","v":0}]
[{"$f":"'Skills explications FTEM'!A11:C11","v":"SKATING"},null,null,{"$f":"IF($H$2=\"G\",'Skills explications FTEM'!Q11,'Skills explications FTEM'!D11)","v":"FOOTSPEED"},null,null,{"$f":"IF($H$2=\"G\",'Skills explications FTEM'!T11,'Skills explications FTEM'!G11)","v":"Accélération, départ, explosivité des 3 premiers pas, fréquence"},null,null,{"$f":"IF($H$2=\"G\",'Skills explications FTEM'!W11,'Skills explications FTEM'!J11)","v":0},null,null,null,{"$f":"IFERROR(AVERAGE(O20:O23),\"-\")","v":"-"},null,{"$f":"IFERROR(AVERAGE(Q20:Q23),\"-\")","v":"-"},null,{"$f":"IFERROR(AVERAGE(S20:S23),\"-\")","v":"-"},null,{"$f":"IFERROR(AVERAGE(U20:U23),\"-\")","v":"-"},null,{"$f":"IFERROR(AVERAGE(W20:W23),\"-\")","v":"-"},null,{"$f":"IFERROR(AVERAGE(Y20:Y23),\"-\")","v":"-"}]
[{"$f":"'Skills explications FTEM'!A12:C12","v":0},null,null,{"$f":"IF($H$2=\"G\",'Skills explications FTEM'!Q12,'Skills explications FTEM'!D12)","v":"MOBILITE"},null,null,{"$f":"IF($H$2=\"G\",'Skills explications FTEM'!T12,'Skills explications FTEM'!G12)","v":"Changements de direction, pivots, stop et start «Nummelin»"},null,null,{"$f":"IF($H$2=\"G\",'Skills explications FTEM'!W12,'Skills explications FTEM'!J12)","v":0}]
[{"$f":"'Skills explications FTEM'!A13:C13","v":0},null,null,{"$f":"IF($H$2=\"G\",'Skills explications FTEM'!Q13,'Skills explications FTEM'!D13)","v":"PATTINAGE ARRIÈRE"},null,null,{"$f":"IF($H$2=\"G\",'Skills explications FTEM'!T13,'Skills explications FTEM'!G13)","v":"Accélération, vitesse, équilibre"},null,null,{"$f":"IF($H$2=\"G\",'Skills explications FTEM'!W13,'Skills explications FTEM'!J13)","v":0}]
[{"$f":"'Skills explications FTEM'!A14:C14","v":0},null,null,{"$f":"IF($H$2=\"G\",'Skills explications FTEM'!Q14,'Skills explications FTEM'!D14)","v":"TOP SPEED"},null,null,{"$f":"IF($H$2=\"G\",'Skills explications FTEM'!T14,'Skills explications FTEM'!G14)","v":"Vitesse, faculté de glisse, avant et arrière, économie des forces"},null,null,{"$f":"IF($H$2=\"G\",'Skills explications FTEM'!W14,'Skills explications FTEM'!J14)","v":0}]
[{"$f":"'Skills explications FTEM'!A15:C15","v":"HOCKEY SENSE"},null,null,{"$f":"IF($H$2=\"G\",'Skills explications FTEM'!Q15,'Skills explications FTEM'!D15)","v":"SCORING"},null,null,{"$f":"IF($H$2=\"G\",'Skills explications FTEM'!T15,'Skills explications FTEM'!G15)","v":"Efficience, richesse des variantes, surpenant, vite, variante de tirs"},null,null,{"$f":"IF($H$2=\"G\",'Skills explications FTEM'!W15,'Skills explications FTEM'!J15)","v":0},null,null,null,{"$f":"IFERROR(AVERAGE(O24:O27),\"-\")","v":"-"},null,{"$f":"IFERROR(AVERAGE(Q24:Q27),\"-\")","v":"-"},null,{"$f":"IFERROR(AVERAGE(S24:S27),\"-\")","v":"-"},null,{"$f":"IFERROR(AVERAGE(U24:U27),\"-\")","v":"-"},null,{"$f":"IFERROR(AVERAGE(W24:W27),\"-\")","v":"-"},null,{"$f":"IFERROR(AVERAGE(Y24:Y27),\"-\")","v":"-"}]
[{"$f":"'Skills explications FTEM'!A16:C16","v":0},null,null,{"$f":"IF($H$2=\"G\",'Skills explications FTEM'!Q16,'Skills explications FTEM'!D16)","v":"AVEC PUCK"},null,null,{"$f":"IF($H$2=\"G\",'Skills explications FTEM'!T16,'Skills explications FTEM'!G16)","v":"créatif,  performing, batteling, fou, transition"},null,null,{"$f":"IF($H$2=\"G\",'Skills explications FTEM'!W16,'Skills explications FTEM'!J16)","v":0}]
[{"$f":"'Skills explications FTEM'!A17:C17","v":0},null,null,{"$f":"IF($H$2=\"G\",'Skills explications FTEM'!Q17,'Skills explications FTEM'!D17)","v":"SANS PUCK"},null,null,{"$f":"IF($H$2=\"G\",'Skills explications FTEM'!T17,'Skills explications FTEM'!G17)","v":"ouvert pour un passe (Support), 1:1, Gap"},null,null,{"$f":"IF($H$2=\"G\",'Skills explications FTEM'!W17,'Skills explications FTEM'!J17)","v":0}]
[{"$f":"'Skills explications FTEM'!A18:C18","v":0},null,null,{"$f":"IF($H$2=\"G\",'Skills explications FTEM'!Q18,'Skills explications FTEM'!D18)","v":"DEFENSIF"},null,null,{"$f":"IF($H$2=\"G\",'Skills explications FTEM'!T18,'Skills explications FTEM'!G18)","v":"on peut compter dessus,  1:1, Gap, identification de l'homme"},null,null,{"$f":"IF($H$2=\"G\",'Skills explications FTEM'!W18,'Skills explications FTEM'!J18)","v":0}]
[{"$f":"'Skills explications FTEM'!A19:C19","v":"PERSONALITY"},null,null,"CAPACITE",null,null,"OBSERVATION",null,null,null,null,null,null,"Date1",null,"Date2",null,"Date3",null,"Date4",null,"Date5",null,"Player",null,"BUT","MESURES:\nSPECIFIQUE, MESURABLES, REALISTE",null,null,null,null,null,null,"DELAI","CONTRÔLE DU BUT","Date"]
[{"$f":"'Skills explications FTEM'!A20:C20","v":"PERSONALITÉ"},null,null,{"$f":"IF($H$2=\"G\",'Skills explications FTEM'!Q20,'Skills explications FTEM'!D20)","v":"MOTIVATION"},null,null,{"$f":"IF($H$2=\"G\",'Skills explications FTEM'!T20,'Skills explications FTEM'!G20)","v":"Est toujours motivé, veut sans cesse se développer et apprendre, veut être le premier et avoir du succès, n'abandonne jamais et ne se laisse pas influencer par les échecs"},null,null,{"$f":"IF($H$2=\"G\",'Skills explications FTEM'!W20,'Skills explications FTEM'!J20)","v":0},null,null,null,{"$f":"IFERROR(AVERAGE(O29:O32),\"-\")","v":"-"},null,null,null,{"$f":"IFERROR(AVERAGE(S29:S32),\"-\")","v":"-"},null,{"$f":"IFERROR(AVERAGE(U29:U32),\"-\")","v":"-"},null,{"$f":"IFERROR(AVERAGE(W29:W32),\"-\")","v":"-"},null,{"$f":"IFERROR(AVERAGE(Y29:Y32),\"-\")","v":"-"}]
[{"$f":"'Skills explications FTEM'!A21:C21","v":0},null,null,{"$f":"IF($H$2=\"G\",'Skills explications FTEM'!Q21,'Skills explications FTEM'!D21)","v":"CONFIENCE EN SOI"},null,null,{"$f":"IF($H$2=\"G\",'Skills explications FTEM'!T21,'Skills explications FTEM'!G21)","v":"Est en confiance, «I can do it», peut estimer ses capacités (connaît ses qualités et ses défauts), peut réaliser ses qualités avec constance, est courageux et prend des risques calculés"},null,null,{"$f":"IF($H$2=\"G\",'Skills explications FTEM'!W21,'Skills explications FTEM'!J21)","v":0}]
[{"$f":"'Skills explications FTEM'!A22:C22","v":0},null,null,{"$f":"IF($H$2=\"G\",'Skills explications FTEM'!Q22,'Skills explications FTEM'!D22)","v":"FACULTÉES D'APPRENTISSAGE"},null,null,{"$f":"IF($H$2=\"G\",'Skills explications FTEM'!T22,'Skills explications FTEM'!G22)","v":"A une bonne perception (il peut mémoriser et peut réaliser), il a de la personnalité, essaie d'apprendre de ses erreurs et est entreprenant"},null,null,{"$f":"IF($H$2=\"G\",'Skills explications FTEM'!W22,'Skills explications FTEM'!J22)","v":0}]
[{"$f":"'Skills explications FTEM'!A23:C23","v":0},null,null,{"$f":"IF($H$2=\"G\",'Skills explications FTEM'!Q23,'Skills explications FTEM'!D23)","v":"PERFORMANCE, STYLE DE VIE"},null,null,{"$f":"IF($H$2=\"G\",'Skills explications FTEM'!T23,'Skills explications FTEM'!G23)","v":"Gère bien son environnement et son temps libre selon les principes de la performance, obstiné, tenace et axé sur l'objectif, accent sur sa propre performance, est courageux et peut s'imposer contre de la résistance, les défis le motivent"},null,null,{"$f":"IF($H$2=\"G\",'Skills explications FTEM'!W23,'Skills explications FTEM'!J23)","v":0}]
[{"$f":"'Skills explications FTEM'!A24:C24","v":"POWER MENTAL"},null,null,{"$f":"IF($H$2=\"G\",'Skills explications FTEM'!Q24,'Skills explications FTEM'!D24)","v":"GESTION DES ÉNERGIES"},null,null,{"$f":"IF($H$2=\"G\",'Skills explications FTEM'!T24,'Skills explications FTEM'!G24)","v":"Peut-il gérer ses propres énergies, prend-il soin de sa régénération, peut-il gérer les moments où il faut se donner à fond ou quand il faut déconnecter, bouton On/Off"},null,null,{"$f":"IF($H$2=\"G\",'Skills explications FTEM'!W24,'Skills explications FTEM'!J24)","v":0},null,null,null,{"$f":"IFERROR(AVERAGE(O33:O36),\"-\")","v":"-"},null,null,null,{"$f":"IFERROR(AVERAGE(S33:S36),\"-\")","v":"-"},null,{"$f":"IFERROR(AVERAGE(U33:U36),\"-\")","v":"-"},null,{"$f":"IFERROR(AVERAGE(W33:W36),\"-\")","v":"-"},null,{"$f":"IFERROR(AVERAGE(Y33:Y36),\"-\")","v":"-"}]
[{"$f":"'Skills explications FTEM'!A25:C25","v":0},null,null,{"$f":"IF($H$2=\"G\",'Skills explications FTEM'!Q25,'Skills explications FTEM'!D25)","v":"ENGAGEMENT"},null,null,{"$f":"IF($H$2=\"G\",'Skills explications FTEM'!T25,'Skills explications FTEM'!G25)","v":"Démontre beaucoup d'intensité dans les entraînements et les matchs, donne toujours son maximum et veut sans cesse repousser ses limites, a-t-il de la passion, s'efforce-t-il de s'entraîner avec une excellente qualité"},null,null,{"$f":"IF($H$2=\"G\",'Skills explications FTEM'!W25,'Skills explications FTEM'!J25)","v":0}]
[{"$f":"'Skills explications FTEM'!A26:C26","v":0},null,null,{"$f":"IF($H$2=\"G\",'Skills explications FTEM'!Q26,'Skills explications FTEM'!D26)","v":"CONTRÔLE DES ÉMOTIONS"},null,null,{"$f":"IF($H$2=\"G\",'Skills explications FTEM'!T26,'Skills explications FTEM'!G26)","v":"Peut-il gérer ses propres émotions et impulsions, reste-t-il sous contrôle lorsqu'il y a une grande pression, peut-il rester calme lorsque le niveau émotionnel et de frustration est élevé"},null,null,{"$f":"IF($H$2=\"G\",'Skills explications FTEM'!W26,'Skills explications FTEM'!J26)","v":0}]
[{"$f":"'Skills explications FTEM'!A27:C27","v":0},null,null,{"$f":"IF($H$2=\"G\",'Skills explications FTEM'!Q27,'Skills explications FTEM'!D27)","v":"PRÉPARATION"},null,null,{"$f":"IF($H$2=\"G\",'Skills explications FTEM'!T27,'Skills explications FTEM'!G27)","v":"Se prépare-t-il toujours bien, mentalement et physiquement, se prépare-t-il toujours bien pour obtenir le niveau de performance idéal (ILZ)"},null,null,{"$f":"IF($H$2=\"G\",'Skills explications FTEM'!W27,'Skills explications FTEM'!J27)","v":0}]
[{"$f":"'Skills explications FTEM'!A28:C28","v":"PYHSE (Athletik)"},null,null,{"$f":"IF($H$2=\"G\",'Skills explications FTEM'!Q28,'Skills explications FTEM'!D28)","v":"PRODUCTION DE LA PERFORMANCE"},null,null,{"$f":"IF($H$2=\"G\",'Skills explications FTEM'!T28,'Skills explications FTEM'!G28)","v":"A-t-il la puissance, la force, la vitesse nécessaires dans les jambes et le haut du corps (facteurs neuromusculaires)"},null,null,{"$f":"IF($H$2=\"G\",'Skills explications FTEM'!W28,'Skills explications FTEM'!J28)","v":0},null,null,null,{"$f":"IFERROR(AVERAGE(O37:O40),\"-\")","v":"-"},null,null,null,{"$f":"IFERROR(AVERAGE(S37:S40),\"-\")","v":"-"},null,{"$f":"IFERROR(AVERAGE(U37:U40),\"-\")","v":"-"},null,{"$f":"IFERROR(AVERAGE(W37:W40),\"-\")","v":"-"},null,{"$f":"IFERROR(AVERAGE(Y37:Y40),\"-\")","v":"-"}]
[{"$f":"'Skills explications FTEM'!A29:C29","v":0},null,null,{"$f":"IF($H$2=\"G\",'Skills explications FTEM'!Q29,'Skills explications FTEM'!D29)","v":"SPÉCIFIQUE AU SPORT, RÉSISTANT À L'EFFORT"},null,null,{"$f":"IF($H$2=\"G\",'Skills explications FTEM'!T29,'Skills explications FTEM'!G29)","v":"Est-il capable de maintenir sa puissance, sa force, sa vitesse durant un long temps de glace et peut-il récupérer complètement entre ses engagements (facteurs du métabolisme et cardiovasculaire)"},null,null,{"$f":"IF($H$2=\"G\",'Skills explications FTEM'!W29,'Skills explications FTEM'!J29)","v":0}]
[{"$f":"'Skills explications FTEM'!A30:C30","v":0},null,null,{"$f":"IF($H$2=\"G\",'Skills explications FTEM'!Q30,'Skills explications FTEM'!D30)","v":"MOBILITÉ/ COODINATION"},null,null,{"$f":"IF($H$2=\"G\",'Skills explications FTEM'!T30,'Skills explications FTEM'!G30)","v":"Gère-t-il ses aptitudes de mouvements de base, qui sont un fournisseur important des fonctions spécifiques «Skills» pour être efficace"},null,null,{"$f":"IF($H$2=\"G\",'Skills explications FTEM'!W30,'Skills explications FTEM'!J30)","v":0}]
[{"$f":"'Skills explications FTEM'!A31:C31","v":0},null,null,{"$f":"IF($H$2=\"G\",'Skills explications FTEM'!Q31,'Skills explications FTEM'!D31)","v":"ROBUSTESSE / PREVENTION"},null,null,{"$f":"IF($H$2=\"G\",'Skills explications FTEM'!T31,'Skills explications FTEM'!G31)","v":"A-t-il la force de base nécessaire (tension corporelle) pour gagner des duels et résister aux charges, A-t-il la stabilité nécessaire (ex. ses appuis) et la mobilité nécessaire au niveau des articulations centrales"},null,null,{"$f":"IF($H$2=\"G\",'Skills explications FTEM'!W31,'Skills explications FTEM'!J31)","v":0}]

{"sheet":"24","index":27,"n_rows":40,"n_cols":36,"rows_kept":40,"cut":false,"hidden":false,"merged":[[36,25,39,25],[36,26,39,32],[36,34,39,34],[32,23,35,23],[33,3,33,5],[33,6,33,11],[35,3,35,5],[35,6,35,11],[32,0,35,2],[32,3,32,5],[32,6,32,11],[32,12,35,12],[32,13,35,13],[32,15,35,15],[36,0,39,2],[36,3,36,5],[36,6,36,11],[36,12,39,12],[36,23,39,23],[37,3,37,5],[37,6,37,11],[38,3,38,5],[38,6,38,11],[39,3,39,5],[27,21,27,22],[28,17,31,17],[28,19,31,19],[28,21,31,21],[29,3,29,5],[29,6,29,11],[30,3,30,5],[30,6,30,11],[32,17,35,17],[32,19,35,19],[32,21,35,21],[34,3,34,5],[34,6,34,11],[23,0,26,2],[23,3,23,5],[23,6,23,11],[23,12,26,12],[23,13,26,13],[23,15,26,15],[27,23,27,24],[27,26,27,32],[28,0,31,2],[28,3,28,5],[28,6,28,11],[28,12,31,12],[28,13,31,13],[28,15,31,15],[31,3,31,5],[31,6,31,11],[28,23,31,23],[27,0,27,2],[27,3,27,5],[27,6,27,11],[27,13,27,14],[27,15,27,16],[27,17,27,18],[27,19,27,20],[19,21,22,21],[19,23,22,23],[20,3,20,5],[20,6,20,11],[22,3,22,5],[22,6,22,11],[26,3,26,5],[26,6,26,11],[23,23,26,23],[23,17,26,17],[23,19,26,19],[23,21,26,21],[24,3,24,5],[24,6,24,11],[25,3,25,5],[25,6,25,11],[21,3,21,5],[21,6,21,11],[15,15,18,15],[15,17,18,17],[15,19,18,19],[15,21,18,21],[15,23,18,23],[18,3,18,5],[18,6,18,11],[19,0,22,2],[19,3,19,5],[19,6,19,11],[19,12,22,12],[19,13,22,13],[19,15,22,15],[19,17,22,17],[15,0,18,2],[15,3,15,5],[15,6,15,11],[15,12,18,12],[15,13,18,13],[16,3,16,5],[16,6,16,11],[17,3,17,5],[17,6,17,11],[19,19,22,19],[12,23,13,23],[13,3,13,5],[13,6,13,11],[14,0,14,2],[14,3,14,5],[14,6,14,11],[14,13,14,14],[14,15,14,16],[14,17,14,18],[14,19,14,20],[14,21,14,22],[14,23,14,24],[12,0,13,2],[12,3,12,5],[12,6,12,11],[12,12,13,12],[12,13,13,13],[12,15,13,15],[12,17,13,17],[12,19,13,19],[12,21,13,21],[11,0,11,2],[11,3,11,5],[11,13,11,14],[11,15,11,16],[11,17,11,18],[11,19,11,20],[11,21,11,22],[11,23,11,24],[11,26,11,32],[11,6,11,11],[0,33,0,35],[23,25,26,25],[23,26,26,32],[23,34,26,34],[28,25,31,25],[28,26,31,32],[28,34,31,34],[1,0,1,1],[1,2,1,5],[1,10,1,24],[2,0,2,1],[2,2,2,5],[2,11,2,24],[6,0,6,1],[6,2,6,35],[7,0,7,1],[7,2,7,35],[8,0,8,1],[8,2,8,35],[3,0,3,1],[3,10,3,24],[4,0,4,1],[4,2,4,5],[4,10,4,24],[39,6,39,11],[36,13,39,13],[36,15,39,15],[36,17,39,17],[36,19,39,19],[36,21,39,21],[0,0,0,24],[0,25,0,26],[0,27,0,32],[10,0,10,24],[10,25,10,35],[32,25,35,25],[32,26,35,32],[32,34,35,34],[12,25,13,25],[12,26,13,32],[12,34,13,34],[15,25,18,25],[15,26,18,32],[15,34,18,34],[19,25,22,25],[19,26,22,32],[19,34,22,34],[14,26,14,32]]}
["Infos personelles",null,null,null,null,null,null,null,null,null,null,null,null,null,null,null,null,null,null,null,null,null,null,null,null,"Predispositions",null,"Evaluations",null,null,null,null,null,"Rating"]
["PRENOM",null,{"$f":"IF(ISBLANK(VLOOKUP(24,Tabelle3[],3,0)),\"-\",VLOOKUP(24,Tabelle3[],3,0))","v":"-"},null,null,null,"POSITION",null,null,"ADRESSE",{"$f":"IF(ISBLANK(VLOOKUP(24,Tabelle3[],5,0)),\"-\",VLOOKUP(24,Tabelle3[],5,0))","v":"-"},null,null,null,null,null,null,null,null,null,null,null,null,null,null,"\"àage\" (Biologique/age relatif)",null,"Date 1",null,null,"cm",null,"Kg",null,"AUSGEZEICHNET",5]
["NOM",null,{"$f":"IF(ISBLANK(VLOOKUP(24,Tabelle3[],2,0)),\"-\",VLOOKUP(24,Tabelle3[],2,0))","v":"-"},null,null,null,"CANNE",null,null,"LIEU",{"$f":"IF(ISBLANK(VLOOKUP(24,Tabelle3[],7,0)),\"-\",VLOOKUP(24,Tabelle3[],7,0))","v":"-"},{"$f":"IF(ISBLANK(VLOOKUP(24,Tabelle3[],6,0)),\"-\",VLOOKUP(24,Tabelle3[],6,0))","v":"-"},null,null,null,null,null,null,null,null,null,null,null,null,null,"predispositions",null,"Date 2",null,null,"cm",null,"Kg",null,"GUT",4]
["DATE NAISS.",null,{"$f":"IF(ISBLANK(VLOOKUP(24,Tabelle3[],14,0)),\"-\",VLOOKUP(24,Tabelle3[],14,0))","v":"-"},{"$f":"IF(ISBLANK(VLOOKUP(24,Tabelle3[],15,0)),\"-\",VLOOKUP(24,Tabelle3[],15,0))","v":"-"},{"$f":"IF(ISBLANK(VLOOKUP(24,Tabelle3[],16,0)),\"-\",VLOOKUP(24,Tabelle3[],16,0))","v":"-"},null,"GRANDEUR",null,"cm","PHONE",{"$f":"IF(ISBLANK(VLOOKUP(24,Tabelle3[],8,0)),\"-\",VLOOKUP(24,Tabelle3[],8,0))","v":"-"},null,null,null,null,null,null,null,null,null,null,null,null,null,null,"Entourage",null,"Date 3",null,null,"cm",null,"Kg",null,"DURCHSCHNITT",3]
["SEXE",null,{"$f":"IF(ISBLANK(VLOOKUP(24,Tabelle3[],13,0)),\"-\",VLOOKUP(24,Tabelle3[],13,0))","v":"-"},null,null,null,"POIDS",null,"Kg","E-Mail",{"$f":"IF(ISBLANK(VLOOKUP(24,Tabelle3[],9,0)),\"-\",VLOOKUP(24,Tabelle3[],9,0))","v":"-"},null,null,null,null,null,null,null,null,null,null,null,null,null,null,null,null,"Date 4",null,null,"cm",null,"Kg",null,"MANGELHAFT",2]
[null,null,null,null,null,null,null,null,null,null,null,null,null,null,null,null,null,null,null,null,null,null,null,null,null,null,null,"Date 5",null,null,"cm",null,"Kg",null,"UNGENÜGEND",1]
["Vision",null,"xxx"]
["Next step",null,"xxx"]
["Profil du Joueur",null,"xxx"]
[]
["EVALUATION (COACH / JOUEUR)",null,null,null,null,null,null,null,null,null,null,null,null,null,null,null,null,null,null,null,null,null,null,null,null,"SMART"]
[{"$f":"'Skills explications FTEM'!A3:C3","v":"TEAM"},null,null,"CAPACITE",null,null,"OBSERVATION",null,null,null,null,null,"Final","Date1",null,"Date2",null,"Date3",null,"Date4",null,"Date5",null,"Player",null,"BUT","MESURES:\nSPECIFIQUE, MESURABLES, REALISTE",null,null,null,null,null,null,"DELAI","CONTRÔLE DU BUT","Date"]
[{"$f":"'Skills explications FTEM'!A4:C4","v":"ROLLE, SOZIAL"},null,null,{"$f":"IF($H$2=\"G\",'Skills explications FTEM'!Q4,'Skills explications FTEM'!D4)","v":"PENSER EQUIPE"},null,null,{"$f":"IF($H$2=\"G\",'Skills explications FTEM'!T4,'Skills explications FTEM'!G4)","v":"Identification au rôle, relation au cammarades (social, intégration)"},null,null,{"$f":"IF($H$2=\"G\",'Skills explications FTEM'!W4,'Skills explications FTEM'!J4)","v":0},null,null,null,{"$f":"IFERROR(AVERAGE(O13:O14),\"-\")","v":"-"},null,{"$f":"IFERROR(AVERAGE(Q13:Q14),\"-\")","v":"-"},null,{"$f":"IFERROR(AVERAGE(S13:S14),\"-\")","v":"-"},null,{"$f":"IFERROR(AVERAGE(U13:U14),\"-\")","v":"-"},null,{"$f":"IFERROR(AVERAGE(W13:W14),\"-\")","v":"-"},null,{"$f":"IFERROR(AVERAGE(Y13:Y14),\"-\")","v":"-"}]
[{"$f":"'Skills explications FTEM'!A5:C5","v":0},null,null,{"$f":"IF($H$2=\"G\",'Skills explications FTEM'!Q5,'Skills explications FTEM'!D5)","v":"LEADERSHIP"},null,null,{"$f":"IF($H$2=\"G\",'Skills explications FTEM'!T5,'Skills explications FTEM'!G5)","v":"prend des responsabilités, rend son coéquipier meilleur"},null,null,{"$f":"IF($H$2=\"G\",'Skills explications FTEM'!W5,'Skills explications FTEM'!J5)","v":0}]
[{"$f":"'Skills explications FTEM'!A6:C6","v":"ON ICE"},null,null,"CAPACITE",null,null,"OBSERVATION",null,null,null,null,null,null,"Date1",null,"Date2",null,"Date3",null,"Date4",null,"Date5",null,"Player",null,"BUT","MESURES:\nSPECIFIQUE, MESURABLES, REALISTE",null,null,null,null,null,null,"DELAI","CONTRÔLE DU BUT","Date"]
[{"$f":"'Skills explications FTEM'!A7:C7","v":"SKILL"},null,null,{"$f":"IF($H$2=\"G\",'Skills explications FTEM'!Q7,'Skills explications FTEM'!D7)","v":"TIR  (EFFET)"},null,null,{"$f":"IF($H$2=\"G\",'Skills explications FTEM'!T7,'Skills explications FTEM'!G7)","v":"Efficience (pas d'espace et de temps), variantes, degré de surprise (déclenchement rapide), précision, puissance (conclusion tactique)"},null,null,{"$f":"IF($H$2=\"G\",'Skills explications FTEM'!W7,'Skills explications FTEM'!J7)","v":0},null,null,null,{"$f":"IFERROR(AVERAGE(O16:O19),\"-\")","v":"-"},null,{"$f":"IFERROR(AVERAGE(Q16:Q19),\"-\")","v":"-"},null,{"$f":"IFERROR(AVERAGE(S16:S19),\"-\")","v":"-"},null,{"$f":"IFERROR(AVERAGE(U16:U19),\"-\")","v":"-"},null,{"$f":"IFERROR(AVERAGE(W16:W19),\"-\")","v":"-"},null,{"$f":"IFERROR(AVERAGE(Y16:Y19),\"-\")","v":"-"}]
[{"$f":"'Skills explications FTEM'!A8:C8","v":0},null,null,{"$f":"IF($H$2=\"G\",'Skills explications FTEM'!Q8,'Skills explications FTEM'!D8)","v":"PASSER"},null,null,{"$f":"IF($H$2=\"G\",'Skills explications FTEM'!T8,'Skills explications FTEM'!G8)","v":"Donne la passe (distance, passe flipée en revers), réception de la passe (précision, timing, coup droit, revers, patins), vitesse du puck"},null,null,{"$f":"IF($H$2=\"G\",'Skills explications FTEM'!W8,'Skills explications FTEM'!J8)","v":0}]
[{"$f":"'Skills explications FTEM'!A9:C9","v":0},null,null,{"$f":"IF($H$2=\"G\",'Skills explications FTEM'!Q9,'Skills explications FTEM'!D9)","v":"JEU DU CORPS"},null,null,{"$f":"IF($H$2=\"G\",'Skills explications FTEM'!T9,'Skills explications FTEM'!G9)","v":"Faculté de s'imposer physiquement, duels (sur la surface de glace ou à la bande), prendre des checks, lever la tête, niveau de lutte, dur mais correct, bloquer les tirs avec le corps"},null,null,{"$f":"IF($H$2=\"G\",'Skills explications FTEM'!W9,'Skills explications FTEM'!J9)","v":0},null,null,null,{"$f":"IFERROR(AVERAGE(O18:O19),\"-\")","v":"-"},null,{"$f":"IFERROR(AVERAGE(Q18:Q19),\"-\")","v":"-"},null,{"$f":"IFERROR(AVERAGE(S18:S19),\"-\")","v":"-"},null,{"$f":"IFERROR(AVERAGE(U18:U19),\"-\")","v":"-"},null,{"$f":"IFERROR(AVERAGE(W18:W19),\"-\")","v":"-"},null,"-"]
[{"$f":"'Skills explications FTEM'!A10:C10","v":0},null,null,{"$f":"IF($H$2=\"G\",'Skills explications FTEM'!Q10,'Skills explications FTEM'!D10)","v":"CONTRÔLE DU PUCK"},null,null,{"$f":"IF($H$2=\"G\",'Skills explications FTEM'!T10,'Skills explications FTEM'!G10)","v":"Contrôle du puck, dribbling, protection du puck, feintes (variantes: avec les patins ou avec et sans la bande), mise au jeu (bully)"},null,null,{"$f":"IF($H$2=\"G\",'Skills explications FTEM'!W10,'Skills explications FTEM'!J10)","v":0}]
[{"$f":"'Skills explications FTEM'!A11:C11","v":"SKATING"},null,null,{"$f":"IF($H$2=\"G\",'Skills explications FTEM'!Q11,'Skills explications FTEM'!D11)","v":"FOOTSPEED"},null,null,{"$f":"IF($H$2=\"G\",'Skills explications FTEM'!T11,'Skills explications FTEM'!G11)","v":"Accélération, départ, explosivité des 3 premiers pas, fréquence"},null,null,{"$f":"IF($H$2=\"G\",'Skills explications FTEM'!W11,'Skills explications FTEM'!J11)","v":0},null,null,null,{"$f":"IFERROR(AVERAGE(O20:O23),\"-\")","v":"-"},null,{"$f":"IFERROR(AVERAGE(Q20:Q23),\"-\")","v":"-"},null,{"$f":"IFERROR(AVERAGE(S20:S23),\"-\")","v":"-"},null,{"$f":"IFERROR(AVERAGE(U20:U23),\"-\")","v":"-"},null,{"$f":"IFERROR(AVERAGE(W20:W23),\"-\")","v":"-"},null,{"$f":"IFERROR(AVERAGE(Y20:Y23),\"-\")","v":"-"}]
[{"$f":"'Skills explications FTEM'!A12:C12","v":0},null,null,{"$f":"IF($H$2=\"G\",'Skills explications FTEM'!Q12,'Skills explications FTEM'!D12)","v":"MOBILITE"},null,null,{"$f":"IF($H$2=\"G\",'Skills explications FTEM'!T12,'Skills explications FTEM'!G12)","v":"Changements de direction, pivots, stop et start «Nummelin»"},null,null,{"$f":"IF($H$2=\"G\",'Skills explications FTEM'!W12,'Skills explications FTEM'!J12)","v":0}]
[{"$f":"'Skills explications FTEM'!A13:C13","v":0},null,null,{"$f":"IF($H$2=\"G\",'Skills explications FTEM'!Q13,'Skills explications FTEM'!D13)","v":"PATTINAGE ARRIÈRE"},null,null,{"$f":"IF($H$2=\"G\",'Skills explications FTEM'!T13,'Skills explications FTEM'!G13)","v":"Accélération, vitesse, équilibre"},null,null,{"$f":"IF($H$2=\"G\",'Skills explications FTEM'!W13,'Skills explications FTEM'!J13)","v":0}]
[{"$f":"'Skills explications FTEM'!A14:C14","v":0},null,null,{"$f":"IF($H$2=\"G\",'Skills explications FTEM'!Q14,'Skills explications FTEM'!D14)","v":"TOP SPEED"},null,null,{"$f":"IF($H$2=\"G\",'Skills explications FTEM'!T14,'Skills explications FTEM'!G14)","v":"Vitesse, faculté de glisse, avant et arrière, économie des forces"},null,null,{"$f":"IF($H$2=\"G\",'Skills explications FTEM'!W14,'Skills explications FTEM'!J14)","v":0}]
[{"$f":"'Skills explications FTEM'!A15:C15","v":"HOCKEY SENSE"},null,null,{"$f":"IF($H$2=\"G\",'Skills explications FTEM'!Q15,'Skills explications FTEM'!D15)","v":"SCORING"},null,null,{"$f":"IF($H$2=\"G\",'Skills explications FTEM'!T15,'Skills explications FTEM'!G15)","v":"Efficience, richesse des variantes, surpenant, vite, variante de tirs"},null,null,{"$f":"IF($H$2=\"G\",'Skills explications FTEM'!W15,'Skills explications FTEM'!J15)","v":0},null,null,null,{"$f":"IFERROR(AVERAGE(O24:O27),\"-\")","v":"-"},null,{"$f":"IFERROR(AVERAGE(Q24:Q27),\"-\")","v":"-"},null,{"$f":"IFERROR(AVERAGE(S24:S27),\"-\")","v":"-"},null,{"$f":"IFERROR(AVERAGE(U24:U27),\"-\")","v":"-"},null,{"$f":"IFERROR(AVERAGE(W24:W27),\"-\")","v":"-"},null,{"$f":"IFERROR(AVERAGE(Y24:Y27),\"-\")","v":"-"}]
[{"$f":"'Skills explications FTEM'!A16:C16","v":0},null,null,{"$f":"IF($H$2=\"G\",'Skills explications FTEM'!Q16,'Skills explications FTEM'!D16)","v":"AVEC PUCK"},null,null,{"$f":"IF($H$2=\"G\",'Skills explications FTEM'!T16,'Skills explications FTEM'!G16)","v":"créatif,  performing, batteling, fou, transition"},null,null,{"$f":"IF($H$2=\"G\",'Skills explications FTEM'!W16,'Skills explications FTEM'!J16)","v":0}]
[{"$f":"'Skills explications FTEM'!A17:C17","v":0},null,null,{"$f":"IF($H$2=\"G\",'Skills explications FTEM'!Q17,'Skills explications FTEM'!D17)","v":"SANS PUCK"},null,null,{"$f":"IF($H$2=\"G\",'Skills explications FTEM'!T17,'Skills explications FTEM'!G17)","v":"ouvert pour un passe (Support), 1:1, Gap"},null,null,{"$f":"IF($H$2=\"G\",'Skills explications FTEM'!W17,'Skills explications FTEM'!J17)","v":0}]
[{"$f":"'Skills explications FTEM'!A18:C18","v":0},null,null,{"$f":"IF($H$2=\"G\",'Skills explications FTEM'!Q18,'Skills explications FTEM'!D18)","v":"DEFENSIF"},null,null,{"$f":"IF($H$2=\"G\",'Skills explications FTEM'!T18,'Skills explications FTEM'!G18)","v":"on peut compter dessus,  1:1, Gap, identification de l'homme"},null,null,{"$f":"IF($H$2=\"G\",'Skills explications FTEM'!W18,'Skills explications FTEM'!J18)","v":0}]
[{"$f":"'Skills explications FTEM'!A19:C19","v":"PERSONALITY"},null,null,"CAPACITE",null,null,"OBSERVATION",null,null,null,null,null,null,"Date1",null,"Date2",null,"Date3",null,"Date4",null,"Date5",null,"Player",null,"BUT","MESURES:\nSPECIFIQUE, MESURABLES, REALISTE",null,null,null,null,null,null,"DELAI","CONTRÔLE DU BUT","Date"]
[{"$f":"'Skills explications FTEM'!A20:C20","v":"PERSONALITÉ"},null,null,{"$f":"IF($H$2=\"G\",'Skills explications FTEM'!Q20,'Skills explications FTEM'!D20)","v":"MOTIVATION"},null,null,{"$f":"IF($H$2=\"G\",'Skills explications FTEM'!T20,'Skills explications FTEM'!G20)","v":"Est toujours motivé, veut sans cesse se développer et apprendre, veut être le premier et avoir du succès, n'abandonne jamais et ne se laisse pas influencer par les échecs"},null,null,{"$f":"IF($H$2=\"G\",'Skills explications FTEM'!W20,'Skills explications FTEM'!J20)","v":0},null,null,null,{"$f":"IFERROR(AVERAGE(O29:O32),\"-\")","v":"-"},null,null,null,{"$f":"IFERROR(AVERAGE(S29:S32),\"-\")","v":"-"},null,{"$f":"IFERROR(AVERAGE(U29:U32),\"-\")","v":"-"},null,{"$f":"IFERROR(AVERAGE(W29:W32),\"-\")","v":"-"},null,{"$f":"IFERROR(AVERAGE(Y29:Y32),\"-\")","v":"-"}]
[{"$f":"'Skills explications FTEM'!A21:C21","v":0},null,null,{"$f":"IF($H$2=\"G\",'Skills explications FTEM'!Q21,'Skills explications FTEM'!D21)","v":"CONFIENCE EN SOI"},null,null,{"$f":"IF($H$2=\"G\",'Skills explications FTEM'!T21,'Skills explications FTEM'!G21)","v":"Est en confiance, «I can do it», peut estimer ses capacités (connaît ses qualités et ses défauts), peut réaliser ses qualités avec constance, est courageux et prend des risques calculés"},null,null,{"$f":"IF($H$2=\"G\",'Skills explications FTEM'!W21,'Skills explications FTEM'!J21)","v":0}]
[{"$f":"'Skills explications FTEM'!A22:C22","v":0},null,null,{"$f":"IF($H$2=\"G\",'Skills explications FTEM'!Q22,'Skills explications FTEM'!D22)","v":"FACULTÉES D'APPRENTISSAGE"},null,null,{"$f":"IF($H$2=\"G\",'Skills explications FTEM'!T22,'Skills explications FTEM'!G22)","v":"A une bonne perception (il peut mémoriser et peut réaliser), il a de la personnalité, essaie d'apprendre de ses erreurs et est entreprenant"},null,null,{"$f":"IF($H$2=\"G\",'Skills explications FTEM'!W22,'Skills explications FTEM'!J22)","v":0}]
[{"$f":"'Skills explications FTEM'!A23:C23","v":0},null,null,{"$f":"IF($H$2=\"G\",'Skills explications FTEM'!Q23,'Skills explications FTEM'!D23)","v":"PERFORMANCE, STYLE DE VIE"},null,null,{"$f":"IF($H$2=\"G\",'Skills explications FTEM'!T23,'Skills explications FTEM'!G23)","v":"Gère bien son environnement et son temps libre selon les principes de la performance, obstiné, tenace et axé sur l'objectif, accent sur sa propre performance, est courageux et peut s'imposer contre de la résistance, les défis le motivent"},null,null,{"$f":"IF($H$2=\"G\",'Skills explications FTEM'!W23,'Skills explications FTEM'!J23)","v":0}]
[{"$f":"'Skills explications FTEM'!A24:C24","v":"POWER MENTAL"},null,null,{"$f":"IF($H$2=\"G\",'Skills explications FTEM'!Q24,'Skills explications FTEM'!D24)","v":"GESTION DES ÉNERGIES"},null,null,{"$f":"IF($H$2=\"G\",'Skills explications FTEM'!T24,'Skills explications FTEM'!G24)","v":"Peut-il gérer ses propres énergies, prend-il soin de sa régénération, peut-il gérer les moments où il faut se donner à fond ou quand il faut déconnecter, bouton On/Off"},null,null,{"$f":"IF($H$2=\"G\",'Skills explications FTEM'!W24,'Skills explications FTEM'!J24)","v":0},null,null,null,{"$f":"IFERROR(AVERAGE(O33:O36),\"-\")","v":"-"},null,null,null,{"$f":"IFERROR(AVERAGE(S33:S36),\"-\")","v":"-"},null,{"$f":"IFERROR(AVERAGE(U33:U36),\"-\")","v":"-"},null,{"$f":"IFERROR(AVERAGE(W33:W36),\"-\")","v":"-"},null,{"$f":"IFERROR(AVERAGE(Y33:Y36),\"-\")","v":"-"}]
[{"$f":"'Skills explications FTEM'!A25:C25","v":0},null,null,{"$f":"IF($H$2=\"G\",'Skills explications FTEM'!Q25,'Skills explications FTEM'!D25)","v":"ENGAGEMENT"},null,null,{"$f":"IF($H$2=\"G\",'Skills explications FTEM'!T25,'Skills explications FTEM'!G25)","v":"Démontre beaucoup d'intensité dans les entraînements et les matchs, donne toujours son maximum et veut sans cesse repousser ses limites, a-t-il de la passion, s'efforce-t-il de s'entraîner avec une excellente qualité"},null,null,{"$f":"IF($H$2=\"G\",'Skills explications FTEM'!W25,'Skills explications FTEM'!J25)","v":0}]
[{"$f":"'Skills explications FTEM'!A26:C26","v":0},null,null,{"$f":"IF($H$2=\"G\",'Skills explications FTEM'!Q26,'Skills explications FTEM'!D26)","v":"CONTRÔLE DES ÉMOTIONS"},null,null,{"$f":"IF($H$2=\"G\",'Skills explications FTEM'!T26,'Skills explications FTEM'!G26)","v":"Peut-il gérer ses propres émotions et impulsions, reste-t-il sous contrôle lorsqu'il y a une grande pression, peut-il rester calme lorsque le niveau émotionnel et de frustration est élevé"},null,null,{"$f":"IF($H$2=\"G\",'Skills explications FTEM'!W26,'Skills explications FTEM'!J26)","v":0}]
[{"$f":"'Skills explications FTEM'!A27:C27","v":0},null,null,{"$f":"IF($H$2=\"G\",'Skills explications FTEM'!Q27,'Skills explications FTEM'!D27)","v":"PRÉPARATION"},null,null,{"$f":"IF($H$2=\"G\",'Skills explications FTEM'!T27,'Skills explications FTEM'!G27)","v":"Se prépare-t-il toujours bien, mentalement et physiquement, se prépare-t-il toujours bien pour obtenir le niveau de performance idéal (ILZ)"},null,null,{"$f":"IF($H$2=\"G\",'Skills explications FTEM'!W27,'Skills explications FTEM'!J27)","v":0}]
[{"$f":"'Skills explications FTEM'!A28:C28","v":"PYHSE (Athletik)"},null,null,{"$f":"IF($H$2=\"G\",'Skills explications FTEM'!Q28,'Skills explications FTEM'!D28)","v":"PRODUCTION DE LA PERFORMANCE"},null,null,{"$f":"IF($H$2=\"G\",'Skills explications FTEM'!T28,'Skills explications FTEM'!G28)","v":"A-t-il la puissance, la force, la vitesse nécessaires dans les jambes et le haut du corps (facteurs neuromusculaires)"},null,null,{"$f":"IF($H$2=\"G\",'Skills explications FTEM'!W28,'Skills explications FTEM'!J28)","v":0},null,null,null,{"$f":"IFERROR(AVERAGE(O37:O40),\"-\")","v":"-"},null,null,null,{"$f":"IFERROR(AVERAGE(S37:S40),\"-\")","v":"-"},null,{"$f":"IFERROR(AVERAGE(U37:U40),\"-\")","v":"-"},null,{"$f":"IFERROR(AVERAGE(W37:W40),\"-\")","v":"-"},null,{"$f":"IFERROR(AVERAGE(Y37:Y40),\"-\")","v":"-"}]
[{"$f":"'Skills explications FTEM'!A29:C29","v":0},null,null,{"$f":"IF($H$2=\"G\",'Skills explications FTEM'!Q29,'Skills explications FTEM'!D29)","v":"SPÉCIFIQUE AU SPORT, RÉSISTANT À L'EFFORT"},null,null,{"$f":"IF($H$2=\"G\",'Skills explications FTEM'!T29,'Skills explications FTEM'!G29)","v":"Est-il capable de maintenir sa puissance, sa force, sa vitesse durant un long temps de glace et peut-il récupérer complètement entre ses engagements (facteurs du métabolisme et cardiovasculaire)"},null,null,{"$f":"IF($H$2=\"G\",'Skills explications FTEM'!W29,'Skills explications FTEM'!J29)","v":0}]
[{"$f":"'Skills explications FTEM'!A30:C30","v":0},null,null,{"$f":"IF($H$2=\"G\",'Skills explications FTEM'!Q30,'Skills explications FTEM'!D30)","v":"MOBILITÉ/ COODINATION"},null,null,{"$f":"IF($H$2=\"G\",'Skills explications FTEM'!T30,'Skills explications FTEM'!G30)","v":"Gère-t-il ses aptitudes de mouvements de base, qui sont un fournisseur important des fonctions spécifiques «Skills» pour être efficace"},null,null,{"$f":"IF($H$2=\"G\",'Skills explications FTEM'!W30,'Skills explications FTEM'!J30)","v":0}]
[{"$f":"'Skills explications FTEM'!A31:C31","v":0},null,null,{"$f":"IF($H$2=\"G\",'Skills explications FTEM'!Q31,'Skills explications FTEM'!D31)","v":"ROBUSTESSE / PREVENTION"},null,null,{"$f":"IF($H$2=\"G\",'Skills explications FTEM'!T31,'Skills explications FTEM'!G31)","v":"A-t-il la force de base nécessaire (tension corporelle) pour gagner des duels et résister aux charges, A-t-il la stabilité nécessaire (ex. ses appuis) et la mobilité nécessaire au niveau des articulations centrales"},null,null,{"$f":"IF($H$2=\"G\",'Skills explications FTEM'!W31,'Skills explications FTEM'!J31)","v":0}]

{"sheet":"25","index":28,"n_rows":40,"n_cols":36,"rows_kept":40,"cut":false,"hidden":false,"merged":[[36,25,39,25],[36,26,39,32],[36,34,39,34],[32,23,35,23],[33,3,33,5],[33,6,33,11],[35,3,35,5],[35,6,35,11],[32,0,35,2],[32,3,32,5],[32,6,32,11],[32,12,35,12],[32,13,35,13],[32,15,35,15],[36,0,39,2],[36,3,36,5],[36,6,36,11],[36,12,39,12],[36,23,39,23],[37,3,37,5],[37,6,37,11],[38,3,38,5],[38,6,38,11],[39,3,39,5],[27,21,27,22],[28,17,31,17],[28,19,31,19],[28,21,31,21],[29,3,29,5],[29,6,29,11],[30,3,30,5],[30,6,30,11],[32,17,35,17],[32,19,35,19],[32,21,35,21],[34,3,34,5],[34,6,34,11],[23,0,26,2],[23,3,23,5],[23,6,23,11],[23,12,26,12],[23,13,26,13],[23,15,26,15],[27,23,27,24],[27,26,27,32],[28,0,31,2],[28,3,28,5],[28,6,28,11],[28,12,31,12],[28,13,31,13],[28,15,31,15],[31,3,31,5],[31,6,31,11],[28,23,31,23],[27,0,27,2],[27,3,27,5],[27,6,27,11],[27,13,27,14],[27,15,27,16],[27,17,27,18],[27,19,27,20],[19,21,22,21],[19,23,22,23],[20,3,20,5],[20,6,20,11],[22,3,22,5],[22,6,22,11],[26,3,26,5],[26,6,26,11],[23,23,26,23],[23,17,26,17],[23,19,26,19],[23,21,26,21],[24,3,24,5],[24,6,24,11],[25,3,25,5],[25,6,25,11],[21,3,21,5],[21,6,21,11],[15,15,18,15],[15,17,18,17],[15,19,18,19],[15,21,18,21],[15,23,18,23],[18,3,18,5],[18,6,18,11],[19,0,22,2],[19,3,19,5],[19,6,19,11],[19,12,22,12],[19,13,22,13],[19,15,22,15],[19,17,22,17],[15,0,18,2],[15,3,15,5],[15,6,15,11],[15,12,18,12],[15,13,18,13],[16,3,16,5],[16,6,16,11],[17,3,17,5],[17,6,17,11],[19,19,22,19],[12,23,13,23],[13,3,13,5],[13,6,13,11],[14,0,14,2],[14,3,14,5],[14,6,14,11],[14,13,14,14],[14,15,14,16],[14,17,14,18],[14,19,14,20],[14,21,14,22],[14,23,14,24],[12,0,13,2],[12,3,12,5],[12,6,12,11],[12,12,13,12],[12,13,13,13],[12,15,13,15],[12,17,13,17],[12,19,13,19],[12,21,13,21],[11,0,11,2],[11,3,11,5],[11,13,11,14],[11,15,11,16],[11,17,11,18],[11,19,11,20],[11,21,11,22],[11,23,11,24],[11,26,11,32],[11,6,11,11],[0,33,0,35],[23,25,26,25],[23,26,26,32],[23,34,26,34],[28,25,31,25],[28,26,31,32],[28,34,31,34],[1,0,1,1],[1,2,1,5],[1,10,1,24],[2,0,2,1],[2,2,2,5],[2,11,2,24],[6,0,6,1],[6,2,6,35],[7,0,7,1],[7,2,7,35],[8,0,8,1],[8,2,8,35],[3,0,3,1],[3,10,3,24],[4,0,4,1],[4,2,4,5],[4,10,4,24],[39,6,39,11],[36,13,39,13],[36,15,39,15],[36,17,39,17],[36,19,39,19],[36,21,39,21],[0,0,0,24],[0,25,0,26],[0,27,0,32],[10,0,10,24],[10,25,10,35],[32,25,35,25],[32,26,35,32],[32,34,35,34],[12,25,13,25],[12,26,13,32],[12,34,13,34],[15,25,18,25],[15,26,18,32],[15,34,18,34],[19,25,22,25],[19,26,22,32],[19,34,22,34],[14,26,14,32]]}
["Infos personelles",null,null,null,null,null,null,null,null,null,null,null,null,null,null,null,null,null,null,null,null,null,null,null,null,"Predispositions",null,"Evaluations",null,null,null,null,null,"Rating"]
["PRENOM",null,{"$f":"IF(ISBLANK(VLOOKUP(25,Tabelle3[],3,0)),\"-\",VLOOKUP(25,Tabelle3[],3,0))","v":"-"},null,null,null,"POSITION",null,null,"ADRESSE",{"$f":"IF(ISBLANK(VLOOKUP(25,Tabelle3[],5,0)),\"-\",VLOOKUP(25,Tabelle3[],5,0))","v":"-"},null,null,null,null,null,null,null,null,null,null,null,null,null,null,"\"àage\" (Biologique/age relatif)",null,"Date 1",null,null,"cm",null,"Kg",null,"AUSGEZEICHNET",5]
["NOM",null,{"$f":"IF(ISBLANK(VLOOKUP(25,Tabelle3[],2,0)),\"-\",VLOOKUP(25,Tabelle3[],2,0))","v":"-"},null,null,null,"CANNE",null,null,"LIEU",{"$f":"IF(ISBLANK(VLOOKUP(25,Tabelle3[],7,0)),\"-\",VLOOKUP(25,Tabelle3[],7,0))","v":"-"},{"$f":"IF(ISBLANK(VLOOKUP(25,Tabelle3[],6,0)),\"-\",VLOOKUP(25,Tabelle3[],6,0))","v":"-"},null,null,null,null,null,null,null,null,null,null,null,null,null,"predispositions",null,"Date 2",null,null,"cm",null,"Kg",null,"GUT",4]
["DATE NAISS.",null,{"$f":"IF(ISBLANK(VLOOKUP(25,Tabelle3[],14,0)),\"-\",VLOOKUP(25,Tabelle3[],14,0))","v":"-"},{"$f":"IF(ISBLANK(VLOOKUP(25,Tabelle3[],15,0)),\"-\",VLOOKUP(25,Tabelle3[],15,0))","v":"-"},{"$f":"IF(ISBLANK(VLOOKUP(25,Tabelle3[],16,0)),\"-\",VLOOKUP(25,Tabelle3[],16,0))","v":"-"},null,"GRANDEUR",null,"cm","PHONE",{"$f":"IF(ISBLANK(VLOOKUP(25,Tabelle3[],8,0)),\"-\",VLOOKUP(25,Tabelle3[],8,0))","v":"-"},null,null,null,null,null,null,null,null,null,null,null,null,null,null,"Entourage",null,"Date 3",null,null,"cm",null,"Kg",null,"DURCHSCHNITT",3]
["SEXE",null,{"$f":"IF(ISBLANK(VLOOKUP(25,Tabelle3[],13,0)),\"-\",VLOOKUP(25,Tabelle3[],13,0))","v":"-"},null,null,null,"POIDS",null,"Kg","E-Mail",{"$f":"IF(ISBLANK(VLOOKUP(25,Tabelle3[],9,0)),\"-\",VLOOKUP(25,Tabelle3[],9,0))","v":"-"},null,null,null,null,null,null,null,null,null,null,null,null,null,null,null,null,"Date 4",null,null,"cm",null,"Kg",null,"MANGELHAFT",2]
[null,null,null,null,null,null,null,null,null,null,null,null,null,null,null,null,null,null,null,null,null,null,null,null,null,null,null,"Date 5",null,null,"cm",null,"Kg",null,"UNGENÜGEND",1]
["Vision",null,"xxx"]
["Next step",null,"xxx"]
["Profil du Joueur",null,"xxx"]
[]
["EVALUATION (COACH / JOUEUR)",null,null,null,null,null,null,null,null,null,null,null,null,null,null,null,null,null,null,null,null,null,null,null,null,"SMART"]
[{"$f":"'Skills explications FTEM'!A3:C3","v":"TEAM"},null,null,"CAPACITE",null,null,"OBSERVATION",null,null,null,null,null,"Final","Date1",null,"Date2",null,"Date3",null,"Date4",null,"Date5",null,"Player",null,"BUT","MESURES:\nSPECIFIQUE, MESURABLES, REALISTE",null,null,null,null,null,null,"DELAI","CONTRÔLE DU BUT","Date"]
[{"$f":"'Skills explications FTEM'!A4:C4","v":"ROLLE, SOZIAL"},null,null,{"$f":"IF($H$2=\"G\",'Skills explications FTEM'!Q4,'Skills explications FTEM'!D4)","v":"PENSER EQUIPE"},null,null,{"$f":"IF($H$2=\"G\",'Skills explications FTEM'!T4,'Skills explications FTEM'!G4)","v":"Identification au rôle, relation au cammarades (social, intégration)"},null,null,{"$f":"IF($H$2=\"G\",'Skills explications FTEM'!W4,'Skills explications FTEM'!J4)","v":0},null,null,null,{"$f":"IFERROR(AVERAGE(O13:O14),\"-\")","v":"-"},null,{"$f":"IFERROR(AVERAGE(Q13:Q14),\"-\")","v":"-"},null,{"$f":"IFERROR(AVERAGE(S13:S14),\"-\")","v":"-"},null,{"$f":"IFERROR(AVERAGE(U13:U14),\"-\")","v":"-"},null,{"$f":"IFERROR(AVERAGE(W13:W14),\"-\")","v":"-"},null,{"$f":"IFERROR(AVERAGE(Y13:Y14),\"-\")","v":"-"}]
[{"$f":"'Skills explications FTEM'!A5:C5","v":0},null,null,{"$f":"IF($H$2=\"G\",'Skills explications FTEM'!Q5,'Skills explications FTEM'!D5)","v":"LEADERSHIP"},null,null,{"$f":"IF($H$2=\"G\",'Skills explications FTEM'!T5,'Skills explications FTEM'!G5)","v":"prend des responsabilités, rend son coéquipier meilleur"},null,null,{"$f":"IF($H$2=\"G\",'Skills explications FTEM'!W5,'Skills explications FTEM'!J5)","v":0}]
[{"$f":"'Skills explications FTEM'!A6:C6","v":"ON ICE"},null,null,"CAPACITE",null,null,"OBSERVATION",null,null,null,null,null,null,"Date1",null,"Date2",null,"Date3",null,"Date4",null,"Date5",null,"Player",null,"BUT","MESURES:\nSPECIFIQUE, MESURABLES, REALISTE",null,null,null,null,null,null,"DELAI","CONTRÔLE DU BUT","Date"]
[{"$f":"'Skills explications FTEM'!A7:C7","v":"SKILL"},null,null,{"$f":"IF($H$2=\"G\",'Skills explications FTEM'!Q7,'Skills explications FTEM'!D7)","v":"TIR  (EFFET)"},null,null,{"$f":"IF($H$2=\"G\",'Skills explications FTEM'!T7,'Skills explications FTEM'!G7)","v":"Efficience (pas d'espace et de temps), variantes, degré de surprise (déclenchement rapide), précision, puissance (conclusion tactique)"},null,null,{"$f":"IF($H$2=\"G\",'Skills explications FTEM'!W7,'Skills explications FTEM'!J7)","v":0},null,null,null,{"$f":"IFERROR(AVERAGE(O16:O19),\"-\")","v":"-"},null,{"$f":"IFERROR(AVERAGE(Q16:Q19),\"-\")","v":"-"},null,{"$f":"IFERROR(AVERAGE(S16:S19),\"-\")","v":"-"},null,{"$f":"IFERROR(AVERAGE(U16:U19),\"-\")","v":"-"},null,{"$f":"IFERROR(AVERAGE(W16:W19),\"-\")","v":"-"},null,{"$f":"IFERROR(AVERAGE(Y16:Y19),\"-\")","v":"-"}]
[{"$f":"'Skills explications FTEM'!A8:C8","v":0},null,null,{"$f":"IF($H$2=\"G\",'Skills explications FTEM'!Q8,'Skills explications FTEM'!D8)","v":"PASSER"},null,null,{"$f":"IF($H$2=\"G\",'Skills explications FTEM'!T8,'Skills explications FTEM'!G8)","v":"Donne la passe (distance, passe flipée en revers), réception de la passe (précision, timing, coup droit, revers, patins), vitesse du puck"},null,null,{"$f":"IF($H$2=\"G\",'Skills explications FTEM'!W8,'Skills explications FTEM'!J8)","v":0}]
[{"$f":"'Skills explications FTEM'!A9:C9","v":0},null,null,{"$f":"IF($H$2=\"G\",'Skills explications FTEM'!Q9,'Skills explications FTEM'!D9)","v":"JEU DU CORPS"},null,null,{"$f":"IF($H$2=\"G\",'Skills explications FTEM'!T9,'Skills explications FTEM'!G9)","v":"Faculté de s'imposer physiquement, duels (sur la surface de glace ou à la bande), prendre des checks, lever la tête, niveau de lutte, dur mais correct, bloquer les tirs avec le corps"},null,null,{"$f":"IF($H$2=\"G\",'Skills explications FTEM'!W9,'Skills explications FTEM'!J9)","v":0},null,null,null,{"$f":"IFERROR(AVERAGE(O18:O19),\"-\")","v":"-"},null,{"$f":"IFERROR(AVERAGE(Q18:Q19),\"-\")","v":"-"},null,{"$f":"IFERROR(AVERAGE(S18:S19),\"-\")","v":"-"},null,{"$f":"IFERROR(AVERAGE(U18:U19),\"-\")","v":"-"},null,{"$f":"IFERROR(AVERAGE(W18:W19),\"-\")","v":"-"},null,"-"]
[{"$f":"'Skills explications FTEM'!A10:C10","v":0},null,null,{"$f":"IF($H$2=\"G\",'Skills explications FTEM'!Q10,'Skills explications FTEM'!D10)","v":"CONTRÔLE DU PUCK"},null,null,{"$f":"IF($H$2=\"G\",'Skills explications FTEM'!T10,'Skills explications FTEM'!G10)","v":"Contrôle du puck, dribbling, protection du puck, feintes (variantes: avec les patins ou avec et sans la bande), mise au jeu (bully)"},null,null,{"$f":"IF($H$2=\"G\",'Skills explications FTEM'!W10,'Skills explications FTEM'!J10)","v":0}]
[{"$f":"'Skills explications FTEM'!A11:C11","v":"SKATING"},null,null,{"$f":"IF($H$2=\"G\",'Skills explications FTEM'!Q11,'Skills explications FTEM'!D11)","v":"FOOTSPEED"},null,null,{"$f":"IF($H$2=\"G\",'Skills explications FTEM'!T11,'Skills explications FTEM'!G11)","v":"Accélération, départ, explosivité des 3 premiers pas, fréquence"},null,null,{"$f":"IF($H$2=\"G\",'Skills explications FTEM'!W11,'Skills explications FTEM'!J11)","v":0},null,null,null,{"$f":"IFERROR(AVERAGE(O20:O23),\"-\")","v":"-"},null,{"$f":"IFERROR(AVERAGE(Q20:Q23),\"-\")","v":"-"},null,{"$f":"IFERROR(AVERAGE(S20:S23),\"-\")","v":"-"},null,{"$f":"IFERROR(AVERAGE(U20:U23),\"-\")","v":"-"},null,{"$f":"IFERROR(AVERAGE(W20:W23),\"-\")","v":"-"},null,{"$f":"IFERROR(AVERAGE(Y20:Y23),\"-\")","v":"-"}]
[{"$f":"'Skills explications FTEM'!A12:C12","v":0},null,null,{"$f":"IF($H$2=\"G\",'Skills explications FTEM'!Q12,'Skills explications FTEM'!D12)","v":"MOBILITE"},null,null,{"$f":"IF($H$2=\"G\",'Skills explications FTEM'!T12,'Skills explications FTEM'!G12)","v":"Changements de direction, pivots, stop et start «Nummelin»"},null,null,{"$f":"IF($H$2=\"G\",'Skills explications FTEM'!W12,'Skills explications FTEM'!J12)","v":0}]
[{"$f":"'Skills explications FTEM'!A13:C13","v":0},null,null,{"$f":"IF($H$2=\"G\",'Skills explications FTEM'!Q13,'Skills explications FTEM'!D13)","v":"PATTINAGE ARRIÈRE"},null,null,{"$f":"IF($H$2=\"G\",'Skills explications FTEM'!T13,'Skills explications FTEM'!G13)","v":"Accélération, vitesse, équilibre"},null,null,{"$f":"IF($H$2=\"G\",'Skills explications FTEM'!W13,'Skills explications FTEM'!J13)","v":0}]
[{"$f":"'Skills explications FTEM'!A14:C14","v":0},null,null,{"$f":"IF($H$2=\"G\",'Skills explications FTEM'!Q14,'Skills explications FTEM'!D14)","v":"TOP SPEED"},null,null,{"$f":"IF($H$2=\"G\",'Skills explications FTEM'!T14,'Skills explications FTEM'!G14)","v":"Vitesse, faculté de glisse, avant et arrière, économie des forces"},null,null,{"$f":"IF($H$2=\"G\",'Skills explications FTEM'!W14,'Skills explications FTEM'!J14)","v":0}]
[{"$f":"'Skills explications FTEM'!A15:C15","v":"HOCKEY SENSE"},null,null,{"$f":"IF($H$2=\"G\",'Skills explications FTEM'!Q15,'Skills explications FTEM'!D15)","v":"SCORING"},null,null,{"$f":"IF($H$2=\"G\",'Skills explications FTEM'!T15,'Skills explications FTEM'!G15)","v":"Efficience, richesse des variantes, surpenant, vite, variante de tirs"},null,null,{"$f":"IF($H$2=\"G\",'Skills explications FTEM'!W15,'Skills explications FTEM'!J15)","v":0},null,null,null,{"$f":"IFERROR(AVERAGE(O24:O27),\"-\")","v":"-"},null,{"$f":"IFERROR(AVERAGE(Q24:Q27),\"-\")","v":"-"},null,{"$f":"IFERROR(AVERAGE(S24:S27),\"-\")","v":"-"},null,{"$f":"IFERROR(AVERAGE(U24:U27),\"-\")","v":"-"},null,{"$f":"IFERROR(AVERAGE(W24:W27),\"-\")","v":"-"},null,{"$f":"IFERROR(AVERAGE(Y24:Y27),\"-\")","v":"-"}]
[{"$f":"'Skills explications FTEM'!A16:C16","v":0},null,null,{"$f":"IF($H$2=\"G\",'Skills explications FTEM'!Q16,'Skills explications FTEM'!D16)","v":"AVEC PUCK"},null,null,{"$f":"IF($H$2=\"G\",'Skills explications FTEM'!T16,'Skills explications FTEM'!G16)","v":"créatif,  performing, batteling, fou, transition"},null,null,{"$f":"IF($H$2=\"G\",'Skills explications FTEM'!W16,'Skills explications FTEM'!J16)","v":0}]
[{"$f":"'Skills explications FTEM'!A17:C17","v":0},null,null,{"$f":"IF($H$2=\"G\",'Skills explications FTEM'!Q17,'Skills explications FTEM'!D17)","v":"SANS PUCK"},null,null,{"$f":"IF($H$2=\"G\",'Skills explications FTEM'!T17,'Skills explications FTEM'!G17)","v":"ouvert pour un passe (Support), 1:1, Gap"},null,null,{"$f":"IF($H$2=\"G\",'Skills explications FTEM'!W17,'Skills explications FTEM'!J17)","v":0}]
[{"$f":"'Skills explications FTEM'!A18:C18","v":0},null,null,{"$f":"IF($H$2=\"G\",'Skills explications FTEM'!Q18,'Skills explications FTEM'!D18)","v":"DEFENSIF"},null,null,{"$f":"IF($H$2=\"G\",'Skills explications FTEM'!T18,'Skills explications FTEM'!G18)","v":"on peut compter dessus,  1:1, Gap, identification de l'homme"},null,null,{"$f":"IF($H$2=\"G\",'Skills explications FTEM'!W18,'Skills explications FTEM'!J18)","v":0}]
[{"$f":"'Skills explications FTEM'!A19:C19","v":"PERSONALITY"},null,null,"CAPACITE",null,null,"OBSERVATION",null,null,null,null,null,null,"Date1",null,"Date2",null,"Date3",null,"Date4",null,"Date5",null,"Player",null,"BUT","MESURES:\nSPECIFIQUE, MESURABLES, REALISTE",null,null,null,null,null,null,"DELAI","CONTRÔLE DU BUT","Date"]
[{"$f":"'Skills explications FTEM'!A20:C20","v":"PERSONALITÉ"},null,null,{"$f":"IF($H$2=\"G\",'Skills explications FTEM'!Q20,'Skills explications FTEM'!D20)","v":"MOTIVATION"},null,null,{"$f":"IF($H$2=\"G\",'Skills explications FTEM'!T20,'Skills explications FTEM'!G20)","v":"Est toujours motivé, veut sans cesse se développer et apprendre, veut être le premier et avoir du succès, n'abandonne jamais et ne se laisse pas influencer par les échecs"},null,null,{"$f":"IF($H$2=\"G\",'Skills explications FTEM'!W20,'Skills explications FTEM'!J20)","v":0},null,null,null,{"$f":"IFERROR(AVERAGE(O29:O32),\"-\")","v":"-"},null,null,null,{"$f":"IFERROR(AVERAGE(S29:S32),\"-\")","v":"-"},null,{"$f":"IFERROR(AVERAGE(U29:U32),\"-\")","v":"-"},null,{"$f":"IFERROR(AVERAGE(W29:W32),\"-\")","v":"-"},null,{"$f":"IFERROR(AVERAGE(Y29:Y32),\"-\")","v":"-"}]
[{"$f":"'Skills explications FTEM'!A21:C21","v":0},null,null,{"$f":"IF($H$2=\"G\",'Skills explications FTEM'!Q21,'Skills explications FTEM'!D21)","v":"CONFIENCE EN SOI"},null,null,{"$f":"IF($H$2=\"G\",'Skills explications FTEM'!T21,'Skills explications FTEM'!G21)","v":"Est en confiance, «I can do it», peut estimer ses capacités (connaît ses qualités et ses défauts), peut réaliser ses qualités avec constance, est courageux et prend des risques calculés"},null,null,{"$f":"IF($H$2=\"G\",'Skills explications FTEM'!W21,'Skills explications FTEM'!J21)","v":0}]
[{"$f":"'Skills explications FTEM'!A22:C22","v":0},null,null,{"$f":"IF($H$2=\"G\",'Skills explications FTEM'!Q22,'Skills explications FTEM'!D22)","v":"FACULTÉES D'APPRENTISSAGE"},null,null,{"$f":"IF($H$2=\"G\",'Skills explications FTEM'!T22,'Skills explications FTEM'!G22)","v":"A une bonne perception (il peut mémoriser et peut réaliser), il a de la personnalité, essaie d'apprendre de ses erreurs et est entreprenant"},null,null,{"$f":"IF($H$2=\"G\",'Skills explications FTEM'!W22,'Skills explications FTEM'!J22)","v":0}]
[{"$f":"'Skills explications FTEM'!A23:C23","v":0},null,null,{"$f":"IF($H$2=\"G\",'Skills explications FTEM'!Q23,'Skills explications FTEM'!D23)","v":"PERFORMANCE, STYLE DE VIE"},null,null,{"$f":"IF($H$2=\"G\",'Skills explications FTEM'!T23,'Skills explications FTEM'!G23)","v":"Gère bien son environnement et son temps libre selon les principes de la performance, obstiné, tenace et axé sur l'objectif, accent sur sa propre performance, est courageux et peut s'imposer contre de la résistance, les défis le motivent"},null,null,{"$f":"IF($H$2=\"G\",'Skills explications FTEM'!W23,'Skills explications FTEM'!J23)","v":0}]
[{"$f":"'Skills explications FTEM'!A24:C24","v":"POWER MENTAL"},null,null,{"$f":"IF($H$2=\"G\",'Skills explications FTEM'!Q24,'Skills explications FTEM'!D24)","v":"GESTION DES ÉNERGIES"},null,null,{"$f":"IF($H$2=\"G\",'Skills explications FTEM'!T24,'Skills explications FTEM'!G24)","v":"Peut-il gérer ses propres énergies, prend-il soin de sa régénération, peut-il gérer les moments où il faut se donner à fond ou quand il faut déconnecter, bouton On/Off"},null,null,{"$f":"IF($H$2=\"G\",'Skills explications FTEM'!W24,'Skills explications FTEM'!J24)","v":0},null,null,null,{"$f":"IFERROR(AVERAGE(O33:O36),\"-\")","v":"-"},null,null,null,{"$f":"IFERROR(AVERAGE(S33:S36),\"-\")","v":"-"},null,{"$f":"IFERROR(AVERAGE(U33:U36),\"-\")","v":"-"},null,{"$f":"IFERROR(AVERAGE(W33:W36),\"-\")","v":"-"},null,{"$f":"IFERROR(AVERAGE(Y33:Y36),\"-\")","v":"-"}]
[{"$f":"'Skills explications FTEM'!A25:C25","v":0},null,null,{"$f":"IF($H$2=\"G\",'Skills explications FTEM'!Q25,'Skills explications FTEM'!D25)","v":"ENGAGEMENT"},null,null,{"$f":"IF($H$2=\"G\",'Skills explications FTEM'!T25,'Skills explications FTEM'!G25)","v":"Démontre beaucoup d'intensité dans les entraînements et les matchs, donne toujours son maximum et veut sans cesse repousser ses limites, a-t-il de la passion, s'efforce-t-il de s'entraîner avec une excellente qualité"},null,null,{"$f":"IF($H$2=\"G\",'Skills explications FTEM'!W25,'Skills explications FTEM'!J25)","v":0}]
[{"$f":"'Skills explications FTEM'!A26:C26","v":0},null,null,{"$f":"IF($H$2=\"G\",'Skills explications FTEM'!Q26,'Skills explications FTEM'!D26)","v":"CONTRÔLE DES ÉMOTIONS"},null,null,{"$f":"IF($H$2=\"G\",'Skills explications FTEM'!T26,'Skills explications FTEM'!G26)","v":"Peut-il gérer ses propres émotions et impulsions, reste-t-il sous contrôle lorsqu'il y a une grande pression, peut-il rester calme lorsque le niveau émotionnel et de frustration est élevé"},null,null,{"$f":"IF($H$2=\"G\",'Skills explications FTEM'!W26,'Skills explications FTEM'!J26)","v":0}]
[{"$f":"'Skills explications FTEM'!A27:C27","v":0},null,null,{"$f":"IF($H$2=\"G\",'Skills explications FTEM'!Q27,'Skills explications FTEM'!D27)","v":"PRÉPARATION"},null,null,{"$f":"IF($H$2=\"G\",'Skills explications FTEM'!T27,'Skills explications FTEM'!G27)","v":"Se prépare-t-il toujours bien, mentalement et physiquement, se prépare-t-il toujours bien pour obtenir le niveau de performance idéal (ILZ)"},null,null,{"$f":"IF($H$2=\"G\",'Skills explications FTEM'!W27,'Skills explications FTEM'!J27)","v":0}]
[{"$f":"'Skills explications FTEM'!A28:C28","v":"PYHSE (Athletik)"},null,null,{"$f":"IF($H$2=\"G\",'Skills explications FTEM'!Q28,'Skills explications FTEM'!D28)","v":"PRODUCTION DE LA PERFORMANCE"},null,null,{"$f":"IF($H$2=\"G\",'Skills explications FTEM'!T28,'Skills explications FTEM'!G28)","v":"A-t-il la puissance, la force, la vitesse nécessaires dans les jambes et le haut du corps (facteurs neuromusculaires)"},null,null,{"$f":"IF($H$2=\"G\",'Skills explications FTEM'!W28,'Skills explications FTEM'!J28)","v":0},null,null,null,{"$f":"IFERROR(AVERAGE(O37:O40),\"-\")","v":"-"},null,null,null,{"$f":"IFERROR(AVERAGE(S37:S40),\"-\")","v":"-"},null,{"$f":"IFERROR(AVERAGE(U37:U40),\"-\")","v":"-"},null,{"$f":"IFERROR(AVERAGE(W37:W40),\"-\")","v":"-"},null,{"$f":"IFERROR(AVERAGE(Y37:Y40),\"-\")","v":"-"}]
[{"$f":"'Skills explications FTEM'!A29:C29","v":0},null,null,{"$f":"IF($H$2=\"G\",'Skills explications FTEM'!Q29,'Skills explications FTEM'!D29)","v":"SPÉCIFIQUE AU SPORT, RÉSISTANT À L'EFFORT"},null,null,{"$f":"IF($H$2=\"G\",'Skills explications FTEM'!T29,'Skills explications FTEM'!G29)","v":"Est-il capable de maintenir sa puissance, sa force, sa vitesse durant un long temps de glace et peut-il récupérer complètement entre ses engagements (facteurs du métabolisme et cardiovasculaire)"},null,null,{"$f":"IF($H$2=\"G\",'Skills explications FTEM'!W29,'Skills explications FTEM'!J29)","v":0}]
[{"$f":"'Skills explications FTEM'!A30:C30","v":0},null,null,{"$f":"IF($H$2=\"G\",'Skills explications FTEM'!Q30,'Skills explications FTEM'!D30)","v":"MOBILITÉ/ COODINATION"},null,null,{"$f":"IF($H$2=\"G\",'Skills explications FTEM'!T30,'Skills explications FTEM'!G30)","v":"Gère-t-il ses aptitudes de mouvements de base, qui sont un fournisseur important des fonctions spécifiques «Skills» pour être efficace"},null,null,{"$f":"IF($H$2=\"G\",'Skills explications FTEM'!W30,'Skills explications FTEM'!J30)","v":0}]
[{"$f":"'Skills explications FTEM'!A31:C31","v":0},null,null,{"$f":"IF($H$2=\"G\",'Skills explications FTEM'!Q31,'Skills explications FTEM'!D31)","v":"ROBUSTESSE / PREVENTION"},null,null,{"$f":"IF($H$2=\"G\",'Skills explications FTEM'!T31,'Skills explications FTEM'!G31)","v":"A-t-il la force de base nécessaire (tension corporelle) pour gagner des duels et résister aux charges, A-t-il la stabilité nécessaire (ex. ses appuis) et la mobilité nécessaire au niveau des articulations centrales"},null,null,{"$f":"IF($H$2=\"G\",'Skills explications FTEM'!W31,'Skills explications FTEM'!J31)","v":0}]

{"sheet":"26","index":29,"n_rows":40,"n_cols":36,"rows_kept":40,"cut":false,"hidden":false,"merged":[[36,25,39,25],[36,26,39,32],[36,34,39,34],[32,23,35,23],[33,3,33,5],[33,6,33,11],[35,3,35,5],[35,6,35,11],[32,0,35,2],[32,3,32,5],[32,6,32,11],[32,12,35,12],[32,13,35,13],[32,15,35,15],[36,0,39,2],[36,3,36,5],[36,6,36,11],[36,12,39,12],[36,23,39,23],[37,3,37,5],[37,6,37,11],[38,3,38,5],[38,6,38,11],[39,3,39,5],[27,21,27,22],[28,17,31,17],[28,19,31,19],[28,21,31,21],[29,3,29,5],[29,6,29,11],[30,3,30,5],[30,6,30,11],[32,17,35,17],[32,19,35,19],[32,21,35,21],[34,3,34,5],[34,6,34,11],[23,0,26,2],[23,3,23,5],[23,6,23,11],[23,12,26,12],[23,13,26,13],[23,15,26,15],[27,23,27,24],[27,26,27,32],[28,0,31,2],[28,3,28,5],[28,6,28,11],[28,12,31,12],[28,13,31,13],[28,15,31,15],[31,3,31,5],[31,6,31,11],[28,23,31,23],[27,0,27,2],[27,3,27,5],[27,6,27,11],[27,13,27,14],[27,15,27,16],[27,17,27,18],[27,19,27,20],[19,21,22,21],[19,23,22,23],[20,3,20,5],[20,6,20,11],[22,3,22,5],[22,6,22,11],[26,3,26,5],[26,6,26,11],[23,23,26,23],[23,17,26,17],[23,19,26,19],[23,21,26,21],[24,3,24,5],[24,6,24,11],[25,3,25,5],[25,6,25,11],[21,3,21,5],[21,6,21,11],[15,15,18,15],[15,17,18,17],[15,19,18,19],[15,21,18,21],[15,23,18,23],[18,3,18,5],[18,6,18,11],[19,0,22,2],[19,3,19,5],[19,6,19,11],[19,12,22,12],[19,13,22,13],[19,15,22,15],[19,17,22,17],[15,0,18,2],[15,3,15,5],[15,6,15,11],[15,12,18,12],[15,13,18,13],[16,3,16,5],[16,6,16,11],[17,3,17,5],[17,6,17,11],[19,19,22,19],[12,23,13,23],[13,3,13,5],[13,6,13,11],[14,0,14,2],[14,3,14,5],[14,6,14,11],[14,13,14,14],[14,15,14,16],[14,17,14,18],[14,19,14,20],[14,21,14,22],[14,23,14,24],[12,0,13,2],[12,3,12,5],[12,6,12,11],[12,12,13,12],[12,13,13,13],[12,15,13,15],[12,17,13,17],[12,19,13,19],[12,21,13,21],[11,0,11,2],[11,3,11,5],[11,13,11,14],[11,15,11,16],[11,17,11,18],[11,19,11,20],[11,21,11,22],[11,23,11,24],[11,26,11,32],[11,6,11,11],[0,33,0,35],[23,25,26,25],[23,26,26,32],[23,34,26,34],[28,25,31,25],[28,26,31,32],[28,34,31,34],[1,0,1,1],[1,2,1,5],[1,10,1,24],[2,0,2,1],[2,2,2,5],[2,11,2,24],[6,0,6,1],[6,2,6,35],[7,0,7,1],[7,2,7,35],[8,0,8,1],[8,2,8,35],[3,0,3,1],[3,10,3,24],[4,0,4,1],[4,2,4,5],[4,10,4,24],[39,6,39,11],[36,13,39,13],[36,15,39,15],[36,17,39,17],[36,19,39,19],[36,21,39,21],[0,0,0,24],[0,25,0,26],[0,27,0,32],[10,0,10,24],[10,25,10,35],[32,25,35,25],[32,26,35,32],[32,34,35,34],[12,25,13,25],[12,26,13,32],[12,34,13,34],[15,25,18,25],[15,26,18,32],[15,34,18,34],[19,25,22,25],[19,26,22,32],[19,34,22,34],[14,26,14,32]]}
["Infos personelles",null,null,null,null,null,null,null,null,null,null,null,null,null,null,null,null,null,null,null,null,null,null,null,null,"Predispositions",null,"Evaluations",null,null,null,null,null,"Rating"]
["PRENOM",null,{"$f":"IF(ISBLANK(VLOOKUP(26,Tabelle3[],3,0)),\"-\",VLOOKUP(26,Tabelle3[],3,0))","v":"-"},null,null,null,"POSITION",null,null,"ADRESSE",{"$f":"IF(ISBLANK(VLOOKUP(26,Tabelle3[],5,0)),\"-\",VLOOKUP(26,Tabelle3[],5,0))","v":"-"},null,null,null,null,null,null,null,null,null,null,null,null,null,null,"\"àage\" (Biologique/age relatif)",null,"Date 1",null,null,"cm",null,"Kg",null,"AUSGEZEICHNET",5]
["NOM",null,{"$f":"IF(ISBLANK(VLOOKUP(26,Tabelle3[],2,0)),\"-\",VLOOKUP(26,Tabelle3[],2,0))","v":"-"},null,null,null,"CANNE",null,null,"LIEU",{"$f":"IF(ISBLANK(VLOOKUP(26,Tabelle3[],7,0)),\"-\",VLOOKUP(26,Tabelle3[],7,0))","v":"-"},{"$f":"IF(ISBLANK(VLOOKUP(26,Tabelle3[],6,0)),\"-\",VLOOKUP(26,Tabelle3[],6,0))","v":"-"},null,null,null,null,null,null,null,null,null,null,null,null,null,"predispositions",null,"Date 2",null,null,"cm",null,"Kg",null,"GUT",4]
["DATE NAISS.",null,{"$f":"IF(ISBLANK(VLOOKUP(26,Tabelle3[],14,0)),\"-\",VLOOKUP(26,Tabelle3[],14,0))","v":"-"},{"$f":"IF(ISBLANK(VLOOKUP(26,Tabelle3[],15,0)),\"-\",VLOOKUP(26,Tabelle3[],15,0))","v":"-"},{"$f":"IF(ISBLANK(VLOOKUP(26,Tabelle3[],16,0)),\"-\",VLOOKUP(26,Tabelle3[],16,0))","v":"-"},null,"GRANDEUR",null,"cm","PHONE",{"$f":"IF(ISBLANK(VLOOKUP(26,Tabelle3[],8,0)),\"-\",VLOOKUP(26,Tabelle3[],8,0))","v":"-"},null,null,null,null,null,null,null,null,null,null,null,null,null,null,"Entourage",null,"Date 3",null,null,"cm",null,"Kg",null,"DURCHSCHNITT",3]
["SEXE",null,{"$f":"IF(ISBLANK(VLOOKUP(26,Tabelle3[],13,0)),\"-\",VLOOKUP(26,Tabelle3[],13,0))","v":"-"},null,null,null,"POIDS",null,"Kg","E-Mail",{"$f":"IF(ISBLANK(VLOOKUP(26,Tabelle3[],9,0)),\"-\",VLOOKUP(26,Tabelle3[],9,0))","v":"-"},null,null,null,null,null,null,null,null,null,null,null,null,null,null,null,null,"Date 4",null,null,"cm",null,"Kg",null,"MANGELHAFT",2]
[null,null,null,null,null,null,null,null,null,null,null,null,null,null,null,null,null,null,null,null,null,null,null,null,null,null,null,"Date 5",null,null,"cm",null,"Kg",null,"UNGENÜGEND",1]
["Vision",null,"xxx"]
["Next step",null,"xxx"]
["Profil du Joueur",null,"xxx"]
[]
["EVALUATION (COACH / JOUEUR)",null,null,null,null,null,null,null,null,null,null,null,null,null,null,null,null,null,null,null,null,null,null,null,null,"SMART"]
[{"$f":"'Skills explications FTEM'!A3:C3","v":"TEAM"},null,null,"CAPACITE",null,null,"OBSERVATION",null,null,null,null,null,"Final","Date1",null,"Date2",null,"Date3",null,"Date4",null,"Date5",null,"Player",null,"BUT","MESURES:\nSPECIFIQUE, MESURABLES, REALISTE",null,null,null,null,null,null,"DELAI","CONTRÔLE DU BUT","Date"]
[{"$f":"'Skills explications FTEM'!A4:C4","v":"ROLLE, SOZIAL"},null,null,{"$f":"IF($H$2=\"G\",'Skills explications FTEM'!Q4,'Skills explications FTEM'!D4)","v":"PENSER EQUIPE"},null,null,{"$f":"IF($H$2=\"G\",'Skills explications FTEM'!T4,'Skills explications FTEM'!G4)","v":"Identification au rôle, relation au cammarades (social, intégration)"},null,null,{"$f":"IF($H$2=\"G\",'Skills explications FTEM'!W4,'Skills explications FTEM'!J4)","v":0},null,null,null,{"$f":"IFERROR(AVERAGE(O13:O14),\"-\")","v":"-"},null,{"$f":"IFERROR(AVERAGE(Q13:Q14),\"-\")","v":"-"},null,{"$f":"IFERROR(AVERAGE(S13:S14),\"-\")","v":"-"},null,{"$f":"IFERROR(AVERAGE(U13:U14),\"-\")","v":"-"},null,{"$f":"IFERROR(AVERAGE(W13:W14),\"-\")","v":"-"},null,{"$f":"IFERROR(AVERAGE(Y13:Y14),\"-\")","v":"-"}]
[{"$f":"'Skills explications FTEM'!A5:C5","v":0},null,null,{"$f":"IF($H$2=\"G\",'Skills explications FTEM'!Q5,'Skills explications FTEM'!D5)","v":"LEADERSHIP"},null,null,{"$f":"IF($H$2=\"G\",'Skills explications FTEM'!T5,'Skills explications FTEM'!G5)","v":"prend des responsabilités, rend son coéquipier meilleur"},null,null,{"$f":"IF($H$2=\"G\",'Skills explications FTEM'!W5,'Skills explications FTEM'!J5)","v":0}]
[{"$f":"'Skills explications FTEM'!A6:C6","v":"ON ICE"},null,null,"CAPACITE",null,null,"OBSERVATION",null,null,null,null,null,null,"Date1",null,"Date2",null,"Date3",null,"Date4",null,"Date5",null,"Player",null,"BUT","MESURES:\nSPECIFIQUE, MESURABLES, REALISTE",null,null,null,null,null,null,"DELAI","CONTRÔLE DU BUT","Date"]
[{"$f":"'Skills explications FTEM'!A7:C7","v":"SKILL"},null,null,{"$f":"IF($H$2=\"G\",'Skills explications FTEM'!Q7,'Skills explications FTEM'!D7)","v":"TIR  (EFFET)"},null,null,{"$f":"IF($H$2=\"G\",'Skills explications FTEM'!T7,'Skills explications FTEM'!G7)","v":"Efficience (pas d'espace et de temps), variantes, degré de surprise (déclenchement rapide), précision, puissance (conclusion tactique)"},null,null,{"$f":"IF($H$2=\"G\",'Skills explications FTEM'!W7,'Skills explications FTEM'!J7)","v":0},null,null,null,{"$f":"IFERROR(AVERAGE(O16:O19),\"-\")","v":"-"},null,{"$f":"IFERROR(AVERAGE(Q16:Q19),\"-\")","v":"-"},null,{"$f":"IFERROR(AVERAGE(S16:S19),\"-\")","v":"-"},null,{"$f":"IFERROR(AVERAGE(U16:U19),\"-\")","v":"-"},null,{"$f":"IFERROR(AVERAGE(W16:W19),\"-\")","v":"-"},null,{"$f":"IFERROR(AVERAGE(Y16:Y19),\"-\")","v":"-"}]
[{"$f":"'Skills explications FTEM'!A8:C8","v":0},null,null,{"$f":"IF($H$2=\"G\",'Skills explications FTEM'!Q8,'Skills explications FTEM'!D8)","v":"PASSER"},null,null,{"$f":"IF($H$2=\"G\",'Skills explications FTEM'!T8,'Skills explications FTEM'!G8)","v":"Donne la passe (distance, passe flipée en revers), réception de la passe (précision, timing, coup droit, revers, patins), vitesse du puck"},null,null,{"$f":"IF($H$2=\"G\",'Skills explications FTEM'!W8,'Skills explications FTEM'!J8)","v":0}]
[{"$f":"'Skills explications FTEM'!A9:C9","v":0},null,null,{"$f":"IF($H$2=\"G\",'Skills explications FTEM'!Q9,'Skills explications FTEM'!D9)","v":"JEU DU CORPS"},null,null,{"$f":"IF($H$2=\"G\",'Skills explications FTEM'!T9,'Skills explications FTEM'!G9)","v":"Faculté de s'imposer physiquement, duels (sur la surface de glace ou à la bande), prendre des checks, lever la tête, niveau de lutte, dur mais correct, bloquer les tirs avec le corps"},null,null,{"$f":"IF($H$2=\"G\",'Skills explications FTEM'!W9,'Skills explications FTEM'!J9)","v":0},null,null,null,{"$f":"IFERROR(AVERAGE(O18:O19),\"-\")","v":"-"},null,{"$f":"IFERROR(AVERAGE(Q18:Q19),\"-\")","v":"-"},null,{"$f":"IFERROR(AVERAGE(S18:S19),\"-\")","v":"-"},null,{"$f":"IFERROR(AVERAGE(U18:U19),\"-\")","v":"-"},null,{"$f":"IFERROR(AVERAGE(W18:W19),\"-\")","v":"-"},null,"-"]
[{"$f":"'Skills explications FTEM'!A10:C10","v":0},null,null,{"$f":"IF($H$2=\"G\",'Skills explications FTEM'!Q10,'Skills explications FTEM'!D10)","v":"CONTRÔLE DU PUCK"},null,null,{"$f":"IF($H$2=\"G\",'Skills explications FTEM'!T10,'Skills explications FTEM'!G10)","v":"Contrôle du puck, dribbling, protection du puck, feintes (variantes: avec les patins ou avec et sans la bande), mise au jeu (bully)"},null,null,{"$f":"IF($H$2=\"G\",'Skills explications FTEM'!W10,'Skills explications FTEM'!J10)","v":0}]
[{"$f":"'Skills explications FTEM'!A11:C11","v":"SKATING"},null,null,{"$f":"IF($H$2=\"G\",'Skills explications FTEM'!Q11,'Skills explications FTEM'!D11)","v":"FOOTSPEED"},null,null,{"$f":"IF($H$2=\"G\",'Skills explications FTEM'!T11,'Skills explications FTEM'!G11)","v":"Accélération, départ, explosivité des 3 premiers pas, fréquence"},null,null,{"$f":"IF($H$2=\"G\",'Skills explications FTEM'!W11,'Skills explications FTEM'!J11)","v":0},null,null,null,{"$f":"IFERROR(AVERAGE(O20:O23),\"-\")","v":"-"},null,{"$f":"IFERROR(AVERAGE(Q20:Q23),\"-\")","v":"-"},null,{"$f":"IFERROR(AVERAGE(S20:S23),\"-\")","v":"-"},null,{"$f":"IFERROR(AVERAGE(U20:U23),\"-\")","v":"-"},null,{"$f":"IFERROR(AVERAGE(W20:W23),\"-\")","v":"-"},null,{"$f":"IFERROR(AVERAGE(Y20:Y23),\"-\")","v":"-"}]
[{"$f":"'Skills explications FTEM'!A12:C12","v":0},null,null,{"$f":"IF($H$2=\"G\",'Skills explications FTEM'!Q12,'Skills explications FTEM'!D12)","v":"MOBILITE"},null,null,{"$f":"IF($H$2=\"G\",'Skills explications FTEM'!T12,'Skills explications FTEM'!G12)","v":"Changements de direction, pivots, stop et start «Nummelin»"},null,null,{"$f":"IF($H$2=\"G\",'Skills explications FTEM'!W12,'Skills explications FTEM'!J12)","v":0}]
[{"$f":"'Skills explications FTEM'!A13:C13","v":0},null,null,{"$f":"IF($H$2=\"G\",'Skills explications FTEM'!Q13,'Skills explications FTEM'!D13)","v":"PATTINAGE ARRIÈRE"},null,null,{"$f":"IF($H$2=\"G\",'Skills explications FTEM'!T13,'Skills explications FTEM'!G13)","v":"Accélération, vitesse, équilibre"},null,null,{"$f":"IF($H$2=\"G\",'Skills explications FTEM'!W13,'Skills explications FTEM'!J13)","v":0}]
[{"$f":"'Skills explications FTEM'!A14:C14","v":0},null,null,{"$f":"IF($H$2=\"G\",'Skills explications FTEM'!Q14,'Skills explications FTEM'!D14)","v":"TOP SPEED"},null,null,{"$f":"IF($H$2=\"G\",'Skills explications FTEM'!T14,'Skills explications FTEM'!G14)","v":"Vitesse, faculté de glisse, avant et arrière, économie des forces"},null,null,{"$f":"IF($H$2=\"G\",'Skills explications FTEM'!W14,'Skills explications FTEM'!J14)","v":0}]
[{"$f":"'Skills explications FTEM'!A15:C15","v":"HOCKEY SENSE"},null,null,{"$f":"IF($H$2=\"G\",'Skills explications FTEM'!Q15,'Skills explications FTEM'!D15)","v":"SCORING"},null,null,{"$f":"IF($H$2=\"G\",'Skills explications FTEM'!T15,'Skills explications FTEM'!G15)","v":"Efficience, richesse des variantes, surpenant, vite, variante de tirs"},null,null,{"$f":"IF($H$2=\"G\",'Skills explications FTEM'!W15,'Skills explications FTEM'!J15)","v":0},null,null,null,{"$f":"IFERROR(AVERAGE(O24:O27),\"-\")","v":"-"},null,{"$f":"IFERROR(AVERAGE(Q24:Q27),\"-\")","v":"-"},null,{"$f":"IFERROR(AVERAGE(S24:S27),\"-\")","v":"-"},null,{"$f":"IFERROR(AVERAGE(U24:U27),\"-\")","v":"-"},null,{"$f":"IFERROR(AVERAGE(W24:W27),\"-\")","v":"-"},null,{"$f":"IFERROR(AVERAGE(Y24:Y27),\"-\")","v":"-"}]
[{"$f":"'Skills explications FTEM'!A16:C16","v":0},null,null,{"$f":"IF($H$2=\"G\",'Skills explications FTEM'!Q16,'Skills explications FTEM'!D16)","v":"AVEC PUCK"},null,null,{"$f":"IF($H$2=\"G\",'Skills explications FTEM'!T16,'Skills explications FTEM'!G16)","v":"créatif,  performing, batteling, fou, transition"},null,null,{"$f":"IF($H$2=\"G\",'Skills explications FTEM'!W16,'Skills explications FTEM'!J16)","v":0}]
[{"$f":"'Skills explications FTEM'!A17:C17","v":0},null,null,{"$f":"IF($H$2=\"G\",'Skills explications FTEM'!Q17,'Skills explications FTEM'!D17)","v":"SANS PUCK"},null,null,{"$f":"IF($H$2=\"G\",'Skills explications FTEM'!T17,'Skills explications FTEM'!G17)","v":"ouvert pour un passe (Support), 1:1, Gap"},null,null,{"$f":"IF($H$2=\"G\",'Skills explications FTEM'!W17,'Skills explications FTEM'!J17)","v":0}]
[{"$f":"'Skills explications FTEM'!A18:C18","v":0},null,null,{"$f":"IF($H$2=\"G\",'Skills explications FTEM'!Q18,'Skills explications FTEM'!D18)","v":"DEFENSIF"},null,null,{"$f":"IF($H$2=\"G\",'Skills explications FTEM'!T18,'Skills explications FTEM'!G18)","v":"on peut compter dessus,  1:1, Gap, identification de l'homme"},null,null,{"$f":"IF($H$2=\"G\",'Skills explications FTEM'!W18,'Skills explications FTEM'!J18)","v":0}]
[{"$f":"'Skills explications FTEM'!A19:C19","v":"PERSONALITY"},null,null,"CAPACITE",null,null,"OBSERVATION",null,null,null,null,null,null,"Date1",null,"Date2",null,"Date3",null,"Date4",null,"Date5",null,"Player",null,"BUT","MESURES:\nSPECIFIQUE, MESURABLES, REALISTE",null,null,null,null,null,null,"DELAI","CONTRÔLE DU BUT","Date"]
[{"$f":"'Skills explications FTEM'!A20:C20","v":"PERSONALITÉ"},null,null,{"$f":"IF($H$2=\"G\",'Skills explications FTEM'!Q20,'Skills explications FTEM'!D20)","v":"MOTIVATION"},null,null,{"$f":"IF($H$2=\"G\",'Skills explications FTEM'!T20,'Skills explications FTEM'!G20)","v":"Est toujours motivé, veut sans cesse se développer et apprendre, veut être le premier et avoir du succès, n'abandonne jamais et ne se laisse pas influencer par les échecs"},null,null,{"$f":"IF($H$2=\"G\",'Skills explications FTEM'!W20,'Skills explications FTEM'!J20)","v":0},null,null,null,{"$f":"IFERROR(AVERAGE(O29:O32),\"-\")","v":"-"},null,null,null,{"$f":"IFERROR(AVERAGE(S29:S32),\"-\")","v":"-"},null,{"$f":"IFERROR(AVERAGE(U29:U32),\"-\")","v":"-"},null,{"$f":"IFERROR(AVERAGE(W29:W32),\"-\")","v":"-"},null,{"$f":"IFERROR(AVERAGE(Y29:Y32),\"-\")","v":"-"}]
[{"$f":"'Skills explications FTEM'!A21:C21","v":0},null,null,{"$f":"IF($H$2=\"G\",'Skills explications FTEM'!Q21,'Skills explications FTEM'!D21)","v":"CONFIENCE EN SOI"},null,null,{"$f":"IF($H$2=\"G\",'Skills explications FTEM'!T21,'Skills explications FTEM'!G21)","v":"Est en confiance, «I can do it», peut estimer ses capacités (connaît ses qualités et ses défauts), peut réaliser ses qualités avec constance, est courageux et prend des risques calculés"},null,null,{"$f":"IF($H$2=\"G\",'Skills explications FTEM'!W21,'Skills explications FTEM'!J21)","v":0}]
[{"$f":"'Skills explications FTEM'!A22:C22","v":0},null,null,{"$f":"IF($H$2=\"G\",'Skills explications FTEM'!Q22,'Skills explications FTEM'!D22)","v":"FACULTÉES D'APPRENTISSAGE"},null,null,{"$f":"IF($H$2=\"G\",'Skills explications FTEM'!T22,'Skills explications FTEM'!G22)","v":"A une bonne perception (il peut mémoriser et peut réaliser), il a de la personnalité, essaie d'apprendre de ses erreurs et est entreprenant"},null,null,{"$f":"IF($H$2=\"G\",'Skills explications FTEM'!W22,'Skills explications FTEM'!J22)","v":0}]
[{"$f":"'Skills explications FTEM'!A23:C23","v":0},null,null,{"$f":"IF($H$2=\"G\",'Skills explications FTEM'!Q23,'Skills explications FTEM'!D23)","v":"PERFORMANCE, STYLE DE VIE"},null,null,{"$f":"IF($H$2=\"G\",'Skills explications FTEM'!T23,'Skills explications FTEM'!G23)","v":"Gère bien son environnement et son temps libre selon les principes de la performance, obstiné, tenace et axé sur l'objectif, accent sur sa propre performance, est courageux et peut s'imposer contre de la résistance, les défis le motivent"},null,null,{"$f":"IF($H$2=\"G\",'Skills explications FTEM'!W23,'Skills explications FTEM'!J23)","v":0}]
[{"$f":"'Skills explications FTEM'!A24:C24","v":"POWER MENTAL"},null,null,{"$f":"IF($H$2=\"G\",'Skills explications FTEM'!Q24,'Skills explications FTEM'!D24)","v":"GESTION DES ÉNERGIES"},null,null,{"$f":"IF($H$2=\"G\",'Skills explications FTEM'!T24,'Skills explications FTEM'!G24)","v":"Peut-il gérer ses propres énergies, prend-il soin de sa régénération, peut-il gérer les moments où il faut se donner à fond ou quand il faut déconnecter, bouton On/Off"},null,null,{"$f":"IF($H$2=\"G\",'Skills explications FTEM'!W24,'Skills explications FTEM'!J24)","v":0},null,null,null,{"$f":"IFERROR(AVERAGE(O33:O36),\"-\")","v":"-"},null,null,null,{"$f":"IFERROR(AVERAGE(S33:S36),\"-\")","v":"-"},null,{"$f":"IFERROR(AVERAGE(U33:U36),\"-\")","v":"-"},null,{"$f":"IFERROR(AVERAGE(W33:W36),\"-\")","v":"-"},null,{"$f":"IFERROR(AVERAGE(Y33:Y36),\"-\")","v":"-"}]
[{"$f":"'Skills explications FTEM'!A25:C25","v":0},null,null,{"$f":"IF($H$2=\"G\",'Skills explications FTEM'!Q25,'Skills explications FTEM'!D25)","v":"ENGAGEMENT"},null,null,{"$f":"IF($H$2=\"G\",'Skills explications FTEM'!T25,'Skills explications FTEM'!G25)","v":"Démontre beaucoup d'intensité dans les entraînements et les matchs, donne toujours son maximum et veut sans cesse repousser ses limites, a-t-il de la passion, s'efforce-t-il de s'entraîner avec une excellente qualité"},null,null,{"$f":"IF($H$2=\"G\",'Skills explications FTEM'!W25,'Skills explications FTEM'!J25)","v":0}]
[{"$f":"'Skills explications FTEM'!A26:C26","v":0},null,null,{"$f":"IF($H$2=\"G\",'Skills explications FTEM'!Q26,'Skills explications FTEM'!D26)","v":"CONTRÔLE DES ÉMOTIONS"},null,null,{"$f":"IF($H$2=\"G\",'Skills explications FTEM'!T26,'Skills explications FTEM'!G26)","v":"Peut-il gérer ses propres émotions et impulsions, reste-t-il sous contrôle lorsqu'il y a une grande pression, peut-il rester calme lorsque le niveau émotionnel et de frustration est élevé"},null,null,{"$f":"IF($H$2=\"G\",'Skills explications FTEM'!W26,'Skills explications FTEM'!J26)","v":0}]
[{"$f":"'Skills explications FTEM'!A27:C27","v":0},null,null,{"$f":"IF($H$2=\"G\",'Skills explications FTEM'!Q27,'Skills explications FTEM'!D27)","v":"PRÉPARATION"},null,null,{"$f":"IF($H$2=\"G\",'Skills explications FTEM'!T27,'Skills explications FTEM'!G27)","v":"Se prépare-t-il toujours bien, mentalement et physiquement, se prépare-t-il toujours bien pour obtenir le niveau de performance idéal (ILZ)"},null,null,{"$f":"IF($H$2=\"G\",'Skills explications FTEM'!W27,'Skills explications FTEM'!J27)","v":0}]
[{"$f":"'Skills explications FTEM'!A28:C28","v":"PYHSE (Athletik)"},null,null,{"$f":"IF($H$2=\"G\",'Skills explications FTEM'!Q28,'Skills explications FTEM'!D28)","v":"PRODUCTION DE LA PERFORMANCE"},null,null,{"$f":"IF($H$2=\"G\",'Skills explications FTEM'!T28,'Skills explications FTEM'!G28)","v":"A-t-il la puissance, la force, la vitesse nécessaires dans les jambes et le haut du corps (facteurs neuromusculaires)"},null,null,{"$f":"IF($H$2=\"G\",'Skills explications FTEM'!W28,'Skills explications FTEM'!J28)","v":0},null,null,null,{"$f":"IFERROR(AVERAGE(O37:O40),\"-\")","v":"-"},null,null,null,{"$f":"IFERROR(AVERAGE(S37:S40),\"-\")","v":"-"},null,{"$f":"IFERROR(AVERAGE(U37:U40),\"-\")","v":"-"},null,{"$f":"IFERROR(AVERAGE(W37:W40),\"-\")","v":"-"},null,{"$f":"IFERROR(AVERAGE(Y37:Y40),\"-\")","v":"-"}]
[{"$f":"'Skills explications FTEM'!A29:C29","v":0},null,null,{"$f":"IF($H$2=\"G\",'Skills explications FTEM'!Q29,'Skills explications FTEM'!D29)","v":"SPÉCIFIQUE AU SPORT, RÉSISTANT À L'EFFORT"},null,null,{"$f":"IF($H$2=\"G\",'Skills explications FTEM'!T29,'Skills explications FTEM'!G29)","v":"Est-il capable de maintenir sa puissance, sa force, sa vitesse durant un long temps de glace et peut-il récupérer complètement entre ses engagements (facteurs du métabolisme et cardiovasculaire)"},null,null,{"$f":"IF($H$2=\"G\",'Skills explications FTEM'!W29,'Skills explications FTEM'!J29)","v":0}]
[{"$f":"'Skills explications FTEM'!A30:C30","v":0},null,null,{"$f":"IF($H$2=\"G\",'Skills explications FTEM'!Q30,'Skills explications FTEM'!D30)","v":"MOBILITÉ/ COODINATION"},null,null,{"$f":"IF($H$2=\"G\",'Skills explications FTEM'!T30,'Skills explications FTEM'!G30)","v":"Gère-t-il ses aptitudes de mouvements de base, qui sont un fournisseur important des fonctions spécifiques «Skills» pour être efficace"},null,null,{"$f":"IF($H$2=\"G\",'Skills explications FTEM'!W30,'Skills explications FTEM'!J30)","v":0}]
[{"$f":"'Skills explications FTEM'!A31:C31","v":0},null,null,{"$f":"IF($H$2=\"G\",'Skills explications FTEM'!Q31,'Skills explications FTEM'!D31)","v":"ROBUSTESSE / PREVENTION"},null,null,{"$f":"IF($H$2=\"G\",'Skills explications FTEM'!T31,'Skills explications FTEM'!G31)","v":"A-t-il la force de base nécessaire (tension corporelle) pour gagner des duels et résister aux charges, A-t-il la stabilité nécessaire (ex. ses appuis) et la mobilité nécessaire au niveau des articulations centrales"},null,null,{"$f":"IF($H$2=\"G\",'Skills explications FTEM'!W31,'Skills explications FTEM'!J31)","v":0}]

{"sheet":"27","index":30,"n_rows":40,"n_cols":36,"rows_kept":40,"cut":false,"hidden":false,"merged":[[36,25,39,25],[36,26,39,32],[36,34,39,34],[32,23,35,23],[33,3,33,5],[33,6,33,11],[35,3,35,5],[35,6,35,11],[32,0,35,2],[32,3,32,5],[32,6,32,11],[32,12,35,12],[32,13,35,13],[32,15,35,15],[36,0,39,2],[36,3,36,5],[36,6,36,11],[36,12,39,12],[36,23,39,23],[37,3,37,5],[37,6,37,11],[38,3,38,5],[38,6,38,11],[39,3,39,5],[27,21,27,22],[28,17,31,17],[28,19,31,19],[28,21,31,21],[29,3,29,5],[29,6,29,11],[30,3,30,5],[30,6,30,11],[32,17,35,17],[32,19,35,19],[32,21,35,21],[34,3,34,5],[34,6,34,11],[23,0,26,2],[23,3,23,5],[23,6,23,11],[23,12,26,12],[23,13,26,13],[23,15,26,15],[27,23,27,24],[27,26,27,32],[28,0,31,2],[28,3,28,5],[28,6,28,11],[28,12,31,12],[28,13,31,13],[28,15,31,15],[31,3,31,5],[31,6,31,11],[28,23,31,23],[27,0,27,2],[27,3,27,5],[27,6,27,11],[27,13,27,14],[27,15,27,16],[27,17,27,18],[27,19,27,20],[19,21,22,21],[19,23,22,23],[20,3,20,5],[20,6,20,11],[22,3,22,5],[22,6,22,11],[26,3,26,5],[26,6,26,11],[23,23,26,23],[23,17,26,17],[23,19,26,19],[23,21,26,21],[24,3,24,5],[24,6,24,11],[25,3,25,5],[25,6,25,11],[21,3,21,5],[21,6,21,11],[15,15,18,15],[15,17,18,17],[15,19,18,19],[15,21,18,21],[15,23,18,23],[18,3,18,5],[18,6,18,11],[19,0,22,2],[19,3,19,5],[19,6,19,11],[19,12,22,12],[19,13,22,13],[19,15,22,15],[19,17,22,17],[15,0,18,2],[15,3,15,5],[15,6,15,11],[15,12,18,12],[15,13,18,13],[16,3,16,5],[16,6,16,11],[17,3,17,5],[17,6,17,11],[19,19,22,19],[12,23,13,23],[13,3,13,5],[13,6,13,11],[14,0,14,2],[14,3,14,5],[14,6,14,11],[14,13,14,14],[14,15,14,16],[14,17,14,18],[14,19,14,20],[14,21,14,22],[14,23,14,24],[12,0,13,2],[12,3,12,5],[12,6,12,11],[12,12,13,12],[12,13,13,13],[12,15,13,15],[12,17,13,17],[12,19,13,19],[12,21,13,21],[11,0,11,2],[11,3,11,5],[11,13,11,14],[11,15,11,16],[11,17,11,18],[11,19,11,20],[11,21,11,22],[11,23,11,24],[11,26,11,32],[11,6,11,11],[0,33,0,35],[23,25,26,25],[23,26,26,32],[23,34,26,34],[28,25,31,25],[28,26,31,32],[28,34,31,34],[1,0,1,1],[1,2,1,5],[1,10,1,24],[2,0,2,1],[2,2,2,5],[2,11,2,24],[6,0,6,1],[6,2,6,35],[7,0,7,1],[7,2,7,35],[8,0,8,1],[8,2,8,35],[3,0,3,1],[3,10,3,24],[4,0,4,1],[4,2,4,5],[4,10,4,24],[39,6,39,11],[36,13,39,13],[36,15,39,15],[36,17,39,17],[36,19,39,19],[36,21,39,21],[0,0,0,24],[0,25,0,26],[0,27,0,32],[10,0,10,24],[10,25,10,35],[32,25,35,25],[32,26,35,32],[32,34,35,34],[12,25,13,25],[12,26,13,32],[12,34,13,34],[15,25,18,25],[15,26,18,32],[15,34,18,34],[19,25,22,25],[19,26,22,32],[19,34,22,34],[14,26,14,32]]}
["Infos personelles",null,null,null,null,null,null,null,null,null,null,null,null,null,null,null,null,null,null,null,null,null,null,null,null,"Predispositions",null,"Evaluations",null,null,null,null,null,"Rating"]
["PRENOM",null,{"$f":"IF(ISBLANK(VLOOKUP(27,Tabelle3[],3,0)),\"-\",VLOOKUP(27,Tabelle3[],3,0))","v":"-"},null,null,null,"POSITION",null,null,"ADRESSE",{"$f":"IF(ISBLANK(VLOOKUP(27,Tabelle3[],5,0)),\"-\",VLOOKUP(27,Tabelle3[],5,0))","v":"-"},null,null,null,null,null,null,null,null,null,null,null,null,null,null,"\"àage\" (Biologique/age relatif)",null,"Date 1",null,null,"cm",null,"Kg",null,"AUSGEZEICHNET",5]
["NOM",null,{"$f":"IF(ISBLANK(VLOOKUP(27,Tabelle3[],2,0)),\"-\",VLOOKUP(27,Tabelle3[],2,0))","v":"-"},null,null,null,"CANNE",null,null,"LIEU",{"$f":"IF(ISBLANK(VLOOKUP(27,Tabelle3[],7,0)),\"-\",VLOOKUP(27,Tabelle3[],7,0))","v":"-"},{"$f":"IF(ISBLANK(VLOOKUP(27,Tabelle3[],6,0)),\"-\",VLOOKUP(27,Tabelle3[],6,0))","v":"-"},null,null,null,null,null,null,null,null,null,null,null,null,null,"predispositions",null,"Date 2",null,null,"cm",null,"Kg",null,"GUT",4]
["DATE NAISS.",null,{"$f":"IF(ISBLANK(VLOOKUP(27,Tabelle3[],14,0)),\"-\",VLOOKUP(27,Tabelle3[],14,0))","v":"-"},{"$f":"IF(ISBLANK(VLOOKUP(27,Tabelle3[],15,0)),\"-\",VLOOKUP(27,Tabelle3[],15,0))","v":"-"},{"$f":"IF(ISBLANK(VLOOKUP(27,Tabelle3[],16,0)),\"-\",VLOOKUP(27,Tabelle3[],16,0))","v":"-"},null,"GRANDEUR",null,"cm","PHONE",{"$f":"IF(ISBLANK(VLOOKUP(27,Tabelle3[],8,0)),\"-\",VLOOKUP(27,Tabelle3[],8,0))","v":"-"},null,null,null,null,null,null,null,null,null,null,null,null,null,null,"Entourage",null,"Date 3",null,null,"cm",null,"Kg",null,"DURCHSCHNITT",3]
["SEXE",null,{"$f":"IF(ISBLANK(VLOOKUP(27,Tabelle3[],13,0)),\"-\",VLOOKUP(27,Tabelle3[],13,0))","v":"-"},null,null,null,"POIDS",null,"Kg","E-Mail",{"$f":"IF(ISBLANK(VLOOKUP(27,Tabelle3[],9,0)),\"-\",VLOOKUP(27,Tabelle3[],9,0))","v":"-"},null,null,null,null,null,null,null,null,null,null,null,null,null,null,null,null,"Date 4",null,null,"cm",null,"Kg",null,"MANGELHAFT",2]
[null,null,null,null,null,null,null,null,null,null,null,null,null,null,null,null,null,null,null,null,null,null,null,null,null,null,null,"Date 5",null,null,"cm",null,"Kg",null,"UNGENÜGEND",1]
["Vision",null,"xxx"]
["Next step",null,"xxx"]
["Profil du Joueur",null,"xxx"]
[]
["EVALUATION (COACH / JOUEUR)",null,null,null,null,null,null,null,null,null,null,null,null,null,null,null,null,null,null,null,null,null,null,null,null,"SMART"]
[{"$f":"'Skills explications FTEM'!A3:C3","v":"TEAM"},null,null,"CAPACITE",null,null,"OBSERVATION",null,null,null,null,null,"Final","Date1",null,"Date2",null,"Date3",null,"Date4",null,"Date5",null,"Player",null,"BUT","MESURES:\nSPECIFIQUE, MESURABLES, REALISTE",null,null,null,null,null,null,"DELAI","CONTRÔLE DU BUT","Date"]
[{"$f":"'Skills explications FTEM'!A4:C4","v":"ROLLE, SOZIAL"},null,null,{"$f":"IF($H$2=\"G\",'Skills explications FTEM'!Q4,'Skills explications FTEM'!D4)","v":"PENSER EQUIPE"},null,null,{"$f":"IF($H$2=\"G\",'Skills explications FTEM'!T4,'Skills explications FTEM'!G4)","v":"Identification au rôle, relation au cammarades (social, intégration)"},null,null,{"$f":"IF($H$2=\"G\",'Skills explications FTEM'!W4,'Skills explications FTEM'!J4)","v":0},null,null,null,{"$f":"IFERROR(AVERAGE(O13:O14),\"-\")","v":"-"},null,{"$f":"IFERROR(AVERAGE(Q13:Q14),\"-\")","v":"-"},null,{"$f":"IFERROR(AVERAGE(S13:S14),\"-\")","v":"-"},null,{"$f":"IFERROR(AVERAGE(U13:U14),\"-\")","v":"-"},null,{"$f":"IFERROR(AVERAGE(W13:W14),\"-\")","v":"-"},null,{"$f":"IFERROR(AVERAGE(Y13:Y14),\"-\")","v":"-"}]
[{"$f":"'Skills explications FTEM'!A5:C5","v":0},null,null,{"$f":"IF($H$2=\"G\",'Skills explications FTEM'!Q5,'Skills explications FTEM'!D5)","v":"LEADERSHIP"},null,null,{"$f":"IF($H$2=\"G\",'Skills explications FTEM'!T5,'Skills explications FTEM'!G5)","v":"prend des responsabilités, rend son coéquipier meilleur"},null,null,{"$f":"IF($H$2=\"G\",'Skills explications FTEM'!W5,'Skills explications FTEM'!J5)","v":0}]
[{"$f":"'Skills explications FTEM'!A6:C6","v":"ON ICE"},null,null,"CAPACITE",null,null,"OBSERVATION",null,null,null,null,null,null,"Date1",null,"Date2",null,"Date3",null,"Date4",null,"Date5",null,"Player",null,"BUT","MESURES:\nSPECIFIQUE, MESURABLES, REALISTE",null,null,null,null,null,null,"DELAI","CONTRÔLE DU BUT","Date"]
[{"$f":"'Skills explications FTEM'!A7:C7","v":"SKILL"},null,null,{"$f":"IF($H$2=\"G\",'Skills explications FTEM'!Q7,'Skills explications FTEM'!D7)","v":"TIR  (EFFET)"},null,null,{"$f":"IF($H$2=\"G\",'Skills explications FTEM'!T7,'Skills explications FTEM'!G7)","v":"Efficience (pas d'espace et de temps), variantes, degré de surprise (déclenchement rapide), précision, puissance (conclusion tactique)"},null,null,{"$f":"IF($H$2=\"G\",'Skills explications FTEM'!W7,'Skills explications FTEM'!J7)","v":0},null,null,null,{"$f":"IFERROR(AVERAGE(O16:O19),\"-\")","v":"-"},null,{"$f":"IFERROR(AVERAGE(Q16:Q19),\"-\")","v":"-"},null,{"$f":"IFERROR(AVERAGE(S16:S19),\"-\")","v":"-"},null,{"$f":"IFERROR(AVERAGE(U16:U19),\"-\")","v":"-"},null,{"$f":"IFERROR(AVERAGE(W16:W19),\"-\")","v":"-"},null,{"$f":"IFERROR(AVERAGE(Y16:Y19),\"-\")","v":"-"}]
[{"$f":"'Skills explications FTEM'!A8:C8","v":0},null,null,{"$f":"IF($H$2=\"G\",'Skills explications FTEM'!Q8,'Skills explications FTEM'!D8)","v":"PASSER"},null,null,{"$f":"IF($H$2=\"G\",'Skills explications FTEM'!T8,'Skills explications FTEM'!G8)","v":"Donne la passe (distance, passe flipée en revers), réception de la passe (précision, timing, coup droit, revers, patins), vitesse du puck"},null,null,{"$f":"IF($H$2=\"G\",'Skills explications FTEM'!W8,'Skills explications FTEM'!J8)","v":0}]
[{"$f":"'Skills explications FTEM'!A9:C9","v":0},null,null,{"$f":"IF($H$2=\"G\",'Skills explications FTEM'!Q9,'Skills explications FTEM'!D9)","v":"JEU DU CORPS"},null,null,{"$f":"IF($H$2=\"G\",'Skills explications FTEM'!T9,'Skills explications FTEM'!G9)","v":"Faculté de s'imposer physiquement, duels (sur la surface de glace ou à la bande), prendre des checks, lever la tête, niveau de lutte, dur mais correct, bloquer les tirs avec le corps"},null,null,{"$f":"IF($H$2=\"G\",'Skills explications FTEM'!W9,'Skills explications FTEM'!J9)","v":0},null,null,null,{"$f":"IFERROR(AVERAGE(O18:O19),\"-\")","v":"-"},null,{"$f":"IFERROR(AVERAGE(Q18:Q19),\"-\")","v":"-"},null,{"$f":"IFERROR(AVERAGE(S18:S19),\"-\")","v":"-"},null,{"$f":"IFERROR(AVERAGE(U18:U19),\"-\")","v":"-"},null,{"$f":"IFERROR(AVERAGE(W18:W19),\"-\")","v":"-"},null,"-"]
[{"$f":"'Skills explications FTEM'!A10:C10","v":0},null,null,{"$f":"IF($H$2=\"G\",'Skills explications FTEM'!Q10,'Skills explications FTEM'!D10)","v":"CONTRÔLE DU PUCK"},null,null,{"$f":"IF($H$2=\"G\",'Skills explications FTEM'!T10,'Skills explications FTEM'!G10)","v":"Contrôle du puck, dribbling, protection du puck, feintes (variantes: avec les patins ou avec et sans la bande), mise au jeu (bully)"},null,null,{"$f":"IF($H$2=\"G\",'Skills explications FTEM'!W10,'Skills explications FTEM'!J10)","v":0}]
[{"$f":"'Skills explications FTEM'!A11:C11","v":"SKATING"},null,null,{"$f":"IF($H$2=\"G\",'Skills explications FTEM'!Q11,'Skills explications FTEM'!D11)","v":"FOOTSPEED"},null,null,{"$f":"IF($H$2=\"G\",'Skills explications FTEM'!T11,'Skills explications FTEM'!G11)","v":"Accélération, départ, explosivité des 3 premiers pas, fréquence"},null,null,{"$f":"IF($H$2=\"G\",'Skills explications FTEM'!W11,'Skills explications FTEM'!J11)","v":0},null,null,null,{"$f":"IFERROR(AVERAGE(O20:O23),\"-\")","v":"-"},null,{"$f":"IFERROR(AVERAGE(Q20:Q23),\"-\")","v":"-"},null,{"$f":"IFERROR(AVERAGE(S20:S23),\"-\")","v":"-"},null,{"$f":"IFERROR(AVERAGE(U20:U23),\"-\")","v":"-"},null,{"$f":"IFERROR(AVERAGE(W20:W23),\"-\")","v":"-"},null,{"$f":"IFERROR(AVERAGE(Y20:Y23),\"-\")","v":"-"}]
[{"$f":"'Skills explications FTEM'!A12:C12","v":0},null,null,{"$f":"IF($H$2=\"G\",'Skills explications FTEM'!Q12,'Skills explications FTEM'!D12)","v":"MOBILITE"},null,null,{"$f":"IF($H$2=\"G\",'Skills explications FTEM'!T12,'Skills explications FTEM'!G12)","v":"Changements de direction, pivots, stop et start «Nummelin»"},null,null,{"$f":"IF($H$2=\"G\",'Skills explications FTEM'!W12,'Skills explications FTEM'!J12)","v":0}]
[{"$f":"'Skills explications FTEM'!A13:C13","v":0},null,null,{"$f":"IF($H$2=\"G\",'Skills explications FTEM'!Q13,'Skills explications FTEM'!D13)","v":"PATTINAGE ARRIÈRE"},null,null,{"$f":"IF($H$2=\"G\",'Skills explications FTEM'!T13,'Skills explications FTEM'!G13)","v":"Accélération, vitesse, équilibre"},null,null,{"$f":"IF($H$2=\"G\",'Skills explications FTEM'!W13,'Skills explications FTEM'!J13)","v":0}]
[{"$f":"'Skills explications FTEM'!A14:C14","v":0},null,null,{"$f":"IF($H$2=\"G\",'Skills explications FTEM'!Q14,'Skills explications FTEM'!D14)","v":"TOP SPEED"},null,null,{"$f":"IF($H$2=\"G\",'Skills explications FTEM'!T14,'Skills explications FTEM'!G14)","v":"Vitesse, faculté de glisse, avant et arrière, économie des forces"},null,null,{"$f":"IF($H$2=\"G\",'Skills explications FTEM'!W14,'Skills explications FTEM'!J14)","v":0}]
[{"$f":"'Skills explications FTEM'!A15:C15","v":"HOCKEY SENSE"},null,null,{"$f":"IF($H$2=\"G\",'Skills explications FTEM'!Q15,'Skills explications FTEM'!D15)","v":"SCORING"},null,null,{"$f":"IF($H$2=\"G\",'Skills explications FTEM'!T15,'Skills explications FTEM'!G15)","v":"Efficience, richesse des variantes, surpenant, vite, variante de tirs"},null,null,{"$f":"IF($H$2=\"G\",'Skills explications FTEM'!W15,'Skills explications FTEM'!J15)","v":0},null,null,null,{"$f":"IFERROR(AVERAGE(O24:O27),\"-\")","v":"-"},null,{"$f":"IFERROR(AVERAGE(Q24:Q27),\"-\")","v":"-"},null,{"$f":"IFERROR(AVERAGE(S24:S27),\"-\")","v":"-"},null,{"$f":"IFERROR(AVERAGE(U24:U27),\"-\")","v":"-"},null,{"$f":"IFERROR(AVERAGE(W24:W27),\"-\")","v":"-"},null,{"$f":"IFERROR(AVERAGE(Y24:Y27),\"-\")","v":"-"}]
[{"$f":"'Skills explications FTEM'!A16:C16","v":0},null,null,{"$f":"IF($H$2=\"G\",'Skills explications FTEM'!Q16,'Skills explications FTEM'!D16)","v":"AVEC PUCK"},null,null,{"$f":"IF($H$2=\"G\",'Skills explications FTEM'!T16,'Skills explications FTEM'!G16)","v":"créatif,  performing, batteling, fou, transition"},null,null,{"$f":"IF($H$2=\"G\",'Skills explications FTEM'!W16,'Skills explications FTEM'!J16)","v":0}]
[{"$f":"'Skills explications FTEM'!A17:C17","v":0},null,null,{"$f":"IF($H$2=\"G\",'Skills explications FTEM'!Q17,'Skills explications FTEM'!D17)","v":"SANS PUCK"},null,null,{"$f":"IF($H$2=\"G\",'Skills explications FTEM'!T17,'Skills explications FTEM'!G17)","v":"ouvert pour un passe (Support), 1:1, Gap"},null,null,{"$f":"IF($H$2=\"G\",'Skills explications FTEM'!W17,'Skills explications FTEM'!J17)","v":0}]
[{"$f":"'Skills explications FTEM'!A18:C18","v":0},null,null,{"$f":"IF($H$2=\"G\",'Skills explications FTEM'!Q18,'Skills explications FTEM'!D18)","v":"DEFENSIF"},null,null,{"$f":"IF($H$2=\"G\",'Skills explications FTEM'!T18,'Skills explications FTEM'!G18)","v":"on peut compter dessus,  1:1, Gap, identification de l'homme"},null,null,{"$f":"IF($H$2=\"G\",'Skills explications FTEM'!W18,'Skills explications FTEM'!J18)","v":0}]
[{"$f":"'Skills explications FTEM'!A19:C19","v":"PERSONALITY"},null,null,"CAPACITE",null,null,"OBSERVATION",null,null,null,null,null,null,"Date1",null,"Date2",null,"Date3",null,"Date4",null,"Date5",null,"Player",null,"BUT","MESURES:\nSPECIFIQUE, MESURABLES, REALISTE",null,null,null,null,null,null,"DELAI","CONTRÔLE DU BUT","Date"]
[{"$f":"'Skills explications FTEM'!A20:C20","v":"PERSONALITÉ"},null,null,{"$f":"IF($H$2=\"G\",'Skills explications FTEM'!Q20,'Skills explications FTEM'!D20)","v":"MOTIVATION"},null,null,{"$f":"IF($H$2=\"G\",'Skills explications FTEM'!T20,'Skills explications FTEM'!G20)","v":"Est toujours motivé, veut sans cesse se développer et apprendre, veut être le premier et avoir du succès, n'abandonne jamais et ne se laisse pas influencer par les échecs"},null,null,{"$f":"IF($H$2=\"G\",'Skills explications FTEM'!W20,'Skills explications FTEM'!J20)","v":0},null,null,null,{"$f":"IFERROR(AVERAGE(O29:O32),\"-\")","v":"-"},null,null,null,{"$f":"IFERROR(AVERAGE(S29:S32),\"-\")","v":"-"},null,{"$f":"IFERROR(AVERAGE(U29:U32),\"-\")","v":"-"},null,{"$f":"IFERROR(AVERAGE(W29:W32),\"-\")","v":"-"},null,{"$f":"IFERROR(AVERAGE(Y29:Y32),\"-\")","v":"-"}]
[{"$f":"'Skills explications FTEM'!A21:C21","v":0},null,null,{"$f":"IF($H$2=\"G\",'Skills explications FTEM'!Q21,'Skills explications FTEM'!D21)","v":"CONFIENCE EN SOI"},null,null,{"$f":"IF($H$2=\"G\",'Skills explications FTEM'!T21,'Skills explications FTEM'!G21)","v":"Est en confiance, «I can do it», peut estimer ses capacités (connaît ses qualités et ses défauts), peut réaliser ses qualités avec constance, est courageux et prend des risques calculés"},null,null,{"$f":"IF($H$2=\"G\",'Skills explications FTEM'!W21,'Skills explications FTEM'!J21)","v":0}]
[{"$f":"'Skills explications FTEM'!A22:C22","v":0},null,null,{"$f":"IF($H$2=\"G\",'Skills explications FTEM'!Q22,'Skills explications FTEM'!D22)","v":"FACULTÉES D'APPRENTISSAGE"},null,null,{"$f":"IF($H$2=\"G\",'Skills explications FTEM'!T22,'Skills explications FTEM'!G22)","v":"A une bonne perception (il peut mémoriser et peut réaliser), il a de la personnalité, essaie d'apprendre de ses erreurs et est entreprenant"},null,null,{"$f":"IF($H$2=\"G\",'Skills explications FTEM'!W22,'Skills explications FTEM'!J22)","v":0}]
[{"$f":"'Skills explications FTEM'!A23:C23","v":0},null,null,{"$f":"IF($H$2=\"G\",'Skills explications FTEM'!Q23,'Skills explications FTEM'!D23)","v":"PERFORMANCE, STYLE DE VIE"},null,null,{"$f":"IF($H$2=\"G\",'Skills explications FTEM'!T23,'Skills explications FTEM'!G23)","v":"Gère bien son environnement et son temps libre selon les principes de la performance, obstiné, tenace et axé sur l'objectif, accent sur sa propre performance, est courageux et peut s'imposer contre de la résistance, les défis le motivent"},null,null,{"$f":"IF($H$2=\"G\",'Skills explications FTEM'!W23,'Skills explications FTEM'!J23)","v":0}]
[{"$f":"'Skills explications FTEM'!A24:C24","v":"POWER MENTAL"},null,null,{"$f":"IF($H$2=\"G\",'Skills explications FTEM'!Q24,'Skills explications FTEM'!D24)","v":"GESTION DES ÉNERGIES"},null,null,{"$f":"IF($H$2=\"G\",'Skills explications FTEM'!T24,'Skills explications FTEM'!G24)","v":"Peut-il gérer ses propres énergies, prend-il soin de sa régénération, peut-il gérer les moments où il faut se donner à fond ou quand il faut déconnecter, bouton On/Off"},null,null,{"$f":"IF($H$2=\"G\",'Skills explications FTEM'!W24,'Skills explications FTEM'!J24)","v":0},null,null,null,{"$f":"IFERROR(AVERAGE(O33:O36),\"-\")","v":"-"},null,null,null,{"$f":"IFERROR(AVERAGE(S33:S36),\"-\")","v":"-"},null,{"$f":"IFERROR(AVERAGE(U33:U36),\"-\")","v":"-"},null,{"$f":"IFERROR(AVERAGE(W33:W36),\"-\")","v":"-"},null,{"$f":"IFERROR(AVERAGE(Y33:Y36),\"-\")","v":"-"}]
[{"$f":"'Skills explications FTEM'!A25:C25","v":0},null,null,{"$f":"IF($H$2=\"G\",'Skills explications FTEM'!Q25,'Skills explications FTEM'!D25)","v":"ENGAGEMENT"},null,null,{"$f":"IF($H$2=\"G\",'Skills explications FTEM'!T25,'Skills explications FTEM'!G25)","v":"Démontre beaucoup d'intensité dans les entraînements et les matchs, donne toujours son maximum et veut sans cesse repousser ses limites, a-t-il de la passion, s'efforce-t-il de s'entraîner avec une excellente qualité"},null,null,{"$f":"IF($H$2=\"G\",'Skills explications FTEM'!W25,'Skills explications FTEM'!J25)","v":0}]
[{"$f":"'Skills explications FTEM'!A26:C26","v":0},null,null,{"$f":"IF($H$2=\"G\",'Skills explications FTEM'!Q26,'Skills explications FTEM'!D26)","v":"CONTRÔLE DES ÉMOTIONS"},null,null,{"$f":"IF($H$2=\"G\",'Skills explications FTEM'!T26,'Skills explications FTEM'!G26)","v":"Peut-il gérer ses propres émotions et impulsions, reste-t-il sous contrôle lorsqu'il y a une grande pression, peut-il rester calme lorsque le niveau émotionnel et de frustration est élevé"},null,null,{"$f":"IF($H$2=\"G\",'Skills explications FTEM'!W26,'Skills explications FTEM'!J26)","v":0}]
[{"$f":"'Skills explications FTEM'!A27:C27","v":0},null,null,{"$f":"IF($H$2=\"G\",'Skills explications FTEM'!Q27,'Skills explications FTEM'!D27)","v":"PRÉPARATION"},null,null,{"$f":"IF($H$2=\"G\",'Skills explications FTEM'!T27,'Skills explications FTEM'!G27)","v":"Se prépare-t-il toujours bien, mentalement et physiquement, se prépare-t-il toujours bien pour obtenir le niveau de performance idéal (ILZ)"},null,null,{"$f":"IF($H$2=\"G\",'Skills explications FTEM'!W27,'Skills explications FTEM'!J27)","v":0}]
[{"$f":"'Skills explications FTEM'!A28:C28","v":"PYHSE (Athletik)"},null,null,{"$f":"IF($H$2=\"G\",'Skills explications FTEM'!Q28,'Skills explications FTEM'!D28)","v":"PRODUCTION DE LA PERFORMANCE"},null,null,{"$f":"IF($H$2=\"G\",'Skills explications FTEM'!T28,'Skills explications FTEM'!G28)","v":"A-t-il la puissance, la force, la vitesse nécessaires dans les jambes et le haut du corps (facteurs neuromusculaires)"},null,null,{"$f":"IF($H$2=\"G\",'Skills explications FTEM'!W28,'Skills explications FTEM'!J28)","v":0},null,null,null,{"$f":"IFERROR(AVERAGE(O37:O40),\"-\")","v":"-"},null,null,null,{"$f":"IFERROR(AVERAGE(S37:S40),\"-\")","v":"-"},null,{"$f":"IFERROR(AVERAGE(U37:U40),\"-\")","v":"-"},null,{"$f":"IFERROR(AVERAGE(W37:W40),\"-\")","v":"-"},null,{"$f":"IFERROR(AVERAGE(Y37:Y40),\"-\")","v":"-"}]
[{"$f":"'Skills explications FTEM'!A29:C29","v":0},null,null,{"$f":"IF($H$2=\"G\",'Skills explications FTEM'!Q29,'Skills explications FTEM'!D29)","v":"SPÉCIFIQUE AU SPORT, RÉSISTANT À L'EFFORT"},null,null,{"$f":"IF($H$2=\"G\",'Skills explications FTEM'!T29,'Skills explications FTEM'!G29)","v":"Est-il capable de maintenir sa puissance, sa force, sa vitesse durant un long temps de glace et peut-il récupérer complètement entre ses engagements (facteurs du métabolisme et cardiovasculaire)"},null,null,{"$f":"IF($H$2=\"G\",'Skills explications FTEM'!W29,'Skills explications FTEM'!J29)","v":0}]
[{"$f":"'Skills explications FTEM'!A30:C30","v":0},null,null,{"$f":"IF($H$2=\"G\",'Skills explications FTEM'!Q30,'Skills explications FTEM'!D30)","v":"MOBILITÉ/ COODINATION"},null,null,{"$f":"IF($H$2=\"G\",'Skills explications FTEM'!T30,'Skills explications FTEM'!G30)","v":"Gère-t-il ses aptitudes de mouvements de base, qui sont un fournisseur important des fonctions spécifiques «Skills» pour être efficace"},null,null,{"$f":"IF($H$2=\"G\",'Skills explications FTEM'!W30,'Skills explications FTEM'!J30)","v":0}]
[{"$f":"'Skills explications FTEM'!A31:C31","v":0},null,null,{"$f":"IF($H$2=\"G\",'Skills explications FTEM'!Q31,'Skills explications FTEM'!D31)","v":"ROBUSTESSE / PREVENTION"},null,null,{"$f":"IF($H$2=\"G\",'Skills explications FTEM'!T31,'Skills explications FTEM'!G31)","v":"A-t-il la force de base nécessaire (tension corporelle) pour gagner des duels et résister aux charges, A-t-il la stabilité nécessaire (ex. ses appuis) et la mobilité nécessaire au niveau des articulations centrales"},null,null,{"$f":"IF($H$2=\"G\",'Skills explications FTEM'!W31,'Skills explications FTEM'!J31)","v":0}]

{"sheet":"28","index":31,"n_rows":40,"n_cols":36,"rows_kept":40,"cut":false,"hidden":false,"merged":[[36,25,39,25],[36,26,39,32],[36,34,39,34],[32,23,35,23],[33,3,33,5],[33,6,33,11],[35,3,35,5],[35,6,35,11],[32,0,35,2],[32,3,32,5],[32,6,32,11],[32,12,35,12],[32,13,35,13],[32,15,35,15],[36,0,39,2],[36,3,36,5],[36,6,36,11],[36,12,39,12],[36,23,39,23],[37,3,37,5],[37,6,37,11],[38,3,38,5],[38,6,38,11],[39,3,39,5],[27,21,27,22],[28,17,31,17],[28,19,31,19],[28,21,31,21],[29,3,29,5],[29,6,29,11],[30,3,30,5],[30,6,30,11],[32,17,35,17],[32,19,35,19],[32,21,35,21],[34,3,34,5],[34,6,34,11],[23,0,26,2],[23,3,23,5],[23,6,23,11],[23,12,26,12],[23,13,26,13],[23,15,26,15],[27,23,27,24],[27,26,27,32],[28,0,31,2],[28,3,28,5],[28,6,28,11],[28,12,31,12],[28,13,31,13],[28,15,31,15],[31,3,31,5],[31,6,31,11],[28,23,31,23],[27,0,27,2],[27,3,27,5],[27,6,27,11],[27,13,27,14],[27,15,27,16],[27,17,27,18],[27,19,27,20],[19,21,22,21],[19,23,22,23],[20,3,20,5],[20,6,20,11],[22,3,22,5],[22,6,22,11],[26,3,26,5],[26,6,26,11],[23,23,26,23],[23,17,26,17],[23,19,26,19],[23,21,26,21],[24,3,24,5],[24,6,24,11],[25,3,25,5],[25,6,25,11],[21,3,21,5],[21,6,21,11],[15,15,18,15],[15,17,18,17],[15,19,18,19],[15,21,18,21],[15,23,18,23],[18,3,18,5],[18,6,18,11],[19,0,22,2],[19,3,19,5],[19,6,19,11],[19,12,22,12],[19,13,22,13],[19,15,22,15],[19,17,22,17],[15,0,18,2],[15,3,15,5],[15,6,15,11],[15,12,18,12],[15,13,18,13],[16,3,16,5],[16,6,16,11],[17,3,17,5],[17,6,17,11],[19,19,22,19],[12,23,13,23],[13,3,13,5],[13,6,13,11],[14,0,14,2],[14,3,14,5],[14,6,14,11],[14,13,14,14],[14,15,14,16],[14,17,14,18],[14,19,14,20],[14,21,14,22],[14,23,14,24],[12,0,13,2],[12,3,12,5],[12,6,12,11],[12,12,13,12],[12,13,13,13],[12,15,13,15],[12,17,13,17],[12,19,13,19],[12,21,13,21],[11,0,11,2],[11,3,11,5],[11,13,11,14],[11,15,11,16],[11,17,11,18],[11,19,11,20],[11,21,11,22],[11,23,11,24],[11,26,11,32],[11,6,11,11],[0,33,0,35],[23,25,26,25],[23,26,26,32],[23,34,26,34],[28,25,31,25],[28,26,31,32],[28,34,31,34],[1,0,1,1],[1,2,1,5],[1,10,1,24],[2,0,2,1],[2,2,2,5],[2,11,2,24],[6,0,6,1],[6,2,6,35],[7,0,7,1],[7,2,7,35],[8,0,8,1],[8,2,8,35],[3,0,3,1],[3,10,3,24],[4,0,4,1],[4,2,4,5],[4,10,4,24],[39,6,39,11],[36,13,39,13],[36,15,39,15],[36,17,39,17],[36,19,39,19],[36,21,39,21],[0,0,0,24],[0,25,0,26],[0,27,0,32],[10,0,10,24],[10,25,10,35],[32,25,35,25],[32,26,35,32],[32,34,35,34],[12,25,13,25],[12,26,13,32],[12,34,13,34],[15,25,18,25],[15,26,18,32],[15,34,18,34],[19,25,22,25],[19,26,22,32],[19,34,22,34],[14,26,14,32]]}
["Infos personelles",null,null,null,null,null,null,null,null,null,null,null,null,null,null,null,null,null,null,null,null,null,null,null,null,"Predispositions",null,"Evaluations",null,null,null,null,null,"Rating"]
["PRENOM",null,{"$f":"IF(ISBLANK(VLOOKUP(28,Tabelle3[],3,0)),\"-\",VLOOKUP(28,Tabelle3[],3,0))","v":"-"},null,null,null,"POSITION",null,null,"ADRESSE",{"$f":"IF(ISBLANK(VLOOKUP(28,Tabelle3[],5,0)),\"-\",VLOOKUP(28,Tabelle3[],5,0))","v":"-"},null,null,null,null,null,null,null,null,null,null,null,null,null,null,"\"àage\" (Biologique/age relatif)",null,"Date 1",null,null,"cm",null,"Kg",null,"AUSGEZEICHNET",5]
["NOM",null,{"$f":"IF(ISBLANK(VLOOKUP(28,Tabelle3[],2,0)),\"-\",VLOOKUP(28,Tabelle3[],2,0))","v":"-"},null,null,null,"CANNE",null,null,"LIEU",{"$f":"IF(ISBLANK(VLOOKUP(28,Tabelle3[],7,0)),\"-\",VLOOKUP(28,Tabelle3[],7,0))","v":"-"},{"$f":"IF(ISBLANK(VLOOKUP(28,Tabelle3[],6,0)),\"-\",VLOOKUP(28,Tabelle3[],6,0))","v":"-"},null,null,null,null,null,null,null,null,null,null,null,null,null,"predispositions",null,"Date 2",null,null,"cm",null,"Kg",null,"GUT",4]
["DATE NAISS.",null,{"$f":"IF(ISBLANK(VLOOKUP(28,Tabelle3[],14,0)),\"-\",VLOOKUP(28,Tabelle3[],14,0))","v":"-"},{"$f":"IF(ISBLANK(VLOOKUP(28,Tabelle3[],15,0)),\"-\",VLOOKUP(28,Tabelle3[],15,0))","v":"-"},{"$f":"IF(ISBLANK(VLOOKUP(28,Tabelle3[],16,0)),\"-\",VLOOKUP(28,Tabelle3[],16,0))","v":"-"},null,"GRANDEUR",null,"cm","PHONE",{"$f":"IF(ISBLANK(VLOOKUP(28,Tabelle3[],8,0)),\"-\",VLOOKUP(28,Tabelle3[],8,0))","v":"-"},null,null,null,null,null,null,null,null,null,null,null,null,null,null,"Entourage",null,"Date 3",null,null,"cm",null,"Kg",null,"DURCHSCHNITT",3]
["SEXE",null,{"$f":"IF(ISBLANK(VLOOKUP(28,Tabelle3[],13,0)),\"-\",VLOOKUP(28,Tabelle3[],13,0))","v":"-"},null,null,null,"POIDS",null,"Kg","E-Mail",{"$f":"IF(ISBLANK(VLOOKUP(28,Tabelle3[],9,0)),\"-\",VLOOKUP(28,Tabelle3[],9,0))","v":"-"},null,null,null,null,null,null,null,null,null,null,null,null,null,null,null,null,"Date 4",null,null,"cm",null,"Kg",null,"MANGELHAFT",2]
[null,null,null,null,null,null,null,null,null,null,null,null,null,null,null,null,null,null,null,null,null,null,null,null,null,null,null,"Date 5",null,null,"cm",null,"Kg",null,"UNGENÜGEND",1]
["Vision",null,"xxx"]
["Next step",null,"xxx"]
["Profil du Joueur",null,"xxx"]
[]
["EVALUATION (COACH / JOUEUR)",null,null,null,null,null,null,null,null,null,null,null,null,null,null,null,null,null,null,null,null,null,null,null,null,"SMART"]
[{"$f":"'Skills explications FTEM'!A3:C3","v":"TEAM"},null,null,"CAPACITE",null,null,"OBSERVATION",null,null,null,null,null,"Final","Date1",null,"Date2",null,"Date3",null,"Date4",null,"Date5",null,"Player",null,"BUT","MESURES:\nSPECIFIQUE, MESURABLES, REALISTE",null,null,null,null,null,null,"DELAI","CONTRÔLE DU BUT","Date"]
[{"$f":"'Skills explications FTEM'!A4:C4","v":"ROLLE, SOZIAL"},null,null,{"$f":"IF($H$2=\"G\",'Skills explications FTEM'!Q4,'Skills explications FTEM'!D4)","v":"PENSER EQUIPE"},null,null,{"$f":"IF($H$2=\"G\",'Skills explications FTEM'!T4,'Skills explications FTEM'!G4)","v":"Identification au rôle, relation au cammarades (social, intégration)"},null,null,{"$f":"IF($H$2=\"G\",'Skills explications FTEM'!W4,'Skills explications FTEM'!J4)","v":0},null,null,null,{"$f":"IFERROR(AVERAGE(O13:O14),\"-\")","v":"-"},null,{"$f":"IFERROR(AVERAGE(Q13:Q14),\"-\")","v":"-"},null,{"$f":"IFERROR(AVERAGE(S13:S14),\"-\")","v":"-"},null,{"$f":"IFERROR(AVERAGE(U13:U14),\"-\")","v":"-"},null,{"$f":"IFERROR(AVERAGE(W13:W14),\"-\")","v":"-"},null,{"$f":"IFERROR(AVERAGE(Y13:Y14),\"-\")","v":"-"}]
[{"$f":"'Skills explications FTEM'!A5:C5","v":0},null,null,{"$f":"IF($H$2=\"G\",'Skills explications FTEM'!Q5,'Skills explications FTEM'!D5)","v":"LEADERSHIP"},null,null,{"$f":"IF($H$2=\"G\",'Skills explications FTEM'!T5,'Skills explications FTEM'!G5)","v":"prend des responsabilités, rend son coéquipier meilleur"},null,null,{"$f":"IF($H$2=\"G\",'Skills explications FTEM'!W5,'Skills explications FTEM'!J5)","v":0}]
[{"$f":"'Skills explications FTEM'!A6:C6","v":"ON ICE"},null,null,"CAPACITE",null,null,"OBSERVATION",null,null,null,null,null,null,"Date1",null,"Date2",null,"Date3",null,"Date4",null,"Date5",null,"Player",null,"BUT","MESURES:\nSPECIFIQUE, MESURABLES, REALISTE",null,null,null,null,null,null,"DELAI","CONTRÔLE DU BUT","Date"]
[{"$f":"'Skills explications FTEM'!A7:C7","v":"SKILL"},null,null,{"$f":"IF($H$2=\"G\",'Skills explications FTEM'!Q7,'Skills explications FTEM'!D7)","v":"TIR  (EFFET)"},null,null,{"$f":"IF($H$2=\"G\",'Skills explications FTEM'!T7,'Skills explications FTEM'!G7)","v":"Efficience (pas d'espace et de temps), variantes, degré de surprise (déclenchement rapide), précision, puissance (conclusion tactique)"},null,null,{"$f":"IF($H$2=\"G\",'Skills explications FTEM'!W7,'Skills explications FTEM'!J7)","v":0},null,null,null,{"$f":"IFERROR(AVERAGE(O16:O19),\"-\")","v":"-"},null,{"$f":"IFERROR(AVERAGE(Q16:Q19),\"-\")","v":"-"},null,{"$f":"IFERROR(AVERAGE(S16:S19),\"-\")","v":"-"},null,{"$f":"IFERROR(AVERAGE(U16:U19),\"-\")","v":"-"},null,{"$f":"IFERROR(AVERAGE(W16:W19),\"-\")","v":"-"},null,{"$f":"IFERROR(AVERAGE(Y16:Y19),\"-\")","v":"-"}]
[{"$f":"'Skills explications FTEM'!A8:C8","v":0},null,null,{"$f":"IF($H$2=\"G\",'Skills explications FTEM'!Q8,'Skills explications FTEM'!D8)","v":"PASSER"},null,null,{"$f":"IF($H$2=\"G\",'Skills explications FTEM'!T8,'Skills explications FTEM'!G8)","v":"Donne la passe (distance, passe flipée en revers), réception de la passe (précision, timing, coup droit, revers, patins), vitesse du puck"},null,null,{"$f":"IF($H$2=\"G\",'Skills explications FTEM'!W8,'Skills explications FTEM'!J8)","v":0}]
[{"$f":"'Skills explications FTEM'!A9:C9","v":0},null,null,{"$f":"IF($H$2=\"G\",'Skills explications FTEM'!Q9,'Skills explications FTEM'!D9)","v":"JEU DU CORPS"},null,null,{"$f":"IF($H$2=\"G\",'Skills explications FTEM'!T9,'Skills explications FTEM'!G9)","v":"Faculté de s'imposer physiquement, duels (sur la surface de glace ou à la bande), prendre des checks, lever la tête, niveau de lutte, dur mais correct, bloquer les tirs avec le corps"},null,null,{"$f":"IF($H$2=\"G\",'Skills explications FTEM'!W9,'Skills explications FTEM'!J9)","v":0},null,null,null,{"$f":"IFERROR(AVERAGE(O18:O19),\"-\")","v":"-"},null,{"$f":"IFERROR(AVERAGE(Q18:Q19),\"-\")","v":"-"},null,{"$f":"IFERROR(AVERAGE(S18:S19),\"-\")","v":"-"},null,{"$f":"IFERROR(AVERAGE(U18:U19),\"-\")","v":"-"},null,{"$f":"IFERROR(AVERAGE(W18:W19),\"-\")","v":"-"},null,"-"]
[{"$f":"'Skills explications FTEM'!A10:C10","v":0},null,null,{"$f":"IF($H$2=\"G\",'Skills explications FTEM'!Q10,'Skills explications FTEM'!D10)","v":"CONTRÔLE DU PUCK"},null,null,{"$f":"IF($H$2=\"G\",'Skills explications FTEM'!T10,'Skills explications FTEM'!G10)","v":"Contrôle du puck, dribbling, protection du puck, feintes (variantes: avec les patins ou avec et sans la bande), mise au jeu (bully)"},null,null,{"$f":"IF($H$2=\"G\",'Skills explications FTEM'!W10,'Skills explications FTEM'!J10)","v":0}]
[{"$f":"'Skills explications FTEM'!A11:C11","v":"SKATING"},null,null,{"$f":"IF($H$2=\"G\",'Skills explications FTEM'!Q11,'Skills explications FTEM'!D11)","v":"FOOTSPEED"},null,null,{"$f":"IF($H$2=\"G\",'Skills explications FTEM'!T11,'Skills explications FTEM'!G11)","v":"Accélération, départ, explosivité des 3 premiers pas, fréquence"},null,null,{"$f":"IF($H$2=\"G\",'Skills explications FTEM'!W11,'Skills explications FTEM'!J11)","v":0},null,null,null,{"$f":"IFERROR(AVERAGE(O20:O23),\"-\")","v":"-"},null,{"$f":"IFERROR(AVERAGE(Q20:Q23),\"-\")","v":"-"},null,{"$f":"IFERROR(AVERAGE(S20:S23),\"-\")","v":"-"},null,{"$f":"IFERROR(AVERAGE(U20:U23),\"-\")","v":"-"},null,{"$f":"IFERROR(AVERAGE(W20:W23),\"-\")","v":"-"},null,{"$f":"IFERROR(AVERAGE(Y20:Y23),\"-\")","v":"-"}]
[{"$f":"'Skills explications FTEM'!A12:C12","v":0},null,null,{"$f":"IF($H$2=\"G\",'Skills explications FTEM'!Q12,'Skills explications FTEM'!D12)","v":"MOBILITE"},null,null,{"$f":"IF($H$2=\"G\",'Skills explications FTEM'!T12,'Skills explications FTEM'!G12)","v":"Changements de direction, pivots, stop et start «Nummelin»"},null,null,{"$f":"IF($H$2=\"G\",'Skills explications FTEM'!W12,'Skills explications FTEM'!J12)","v":0}]
[{"$f":"'Skills explications FTEM'!A13:C13","v":0},null,null,{"$f":"IF($H$2=\"G\",'Skills explications FTEM'!Q13,'Skills explications FTEM'!D13)","v":"PATTINAGE ARRIÈRE"},null,null,{"$f":"IF($H$2=\"G\",'Skills explications FTEM'!T13,'Skills explications FTEM'!G13)","v":"Accélération, vitesse, équilibre"},null,null,{"$f":"IF($H$2=\"G\",'Skills explications FTEM'!W13,'Skills explications FTEM'!J13)","v":0}]
[{"$f":"'Skills explications FTEM'!A14:C14","v":0},null,null,{"$f":"IF($H$2=\"G\",'Skills explications FTEM'!Q14,'Skills explications FTEM'!D14)","v":"TOP SPEED"},null,null,{"$f":"IF($H$2=\"G\",'Skills explications FTEM'!T14,'Skills explications FTEM'!G14)","v":"Vitesse, faculté de glisse, avant et arrière, économie des forces"},null,null,{"$f":"IF($H$2=\"G\",'Skills explications FTEM'!W14,'Skills explications FTEM'!J14)","v":0}]
[{"$f":"'Skills explications FTEM'!A15:C15","v":"HOCKEY SENSE"},null,null,{"$f":"IF($H$2=\"G\",'Skills explications FTEM'!Q15,'Skills explications FTEM'!D15)","v":"SCORING"},null,null,{"$f":"IF($H$2=\"G\",'Skills explications FTEM'!T15,'Skills explications FTEM'!G15)","v":"Efficience, richesse des variantes, surpenant, vite, variante de tirs"},null,null,{"$f":"IF($H$2=\"G\",'Skills explications FTEM'!W15,'Skills explications FTEM'!J15)","v":0},null,null,null,{"$f":"IFERROR(AVERAGE(O24:O27),\"-\")","v":"-"},null,{"$f":"IFERROR(AVERAGE(Q24:Q27),\"-\")","v":"-"},null,{"$f":"IFERROR(AVERAGE(S24:S27),\"-\")","v":"-"},null,{"$f":"IFERROR(AVERAGE(U24:U27),\"-\")","v":"-"},null,{"$f":"IFERROR(AVERAGE(W24:W27),\"-\")","v":"-"},null,{"$f":"IFERROR(AVERAGE(Y24:Y27),\"-\")","v":"-"}]
[{"$f":"'Skills explications FTEM'!A16:C16","v":0},null,null,{"$f":"IF($H$2=\"G\",'Skills explications FTEM'!Q16,'Skills explications FTEM'!D16)","v":"AVEC PUCK"},null,null,{"$f":"IF($H$2=\"G\",'Skills explications FTEM'!T16,'Skills explications FTEM'!G16)","v":"créatif,  performing, batteling, fou, transition"},null,null,{"$f":"IF($H$2=\"G\",'Skills explications FTEM'!W16,'Skills explications FTEM'!J16)","v":0}]
[{"$f":"'Skills explications FTEM'!A17:C17","v":0},null,null,{"$f":"IF($H$2=\"G\",'Skills explications FTEM'!Q17,'Skills explications FTEM'!D17)","v":"SANS PUCK"},null,null,{"$f":"IF($H$2=\"G\",'Skills explications FTEM'!T17,'Skills explications FTEM'!G17)","v":"ouvert pour un passe (Support), 1:1, Gap"},null,null,{"$f":"IF($H$2=\"G\",'Skills explications FTEM'!W17,'Skills explications FTEM'!J17)","v":0}]
[{"$f":"'Skills explications FTEM'!A18:C18","v":0},null,null,{"$f":"IF($H$2=\"G\",'Skills explications FTEM'!Q18,'Skills explications FTEM'!D18)","v":"DEFENSIF"},null,null,{"$f":"IF($H$2=\"G\",'Skills explications FTEM'!T18,'Skills explications FTEM'!G18)","v":"on peut compter dessus,  1:1, Gap, identification de l'homme"},null,null,{"$f":"IF($H$2=\"G\",'Skills explications FTEM'!W18,'Skills explications FTEM'!J18)","v":0}]
[{"$f":"'Skills explications FTEM'!A19:C19","v":"PERSONALITY"},null,null,"CAPACITE",null,null,"OBSERVATION",null,null,null,null,null,null,"Date1",null,"Date2",null,"Date3",null,"Date4",null,"Date5",null,"Player",null,"BUT","MESURES:\nSPECIFIQUE, MESURABLES, REALISTE",null,null,null,null,null,null,"DELAI","CONTRÔLE DU BUT","Date"]
[{"$f":"'Skills explications FTEM'!A20:C20","v":"PERSONALITÉ"},null,null,{"$f":"IF($H$2=\"G\",'Skills explications FTEM'!Q20,'Skills explications FTEM'!D20)","v":"MOTIVATION"},null,null,{"$f":"IF($H$2=\"G\",'Skills explications FTEM'!T20,'Skills explications FTEM'!G20)","v":"Est toujours motivé, veut sans cesse se développer et apprendre, veut être le premier et avoir du succès, n'abandonne jamais et ne se laisse pas influencer par les échecs"},null,null,{"$f":"IF($H$2=\"G\",'Skills explications FTEM'!W20,'Skills explications FTEM'!J20)","v":0},null,null,null,{"$f":"IFERROR(AVERAGE(O29:O32),\"-\")","v":"-"},null,null,null,{"$f":"IFERROR(AVERAGE(S29:S32),\"-\")","v":"-"},null,{"$f":"IFERROR(AVERAGE(U29:U32),\"-\")","v":"-"},null,{"$f":"IFERROR(AVERAGE(W29:W32),\"-\")","v":"-"},null,{"$f":"IFERROR(AVERAGE(Y29:Y32),\"-\")","v":"-"}]
[{"$f":"'Skills explications FTEM'!A21:C21","v":0},null,null,{"$f":"IF($H$2=\"G\",'Skills explications FTEM'!Q21,'Skills explications FTEM'!D21)","v":"CONFIENCE EN SOI"},null,null,{"$f":"IF($H$2=\"G\",'Skills explications FTEM'!T21,'Skills explications FTEM'!G21)","v":"Est en confiance, «I can do it», peut estimer ses capacités (connaît ses qualités et ses défauts), peut réaliser ses qualités avec constance, est courageux et prend des risques calculés"},null,null,{"$f":"IF($H$2=\"G\",'Skills explications FTEM'!W21,'Skills explications FTEM'!J21)","v":0}]
[{"$f":"'Skills explications FTEM'!A22:C22","v":0},null,null,{"$f":"IF($H$2=\"G\",'Skills explications FTEM'!Q22,'Skills explications FTEM'!D22)","v":"FACULTÉES D'APPRENTISSAGE"},null,null,{"$f":"IF($H$2=\"G\",'Skills explications FTEM'!T22,'Skills explications FTEM'!G22)","v":"A une bonne perception (il peut mémoriser et peut réaliser), il a de la personnalité, essaie d'apprendre de ses erreurs et est entreprenant"},null,null,{"$f":"IF($H$2=\"G\",'Skills explications FTEM'!W22,'Skills explications FTEM'!J22)","v":0}]
[{"$f":"'Skills explications FTEM'!A23:C23","v":0},null,null,{"$f":"IF($H$2=\"G\",'Skills explications FTEM'!Q23,'Skills explications FTEM'!D23)","v":"PERFORMANCE, STYLE DE VIE"},null,null,{"$f":"IF($H$2=\"G\",'Skills explications FTEM'!T23,'Skills explications FTEM'!G23)","v":"Gère bien son environnement et son temps libre selon les principes de la performance, obstiné, tenace et axé sur l'objectif, accent sur sa propre performance, est courageux et peut s'imposer contre de la résistance, les défis le motivent"},null,null,{"$f":"IF($H$2=\"G\",'Skills explications FTEM'!W23,'Skills explications FTEM'!J23)","v":0}]
[{"$f":"'Skills explications FTEM'!A24:C24","v":"POWER MENTAL"},null,null,{"$f":"IF($H$2=\"G\",'Skills explications FTEM'!Q24,'Skills explications FTEM'!D24)","v":"GESTION DES ÉNERGIES"},null,null,{"$f":"IF($H$2=\"G\",'Skills explications FTEM'!T24,'Skills explications FTEM'!G24)","v":"Peut-il gérer ses propres énergies, prend-il soin de sa régénération, peut-il gérer les moments où il faut se donner à fond ou quand il faut déconnecter, bouton On/Off"},null,null,{"$f":"IF($H$2=\"G\",'Skills explications FTEM'!W24,'Skills explications FTEM'!J24)","v":0},null,null,null,{"$f":"IFERROR(AVERAGE(O33:O36),\"-\")","v":"-"},null,null,null,{"$f":"IFERROR(AVERAGE(S33:S36),\"-\")","v":"-"},null,{"$f":"IFERROR(AVERAGE(U33:U36),\"-\")","v":"-"},null,{"$f":"IFERROR(AVERAGE(W33:W36),\"-\")","v":"-"},null,{"$f":"IFERROR(AVERAGE(Y33:Y36),\"-\")","v":"-"}]
[{"$f":"'Skills explications FTEM'!A25:C25","v":0},null,null,{"$f":"IF($H$2=\"G\",'Skills explications FTEM'!Q25,'Skills explications FTEM'!D25)","v":"ENGAGEMENT"},null,null,{"$f":"IF($H$2=\"G\",'Skills explications FTEM'!T25,'Skills explications FTEM'!G25)","v":"Démontre beaucoup d'intensité dans les entraînements et les matchs, donne toujours son maximum et veut sans cesse repousser ses limites, a-t-il de la passion, s'efforce-t-il de s'entraîner avec une excellente qualité"},null,null,{"$f":"IF($H$2=\"G\",'Skills explications FTEM'!W25,'Skills explications FTEM'!J25)","v":0}]
[{"$f":"'Skills explications FTEM'!A26:C26","v":0},null,null,{"$f":"IF($H$2=\"G\",'Skills explications FTEM'!Q26,'Skills explications FTEM'!D26)","v":"CONTRÔLE DES ÉMOTIONS"},null,null,{"$f":"IF($H$2=\"G\",'Skills explications FTEM'!T26,'Skills explications FTEM'!G26)","v":"Peut-il gérer ses propres émotions et impulsions, reste-t-il sous contrôle lorsqu'il y a une grande pression, peut-il rester calme lorsque le niveau émotionnel et de frustration est élevé"},null,null,{"$f":"IF($H$2=\"G\",'Skills explications FTEM'!W26,'Skills explications FTEM'!J26)","v":0}]
[{"$f":"'Skills explications FTEM'!A27:C27","v":0},null,null,{"$f":"IF($H$2=\"G\",'Skills explications FTEM'!Q27,'Skills explications FTEM'!D27)","v":"PRÉPARATION"},null,null,{"$f":"IF($H$2=\"G\",'Skills explications FTEM'!T27,'Skills explications FTEM'!G27)","v":"Se prépare-t-il toujours bien, mentalement et physiquement, se prépare-t-il toujours bien pour obtenir le niveau de performance idéal (ILZ)"},null,null,{"$f":"IF($H$2=\"G\",'Skills explications FTEM'!W27,'Skills explications FTEM'!J27)","v":0}]
[{"$f":"'Skills explications FTEM'!A28:C28","v":"PYHSE (Athletik)"},null,null,{"$f":"IF($H$2=\"G\",'Skills explications FTEM'!Q28,'Skills explications FTEM'!D28)","v":"PRODUCTION DE LA PERFORMANCE"},null,null,{"$f":"IF($H$2=\"G\",'Skills explications FTEM'!T28,'Skills explications FTEM'!G28)","v":"A-t-il la puissance, la force, la vitesse nécessaires dans les jambes et le haut du corps (facteurs neuromusculaires)"},null,null,{"$f":"IF($H$2=\"G\",'Skills explications FTEM'!W28,'Skills explications FTEM'!J28)","v":0},null,null,null,{"$f":"IFERROR(AVERAGE(O37:O40),\"-\")","v":"-"},null,null,null,{"$f":"IFERROR(AVERAGE(S37:S40),\"-\")","v":"-"},null,{"$f":"IFERROR(AVERAGE(U37:U40),\"-\")","v":"-"},null,{"$f":"IFERROR(AVERAGE(W37:W40),\"-\")","v":"-"},null,{"$f":"IFERROR(AVERAGE(Y37:Y40),\"-\")","v":"-"}]
[{"$f":"'Skills explications FTEM'!A29:C29","v":0},null,null,{"$f":"IF($H$2=\"G\",'Skills explications FTEM'!Q29,'Skills explications FTEM'!D29)","v":"SPÉCIFIQUE AU SPORT, RÉSISTANT À L'EFFORT"},null,null,{"$f":"IF($H$2=\"G\",'Skills explications FTEM'!T29,'Skills explications FTEM'!G29)","v":"Est-il capable de maintenir sa puissance, sa force, sa vitesse durant un long temps de glace et peut-il récupérer complètement entre ses engagements (facteurs du métabolisme et cardiovasculaire)"},null,null,{"$f":"IF($H$2=\"G\",'Skills explications FTEM'!W29,'Skills explications FTEM'!J29)","v":0}]
[{"$f":"'Skills explications FTEM'!A30:C30","v":0},null,null,{"$f":"IF($H$2=\"G\",'Skills explications FTEM'!Q30,'Skills explications FTEM'!D30)","v":"MOBILITÉ/ COODINATION"},null,null,{"$f":"IF($H$2=\"G\",'Skills explications FTEM'!T30,'Skills explications FTEM'!G30)","v":"Gère-t-il ses aptitudes de mouvements de base, qui sont un fournisseur important des fonctions spécifiques «Skills» pour être efficace"},null,null,{"$f":"IF($H$2=\"G\",'Skills explications FTEM'!W30,'Skills explications FTEM'!J30)","v":0}]
[{"$f":"'Skills explications FTEM'!A31:C31","v":0},null,null,{"$f":"IF($H$2=\"G\",'Skills explications FTEM'!Q31,'Skills explications FTEM'!D31)","v":"ROBUSTESSE / PREVENTION"},null,null,{"$f":"IF($H$2=\"G\",'Skills explications FTEM'!T31,'Skills explications FTEM'!G31)","v":"A-t-il la force de base nécessaire (tension corporelle) pour gagner des duels et résister aux charges, A-t-il la stabilité nécessaire (ex. ses appuis) et la mobilité nécessaire au niveau des articulations centrales"},null,null,{"$f":"IF($H$2=\"G\",'Skills explications FTEM'!W31,'Skills explications FTEM'!J31)","v":0}]

{"sheet":"29","index":32,"n_rows":40,"n_cols":36,"rows_kept":40,"cut":false,"hidden":false,"merged":[[36,25,39,25],[36,26,39,32],[36,34,39,34],[32,23,35,23],[33,3,33,5],[33,6,33,11],[35,3,35,5],[35,6,35,11],[32,0,35,2],[32,3,32,5],[32,6,32,11],[32,12,35,12],[32,13,35,13],[32,15,35,15],[36,0,39,2],[36,3,36,5],[36,6,36,11],[36,12,39,12],[36,23,39,23],[37,3,37,5],[37,6,37,11],[38,3,38,5],[38,6,38,11],[39,3,39,5],[27,21,27,22],[28,17,31,17],[28,19,31,19],[28,21,31,21],[29,3,29,5],[29,6,29,11],[30,3,30,5],[30,6,30,11],[32,17,35,17],[32,19,35,19],[32,21,35,21],[34,3,34,5],[34,6,34,11],[23,0,26,2],[23,3,23,5],[23,6,23,11],[23,12,26,12],[23,13,26,13],[23,15,26,15],[27,23,27,24],[27,26,27,32],[28,0,31,2],[28,3,28,5],[28,6,28,11],[28,12,31,12],[28,13,31,13],[28,15,31,15],[31,3,31,5],[31,6,31,11],[28,23,31,23],[27,0,27,2],[27,3,27,5],[27,6,27,11],[27,13,27,14],[27,15,27,16],[27,17,27,18],[27,19,27,20],[19,21,22,21],[19,23,22,23],[20,3,20,5],[20,6,20,11],[22,3,22,5],[22,6,22,11],[26,3,26,5],[26,6,26,11],[23,23,26,23],[23,17,26,17],[23,19,26,19],[23,21,26,21],[24,3,24,5],[24,6,24,11],[25,3,25,5],[25,6,25,11],[21,3,21,5],[21,6,21,11],[15,15,18,15],[15,17,18,17],[15,19,18,19],[15,21,18,21],[15,23,18,23],[18,3,18,5],[18,6,18,11],[19,0,22,2],[19,3,19,5],[19,6,19,11],[19,12,22,12],[19,13,22,13],[19,15,22,15],[19,17,22,17],[15,0,18,2],[15,3,15,5],[15,6,15,11],[15,12,18,12],[15,13,18,13],[16,3,16,5],[16,6,16,11],[17,3,17,5],[17,6,17,11],[19,19,22,19],[12,23,13,23],[13,3,13,5],[13,6,13,11],[14,0,14,2],[14,3,14,5],[14,6,14,11],[14,13,14,14],[14,15,14,16],[14,17,14,18],[14,19,14,20],[14,21,14,22],[14,23,14,24],[12,0,13,2],[12,3,12,5],[12,6,12,11],[12,12,13,12],[12,13,13,13],[12,15,13,15],[12,17,13,17],[12,19,13,19],[12,21,13,21],[11,0,11,2],[11,3,11,5],[11,13,11,14],[11,15,11,16],[11,17,11,18],[11,19,11,20],[11,21,11,22],[11,23,11,24],[11,26,11,32],[11,6,11,11],[0,33,0,35],[23,25,26,25],[23,26,26,32],[23,34,26,34],[28,25,31,25],[28,26,31,32],[28,34,31,34],[1,0,1,1],[1,2,1,5],[1,10,1,24],[2,0,2,1],[2,2,2,5],[2,11,2,24],[6,0,6,1],[6,2,6,35],[7,0,7,1],[7,2,7,35],[8,0,8,1],[8,2,8,35],[3,0,3,1],[3,10,3,24],[4,0,4,1],[4,2,4,5],[4,10,4,24],[39,6,39,11],[36,13,39,13],[36,15,39,15],[36,17,39,17],[36,19,39,19],[36,21,39,21],[0,0,0,24],[0,25,0,26],[0,27,0,32],[10,0,10,24],[10,25,10,35],[32,25,35,25],[32,26,35,32],[32,34,35,34],[12,25,13,25],[12,26,13,32],[12,34,13,34],[15,25,18,25],[15,26,18,32],[15,34,18,34],[19,25,22,25],[19,26,22,32],[19,34,22,34],[14,26,14,32]]}
["Infos personelles",null,null,null,null,null,null,null,null,null,null,null,null,null,null,null,null,null,null,null,null,null,null,null,null,"Predispositions",null,"Evaluations",null,null,null,null,null,"Rating"]
["PRENOM",null,{"$f":"IF(ISBLANK(VLOOKUP(29,Tabelle3[],3,0)),\"-\",VLOOKUP(29,Tabelle3[],3,0))","v":"-"},null,null,null,"POSITION",null,null,"ADRESSE",{"$f":"IF(ISBLANK(VLOOKUP(29,Tabelle3[],5,0)),\"-\",VLOOKUP(29,Tabelle3[],5,0))","v":"-"},null,null,null,null,null,null,null,null,null,null,null,null,null,null,"\"àage\" (Biologique/age relatif)",null,"Date 1",null,null,"cm",null,"Kg",null,"AUSGEZEICHNET",5]
["NOM",null,{"$f":"IF(ISBLANK(VLOOKUP(29,Tabelle3[],2,0)),\"-\",VLOOKUP(29,Tabelle3[],2,0))","v":"-"},null,null,null,"CANNE",null,null,"LIEU",{"$f":"IF(ISBLANK(VLOOKUP(29,Tabelle3[],7,0)),\"-\",VLOOKUP(29,Tabelle3[],7,0))","v":"-"},{"$f":"IF(ISBLANK(VLOOKUP(29,Tabelle3[],6,0)),\"-\",VLOOKUP(29,Tabelle3[],6,0))","v":"-"},null,null,null,null,null,null,null,null,null,null,null,null,null,"predispositions",null,"Date 2",null,null,"cm",null,"Kg",null,"GUT",4]
["DATE NAISS.",null,{"$f":"IF(ISBLANK(VLOOKUP(29,Tabelle3[],14,0)),\"-\",VLOOKUP(29,Tabelle3[],14,0))","v":"-"},{"$f":"IF(ISBLANK(VLOOKUP(29,Tabelle3[],15,0)),\"-\",VLOOKUP(29,Tabelle3[],15,0))","v":"-"},{"$f":"IF(ISBLANK(VLOOKUP(29,Tabelle3[],16,0)),\"-\",VLOOKUP(29,Tabelle3[],16,0))","v":"-"},null,"GRANDEUR",null,"cm","PHONE",{"$f":"IF(ISBLANK(VLOOKUP(29,Tabelle3[],8,0)),\"-\",VLOOKUP(29,Tabelle3[],8,0))","v":"-"},null,null,null,null,null,null,null,null,null,null,null,null,null,null,"Entourage",null,"Date 3",null,null,"cm",null,"Kg",null,"DURCHSCHNITT",3]
["SEXE",null,{"$f":"IF(ISBLANK(VLOOKUP(29,Tabelle3[],13,0)),\"-\",VLOOKUP(29,Tabelle3[],13,0))","v":"-"},null,null,null,"POIDS",null,"Kg","E-Mail",{"$f":"IF(ISBLANK(VLOOKUP(29,Tabelle3[],9,0)),\"-\",VLOOKUP(29,Tabelle3[],9,0))","v":"-"},null,null,null,null,null,null,null,null,null,null,null,null,null,null,null,null,"Date 4",null,null,"cm",null,"Kg",null,"MANGELHAFT",2]
[null,null,null,null,null,null,null,null,null,null,null,null,null,null,null,null,null,null,null,null,null,null,null,null,null,null,null,"Date 5",null,null,"cm",null,"Kg",null,"UNGENÜGEND",1]
["Vision",null,"xxx"]
["Next step",null,"xxx"]
["Profil du Joueur",null,"xxx"]
[]
["EVALUATION (COACH / JOUEUR)",null,null,null,null,null,null,null,null,null,null,null,null,null,null,null,null,null,null,null,null,null,null,null,null,"SMART"]
[{"$f":"'Skills explications FTEM'!A3:C3","v":"TEAM"},null,null,"CAPACITE",null,null,"OBSERVATION",null,null,null,null,null,"Final","Date1",null,"Date2",null,"Date3",null,"Date4",null,"Date5",null,"Player",null,"BUT","MESURES:\nSPECIFIQUE, MESURABLES, REALISTE",null,null,null,null,null,null,"DELAI","CONTRÔLE DU BUT","Date"]
[{"$f":"'Skills explications FTEM'!A4:C4","v":"ROLLE, SOZIAL"},null,null,{"$f":"IF($H$2=\"G\",'Skills explications FTEM'!Q4,'Skills explications FTEM'!D4)","v":"PENSER EQUIPE"},null,null,{"$f":"IF($H$2=\"G\",'Skills explications FTEM'!T4,'Skills explications FTEM'!G4)","v":"Identification au rôle, relation au cammarades (social, intégration)"},null,null,{"$f":"IF($H$2=\"G\",'Skills explications FTEM'!W4,'Skills explications FTEM'!J4)","v":0},null,null,null,{"$f":"IFERROR(AVERAGE(O13:O14),\"-\")","v":"-"},null,{"$f":"IFERROR(AVERAGE(Q13:Q14),\"-\")","v":"-"},null,{"$f":"IFERROR(AVERAGE(S13:S14),\"-\")","v":"-"},null,{"$f":"IFERROR(AVERAGE(U13:U14),\"-\")","v":"-"},null,{"$f":"IFERROR(AVERAGE(W13:W14),\"-\")","v":"-"},null,{"$f":"IFERROR(AVERAGE(Y13:Y14),\"-\")","v":"-"}]
[{"$f":"'Skills explications FTEM'!A5:C5","v":0},null,null,{"$f":"IF($H$2=\"G\",'Skills explications FTEM'!Q5,'Skills explications FTEM'!D5)","v":"LEADERSHIP"},null,null,{"$f":"IF($H$2=\"G\",'Skills explications FTEM'!T5,'Skills explications FTEM'!G5)","v":"prend des responsabilités, rend son coéquipier meilleur"},null,null,{"$f":"IF($H$2=\"G\",'Skills explications FTEM'!W5,'Skills explications FTEM'!J5)","v":0}]
[{"$f":"'Skills explications FTEM'!A6:C6","v":"ON ICE"},null,null,"CAPACITE",null,null,"OBSERVATION",null,null,null,null,null,null,"Date1",null,"Date2",null,"Date3",null,"Date4",null,"Date5",null,"Player",null,"BUT","MESURES:\nSPECIFIQUE, MESURABLES, REALISTE",null,null,null,null,null,null,"DELAI","CONTRÔLE DU BUT","Date"]
[{"$f":"'Skills explications FTEM'!A7:C7","v":"SKILL"},null,null,{"$f":"IF($H$2=\"G\",'Skills explications FTEM'!Q7,'Skills explications FTEM'!D7)","v":"TIR  (EFFET)"},null,null,{"$f":"IF($H$2=\"G\",'Skills explications FTEM'!T7,'Skills explications FTEM'!G7)","v":"Efficience (pas d'espace et de temps), variantes, degré de surprise (déclenchement rapide), précision, puissance (conclusion tactique)"},null,null,{"$f":"IF($H$2=\"G\",'Skills explications FTEM'!W7,'Skills explications FTEM'!J7)","v":0},null,null,null,{"$f":"IFERROR(AVERAGE(O16:O19),\"-\")","v":"-"},null,{"$f":"IFERROR(AVERAGE(Q16:Q19),\"-\")","v":"-"},null,{"$f":"IFERROR(AVERAGE(S16:S19),\"-\")","v":"-"},null,{"$f":"IFERROR(AVERAGE(U16:U19),\"-\")","v":"-"},null,{"$f":"IFERROR(AVERAGE(W16:W19),\"-\")","v":"-"},null,{"$f":"IFERROR(AVERAGE(Y16:Y19),\"-\")","v":"-"}]
[{"$f":"'Skills explications FTEM'!A8:C8","v":0},null,null,{"$f":"IF($H$2=\"G\",'Skills explications FTEM'!Q8,'Skills explications FTEM'!D8)","v":"PASSER"},null,null,{"$f":"IF($H$2=\"G\",'Skills explications FTEM'!T8,'Skills explications FTEM'!G8)","v":"Donne la passe (distance, passe flipée en revers), réception de la passe (précision, timing, coup droit, revers, patins), vitesse du puck"},null,null,{"$f":"IF($H$2=\"G\",'Skills explications FTEM'!W8,'Skills explications FTEM'!J8)","v":0}]
[{"$f":"'Skills explications FTEM'!A9:C9","v":0},null,null,{"$f":"IF($H$2=\"G\",'Skills explications FTEM'!Q9,'Skills explications FTEM'!D9)","v":"JEU DU CORPS"},null,null,{"$f":"IF($H$2=\"G\",'Skills explications FTEM'!T9,'Skills explications FTEM'!G9)","v":"Faculté de s'imposer physiquement, duels (sur la surface de glace ou à la bande), prendre des checks, lever la tête, niveau de lutte, dur mais correct, bloquer les tirs avec le corps"},null,null,{"$f":"IF($H$2=\"G\",'Skills explications FTEM'!W9,'Skills explications FTEM'!J9)","v":0},null,null,null,{"$f":"IFERROR(AVERAGE(O18:O19),\"-\")","v":"-"},null,{"$f":"IFERROR(AVERAGE(Q18:Q19),\"-\")","v":"-"},null,{"$f":"IFERROR(AVERAGE(S18:S19),\"-\")","v":"-"},null,{"$f":"IFERROR(AVERAGE(U18:U19),\"-\")","v":"-"},null,{"$f":"IFERROR(AVERAGE(W18:W19),\"-\")","v":"-"},null,"-"]
[{"$f":"'Skills explications FTEM'!A10:C10","v":0},null,null,{"$f":"IF($H$2=\"G\",'Skills explications FTEM'!Q10,'Skills explications FTEM'!D10)","v":"CONTRÔLE DU PUCK"},null,null,{"$f":"IF($H$2=\"G\",'Skills explications FTEM'!T10,'Skills explications FTEM'!G10)","v":"Contrôle du puck, dribbling, protection du puck, feintes (variantes: avec les patins ou avec et sans la bande), mise au jeu (bully)"},null,null,{"$f":"IF($H$2=\"G\",'Skills explications FTEM'!W10,'Skills explications FTEM'!J10)","v":0}]
[{"$f":"'Skills explications FTEM'!A11:C11","v":"SKATING"},null,null,{"$f":"IF($H$2=\"G\",'Skills explications FTEM'!Q11,'Skills explications FTEM'!D11)","v":"FOOTSPEED"},null,null,{"$f":"IF($H$2=\"G\",'Skills explications FTEM'!T11,'Skills explications FTEM'!G11)","v":"Accélération, départ, explosivité des 3 premiers pas, fréquence"},null,null,{"$f":"IF($H$2=\"G\",'Skills explications FTEM'!W11,'Skills explications FTEM'!J11)","v":0},null,null,null,{"$f":"IFERROR(AVERAGE(O20:O23),\"-\")","v":"-"},null,{"$f":"IFERROR(AVERAGE(Q20:Q23),\"-\")","v":"-"},null,{"$f":"IFERROR(AVERAGE(S20:S23),\"-\")","v":"-"},null,{"$f":"IFERROR(AVERAGE(U20:U23),\"-\")","v":"-"},null,{"$f":"IFERROR(AVERAGE(W20:W23),\"-\")","v":"-"},null,{"$f":"IFERROR(AVERAGE(Y20:Y23),\"-\")","v":"-"}]
[{"$f":"'Skills explications FTEM'!A12:C12","v":0},null,null,{"$f":"IF($H$2=\"G\",'Skills explications FTEM'!Q12,'Skills explications FTEM'!D12)","v":"MOBILITE"},null,null,{"$f":"IF($H$2=\"G\",'Skills explications FTEM'!T12,'Skills explications FTEM'!G12)","v":"Changements de direction, pivots, stop et start «Nummelin»"},null,null,{"$f":"IF($H$2=\"G\",'Skills explications FTEM'!W12,'Skills explications FTEM'!J12)","v":0}]
[{"$f":"'Skills explications FTEM'!A13:C13","v":0},null,null,{"$f":"IF($H$2=\"G\",'Skills explications FTEM'!Q13,'Skills explications FTEM'!D13)","v":"PATTINAGE ARRIÈRE"},null,null,{"$f":"IF($H$2=\"G\",'Skills explications FTEM'!T13,'Skills explications FTEM'!G13)","v":"Accélération, vitesse, équilibre"},null,null,{"$f":"IF($H$2=\"G\",'Skills explications FTEM'!W13,'Skills explications FTEM'!J13)","v":0}]
[{"$f":"'Skills explications FTEM'!A14:C14","v":0},null,null,{"$f":"IF($H$2=\"G\",'Skills explications FTEM'!Q14,'Skills explications FTEM'!D14)","v":"TOP SPEED"},null,null,{"$f":"IF($H$2=\"G\",'Skills explications FTEM'!T14,'Skills explications FTEM'!G14)","v":"Vitesse, faculté de glisse, avant et arrière, économie des forces"},null,null,{"$f":"IF($H$2=\"G\",'Skills explications FTEM'!W14,'Skills explications FTEM'!J14)","v":0}]
[{"$f":"'Skills explications FTEM'!A15:C15","v":"HOCKEY SENSE"},null,null,{"$f":"IF($H$2=\"G\",'Skills explications FTEM'!Q15,'Skills explications FTEM'!D15)","v":"SCORING"},null,null,{"$f":"IF($H$2=\"G\",'Skills explications FTEM'!T15,'Skills explications FTEM'!G15)","v":"Efficience, richesse des variantes, surpenant, vite, variante de tirs"},null,null,{"$f":"IF($H$2=\"G\",'Skills explications FTEM'!W15,'Skills explications FTEM'!J15)","v":0},null,null,null,{"$f":"IFERROR(AVERAGE(O24:O27),\"-\")","v":"-"},null,{"$f":"IFERROR(AVERAGE(Q24:Q27),\"-\")","v":"-"},null,{"$f":"IFERROR(AVERAGE(S24:S27),\"-\")","v":"-"},null,{"$f":"IFERROR(AVERAGE(U24:U27),\"-\")","v":"-"},null,{"$f":"IFERROR(AVERAGE(W24:W27),\"-\")","v":"-"},null,{"$f":"IFERROR(AVERAGE(Y24:Y27),\"-\")","v":"-"}]
[{"$f":"'Skills explications FTEM'!A16:C16","v":0},null,null,{"$f":"IF($H$2=\"G\",'Skills explications FTEM'!Q16,'Skills explications FTEM'!D16)","v":"AVEC PUCK"},null,null,{"$f":"IF($H$2=\"G\",'Skills explications FTEM'!T16,'Skills explications FTEM'!G16)","v":"créatif,  performing, batteling, fou, transition"},null,null,{"$f":"IF($H$2=\"G\",'Skills explications FTEM'!W16,'Skills explications FTEM'!J16)","v":0}]
[{"$f":"'Skills explications FTEM'!A17:C17","v":0},null,null,{"$f":"IF($H$2=\"G\",'Skills explications FTEM'!Q17,'Skills explications FTEM'!D17)","v":"SANS PUCK"},null,null,{"$f":"IF($H$2=\"G\",'Skills explications FTEM'!T17,'Skills explications FTEM'!G17)","v":"ouvert pour un passe (Support), 1:1, Gap"},null,null,{"$f":"IF($H$2=\"G\",'Skills explications FTEM'!W17,'Skills explications FTEM'!J17)","v":0}]
[{"$f":"'Skills explications FTEM'!A18:C18","v":0},null,null,{"$f":"IF($H$2=\"G\",'Skills explications FTEM'!Q18,'Skills explications FTEM'!D18)","v":"DEFENSIF"},null,null,{"$f":"IF($H$2=\"G\",'Skills explications FTEM'!T18,'Skills explications FTEM'!G18)","v":"on peut compter dessus,  1:1, Gap, identification de l'homme"},null,null,{"$f":"IF($H$2=\"G\",'Skills explications FTEM'!W18,'Skills explications FTEM'!J18)","v":0}]
[{"$f":"'Skills explications FTEM'!A19:C19","v":"PERSONALITY"},null,null,"CAPACITE",null,null,"OBSERVATION",null,null,null,null,null,null,"Date1",null,"Date2",null,"Date3",null,"Date4",null,"Date5",null,"Player",null,"BUT","MESURES:\nSPECIFIQUE, MESURABLES, REALISTE",null,null,null,null,null,null,"DELAI","CONTRÔLE DU BUT","Date"]
[{"$f":"'Skills explications FTEM'!A20:C20","v":"PERSONALITÉ"},null,null,{"$f":"IF($H$2=\"G\",'Skills explications FTEM'!Q20,'Skills explications FTEM'!D20)","v":"MOTIVATION"},null,null,{"$f":"IF($H$2=\"G\",'Skills explications FTEM'!T20,'Skills explications FTEM'!G20)","v":"Est toujours motivé, veut sans cesse se développer et apprendre, veut être le premier et avoir du succès, n'abandonne jamais et ne se laisse pas influencer par les échecs"},null,null,{"$f":"IF($H$2=\"G\",'Skills explications FTEM'!W20,'Skills explications FTEM'!J20)","v":0},null,null,null,{"$f":"IFERROR(AVERAGE(O29:O32),\"-\")","v":"-"},null,null,null,{"$f":"IFERROR(AVERAGE(S29:S32),\"-\")","v":"-"},null,{"$f":"IFERROR(AVERAGE(U29:U32),\"-\")","v":"-"},null,{"$f":"IFERROR(AVERAGE(W29:W32),\"-\")","v":"-"},null,{"$f":"IFERROR(AVERAGE(Y29:Y32),\"-\")","v":"-"}]
[{"$f":"'Skills explications FTEM'!A21:C21","v":0},null,null,{"$f":"IF($H$2=\"G\",'Skills explications FTEM'!Q21,'Skills explications FTEM'!D21)","v":"CONFIENCE EN SOI"},null,null,{"$f":"IF($H$2=\"G\",'Skills explications FTEM'!T21,'Skills explications FTEM'!G21)","v":"Est en confiance, «I can do it», peut estimer ses capacités (connaît ses qualités et ses défauts), peut réaliser ses qualités avec constance, est courageux et prend des risques calculés"},null,null,{"$f":"IF($H$2=\"G\",'Skills explications FTEM'!W21,'Skills explications FTEM'!J21)","v":0}]
[{"$f":"'Skills explications FTEM'!A22:C22","v":0},null,null,{"$f":"IF($H$2=\"G\",'Skills explications FTEM'!Q22,'Skills explications FTEM'!D22)","v":"FACULTÉES D'APPRENTISSAGE"},null,null,{"$f":"IF($H$2=\"G\",'Skills explications FTEM'!T22,'Skills explications FTEM'!G22)","v":"A une bonne perception (il peut mémoriser et peut réaliser), il a de la personnalité, essaie d'apprendre de ses erreurs et est entreprenant"},null,null,{"$f":"IF($H$2=\"G\",'Skills explications FTEM'!W22,'Skills explications FTEM'!J22)","v":0}]
[{"$f":"'Skills explications FTEM'!A23:C23","v":0},null,null,{"$f":"IF($H$2=\"G\",'Skills explications FTEM'!Q23,'Skills explications FTEM'!D23)","v":"PERFORMANCE, STYLE DE VIE"},null,null,{"$f":"IF($H$2=\"G\",'Skills explications FTEM'!T23,'Skills explications FTEM'!G23)","v":"Gère bien son environnement et son temps libre selon les principes de la performance, obstiné, tenace et axé sur l'objectif, accent sur sa propre performance, est courageux et peut s'imposer contre de la résistance, les défis le motivent"},null,null,{"$f":"IF($H$2=\"G\",'Skills explications FTEM'!W23,'Skills explications FTEM'!J23)","v":0}]
[{"$f":"'Skills explications FTEM'!A24:C24","v":"POWER MENTAL"},null,null,{"$f":"IF($H$2=\"G\",'Skills explications FTEM'!Q24,'Skills explications FTEM'!D24)","v":"GESTION DES ÉNERGIES"},null,null,{"$f":"IF($H$2=\"G\",'Skills explications FTEM'!T24,'Skills explications FTEM'!G24)","v":"Peut-il gérer ses propres énergies, prend-il soin de sa régénération, peut-il gérer les moments où il faut se donner à fond ou quand il faut déconnecter, bouton On/Off"},null,null,{"$f":"IF($H$2=\"G\",'Skills explications FTEM'!W24,'Skills explications FTEM'!J24)","v":0},null,null,null,{"$f":"IFERROR(AVERAGE(O33:O36),\"-\")","v":"-"},null,null,null,{"$f":"IFERROR(AVERAGE(S33:S36),\"-\")","v":"-"},null,{"$f":"IFERROR(AVERAGE(U33:U36),\"-\")","v":"-"},null,{"$f":"IFERROR(AVERAGE(W33:W36),\"-\")","v":"-"},null,{"$f":"IFERROR(AVERAGE(Y33:Y36),\"-\")","v":"-"}]
[{"$f":"'Skills explications FTEM'!A25:C25","v":0},null,null,{"$f":"IF($H$2=\"G\",'Skills explications FTEM'!Q25,'Skills explications FTEM'!D25)","v":"ENGAGEMENT"},null,null,{"$f":"IF($H$2=\"G\",'Skills explications FTEM'!T25,'Skills explications FTEM'!G25)","v":"Démontre beaucoup d'intensité dans les entraînements et les matchs, donne toujours son maximum et veut sans cesse repousser ses limites, a-t-il de la passion, s'efforce-t-il de s'entraîner avec une excellente qualité"},null,null,{"$f":"IF($H$2=\"G\",'Skills explications FTEM'!W25,'Skills explications FTEM'!J25)","v":0}]
[{"$f":"'Skills explications FTEM'!A26:C26","v":0},null,null,{"$f":"IF($H$2=\"G\",'Skills explications FTEM'!Q26,'Skills explications FTEM'!D26)","v":"CONTRÔLE DES ÉMOTIONS"},null,null,{"$f":"IF($H$2=\"G\",'Skills explications FTEM'!T26,'Skills explications FTEM'!G26)","v":"Peut-il gérer ses propres émotions et impulsions, reste-t-il sous contrôle lorsqu'il y a une grande pression, peut-il rester calme lorsque le niveau émotionnel et de frustration est élevé"},null,null,{"$f":"IF($H$2=\"G\",'Skills explications FTEM'!W26,'Skills explications FTEM'!J26)","v":0}]
[{"$f":"'Skills explications FTEM'!A27:C27","v":0},null,null,{"$f":"IF($H$2=\"G\",'Skills explications FTEM'!Q27,'Skills explications FTEM'!D27)","v":"PRÉPARATION"},null,null,{"$f":"IF($H$2=\"G\",'Skills explications FTEM'!T27,'Skills explications FTEM'!G27)","v":"Se prépare-t-il toujours bien, mentalement et physiquement, se prépare-t-il toujours bien pour obtenir le niveau de performance idéal (ILZ)"},null,null,{"$f":"IF($H$2=\"G\",'Skills explications FTEM'!W27,'Skills explications FTEM'!J27)","v":0}]
[{"$f":"'Skills explications FTEM'!A28:C28","v":"PYHSE (Athletik)"},null,null,{"$f":"IF($H$2=\"G\",'Skills explications FTEM'!Q28,'Skills explications FTEM'!D28)","v":"PRODUCTION DE LA PERFORMANCE"},null,null,{"$f":"IF($H$2=\"G\",'Skills explications FTEM'!T28,'Skills explications FTEM'!G28)","v":"A-t-il la puissance, la force, la vitesse nécessaires dans les jambes et le haut du corps (facteurs neuromusculaires)"},null,null,{"$f":"IF($H$2=\"G\",'Skills explications FTEM'!W28,'Skills explications FTEM'!J28)","v":0},null,null,null,{"$f":"IFERROR(AVERAGE(O37:O40),\"-\")","v":"-"},null,null,null,{"$f":"IFERROR(AVERAGE(S37:S40),\"-\")","v":"-"},null,{"$f":"IFERROR(AVERAGE(U37:U40),\"-\")","v":"-"},null,{"$f":"IFERROR(AVERAGE(W37:W40),\"-\")","v":"-"},null,{"$f":"IFERROR(AVERAGE(Y37:Y40),\"-\")","v":"-"}]
[{"$f":"'Skills explications FTEM'!A29:C29","v":0},null,null,{"$f":"IF($H$2=\"G\",'Skills explications FTEM'!Q29,'Skills explications FTEM'!D29)","v":"SPÉCIFIQUE AU SPORT, RÉSISTANT À L'EFFORT"},null,null,{"$f":"IF($H$2=\"G\",'Skills explications FTEM'!T29,'Skills explications FTEM'!G29)","v":"Est-il capable de maintenir sa puissance, sa force, sa vitesse durant un long temps de glace et peut-il récupérer complètement entre ses engagements (facteurs du métabolisme et cardiovasculaire)"},null,null,{"$f":"IF($H$2=\"G\",'Skills explications FTEM'!W29,'Skills explications FTEM'!J29)","v":0}]
[{"$f":"'Skills explications FTEM'!A30:C30","v":0},null,null,{"$f":"IF($H$2=\"G\",'Skills explications FTEM'!Q30,'Skills explications FTEM'!D30)","v":"MOBILITÉ/ COODINATION"},null,null,{"$f":"IF($H$2=\"G\",'Skills explications FTEM'!T30,'Skills explications FTEM'!G30)","v":"Gère-t-il ses aptitudes de mouvements de base, qui sont un fournisseur important des fonctions spécifiques «Skills» pour être efficace"},null,null,{"$f":"IF($H$2=\"G\",'Skills explications FTEM'!W30,'Skills explications FTEM'!J30)","v":0}]
[{"$f":"'Skills explications FTEM'!A31:C31","v":0},null,null,{"$f":"IF($H$2=\"G\",'Skills explications FTEM'!Q31,'Skills explications FTEM'!D31)","v":"ROBUSTESSE / PREVENTION"},null,null,{"$f":"IF($H$2=\"G\",'Skills explications FTEM'!T31,'Skills explications FTEM'!G31)","v":"A-t-il la force de base nécessaire (tension corporelle) pour gagner des duels et résister aux charges, A-t-il la stabilité nécessaire (ex. ses appuis) et la mobilité nécessaire au niveau des articulations centrales"},null,null,{"$f":"IF($H$2=\"G\",'Skills explications FTEM'!W31,'Skills explications FTEM'!J31)","v":0}]

{"sheet":"30","index":33,"n_rows":40,"n_cols":36,"rows_kept":40,"cut":false,"hidden":false,"merged":[[36,25,39,25],[36,26,39,32],[36,34,39,34],[32,23,35,23],[33,3,33,5],[33,6,33,11],[35,3,35,5],[35,6,35,11],[32,0,35,2],[32,3,32,5],[32,6,32,11],[32,12,35,12],[32,13,35,13],[32,15,35,15],[36,0,39,2],[36,3,36,5],[36,6,36,11],[36,12,39,12],[36,23,39,23],[37,3,37,5],[37,6,37,11],[38,3,38,5],[38,6,38,11],[39,3,39,5],[27,21,27,22],[28,17,31,17],[28,19,31,19],[28,21,31,21],[29,3,29,5],[29,6,29,11],[30,3,30,5],[30,6,30,11],[32,17,35,17],[32,19,35,19],[32,21,35,21],[34,3,34,5],[34,6,34,11],[23,0,26,2],[23,3,23,5],[23,6,23,11],[23,12,26,12],[23,13,26,13],[23,15,26,15],[27,23,27,24],[27,26,27,32],[28,0,31,2],[28,3,28,5],[28,6,28,11],[28,12,31,12],[28,13,31,13],[28,15,31,15],[31,3,31,5],[31,6,31,11],[28,23,31,23],[27,0,27,2],[27,3,27,5],[27,6,27,11],[27,13,27,14],[27,15,27,16],[27,17,27,18],[27,19,27,20],[19,21,22,21],[19,23,22,23],[20,3,20,5],[20,6,20,11],[22,3,22,5],[22,6,22,11],[26,3,26,5],[26,6,26,11],[23,23,26,23],[23,17,26,17],[23,19,26,19],[23,21,26,21],[24,3,24,5],[24,6,24,11],[25,3,25,5],[25,6,25,11],[21,3,21,5],[21,6,21,11],[15,15,18,15],[15,17,18,17],[15,19,18,19],[15,21,18,21],[15,23,18,23],[18,3,18,5],[18,6,18,11],[19,0,22,2],[19,3,19,5],[19,6,19,11],[19,12,22,12],[19,13,22,13],[19,15,22,15],[19,17,22,17],[15,0,18,2],[15,3,15,5],[15,6,15,11],[15,12,18,12],[15,13,18,13],[16,3,16,5],[16,6,16,11],[17,3,17,5],[17,6,17,11],[19,19,22,19],[12,23,13,23],[13,3,13,5],[13,6,13,11],[14,0,14,2],[14,3,14,5],[14,6,14,11],[14,13,14,14],[14,15,14,16],[14,17,14,18],[14,19,14,20],[14,21,14,22],[14,23,14,24],[12,0,13,2],[12,3,12,5],[12,6,12,11],[12,12,13,12],[12,13,13,13],[12,15,13,15],[12,17,13,17],[12,19,13,19],[12,21,13,21],[11,0,11,2],[11,3,11,5],[11,13,11,14],[11,15,11,16],[11,17,11,18],[11,19,11,20],[11,21,11,22],[11,23,11,24],[11,26,11,32],[11,6,11,11],[0,33,0,35],[23,25,26,25],[23,26,26,32],[23,34,26,34],[28,25,31,25],[28,26,31,32],[28,34,31,34],[1,0,1,1],[1,2,1,5],[1,10,1,24],[2,0,2,1],[2,2,2,5],[2,11,2,24],[6,0,6,1],[6,2,6,35],[7,0,7,1],[7,2,7,35],[8,0,8,1],[8,2,8,35],[3,0,3,1],[3,10,3,24],[4,0,4,1],[4,2,4,5],[4,10,4,24],[39,6,39,11],[36,13,39,13],[36,15,39,15],[36,17,39,17],[36,19,39,19],[36,21,39,21],[0,0,0,24],[0,25,0,26],[0,27,0,32],[10,0,10,24],[10,25,10,35],[32,25,35,25],[32,26,35,32],[32,34,35,34],[12,25,13,25],[12,26,13,32],[12,34,13,34],[15,25,18,25],[15,26,18,32],[15,34,18,34],[19,25,22,25],[19,26,22,32],[19,34,22,34],[14,26,14,32]]}
["Infos personelles",null,null,null,null,null,null,null,null,null,null,null,null,null,null,null,null,null,null,null,null,null,null,null,null,"Predispositions",null,"Evaluations",null,null,null,null,null,"Rating"]
["PRENOM",null,{"$f":"IF(ISBLANK(VLOOKUP(30,Tabelle3[],3,0)),\"-\",VLOOKUP(30,Tabelle3[],3,0))","v":"-"},null,null,null,"POSITION",null,null,"ADRESSE",{"$f":"IF(ISBLANK(VLOOKUP(30,Tabelle3[],5,0)),\"-\",VLOOKUP(30,Tabelle3[],5,0))","v":"-"},null,null,null,null,null,null,null,null,null,null,null,null,null,null,"\"àage\" (Biologique/age relatif)",null,"Date 1",null,null,"cm",null,"Kg",null,"AUSGEZEICHNET",5]
["NOM",null,{"$f":"IF(ISBLANK(VLOOKUP(30,Tabelle3[],2,0)),\"-\",VLOOKUP(30,Tabelle3[],2,0))","v":"-"},null,null,null,"CANNE",null,null,"LIEU",{"$f":"IF(ISBLANK(VLOOKUP(30,Tabelle3[],7,0)),\"-\",VLOOKUP(30,Tabelle3[],7,0))","v":"-"},{"$f":"IF(ISBLANK(VLOOKUP(30,Tabelle3[],6,0)),\"-\",VLOOKUP(30,Tabelle3[],6,0))","v":"-"},null,null,null,null,null,null,null,null,null,null,null,null,null,"predispositions",null,"Date 2",null,null,"cm",null,"Kg",null,"GUT",4]
["DATE NAISS.",null,{"$f":"IF(ISBLANK(VLOOKUP(30,Tabelle3[],14,0)),\"-\",VLOOKUP(30,Tabelle3[],14,0))","v":"-"},{"$f":"IF(ISBLANK(VLOOKUP(30,Tabelle3[],15,0)),\"-\",VLOOKUP(30,Tabelle3[],15,0))","v":"-"},{"$f":"IF(ISBLANK(VLOOKUP(30,Tabelle3[],16,0)),\"-\",VLOOKUP(30,Tabelle3[],16,0))","v":"-"},null,"GRANDEUR",null,"cm","PHONE",{"$f":"IF(ISBLANK(VLOOKUP(30,Tabelle3[],8,0)),\"-\",VLOOKUP(30,Tabelle3[],8,0))","v":"-"},null,null,null,null,null,null,null,null,null,null,null,null,null,null,"Entourage",null,"Date 3",null,null,"cm",null,"Kg",null,"DURCHSCHNITT",3]
["SEXE",null,{"$f":"IF(ISBLANK(VLOOKUP(30,Tabelle3[],13,0)),\"-\",VLOOKUP(30,Tabelle3[],13,0))","v":"-"},null,null,null,"POIDS",null,"Kg","E-Mail",{"$f":"IF(ISBLANK(VLOOKUP(30,Tabelle3[],9,0)),\"-\",VLOOKUP(30,Tabelle3[],9,0))","v":"-"},null,null,null,null,null,null,null,null,null,null,null,null,null,null,null,null,"Date 4",null,null,"cm",null,"Kg",null,"MANGELHAFT",2]
[null,null,null,null,null,null,null,null,null,null,null,null,null,null,null,null,null,null,null,null,null,null,null,null,null,null,null,"Date 5",null,null,"cm",null,"Kg",null,"UNGENÜGEND",1]
["Vision",null,"xxx"]
["Next step",null,"xxx"]
["Profil du Joueur",null,"xxx"]
[]
["EVALUATION (COACH / JOUEUR)",null,null,null,null,null,null,null,null,null,null,null,null,null,null,null,null,null,null,null,null,null,null,null,null,"SMART"]
[{"$f":"'Skills explications FTEM'!A3:C3","v":"TEAM"},null,null,"CAPACITE",null,null,"OBSERVATION",null,null,null,null,null,"Final","Date1",null,"Date2",null,"Date3",null,"Date4",null,"Date5",null,"Player",null,"BUT","MESURES:\nSPECIFIQUE, MESURABLES, REALISTE",null,null,null,null,null,null,"DELAI","CONTRÔLE DU BUT","Date"]
[{"$f":"'Skills explications FTEM'!A4:C4","v":"ROLLE, SOZIAL"},null,null,{"$f":"IF($H$2=\"G\",'Skills explications FTEM'!Q4,'Skills explications FTEM'!D4)","v":"PENSER EQUIPE"},null,null,{"$f":"IF($H$2=\"G\",'Skills explications FTEM'!T4,'Skills explications FTEM'!G4)","v":"Identification au rôle, relation au cammarades (social, intégration)"},null,null,{"$f":"IF($H$2=\"G\",'Skills explications FTEM'!W4,'Skills explications FTEM'!J4)","v":0},null,null,null,{"$f":"IFERROR(AVERAGE(O13:O14),\"-\")","v":"-"},null,{"$f":"IFERROR(AVERAGE(Q13:Q14),\"-\")","v":"-"},null,{"$f":"IFERROR(AVERAGE(S13:S14),\"-\")","v":"-"},null,{"$f":"IFERROR(AVERAGE(U13:U14),\"-\")","v":"-"},null,{"$f":"IFERROR(AVERAGE(W13:W14),\"-\")","v":"-"},null,{"$f":"IFERROR(AVERAGE(Y13:Y14),\"-\")","v":"-"}]
[{"$f":"'Skills explications FTEM'!A5:C5","v":0},null,null,{"$f":"IF($H$2=\"G\",'Skills explications FTEM'!Q5,'Skills explications FTEM'!D5)","v":"LEADERSHIP"},null,null,{"$f":"IF($H$2=\"G\",'Skills explications FTEM'!T5,'Skills explications FTEM'!G5)","v":"prend des responsabilités, rend son coéquipier meilleur"},null,null,{"$f":"IF($H$2=\"G\",'Skills explications FTEM'!W5,'Skills explications FTEM'!J5)","v":0}]
[{"$f":"'Skills explications FTEM'!A6:C6","v":"ON ICE"},null,null,"CAPACITE",null,null,"OBSERVATION",null,null,null,null,null,null,"Date1",null,"Date2",null,"Date3",null,"Date4",null,"Date5",null,"Player",null,"BUT","MESURES:\nSPECIFIQUE, MESURABLES, REALISTE",null,null,null,null,null,null,"DELAI","CONTRÔLE DU BUT","Date"]
[{"$f":"'Skills explications FTEM'!A7:C7","v":"SKILL"},null,null,{"$f":"IF($H$2=\"G\",'Skills explications FTEM'!Q7,'Skills explications FTEM'!D7)","v":"TIR  (EFFET)"},null,null,{"$f":"IF($H$2=\"G\",'Skills explications FTEM'!T7,'Skills explications FTEM'!G7)","v":"Efficience (pas d'espace et de temps), variantes, degré de surprise (déclenchement rapide), précision, puissance (conclusion tactique)"},null,null,{"$f":"IF($H$2=\"G\",'Skills explications FTEM'!W7,'Skills explications FTEM'!J7)","v":0},null,null,null,{"$f":"IFERROR(AVERAGE(O16:O19),\"-\")","v":"-"},null,{"$f":"IFERROR(AVERAGE(Q16:Q19),\"-\")","v":"-"},null,{"$f":"IFERROR(AVERAGE(S16:S19),\"-\")","v":"-"},null,{"$f":"IFERROR(AVERAGE(U16:U19),\"-\")","v":"-"},null,{"$f":"IFERROR(AVERAGE(W16:W19),\"-\")","v":"-"},null,{"$f":"IFERROR(AVERAGE(Y16:Y19),\"-\")","v":"-"}]
[{"$f":"'Skills explications FTEM'!A8:C8","v":0},null,null,{"$f":"IF($H$2=\"G\",'Skills explications FTEM'!Q8,'Skills explications FTEM'!D8)","v":"PASSER"},null,null,{"$f":"IF($H$2=\"G\",'Skills explications FTEM'!T8,'Skills explications FTEM'!G8)","v":"Donne la passe (distance, passe flipée en revers), réception de la passe (précision, timing, coup droit, revers, patins), vitesse du puck"},null,null,{"$f":"IF($H$2=\"G\",'Skills explications FTEM'!W8,'Skills explications FTEM'!J8)","v":0}]
[{"$f":"'Skills explications FTEM'!A9:C9","v":0},null,null,{"$f":"IF($H$2=\"G\",'Skills explications FTEM'!Q9,'Skills explications FTEM'!D9)","v":"JEU DU CORPS"},null,null,{"$f":"IF($H$2=\"G\",'Skills explications FTEM'!T9,'Skills explications FTEM'!G9)","v":"Faculté de s'imposer physiquement, duels (sur la surface de glace ou à la bande), prendre des checks, lever la tête, niveau de lutte, dur mais correct, bloquer les tirs avec le corps"},null,null,{"$f":"IF($H$2=\"G\",'Skills explications FTEM'!W9,'Skills explications FTEM'!J9)","v":0},null,null,null,{"$f":"IFERROR(AVERAGE(O18:O19),\"-\")","v":"-"},null,{"$f":"IFERROR(AVERAGE(Q18:Q19),\"-\")","v":"-"},null,{"$f":"IFERROR(AVERAGE(S18:S19),\"-\")","v":"-"},null,{"$f":"IFERROR(AVERAGE(U18:U19),\"-\")","v":"-"},null,{"$f":"IFERROR(AVERAGE(W18:W19),\"-\")","v":"-"},null,"-"]
[{"$f":"'Skills explications FTEM'!A10:C10","v":0},null,null,{"$f":"IF($H$2=\"G\",'Skills explications FTEM'!Q10,'Skills explications FTEM'!D10)","v":"CONTRÔLE DU PUCK"},null,null,{"$f":"IF($H$2=\"G\",'Skills explications FTEM'!T10,'Skills explications FTEM'!G10)","v":"Contrôle du puck, dribbling, protection du puck, feintes (variantes: avec les patins ou avec et sans la bande), mise au jeu (bully)"},null,null,{"$f":"IF($H$2=\"G\",'Skills explications FTEM'!W10,'Skills explications FTEM'!J10)","v":0}]
[{"$f":"'Skills explications FTEM'!A11:C11","v":"SKATING"},null,null,{"$f":"IF($H$2=\"G\",'Skills explications FTEM'!Q11,'Skills explications FTEM'!D11)","v":"FOOTSPEED"},null,null,{"$f":"IF($H$2=\"G\",'Skills explications FTEM'!T11,'Skills explications FTEM'!G11)","v":"Accélération, départ, explosivité des 3 premiers pas, fréquence"},null,null,{"$f":"IF($H$2=\"G\",'Skills explications FTEM'!W11,'Skills explications FTEM'!J11)","v":0},null,null,null,{"$f":"IFERROR(AVERAGE(O20:O23),\"-\")","v":"-"},null,{"$f":"IFERROR(AVERAGE(Q20:Q23),\"-\")","v":"-"},null,{"$f":"IFERROR(AVERAGE(S20:S23),\"-\")","v":"-"},null,{"$f":"IFERROR(AVERAGE(U20:U23),\"-\")","v":"-"},null,{"$f":"IFERROR(AVERAGE(W20:W23),\"-\")","v":"-"},null,{"$f":"IFERROR(AVERAGE(Y20:Y23),\"-\")","v":"-"}]
[{"$f":"'Skills explications FTEM'!A12:C12","v":0},null,null,{"$f":"IF($H$2=\"G\",'Skills explications FTEM'!Q12,'Skills explications FTEM'!D12)","v":"MOBILITE"},null,null,{"$f":"IF($H$2=\"G\",'Skills explications FTEM'!T12,'Skills explications FTEM'!G12)","v":"Changements de direction, pivots, stop et start «Nummelin»"},null,null,{"$f":"IF($H$2=\"G\",'Skills explications FTEM'!W12,'Skills explications FTEM'!J12)","v":0}]
[{"$f":"'Skills explications FTEM'!A13:C13","v":0},null,null,{"$f":"IF($H$2=\"G\",'Skills explications FTEM'!Q13,'Skills explications FTEM'!D13)","v":"PATTINAGE ARRIÈRE"},null,null,{"$f":"IF($H$2=\"G\",'Skills explications FTEM'!T13,'Skills explications FTEM'!G13)","v":"Accélération, vitesse, équilibre"},null,null,{"$f":"IF($H$2=\"G\",'Skills explications FTEM'!W13,'Skills explications FTEM'!J13)","v":0}]
[{"$f":"'Skills explications FTEM'!A14:C14","v":0},null,null,{"$f":"IF($H$2=\"G\",'Skills explications FTEM'!Q14,'Skills explications FTEM'!D14)","v":"TOP SPEED"},null,null,{"$f":"IF($H$2=\"G\",'Skills explications FTEM'!T14,'Skills explications FTEM'!G14)","v":"Vitesse, faculté de glisse, avant et arrière, économie des forces"},null,null,{"$f":"IF($H$2=\"G\",'Skills explications FTEM'!W14,'Skills explications FTEM'!J14)","v":0}]
[{"$f":"'Skills explications FTEM'!A15:C15","v":"HOCKEY SENSE"},null,null,{"$f":"IF($H$2=\"G\",'Skills explications FTEM'!Q15,'Skills explications FTEM'!D15)","v":"SCORING"},null,null,{"$f":"IF($H$2=\"G\",'Skills explications FTEM'!T15,'Skills explications FTEM'!G15)","v":"Efficience, richesse des variantes, surpenant, vite, variante de tirs"},null,null,{"$f":"IF($H$2=\"G\",'Skills explications FTEM'!W15,'Skills explications FTEM'!J15)","v":0},null,null,null,{"$f":"IFERROR(AVERAGE(O24:O27),\"-\")","v":"-"},null,{"$f":"IFERROR(AVERAGE(Q24:Q27),\"-\")","v":"-"},null,{"$f":"IFERROR(AVERAGE(S24:S27),\"-\")","v":"-"},null,{"$f":"IFERROR(AVERAGE(U24:U27),\"-\")","v":"-"},null,{"$f":"IFERROR(AVERAGE(W24:W27),\"-\")","v":"-"},null,{"$f":"IFERROR(AVERAGE(Y24:Y27),\"-\")","v":"-"}]
[{"$f":"'Skills explications FTEM'!A16:C16","v":0},null,null,{"$f":"IF($H$2=\"G\",'Skills explications FTEM'!Q16,'Skills explications FTEM'!D16)","v":"AVEC PUCK"},null,null,{"$f":"IF($H$2=\"G\",'Skills explications FTEM'!T16,'Skills explications FTEM'!G16)","v":"créatif,  performing, batteling, fou, transition"},null,null,{"$f":"IF($H$2=\"G\",'Skills explications FTEM'!W16,'Skills explications FTEM'!J16)","v":0}]
[{"$f":"'Skills explications FTEM'!A17:C17","v":0},null,null,{"$f":"IF($H$2=\"G\",'Skills explications FTEM'!Q17,'Skills explications FTEM'!D17)","v":"SANS PUCK"},null,null,{"$f":"IF($H$2=\"G\",'Skills explications FTEM'!T17,'Skills explications FTEM'!G17)","v":"ouvert pour un passe (Support), 1:1, Gap"},null,null,{"$f":"IF($H$2=\"G\",'Skills explications FTEM'!W17,'Skills explications FTEM'!J17)","v":0}]
[{"$f":"'Skills explications FTEM'!A18:C18","v":0},null,null,{"$f":"IF($H$2=\"G\",'Skills explications FTEM'!Q18,'Skills explications FTEM'!D18)","v":"DEFENSIF"},null,null,{"$f":"IF($H$2=\"G\",'Skills explications FTEM'!T18,'Skills explications FTEM'!G18)","v":"on peut compter dessus,  1:1, Gap, identification de l'homme"},null,null,{"$f":"IF($H$2=\"G\",'Skills explications FTEM'!W18,'Skills explications FTEM'!J18)","v":0}]
[{"$f":"'Skills explications FTEM'!A19:C19","v":"PERSONALITY"},null,null,"CAPACITE",null,null,"OBSERVATION",null,null,null,null,null,null,"Date1",null,"Date2",null,"Date3",null,"Date4",null,"Date5",null,"Player",null,"BUT","MESURES:\nSPECIFIQUE, MESURABLES, REALISTE",null,null,null,null,null,null,"DELAI","CONTRÔLE DU BUT","Date"]
[{"$f":"'Skills explications FTEM'!A20:C20","v":"PERSONALITÉ"},null,null,{"$f":"IF($H$2=\"G\",'Skills explications FTEM'!Q20,'Skills explications FTEM'!D20)","v":"MOTIVATION"},null,null,{"$f":"IF($H$2=\"G\",'Skills explications FTEM'!T20,'Skills explications FTEM'!G20)","v":"Est toujours motivé, veut sans cesse se développer et apprendre, veut être le premier et avoir du succès, n'abandonne jamais et ne se laisse pas influencer par les échecs"},null,null,{"$f":"IF($H$2=\"G\",'Skills explications FTEM'!W20,'Skills explications FTEM'!J20)","v":0},null,null,null,{"$f":"IFERROR(AVERAGE(O29:O32),\"-\")","v":"-"},null,null,null,{"$f":"IFERROR(AVERAGE(S29:S32),\"-\")","v":"-"},null,{"$f":"IFERROR(AVERAGE(U29:U32),\"-\")","v":"-"},null,{"$f":"IFERROR(AVERAGE(W29:W32),\"-\")","v":"-"},null,{"$f":"IFERROR(AVERAGE(Y29:Y32),\"-\")","v":"-"}]
[{"$f":"'Skills explications FTEM'!A21:C21","v":0},null,null,{"$f":"IF($H$2=\"G\",'Skills explications FTEM'!Q21,'Skills explications FTEM'!D21)","v":"CONFIENCE EN SOI"},null,null,{"$f":"IF($H$2=\"G\",'Skills explications FTEM'!T21,'Skills explications FTEM'!G21)","v":"Est en confiance, «I can do it», peut estimer ses capacités (connaît ses qualités et ses défauts), peut réaliser ses qualités avec constance, est courageux et prend des risques calculés"},null,null,{"$f":"IF($H$2=\"G\",'Skills explications FTEM'!W21,'Skills explications FTEM'!J21)","v":0}]
[{"$f":"'Skills explications FTEM'!A22:C22","v":0},null,null,{"$f":"IF($H$2=\"G\",'Skills explications FTEM'!Q22,'Skills explications FTEM'!D22)","v":"FACULTÉES D'APPRENTISSAGE"},null,null,{"$f":"IF($H$2=\"G\",'Skills explications FTEM'!T22,'Skills explications FTEM'!G22)","v":"A une bonne perception (il peut mémoriser et peut réaliser), il a de la personnalité, essaie d'apprendre de ses erreurs et est entreprenant"},null,null,{"$f":"IF($H$2=\"G\",'Skills explications FTEM'!W22,'Skills explications FTEM'!J22)","v":0}]
[{"$f":"'Skills explications FTEM'!A23:C23","v":0},null,null,{"$f":"IF($H$2=\"G\",'Skills explications FTEM'!Q23,'Skills explications FTEM'!D23)","v":"PERFORMANCE, STYLE DE VIE"},null,null,{"$f":"IF($H$2=\"G\",'Skills explications FTEM'!T23,'Skills explications FTEM'!G23)","v":"Gère bien son environnement et son temps libre selon les principes de la performance, obstiné, tenace et axé sur l'objectif, accent sur sa propre performance, est courageux et peut s'imposer contre de la résistance, les défis le motivent"},null,null,{"$f":"IF($H$2=\"G\",'Skills explications FTEM'!W23,'Skills explications FTEM'!J23)","v":0}]
[{"$f":"'Skills explications FTEM'!A24:C24","v":"POWER MENTAL"},null,null,{"$f":"IF($H$2=\"G\",'Skills explications FTEM'!Q24,'Skills explications FTEM'!D24)","v":"GESTION DES ÉNERGIES"},null,null,{"$f":"IF($H$2=\"G\",'Skills explications FTEM'!T24,'Skills explications FTEM'!G24)","v":"Peut-il gérer ses propres énergies, prend-il soin de sa régénération, peut-il gérer les moments où il faut se donner à fond ou quand il faut déconnecter, bouton On/Off"},null,null,{"$f":"IF($H$2=\"G\",'Skills explications FTEM'!W24,'Skills explications FTEM'!J24)","v":0},null,null,null,{"$f":"IFERROR(AVERAGE(O33:O36),\"-\")","v":"-"},null,null,null,{"$f":"IFERROR(AVERAGE(S33:S36),\"-\")","v":"-"},null,{"$f":"IFERROR(AVERAGE(U33:U36),\"-\")","v":"-"},null,{"$f":"IFERROR(AVERAGE(W33:W36),\"-\")","v":"-"},null,{"$f":"IFERROR(AVERAGE(Y33:Y36),\"-\")","v":"-"}]
[{"$f":"'Skills explications FTEM'!A25:C25","v":0},null,null,{"$f":"IF($H$2=\"G\",'Skills explications FTEM'!Q25,'Skills explications FTEM'!D25)","v":"ENGAGEMENT"},null,null,{"$f":"IF($H$2=\"G\",'Skills explications FTEM'!T25,'Skills explications FTEM'!G25)","v":"Démontre beaucoup d'intensité dans les entraînements et les matchs, donne toujours son maximum et veut sans cesse repousser ses limites, a-t-il de la passion, s'efforce-t-il de s'entraîner avec une excellente qualité"},null,null,{"$f":"IF($H$2=\"G\",'Skills explications FTEM'!W25,'Skills explications FTEM'!J25)","v":0}]
[{"$f":"'Skills explications FTEM'!A26:C26","v":0},null,null,{"$f":"IF($H$2=\"G\",'Skills explications FTEM'!Q26,'Skills explications FTEM'!D26)","v":"CONTRÔLE DES ÉMOTIONS"},null,null,{"$f":"IF($H$2=\"G\",'Skills explications FTEM'!T26,'Skills explications FTEM'!G26)","v":"Peut-il gérer ses propres émotions et impulsions, reste-t-il sous contrôle lorsqu'il y a une grande pression, peut-il rester calme lorsque le niveau émotionnel et de frustration est élevé"},null,null,{"$f":"IF($H$2=\"G\",'Skills explications FTEM'!W26,'Skills explications FTEM'!J26)","v":0}]
[{"$f":"'Skills explications FTEM'!A27:C27","v":0},null,null,{"$f":"IF($H$2=\"G\",'Skills explications FTEM'!Q27,'Skills explications FTEM'!D27)","v":"PRÉPARATION"},null,null,{"$f":"IF($H$2=\"G\",'Skills explications FTEM'!T27,'Skills explications FTEM'!G27)","v":"Se prépare-t-il toujours bien, mentalement et physiquement, se prépare-t-il toujours bien pour obtenir le niveau de performance idéal (ILZ)"},null,null,{"$f":"IF($H$2=\"G\",'Skills explications FTEM'!W27,'Skills explications FTEM'!J27)","v":0}]
[{"$f":"'Skills explications FTEM'!A28:C28","v":"PYHSE (Athletik)"},null,null,{"$f":"IF($H$2=\"G\",'Skills explications FTEM'!Q28,'Skills explications FTEM'!D28)","v":"PRODUCTION DE LA PERFORMANCE"},null,null,{"$f":"IF($H$2=\"G\",'Skills explications FTEM'!T28,'Skills explications FTEM'!G28)","v":"A-t-il la puissance, la force, la vitesse nécessaires dans les jambes et le haut du corps (facteurs neuromusculaires)"},null,null,{"$f":"IF($H$2=\"G\",'Skills explications FTEM'!W28,'Skills explications FTEM'!J28)","v":0},null,null,null,{"$f":"IFERROR(AVERAGE(O37:O40),\"-\")","v":"-"},null,null,null,{"$f":"IFERROR(AVERAGE(S37:S40),\"-\")","v":"-"},null,{"$f":"IFERROR(AVERAGE(U37:U40),\"-\")","v":"-"},null,{"$f":"IFERROR(AVERAGE(W37:W40),\"-\")","v":"-"},null,{"$f":"IFERROR(AVERAGE(Y37:Y40),\"-\")","v":"-"}]
[{"$f":"'Skills explications FTEM'!A29:C29","v":0},null,null,{"$f":"IF($H$2=\"G\",'Skills explications FTEM'!Q29,'Skills explications FTEM'!D29)","v":"SPÉCIFIQUE AU SPORT, RÉSISTANT À L'EFFORT"},null,null,{"$f":"IF($H$2=\"G\",'Skills explications FTEM'!T29,'Skills explications FTEM'!G29)","v":"Est-il capable de maintenir sa puissance, sa force, sa vitesse durant un long temps de glace et peut-il récupérer complètement entre ses engagements (facteurs du métabolisme et cardiovasculaire)"},null,null,{"$f":"IF($H$2=\"G\",'Skills explications FTEM'!W29,'Skills explications FTEM'!J29)","v":0}]
[{"$f":"'Skills explications FTEM'!A30:C30","v":0},null,null,{"$f":"IF($H$2=\"G\",'Skills explications FTEM'!Q30,'Skills explications FTEM'!D30)","v":"MOBILITÉ/ COODINATION"},null,null,{"$f":"IF($H$2=\"G\",'Skills explications FTEM'!T30,'Skills explications FTEM'!G30)","v":"Gère-t-il ses aptitudes de mouvements de base, qui sont un fournisseur important des fonctions spécifiques «Skills» pour être efficace"},null,null,{"$f":"IF($H$2=\"G\",'Skills explications FTEM'!W30,'Skills explications FTEM'!J30)","v":0}]
[{"$f":"'Skills explications FTEM'!A31:C31","v":0},null,null,{"$f":"IF($H$2=\"G\",'Skills explications FTEM'!Q31,'Skills explications FTEM'!D31)","v":"ROBUSTESSE / PREVENTION"},null,null,{"$f":"IF($H$2=\"G\",'Skills explications FTEM'!T31,'Skills explications FTEM'!G31)","v":"A-t-il la force de base nécessaire (tension corporelle) pour gagner des duels et résister aux charges, A-t-il la stabilité nécessaire (ex. ses appuis) et la mobilité nécessaire au niveau des articulations centrales"},null,null,{"$f":"IF($H$2=\"G\",'Skills explications FTEM'!W31,'Skills explications FTEM'!J31)","v":0}]