{"text_format":"1","workbook":"xlsx","n_sheets":34,"sheets":["INFO","Spiegazioni Skills FTEM","Foglio giocatori","Foglio di Selezione","1","2","3","4","5","6","7","8","9","10","11","12","13","14","15","16","17","18","19","20","21","22","23","24","25","26","27","28","29","30"],"not_rendered":{"charts":0,"images":1,"macros":1,"external_links":0,"defined_names":37,"comments":33,"pivot_tables":0},"unopened":[],"bounds":{"document_bytes":16777216,"sheet_cells":100000,"rows_first":2000,"rows_last":500,"rows_between":2000,"halvings":0,"cell_chars":16384,"cell_head_chars":4096},"cells_cut":0,"cells_raw":0,"read":"whole","date_system":"1900"}

{"sheet":"INFO","index":0,"n_rows":77,"n_cols":13,"rows_kept":77,"cut":false,"hidden":false,"merged":[[62,1,62,2],[62,3,62,11],[63,1,63,2],[63,3,63,11],[64,1,64,2],[64,3,64,11],[45,1,45,2],[45,3,45,11],[46,1,46,2],[46,3,46,11],[47,1,47,2],[47,3,47,11],[0,0,0,13],[1,7,1,13],[30,1,30,2],[30,3,30,11],[12,1,12,2],[12,3,12,11],[13,1,13,2],[13,3,13,11],[28,1,28,2],[28,3,28,11],[11,1,11,2],[11,3,11,11],[29,1,29,2],[29,3,29,11],[9,0,9,13],[8,0,8,13],[6,5,6,6],[7,5,7,6],[2,7,2,13],[3,7,3,13],[4,7,4,13],[5,7,5,13],[6,7,6,13],[7,7,7,13],[6,0,6,1],[7,0,7,1],[6,3,6,4],[7,3,7,4],[1,3,1,4],[1,0,1,1],[2,0,2,1],[3,0,3,1],[4,0,4,1],[5,0,5,1],[2,3,2,4],[3,3,3,4],[4,3,4,4],[5,3,5,4],[1,5,1,6],[2,5,2,6],[3,5,3,6],[4,5,4,6],[5,5,5,6]]}
["U12-U15 NOTE INTERE  A PARTIRE DAGLI U16, AMMESSE ANCHE MEZZE NOTE"]
[null,null,null,null,null,null,null,"Confronto delle aspettative della classe di età secondo la promozione die talenti:\nTOP LEVEL = I migliori/ il meglio a questo livello"]
["Rating",null,"Simboli","Predicato",null,"Confronto\n100% livello d'età",null,"Aspettative=situazione di partenza dello sviluppo secondo la classe d'età. Sviluppo come talento e potenziale / punto di vista di un giocatore di punta -> profi (LNA/Nazionale)"]
[1,null,"--","Très insuffisant",null,"<30 %",null,"Non corrisponde assolutamente allo sviluppo di un talento."]
[2,null,"-","insuffisant",null,"30-50 %",null,"Corrisponde a malapena alle aspettative, mostra delle lacune in alcuni campi che influenzano il risultato finale."]
[3,null,0,"moyen",null,"50-70 %",null,"Rispecchia le aspettative medie, adempie alle diverse componenti senza particolari accenti o lacune."]
[4,null,"+","bon",null,"70-85 %",null,"Sorpassa le aspettative, mostra buone capacità in alcune componenti."]
[5,null,"++","exceptionnel",null,"85-100 %",null,"Sorpassa le aspettative con capacità eccellenti, fa perte die migliori in base alle aspettative."]
["Gli scouts/allenatori devono avere il coraggio di utilizzare tutti i valori !"]
["Ponderazioni secondo il ruolo/ età / sesso"]
[]
[null,"Disciplina",null,"Hockey su ghiaccio"]
[null,"Categoria/ruolo",null,"Giocatore"]
[null,"Quadro",null,"U12-20"]
[]
[null,null,"SKATING","SKILL","hockey SENSE","PERSON","POWER","TEAM","ÉTA","PHYSE","AMBIENTE DI VITA","PREDISPOSIZIONE"]
[null,"Età","Ponderazione","Ponderazione","Ponderazione","Ponderazione","Ponderazione","Ponderazione","Ponderazione","Ponderazione","Ponderazione","Ponderazione","Total"]
[null,12,16,15,20,17,10,0,12,0,5,5,{"$f":"SUM(C18:L18)","v":100}]
[null,13,16,15,20,17,10,0,12,0,5,5,100]
[null,14,12,12,20,17,10,5,10,4,5,5,100]
[null,15,12,12,20,17,10,5,10,4,5,5,100]
[null,16,10,10,20,15,10,8,4,8,5,10,100]
[null,17,10,10,20,15,10,8,4,8,5,10,100]
[null,18,10,10,20,15,10,10,0,15,0,10,100]
[null,19,10,10,20,15,10,10,0,15,0,10,100]
[null,20,10,10,20,15,10,10,0,15,0,10,100]
[]
[]
[null,"Disciplina",null,"Hockey su ghiaccio"]
[null,"Categoria/ruolo",null,"Portiere"]
[null,"Quadro",null,"U12-20"]
[]
[null,null,"SKATING","SKILL","hockey SENSE","PERSON","POWER","TEAM","ÉTA","PHYSE","AMBIENTE DI VITA","PREDISPOSIZIONE"]
[null,"Età","Ponderazione","Ponderazione","Ponderazione","Ponderazione","Ponderazione","Ponderazione","Ponderazione","Ponderazione","Ponderazione","Ponderazione","Total"]
[null,12,18,15,13,15,10,3,9,5,5,7,{"$f":"SUM(C35:L35)","v":100}]
[null,13,18,15,13,15,10,3,9,5,5,7,100]
[null,14,18,15,13,15,10,3,9,5,5,7,100]
[null,15,18,15,13,15,10,3,9,5,5,7,100]
[null,16,15,17,14,15,12,5,3,8,6,5,100]
[null,17,15,17,14,15,12,5,3,8,6,5,100]
[null,18,14,14,14,16,10,8,0,12,7,5,100]
[null,19,14,14,14,16,10,8,0,12,7,5,100]
[null,20,14,14,14,16,10,8,0,12,7,5,100]
[]
[]
[null,"Disciplina",null,"Hockey su ghiaccio FEMMINILE"]
[null,"Categoria/ruolo",null,"Giocatrice"]
[null,"Quadro",null,"U12-20"]
[]
[null,null,"SKATING","SKILL","hockey SENSE","PERSON","POWER","TEAM","ÉTA","PHYSE","AMBIENTE DI VITA","PREDISPOSIZIONE"]
[null,"Età","Ponderazione","Ponderazione","Ponderazione","Ponderazione","Ponderazione","Ponderazione","Ponderazione","Ponderazione","Ponderazione","Ponderazione","Total"]
[null,12,16,15,20,17,10,null,12,null,5,5,{"$f":"SUM(C52:L52)","v":100}]
[null,13,16,15,20,17,10,null,12,null,5,5,100]
[null,14,12,12,20,17,10,5,10,4,5,5,100]
[null,15,12,12,20,17,10,5,10,4,5,5,100]
[null,16,10,10,20,15,10,8,4,8,5,10,100]
[null,17,10,10,20,15,10,8,4,8,5,10,100]
[null,18,10,10,20,15,10,10,null,15,null,10,100]
[null,19,10,10,20,15,10,10,null,15,null,10,100]
[null,20,10,10,20,15,10,10,null,15,null,10,100]
[]
[]
[null,"Disciplina",null,"Hockey su ghiaccio FEMMINILE"]
[null,"Categoria/ruolo",null,"Portiere"]
[null,"Quadro",null,"U12-20"]
[]
[null,null,"SKATING","SKILL","hockey SENSE","PERSON","POWER","TEAM","ÉTA","PHYSE","AMBIENTE DI VITA","PREDISPOSIZIONE"]
[null,"Età","Ponderazione","Ponderazione","Ponderazione","Ponderazione","Ponderazione","Ponderazione","Ponderazione","Ponderazione","Ponderazione","Ponderazione","Total"]
[null,12,18,16,16,18,10,null,10,null,6,6,{"$f":"SUM(C69:L69)","v":100}]
[null,13,18,16,16,18,10,null,10,null,6,6,100]
[null,14,15,15,16,17,9,3,10,4,5,6,100]
[null,15,15,15,16,17,9,3,10,4,5,6,100]
[null,16,13,13,17,17,9,7,4,8,5,7,100]
[null,17,13,13,17,17,9,7,4,8,5,7,100]
[null,18,12,12,18,17,9,9,null,15,null,8,100]
[null,19,12,12,18,17,9,9,null,15,null,8,100]
[null,20,12,12,18,17,9,9,null,15,null,8,100]

{"sheet":"Spiegazioni Skills FTEM","index":1,"n_rows":56,"n_cols":7,"rows_kept":56,"cut":false,"hidden":false,"merged":[[14,4,19,4],[9,4,13,4],[0,0,0,2],[0,4,0,6],[3,4,7,4],[3,0,7,0],[14,0,19,0],[9,0,13,0],[36,0,40,0],[36,4,40,4],[31,4,35,4],[26,4,30,4],[20,4,24,4],[31,0,35,0],[26,0,30,0],[20,0,24,0],[51,4,55,4],[41,0,45,0],[46,0,50,0],[51,0,55,0],[41,4,45,4],[46,4,50,4]]}
["PLAYER",null,null,null,"GOALIE"]
[]
["TEAM","CAPACITÀ","CRITERIO D'OSSERVAZIONE",null,"TEAM","CAPACITÀ","CRITERIO D'OSSERVAZIONE"]
["SQUADRA","Comunicazione","Cura relazioni aperte e rispettose, fiducia quale base comportamentale, affronta i conflitti senza ledere la stabilità del gruppo, comunica con i compagni, gli allenatori e\nfunzionari con i medesimi valori",null,"SQUADRA","Comunicazione","Cura relazioni aperte e rispettose, fiducia quale base comportamentale, affronta i conflitti senza ledere la stabilità del gruppo, comunica con i compagni, gli allenatori e\nfunzionari con i medesimi valori"]
[null,"Capacità nella squadra","Integrazione nel gruppo, definisce e realizza obiettivi comuni, NOI prima dell'IO, contribuisce a creare un buon spirito di squadra e clima di lavoro",null,null,"Capacità nella squadra","Integrazione nel gruppo, definisce e realizza obiettivi comuni, NOI prima dell'IO, contribuisce a creare un buon spirito di squadra e clima di lavoro"]
[null,"Leadership","Assume responsabilità nell'ambito del gruppo, cerca di migliorare la squadra e i compagni, influenza positivamente la dinamica di gruppo",null,null,"Leadership","Assume responsabilità nell'ambito del gruppo, cerca di migliorare la squadra e i compagni, influenza positivamente la dinamica di gruppo"]
[null,"Ripartizione dei ruoli","Riconosce e adempie il suo ruolo, è cosciente della sua posizione nel sistema e nella squadra, mette a disposizione della squadra le sue competenze",null,null,"Ripartizione dei ruoli","Riconosce e adempie il suo ruolo, è cosciente della sua posizione nel sistema e nella squadra, mette a disposizione della squadra le sue competenze"]
[null,"Rispetto","Relazioni rispettose con i compagni, allenatori, avversari, arbitri e staff; rispetta le regole i pricipi del fairplay (compreso la lotta al doping)",null,null,"Rispetto","Relazioni rispettose con i compagni, allenatori, avversari, arbitri e staff; rispetta le regole i pricipi del fairplay (compreso la lotta al doping)"]
["ON ICE","CAPACITÀ","CRITERIO D'OSSERVAZIONE",null,"ON ICE","CAPACITÀ","CRITERIO D'OSSERVAZIONE"]
["PATTINAGGIO","Velocità dei piedi","Accelerazione, partenza, esplosività dei primi 3 passi, frequenza",null,"PATTINAGGIO","Avanti, indietro, lateralmente","Vanti e indietro (spostamenti C-Cut), spostamento in piedi (parallelo, Shuffle, passo a T-spinta, Jump), rimane a lungo sui piedi ed è capace a riposizionarsi correttamente sul\ndisco > Applicazione in situazione di partita con la massima velocità"]
[null,"Velocità/rapidità","Velocità, facoltà di scivolare, avanti / indietro, economia dello sforzo",null,null,"Butterfly - farfalla","Padroneggia la scivolata Butterfly e le diverse scivolate nella massima velocità, compatto con l'angolazione corretta (90 gradi nei confronti del disco) ed è capace di posizionarsi correttamente e far pressione sul disco"]
[null,"Agilità","Cambiamento di direzione, girarsi, stop e ripartenza, \"Nummelin\"",null,null,"Precisione / timing","Spostamento sempre preciso in funzione della linea del disco (linea immaginaria tra il disco e il centro della porta)"]
[null,"Equilibrio","Equilibrio, stabilità, posizione bassa, su una gamba, su entrambe",null,null,"Adattamento al pattinaggio","Non ancora rilevante"]
[null,"Pattinaggio indietro","Accelerazione, velocità, equilibrio",null,null,"Velocità","Può fare gli spostamenti sui pattini controllati e veloci"]
["ABILITÀ","Tirare","Efficienza (poco spazio, poco tempo), ricchezza di varianti, grado di sorpresa (Quick Release), precisione, potenza (conclusioni tattiche)",null,"ABILITÀ","Posizione di base","Posizione > piedi, ginocchia, spalle, peso leggermente sulla punta dei piedi, mani davanti al corpo, posizione compatta come una parete > Controlla questa posizione in piedi e\nsulle ginocchia (reattivo, blocco)"]
[null,"Passare","Passaggio (distanza, flipp, rovescio), ricezione del passaggio (precisione, timing, diritto, rovescio, sul pattino), velocità del disco",null,null,"Posizione ai pali","Posizione > del corpo, dei pattini, posizione del bastone e delle braccia > Trova la sua posizione ideale sui pali (in piedi)"]
[null,"Lavoro col bastone - condotta del disco","Bastone sul disco, intercettare le linee di passaggio, deviare, controllo del bastone avversario",null,null,"Movimento di base in piedi","È capace di essere attivo e controllato quando lavora con le sue mani e il bastone"]
[null,"Possedere/proteggere il disco","Controllo del disco, dribbling, protezione del disco, finte (varianti col pattino, con o senza la balaustra), ingaggi (face-off)",null,null,"Movimento di base butterfly-farfalla","Dispone di una posizione molto compatta, mette il suo peso in avanti sulle ginocchia e può lavorar bene con le mani, i gambali e il bastone"]
[null,"Gioco del corpo","Facoltà di imporsi fisicamente, duelli (ghiaccio aperto, balaustra), subire dei checks/testa alta, livello di lotta, duro ma corretto, blocco dei tiri con il corpo",null,null,"Gestione dei rebound-rimbalzi","Controlla in ogni momento i tiri, è capace di deviare in sicurezza i dischi con il bastone e con i gambali > reagisce rapidamente e preciso su secondi e terzi dischi"]
[null,"-","-",null,null,"Lavoro col bastone","Capacità di bloccare i dischi alla balaustra e sul campo (come un giocatore di movimento e nei diversi modi di tenere il bastone), è in gardo di eseguire dei passaggi (bastone diritto e rovescio - Fore- und Backhand) e di liberarsi del disco via plexiglas"]
["SENSO DELL'HOCKEY","Intelligenza nel gioco","Vedere spazi e giocatori liberi, creare situazioni di superiorità numerica, agire cercando soluzioni in tutte le situazioni, velocità di visualizzazione",null,"SENSO DELL'HOCKEY","Lavoro sugli angoli (Boxcontrol)","Capacità di trovare una posizione perfetta, dispone di gambe e mani molto attive > il portiere dispone delle competenze su quando deve far pressione sul disco e quando deve\nsfruttare i vantaggi del gioco degli angoli"]
[null,"Sensibilità offensiva","Smarcarsi, anticipare le situazioni di gioco, aprire spazi liberi per i compagni, piazzarsi per le conclusioni, velocità nel chiudere gli spazi (pressione), comunicazione",null,null,"Leggere il gioco","Conosce le differenti situazioni delle conclusioni d'attacco, vede dove si trovano gli attaccanti e da quale parte tengono il loro bastone > È capace di leggere la situazione e di agire correttamente"]
[null,"Sensibilità difensiva","Mantenere la posizione difensiva, protezione dello slot, assicurare i compagni / supporto, individuare le linee di passaggio, bloccare i tiri, ridurre velocemente gli spazi, comunicazione",null,null,"Applicare il piano di gara","È capace di ripartire la zona difensiva gradualmente in diversi comprensori e di trasferirlo nella pratica, conosce il principio 1,2,3,4 dietro la porta e ha la capacità di adattarsi alle diverse tecniche e di applicarle al giusto momento"]
[null,"Gestione del disco","Prendere decisioni adeguate nelle situazioni di gioco, supporto, creare superiorità numerica",null,null,"Partecipazione attiva","È attivo nel bloccare i dichi, ha le capacità di giocare passaggi precisi ai propri compagni ed è capace di interferire sui passaggi che attraversano l'area di porta"]
[null,"Creatività","Creare situazioni a sorpresa, fiuto del gol",null,null,"Tattica di squadra off. & dif.","Ha il dono di capire le tattiche offensive e difensive della propria squadra, realizza il suo compito nelle situazioni di conclusioni d'attacco (1:1, 2:1, 2:2, 3:2, 3:1), lo padroneggia anche sotto pressione, prendendo decisioni giuste?"]
["PERSONALITY","CAPACITÀ","CRITERIO D'OSSERVAZIONE",null,"PERSONALITY","CAPACITE","OBSERVATION"]
["PERSONALITÀ","Fiducia in se stesso","Possiede la necessaria fiducia in se stesso, «I can do it»-attitudine, sa valutare le proprie capacità (conosce i propri punti forti e deboli), può realizzare le proprie qualità con\ncostanza, è coraggioso e sa prendere dei rischi calcolati",null,"PERSONALITÀ","Fiducia in se stesso","Possiede la necessaria fiducia in se stesso, «I can do it»-attitudine, sa valutare le proprie capacità (conosce i propri punti forti e deboli), può realizzare le proprie qualità con\ncostanza, è coraggioso e sa prendere dei rischi calcolati"]
[null,"Capacità d'apprendimento","Ha una buona capacità d'apprendimento (sa recepire e realizzare), possiede una personalità, cerca di imparare dai propri errori derivandone delle misure",null,null,"Capacità d'apprendimento","Ha una buona capacità d'apprendimento (sa recepire e realizzare), possiede una personalità, cerca di imparare dai propri errori derivandone delle misure"]
[null,"Senso di responsabilità","Assume responsabiltà per le proprie prestazioni e sviluppo, agisce autonomamente, cura i dettagli, mostra un grande impegno in tutti i settori",null,null,"Senso di responsabilità","Assume responsabiltà per le proprie prestazioni e sviluppo, agisce autonomamente, cura i dettagli, mostra un grande impegno in tutti i settori"]
[null,"Motivazione","È sempre motivato, vuole sempre svilupparsi e imparare, vuol essere il primo e avere successo, non rinuncia mai e non si lascia influenzare dagli insuccessi",null,null,"Motivazione","È sempre motivato, vuole sempre svilupparsi e imparare, vuol essere il primo e avere successo, non rinuncia mai e non si lascia influenzare dagli insuccessi"]
[null,"Prestazione Stile di vita","Gestisce bene la quotidianità il suo ambiente seguendo i principi della prestazione, caparbio, perseverante e finalizzato sugli obiettivi, focus sulla propria prestazione, coraggioso e grintoso, sa imporsi nei confronti delle resistenze, le sfide lo motivano",null,null,"Prestazione Stile di vita","Gestisce bene la quotidianità il suo ambiente seguendo i principi della prestazione, caparbio, perseverante e finalizzato sugli obiettivi, focus sulla propria prestazione, coraggioso e grintoso, sa imporsi nei confronti delle resistenze, le sfide lo motivano"]
["FORZA MENTALE","Impegno","Mostra molta intensità negli allenamenti e nelle partite, dà sempre il massimo e vuole sempre spronare i propri limiti, mostra passione, si sforza ad alzare la qualità negli allenamenti",null,"FORZA MENTALE","Impegno","Mostra molta intensità negli allenamenti e nelle partite, dà sempre il massimo e vuole sempre spronare i propri limiti, mostra passione, si sforza ad alzare la qualità negli allenamenti"]
[null,"Preparazione","Preparazione consapevole e finalizzata, mentalmente e fisicamente, possiede un efficiente approccio per l'ottenimento dell'ideale stato di prestazione (ILZ/ISP)",null,null,"Preparazione","Preparazione consapevole e finalizzata, mentalmente e fisicamente, possiede un efficiente approccio per l'ottenimento dell'ideale stato di prestazione (ILZ/ISP)"]
[null,"Coaching individuale","Possiede una buona capacità di concentrazione, può mantenere il suo ILZ/ISP durante la partita e l'allenamento, può utilizzare tecniche di base per rafforzare il mentale, resistenti contro pensieri e influenze negative, è consapevole del proprio linguaggio del corpo che è in grado di padroneggiare",null,null,"Coaching individuale","Possiede una buona capacità di concentrazione, può mantenere il suo ILZ/ISP durante la partita e l'allenamento, può utilizzare tecniche di base per rafforzare il mentale, resistenti contro pensieri e influenze negative, è consapevole del proprio linguaggio del corpo che è in grado di padroneggiare"]
[null,"Gestione delle energie","Può gestire le proprie energie, cura la rigenerazione, può gestire i momenti in cui si deve andare al massimo oppure risparmiarsi, interruttore on/off",null,null,"Gestione delle energie","Può gestire le proprie energie, cura la rigenerazione, può gestire i momenti in cui si deve andare al massimo oppure risparmiarsi, interruttore on/off"]
[null,"Controllo delle emozioni","Può regolare le proprie emozioni e impulsi, mantiene il controllo quando si trova sotto pressione, sa anche agire adeguatamente in situazioni emotive o frustranti",null,null,"Controllo delle emozioni","Può regolare le proprie emozioni e impulsi, mantiene il controllo quando si trova sotto pressione, sa anche agire adeguatamente in situazioni emotive o frustranti"]
["FISICO","Produzione di prestazione","Possiede nelle gambe e nella parte alta del corpo la necessaria potenza/forza/velocità (fattori neuromuscolari)",null,"FISICO","Produzione di prestazione","Possiede nelle gambe e nella parte alta del corpo la necessaria potenza/forza/velocità (fattori neuromuscolari)"]
[null,"Resistenza specifica alla fatica","È capace di mantenere a lungo nell'ambito di un impiego la potenza/forza/velocità ed è capace di recuperare completamente attraverso i vari impieghi sul ghiaccio (fattori metabolici e cardiovascolari)",null,null,"Resistenza specifica alla fatica","È capace di mantenere a lungo nell'ambito di un impiego la potenza/forza/velocità ed è capace di recuperare completamente attraverso i vari impieghi sul ghiaccio (fattori metabolici e cardiovascolari)"]
[null,"Salute / prevenzione","Possiede la necessaria stabilità (stabilità delle gambe) e mobilità delle articolazioni centrali",null,null,"Salute / prevenzione","Dispone della forza di base necessaria (tensione del corpo) come pure la stabiltà e la mobilità (per esempio la mobilità delle anche e della colonna vertebrale) che nel portiere costituiscono le parti più sollecitate"]
[null,"Competenze della mobilità","Padroneggia le basilari capacità di movimento che garantiscono in modo determinante le abilità specifiche \"skills\", come pure l'efficacia dei movimenti",null,null,"Mobilità","Dispone della mobilità specifica necessaria affinché sia in grado effettuare senza limiti i movimenti specifici del portiere"]
[null,"Robustezza","Possiede la necessaria forza di base (tensione del corpo) per vincere i duelli e resistere alle cariche",null,null,"Competenze della mobilità / coordinazione","Possiede la destrezza dei movimenti (\"skills\") che sono indispensabili per questo sport specifico al fine di garantire un'elevata efficienza dei movimenti stessi"]
["PREZISPOSIZIONE","Resistenza ai carichi","È in grado di sopportare fisicamente e mentalmente alti carichi in allenamento e di partita e di rigenerarsi velocemente",null,"PREZISPOSIZIONE","Resistenza ai carichi","È in grado di sopportare fisicamente e mentalmente alti carichi in allenamento e di partita e di rigenerarsi velocemente"]
[null,"Altezza","L'altezza contribuisce e favorisce lo stile di gioco; l'altezza dei genitori, prevedere l'altezza prevista e l'altezza attuale",null,null,"Altezza","L'altezza contribuisce e favorisce lo stile di gioco; l'altezza dei genitori, prevedere l'altezza prevista e l'altezza attuale"]
[null,"Peso","Il peso favorisce lo stile di gioco; valori indicativi in NHL: 186 +/- 5,3 cm, 91.7 +/- 6.9 kg (Sigmund, Kohn & Sigmundová, 2016)",null,null,"Peso","Il peso favorisce lo stile di gioco; valori indicativi in NHL: 186 +/- 5,3 cm, 91.7 +/- 6.9 kg (Sigmund, Kohn & Sigmundová, 2016)"]
[null,"Tenore di grasso nel corpo","Squadra nazionale, Lega nazionale 8%, Elite A 10%, Novizi élite 10-12 %, Mini Top / Moskito Top 12-15% (secondo Eishockey Performance DEB)",null,null,"Tenore di grasso nel corpo","Squadra nazionale, Lega nazionale 8%, Elite A 10%, Novizi élite 10-12 %, Mini Top / Moskito Top 12-15% (secondo Eishockey Performance DEB)"]
[null,"Morfologia","Ektomorph (atleta magro, poca massa muscolare), mesomorph(costituzione atletica del corpo), endomorph(costituzione solida e morbida del corpo)",null,null,"Morfologia","Ektomorph (atleta magro, poca massa muscolare), mesomorph(costituzione atletica del corpo), endomorph(costituzione solida e morbida del corpo)"]
["ETÀ","Età relativa","Età relativa superiore (sviluppo avanzato, prestazioni alte, selezione, migliore promozione/feedback positivo), età relativa inferiore (sottosviluppato, prestazioni inferiori,\nnessuna selezione > drop out, nessuna promozione speciale)",null,"ETÀ","Età relativa","Età relativa superiore (sviluppo avanzato, prestazioni alte, selezione, migliore promozione/feedback positivo), età relativa inferiore (sottosviluppato, prestazioni inferiori,\nnessuna selezione > drop out, nessuna promozione speciale)"]
[null,"Età biologica","Età secondo lo sviluppo biologico confrontato con la media della popolazione (effettivo stato di sviluppo)",null,null,"Età biologica","Età secondo lo sviluppo biologico confrontato con la media della popolazione (effettivo stato di sviluppo)"]
[null,"Stato di sviluppo","Età biologica (EB) - età cronologica (EC), sviluppo prematuro: EB > EC, sviluppo ritardato: EB<EC",null,null,"Stato di sviluppo","Età biologica (EB) - età cronologica (EC), sviluppo prematuro: EB > EC, sviluppo ritardato: EB<EC"]
[null,"Effetto relativo dell'età","Ripartizione secondo l'età di nascita conduce a relative differenze di sviluppo, mese di nascita",null,null,"Effetto relativo dell'età","Ripartizione secondo l'età di nascita conduce a relative differenze di sviluppo, mese di nascita"]
[null,"Età di hockey","Numero di anni di pratica hockeistica",null,null,"Età di hockey","Numero di anni di pratica hockeistica"]
["AMBIENTE","Famiglia","Situazione familiare stabile; genitori, parenti, fratelli sostengono il giocatore in tutti gli ambiti; impegno e influenza dei genitori è adeguato, i gentori non esercitano una\npressione eccessiva",null,"AMBIENTE","Famiglia","Situazione familiare stabile; genitori, parenti, fratelli sostengono il giocatore in tutti gli ambiti; impegno e influenza dei genitori è adeguato, i gentori non esercitano una\npressione eccessiva"]
[null,"Scuola / formazione","Scuola/professione e sport sono armonizzati e coordinati fra loro, gli spazi d'allenamento sono sufficientemente garantiti (team/individuali); i carichi di lavoro dell'atleta sono commisurati e sopportabili",null,null,"Scuola / formazione","Scuola/professione e sport sono armonizzati e coordinati fra loro, gli spazi d'allenamento sono sufficientemente garantiti (team/individuali); i carichi di lavoro dell'atleta sono commisurati e sopportabili"]
[null,"Situazione geografica","I luoghi d'allenamento, d'alloggio e di formazione/professione sono situati nelle vicinanze (piccolo triangolo), distanza; meno di un'ora di viaggio al giorno, famiglia o famiglia ospite",null,null,"Situazione geografica","I luoghi d'allenamento, d'alloggio e di formazione/professione sono situati nelle vicinanze (piccolo triangolo), distanza; meno di un'ora di viaggio al giorno, famiglia o famiglia ospite"]
[null,"Club","Alta qualità d'allenamento e di allenatori, il Club concede suffcienti spazi di gioco al livello appropriato di categoria/livello; il Club garantisce un'accompagnamento di alta qualità (coordinamento partite/allenamenti, pianificazione della carriera, formazione), ottimale: manager del talento",null,null,"Club","Alta qualità d'allenamento e di allenatori, il Club concede suffcienti spazi di gioco al livello appropriato di categoria/livello; il Club garantisce un'accompagnamento di alta qualità (coordinamento partite/allenamenti, pianificazione della carriera, formazione), ottimale: manager del talento"]
[null,"Finanze","L'ambiente può sostenere i costi per lo sport oppure le migliori possibilità di sostegno",null,null,"Finanze","L'ambiente può sostenere i costi per lo sport oppure le migliori possibilità di sostegno"]

{"sheet":"Foglio giocatori","index":2,"n_rows":50,"n_cols":25,"rows_kept":50,"cut":false,"hidden":false,"merged":[[28,3,28,5],[28,6,28,11],[29,0,33,2],[29,3,29,5],[45,0,49,2],[45,3,45,5],[45,6,45,11],[47,3,47,5],[47,6,47,11],[48,3,48,5],[48,6,48,11],[49,3,49,5],[49,6,49,11],[0,0,0,13],[0,14,0,15],[0,16,0,21],[0,22,0,24],[1,0,1,1],[1,2,1,5],[1,10,1,13],[6,0,6,1],[6,2,6,24],[7,0,7,1],[7,2,7,24],[8,0,8,1],[8,2,8,24],[2,0,2,1],[2,2,2,5],[2,11,2,13],[3,0,3,1],[3,10,3,13],[4,0,4,1],[4,2,4,5],[4,10,4,13],[12,23,16,23],[16,3,16,5],[16,6,16,11],[11,12,11,13],[11,15,11,21],[12,0,16,2],[12,3,12,5],[12,6,12,11],[10,0,10,13],[10,14,10,24],[11,0,11,2],[11,3,11,5],[11,6,11,11],[17,12,17,13],[17,15,17,21],[18,0,22,2],[18,3,18,5],[18,6,18,11],[17,0,17,2],[17,3,17,5],[17,6,17,11],[12,12,16,12],[12,14,16,14],[12,15,16,21],[13,3,13,5],[13,6,13,11],[14,3,14,5],[14,6,14,11],[15,3,15,5],[15,6,15,11],[18,23,22,23],[19,3,19,5],[19,6,19,11],[21,3,21,5],[21,6,21,11],[22,3,22,5],[22,6,22,11],[18,12,22,12],[18,14,22,14],[18,15,22,21],[20,3,20,5],[20,6,20,11],[23,12,28,12],[23,14,28,14],[23,15,28,21],[23,0,28,2],[23,3,23,5],[23,6,23,11],[29,23,33,23],[30,3,30,5],[30,6,30,11],[32,3,32,5],[32,6,32,11],[33,3,33,5],[33,6,33,11],[29,12,33,12],[29,14,33,14],[24,3,24,5],[24,6,24,11],[25,3,25,5],[25,6,25,11],[27,3,27,5],[27,6,27,11],[23,23,28,23],[26,3,26,5],[26,6,26,11],[34,12,34,13],[34,15,34,21],[35,0,39,2],[35,3,35,5],[35,6,35,11],[34,0,34,2],[34,3,34,5],[34,6,34,11],[29,15,33,21],[29,6,29,11],[31,3,31,5],[31,6,31,11],[40,0,44,2],[40,3,40,5],[40,6,40,11],[41,3,41,5],[41,6,41,11],[35,23,39,23],[36,3,36,5],[36,6,36,11],[38,3,38,5],[38,6,38,11],[39,3,39,5],[39,6,39,11],[35,12,39,12],[35,14,39,14],[35,15,39,21],[37,3,37,5],[37,6,37,11],[43,3,43,5],[43,6,43,11],[46,3,46,5],[46,6,46,11],[40,23,44,23],[42,3,42,5],[42,6,42,11],[44,3,44,5],[44,6,44,11],[40,12,44,12],[40,14,44,14],[40,15,44,21],[45,12,49,12],[45,14,49,14],[45,15,49,21],[45,23,49,23]]}
["Informazioni personali",null,null,null,null,null,null,null,null,null,null,null,null,null,"Predisposizione",null,"Valutazioni",null,null,null,null,null,"Rating"]
["COGNOME",null,null,null,null,null,"POSIZIONE",null,null,"INDIRIZZO",null,null,null,null,"Età\" (biologica/età relativa)",null,"Data 1",null,null,"cm",null,"Kg",null,"ECCELLENTE",5]
["NOME",null,null,null,null,null,"BASTONE",null,null,"LUOGO",null,null,null,null,"Predisposizione",null,"Data 2",null,null,"cm",null,"Kg",null,"BUONO",4]
["DATA DI NASC.",null,null,null,null,null,"ALTEZZA",null,"cm (Final)","TELEFONO",null,null,null,null,"Ambiente di vita",null,"Data 3",null,null,"cm",null,"Kg",null,"MEDIO/DISCRETO",3]
["SESSO",null,null,null,null,null,"PESO",null,"Kg (Final)","E-Mail",null,null,null,null,null,null,"Data 4",null,null,"cm",null,"Kg",null,"CON LACUNE",2]
[null,null,null,null,null,null,null,null,null,null,null,null,null,null,null,null,"Data 5",null,null,"cm",null,"Kg",null,"INSUFFICIENTE",1]
["Visione",null,"xxx"]
["Prossimo passo",null,"xxx"]
["Proflio giocatore",null,"xxx"]
[]
["VALUTAZIONI (COACH / GIOCATORE)",null,null,null,null,null,null,null,null,null,null,null,null,null,"Obiettivi SMART"]
[{"$f":"'Spiegazioni Skills FTEM'!A3","v":"TEAM"},null,null,{"$f":"'Spiegazioni Skills FTEM'!B3","v":"CAPACITÀ"},null,null,{"$f":"'Spiegazioni Skills FTEM'!C3","v":"CRITERIO D'OSSERVAZIONE"},null,null,{"$f":"'Spiegazioni Skills FTEM'!H3","v":0},null,null,"Player",null,"OBIETTIVO","PROVVEDIMENTI:\n(SPECIFICI, MISURABILI, REALISTICI)",null,null,null,null,null,null,"TERMINE","COTROLLO DELL'OBIETTIVO","Data"]
[{"$f":"'Spiegazioni Skills FTEM'!A4","v":"SQUADRA"},null,null,{"$f":"IF($H$2=\"G\",'Spiegazioni Skills FTEM'!F4,'Spiegazioni Skills FTEM'!B4)","v":"Comunicazione"},null,null,{"$f":"IF($H$2=\"G\",'Spiegazioni Skills FTEM'!G4,'Spiegazioni Skills FTEM'!C4)","v":"Cura relazioni aperte e rispettose, fiducia quale base comportamentale, affronta i conflitti senza ledere la stabilità del gruppo, comunica con i compagni, gli allenatori e\nfunzionari con i medesimi valori"},null,null,{"$f":"IF($H$2=\"G\",'Spiegazioni Skills FTEM'!#REF!,'Spiegazioni Skills FTEM'!#REF!)","v":{"$error":"#REF!"}},null,null,{"$f":"IFERROR(AVERAGE(N13:N17),\"-\")","v":"-"}]
[{"$f":"'Spiegazioni Skills FTEM'!A5","v":0},null,null,{"$f":"IF($H$2=\"G\",'Spiegazioni Skills FTEM'!F5,'Spiegazioni Skills FTEM'!B5)","v":"Capacità nella squadra"},null,null,{"$f":"IF($H$2=\"G\",'Spiegazioni Skills FTEM'!G5,'Spiegazioni Skills FTEM'!C5)","v":"Integrazione nel gruppo, definisce e realizza obiettivi comuni, NOI prima dell'IO, contribuisce a creare un buon spirito di squadra e clima di lavoro"},null,null,{"$f":"IF($H$2=\"G\",'Spiegazioni Skills FTEM'!#REF!,'Spiegazioni Skills FTEM'!#REF!)","v":{"$error":"#REF!"}}]
[{"$f":"'Spiegazioni Skills FTEM'!A6","v":0},null,null,{"$f":"IF($H$2=\"G\",'Spiegazioni Skills FTEM'!F6,'Spiegazioni Skills FTEM'!B6)","v":"Leadership"},null,null,{"$f":"IF($H$2=\"G\",'Spiegazioni Skills FTEM'!G6,'Spiegazioni Skills FTEM'!C6)","v":"Assume responsabilità nell'ambito del gruppo, cerca di migliorare la squadra e i compagni, influenza positivamente la dinamica di gruppo"},null,null,{"$f":"IF($H$2=\"G\",'Spiegazioni Skills FTEM'!#REF!,'Spiegazioni Skills FTEM'!#REF!)","v":{"$error":"#REF!"}}]
[{"$f":"'Spiegazioni Skills FTEM'!A7","v":0},null,null,{"$f":"IF($H$2=\"G\",'Spiegazioni Skills FTEM'!F7,'Spiegazioni Skills FTEM'!B7)","v":"Ripartizione dei ruoli"},null,null,{"$f":"IF($H$2=\"G\",'Spiegazioni Skills FTEM'!G7,'Spiegazioni Skills FTEM'!C7)","v":"Riconosce e adempie il suo ruolo, è cosciente della sua posizione nel sistema e nella squadra, mette a disposizione della squadra le sue competenze"},null,null,{"$f":"IF($H$2=\"G\",'Spiegazioni Skills FTEM'!#REF!,'Spiegazioni Skills FTEM'!#REF!)","v":{"$error":"#REF!"}}]
[{"$f":"'Spiegazioni Skills FTEM'!A8","v":0},null,null,{"$f":"IF($H$2=\"G\",'Spiegazioni Skills FTEM'!F8,'Spiegazioni Skills FTEM'!B8)","v":"Rispetto"},null,null,{"$f":"IF($H$2=\"G\",'Spiegazioni Skills FTEM'!G8,'Spiegazioni Skills FTEM'!C8)","v":"Relazioni rispettose con i compagni, allenatori, avversari, arbitri e staff; rispetta le regole i pricipi del fairplay (compreso la lotta al doping)"},null,null,{"$f":"IF($H$2=\"G\",'Spiegazioni Skills FTEM'!#REF!,'Spiegazioni Skills FTEM'!#REF!)","v":{"$error":"#REF!"}}]
[{"$f":"'Spiegazioni Skills FTEM'!A9","v":"ON ICE"},null,null,{"$f":"'Spiegazioni Skills FTEM'!B9","v":"CAPACITÀ"},null,null,{"$f":"'Spiegazioni Skills FTEM'!C9","v":"CRITERIO D'OSSERVAZIONE"},null,null,{"$f":"'Spiegazioni Skills FTEM'!H9","v":0},null,null,"Player",null,"OBIETTIVO","PROVVEDIMENTI:\n(SPECIFICI, MISURABILI, REALISTICI)",null,null,null,null,null,null,"TERMINE","COTROLLO DELL'OBIETTIVO","Date"]
[{"$f":"'Spiegazioni Skills FTEM'!A10","v":"PATTINAGGIO"},null,null,{"$f":"IF($H$2=\"G\",'Spiegazioni Skills FTEM'!F10,'Spiegazioni Skills FTEM'!B10)","v":"Velocità dei piedi"},null,null,{"$f":"IF($H$2=\"G\",'Spiegazioni Skills FTEM'!G10,'Spiegazioni Skills FTEM'!C10)","v":"Accelerazione, partenza, esplosività dei primi 3 passi, frequenza"},null,null,{"$f":"IF($H$2=\"G\",'Spiegazioni Skills FTEM'!#REF!,'Spiegazioni Skills FTEM'!#REF!)","v":{"$error":"#REF!"}},null,null,{"$f":"IFERROR(AVERAGE(N19:N23),\"-\")","v":"-"}]
[{"$f":"'Spiegazioni Skills FTEM'!A11:A11","v":0},null,null,{"$f":"IF($H$2=\"G\",'Spiegazioni Skills FTEM'!F11,'Spiegazioni Skills FTEM'!B11)","v":"Velocità/rapidità"},null,null,{"$f":"IF($H$2=\"G\",'Spiegazioni Skills FTEM'!G11,'Spiegazioni Skills FTEM'!C11)","v":"Velocità, facoltà di scivolare, avanti / indietro, economia dello sforzo"},null,null,{"$f":"IF($H$2=\"G\",'Spiegazioni Skills FTEM'!#REF!,'Spiegazioni Skills FTEM'!#REF!)","v":{"$error":"#REF!"}}]
[null,null,null,{"$f":"IF($H$2=\"G\",'Spiegazioni Skills FTEM'!F12,'Spiegazioni Skills FTEM'!B12)","v":"Agilità"},null,null,{"$f":"IF($H$2=\"G\",'Spiegazioni Skills FTEM'!G12,'Spiegazioni Skills FTEM'!C12)","v":"Cambiamento di direzione, girarsi, stop e ripartenza, \"Nummelin\""},null,null,{"$f":"IF($H$2=\"G\",'Spiegazioni Skills FTEM'!#REF!,'Spiegazioni Skills FTEM'!#REF!)","v":{"$error":"#REF!"}}]
[{"$f":"'Spiegazioni Skills FTEM'!A12:A12","v":0},null,null,{"$f":"IF($H$2=\"G\",'Spiegazioni Skills FTEM'!F13,'Spiegazioni Skills FTEM'!B13)","v":"Equilibrio"},null,null,{"$f":"IF($H$2=\"G\",'Spiegazioni Skills FTEM'!G13,'Spiegazioni Skills FTEM'!C13)","v":"Equilibrio, stabilità, posizione bassa, su una gamba, su entrambe"},null,null,{"$f":"IF($H$2=\"G\",'Spiegazioni Skills FTEM'!#REF!,'Spiegazioni Skills FTEM'!#REF!)","v":{"$error":"#REF!"}},null,null,{"$f":"IFERROR(AVERAGE(N22:N23),\"-\")","v":"-"}]
[{"$f":"'Spiegazioni Skills FTEM'!A14:A14","v":0},null,null,{"$f":"IF($H$2=\"G\",'Spiegazioni Skills FTEM'!F14,'Spiegazioni Skills FTEM'!B14)","v":"Pattinaggio indietro"},null,null,{"$f":"IF($H$2=\"G\",'Spiegazioni Skills FTEM'!G14,'Spiegazioni Skills FTEM'!C14)","v":"Accelerazione, velocità, equilibrio"},null,null,{"$f":"IF($H$2=\"G\",'Spiegazioni Skills FTEM'!#REF!,'Spiegazioni Skills FTEM'!#REF!)","v":{"$error":"#REF!"}}]
[{"$f":"'Spiegazioni Skills FTEM'!A15","v":"ABILITÀ"},null,null,{"$f":"IF($H$2=\"G\",'Spiegazioni Skills FTEM'!F15,'Spiegazioni Skills FTEM'!B15)","v":"Tirare"},null,null,{"$f":"IF($H$2=\"G\",'Spiegazioni Skills FTEM'!G15,'Spiegazioni Skills FTEM'!C15)","v":"Efficienza (poco spazio, poco tempo), ricchezza di varianti, grado di sorpresa (Quick Release), precisione, potenza (conclusioni tattiche)"},null,null,{"$f":"IF($H$2=\"G\",'Spiegazioni Skills FTEM'!#REF!,'Spiegazioni Skills FTEM'!#REF!)","v":{"$error":"#REF!"}},null,null,{"$f":"IFERROR(AVERAGE(N24:N29),\"-\")","v":"-"}]
[null,null,null,{"$f":"IF($H$2=\"G\",'Spiegazioni Skills FTEM'!F16,'Spiegazioni Skills FTEM'!B16)","v":"Passare"},null,null,{"$f":"IF($H$2=\"G\",'Spiegazioni Skills FTEM'!G16,'Spiegazioni Skills FTEM'!C16)","v":"Passaggio (distanza, flipp, rovescio), ricezione del passaggio (precisione, timing, diritto, rovescio, sul pattino), velocità del disco"},null,null,{"$f":"IF($H$2=\"G\",'Spiegazioni Skills FTEM'!#REF!,'Spiegazioni Skills FTEM'!#REF!)","v":{"$error":"#REF!"}}]
[null,null,null,{"$f":"IF($H$2=\"G\",'Spiegazioni Skills FTEM'!F17,'Spiegazioni Skills FTEM'!B17)","v":"Lavoro col bastone - condotta del disco"},null,null,{"$f":"IF($H$2=\"G\",'Spiegazioni Skills FTEM'!G17,'Spiegazioni Skills FTEM'!C17)","v":"Bastone sul disco, intercettare le linee di passaggio, deviare, controllo del bastone avversario"},null,null,{"$f":"IF($H$2=\"G\",'Spiegazioni Skills FTEM'!#REF!,'Spiegazioni Skills FTEM'!#REF!)","v":{"$error":"#REF!"}}]
[{"$f":"'Spiegazioni Skills FTEM'!A16:A16","v":0},null,null,{"$f":"IF($H$2=\"G\",'Spiegazioni Skills FTEM'!F18,'Spiegazioni Skills FTEM'!B18)","v":"Possedere/proteggere il disco"},null,null,{"$f":"IF($H$2=\"G\",'Spiegazioni Skills FTEM'!G18,'Spiegazioni Skills FTEM'!C18)","v":"Controllo del disco, dribbling, protezione del disco, finte (varianti col pattino, con o senza la balaustra), ingaggi (face-off)"},null,null,{"$f":"IF($H$2=\"G\",'Spiegazioni Skills FTEM'!#REF!,'Spiegazioni Skills FTEM'!#REF!)","v":{"$error":"#REF!"}}]
[{"$f":"'Spiegazioni Skills FTEM'!A17:A17","v":0},null,null,{"$f":"IF($H$2=\"G\",'Spiegazioni Skills FTEM'!F19,'Spiegazioni Skills FTEM'!B19)","v":"Gioco del corpo"},null,null,{"$f":"IF($H$2=\"G\",'Spiegazioni Skills FTEM'!G19,'Spiegazioni Skills FTEM'!C19)","v":"Facoltà di imporsi fisicamente, duelli (ghiaccio aperto, balaustra), subire dei checks/testa alta, livello di lotta, duro ma corretto, blocco dei tiri con il corpo"},null,null,{"$f":"IF($H$2=\"G\",'Spiegazioni Skills FTEM'!#REF!,'Spiegazioni Skills FTEM'!#REF!)","v":{"$error":"#REF!"}}]
[{"$f":"'Spiegazioni Skills FTEM'!A20:A20","v":0},null,null,{"$f":"IF($H$2=\"G\",'Spiegazioni Skills FTEM'!F20,'Spiegazioni Skills FTEM'!B20)","v":"-"},null,null,{"$f":"IF($H$2=\"G\",'Spiegazioni Skills FTEM'!G20,'Spiegazioni Skills FTEM'!C20)","v":"-"},null,null,{"$f":"IF($H$2=\"G\",'Spiegazioni Skills FTEM'!#REF!,'Spiegazioni Skills FTEM'!#REF!)","v":{"$error":"#REF!"}}]
[{"$f":"'Spiegazioni Skills FTEM'!A21","v":"SENSO DELL'HOCKEY"},null,null,{"$f":"IF($H$2=\"G\",'Spiegazioni Skills FTEM'!F21,'Spiegazioni Skills FTEM'!B21)","v":"Intelligenza nel gioco"},null,null,{"$f":"IF($H$2=\"G\",'Spiegazioni Skills FTEM'!G21,'Spiegazioni Skills FTEM'!C21)","v":"Vedere spazi e giocatori liberi, creare situazioni di superiorità numerica, agire cercando soluzioni in tutte le situazioni, velocità di visualizzazione"},null,null,{"$f":"IF($H$2=\"G\",'Spiegazioni Skills FTEM'!#REF!,'Spiegazioni Skills FTEM'!#REF!)","v":{"$error":"#REF!"}},null,null,{"$f":"IFERROR(AVERAGE(N30:N34),\"-\")","v":"-"}]
[{"$f":"'Spiegazioni Skills FTEM'!A22:A22","v":0},null,null,{"$f":"IF($H$2=\"G\",'Spiegazioni Skills FTEM'!F22,'Spiegazioni Skills FTEM'!B22)","v":"Sensibilità offensiva"},null,null,{"$f":"IF($H$2=\"G\",'Spiegazioni Skills FTEM'!G22,'Spiegazioni Skills FTEM'!C22)","v":"Smarcarsi, anticipare le situazioni di gioco, aprire spazi liberi per i compagni, piazzarsi per le conclusioni, velocità nel chiudere gli spazi (pressione), comunicazione"},null,null,{"$f":"IF($H$2=\"G\",'Spiegazioni Skills FTEM'!#REF!,'Spiegazioni Skills FTEM'!#REF!)","v":{"$error":"#REF!"}}]
[null,null,null,{"$f":"IF($H$2=\"G\",'Spiegazioni Skills FTEM'!F23,'Spiegazioni Skills FTEM'!B23)","v":"Sensibilità difensiva"},null,null,{"$f":"IF($H$2=\"G\",'Spiegazioni Skills FTEM'!G23,'Spiegazioni Skills FTEM'!C23)","v":"Mantenere la posizione difensiva, protezione dello slot, assicurare i compagni / supporto, individuare le linee di passaggio, bloccare i tiri, ridurre velocemente gli spazi, comunicazione"},null,null,{"$f":"IF($H$2=\"G\",'Spiegazioni Skills FTEM'!#REF!,'Spiegazioni Skills FTEM'!#REF!)","v":{"$error":"#REF!"}}]
[{"$f":"'Spiegazioni Skills FTEM'!A24:A24","v":0},null,null,{"$f":"IF($H$2=\"G\",'Spiegazioni Skills FTEM'!F24,'Spiegazioni Skills FTEM'!B24)","v":"Gestione del disco"},null,null,{"$f":"IF($H$2=\"G\",'Spiegazioni Skills FTEM'!G24,'Spiegazioni Skills FTEM'!C24)","v":"Prendere decisioni adeguate nelle situazioni di gioco, supporto, creare superiorità numerica"},null,null,{"$f":"IF($H$2=\"G\",'Spiegazioni Skills FTEM'!#REF!,'Spiegazioni Skills FTEM'!#REF!)","v":{"$error":"#REF!"}}]
[{"$f":"'Spiegazioni Skills FTEM'!A25:A25","v":0},null,null,{"$f":"IF($H$2=\"G\",'Spiegazioni Skills FTEM'!F25,'Spiegazioni Skills FTEM'!B25)","v":"Creatività"},null,null,{"$f":"IF($H$2=\"G\",'Spiegazioni Skills FTEM'!G25,'Spiegazioni Skills FTEM'!C25)","v":"Creare situazioni a sorpresa, fiuto del gol"},null,null,{"$f":"IF($H$2=\"G\",'Spiegazioni Skills FTEM'!#REF!,'Spiegazioni Skills FTEM'!#REF!)","v":{"$error":"#REF!"}}]
[{"$f":"'Spiegazioni Skills FTEM'!A26","v":"PERSONALITY"},null,null,{"$f":"'Spiegazioni Skills FTEM'!B26","v":"CAPACITÀ"},null,null,{"$f":"'Spiegazioni Skills FTEM'!C26","v":"CRITERIO D'OSSERVAZIONE"},null,null,{"$f":"'Spiegazioni Skills FTEM'!H26","v":0},null,null,"Player",null,"OBIETTIVO","PROVVEDIMENTI:\n(SPECIFICI, MISURABILI, REALISTICI)",null,null,null,null,null,null,"TERMINE","COTROLLO DELL'OBIETTIVO","Date"]
[{"$f":"'Spiegazioni Skills FTEM'!A27","v":"PERSONALITÀ"},null,null,{"$f":"IF($H$2=\"G\",'Spiegazioni Skills FTEM'!F27,'Spiegazioni Skills FTEM'!B27)","v":"Fiducia in se stesso"},null,null,{"$f":"IF($H$2=\"G\",'Spiegazioni Skills FTEM'!G27,'Spiegazioni Skills FTEM'!C27)","v":"Possiede la necessaria fiducia in se stesso, «I can do it»-attitudine, sa valutare le proprie capacità (conosce i propri punti forti e deboli), può realizzare le proprie qualità con\ncostanza, è coraggioso e sa prendere dei rischi calcolati"},null,null,{"$f":"IF($H$2=\"G\",'Spiegazioni Skills FTEM'!#REF!,'Spiegazioni Skills FTEM'!#REF!)","v":{"$error":"#REF!"}},null,null,{"$f":"IFERROR(AVERAGE(N36:N40),\"-\")","v":"-"}]
[{"$f":"'Spiegazioni Skills FTEM'!A28:A28","v":0},null,null,{"$f":"IF($H$2=\"G\",'Spiegazioni Skills FTEM'!F28,'Spiegazioni Skills FTEM'!B28)","v":"Capacità d'apprendimento"},null,null,{"$f":"IF($H$2=\"G\",'Spiegazioni Skills FTEM'!G28,'Spiegazioni Skills FTEM'!C28)","v":"Ha una buona capacità d'apprendimento (sa recepire e realizzare), possiede una personalità, cerca di imparare dai propri errori derivandone delle misure"},null,null,{"$f":"IF($H$2=\"G\",'Spiegazioni Skills FTEM'!#REF!,'Spiegazioni Skills FTEM'!#REF!)","v":{"$error":"#REF!"}}]
[null,null,null,{"$f":"IF($H$2=\"G\",'Spiegazioni Skills FTEM'!F29,'Spiegazioni Skills FTEM'!B29)","v":"Senso di responsabilità"},null,null,{"$f":"IF($H$2=\"G\",'Spiegazioni Skills FTEM'!G29,'Spiegazioni Skills FTEM'!C29)","v":"Assume responsabiltà per le proprie prestazioni e sviluppo, agisce autonomamente, cura i dettagli, mostra un grande impegno in tutti i settori"},null,null,{"$f":"IF($H$2=\"G\",'Spiegazioni Skills FTEM'!#REF!,'Spiegazioni Skills FTEM'!#REF!)","v":{"$error":"#REF!"}}]
[{"$f":"'Spiegazioni Skills FTEM'!A30:A30","v":0},null,null,{"$f":"IF($H$2=\"G\",'Spiegazioni Skills FTEM'!F30,'Spiegazioni Skills FTEM'!B30)","v":"Motivazione"},null,null,{"$f":"IF($H$2=\"G\",'Spiegazioni Skills FTEM'!G30,'Spiegazioni Skills FTEM'!C30)","v":"È sempre motivato, vuole sempre svilupparsi e imparare, vuol essere il primo e avere successo, non rinuncia mai e non si lascia influenzare dagli insuccessi"},null,null,{"$f":"IF($H$2=\"G\",'Spiegazioni Skills FTEM'!#REF!,'Spiegazioni Skills FTEM'!#REF!)","v":{"$error":"#REF!"}}]
[{"$f":"'Spiegazioni Skills FTEM'!A31:A31","v":0},null,null,{"$f":"IF($H$2=\"G\",'Spiegazioni Skills FTEM'!F31,'Spiegazioni Skills FTEM'!B31)","v":"Prestazione Stile di vita"},null,null,{"$f":"IF($H$2=\"G\",'Spiegazioni Skills FTEM'!G31,'Spiegazioni Skills FTEM'!C31)","v":"Gestisce bene la quotidianità il suo ambiente seguendo i principi della prestazione, caparbio, perseverante e finalizzato sugli obiettivi, focus sulla propria prestazione, coraggioso e grintoso, sa imporsi nei confronti delle resistenze, le sfide lo motivano"},null,null,{"$f":"IF($H$2=\"G\",'Spiegazioni Skills FTEM'!#REF!,'Spiegazioni Skills FTEM'!#REF!)","v":{"$error":"#REF!"}}]
[{"$f":"'Spiegazioni Skills FTEM'!A32","v":"FORZA MENTALE"},null,null,{"$f":"IF($H$2=\"G\",'Spiegazioni Skills FTEM'!F32,'Spiegazioni Skills FTEM'!B32)","v":"Impegno"},null,null,{"$f":"IF($H$2=\"G\",'Spiegazioni Skills FTEM'!G32,'Spiegazioni Skills FTEM'!C32)","v":"Mostra molta intensità negli allenamenti e nelle partite, dà sempre il massimo e vuole sempre spronare i propri limiti, mostra passione, si sforza ad alzare la qualità negli allenamenti"},null,null,{"$f":"IF($H$2=\"G\",'Spiegazioni Skills FTEM'!#REF!,'Spiegazioni Skills FTEM'!#REF!)","v":{"$error":"#REF!"}},null,null,{"$f":"IFERROR(AVERAGE(N41:N45),\"-\")","v":"-"}]
[null,null,null,{"$f":"IF($H$2=\"G\",'Spiegazioni Skills FTEM'!F33,'Spiegazioni Skills FTEM'!B33)","v":"Preparazione"},null,null,{"$f":"IF($H$2=\"G\",'Spiegazioni Skills FTEM'!G33,'Spiegazioni Skills FTEM'!C33)","v":"Preparazione consapevole e finalizzata, mentalmente e fisicamente, possiede un efficiente approccio per l'ottenimento dell'ideale stato di prestazione (ILZ/ISP)"},null,null,{"$f":"IF($H$2=\"G\",'Spiegazioni Skills FTEM'!#REF!,'Spiegazioni Skills FTEM'!#REF!)","v":{"$error":"#REF!"}}]
[{"$f":"'Spiegazioni Skills FTEM'!A34:A34","v":0},null,null,{"$f":"IF($H$2=\"G\",'Spiegazioni Skills FTEM'!F34,'Spiegazioni Skills FTEM'!B34)","v":"Coaching individuale"},null,null,{"$f":"IF($H$2=\"G\",'Spiegazioni Skills FTEM'!G34,'Spiegazioni Skills FTEM'!C34)","v":"Possiede una buona capacità di concentrazione, può mantenere il suo ILZ/ISP durante la partita e l'allenamento, può utilizzare tecniche di base per rafforzare il mentale, resistenti contro pensieri e influenze negative, è consapevole del proprio linguaggio del corpo che è in grado di padroneggiare"},null,null,{"$f":"IF($H$2=\"G\",'Spiegazioni Skills FTEM'!#REF!,'Spiegazioni Skills FTEM'!#REF!)","v":{"$error":"#REF!"}}]
[{"$f":"'Spiegazioni Skills FTEM'!A35:A35","v":0},null,null,{"$f":"IF($H$2=\"G\",'Spiegazioni Skills FTEM'!F35,'Spiegazioni Skills FTEM'!B35)","v":"Gestione delle energie"},null,null,{"$f":"IF($H$2=\"G\",'Spiegazioni Skills FTEM'!G35,'Spiegazioni Skills FTEM'!C35)","v":"Può gestire le proprie energie, cura la rigenerazione, può gestire i momenti in cui si deve andare al massimo oppure risparmiarsi, interruttore on/off"},null,null,{"$f":"IF($H$2=\"G\",'Spiegazioni Skills FTEM'!#REF!,'Spiegazioni Skills FTEM'!#REF!)","v":{"$error":"#REF!"}}]
[{"$f":"'Spiegazioni Skills FTEM'!A36:A36","v":0},null,null,{"$f":"IF($H$2=\"G\",'Spiegazioni Skills FTEM'!F36,'Spiegazioni Skills FTEM'!B36)","v":"Controllo delle emozioni"},null,null,{"$f":"IF($H$2=\"G\",'Spiegazioni Skills FTEM'!G36,'Spiegazioni Skills FTEM'!C36)","v":"Può regolare le proprie emozioni e impulsi, mantiene il controllo quando si trova sotto pressione, sa anche agire adeguatamente in situazioni emotive o frustranti"},null,null,{"$f":"IF($H$2=\"G\",'Spiegazioni Skills FTEM'!#REF!,'Spiegazioni Skills FTEM'!#REF!)","v":{"$error":"#REF!"}}]
[{"$f":"'Spiegazioni Skills FTEM'!A37","v":"FISICO"},null,null,{"$f":"IF($H$2=\"G\",'Spiegazioni Skills FTEM'!F37,'Spiegazioni Skills FTEM'!B37)","v":"Produzione di prestazione"},null,null,{"$f":"IF($H$2=\"G\",'Spiegazioni Skills FTEM'!G37,'Spiegazioni Skills FTEM'!C37)","v":"Possiede nelle gambe e nella parte alta del corpo la necessaria potenza/forza/velocità (fattori neuromuscolari)"},null,null,{"$f":"IF($H$2=\"G\",'Spiegazioni Skills FTEM'!#REF!,'Spiegazioni Skills FTEM'!#REF!)","v":{"$error":"#REF!"}},null,null,{"$f":"IFERROR(AVERAGE(N46:N50),\"-\")","v":"-"}]
[null,null,null,{"$f":"IF($H$2=\"G\",'Spiegazioni Skills FTEM'!F38,'Spiegazioni Skills FTEM'!B38)","v":"Resistenza specifica alla fatica"},null,null,{"$f":"IF($H$2=\"G\",'Spiegazioni Skills FTEM'!G38,'Spiegazioni Skills FTEM'!C38)","v":"È capace di mantenere a lungo nell'ambito di un impiego la potenza/forza/velocità ed è capace di recuperare completamente attraverso i vari impieghi sul ghiaccio (fattori metabolici e cardiovascolari)"},null,null,{"$f":"IF($H$2=\"G\",'Spiegazioni Skills FTEM'!#REF!,'Spiegazioni Skills FTEM'!#REF!)","v":{"$error":"#REF!"}}]
[{"$f":"'Spiegazioni Skills FTEM'!A39:A39","v":0},null,null,{"$f":"IF($H$2=\"G\",'Spiegazioni Skills FTEM'!F39,'Spiegazioni Skills FTEM'!B39)","v":"Salute / prevenzione"},null,null,{"$f":"IF($H$2=\"G\",'Spiegazioni Skills FTEM'!G39,'Spiegazioni Skills FTEM'!C39)","v":"Possiede la necessaria stabilità (stabilità delle gambe) e mobilità delle articolazioni centrali"},null,null,{"$f":"IF($H$2=\"G\",'Spiegazioni Skills FTEM'!#REF!,'Spiegazioni Skills FTEM'!#REF!)","v":{"$error":"#REF!"}}]
[{"$f":"'Spiegazioni Skills FTEM'!A40:A40","v":0},null,null,{"$f":"IF($H$2=\"G\",'Spiegazioni Skills FTEM'!F40,'Spiegazioni Skills FTEM'!B40)","v":"Competenze della mobilità"},null,null,{"$f":"IF($H$2=\"G\",'Spiegazioni Skills FTEM'!G40,'Spiegazioni Skills FTEM'!C40)","v":"Padroneggia le basilari capacità di movimento che garantiscono in modo determinante le abilità specifiche \"skills\", come pure l'efficacia dei movimenti"},null,null,{"$f":"IF($H$2=\"G\",'Spiegazioni Skills FTEM'!#REF!,'Spiegazioni Skills FTEM'!#REF!)","v":{"$error":"#REF!"}}]
[{"$f":"'Spiegazioni Skills FTEM'!A41:A41","v":0},null,null,{"$f":"IF($H$2=\"G\",'Spiegazioni Skills FTEM'!F41,'Spiegazioni Skills FTEM'!B41)","v":"Robustezza"},null,null,{"$f":"IF($H$2=\"G\",'Spiegazioni Skills FTEM'!G41,'Spiegazioni Skills FTEM'!C41)","v":"Possiede la necessaria forza di base (tensione del corpo) per vincere i duelli e resistere alle cariche"},null,null,{"$f":"IF($H$2=\"G\",'Spiegazioni Skills FTEM'!#REF!,'Spiegazioni Skills FTEM'!#REF!)","v":{"$error":"#REF!"}}]

{"sheet":"Foglio di Selezione","index":3,"n_rows":40,"n_cols":55,"rows_kept":40,"cut":false,"hidden":false,"merged":[[2,10,2,13],[6,10,6,13],[0,0,0,34],[8,35,8,44],[4,12,4,13],[2,33,2,34],[4,33,4,34],[6,33,6,34],[8,0,8,34]]}
["SIHF STAR PROFILE"]
[null,null,null,null,null,null,"SEX",null,null,null,null,null,null,null,null,null,null,null,null,"G"]
[null,null,null,null,null,null,"M",null,null,"CLUB","HC Musterclub",null,null,null,null,null,null,null,null,null,null,null,null,null,null,null,null,null,null,null,null,null,"TEAM","U15"]
[]
[null,null,null,null,null,null,"W",null,null,"STAGIONE",2019,"-",2020,null,null,null,null,null,null,null,null,null,null,null,null,null,null,null,null,null,null,null,"CLASSE D'ETÀ",2005]
[]
[null,null,null,null,null,null,null,null,null,"STATO AL","2019-06-26",null,null,null,null,null,null,null,null,null,null,null,null,null,null,null,null,null,null,null,null,null,"COACH","Daniele Celio"]
[]
["VALUTAZIONI FINALI"]
["Spielre ID","Name\nNom","Vorname\nPrénom","Club","Strasse\nRue","Ort\nLieu","PLZ","Phone\n(Natel / Home)","EMAIL","Grösse\nGrandeur","Gewicht\nPoid","Position\nG / D / FC / FW","Sex","Geburtsdatum\nDate de naissance","Monat\nmois","Jahr\nannée","Testdatum\nDate du test","Monat","Jahr","SKATING","SKILLS","hockey SENSE","PERSON","POWER","PHYSE (Condizioni fisiche)","TEAM","ALTER\nAGE","UMFELD\nENTOURAGE","VERANLAGUNG\nPREDISPOSITION","TOTAL ","RANG","Verletzt\nBlessé?","Selektionsentscheid\nDécision de sélection","Tendenz / Tendance:\nLEISTUNGSENTWICKLUNG\nDévelop. de la performance","Bemerkung\nRemarques","Gewichtung\nSkating","Gewichtung\nSkills","Gewichtung\nHockey Sense","Gewichtung\nPerson","Gewichtung\nPower","Gewichtung\nPhyse","Gewichtung\nTeam","Gewichtung\nAlter","Gewichtung\nUmfeld","Gewichtung\nVeranlagung","Gewichtung\nSkating2","Gewichtung\nSkills2","Gewichtung\nHockey Sense4","Gewichtung\nPerson5","Gewichtung\nPower6","Gewichtung\nPhyse2","Gewichtung\nTeam7","Gewichtung\nAlter8","Gewichtung\nUmfeld10","Gewichtung\nVeranlagung11"]
[1,"xxx","xxx",{"$f":"IF(ISBLANK(B11),\"-\",$K$3)","v":"HC Musterclub"},"xxx","xxx","xxxx","xxx xxx xx xx",null,{"$f":"IF(ISBLANK('1'!$H$4),\"-\",'1'!$H$4)","v":"-"},{"$f":"IF(ISBLANK('1'!$H$5),\"-\",'1'!$H$5)","v":"-"},{"$f":"IF(ISBLANK('1'!$H$2),\"-\",'1'!$H$2)","v":"C"},"M","xx","xx",2001,null,null,null,{"$f":"'1'!$M$19","v":0},{"$f":"'1'!$M$24","v":0},{"$f":"'1'!$M$30","v":0},{"$f":"'1'!$M$36","v":0},{"$f":"'1'!$M$41","v":0},{"$f":"'1'!$M$46","v":0},{"$f":"'1'!$M$13","v":0},{"$f":"'1'!$AA$2","v":0},{"$f":"'1'!$AA$4","v":0},{"$f":"'1'!$AA$3","v":0},{"$f":"IF(Tabelle3[[#This Row],[SKATING]]=0,\"-\",IF(Tabelle3[[#This Row],[Sex]]=\"M\",SUMPRODUCT(Tabelle3[[#This Row],[SKATING]:[VERANLAGUNG\nPREDISPOSITION]],AJ11:AS11),SUMPRODUCT(Tabelle3[[#This Row],[SKATING]:[VERANLAGUNG\nPREDISPOSITION]],AT11:BC11)))","v":"-"},{"$f":"IFERROR(RANK(Tabelle3[[#This Row],[TOTAL ]],Tabelle3[[TOTAL ]],0),\"-\")","v":"-"},null,null,null,null,{"$f":"IF(Tabelle3[[#This Row],[Position\nG / D / FC / FW]]=\"G\",VLOOKUP($M$5-Tabelle3[[#This Row],[Jahr\nannée]],GOALI,2),VLOOKUP($M$5-Tabelle3[[#This Row],[Jahr\nannée]],SPIELER,2))","v":10},{"$f":"IF(Tabelle3[[#This Row],[Position\nG / D / FC / FW]]=\"G\",VLOOKUP($M$5-Tabelle3[[#This Row],[Jahr\nannée]],GOALI,3),VLOOKUP($M$5-Tabelle3[[#This Row],[Jahr\nannée]],SPIELER,3))","v":10},{"$f":"IF(Tabelle3[[#This Row],[Position\nG / D / FC / FW]]=\"G\",VLOOKUP($M$5-Tabelle3[[#This Row],[Jahr\nannée]],GOALI,4),VLOOKUP($M$5-Tabelle3[[#This Row],[Jahr\nannée]],SPIELER,4))","v":20},{"$f":"IF(Tabelle3[[#This Row],[Position\nG / D / FC / FW]]=\"G\",VLOOKUP($M$5-Tabelle3[[#This Row],[Jahr\nannée]],GOALI,5),VLOOKUP($M$5-Tabelle3[[#This Row],[Jahr\nannée]],SPIELER,5))","v":15},{"$f":"IF(Tabelle3[[#This Row],[Position\nG / D / FC / FW]]=\"G\",VLOOKUP($M$5-Tabelle3[[#This Row],[Jahr\nannée]],GOALI,6),VLOOKUP($M$5-Tabelle3[[#This Row],[Jahr\nannée]],SPIELER,6))","v":10},{"$f":"IF(Tabelle3[[#This Row],[Position\nG / D / FC / FW]]=\"G\",VLOOKUP($M$5-Tabelle3[[#This Row],[Jahr\nannée]],GOALI,9),VLOOKUP($M$5-Tabelle3[[#This Row],[Jahr\nannée]],SPIELER,9))","v":15},{"$f":"IF(Tabelle3[[#This Row],[Position\nG / D / FC / FW]]=\"G\",VLOOKUP($M$5-Tabelle3[[#This Row],[Jahr\nannée]],GOALI,7),VLOOKUP($M$5-Tabelle3[[#This Row],[Jahr\nannée]],SPIELER,7))","v":10},{"$f":"IF(Tabelle3[[#This Row],[Position\nG / D / FC / FW]]=\"G\",VLOOKUP($M$5-Tabelle3[[#This Row],[Jahr\nannée]],GOALI,8),VLOOKUP($M$5-Tabelle3[[#This Row],[Jahr\nannée]],SPIELER,8))","v":0},{"$f":"IF(Tabelle3[[#This Row],[Position\nG / D / FC / FW]]=\"G\",VLOOKUP($M$5-Tabelle3[[#This Row],[Jahr\nannée]],GOALI,10),VLOOKUP($M$5-Tabelle3[[#This Row],[Jahr\nannée]],SPIELER,10))","v":0},{"$f":"IF(Tabelle3[[#This Row],[Position\nG / D / FC / FW]]=\"G\",VLOOKUP($M$5-Tabelle3[[#This Row],[Jahr\nannée]],GOALI,11),VLOOKUP($M$5-Tabelle3[[#This Row],[Jahr\nannée]],SPIELER,11))","v":10},{"$f":"IF(Tabelle3[[#This Row],[Position\nG / D / FC / FW]]=\"G\",VLOOKUP($M$5-Tabelle3[[#This Row],[Jahr\nannée]],FGOALIE,2),VLOOKUP($M$5-Tabelle3[[#This Row],[Jahr\nannée]],FSPIELER,2))","v":10},{"$f":"IF(Tabelle3[[#This Row],[Position\nG / D / FC / FW]]=\"G\",VLOOKUP($M$5-Tabelle3[[#This Row],[Jahr\nannée]],FGOALIE,3),VLOOKUP($M$5-Tabelle3[[#This Row],[Jahr\nannée]],FSPIELER,3))","v":10},{"$f":"IF(Tabelle3[[#This Row],[Position\nG / D / FC / FW]]=\"G\",VLOOKUP($M$5-Tabelle3[[#This Row],[Jahr\nannée]],FGOALIE,4),VLOOKUP($M$5-Tabelle3[[#This Row],[Jahr\nannée]],FSPIELER,4))","v":20},{"$f":"IF(Tabelle3[[#This Row],[Position\nG / D / FC / FW]]=\"G\",VLOOKUP($M$5-Tabelle3[[#This Row],[Jahr\nannée]],FGOALIE,5),VLOOKUP($M$5-Tabelle3[[#This Row],[Jahr\nannée]],FSPIELER,5))","v":15},{"$f":"IF(Tabelle3[[#This Row],[Position\nG / D / FC / FW]]=\"G\",VLOOKUP($M$5-Tabelle3[[#This Row],[Jahr\nannée]],FGOALIE,6),VLOOKUP($M$5-Tabelle3[[#This Row],[Jahr\nannée]],FSPIELER,6))","v":10},{"$f":"IF(Tabelle3[[#This Row],[Position\nG / D / FC / FW]]=\"G\",VLOOKUP($M$5-Tabelle3[[#This Row],[Jahr\nannée]],FGOALIE,9),VLOOKUP($M$5-Tabelle3[[#This Row],[Jahr\nannée]],FSPIELER,9))","v":15},{"$f":"IF(Tabelle3[[#This Row],[Position\nG / D / FC / FW]]=\"G\",VLOOKUP($M$5-Tabelle3[[#This Row],[Jahr\nannée]],FGOALIE,7),VLOOKUP($M$5-Tabelle3[[#This Row],[Jahr\nannée]],FSPIELER,7))","v":10},{"$f":"IF(Tabelle3[[#This Row],[Position\nG / D / FC / FW]]=\"G\",VLOOKUP($M$5-Tabelle3[[#This Row],[Jahr\nannée]],FGOALIE,8),VLOOKUP($M$5-Tabelle3[[#This Row],[Jahr\nannée]],FSPIELER,8))","v":0},{"$f":"IF(Tabelle3[[#This Row],[Position\nG / D / FC / FW]]=\"G\",VLOOKUP($M$5-Tabelle3[[#This Row],[Jahr\nannée]],FGOALIE,10),VLOOKUP($M$5-Tabelle3[[#This Row],[Jahr\nannée]],FSPIELER,10))","v":0},{"$f":"IF(Tabelle3[[#This Row],[Position\nG / D / FC / FW]]=\"G\",VLOOKUP($M$5-Tabelle3[[#This Row],[Jahr\nannée]],FGOALIE,11),VLOOKUP($M$5-Tabelle3[[#This Row],[Jahr\nannée]],FSPIELER,11))","v":10}]
[2,null,null,"-",null,null,null,null,null,{"$f":"IF(ISBLANK('2'!$H$4),\"-\",'2'!$H$4)","v":"-"},{"$f":"IF(ISBLANK('2'!$H$5),\"-\",'2'!$H$5)","v":"-"},{"$f":"IF(ISBLANK('2'!$H$2),\"-\",'2'!$H$2)","v":"-"},null,null,null,null,null,null,null,{"$f":"'2'!$M$19","v":0},{"$f":"'2'!$M$24","v":0},{"$f":"'2'!$M$30","v":0},{"$f":"'2'!$M$36","v":0},{"$f":"'2'!$M$41","v":0},{"$f":"'2'!$M$46","v":0},{"$f":"'2'!$M$13","v":0},{"$f":"'2'!$AA$2","v":0},{"$f":"'2'!$AA$4","v":0},{"$f":"'2'!$AA$3","v":0},{"$f":"IF(Tabelle3[[#This Row],[SKATING]]=0,\"-\",IF(Tabelle3[[#This Row],[Sex]]=\"M\",SUMPRODUCT(Tabelle3[[#This Row],[SKATING]:[VERANLAGUNG\nPREDISPOSITION]],AJ12:AS12),SUMPRODUCT(Tabelle3[[#This Row],[SKATING]:[VERANLAGUNG\nPREDISPOSITION]],AT12:BC12)))","v":"-"},{"$f":"IFERROR(RANK(Tabelle3[[#This Row],[TOTAL ]],Tabelle3[[TOTAL ]],0),\"-\")","v":"-"},null,null,null,null,{"$f":"IF(Tabelle3[[#This Row],[Position\nG / D / FC / FW]]=\"G\",VLOOKUP($M$5-Tabelle3[[#This Row],[Jahr\nannée]],GOALI,2),VLOOKUP($M$5-Tabelle3[[#This Row],[Jahr\nannée]],SPIELER,2))","v":10},{"$f":"IF(Tabelle3[[#This Row],[Position\nG / D / FC / FW]]=\"G\",VLOOKUP($M$5-Tabelle3[[#This Row],[Jahr\nannée]],GOALI,3),VLOOKUP($M$5-Tabelle3[[#This Row],[Jahr\nannée]],SPIELER,3))","v":10},{"$f":"IF(Tabelle3[[#This Row],[Position\nG / D / FC / FW]]=\"G\",VLOOKUP($M$5-Tabelle3[[#This Row],[Jahr\nannée]],GOALI,4),VLOOKUP($M$5-Tabelle3[[#This Row],[Jahr\nannée]],SPIELER,4))","v":20},{"$f":"IF(Tabelle3[[#This Row],[Position\nG / D / FC / FW]]=\"G\",VLOOKUP($M$5-Tabelle3[[#This Row],[Jahr\nannée]],GOALI,5),VLOOKUP($M$5-Tabelle3[[#This Row],[Jahr\nannée]],SPIELER,5))","v":15},{"$f":"IF(Tabelle3[[#This Row],[Position\nG / D / FC / FW]]=\"G\",VLOOKUP($M$5-Tabelle3[[#This Row],[Jahr\nannée]],GOALI,6),VLOOKUP($M$5-Tabelle3[[#This Row],[Jahr\nannée]],SPIELER,6))","v":10},{"$f":"IF(Tabelle3[[#This Row],[Position\nG / D / FC / FW]]=\"G\",VLOOKUP($M$5-Tabelle3[[#This Row],[Jahr\nannée]],GOALI,9),VLOOKUP($M$5-Tabelle3[[#This Row],[Jahr\nannée]],SPIELER,9))","v":15},{"$f":"IF(Tabelle3[[#This Row],[Position\nG / D / FC / FW]]=\"G\",VLOOKUP($M$5-Tabelle3[[#This Row],[Jahr\nannée]],GOALI,7),VLOOKUP($M$5-Tabelle3[[#This Row],[Jahr\nannée]],SPIELER,7))","v":10},{"$f":"IF(Tabelle3[[#This Row],[Position\nG / D / FC / FW]]=\"G\",VLOOKUP($M$5-Tabelle3[[#This Row],[Jahr\nannée]],GOALI,8),VLOOKUP($M$5-Tabelle3[[#This Row],[Jahr\nannée]],SPIELER,8))","v":0},{"$f":"IF(Tabelle3[[#This Row],[Position\nG / D / FC / FW]]=\"G\",VLOOKUP($M$5-Tabelle3[[#This Row],[Jahr\nannée]],GOALI,10),VLOOKUP($M$5-Tabelle3[[#This Row],[Jahr\nannée]],SPIELER,10))","v":0},{"$f":"IF(Tabelle3[[#This Row],[Position\nG / D / FC / FW]]=\"G\",VLOOKUP($M$5-Tabelle3[[#This Row],[Jahr\nannée]],GOALI,11),VLOOKUP($M$5-Tabelle3[[#This Row],[Jahr\nannée]],SPIELER,11))","v":10},{"$f":"IF(Tabelle3[[#This Row],[Position\nG / D / FC / FW]]=\"G\",VLOOKUP($M$5-Tabelle3[[#This Row],[Jahr\nannée]],FGOALIE,2),VLOOKUP($M$5-Tabelle3[[#This Row],[Jahr\nannée]],FSPIELER,2))","v":10},{"$f":"IF(Tabelle3[[#This Row],[Position\nG / D / FC / FW]]=\"G\",VLOOKUP($M$5-Tabelle3[[#This Row],[Jahr\nannée]],FGOALIE,3),VLOOKUP($M$5-Tabelle3[[#This Row],[Jahr\nannée]],FSPIELER,3))","v":10},{"$f":"IF(Tabelle3[[#This Row],[Position\nG / D / FC / FW]]=\"G\",VLOOKUP($M$5-Tabelle3[[#This Row],[Jahr\nannée]],FGOALIE,4),VLOOKUP($M$5-Tabelle3[[#This Row],[Jahr\nannée]],FSPIELER,4))","v":20},{"$f":"IF(Tabelle3[[#This Row],[Position\nG / D / FC / FW]]=\"G\",VLOOKUP($M$5-Tabelle3[[#This Row],[Jahr\nannée]],FGOALIE,5),VLOOKUP($M$5-Tabelle3[[#This Row],[Jahr\nannée]],FSPIELER,5))","v":15},{"$f":"IF(Tabelle3[[#This Row],[Position\nG / D / FC / FW]]=\"G\",VLOOKUP($M$5-Tabelle3[[#This Row],[Jahr\nannée]],FGOALIE,6),VLOOKUP($M$5-Tabelle3[[#This Row],[Jahr\nannée]],FSPIELER,6))","v":10},{"$f":"IF(Tabelle3[[#This Row],[Position\nG / D / FC / FW]]=\"G\",VLOOKUP($M$5-Tabelle3[[#This Row],[Jahr\nannée]],FGOALIE,9),VLOOKUP($M$5-Tabelle3[[#This Row],[Jahr\nannée]],FSPIELER,9))","v":15},{"$f":"IF(Tabelle3[[#This Row],[Position\nG / D / FC / FW]]=\"G\",VLOOKUP($M$5-Tabelle3[[#This Row],[Jahr\nannée]],FGOALIE,7),VLOOKUP($M$5-Tabelle3[[#This Row],[Jahr\nannée]],FSPIELER,7))","v":10},{"$f":"IF(Tabelle3[[#This Row],[Position\nG / D / FC / FW]]=\"G\",VLOOKUP($M$5-Tabelle3[[#This Row],[Jahr\nannée]],FGOALIE,8),VLOOKUP($M$5-Tabelle3[[#This Row],[Jahr\nannée]],FSPIELER,8))","v":0},{"$f":"IF(Tabelle3[[#This Row],[Position\nG / D / FC / FW]]=\"G\",VLOOKUP($M$5-Tabelle3[[#This Row],[Jahr\nannée]],FGOALIE,10),VLOOKUP($M$5-Tabelle3[[#This Row],[Jahr\nannée]],FSPIELER,10))","v":0},{"$f":"IF(Tabelle3[[#This Row],[Position\nG / D / FC / FW]]=\"G\",VLOOKUP($M$5-Tabelle3[[#This Row],[Jahr\nannée]],FGOALIE,11),VLOOKUP($M$5-Tabelle3[[#This Row],[Jahr\nannée]],FSPIELER,11))","v":10}]
[3,null,null,"-",null,null,null,null,null,{"$f":"IF(ISBLANK('3'!$H$4),\"-\",'3'!$H$4)","v":"-"},{"$f":"IF(ISBLANK('3'!$H$5),\"-\",'3'!$H$5)","v":"-"},{"$f":"IF(ISBLANK('3'!$H$2),\"-\",'3'!$H$2)","v":"-"},null,null,null,null,null,null,null,{"$f":"'3'!$M$19","v":0},{"$f":"'3'!$M$24","v":0},{"$f":"'3'!$M$30","v":0},{"$f":"'3'!$M$36","v":0},{"$f":"'3'!$M$41","v":0},{"$f":"'3'!$M$46","v":0},{"$f":"'3'!$M$13","v":0},{"$f":"'3'!$AA$2","v":0},{"$f":"'3'!$AA$4","v":0},{"$f":"'3'!$AA$3","v":0},{"$f":"IF(Tabelle3[[#This Row],[SKATING]]=0,\"-\",IF(Tabelle3[[#This Row],[Sex]]=\"M\",SUMPRODUCT(Tabelle3[[#This Row],[SKATING]:[VERANLAGUNG\nPREDISPOSITION]],AJ13:AS13),SUMPRODUCT(Tabelle3[[#This Row],[SKATING]:[VERANLAGUNG\nPREDISPOSITION]],AT13:BC13)))","v":"-"},{"$f":"IFERROR(RANK(Tabelle3[[#This Row],[TOTAL ]],Tabelle3[[TOTAL ]],0),\"-\")","v":"-"},null,null,null,null,{"$f":"IF(Tabelle3[[#This Row],[Position\nG / D / FC / FW]]=\"G\",VLOOKUP($M$5-Tabelle3[[#This Row],[Jahr\nannée]],GOALI,2),VLOOKUP($M$5-Tabelle3[[#This Row],[Jahr\nannée]],SPIELER,2))","v":10},{"$f":"IF(Tabelle3[[#This Row],[Position\nG / D / FC / FW]]=\"G\",VLOOKUP($M$5-Tabelle3[[#This Row],[Jahr\nannée]],GOALI,3),VLOOKUP($M$5-Tabelle3[[#This Row],[Jahr\nannée]],SPIELER,3))","v":10},{"$f":"IF(Tabelle3[[#This Row],[Position\nG / D / FC / FW]]=\"G\",VLOOKUP($M$5-Tabelle3[[#This Row],[Jahr\nannée]],GOALI,4),VLOOKUP($M$5-Tabelle3[[#This Row],[Jahr\nannée]],SPIELER,4))","v":20},{"$f":"IF(Tabelle3[[#This Row],[Position\nG / D / FC / FW]]=\"G\",VLOOKUP($M$5-Tabelle3[[#This Row],[Jahr\nannée]],GOALI,5),VLOOKUP($M$5-Tabelle3[[#This Row],[Jahr\nannée]],SPIELER,5))","v":15},{"$f":"IF(Tabelle3[[#This Row],[Position\nG / D / FC / FW]]=\"G\",VLOOKUP($M$5-Tabelle3[[#This Row],[Jahr\nannée]],GOALI,6),VLOOKUP($M$5-Tabelle3[[#This Row],[Jahr\nannée]],SPIELER,6))","v":10},{"$f":"IF(Tabelle3[[#This Row],[Position\nG / D / FC / FW]]=\"G\",VLOOKUP($M$5-Tabelle3[[#This Row],[Jahr\nannée]],GOALI,9),VLOOKUP($M$5-Tabelle3[[#This Row],[Jahr\nannée]],SPIELER,9))","v":15},{"$f":"IF(Tabelle3[[#This Row],[Position\nG / D / FC / FW]]=\"G\",VLOOKUP($M$5-Tabelle3[[#This Row],[Jahr\nannée]],GOALI,7),VLOOKUP($M$5-Tabelle3[[#This Row],[Jahr\nannée]],SPIELER,7))","v":10},{"$f":"IF(Tabelle3[[#This Row],[Position\nG / D / FC / FW]]=\"G\",VLOOKUP($M$5-Tabelle3[[#This Row],[Jahr\nannée]],GOALI,8),VLOOKUP($M$5-Tabelle3[[#This Row],[Jahr\nannée]],SPIELER,8))","v":0},{"$f":"IF(Tabelle3[[#This Row],[Position\nG / D / FC / FW]]=\"G\",VLOOKUP($M$5-Tabelle3[[#This Row],[Jahr\nannée]],GOALI,10),VLOOKUP($M$5-Tabelle3[[#This Row],[Jahr\nannée]],SPIELER,10))","v":0},{"$f":"IF(Tabelle3[[#This Row],[Position\nG / D / FC / FW]]=\"G\",VLOOKUP($M$5-Tabelle3[[#This Row],[Jahr\nannée]],GOALI,11),VLOOKUP($M$5-Tabelle3[[#This Row],[Jahr\nannée]],SPIELER,11))","v":10},{"$f":"IF(Tabelle3[[#This Row],[Position\nG / D / FC / FW]]=\"G\",VLOOKUP($M$5-Tabelle3[[#This Row],[Jahr\nannée]],FGOALIE,2),VLOOKUP($M$5-Tabelle3[[#This Row],[Jahr\nannée]],FSPIELER,2))","v":10},{"$f":"IF(Tabelle3[[#This Row],[Position\nG / D / FC / FW]]=\"G\",VLOOKUP($M$5-Tabelle3[[#This Row],[Jahr\nannée]],FGOALIE,3),VLOOKUP($M$5-Tabelle3[[#This Row],[Jahr\nannée]],FSPIELER,3))","v":10},{"$f":"IF(Tabelle3[[#This Row],[Position\nG / D / FC / FW]]=\"G\",VLOOKUP($M$5-Tabelle3[[#This Row],[Jahr\nannée]],FGOALIE,4),VLOOKUP($M$5-Tabelle3[[#This Row],[Jahr\nannée]],FSPIELER,4))","v":20},{"$f":"IF(Tabelle3[[#This Row],[Position\nG / D / FC / FW]]=\"G\",VLOOKUP($M$5-Tabelle3[[#This Row],[Jahr\nannée]],FGOALIE,5),VLOOKUP($M$5-Tabelle3[[#This Row],[Jahr\nannée]],FSPIELER,5))","v":15},{"$f":"IF(Tabelle3[[#This Row],[Position\nG / D / FC / FW]]=\"G\",VLOOKUP($M$5-Tabelle3[[#This Row],[Jahr\nannée]],FGOALIE,6),VLOOKUP($M$5-Tabelle3[[#This Row],[Jahr\nannée]],FSPIELER,6))","v":10},{"$f":"IF(Tabelle3[[#This Row],[Position\nG / D / FC / FW]]=\"G\",VLOOKUP($M$5-Tabelle3[[#This Row],[Jahr\nannée]],FGOALIE,9),VLOOKUP($M$5-Tabelle3[[#This Row],[Jahr\nannée]],FSPIELER,9))","v":15},{"$f":"IF(Tabelle3[[#This Row],[Position\nG / D / FC / FW]]=\"G\",VLOOKUP($M$5-Tabelle3[[#This Row],[Jahr\nannée]],FGOALIE,7),VLOOKUP($M$5-Tabelle3[[#This Row],[Jahr\nannée]],FSPIELER,7))","v":10},{"$f":"IF(Tabelle3[[#This Row],[Position\nG / D / FC / FW]]=\"G\",VLOOKUP($M$5-Tabelle3[[#This Row],[Jahr\nannée]],FGOALIE,8),VLOOKUP($M$5-Tabelle3[[#This Row],[Jahr\nannée]],FSPIELER,8))","v":0},{"$f":"IF(Tabelle3[[#This Row],[Position\nG / D / FC / FW]]=\"G\",VLOOKUP($M$5-Tabelle3[[#This Row],[Jahr\nannée]],FGOALIE,10),VLOOKUP($M$5-Tabelle3[[#This Row],[Jahr\nannée]],FSPIELER,10))","v":0},{"$f":"IF(Tabelle3[[#This Row],[Position\nG / D / FC / FW]]=\"G\",VLOOKUP($M$5-Tabelle3[[#This Row],[Jahr\nannée]],FGOALIE,11),VLOOKUP($M$5-Tabelle3[[#This Row],[Jahr\nannée]],FSPIELER,11))","v":10}]
[4,null,null,"-",null,null,null,null,null,{"$f":"IF(ISBLANK('4'!$H$4),\"-\",'4'!$H$4)","v":"-"},{"$f":"IF(ISBLANK('4'!$H$5),\"-\",'4'!$H$5)","v":"-"},{"$f":"IF(ISBLANK('4'!$H$2),\"-\",'4'!$H$2)","v":"-"},null,null,null,null,null,null,null,{"$f":"'4'!$M$19","v":0},{"$f":"'4'!$M$24","v":0},{"$f":"'4'!$M$30","v":0},{"$f":"'4'!$M$36","v":0},{"$f":"'4'!$M$41","v":0},{"$f":"'4'!$M$46","v":0},{"$f":"'4'!$M$13","v":0},{"$f":"'4'!$AA$2","v":0},{"$f":"'4'!$AA$4","v":0},{"$f":"'4'!$AA$3","v":0},{"$f":"IF(Tabelle3[[#This Row],[SKATING]]=0,\"-\",IF(Tabelle3[[#This Row],[Sex]]=\"M\",SUMPRODUCT(Tabelle3[[#This Row],[SKATING]:[VERANLAGUNG\nPREDISPOSITION]],AJ14:AS14),SUMPRODUCT(Tabelle3[[#This Row],[SKATING]:[VERANLAGUNG\nPREDISPOSITION]],AT14:BC14)))","v":"-"},{"$f":"IFERROR(RANK(Tabelle3[[#This Row],[TOTAL ]],Tabelle3[[TOTAL ]],0),\"-\")","v":"-"},null,null,null,null,{"$f":"IF(Tabelle3[[#This Row],[Position\nG / D / FC / FW]]=\"G\",VLOOKUP($M$5-Tabelle3[[#This Row],[Jahr\nannée]],GOALI,2),VLOOKUP($M$5-Tabelle3[[#This Row],[Jahr\nannée]],SPIELER,2))","v":10},{"$f":"IF(Tabelle3[[#This Row],[Position\nG / D / FC / FW]]=\"G\",VLOOKUP($M$5-Tabelle3[[#This Row],[Jahr\nannée]],GOALI,3),VLOOKUP($M$5-Tabelle3[[#This Row],[Jahr\nannée]],SPIELER,3))","v":10},{"$f":"IF(Tabelle3[[#This Row],[Position\nG / D / FC / FW]]=\"G\",VLOOKUP($M$5-Tabelle3[[#This Row],[Jahr\nannée]],GOALI,4),VLOOKUP($M$5-Tabelle3[[#This Row],[Jahr\nannée]],SPIELER,4))","v":20},{"$f":"IF(Tabelle3[[#This Row],[Position\nG / D / FC / FW]]=\"G\",VLOOKUP($M$5-Tabelle3[[#This Row],[Jahr\nannée]],GOALI,5),VLOOKUP($M$5-Tabelle3[[#This Row],[Jahr\nannée]],SPIELER,5))","v":15},{"$f":"IF(Tabelle3[[#This Row],[Position\nG / D / FC / FW]]=\"G\",VLOOKUP($M$5-Tabelle3[[#This Row],[Jahr\nannée]],GOALI,6),VLOOKUP($M$5-Tabelle3[[#This Row],[Jahr\nannée]],SPIELER,6))","v":10},{"$f":"IF(Tabelle3[[#This Row],[Position\nG / D / FC / FW]]=\"G\",VLOOKUP($M$5-Tabelle3[[#This Row],[Jahr\nannée]],GOALI,9),VLOOKUP($M$5-Tabelle3[[#This Row],[Jahr\nannée]],SPIELER,9))","v":15},{"$f":"IF(Tabelle3[[#This Row],[Position\nG / D / FC / FW]]=\"G\",VLOOKUP($M$5-Tabelle3[[#This Row],[Jahr\nannée]],GOALI,7),VLOOKUP($M$5-Tabelle3[[#This Row],[Jahr\nannée]],SPIELER,7))","v":10},{"$f":"IF(Tabelle3[[#This Row],[Position\nG / D / FC / FW]]=\"G\",VLOOKUP($M$5-Tabelle3[[#This Row],[Jahr\nannée]],GOALI,8),VLOOKUP($M$5-Tabelle3[[#This Row],[Jahr\nannée]],SPIELER,8))","v":0},{"$f":"IF(Tabelle3[[#This Row],[Position\nG / D / FC / FW]]=\"G\",VLOOKUP($M$5-Tabelle3[[#This Row],[Jahr\nannée]],GOALI,10),VLOOKUP($M$5-Tabelle3[[#This Row],[Jahr\nannée]],SPIELER,10))","v":0},{"$f":"IF(Tabelle3[[#This Row],[Position\nG / D / FC / FW]]=\"G\",VLOOKUP($M$5-Tabelle3[[#This Row],[Jahr\nannée]],GOALI,11),VLOOKUP($M$5-Tabelle3[[#This Row],[Jahr\nannée]],SPIELER,11))","v":10},{"$f":"IF(Tabelle3[[#This Row],[Position\nG / D / FC / FW]]=\"G\",VLOOKUP($M$5-Tabelle3[[#This Row],[Jahr\nannée]],FGOALIE,2),VLOOKUP($M$5-Tabelle3[[#This Row],[Jahr\nannée]],FSPIELER,2))","v":10},{"$f":"IF(Tabelle3[[#This Row],[Position\nG / D / FC / FW]]=\"G\",VLOOKUP($M$5-Tabelle3[[#This Row],[Jahr\nannée]],FGOALIE,3),VLOOKUP($M$5-Tabelle3[[#This Row],[Jahr\nannée]],FSPIELER,3))","v":10},{"$f":"IF(Tabelle3[[#This Row],[Position\nG / D / FC / FW]]=\"G\",VLOOKUP($M$5-Tabelle3[[#This Row],[Jahr\nannée]],FGOALIE,4),VLOOKUP($M$5-Tabelle3[[#This Row],[Jahr\nannée]],FSPIELER,4))","v":20},{"$f":"IF(Tabelle3[[#This Row],[Position\nG / D / FC / FW]]=\"G\",VLOOKUP($M$5-Tabelle3[[#This Row],[Jahr\nannée]],FGOALIE,5),VLOOKUP($M$5-Tabelle3[[#This Row],[Jahr\nannée]],FSPIELER,5))","v":15},{"$f":"IF(Tabelle3[[#This Row],[Position\nG / D / FC / FW]]=\"G\",VLOOKUP($M$5-Tabelle3[[#This Row],[Jahr\nannée]],FGOALIE,6),VLOOKUP($M$5-Tabelle3[[#This Row],[Jahr\nannée]],FSPIELER,6))","v":10},{"$f":"IF(Tabelle3[[#This Row],[Position\nG / D / FC / FW]]=\"G\",VLOOKUP($M$5-Tabelle3[[#This Row],[Jahr\nannée]],FGOALIE,9),VLOOKUP($M$5-Tabelle3[[#This Row],[Jahr\nannée]],FSPIELER,9))","v":15},{"$f":"IF(Tabelle3[[#This Row],[Position\nG / D / FC / FW]]=\"G\",VLOOKUP($M$5-Tabelle3[[#This Row],[Jahr\nannée]],FGOALIE,7),VLOOKUP($M$5-Tabelle3[[#This Row],[Jahr\nannée]],FSPIELER,7))","v":10},{"$f":"IF(Tabelle3[[#This Row],[Position\nG / D / FC / FW]]=\"G\",VLOOKUP($M$5-Tabelle3[[#This Row],[Jahr\nannée]],FGOALIE,8),VLOOKUP($M$5-Tabelle3[[#This Row],[Jahr\nannée]],FSPIELER,8))","v":0},{"$f":"IF(Tabelle3[[#This Row],[Position\nG / D / FC / FW]]=\"G\",VLOOKUP($M$5-Tabelle3[[#This Row],[Jahr\nannée]],FGOALIE,10),VLOOKUP($M$5-Tabelle3[[#This Row],[Jahr\nannée]],FSPIELER,10))","v":0},{"$f":"IF(Tabelle3[[#This Row],[Position\nG / D / FC / FW]]=\"G\",VLOOKUP($M$5-Tabelle3[[#This Row],[Jahr\nannée]],FGOALIE,11),VLOOKUP($M$5-Tabelle3[[#This Row],[Jahr\nannée]],FSPIELER,11))","v":10}]
[5,null,null,"-",null,null,null,null,null,{"$f":"IF(ISBLANK('5'!$H$4),\"-\",'5'!$H$4)","v":"-"},{"$f":"IF(ISBLANK('5'!$H$5),\"-\",'5'!$H$5)","v":"-"},{"$f":"IF(ISBLANK('5'!$H$2),\"-\",'5'!$H$2)","v":"-"},null,null,null,null,null,null,null,{"$f":"'5'!$M$19","v":0},{"$f":"'5'!$M$24","v":0},{"$f":"'5'!$M$30","v":0},{"$f":"'5'!$M$36","v":0},{"$f":"'5'!$M$41","v":0},{"$f":"'5'!$M$46","v":0},{"$f":"'5'!$M$13","v":0},{"$f":"'5'!$AA$2","v":0},{"$f":"'5'!$AA$4","v":0},{"$f":"'5'!$AA$3","v":0},{"$f":"IF(Tabelle3[[#This Row],[SKATING]]=0,\"-\",IF(Tabelle3[[#This Row],[Sex]]=\"M\",SUMPRODUCT(Tabelle3[[#This Row],[SKATING]:[VERANLAGUNG\nPREDISPOSITION]],AJ15:AS15),SUMPRODUCT(Tabelle3[[#This Row],[SKATING]:[VERANLAGUNG\nPREDISPOSITION]],AT15:BC15)))","v":"-"},{"$f":"IFERROR(RANK(Tabelle3[[#This Row],[TOTAL ]],Tabelle3[[TOTAL ]],0),\"-\")","v":"-"},null,null,null,null,{"$f":"IF(Tabelle3[[#This Row],[Position\nG / D / FC / FW]]=\"G\",VLOOKUP($M$5-Tabelle3[[#This Row],[Jahr\nannée]],GOALI,2),VLOOKUP($M$5-Tabelle3[[#This Row],[Jahr\nannée]],SPIELER,2))","v":10},{"$f":"IF(Tabelle3[[#This Row],[Position\nG / D / FC / FW]]=\"G\",VLOOKUP($M$5-Tabelle3[[#This Row],[Jahr\nannée]],GOALI,3),VLOOKUP($M$5-Tabelle3[[#This Row],[Jahr\nannée]],SPIELER,3))","v":10},{"$f":"IF(Tabelle3[[#This Row],[Position\nG / D / FC / FW]]=\"G\",VLOOKUP($M$5-Tabelle3[[#This Row],[Jahr\nannée]],GOALI,4),VLOOKUP($M$5-Tabelle3[[#This Row],[Jahr\nannée]],SPIELER,4))","v":20},{"$f":"IF(Tabelle3[[#This Row],[Position\nG / D / FC / FW]]=\"G\",VLOOKUP($M$5-Tabelle3[[#This Row],[Jahr\nannée]],GOALI,5),VLOOKUP($M$5-Tabelle3[[#This Row],[Jahr\nannée]],SPIELER,5))","v":15},{"$f":"IF(Tabelle3[[#This Row],[Position\nG / D / FC / FW]]=\"G\",VLOOKUP($M$5-Tabelle3[[#This Row],[Jahr\nannée]],GOALI,6),VLOOKUP($M$5-Tabelle3[[#This Row],[Jahr\nannée]],SPIELER,6))","v":10},{"$f":"IF(Tabelle3[[#This Row],[Position\nG / D / FC / FW]]=\"G\",VLOOKUP($M$5-Tabelle3[[#This Row],[Jahr\nannée]],GOALI,9),VLOOKUP($M$5-Tabelle3[[#This Row],[Jahr\nannée]],SPIELER,9))","v":15},{"$f":"IF(Tabelle3[[#This Row],[Position\nG / D / FC / FW]]=\"G\",VLOOKUP($M$5-Tabelle3[[#This Row],[Jahr\nannée]],GOALI,7),VLOOKUP($M$5-Tabelle3[[#This Row],[Jahr\nannée]],SPIELER,7))","v":10},{"$f":"IF(Tabelle3[[#This Row],[Position\nG / D / FC / FW]]=\"G\",VLOOKUP($M$5-Tabelle3[[#This Row],[Jahr\nannée]],GOALI,8),VLOOKUP($M$5-Tabelle3[[#This Row],[Jahr\nannée]],SPIELER,8))","v":0},{"$f":"IF(Tabelle3[[#This Row],[Position\nG / D / FC / FW]]=\"G\",VLOOKUP($M$5-Tabelle3[[#This Row],[Jahr\nannée]],GOALI,10),VLOOKUP($M$5-Tabelle3[[#This Row],[Jahr\nannée]],SPIELER,10))","v":0},{"$f":"IF(Tabelle3[[#This Row],[Position\nG / D / FC / FW]]=\"G\",VLOOKUP($M$5-Tabelle3[[#This Row],[Jahr\nannée]],GOALI,11),VLOOKUP($M$5-Tabelle3[[#This Row],[Jahr\nannée]],SPIELER,11))","v":10},{"$f":"IF(Tabelle3[[#This Row],[Position\nG / D / FC / FW]]=\"G\",VLOOKUP($M$5-Tabelle3[[#This Row],[Jahr\nannée]],FGOALIE,2),VLOOKUP($M$5-Tabelle3[[#This Row],[Jahr\nannée]],FSPIELER,2))","v":10},{"$f":"IF(Tabelle3[[#This Row],[Position\nG / D / FC / FW]]=\"G\",VLOOKUP($M$5-Tabelle3[[#This Row],[Jahr\nannée]],FGOALIE,3),VLOOKUP($M$5-Tabelle3[[#This Row],[Jahr\nannée]],FSPIELER,3))","v":10},{"$f":"IF(Tabelle3[[#This Row],[Position\nG / D / FC / FW]]=\"G\",VLOOKUP($M$5-Tabelle3[[#This Row],[Jahr\nannée]],FGOALIE,4),VLOOKUP($M$5-Tabelle3[[#This Row],[Jahr\nannée]],FSPIELER,4))","v":20},{"$f":"IF(Tabelle3[[#This Row],[Position\nG / D / FC / FW]]=\"G\",VLOOKUP($M$5-Tabelle3[[#This Row],[Jahr\nannée]],FGOALIE,5),VLOOKUP($M$5-Tabelle3[[#This Row],[Jahr\nannée]],FSPIELER,5))","v":15},{"$f":"IF(Tabelle3[[#This Row],[Position\nG / D / FC / FW]]=\"G\",VLOOKUP($M$5-Tabelle3[[#This Row],[Jahr\nannée]],FGOALIE,6),VLOOKUP($M$5-Tabelle3[[#This Row],[Jahr\nannée]],FSPIELER,6))","v":10},{"$f":"IF(Tabelle3[[#This Row],[Position\nG / D / FC / FW]]=\"G\",VLOOKUP($M$5-Tabelle3[[#This Row],[Jahr\nannée]],FGOALIE,9),VLOOKUP($M$5-Tabelle3[[#This Row],[Jahr\nannée]],FSPIELER,9))","v":15},{"$f":"IF(Tabelle3[[#This Row],[Position\nG / D / FC / FW]]=\"G\",VLOOKUP($M$5-Tabelle3[[#This Row],[Jahr\nannée]],FGOALIE,7),VLOOKUP($M$5-Tabelle3[[#This Row],[Jahr\nannée]],FSPIELER,7))","v":10},{"$f":"IF(Tabelle3[[#This Row],[Position\nG / D / FC / FW]]=\"G\",VLOOKUP($M$5-Tabelle3[[#This Row],[Jahr\nannée]],FGOALIE,8),VLOOKUP($M$5-Tabelle3[[#This Row],[Jahr\nannée]],FSPIELER,8))","v":0},{"$f":"IF(Tabelle3[[#This Row],[Position\nG / D / FC / FW]]=\"G\",VLOOKUP($M$5-Tabelle3[[#This Row],[Jahr\nannée]],FGOALIE,10),VLOOKUP($M$5-Tabelle3[[#This Row],[Jahr\nannée]],FSPIELER,10))","v":0},{"$f":"IF(Tabelle3[[#This Row],[Position\nG / D / FC / FW]]=\"G\",VLOOKUP($M$5-Tabelle3[[#This Row],[Jahr\nannée]],FGOALIE,11),VLOOKUP($M$5-Tabelle3[[#This Row],[Jahr\nannée]],FSPIELER,11))","v":10}]
[6,null,null,"-",null,null,null,null,null,{"$f":"IF(ISBLANK('6'!$H$4),\"-\",'6'!$H$4)","v":"-"},{"$f":"IF(ISBLANK('6'!$H$5),\"-\",'6'!$H$5)","v":"-"},{"$f":"IF(ISBLANK('6'!$H$2),\"-\",'6'!$H$2)","v":"-"},null,null,null,null,null,null,null,{"$f":"'6'!$M$19","v":0},{"$f":"'6'!$M$24","v":0},{"$f":"'6'!$M$30","v":0},{"$f":"'6'!$M$36","v":0},{"$f":"'6'!$M$41","v":0},{"$f":"'6'!$M$46","v":0},{"$f":"'6'!$M$13","v":0},{"$f":"'6'!$AA$2","v":0},{"$f":"'6'!$AA$4","v":0},{"$f":"'6'!$AA$3","v":0},{"$f":"IF(Tabelle3[[#This Row],[SKATING]]=0,\"-\",IF(Tabelle3[[#This Row],[Sex]]=\"M\",SUMPRODUCT(Tabelle3[[#This Row],[SKATING]:[VERANLAGUNG\nPREDISPOSITION]],AJ16:AS16),SUMPRODUCT(Tabelle3[[#This Row],[SKATING]:[VERANLAGUNG\nPREDISPOSITION]],AT16:BC16)))","v":"-"},{"$f":"IFERROR(RANK(Tabelle3[[#This Row],[TOTAL ]],Tabelle3[[TOTAL ]],0),\"-\")","v":"-"},null,null,null,null,{"$f":"IF(Tabelle3[[#This Row],[Position\nG / D / FC / FW]]=\"G\",VLOOKUP($M$5-Tabelle3[[#This Row],[Jahr\nannée]],GOALI,2),VLOOKUP($M$5-Tabelle3[[#This Row],[Jahr\nannée]],SPIELER,2))","v":10},{"$f":"IF(Tabelle3[[#This Row],[Position\nG / D / FC / FW]]=\"G\",VLOOKUP($M$5-Tabelle3[[#This Row],[Jahr\nannée]],GOALI,3),VLOOKUP($M$5-Tabelle3[[#This Row],[Jahr\nannée]],SPIELER,3))","v":10},{"$f":"IF(Tabelle3[[#This Row],[Position\nG / D / FC / FW]]=\"G\",VLOOKUP($M$5-Tabelle3[[#This Row],[Jahr\nannée]],GOALI,4),VLOOKUP($M$5-Tabelle3[[#This Row],[Jahr\nannée]],SPIELER,4))","v":20},{"$f":"IF(Tabelle3[[#This Row],[Position\nG / D / FC / FW]]=\"G\",VLOOKUP($M$5-Tabelle3[[#This Row],[Jahr\nannée]],GOALI,5),VLOOKUP($M$5-Tabelle3[[#This Row],[Jahr\nannée]],SPIELER,5))","v":15},{"$f":"IF(Tabelle3[[#This Row],[Position\nG / D / FC / FW]]=\"G\",VLOOKUP($M$5-Tabelle3[[#This Row],[Jahr\nannée]],GOALI,6),VLOOKUP($M$5-Tabelle3[[#This Row],[Jahr\nannée]],SPIELER,6))","v":10},{"$f":"IF(Tabelle3[[#This Row],[Position\nG / D / FC / FW]]=\"G\",VLOOKUP($M$5-Tabelle3[[#This Row],[Jahr\nannée]],GOALI,9),VLOOKUP($M$5-Tabelle3[[#This Row],[Jahr\nannée]],SPIELER,9))","v":15},{"$f":"IF(Tabelle3[[#This Row],[Position\nG / D / FC / FW]]=\"G\",VLOOKUP($M$5-Tabelle3[[#This Row],[Jahr\nannée]],GOALI,7),VLOOKUP($M$5-Tabelle3[[#This Row],[Jahr\nannée]],SPIELER,7))","v":10},{"$f":"IF(Tabelle3[[#This Row],[Position\nG / D / FC / FW]]=\"G\",VLOOKUP($M$5-Tabelle3[[#This Row],[Jahr\nannée]],GOALI,8),VLOOKUP($M$5-Tabelle3[[#This Row],[Jahr\nannée]],SPIELER,8))","v":0},{"$f":"IF(Tabelle3[[#This Row],[Position\nG / D / FC / FW]]=\"G\",VLOOKUP($M$5-Tabelle3[[#This Row],[Jahr\nannée]],GOALI,10),VLOOKUP($M$5-Tabelle3[[#This Row],[Jahr\nannée]],SPIELER,10))","v":0},{"$f":"IF(Tabelle3[[#This Row],[Position\nG / D / FC / FW]]=\"G\",VLOOKUP($M$5-Tabelle3[[#This Row],[Jahr\nannée]],GOALI,11),VLOOKUP($M$5-Tabelle3[[#This Row],[Jahr\nannée]],SPIELER,11))","v":10},{"$f":"IF(Tabelle3[[#This Row],[Position\nG / D / FC / FW]]=\"G\",VLOOKUP($M$5-Tabelle3[[#This Row],[Jahr\nannée]],FGOALIE,2),VLOOKUP($M$5-Tabelle3[[#This Row],[Jahr\nannée]],FSPIELER,2))","v":10},{"$f":"IF(Tabelle3[[#This Row],[Position\nG / D / FC / FW]]=\"G\",VLOOKUP($M$5-Tabelle3[[#This Row],[Jahr\nannée]],FGOALIE,3),VLOOKUP($M$5-Tabelle3[[#This Row],[Jahr\nannée]],FSPIELER,3))","v":10},{"$f":"IF(Tabelle3[[#This Row],[Position\nG / D / FC / FW]]=\"G\",VLOOKUP($M$5-Tabelle3[[#This Row],[Jahr\nannée]],FGOALIE,4),VLOOKUP($M$5-Tabelle3[[#This Row],[Jahr\nannée]],FSPIELER,4))","v":20},{"$f":"IF(Tabelle3[[#This Row],[Position\nG / D / FC / FW]]=\"G\",VLOOKUP($M$5-Tabelle3[[#This Row],[Jahr\nannée]],FGOALIE,5),VLOOKUP($M$5-Tabelle3[[#This Row],[Jahr\nannée]],FSPIELER,5))","v":15},{"$f":"IF(Tabelle3[[#This Row],[Position\nG / D / FC / FW]]=\"G\",VLOOKUP($M$5-Tabelle3[[#This Row],[Jahr\nannée]],FGOALIE,6),VLOOKUP($M$5-Tabelle3[[#This Row],[Jahr\nannée]],FSPIELER,6))","v":10},{"$f":"IF(Tabelle3[[#This Row],[Position\nG / D / FC / FW]]=\"G\",VLOOKUP($M$5-Tabelle3[[#This Row],[Jahr\nannée]],FGOALIE,9),VLOOKUP($M$5-Tabelle3[[#This Row],[Jahr\nannée]],FSPIELER,9))","v":15},{"$f":"IF(Tabelle3[[#This Row],[Position\nG / D / FC / FW]]=\"G\",VLOOKUP($M$5-Tabelle3[[#This Row],[Jahr\nannée]],FGOALIE,7),VLOOKUP($M$5-Tabelle3[[#This Row],[Jahr\nannée]],FSPIELER,7))","v":10},{"$f":"IF(Tabelle3[[#This Row],[Position\nG / D / FC / FW]]=\"G\",VLOOKUP($M$5-Tabelle3[[#This Row],[Jahr\nannée]],FGOALIE,8),VLOOKUP($M$5-Tabelle3[[#This Row],[Jahr\nannée]],FSPIELER,8))","v":0},{"$f":"IF(Tabelle3[[#This Row],[Position\nG / D / FC / FW]]=\"G\",VLOOKUP($M$5-Tabelle3[[#This Row],[Jahr\nannée]],FGOALIE,10),VLOOKUP($M$5-Tabelle3[[#This Row],[Jahr\nannée]],FSPIELER,10))","v":0},{"$f":"IF(Tabelle3[[#This Row],[Position\nG / D / FC / FW]]=\"G\",VLOOKUP($M$5-Tabelle3[[#This Row],[Jahr\nannée]],FGOALIE,11),VLOOKUP($M$5-Tabelle3[[#This Row],[Jahr\nannée]],FSPIELER,11))","v":10}]
[7,null,null,"-",null,null,null,null,null,{"$f":"IF(ISBLANK('7'!$H$4),\"-\",'7'!$H$4)","v":"-"},{"$f":"IF(ISBLANK('7'!$H$5),\"-\",'7'!$H$5)","v":"-"},{"$f":"IF(ISBLANK('7'!$H$2),\"-\",'7'!$H$2)","v":"-"},null,null,null,null,null,null,null,{"$f":"'7'!$M$19","v":0},{"$f":"'7'!$M$24","v":0},{"$f":"'7'!$M$30","v":0},{"$f":"'7'!$M$36","v":0},{"$f":"'7'!$M$41","v":0},{"$f":"'7'!$M$46","v":0},{"$f":"'7'!$M$13","v":0},{"$f":"'7'!$AA$2","v":0},{"$f":"'7'!$AA$4","v":0},{"$f":"'7'!$AA$3","v":0},{"$f":"IF(Tabelle3[[#This Row],[SKATING]]=0,\"-\",IF(Tabelle3[[#This Row],[Sex]]=\"M\",SUMPRODUCT(Tabelle3[[#This Row],[SKATING]:[VERANLAGUNG\nPREDISPOSITION]],AJ17:AS17),SUMPRODUCT(Tabelle3[[#This Row],[SKATING]:[VERANLAGUNG\nPREDISPOSITION]],AT17:BC17)))","v":"-"},{"$f":"IFERROR(RANK(Tabelle3[[#This Row],[TOTAL ]],Tabelle3[[TOTAL ]],0),\"-\")","v":"-"},null,null,null,null,{"$f":"IF(Tabelle3[[#This Row],[Position\nG / D / FC / FW]]=\"G\",VLOOKUP($M$5-Tabelle3[[#This Row],[Jahr\nannée]],GOALI,2),VLOOKUP($M$5-Tabelle3[[#This Row],[Jahr\nannée]],SPIELER,2))","v":10},{"$f":"IF(Tabelle3[[#This Row],[Position\nG / D / FC / FW]]=\"G\",VLOOKUP($M$5-Tabelle3[[#This Row],[Jahr\nannée]],GOALI,3),VLOOKUP($M$5-Tabelle3[[#This Row],[Jahr\nannée]],SPIELER,3))","v":10},{"$f":"IF(Tabelle3[[#This Row],[Position\nG / D / FC / FW]]=\"G\",VLOOKUP($M$5-Tabelle3[[#This Row],[Jahr\nannée]],GOALI,4),VLOOKUP($M$5-Tabelle3[[#This Row],[Jahr\nannée]],SPIELER,4))","v":20},{"$f":"IF(Tabelle3[[#This Row],[Position\nG / D / FC / FW]]=\"G\",VLOOKUP($M$5-Tabelle3[[#This Row],[Jahr\nannée]],GOALI,5),VLOOKUP($M$5-Tabelle3[[#This Row],[Jahr\nannée]],SPIELER,5))","v":15},{"$f":"IF(Tabelle3[[#This Row],[Position\nG / D / FC / FW]]=\"G\",VLOOKUP($M$5-Tabelle3[[#This Row],[Jahr\nannée]],GOALI,6),VLOOKUP($M$5-Tabelle3[[#This Row],[Jahr\nannée]],SPIELER,6))","v":10},{"$f":"IF(Tabelle3[[#This Row],[Position\nG / D / FC / FW]]=\"G\",VLOOKUP($M$5-Tabelle3[[#This Row],[Jahr\nannée]],GOALI,9),VLOOKUP($M$5-Tabelle3[[#This Row],[Jahr\nannée]],SPIELER,9))","v":15},{"$f":"IF(Tabelle3[[#This Row],[Position\nG / D / FC / FW]]=\"G\",VLOOKUP($M$5-Tabelle3[[#This Row],[Jahr\nannée]],GOALI,7),VLOOKUP($M$5-Tabelle3[[#This Row],[Jahr\nannée]],SPIELER,7))","v":10},{"$f":"IF(Tabelle3[[#This Row],[Position\nG / D / FC / FW]]=\"G\",VLOOKUP($M$5-Tabelle3[[#This Row],[Jahr\nannée]],GOALI,8),VLOOKUP($M$5-Tabelle3[[#This Row],[Jahr\nannée]],SPIELER,8))","v":0},{"$f":"IF(Tabelle3[[#This Row],[Position\nG / D / FC / FW]]=\"G\",VLOOKUP($M$5-Tabelle3[[#This Row],[Jahr\nannée]],GOALI,10),VLOOKUP($M$5-Tabelle3[[#This Row],[Jahr\nannée]],SPIELER,10))","v":0},{"$f":"IF(Tabelle3[[#This Row],[Position\nG / D / FC / FW]]=\"G\",VLOOKUP($M$5-Tabelle3[[#This Row],[Jahr\nannée]],GOALI,11),VLOOKUP($M$5-Tabelle3[[#This Row],[Jahr\nannée]],SPIELER,11))","v":10},{"$f":"IF(Tabelle3[[#This Row],[Position\nG / D / FC / FW]]=\"G\",VLOOKUP($M$5-Tabelle3[[#This Row],[Jahr\nannée]],FGOALIE,2),VLOOKUP($M$5-Tabelle3[[#This Row],[Jahr\nannée]],FSPIELER,2))","v":10},{"$f":"IF(Tabelle3[[#This Row],[Position\nG / D / FC / FW]]=\"G\",VLOOKUP($M$5-Tabelle3[[#This Row],[Jahr\nannée]],FGOALIE,3),VLOOKUP($M$5-Tabelle3[[#This Row],[Jahr\nannée]],FSPIELER,3))","v":10},{"$f":"IF(Tabelle3[[#This Row],[Position\nG / D / FC / FW]]=\"G\",VLOOKUP($M$5-Tabelle3[[#This Row],[Jahr\nannée]],FGOALIE,4),VLOOKUP($M$5-Tabelle3[[#This Row],[Jahr\nannée]],FSPIELER,4))","v":20},{"$f":"IF(Tabelle3[[#This Row],[Position\nG / D / FC / FW]]=\"G\",VLOOKUP($M$5-Tabelle3[[#This Row],[Jahr\nannée]],FGOALIE,5),VLOOKUP($M$5-Tabelle3[[#This Row],[Jahr\nannée]],FSPIELER,5))","v":15},{"$f":"IF(Tabelle3[[#This Row],[Position\nG / D / FC / FW]]=\"G\",VLOOKUP($M$5-Tabelle3[[#This Row],[Jahr\nannée]],FGOALIE,6),VLOOKUP($M$5-Tabelle3[[#This Row],[Jahr\nannée]],FSPIELER,6))","v":10},{"$f":"IF(Tabelle3[[#This Row],[Position\nG / D / FC / FW]]=\"G\",VLOOKUP($M$5-Tabelle3[[#This Row],[Jahr\nannée]],FGOALIE,9),VLOOKUP($M$5-Tabelle3[[#This Row],[Jahr\nannée]],FSPIELER,9))","v":15},{"$f":"IF(Tabelle3[[#This Row],[Position\nG / D / FC / FW]]=\"G\",VLOOKUP($M$5-Tabelle3[[#This Row],[Jahr\nannée]],FGOALIE,7),VLOOKUP($M$5-Tabelle3[[#This Row],[Jahr\nannée]],FSPIELER,7))","v":10},{"$f":"IF(Tabelle3[[#This Row],[Position\nG / D / FC / FW]]=\"G\",VLOOKUP($M$5-Tabelle3[[#This Row],[Jahr\nannée]],FGOALIE,8),VLOOKUP($M$5-Tabelle3[[#This Row],[Jahr\nannée]],FSPIELER,8))","v":0},{"$f":"IF(Tabelle3[[#This Row],[Position\nG / D / FC / FW]]=\"G\",VLOOKUP($M$5-Tabelle3[[#This Row],[Jahr\nannée]],FGOALIE,10),VLOOKUP($M$5-Tabelle3[[#This Row],[Jahr\nannée]],FSPIELER,10))","v":0},{"$f":"IF(Tabelle3[[#This Row],[Position\nG / D / FC / FW]]=\"G\",VLOOKUP($M$5-Tabelle3[[#This Row],[Jahr\nannée]],FGOALIE,11),VLOOKUP($M$5-Tabelle3[[#This Row],[Jahr\nannée]],FSPIELER,11))","v":10}]
[8,null,null,"-",null,null,null,null,null,{"$f":"IF(ISBLANK('8'!$H$4),\"-\",'8'!$H$4)","v":"-"},{"$f":"IF(ISBLANK('8'!$H$5),\"-\",'8'!$H$5)","v":"-"},{"$f":"IF(ISBLANK('8'!$H$2),\"-\",'8'!$H$2)","v":"-"},null,null,null,null,null,null,null,{"$f":"'8'!$M$19","v":0},{"$f":"'8'!$M$24","v":0},{"$f":"'8'!$M$30","v":0},{"$f":"'8'!$M$36","v":0},{"$f":"'8'!$M$41","v":0},{"$f":"'8'!$M$46","v":0},{"$f":"'8'!$M$13","v":0},{"$f":"'8'!$AA$2","v":0},{"$f":"'8'!$AA$4","v":0},{"$f":"'8'!$AA$3","v":0},{"$f":"IF(Tabelle3[[#This Row],[SKATING]]=0,\"-\",IF(Tabelle3[[#This Row],[Sex]]=\"M\",SUMPRODUCT(Tabelle3[[#This Row],[SKATING]:[VERANLAGUNG\nPREDISPOSITION]],AJ18:AS18),SUMPRODUCT(Tabelle3[[#This Row],[SKATING]:[VERANLAGUNG\nPREDISPOSITION]],AT18:BC18)))","v":"-"},{"$f":"IFERROR(RANK(Tabelle3[[#This Row],[TOTAL ]],Tabelle3[[TOTAL ]],0),\"-\")","v":"-"},null,null,null,null,{"$f":"IF(Tabelle3[[#This Row],[Position\nG / D / FC / FW]]=\"G\",VLOOKUP($M$5-Tabelle3[[#This Row],[Jahr\nannée]],GOALI,2),VLOOKUP($M$5-Tabelle3[[#This Row],[Jahr\nannée]],SPIELER,2))","v":10},{"$f":"IF(Tabelle3[[#This Row],[Position\nG / D / FC / FW]]=\"G\",VLOOKUP($M$5-Tabelle3[[#This Row],[Jahr\nannée]],GOALI,3),VLOOKUP($M$5-Tabelle3[[#This Row],[Jahr\nannée]],SPIELER,3))","v":10},{"$f":"IF(Tabelle3[[#This Row],[Position\nG / D / FC / FW]]=\"G\",VLOOKUP($M$5-Tabelle3[[#This Row],[Jahr\nannée]],GOALI,4),VLOOKUP($M$5-Tabelle3[[#This Row],[Jahr\nannée]],SPIELER,4))","v":20},{"$f":"IF(Tabelle3[[#This Row],[Position\nG / D / FC / FW]]=\"G\",VLOOKUP($M$5-Tabelle3[[#This Row],[Jahr\nannée]],GOALI,5),VLOOKUP($M$5-Tabelle3[[#This Row],[Jahr\nannée]],SPIELER,5))","v":15},{"$f":"IF(Tabelle3[[#This Row],[Position\nG / D / FC / FW]]=\"G\",VLOOKUP($M$5-Tabelle3[[#This Row],[Jahr\nannée]],GOALI,6),VLOOKUP($M$5-Tabelle3[[#This Row],[Jahr\nannée]],SPIELER,6))","v":10},{"$f":"IF(Tabelle3[[#This Row],[Position\nG / D / FC / FW]]=\"G\",VLOOKUP($M$5-Tabelle3[[#This Row],[Jahr\nannée]],GOALI,9),VLOOKUP($M$5-Tabelle3[[#This Row],[Jahr\nannée]],SPIELER,9))","v":15},{"$f":"IF(Tabelle3[[#This Row],[Position\nG / D / FC / FW]]=\"G\",VLOOKUP($M$5-Tabelle3[[#This Row],[Jahr\nannée]],GOALI,7),VLOOKUP($M$5-Tabelle3[[#This Row],[Jahr\nannée]],SPIELER,7))","v":10},{"$f":"IF(Tabelle3[[#This Row],[Position\nG / D / FC / FW]]=\"G\",VLOOKUP($M$5-Tabelle3[[#This Row],[Jahr\nannée]],GOALI,8),VLOOKUP($M$5-Tabelle3[[#This Row],[Jahr\nannée]],SPIELER,8))","v":0},{"$f":"IF(Tabelle3[[#This Row],[Position\nG / D / FC / FW]]=\"G\",VLOOKUP($M$5-Tabelle3[[#This Row],[Jahr\nannée]],GOALI,10),VLOOKUP($M$5-Tabelle3[[#This Row],[Jahr\nannée]],SPIELER,10))","v":0},{"$f":"IF(Tabelle3[[#This Row],[Position\nG / D / FC / FW]]=\"G\",VLOOKUP($M$5-Tabelle3[[#This Row],[Jahr\nannée]],GOALI,11),VLOOKUP($M$5-Tabelle3[[#This Row],[Jahr\nannée]],SPIELER,11))","v":10},{"$f":"IF(Tabelle3[[#This Row],[Position\nG / D / FC / FW]]=\"G\",VLOOKUP($M$5-Tabelle3[[#This Row],[Jahr\nannée]],FGOALIE,2),VLOOKUP($M$5-Tabelle3[[#This Row],[Jahr\nannée]],FSPIELER,2))","v":10},{"$f":"IF(Tabelle3[[#This Row],[Position\nG / D / FC / FW]]=\"G\",VLOOKUP($M$5-Tabelle3[[#This Row],[Jahr\nannée]],FGOALIE,3),VLOOKUP($M$5-Tabelle3[[#This Row],[Jahr\nannée]],FSPIELER,3))","v":10},{"$f":"IF(Tabelle3[[#This Row],[Position\nG / D / FC / FW]]=\"G\",VLOOKUP($M$5-Tabelle3[[#This Row],[Jahr\nannée]],FGOALIE,4),VLOOKUP($M$5-Tabelle3[[#This Row],[Jahr\nannée]],FSPIELER,4))","v":20},{"$f":"IF(Tabelle3[[#This Row],[Position\nG / D / FC / FW]]=\"G\",VLOOKUP($M$5-Tabelle3[[#This Row],[Jahr\nannée]],FGOALIE,5),VLOOKUP($M$5-Tabelle3[[#This Row],[Jahr\nannée]],FSPIELER,5))","v":15},{"$f":"IF(Tabelle3[[#This Row],[Position\nG / D / FC / FW]]=\"G\",VLOOKUP($M$5-Tabelle3[[#This Row],[Jahr\nannée]],FGOALIE,6),VLOOKUP($M$5-Tabelle3[[#This Row],[Jahr\nannée]],FSPIELER,6))","v":10},{"$f":"IF(Tabelle3[[#This Row],[Position\nG / D / FC / FW]]=\"G\",VLOOKUP($M$5-Tabelle3[[#This Row],[Jahr\nannée]],FGOALIE,9),VLOOKUP($M$5-Tabelle3[[#This Row],[Jahr\nannée]],FSPIELER,9))","v":15},{"$f":"IF(Tabelle3[[#This Row],[Position\nG / D / FC / FW]]=\"G\",VLOOKUP($M$5-Tabelle3[[#This Row],[Jahr\nannée]],FGOALIE,7),VLOOKUP($M$5-Tabelle3[[#This Row],[Jahr\nannée]],FSPIELER,7))","v":10},{"$f":"IF(Tabelle3[[#This Row],[Position\nG / D / FC / FW]]=\"G\",VLOOKUP($M$5-Tabelle3[[#This Row],[Jahr\nannée]],FGOALIE,8),VLOOKUP($M$5-Tabelle3[[#This Row],[Jahr\nannée]],FSPIELER,8))","v":0},{"$f":"IF(Tabelle3[[#This Row],[Position\nG / D / FC / FW]]=\"G\",VLOOKUP($M$5-Tabelle3[[#This Row],[Jahr\nannée]],FGOALIE,10),VLOOKUP($M$5-Tabelle3[[#This Row],[Jahr\nannée]],FSPIELER,10))","v":0},{"$f":"IF(Tabelle3[[#This Row],[Position\nG / D / FC / FW]]=\"G\",VLOOKUP($M$5-Tabelle3[[#This Row],[Jahr\nannée]],FGOALIE,11),VLOOKUP($M$5-Tabelle3[[#This Row],[Jahr\nannée]],FSPIELER,11))","v":10}]
[9,null,null,"-",null,null,null,null,null,{"$f":"IF(ISBLANK('9'!$H$4),\"-\",'9'!$H$4)","v":"-"},{"$f":"IF(ISBLANK('9'!$H$5),\"-\",'9'!$H$5)","v":"-"},{"$f":"IF(ISBLANK('9'!$H$2),\"-\",'9'!$H$2)","v":"-"},null,null,null,null,null,null,null,{"$f":"'9'!$M$19","v":0},{"$f":"'9'!$M$24","v":0},{"$f":"'9'!$M$30","v":0},{"$f":"'9'!$M$36","v":0},{"$f":"'9'!$M$41","v":0},{"$f":"'9'!$M$46","v":0},{"$f":"'9'!$M$13","v":0},{"$f":"'9'!$AA$2","v":0},{"$f":"'9'!$AA$4","v":0},{"$f":"'9'!$AA$3","v":0},{"$f":"IF(Tabelle3[[#This Row],[SKATING]]=0,\"-\",IF(Tabelle3[[#This Row],[Sex]]=\"M\",SUMPRODUCT(Tabelle3[[#This Row],[SKATING]:[VERANLAGUNG\nPREDISPOSITION]],AJ19:AS19),SUMPRODUCT(Tabelle3[[#This Row],[SKATING]:[VERANLAGUNG\nPREDISPOSITION]],AT19:BC19)))","v":"-"},{"$f":"IFERROR(RANK(Tabelle3[[#This Row],[TOTAL ]],Tabelle3[[TOTAL ]],0),\"-\")","v":"-"},null,null,null,null,{"$f":"IF(Tabelle3[[#This Row],[Position\nG / D / FC / FW]]=\"G\",VLOOKUP($M$5-Tabelle3[[#This Row],[Jahr\nannée]],GOALI,2),VLOOKUP($M$5-Tabelle3[[#This Row],[Jahr\nannée]],SPIELER,2))","v":10},{"$f":"IF(Tabelle3[[#This Row],[Position\nG / D / FC / FW]]=\"G\",VLOOKUP($M$5-Tabelle3[[#This Row],[Jahr\nannée]],GOALI,3),VLOOKUP($M$5-Tabelle3[[#This Row],[Jahr\nannée]],SPIELER,3))","v":10},{"$f":"IF(Tabelle3[[#This Row],[Position\nG / D / FC / FW]]=\"G\",VLOOKUP($M$5-Tabelle3[[#This Row],[Jahr\nannée]],GOALI,4),VLOOKUP($M$5-Tabelle3[[#This Row],[Jahr\nannée]],SPIELER,4))","v":20},{"$f":"IF(Tabelle3[[#This Row],[Position\nG / D / FC / FW]]=\"G\",VLOOKUP($M$5-Tabelle3[[#This Row],[Jahr\nannée]],GOALI,5),VLOOKUP($M$5-Tabelle3[[#This Row],[Jahr\nannée]],SPIELER,5))","v":15},{"$f":"IF(Tabelle3[[#This Row],[Position\nG / D / FC / FW]]=\"G\",VLOOKUP($M$5-Tabelle3[[#This Row],[Jahr\nannée]],GOALI,6),VLOOKUP($M$5-Tabelle3[[#This Row],[Jahr\nannée]],SPIELER,6))","v":10},{"$f":"IF(Tabelle3[[#This Row],[Position\nG / D / FC / FW]]=\"G\",VLOOKUP($M$5-Tabelle3[[#This Row],[Jahr\nannée]],GOALI,9),VLOOKUP($M$5-Tabelle3[[#This Row],[Jahr\nannée]],SPIELER,9))","v":15},{"$f":"IF(Tabelle3[[#This Row],[Position\nG / D / FC / FW]]=\"G\",VLOOKUP($M$5-Tabelle3[[#This Row],[Jahr\nannée]],GOALI,7),VLOOKUP($M$5-Tabelle3[[#This Row],[Jahr\nannée]],SPIELER,7))","v":10},{"$f":"IF(Tabelle3[[#This Row],[Position\nG / D / FC / FW]]=\"G\",VLOOKUP($M$5-Tabelle3[[#This Row],[Jahr\nannée]],GOALI,8),VLOOKUP($M$5-Tabelle3[[#This Row],[Jahr\nannée]],SPIELER,8))","v":0},{"$f":"IF(Tabelle3[[#This Row],[Position\nG / D / FC / FW]]=\"G\",VLOOKUP($M$5-Tabelle3[[#This Row],[Jahr\nannée]],GOALI,10),VLOOKUP($M$5-Tabelle3[[#This Row],[Jahr\nannée]],SPIELER,10))","v":0},{"$f":"IF(Tabelle3[[#This Row],[Position\nG / D / FC / FW]]=\"G\",VLOOKUP($M$5-Tabelle3[[#This Row],[Jahr\nannée]],GOALI,11),VLOOKUP($M$5-Tabelle3[[#This Row],[Jahr\nannée]],SPIELER,11))","v":10},{"$f":"IF(Tabelle3[[#This Row],[Position\nG / D / FC / FW]]=\"G\",VLOOKUP($M$5-Tabelle3[[#This Row],[Jahr\nannée]],FGOALIE,2),VLOOKUP($M$5-Tabelle3[[#This Row],[Jahr\nannée]],FSPIELER,2))","v":10},{"$f":"IF(Tabelle3[[#This Row],[Position\nG / D / FC / FW]]=\"G\",VLOOKUP($M$5-Tabelle3[[#This Row],[Jahr\nannée]],FGOALIE,3),VLOOKUP($M$5-Tabelle3[[#This Row],[Jahr\nannée]],FSPIELER,3))","v":10},{"$f":"IF(Tabelle3[[#This Row],[Position\nG / D / FC / FW]]=\"G\",VLOOKUP($M$5-Tabelle3[[#This Row],[Jahr\nannée]],FGOALIE,4),VLOOKUP($M$5-Tabelle3[[#This Row],[Jahr\nannée]],FSPIELER,4))","v":20},{"$f":"IF(Tabelle3[[#This Row],[Position\nG / D / FC / FW]]=\"G\",VLOOKUP($M$5-Tabelle3[[#This Row],[Jahr\nannée]],FGOALIE,5),VLOOKUP($M$5-Tabelle3[[#This Row],[Jahr\nannée]],FSPIELER,5))","v":15},{"$f":"IF(Tabelle3[[#This Row],[Position\nG / D / FC / FW]]=\"G\",VLOOKUP($M$5-Tabelle3[[#This Row],[Jahr\nannée]],FGOALIE,6),VLOOKUP($M$5-Tabelle3[[#This Row],[Jahr\nannée]],FSPIELER,6))","v":10},{"$f":"IF(Tabelle3[[#This Row],[Position\nG / D / FC / FW]]=\"G\",VLOOKUP($M$5-Tabelle3[[#This Row],[Jahr\nannée]],FGOALIE,9),VLOOKUP($M$5-Tabelle3[[#This Row],[Jahr\nannée]],FSPIELER,9))","v":15},{"$f":"IF(Tabelle3[[#This Row],[Position\nG / D / FC / FW]]=\"G\",VLOOKUP($M$5-Tabelle3[[#This Row],[Jahr\nannée]],FGOALIE,7),VLOOKUP($M$5-Tabelle3[[#This Row],[Jahr\nannée]],FSPIELER,7))","v":10},{"$f":"IF(Tabelle3[[#This Row],[Position\nG / D / FC / FW]]=\"G\",VLOOKUP($M$5-Tabelle3[[#This Row],[Jahr\nannée]],FGOALIE,8),VLOOKUP($M$5-Tabelle3[[#This Row],[Jahr\nannée]],FSPIELER,8))","v":0},{"$f":"IF(Tabelle3[[#This Row],[Position\nG / D / FC / FW]]=\"G\",VLOOKUP($M$5-Tabelle3[[#This Row],[Jahr\nannée]],FGOALIE,10),VLOOKUP($M$5-Tabelle3[[#This Row],[Jahr\nannée]],FSPIELER,10))","v":0},{"$f":"IF(Tabelle3[[#This Row],[Position\nG / D / FC / FW]]=\"G\",VLOOKUP($M$5-Tabelle3[[#This Row],[Jahr\nannée]],FGOALIE,11),VLOOKUP($M$5-Tabelle3[[#This Row],[Jahr\nannée]],FSPIELER,11))","v":10}]
[10,null,null,"-",null,null,null,null,null,{"$f":"IF(ISBLANK('10'!$H$4),\"-\",'10'!$H$4)","v":"-"},{"$f":"IF(ISBLANK('10'!$H$5),\"-\",'10'!$H$5)","v":"-"},{"$f":"IF(ISBLANK('10'!$H$2),\"-\",'10'!$H$2)","v":"-"},null,null,null,null,null,null,null,{"$f":"'10'!$M$19","v":0},{"$f":"'10'!$M$24","v":0},{"$f":"'10'!$M$30","v":0},{"$f":"'10'!$M$36","v":0},{"$f":"'10'!$M$41","v":0},{"$f":"'10'!$M$46","v":0},{"$f":"'10'!$M$13","v":0},{"$f":"'10'!$AA$2","v":0},{"$f":"'10'!$AA$4","v":0},{"$f":"'10'!$AA$3","v":0},{"$f":"IF(Tabelle3[[#This Row],[SKATING]]=0,\"-\",IF(Tabelle3[[#This Row],[Sex]]=\"M\",SUMPRODUCT(Tabelle3[[#This Row],[SKATING]:[VERANLAGUNG\nPREDISPOSITION]],AJ20:AS20),SUMPRODUCT(Tabelle3[[#This Row],[SKATING]:[VERANLAGUNG\nPREDISPOSITION]],AT20:BC20)))","v":"-"},{"$f":"IFERROR(RANK(Tabelle3[[#This Row],[TOTAL ]],Tabelle3[[TOTAL ]],0),\"-\")","v":"-"},null,null,null,null,{"$f":"IF(Tabelle3[[#This Row],[Position\nG / D / FC / FW]]=\"G\",VLOOKUP($M$5-Tabelle3[[#This Row],[Jahr\nannée]],GOALI,2),VLOOKUP($M$5-Tabelle3[[#This Row],[Jahr\nannée]],SPIELER,2))","v":10},{"$f":"IF(Tabelle3[[#This Row],[Position\nG / D / FC / FW]]=\"G\",VLOOKUP($M$5-Tabelle3[[#This Row],[Jahr\nannée]],GOALI,3),VLOOKUP($M$5-Tabelle3[[#This Row],[Jahr\nannée]],SPIELER,3))","v":10},{"$f":"IF(Tabelle3[[#This Row],[Position\nG / D / FC / FW]]=\"G\",VLOOKUP($M$5-Tabelle3[[#This Row],[Jahr\nannée]],GOALI,4),VLOOKUP($M$5-Tabelle3[[#This Row],[Jahr\nannée]],SPIELER,4))","v":20},{"$f":"IF(Tabelle3[[#This Row],[Position\nG / D / FC / FW]]=\"G\",VLOOKUP($M$5-Tabelle3[[#This Row],[Jahr\nannée]],GOALI,5),VLOOKUP($M$5-Tabelle3[[#This Row],[Jahr\nannée]],SPIELER,5))","v":15},{"$f":"IF(Tabelle3[[#This Row],[Position\nG / D / FC / FW]]=\"G\",VLOOKUP($M$5-Tabelle3[[#This Row],[Jahr\nannée]],GOALI,6),VLOOKUP($M$5-Tabelle3[[#This Row],[Jahr\nannée]],SPIELER,6))","v":10},{"$f":"IF(Tabelle3[[#This Row],[Position\nG / D / FC / FW]]=\"G\",VLOOKUP($M$5-Tabelle3[[#This Row],[Jahr\nannée]],GOALI,9),VLOOKUP($M$5-Tabelle3[[#This Row],[Jahr\nannée]],SPIELER,9))","v":15},{"$f":"IF(Tabelle3[[#This Row],[Position\nG / D / FC / FW]]=\"G\",VLOOKUP($M$5-Tabelle3[[#This Row],[Jahr\nannée]],GOALI,7),VLOOKUP($M$5-Tabelle3[[#This Row],[Jahr\nannée]],SPIELER,7))","v":10},{"$f":"IF(Tabelle3[[#This Row],[Position\nG / D / FC / FW]]=\"G\",VLOOKUP($M$5-Tabelle3[[#This Row],[Jahr\nannée]],GOALI,8),VLOOKUP($M$5-Tabelle3[[#This Row],[Jahr\nannée]],SPIELER,8))","v":0},{"$f":"IF(Tabelle3[[#This Row],[Position\nG / D / FC / FW]]=\"G\",VLOOKUP($M$5-Tabelle3[[#This Row],[Jahr\nannée]],GOALI,10),VLOOKUP($M$5-Tabelle3[[#This Row],[Jahr\nannée]],SPIELER,10))","v":0},{"$f":"IF(Tabelle3[[#This Row],[Position\nG / D / FC / FW]]=\"G\",VLOOKUP($M$5-Tabelle3[[#This Row],[Jahr\nannée]],GOALI,11),VLOOKUP($M$5-Tabelle3[[#This Row],[Jahr\nannée]],SPIELER,11))","v":10},{"$f":"IF(Tabelle3[[#This Row],[Position\nG / D / FC / FW]]=\"G\",VLOOKUP($M$5-Tabelle3[[#This Row],[Jahr\nannée]],FGOALIE,2),VLOOKUP($M$5-Tabelle3[[#This Row],[Jahr\nannée]],FSPIELER,2))","v":10},{"$f":"IF(Tabelle3[[#This Row],[Position\nG / D / FC / FW]]=\"G\",VLOOKUP($M$5-Tabelle3[[#This Row],[Jahr\nannée]],FGOALIE,3),VLOOKUP($M$5-Tabelle3[[#This Row],[Jahr\nannée]],FSPIELER,3))","v":10},{"$f":"IF(Tabelle3[[#This Row],[Position\nG / D / FC / FW]]=\"G\",VLOOKUP($M$5-Tabelle3[[#This Row],[Jahr\nannée]],FGOALIE,4),VLOOKUP($M$5-Tabelle3[[#This Row],[Jahr\nannée]],FSPIELER,4))","v":20},{"$f":"IF(Tabelle3[[#This Row],[Position\nG / D / FC / FW]]=\"G\",VLOOKUP($M$5-Tabelle3[[#This Row],[Jahr\nannée]],FGOALIE,5),VLOOKUP($M$5-Tabelle3[[#This Row],[Jahr\nannée]],FSPIELER,5))","v":15},{"$f":"IF(Tabelle3[[#This Row],[Position\nG / D / FC / FW]]=\"G\",VLOOKUP($M$5-Tabelle3[[#This Row],[Jahr\nannée]],FGOALIE,6),VLOOKUP($M$5-Tabelle3[[#This Row],[Jahr\nannée]],FSPIELER,6))","v":10},{"$f":"IF(Tabelle3[[#This Row],[Position\nG / D / FC / FW]]=\"G\",VLOOKUP($M$5-Tabelle3[[#This Row],[Jahr\nannée]],FGOALIE,9),VLOOKUP($M$5-Tabelle3[[#This Row],[Jahr\nannée]],FSPIELER,9))","v":15},{"$f":"IF(Tabelle3[[#This Row],[Position\nG / D / FC / FW]]=\"G\",VLOOKUP($M$5-Tabelle3[[#This Row],[Jahr\nannée]],FGOALIE,7),VLOOKUP($M$5-Tabelle3[[#This Row],[Jahr\nannée]],FSPIELER,7))","v":10},{"$f":"IF(Tabelle3[[#This Row],[Position\nG / D / FC / FW]]=\"G\",VLOOKUP($M$5-Tabelle3[[#This Row],[Jahr\nannée]],FGOALIE,8),VLOOKUP($M$5-Tabelle3[[#This Row],[Jahr\nannée]],FSPIELER,8))","v":0},{"$f":"IF(Tabelle3[[#This Row],[Position\nG / D / FC / FW]]=\"G\",VLOOKUP($M$5-Tabelle3[[#This Row],[Jahr\nannée]],FGOALIE,10),VLOOKUP($M$5-Tabelle3[[#This Row],[Jahr\nannée]],FSPIELER,10))","v":0},{"$f":"IF(Tabelle3[[#This Row],[Position\nG / D / FC / FW]]=\"G\",VLOOKUP($M$5-Tabelle3[[#This Row],[Jahr\nannée]],FGOALIE,11),VLOOKUP($M$5-Tabelle3[[#This Row],[Jahr\nannée]],FSPIELER,11))","v":10}]
[11,null,null,"-",null,null,null,null,null,{"$f":"IF(ISBLANK('11'!$H$4),\"-\",'11'!$H$4)","v":"-"},{"$f":"IF(ISBLANK('11'!$H$5),\"-\",'11'!$H$5)","v":"-"},{"$f":"IF(ISBLANK('11'!$H$2),\"-\",'11'!$H$2)","v":"-"},null,null,null,null,null,null,null,{"$f":"'11'!$M$19","v":0},{"$f":"'11'!$M$24","v":0},{"$f":"'11'!$M$30","v":0},{"$f":"'11'!$M$36","v":0},{"$f":"'11'!$M$41","v":0},{"$f":"'11'!$M$46","v":0},{"$f":"'11'!$M$13","v":0},{"$f":"'11'!$AA$2","v":0},{"$f":"'11'!$AA$4","v":0},{"$f":"'11'!$AA$3","v":0},{"$f":"IF(Tabelle3[[#This Row],[SKATING]]=0,\"-\",IF(Tabelle3[[#This Row],[Sex]]=\"M\",SUMPRODUCT(Tabelle3[[#This Row],[SKATING]:[VERANLAGUNG\nPREDISPOSITION]],AJ21:AS21),SUMPRODUCT(Tabelle3[[#This Row],[SKATING]:[VERANLAGUNG\nPREDISPOSITION]],AT21:BC21)))","v":"-"},{"$f":"IFERROR(RANK(Tabelle3[[#This Row],[TOTAL ]],Tabelle3[[TOTAL ]],0),\"-\")","v":"-"},null,null,null,null,{"$f":"IF(Tabelle3[[#This Row],[Position\nG / D / FC / FW]]=\"G\",VLOOKUP($M$5-Tabelle3[[#This Row],[Jahr\nannée]],GOALI,2),VLOOKUP($M$5-Tabelle3[[#This Row],[Jahr\nannée]],SPIELER,2))","v":10},{"$f":"IF(Tabelle3[[#This Row],[Position\nG / D / FC / FW]]=\"G\",VLOOKUP($M$5-Tabelle3[[#This Row],[Jahr\nannée]],GOALI,3),VLOOKUP($M$5-Tabelle3[[#This Row],[Jahr\nannée]],SPIELER,3))","v":10},{"$f":"IF(Tabelle3[[#This Row],[Position\nG / D / FC / FW]]=\"G\",VLOOKUP($M$5-Tabelle3[[#This Row],[Jahr\nannée]],GOALI,4),VLOOKUP($M$5-Tabelle3[[#This Row],[Jahr\nannée]],SPIELER,4))","v":20},{"$f":"IF(Tabelle3[[#This Row],[Position\nG / D / FC / FW]]=\"G\",VLOOKUP($M$5-Tabelle3[[#This Row],[Jahr\nannée]],GOALI,5),VLOOKUP($M$5-Tabelle3[[#This Row],[Jahr\nannée]],SPIELER,5))","v":15},{"$f":"IF(Tabelle3[[#This Row],[Position\nG / D / FC / FW]]=\"G\",VLOOKUP($M$5-Tabelle3[[#This Row],[Jahr\nannée]],GOALI,6),VLOOKUP($M$5-Tabelle3[[#This Row],[Jahr\nannée]],SPIELER,6))","v":10},{"$f":"IF(Tabelle3[[#This Row],[Position\nG / D / FC / FW]]=\"G\",VLOOKUP($M$5-Tabelle3[[#This Row],[Jahr\nannée]],GOALI,9),VLOOKUP($M$5-Tabelle3[[#This Row],[Jahr\nannée]],SPIELER,9))","v":15},{"$f":"IF(Tabelle3[[#This Row],[Position\nG / D / FC / FW]]=\"G\",VLOOKUP($M$5-Tabelle3[[#This Row],[Jahr\nannée]],GOALI,7),VLOOKUP($M$5-Tabelle3[[#This Row],[Jahr\nannée]],SPIELER,7))","v":10},{"$f":"IF(Tabelle3[[#This Row],[Position\nG / D / FC / FW]]=\"G\",VLOOKUP($M$5-Tabelle3[[#This Row],[Jahr\nannée]],GOALI,8),VLOOKUP($M$5-Tabelle3[[#This Row],[Jahr\nannée]],SPIELER,8))","v":0},{"$f":"IF(Tabelle3[[#This Row],[Position\nG / D / FC / FW]]=\"G\",VLOOKUP($M$5-Tabelle3[[#This Row],[Jahr\nannée]],GOALI,10),VLOOKUP($M$5-Tabelle3[[#This Row],[Jahr\nannée]],SPIELER,10))","v":0},{"$f":"IF(Tabelle3[[#This Row],[Position\nG / D / FC / FW]]=\"G\",VLOOKUP($M$5-Tabelle3[[#This Row],[Jahr\nannée]],GOALI,11),VLOOKUP($M$5-Tabelle3[[#This Row],[Jahr\nannée]],SPIELER,11))","v":10},{"$f":"IF(Tabelle3[[#This Row],[Position\nG / D / FC / FW]]=\"G\",VLOOKUP($M$5-Tabelle3[[#This Row],[Jahr\nannée]],FGOALIE,2),VLOOKUP($M$5-Tabelle3[[#This Row],[Jahr\nannée]],FSPIELER,2))","v":10},{"$f":"IF(Tabelle3[[#This Row],[Position\nG / D / FC / FW]]=\"G\",VLOOKUP($M$5-Tabelle3[[#This Row],[Jahr\nannée]],FGOALIE,3),VLOOKUP($M$5-Tabelle3[[#This Row],[Jahr\nannée]],FSPIELER,3))","v":10},{"$f":"IF(Tabelle3[[#This Row],[Position\nG / D / FC / FW]]=\"G\",VLOOKUP($M$5-Tabelle3[[#This Row],[Jahr\nannée]],FGOALIE,4),VLOOKUP($M$5-Tabelle3[[#This Row],[Jahr\nannée]],FSPIELER,4))","v":20},{"$f":"IF(Tabelle3[[#This Row],[Position\nG / D / FC / FW]]=\"G\",VLOOKUP($M$5-Tabelle3[[#This Row],[Jahr\nannée]],FGOALIE,5),VLOOKUP($M$5-Tabelle3[[#This Row],[Jahr\nannée]],FSPIELER,5))","v":15},{"$f":"IF(Tabelle3[[#This Row],[Position\nG / D / FC / FW]]=\"G\",VLOOKUP($M$5-Tabelle3[[#This Row],[Jahr\nannée]],FGOALIE,6),VLOOKUP($M$5-Tabelle3[[#This Row],[Jahr\nannée]],FSPIELER,6))","v":10},{"$f":"IF(Tabelle3[[#This Row],[Position\nG / D / FC / FW]]=\"G\",VLOOKUP($M$5-Tabelle3[[#This Row],[Jahr\nannée]],FGOALIE,9),VLOOKUP($M$5-Tabelle3[[#This Row],[Jahr\nannée]],FSPIELER,9))","v":15},{"$f":"IF(Tabelle3[[#This Row],[Position\nG / D / FC / FW]]=\"G\",VLOOKUP($M$5-Tabelle3[[#This Row],[Jahr\nannée]],FGOALIE,7),VLOOKUP($M$5-Tabelle3[[#This Row],[Jahr\nannée]],FSPIELER,7))","v":10},{"$f":"IF(Tabelle3[[#This Row],[Position\nG / D / FC / FW]]=\"G\",VLOOKUP($M$5-Tabelle3[[#This Row],[Jahr\nannée]],FGOALIE,8),VLOOKUP($M$5-Tabelle3[[#This Row],[Jahr\nannée]],FSPIELER,8))","v":0},{"$f":"IF(Tabelle3[[#This Row],[Position\nG / D / FC / FW]]=\"G\",VLOOKUP($M$5-Tabelle3[[#This Row],[Jahr\nannée]],FGOALIE,10),VLOOKUP($M$5-Tabelle3[[#This Row],[Jahr\nannée]],FSPIELER,10))","v":0},{"$f":"IF(Tabelle3[[#This Row],[Position\nG / D / FC / FW]]=\"G\",VLOOKUP($M$5-Tabelle3[[#This Row],[Jahr\nannée]],FGOALIE,11),VLOOKUP($M$5-Tabelle3[[#This Row],[Jahr\nannée]],FSPIELER,11))","v":10}]
[12,null,null,"-",null,null,null,null,null,{"$f":"IF(ISBLANK('12'!$H$4),\"-\",'12'!$H$4)","v":"-"},{"$f":"IF(ISBLANK('12'!$H$5),\"-\",'12'!$H$5)","v":"-"},{"$f":"IF(ISBLANK('12'!$H$2),\"-\",'12'!$H$2)","v":"-"},null,null,null,null,null,null,null,{"$f":"'12'!$M$19","v":0},{"$f":"'12'!$M$24","v":0},{"$f":"'12'!$M$30","v":0},{"$f":"'12'!$M$36","v":0},{"$f":"'12'!$M$41","v":0},{"$f":"'12'!$M$46","v":0},{"$f":"'12'!$M$13","v":0},{"$f":"'12'!$AA$2","v":0},{"$f":"'12'!$AA$4","v":0},{"$f":"'12'!$AA$3","v":0},{"$f":"IF(Tabelle3[[#This Row],[SKATING]]=0,\"-\",IF(Tabelle3[[#This Row],[Sex]]=\"M\",SUMPRODUCT(Tabelle3[[#This Row],[SKATING]:[VERANLAGUNG\nPREDISPOSITION]],AJ22:AS22),SUMPRODUCT(Tabelle3[[#This Row],[SKATING]:[VERANLAGUNG\nPREDISPOSITION]],AT22:BC22)))","v":"-"},{"$f":"IFERROR(RANK(Tabelle3[[#This Row],[TOTAL ]],Tabelle3[[TOTAL ]],0),\"-\")","v":"-"},null,null,null,null,{"$f":"IF(Tabelle3[[#This Row],[Position\nG / D / FC / FW]]=\"G\",VLOOKUP($M$5-Tabelle3[[#This Row],[Jahr\nannée]],GOALI,2),VLOOKUP($M$5-Tabelle3[[#This Row],[Jahr\nannée]],SPIELER,2))","v":10},{"$f":"IF(Tabelle3[[#This Row],[Position\nG / D / FC / FW]]=\"G\",VLOOKUP($M$5-Tabelle3[[#This Row],[Jahr\nannée]],GOALI,3),VLOOKUP($M$5-Tabelle3[[#This Row],[Jahr\nannée]],SPIELER,3))","v":10},{"$f":"IF(Tabelle3[[#This Row],[Position\nG / D / FC / FW]]=\"G\",VLOOKUP($M$5-Tabelle3[[#This Row],[Jahr\nannée]],GOALI,4),VLOOKUP($M$5-Tabelle3[[#This Row],[Jahr\nannée]],SPIELER,4))","v":20},{"$f":"IF(Tabelle3[[#This Row],[Position\nG / D / FC / FW]]=\"G\",VLOOKUP($M$5-Tabelle3[[#This Row],[Jahr\nannée]],GOALI,5),VLOOKUP($M$5-Tabelle3[[#This Row],[Jahr\nannée]],SPIELER,5))","v":15},{"$f":"IF(Tabelle3[[#This Row],[Position\nG / D / FC / FW]]=\"G\",VLOOKUP($M$5-Tabelle3[[#This Row],[Jahr\nannée]],GOALI,6),VLOOKUP($M$5-Tabelle3[[#This Row],[Jahr\nannée]],SPIELER,6))","v":10},{"$f":"IF(Tabelle3[[#This Row],[Position\nG / D / FC / FW]]=\"G\",VLOOKUP($M$5-Tabelle3[[#This Row],[Jahr\nannée]],GOALI,9),VLOOKUP($M$5-Tabelle3[[#This Row],[Jahr\nannée]],SPIELER,9))","v":15},{"$f":"IF(Tabelle3[[#This Row],[Position\nG / D / FC / FW]]=\"G\",VLOOKUP($M$5-Tabelle3[[#This Row],[Jahr\nannée]],GOALI,7),VLOOKUP($M$5-Tabelle3[[#This Row],[Jahr\nannée]],SPIELER,7))","v":10},{"$f":"IF(Tabelle3[[#This Row],[Position\nG / D / FC / FW]]=\"G\",VLOOKUP($M$5-Tabelle3[[#This Row],[Jahr\nannée]],GOALI,8),VLOOKUP($M$5-Tabelle3[[#This Row],[Jahr\nannée]],SPIELER,8))","v":0},{"$f":"IF(Tabelle3[[#This Row],[Position\nG / D / FC / FW]]=\"G\",VLOOKUP($M$5-Tabelle3[[#This Row],[Jahr\nannée]],GOALI,10),VLOOKUP($M$5-Tabelle3[[#This Row],[Jahr\nannée]],SPIELER,10))","v":0},{"$f":"IF(Tabelle3[[#This Row],[Position\nG / D / FC / FW]]=\"G\",VLOOKUP($M$5-Tabelle3[[#This Row],[Jahr\nannée]],GOALI,11),VLOOKUP($M$5-Tabelle3[[#This Row],[Jahr\nannée]],SPIELER,11))","v":10},{"$f":"IF(Tabelle3[[#This Row],[Position\nG / D / FC / FW]]=\"G\",VLOOKUP($M$5-Tabelle3[[#This Row],[Jahr\nannée]],FGOALIE,2),VLOOKUP($M$5-Tabelle3[[#This Row],[Jahr\nannée]],FSPIELER,2))","v":10},{"$f":"IF(Tabelle3[[#This Row],[Position\nG / D / FC / FW]]=\"G\",VLOOKUP($M$5-Tabelle3[[#This Row],[Jahr\nannée]],FGOALIE,3),VLOOKUP($M$5-Tabelle3[[#This Row],[Jahr\nannée]],FSPIELER,3))","v":10},{"$f":"IF(Tabelle3[[#This Row],[Position\nG / D / FC / FW]]=\"G\",VLOOKUP($M$5-Tabelle3[[#This Row],[Jahr\nannée]],FGOALIE,4),VLOOKUP($M$5-Tabelle3[[#This Row],[Jahr\nannée]],FSPIELER,4))","v":20},{"$f":"IF(Tabelle3[[#This Row],[Position\nG / D / FC / FW]]=\"G\",VLOOKUP($M$5-Tabelle3[[#This Row],[Jahr\nannée]],FGOALIE,5),VLOOKUP($M$5-Tabelle3[[#This Row],[Jahr\nannée]],FSPIELER,5))","v":15},{"$f":"IF(Tabelle3[[#This Row],[Position\nG / D / FC / FW]]=\"G\",VLOOKUP($M$5-Tabelle3[[#This Row],[Jahr\nannée]],FGOALIE,6),VLOOKUP($M$5-Tabelle3[[#This Row],[Jahr\nannée]],FSPIELER,6))","v":10},{"$f":"IF(Tabelle3[[#This Row],[Position\nG / D / FC / FW]]=\"G\",VLOOKUP($M$5-Tabelle3[[#This Row],[Jahr\nannée]],FGOALIE,9),VLOOKUP($M$5-Tabelle3[[#This Row],[Jahr\nannée]],FSPIELER,9))","v":15},{"$f":"IF(Tabelle3[[#This Row],[Position\nG / D / FC / FW]]=\"G\",VLOOKUP($M$5-Tabelle3[[#This Row],[Jahr\nannée]],FGOALIE,7),VLOOKUP($M$5-Tabelle3[[#This Row],[Jahr\nannée]],FSPIELER,7))","v":10},{"$f":"IF(Tabelle3[[#This Row],[Position\nG / D / FC / FW]]=\"G\",VLOOKUP($M$5-Tabelle3[[#This Row],[Jahr\nannée]],FGOALIE,8),VLOOKUP($M$5-Tabelle3[[#This Row],[Jahr\nannée]],FSPIELER,8))","v":0},{"$f":"IF(Tabelle3[[#This Row],[Position\nG / D / FC / FW]]=\"G\",VLOOKUP($M$5-Tabelle3[[#This Row],[Jahr\nannée]],FGOALIE,10),VLOOKUP($M$5-Tabelle3[[#This Row],[Jahr\nannée]],FSPIELER,10))","v":0},{"$f":"IF(Tabelle3[[#This Row],[Position\nG / D / FC / FW]]=\"G\",VLOOKUP($M$5-Tabelle3[[#This Row],[Jahr\nannée]],FGOALIE,11),VLOOKUP($M$5-Tabelle3[[#This Row],[Jahr\nannée]],FSPIELER,11))","v":10}]
[13,null,null,"-",null,null,null,null,null,{"$f":"IF(ISBLANK('13'!$H$4),\"-\",'13'!$H$4)","v":"-"},{"$f":"IF(ISBLANK('13'!$H$5),\"-\",'13'!$H$5)","v":"-"},{"$f":"IF(ISBLANK('13'!$H$2),\"-\",'13'!$H$2)","v":"-"},null,null,null,null,null,null,null,{"$f":"'13'!$M$19","v":0},{"$f":"'13'!$M$24","v":0},{"$f":"'13'!$M$30","v":0},{"$f":"'13'!$M$36","v":0},{"$f":"'13'!$M$41","v":0},{"$f":"'13'!$M$46","v":0},{"$f":"'13'!$M$13","v":0},{"$f":"'13'!$AA$2","v":0},{"$f":"'13'!$AA$4","v":0},{"$f":"'13'!$AA$3","v":0},{"$f":"IF(Tabelle3[[#This Row],[SKATING]]=0,\"-\",IF(Tabelle3[[#This Row],[Sex]]=\"M\",SUMPRODUCT(Tabelle3[[#This Row],[SKATING]:[VERANLAGUNG\nPREDISPOSITION]],AJ23:AS23),SUMPRODUCT(Tabelle3[[#This Row],[SKATING]:[VERANLAGUNG\nPREDISPOSITION]],AT23:BC23)))","v":"-"},{"$f":"IFERROR(RANK(Tabelle3[[#This Row],[TOTAL ]],Tabelle3[[TOTAL ]],0),\"-\")","v":"-"},null,null,null,null,{"$f":"IF(Tabelle3[[#This Row],[Position\nG / D / FC / FW]]=\"G\",VLOOKUP($M$5-Tabelle3[[#This Row],[Jahr\nannée]],GOALI,2),VLOOKUP($M$5-Tabelle3[[#This Row],[Jahr\nannée]],SPIELER,2))","v":10},{"$f":"IF(Tabelle3[[#This Row],[Position\nG / D / FC / FW]]=\"G\",VLOOKUP($M$5-Tabelle3[[#This Row],[Jahr\nannée]],GOALI,3),VLOOKUP($M$5-Tabelle3[[#This Row],[Jahr\nannée]],SPIELER,3))","v":10},{"$f":"IF(Tabelle3[[#This Row],[Position\nG / D / FC / FW]]=\"G\",VLOOKUP($M$5-Tabelle3[[#This Row],[Jahr\nannée]],GOALI,4),VLOOKUP($M$5-Tabelle3[[#This Row],[Jahr\nannée]],SPIELER,4))","v":20},{"$f":"IF(Tabelle3[[#This Row],[Position\nG / D / FC / FW]]=\"G\",VLOOKUP($M$5-Tabelle3[[#This Row],[Jahr\nannée]],GOALI,5),VLOOKUP($M$5-Tabelle3[[#This Row],[Jahr\nannée]],SPIELER,5))","v":15},{"$f":"IF(Tabelle3[[#This Row],[Position\nG / D / FC / FW]]=\"G\",VLOOKUP($M$5-Tabelle3[[#This Row],[Jahr\nannée]],GOALI,6),VLOOKUP($M$5-Tabelle3[[#This Row],[Jahr\nannée]],SPIELER,6))","v":10},{"$f":"IF(Tabelle3[[#This Row],[Position\nG / D / FC / FW]]=\"G\",VLOOKUP($M$5-Tabelle3[[#This Row],[Jahr\nannée]],GOALI,9),VLOOKUP($M$5-Tabelle3[[#This Row],[Jahr\nannée]],SPIELER,9))","v":15},{"$f":"IF(Tabelle3[[#This Row],[Position\nG / D / FC / FW]]=\"G\",VLOOKUP($M$5-Tabelle3[[#This Row],[Jahr\nannée]],GOALI,7),VLOOKUP($M$5-Tabelle3[[#This Row],[Jahr\nannée]],SPIELER,7))","v":10},{"$f":"IF(Tabelle3[[#This Row],[Position\nG / D / FC / FW]]=\"G\",VLOOKUP($M$5-Tabelle3[[#This Row],[Jahr\nannée]],GOALI,8),VLOOKUP($M$5-Tabelle3[[#This Row],[Jahr\nannée]],SPIELER,8))","v":0},{"$f":"IF(Tabelle3[[#This Row],[Position\nG / D / FC / FW]]=\"G\",VLOOKUP($M$5-Tabelle3[[#This Row],[Jahr\nannée]],GOALI,10),VLOOKUP($M$5-Tabelle3[[#This Row],[Jahr\nannée]],SPIELER,10))","v":0},{"$f":"IF(Tabelle3[[#This Row],[Position\nG / D / FC / FW]]=\"G\",VLOOKUP($M$5-Tabelle3[[#This Row],[Jahr\nannée]],GOALI,11),VLOOKUP($M$5-Tabelle3[[#This Row],[Jahr\nannée]],SPIELER,11))","v":10},{"$f":"IF(Tabelle3[[#This Row],[Position\nG / D / FC / FW]]=\"G\",VLOOKUP($M$5-Tabelle3[[#This Row],[Jahr\nannée]],FGOALIE,2),VLOOKUP($M$5-Tabelle3[[#This Row],[Jahr\nannée]],FSPIELER,2))","v":10},{"$f":"IF(Tabelle3[[#This Row],[Position\nG / D / FC / FW]]=\"G\",VLOOKUP($M$5-Tabelle3[[#This Row],[Jahr\nannée]],FGOALIE,3),VLOOKUP($M$5-Tabelle3[[#This Row],[Jahr\nannée]],FSPIELER,3))","v":10},{"$f":"IF(Tabelle3[[#This Row],[Position\nG / D / FC / FW]]=\"G\",VLOOKUP($M$5-Tabelle3[[#This Row],[Jahr\nannée]],FGOALIE,4),VLOOKUP($M$5-Tabelle3[[#This Row],[Jahr\nannée]],FSPIELER,4))","v":20},{"$f":"IF(Tabelle3[[#This Row],[Position\nG / D / FC / FW]]=\"G\",VLOOKUP($M$5-Tabelle3[[#This Row],[Jahr\nannée]],FGOALIE,5),VLOOKUP($M$5-Tabelle3[[#This Row],[Jahr\nannée]],FSPIELER,5))","v":15},{"$f":"IF(Tabelle3[[#This Row],[Position\nG / D / FC / FW]]=\"G\",VLOOKUP($M$5-Tabelle3[[#This Row],[Jahr\nannée]],FGOALIE,6),VLOOKUP($M$5-Tabelle3[[#This Row],[Jahr\nannée]],FSPIELER,6))","v":10},{"$f":"IF(Tabelle3[[#This Row],[Position\nG / D / FC / FW]]=\"G\",VLOOKUP($M$5-Tabelle3[[#This Row],[Jahr\nannée]],FGOALIE,9),VLOOKUP($M$5-Tabelle3[[#This Row],[Jahr\nannée]],FSPIELER,9))","v":15},{"$f":"IF(Tabelle3[[#This Row],[Position\nG / D / FC / FW]]=\"G\",VLOOKUP($M$5-Tabelle3[[#This Row],[Jahr\nannée]],FGOALIE,7),VLOOKUP($M$5-Tabelle3[[#This Row],[Jahr\nannée]],FSPIELER,7))","v":10},{"$f":"IF(Tabelle3[[#This Row],[Position\nG / D / FC / FW]]=\"G\",VLOOKUP($M$5-Tabelle3[[#This Row],[Jahr\nannée]],FGOALIE,8),VLOOKUP($M$5-Tabelle3[[#This Row],[Jahr\nannée]],FSPIELER,8))","v":0},{"$f":"IF(Tabelle3[[#This Row],[Position\nG / D / FC / FW]]=\"G\",VLOOKUP($M$5-Tabelle3[[#This Row],[Jahr\nannée]],FGOALIE,10),VLOOKUP($M$5-Tabelle3[[#This Row],[Jahr\nannée]],FSPIELER,10))","v":0},{"$f":"IF(Tabelle3[[#This Row],[Position\nG / D / FC / FW]]=\"G\",VLOOKUP($M$5-Tabelle3[[#This Row],[Jahr\nannée]],FGOALIE,11),VLOOKUP($M$5-Tabelle3[[#This Row],[Jahr\nannée]],FSPIELER,11))","v":10}]
[14,null,null,"-",null,null,null,null,null,{"$f":"IF(ISBLANK('14'!$H$4),\"-\",'14'!$H$4)","v":"-"},{"$f":"IF(ISBLANK('14'!$H$5),\"-\",'14'!$H$5)","v":"-"},{"$f":"IF(ISBLANK('14'!$H$2),\"-\",'14'!$H$2)","v":"-"},null,null,null,null,null,null,null,{"$f":"'14'!$M$19","v":0},{"$f":"'14'!$M$24","v":0},{"$f":"'14'!$M$30","v":0},{"$f":"'14'!$M$36","v":0},{"$f":"'14'!$M$41","v":0},{"$f":"'14'!$M$46","v":0},{"$f":"'14'!$M$13","v":0},{"$f":"'14'!$AA$2","v":0},{"$f":"'14'!$AA$4","v":0},{"$f":"'14'!$AA$3","v":0},{"$f":"IF(Tabelle3[[#This Row],[SKATING]]=0,\"-\",IF(Tabelle3[[#This Row],[Sex]]=\"M\",SUMPRODUCT(Tabelle3[[#This Row],[SKATING]:[VERANLAGUNG\nPREDISPOSITION]],AJ24:AS24),SUMPRODUCT(Tabelle3[[#This Row],[SKATING]:[VERANLAGUNG\nPREDISPOSITION]],AT24:BC24)))","v":"-"},{"$f":"IFERROR(RANK(Tabelle3[[#This Row],[TOTAL ]],Tabelle3[[TOTAL ]],0),\"-\")","v":"-"},null,null,null,null,{"$f":"IF(Tabelle3[[#This Row],[Position\nG / D / FC / FW]]=\"G\",VLOOKUP($M$5-Tabelle3[[#This Row],[Jahr\nannée]],GOALI,2),VLOOKUP($M$5-Tabelle3[[#This Row],[Jahr\nannée]],SPIELER,2))","v":10},{"$f":"IF(Tabelle3[[#This Row],[Position\nG / D / FC / FW]]=\"G\",VLOOKUP($M$5-Tabelle3[[#This Row],[Jahr\nannée]],GOALI,3),VLOOKUP($M$5-Tabelle3[[#This Row],[Jahr\nannée]],SPIELER,3))","v":10},{"$f":"IF(Tabelle3[[#This Row],[Position\nG / D / FC / FW]]=\"G\",VLOOKUP($M$5-Tabelle3[[#This Row],[Jahr\nannée]],GOALI,4),VLOOKUP($M$5-Tabelle3[[#This Row],[Jahr\nannée]],SPIELER,4))","v":20},{"$f":"IF(Tabelle3[[#This Row],[Position\nG / D / FC / FW]]=\"G\",VLOOKUP($M$5-Tabelle3[[#This Row],[Jahr\nannée]],GOALI,5),VLOOKUP($M$5-Tabelle3[[#This Row],[Jahr\nannée]],SPIELER,5))","v":15},{"$f":"IF(Tabelle3[[#This Row],[Position\nG / D / FC / FW]]=\"G\",VLOOKUP($M$5-Tabelle3[[#This Row],[Jahr\nannée]],GOALI,6),VLOOKUP($M$5-Tabelle3[[#This Row],[Jahr\nannée]],SPIELER,6))","v":10},{"$f":"IF(Tabelle3[[#This Row],[Position\nG / D / FC / FW]]=\"G\",VLOOKUP($M$5-Tabelle3[[#This Row],[Jahr\nannée]],GOALI,9),VLOOKUP($M$5-Tabelle3[[#This Row],[Jahr\nannée]],SPIELER,9))","v":15},{"$f":"IF(Tabelle3[[#This Row],[Position\nG / D / FC / FW]]=\"G\",VLOOKUP($M$5-Tabelle3[[#This Row],[Jahr\nannée]],GOALI,7),VLOOKUP($M$5-Tabelle3[[#This Row],[Jahr\nannée]],SPIELER,7))","v":10},{"$f":"IF(Tabelle3[[#This Row],[Position\nG / D / FC / FW]]=\"G\",VLOOKUP($M$5-Tabelle3[[#This Row],[Jahr\nannée]],GOALI,8),VLOOKUP($M$5-Tabelle3[[#This Row],[Jahr\nannée]],SPIELER,8))","v":0},{"$f":"IF(Tabelle3[[#This Row],[Position\nG / D / FC / FW]]=\"G\",VLOOKUP($M$5-Tabelle3[[#This Row],[Jahr\nannée]],GOALI,10),VLOOKUP($M$5-Tabelle3[[#This Row],[Jahr\nannée]],SPIELER,10))","v":0},{"$f":"IF(Tabelle3[[#This Row],[Position\nG / D / FC / FW]]=\"G\",VLOOKUP($M$5-Tabelle3[[#This Row],[Jahr\nannée]],GOALI,11),VLOOKUP($M$5-Tabelle3[[#This Row],[Jahr\nannée]],SPIELER,11))","v":10},{"$f":"IF(Tabelle3[[#This Row],[Position\nG / D / FC / FW]]=\"G\",VLOOKUP($M$5-Tabelle3[[#This Row],[Jahr\nannée]],FGOALIE,2),VLOOKUP($M$5-Tabelle3[[#This Row],[Jahr\nannée]],FSPIELER,2))","v":10},{"$f":"IF(Tabelle3[[#This Row],[Position\nG / D / FC / FW]]=\"G\",VLOOKUP($M$5-Tabelle3[[#This Row],[Jahr\nannée]],FGOALIE,3),VLOOKUP($M$5-Tabelle3[[#This Row],[Jahr\nannée]],FSPIELER,3))","v":10},{"$f":"IF(Tabelle3[[#This Row],[Position\nG / D / FC / FW]]=\"G\",VLOOKUP($M$5-Tabelle3[[#This Row],[Jahr\nannée]],FGOALIE,4),VLOOKUP($M$5-Tabelle3[[#This Row],[Jahr\nannée]],FSPIELER,4))","v":20},{"$f":"IF(Tabelle3[[#This Row],[Position\nG / D / FC / FW]]=\"G\",VLOOKUP($M$5-Tabelle3[[#This Row],[Jahr\nannée]],FGOALIE,5),VLOOKUP($M$5-Tabelle3[[#This Row],[Jahr\nannée]],FSPIELER,5))","v":15},{"$f":"IF(Tabelle3[[#This Row],[Position\nG / D / FC / FW]]=\"G\",VLOOKUP($M$5-Tabelle3[[#This Row],[Jahr\nannée]],FGOALIE,6),VLOOKUP($M$5-Tabelle3[[#This Row],[Jahr\nannée]],FSPIELER,6))","v":10},{"$f":"IF(Tabelle3[[#This Row],[Position\nG / D / FC / FW]]=\"G\",VLOOKUP($M$5-Tabelle3[[#This Row],[Jahr\nannée]],FGOALIE,9),VLOOKUP($M$5-Tabelle3[[#This Row],[Jahr\nannée]],FSPIELER,9))","v":15},{"$f":"IF(Tabelle3[[#This Row],[Position\nG / D / FC / FW]]=\"G\",VLOOKUP($M$5-Tabelle3[[#This Row],[Jahr\nannée]],FGOALIE,7),VLOOKUP($M$5-Tabelle3[[#This Row],[Jahr\nannée]],FSPIELER,7))","v":10},{"$f":"IF(Tabelle3[[#This Row],[Position\nG / D / FC / FW]]=\"G\",VLOOKUP($M$5-Tabelle3[[#This Row],[Jahr\nannée]],FGOALIE,8),VLOOKUP($M$5-Tabelle3[[#This Row],[Jahr\nannée]],FSPIELER,8))","v":0},{"$f":"IF(Tabelle3[[#This Row],[Position\nG / D / FC / FW]]=\"G\",VLOOKUP($M$5-Tabelle3[[#This Row],[Jahr\nannée]],FGOALIE,10),VLOOKUP($M$5-Tabelle3[[#This Row],[Jahr\nannée]],FSPIELER,10))","v":0},{"$f":"IF(Tabelle3[[#This Row],[Position\nG / D / FC / FW]]=\"G\",VLOOKUP($M$5-Tabelle3[[#This Row],[Jahr\nannée]],FGOALIE,11),VLOOKUP($M$5-Tabelle3[[#This Row],[Jahr\nannée]],FSPIELER,11))","v":10}]
[15,null,null,"-",null,null,null,null,null,{"$f":"IF(ISBLANK('15'!$H$4),\"-\",'15'!$H$4)","v":"-"},{"$f":"IF(ISBLANK('15'!$H$5),\"-\",'15'!$H$5)","v":"-"},{"$f":"IF(ISBLANK('15'!$H$2),\"-\",'15'!$H$2)","v":"-"},null,null,null,null,null,null,null,{"$f":"'15'!$M$19","v":0},{"$f":"'15'!$M$24","v":0},{"$f":"'15'!$M$30","v":0},{"$f":"'15'!$M$36","v":0},{"$f":"'15'!$M$41","v":0},{"$f":"'15'!$M$46","v":0},{"$f":"'15'!$M$13","v":0},{"$f":"'15'!$AA$2","v":0},{"$f":"'15'!$AA$4","v":0},{"$f":"'15'!$AA$3","v":0},{"$f":"IF(Tabelle3[[#This Row],[SKATING]]=0,\"-\",IF(Tabelle3[[#This Row],[Sex]]=\"M\",SUMPRODUCT(Tabelle3[[#This Row],[SKATING]:[VERANLAGUNG\nPREDISPOSITION]],AJ25:AS25),SUMPRODUCT(Tabelle3[[#This Row],[SKATING]:[VERANLAGUNG\nPREDISPOSITION]],AT25:BC25)))","v":"-"},{"$f":"IFERROR(RANK(Tabelle3[[#This Row],[TOTAL ]],Tabelle3[[TOTAL ]],0),\"-\")","v":"-"},null,null,null,null,{"$f":"IF(Tabelle3[[#This Row],[Position\nG / D / FC / FW]]=\"G\",VLOOKUP($M$5-Tabelle3[[#This Row],[Jahr\nannée]],GOALI,2),VLOOKUP($M$5-Tabelle3[[#This Row],[Jahr\nannée]],SPIELER,2))","v":10},{"$f":"IF(Tabelle3[[#This Row],[Position\nG / D / FC / FW]]=\"G\",VLOOKUP($M$5-Tabelle3[[#This Row],[Jahr\nannée]],GOALI,3),VLOOKUP($M$5-Tabelle3[[#This Row],[Jahr\nannée]],SPIELER,3))","v":10},{"$f":"IF(Tabelle3[[#This Row],[Position\nG / D / FC / FW]]=\"G\",VLOOKUP($M$5-Tabelle3[[#This Row],[Jahr\nannée]],GOALI,4),VLOOKUP($M$5-Tabelle3[[#This Row],[Jahr\nannée]],SPIELER,4))","v":20},{"$f":"IF(Tabelle3[[#This Row],[Position\nG / D / FC / FW]]=\"G\",VLOOKUP($M$5-Tabelle3[[#This Row],[Jahr\nannée]],GOALI,5),VLOOKUP($M$5-Tabelle3[[#This Row],[Jahr\nannée]],SPIELER,5))","v":15},{"$f":"IF(Tabelle3[[#This Row],[Position\nG / D / FC / FW]]=\"G\",VLOOKUP($M$5-Tabelle3[[#This Row],[Jahr\nannée]],GOALI,6),VLOOKUP($M$5-Tabelle3[[#This Row],[Jahr\nannée]],SPIELER,6))","v":10},{"$f":"IF(Tabelle3[[#This Row],[Position\nG / D / FC / FW]]=\"G\",VLOOKUP($M$5-Tabelle3[[#This Row],[Jahr\nannée]],GOALI,9),VLOOKUP($M$5-Tabelle3[[#This Row],[Jahr\nannée]],SPIELER,9))","v":15},{"$f":"IF(Tabelle3[[#This Row],[Position\nG / D / FC / FW]]=\"G\",VLOOKUP($M$5-Tabelle3[[#This Row],[Jahr\nannée]],GOALI,7),VLOOKUP($M$5-Tabelle3[[#This Row],[Jahr\nannée]],SPIELER,7))","v":10},{"$f":"IF(Tabelle3[[#This Row],[Position\nG / D / FC / FW]]=\"G\",VLOOKUP($M$5-Tabelle3[[#This Row],[Jahr\nannée]],GOALI,8),VLOOKUP($M$5-Tabelle3[[#This Row],[Jahr\nannée]],SPIELER,8))","v":0},{"$f":"IF(Tabelle3[[#This Row],[Position\nG / D / FC / FW]]=\"G\",VLOOKUP($M$5-Tabelle3[[#This Row],[Jahr\nannée]],GOALI,10),VLOOKUP($M$5-Tabelle3[[#This Row],[Jahr\nannée]],SPIELER,10))","v":0},{"$f":"IF(Tabelle3[[#This Row],[Position\nG / D / FC / FW]]=\"G\",VLOOKUP($M$5-Tabelle3[[#This Row],[Jahr\nannée]],GOALI,11),VLOOKUP($M$5-Tabelle3[[#This Row],[Jahr\nannée]],SPIELER,11))","v":10},{"$f":"IF(Tabelle3[[#This Row],[Position\nG / D / FC / FW]]=\"G\",VLOOKUP($M$5-Tabelle3[[#This Row],[Jahr\nannée]],FGOALIE,2),VLOOKUP($M$5-Tabelle3[[#This Row],[Jahr\nannée]],FSPIELER,2))","v":10},{"$f":"IF(Tabelle3[[#This Row],[Position\nG / D / FC / FW]]=\"G\",VLOOKUP($M$5-Tabelle3[[#This Row],[Jahr\nannée]],FGOALIE,3),VLOOKUP($M$5-Tabelle3[[#This Row],[Jahr\nannée]],FSPIELER,3))","v":10},{"$f":"IF(Tabelle3[[#This Row],[Position\nG / D / FC / FW]]=\"G\",VLOOKUP($M$5-Tabelle3[[#This Row],[Jahr\nannée]],FGOALIE,4),VLOOKUP($M$5-Tabelle3[[#This Row],[Jahr\nannée]],FSPIELER,4))","v":20},{"$f":"IF(Tabelle3[[#This Row],[Position\nG / D / FC / FW]]=\"G\",VLOOKUP($M$5-Tabelle3[[#This Row],[Jahr\nannée]],FGOALIE,5),VLOOKUP($M$5-Tabelle3[[#This Row],[Jahr\nannée]],FSPIELER,5))","v":15},{"$f":"IF(Tabelle3[[#This Row],[Position\nG / D / FC / FW]]=\"G\",VLOOKUP($M$5-Tabelle3[[#This Row],[Jahr\nannée]],FGOALIE,6),VLOOKUP($M$5-Tabelle3[[#This Row],[Jahr\nannée]],FSPIELER,6))","v":10},{"$f":"IF(Tabelle3[[#This Row],[Position\nG / D / FC / FW]]=\"G\",VLOOKUP($M$5-Tabelle3[[#This Row],[Jahr\nannée]],FGOALIE,9),VLOOKUP($M$5-Tabelle3[[#This Row],[Jahr\nannée]],FSPIELER,9))","v":15},{"$f":"IF(Tabelle3[[#This Row],[Position\nG / D / FC / FW]]=\"G\",VLOOKUP($M$5-Tabelle3[[#This Row],[Jahr\nannée]],FGOALIE,7),VLOOKUP($M$5-Tabelle3[[#This Row],[Jahr\nannée]],FSPIELER,7))","v":10},{"$f":"IF(Tabelle3[[#This Row],[Position\nG / D / FC / FW]]=\"G\",VLOOKUP($M$5-Tabelle3[[#This Row],[Jahr\nannée]],FGOALIE,8),VLOOKUP($M$5-Tabelle3[[#This Row],[Jahr\nannée]],FSPIELER,8))","v":0},{"$f":"IF(Tabelle3[[#This Row],[Position\nG / D / FC / FW]]=\"G\",VLOOKUP($M$5-Tabelle3[[#This Row],[Jahr\nannée]],FGOALIE,10),VLOOKUP($M$5-Tabelle3[[#This Row],[Jahr\nannée]],FSPIELER,10))","v":0},{"$f":"IF(Tabelle3[[#This Row],[Position\nG / D / FC / FW]]=\"G\",VLOOKUP($M$5-Tabelle3[[#This Row],[Jahr\nannée]],FGOALIE,11),VLOOKUP($M$5-Tabelle3[[#This Row],[Jahr\nannée]],FSPIELER,11))","v":10}]
[16,null,null,"-",null,null,null,null,null,{"$f":"IF(ISBLANK('16'!$H$4),\"-\",'16'!$H$4)","v":"-"},{"$f":"IF(ISBLANK('16'!$H$5),\"-\",'16'!$H$5)","v":"-"},{"$f":"IF(ISBLANK('16'!$H$2),\"-\",'16'!$H$2)","v":"-"},null,null,null,null,null,null,null,{"$f":"'16'!$M$19","v":0},{"$f":"'16'!$M$24","v":0},{"$f":"'16'!$M$30","v":0},{"$f":"'16'!$M$36","v":0},{"$f":"'16'!$M$41","v":0},{"$f":"'16'!$M$46","v":0},{"$f":"'16'!$M$13","v":0},{"$f":"'16'!$AA$2","v":0},{"$f":"'16'!$AA$4","v":0},{"$f":"'16'!$AA$3","v":0},{"$f":"IF(Tabelle3[[#This Row],[SKATING]]=0,\"-\",IF(Tabelle3[[#This Row],[Sex]]=\"M\",SUMPRODUCT(Tabelle3[[#This Row],[SKATING]:[VERANLAGUNG\nPREDISPOSITION]],AJ26:AS26),SUMPRODUCT(Tabelle3[[#This Row],[SKATING]:[VERANLAGUNG\nPREDISPOSITION]],AT26:BC26)))","v":"-"},{"$f":"IFERROR(RANK(Tabelle3[[#This Row],[TOTAL ]],Tabelle3[[TOTAL ]],0),\"-\")","v":"-"},null,null,null,null,{"$f":"IF(Tabelle3[[#This Row],[Position\nG / D / FC / FW]]=\"G\",VLOOKUP($M$5-Tabelle3[[#This Row],[Jahr\nannée]],GOALI,2),VLOOKUP($M$5-Tabelle3[[#This Row],[Jahr\nannée]],SPIELER,2))","v":10},{"$f":"IF(Tabelle3[[#This Row],[Position\nG / D / FC / FW]]=\"G\",VLOOKUP($M$5-Tabelle3[[#This Row],[Jahr\nannée]],GOALI,3),VLOOKUP($M$5-Tabelle3[[#This Row],[Jahr\nannée]],SPIELER,3))","v":10},{"$f":"IF(Tabelle3[[#This Row],[Position\nG / D / FC / FW]]=\"G\",VLOOKUP($M$5-Tabelle3[[#This Row],[Jahr\nannée]],GOALI,4),VLOOKUP($M$5-Tabelle3[[#This Row],[Jahr\nannée]],SPIELER,4))","v":20},{"$f":"IF(Tabelle3[[#This Row],[Position\nG / D / FC / FW]]=\"G\",VLOOKUP($M$5-Tabelle3[[#This Row],[Jahr\nannée]],GOALI,5),VLOOKUP($M$5-Tabelle3[[#This Row],[Jahr\nannée]],SPIELER,5))","v":15},{"$f":"IF(Tabelle3[[#This Row],[Position\nG / D / FC / FW]]=\"G\",VLOOKUP($M$5-Tabelle3[[#This Row],[Jahr\nannée]],GOALI,6),VLOOKUP($M$5-Tabelle3[[#This Row],[Jahr\nannée]],SPIELER,6))","v":10},{"$f":"IF(Tabelle3[[#This Row],[Position\nG / D / FC / FW]]=\"G\",VLOOKUP($M$5-Tabelle3[[#This Row],[Jahr\nannée]],GOALI,9),VLOOKUP($M$5-Tabelle3[[#This Row],[Jahr\nannée]],SPIELER,9))","v":15},{"$f":"IF(Tabelle3[[#This Row],[Position\nG / D / FC / FW]]=\"G\",VLOOKUP($M$5-Tabelle3[[#This Row],[Jahr\nannée]],GOALI,7),VLOOKUP($M$5-Tabelle3[[#This Row],[Jahr\nannée]],SPIELER,7))","v":10},{"$f":"IF(Tabelle3[[#This Row],[Position\nG / D / FC / FW]]=\"G\",VLOOKUP($M$5-Tabelle3[[#This Row],[Jahr\nannée]],GOALI,8),VLOOKUP($M$5-Tabelle3[[#This Row],[Jahr\nannée]],SPIELER,8))","v":0},{"$f":"IF(Tabelle3[[#This Row],[Position\nG / D / FC / FW]]=\"G\",VLOOKUP($M$5-Tabelle3[[#This Row],[Jahr\nannée]],GOALI,10),VLOOKUP($M$5-Tabelle3[[#This Row],[Jahr\nannée]],SPIELER,10))","v":0},{"$f":"IF(Tabelle3[[#This Row],[Position\nG / D / FC / FW]]=\"G\",VLOOKUP($M$5-Tabelle3[[#This Row],[Jahr\nannée]],GOALI,11),VLOOKUP($M$5-Tabelle3[[#This Row],[Jahr\nannée]],SPIELER,11))","v":10},{"$f":"IF(Tabelle3[[#This Row],[Position\nG / D / FC / FW]]=\"G\",VLOOKUP($M$5-Tabelle3[[#This Row],[Jahr\nannée]],FGOALIE,2),VLOOKUP($M$5-Tabelle3[[#This Row],[Jahr\nannée]],FSPIELER,2))","v":10},{"$f":"IF(Tabelle3[[#This Row],[Position\nG / D / FC / FW]]=\"G\",VLOOKUP($M$5-Tabelle3[[#This Row],[Jahr\nannée]],FGOALIE,3),VLOOKUP($M$5-Tabelle3[[#This Row],[Jahr\nannée]],FSPIELER,3))","v":10},{"$f":"IF(Tabelle3[[#This Row],[Position\nG / D / FC / FW]]=\"G\",VLOOKUP($M$5-Tabelle3[[#This Row],[Jahr\nannée]],FGOALIE,4),VLOOKUP($M$5-Tabelle3[[#This Row],[Jahr\nannée]],FSPIELER,4))","v":20},{"$f":"IF(Tabelle3[[#This Row],[Position\nG / D / FC / FW]]=\"G\",VLOOKUP($M$5-Tabelle3[[#This Row],[Jahr\nannée]],FGOALIE,5),VLOOKUP($M$5-Tabelle3[[#This Row],[Jahr\nannée]],FSPIELER,5))","v":15},{"$f":"IF(Tabelle3[[#This Row],[Position\nG / D / FC / FW]]=\"G\",VLOOKUP($M$5-Tabelle3[[#This Row],[Jahr\nannée]],FGOALIE,6),VLOOKUP($M$5-Tabelle3[[#This Row],[Jahr\nannée]],FSPIELER,6))","v":10},{"$f":"IF(Tabelle3[[#This Row],[Position\nG / D / FC / FW]]=\"G\",VLOOKUP($M$5-Tabelle3[[#This Row],[Jahr\nannée]],FGOALIE,9),VLOOKUP($M$5-Tabelle3[[#This Row],[Jahr\nannée]],FSPIELER,9))","v":15},{"$f":"IF(Tabelle3[[#This Row],[Position\nG / D / FC / FW]]=\"G\",VLOOKUP($M$5-Tabelle3[[#This Row],[Jahr\nannée]],FGOALIE,7),VLOOKUP($M$5-Tabelle3[[#This Row],[Jahr\nannée]],FSPIELER,7))","v":10},{"$f":"IF(Tabelle3[[#This Row],[Position\nG / D / FC / FW]]=\"G\",VLOOKUP($M$5-Tabelle3[[#This Row],[Jahr\nannée]],FGOALIE,8),VLOOKUP($M$5-Tabelle3[[#This Row],[Jahr\nannée]],FSPIELER,8))","v":0},{"$f":"IF(Tabelle3[[#This Row],[Position\nG / D / FC / FW]]=\"G\",VLOOKUP($M$5-Tabelle3[[#This Row],[Jahr\nannée]],FGOALIE,10),VLOOKUP($M$5-Tabelle3[[#This Row],[Jahr\nannée]],FSPIELER,10))","v":0},{"$f":"IF(Tabelle3[[#This Row],[Position\nG / D / FC / FW]]=\"G\",VLOOKUP($M$5-Tabelle3[[#This Row],[Jahr\nannée]],FGOALIE,11),VLOOKUP($M$5-Tabelle3[[#This Row],[Jahr\nannée]],FSPIELER,11))","v":10}]
[17,null,null,"-",null,null,null,null,null,{"$f":"IF(ISBLANK('17'!$H$4),\"-\",'17'!$H$4)","v":"-"},{"$f":"IF(ISBLANK('17'!$H$5),\"-\",'17'!$H$5)","v":"-"},{"$f":"IF(ISBLANK('17'!$H$2),\"-\",'17'!$H$2)","v":"-"},null,null,null,null,null,null,null,{"$f":"'17'!$M$19","v":0},{"$f":"'17'!$M$24","v":0},{"$f":"'17'!$M$30","v":0},{"$f":"'17'!$M$36","v":0},{"$f":"'17'!$M$41","v":0},{"$f":"'17'!$M$46","v":0},{"$f":"'17'!$M$13","v":0},{"$f":"'17'!$AA$2","v":0},{"$f":"'17'!$AA$4","v":0},{"$f":"'17'!$AA$3","v":0},{"$f":"IF(Tabelle3[[#This Row],[SKATING]]=0,\"-\",IF(Tabelle3[[#This Row],[Sex]]=\"M\",SUMPRODUCT(Tabelle3[[#This Row],[SKATING]:[VERANLAGUNG\nPREDISPOSITION]],AJ27:AS27),SUMPRODUCT(Tabelle3[[#This Row],[SKATING]:[VERANLAGUNG\nPREDISPOSITION]],AT27:BC27)))","v":"-"},{"$f":"IFERROR(RANK(Tabelle3[[#This Row],[TOTAL ]],Tabelle3[[TOTAL ]],0),\"-\")","v":"-"},null,null,null,null,{"$f":"IF(Tabelle3[[#This Row],[Position\nG / D / FC / FW]]=\"G\",VLOOKUP($M$5-Tabelle3[[#This Row],[Jahr\nannée]],GOALI,2),VLOOKUP($M$5-Tabelle3[[#This Row],[Jahr\nannée]],SPIELER,2))","v":10},{"$f":"IF(Tabelle3[[#This Row],[Position\nG / D / FC / FW]]=\"G\",VLOOKUP($M$5-Tabelle3[[#This Row],[Jahr\nannée]],GOALI,3),VLOOKUP($M$5-Tabelle3[[#This Row],[Jahr\nannée]],SPIELER,3))","v":10},{"$f":"IF(Tabelle3[[#This Row],[Position\nG / D / FC / FW]]=\"G\",VLOOKUP($M$5-Tabelle3[[#This Row],[Jahr\nannée]],GOALI,4),VLOOKUP($M$5-Tabelle3[[#This Row],[Jahr\nannée]],SPIELER,4))","v":20},{"$f":"IF(Tabelle3[[#This Row],[Position\nG / D / FC / FW]]=\"G\",VLOOKUP($M$5-Tabelle3[[#This Row],[Jahr\nannée]],GOALI,5),VLOOKUP($M$5-Tabelle3[[#This Row],[Jahr\nannée]],SPIELER,5))","v":15},{"$f":"IF(Tabelle3[[#This Row],[Position\nG / D / FC / FW]]=\"G\",VLOOKUP($M$5-Tabelle3[[#This Row],[Jahr\nannée]],GOALI,6),VLOOKUP($M$5-Tabelle3[[#This Row],[Jahr\nannée]],SPIELER,6))","v":10},{"$f":"IF(Tabelle3[[#This Row],[Position\nG / D / FC / FW]]=\"G\",VLOOKUP($M$5-Tabelle3[[#This Row],[Jahr\nannée]],GOALI,9),VLOOKUP($M$5-Tabelle3[[#This Row],[Jahr\nannée]],SPIELER,9))","v":15},{"$f":"IF(Tabelle3[[#This Row],[Position\nG / D / FC / FW]]=\"G\",VLOOKUP($M$5-Tabelle3[[#This Row],[Jahr\nannée]],GOALI,7),VLOOKUP($M$5-Tabelle3[[#This Row],[Jahr\nannée]],SPIELER,7))","v":10},{"$f":"IF(Tabelle3[[#This Row],[Position\nG / D / FC / FW]]=\"G\",VLOOKUP($M$5-Tabelle3[[#This Row],[Jahr\nannée]],GOALI,8),VLOOKUP($M$5-Tabelle3[[#This Row],[Jahr\nannée]],SPIELER,8))","v":0},{"$f":"IF(Tabelle3[[#This Row],[Position\nG / D / FC / FW]]=\"G\",VLOOKUP($M$5-Tabelle3[[#This Row],[Jahr\nannée]],GOALI,10),VLOOKUP($M$5-Tabelle3[[#This Row],[Jahr\nannée]],SPIELER,10))","v":0},{"$f":"IF(Tabelle3[[#This Row],[Position\nG / D / FC / FW]]=\"G\",VLOOKUP($M$5-Tabelle3[[#This Row],[Jahr\nannée]],GOALI,11),VLOOKUP($M$5-Tabelle3[[#This Row],[Jahr\nannée]],SPIELER,11))","v":10},{"$f":"IF(Tabelle3[[#This Row],[Position\nG / D / FC / FW]]=\"G\",VLOOKUP($M$5-Tabelle3[[#This Row],[Jahr\nannée]],FGOALIE,2),VLOOKUP($M$5-Tabelle3[[#This Row],[Jahr\nannée]],FSPIELER,2))","v":10},{"$f":"IF(Tabelle3[[#This Row],[Position\nG / D / FC / FW]]=\"G\",VLOOKUP($M$5-Tabelle3[[#This Row],[Jahr\nannée]],FGOALIE,3),VLOOKUP($M$5-Tabelle3[[#This Row],[Jahr\nannée]],FSPIELER,3))","v":10},{"$f":"IF(Tabelle3[[#This Row],[Position\nG / D / FC / FW]]=\"G\",VLOOKUP($M$5-Tabelle3[[#This Row],[Jahr\nannée]],FGOALIE,4),VLOOKUP($M$5-Tabelle3[[#This Row],[Jahr\nannée]],FSPIELER,4))","v":20},{"$f":"IF(Tabelle3[[#This Row],[Position\nG / D / FC / FW]]=\"G\",VLOOKUP($M$5-Tabelle3[[#This Row],[Jahr\nannée]],FGOALIE,5),VLOOKUP($M$5-Tabelle3[[#This Row],[Jahr\nannée]],FSPIELER,5))","v":15},{"$f":"IF(Tabelle3[[#This Row],[Position\nG / D / FC / FW]]=\"G\",VLOOKUP($M$5-Tabelle3[[#This Row],[Jahr\nannée]],FGOALIE,6),VLOOKUP($M$5-Tabelle3[[#This Row],[Jahr\nannée]],FSPIELER,6))","v":10},{"$f":"IF(Tabelle3[[#This Row],[Position\nG / D / FC / FW]]=\"G\",VLOOKUP($M$5-Tabelle3[[#This Row],[Jahr\nannée]],FGOALIE,9),VLOOKUP($M$5-Tabelle3[[#This Row],[Jahr\nannée]],FSPIELER,9))","v":15},{"$f":"IF(Tabelle3[[#This Row],[Position\nG / D / FC / FW]]=\"G\",VLOOKUP($M$5-Tabelle3[[#This Row],[Jahr\nannée]],FGOALIE,7),VLOOKUP($M$5-Tabelle3[[#This Row],[Jahr\nannée]],FSPIELER,7))","v":10},{"$f":"IF(Tabelle3[[#This Row],[Position\nG / D / FC / FW]]=\"G\",VLOOKUP($M$5-Tabelle3[[#This Row],[Jahr\nannée]],FGOALIE,8),VLOOKUP($M$5-Tabelle3[[#This Row],[Jahr\nannée]],FSPIELER,8))","v":0},{"$f":"IF(Tabelle3[[#This Row],[Position\nG / D / FC / FW]]=\"G\",VLOOKUP($M$5-Tabelle3[[#This Row],[Jahr\nannée]],FGOALIE,10),VLOOKUP($M$5-Tabelle3[[#This Row],[Jahr\nannée]],FSPIELER,10))","v":0},{"$f":"IF(Tabelle3[[#This Row],[Position\nG / D / FC / FW]]=\"G\",VLOOKUP($M$5-Tabelle3[[#This Row],[Jahr\nannée]],FGOALIE,11),VLOOKUP($M$5-Tabelle3[[#This Row],[Jahr\nannée]],FSPIELER,11))","v":10}]
[18,null,null,"-",null,null,null,null,null,{"$f":"IF(ISBLANK('18'!$H$4),\"-\",'18'!$H$4)","v":"-"},{"$f":"IF(ISBLANK('18'!$H$5),\"-\",'18'!$H$5)","v":"-"},{"$f":"IF(ISBLANK('18'!$H$2),\"-\",'18'!$H$2)","v":"-"},null,null,null,null,null,null,null,{"$f":"'18'!$M$19","v":0},{"$f":"'18'!$M$24","v":0},{"$f":"'18'!$M$30","v":0},{"$f":"'18'!$M$36","v":0},{"$f":"'18'!$M$41","v":0},{"$f":"'18'!$M$46","v":0},{"$f":"'18'!$M$13","v":0},{"$f":"'18'!$AA$2","v":0},{"$f":"'18'!$AA$4","v":0},{"$f":"'18'!$AA$3","v":0},{"$f":"IF(Tabelle3[[#This Row],[SKATING]]=0,\"-\",IF(Tabelle3[[#This Row],[Sex]]=\"M\",SUMPRODUCT(Tabelle3[[#This Row],[SKATING]:[VERANLAGUNG\nPREDISPOSITION]],AJ28:AS28),SUMPRODUCT(Tabelle3[[#This Row],[SKATING]:[VERANLAGUNG\nPREDISPOSITION]],AT28:BC28)))","v":"-"},{"$f":"IFERROR(RANK(Tabelle3[[#This Row],[TOTAL ]],Tabelle3[[TOTAL ]],0),\"-\")","v":"-"},null,null,null,null,{"$f":"IF(Tabelle3[[#This Row],[Position\nG / D / FC / FW]]=\"G\",VLOOKUP($M$5-Tabelle3[[#This Row],[Jahr\nannée]],GOALI,2),VLOOKUP($M$5-Tabelle3[[#This Row],[Jahr\nannée]],SPIELER,2))","v":10},{"$f":"IF(Tabelle3[[#This Row],[Position\nG / D / FC / FW]]=\"G\",VLOOKUP($M$5-Tabelle3[[#This Row],[Jahr\nannée]],GOALI,3),VLOOKUP($M$5-Tabelle3[[#This Row],[Jahr\nannée]],SPIELER,3))","v":10},{"$f":"IF(Tabelle3[[#This Row],[Position\nG / D / FC / FW]]=\"G\",VLOOKUP($M$5-Tabelle3[[#This Row],[Jahr\nannée]],GOALI,4),VLOOKUP($M$5-Tabelle3[[#This Row],[Jahr\nannée]],SPIELER,4))","v":20},{"$f":"IF(Tabelle3[[#This Row],[Position\nG / D / FC / FW]]=\"G\",VLOOKUP($M$5-Tabelle3[[#This Row],[Jahr\nannée]],GOALI,5),VLOOKUP($M$5-Tabelle3[[#This Row],[Jahr\nannée]],SPIELER,5))","v":15},{"$f":"IF(Tabelle3[[#This Row],[Position\nG / D / FC / FW]]=\"G\",VLOOKUP($M$5-Tabelle3[[#This Row],[Jahr\nannée]],GOALI,6),VLOOKUP($M$5-Tabelle3[[#This Row],[Jahr\nannée]],SPIELER,6))","v":10},{"$f":"IF(Tabelle3[[#This Row],[Position\nG / D / FC / FW]]=\"G\",VLOOKUP($M$5-Tabelle3[[#This Row],[Jahr\nannée]],GOALI,9),VLOOKUP($M$5-Tabelle3[[#This Row],[Jahr\nannée]],SPIELER,9))","v":15},{"$f":"IF(Tabelle3[[#This Row],[Position\nG / D / FC / FW]]=\"G\",VLOOKUP($M$5-Tabelle3[[#This Row],[Jahr\nannée]],GOALI,7),VLOOKUP($M$5-Tabelle3[[#This Row],[Jahr\nannée]],SPIELER,7))","v":10},{"$f":"IF(Tabelle3[[#This Row],[Position\nG / D / FC / FW]]=\"G\",VLOOKUP($M$5-Tabelle3[[#This Row],[Jahr\nannée]],GOALI,8),VLOOKUP($M$5-Tabelle3[[#This Row],[Jahr\nannée]],SPIELER,8))","v":0},{"$f":"IF(Tabelle3[[#This Row],[Position\nG / D / FC / FW]]=\"G\",VLOOKUP($M$5-Tabelle3[[#This Row],[Jahr\nannée]],GOALI,10),VLOOKUP($M$5-Tabelle3[[#This Row],[Jahr\nannée]],SPIELER,10))","v":0},{"$f":"IF(Tabelle3[[#This Row],[Position\nG / D / FC / FW]]=\"G\",VLOOKUP($M$5-Tabelle3[[#This Row],[Jahr\nannée]],GOALI,11),VLOOKUP($M$5-Tabelle3[[#This Row],[Jahr\nannée]],SPIELER,11))","v":10},{"$f":"IF(Tabelle3[[#This Row],[Position\nG / D / FC / FW]]=\"G\",VLOOKUP($M$5-Tabelle3[[#This Row],[Jahr\nannée]],FGOALIE,2),VLOOKUP($M$5-Tabelle3[[#This Row],[Jahr\nannée]],FSPIELER,2))","v":10},{"$f":"IF(Tabelle3[[#This Row],[Position\nG / D / FC / FW]]=\"G\",VLOOKUP($M$5-Tabelle3[[#This Row],[Jahr\nannée]],FGOALIE,3),VLOOKUP($M$5-Tabelle3[[#This Row],[Jahr\nannée]],FSPIELER,3))","v":10},{"$f":"IF(Tabelle3[[#This Row],[Position\nG / D / FC / FW]]=\"G\",VLOOKUP($M$5-Tabelle3[[#This Row],[Jahr\nannée]],FGOALIE,4),VLOOKUP($M$5-Tabelle3[[#This Row],[Jahr\nannée]],FSPIELER,4))","v":20},{"$f":"IF(Tabelle3[[#This Row],[Position\nG / D / FC / FW]]=\"G\",VLOOKUP($M$5-Tabelle3[[#This Row],[Jahr\nannée]],FGOALIE,5),VLOOKUP($M$5-Tabelle3[[#This Row],[Jahr\nannée]],FSPIELER,5))","v":15},{"$f":"IF(Tabelle3[[#This Row],[Position\nG / D / FC / FW]]=\"G\",VLOOKUP($M$5-Tabelle3[[#This Row],[Jahr\nannée]],FGOALIE,6),VLOOKUP($M$5-Tabelle3[[#This Row],[Jahr\nannée]],FSPIELER,6))","v":10},{"$f":"IF(Tabelle3[[#This Row],[Position\nG / D / FC / FW]]=\"G\",VLOOKUP($M$5-Tabelle3[[#This Row],[Jahr\nannée]],FGOALIE,9),VLOOKUP($M$5-Tabelle3[[#This Row],[Jahr\nannée]],FSPIELER,9))","v":15},{"$f":"IF(Tabelle3[[#This Row],[Position\nG / D / FC / FW]]=\"G\",VLOOKUP($M$5-Tabelle3[[#This Row],[Jahr\nannée]],FGOALIE,7),VLOOKUP($M$5-Tabelle3[[#This Row],[Jahr\nannée]],FSPIELER,7))","v":10},{"$f":"IF(Tabelle3[[#This Row],[Position\nG / D / FC / FW]]=\"G\",VLOOKUP($M$5-Tabelle3[[#This Row],[Jahr\nannée]],FGOALIE,8),VLOOKUP($M$5-Tabelle3[[#This Row],[Jahr\nannée]],FSPIELER,8))","v":0},{"$f":"IF(Tabelle3[[#This Row],[Position\nG / D / FC / FW]]=\"G\",VLOOKUP($M$5-Tabelle3[[#This Row],[Jahr\nannée]],FGOALIE,10),VLOOKUP($M$5-Tabelle3[[#This Row],[Jahr\nannée]],FSPIELER,10))","v":0},{"$f":"IF(Tabelle3[[#This Row],[Position\nG / D / FC / FW]]=\"G\",VLOOKUP($M$5-Tabelle3[[#This Row],[Jahr\nannée]],FGOALIE,11),VLOOKUP($M$5-Tabelle3[[#This Row],[Jahr\nannée]],FSPIELER,11))","v":10}]
[19,null,null,"-",null,null,null,null,null,{"$f":"IF(ISBLANK('19'!$H$4),\"-\",'19'!$H$4)","v":"-"},{"$f":"IF(ISBLANK('19'!$H$5),\"-\",'19'!$H$5)","v":"-"},{"$f":"IF(ISBLANK('19'!$H$2),\"-\",'19'!$H$2)","v":"-"},null,null,null,null,null,null,null,{"$f":"'19'!$M$19","v":0},{"$f":"'19'!$M$24","v":0},{"$f":"'19'!$M$30","v":0},{"$f":"'19'!$M$36","v":0},{"$f":"'19'!$M$41","v":0},{"$f":"'19'!$M$46","v":0},{"$f":"'19'!$M$13","v":0},{"$f":"'19'!$AA$2","v":0},{"$f":"'19'!$AA$4","v":0},{"$f":"'19'!$AA$3","v":0},{"$f":"IF(Tabelle3[[#This Row],[SKATING]]=0,\"-\",IF(Tabelle3[[#This Row],[Sex]]=\"M\",SUMPRODUCT(Tabelle3[[#This Row],[SKATING]:[VERANLAGUNG\nPREDISPOSITION]],AJ29:AS29),SUMPRODUCT(Tabelle3[[#This Row],[SKATING]:[VERANLAGUNG\nPREDISPOSITION]],AT29:BC29)))","v":"-"},{"$f":"IFERROR(RANK(Tabelle3[[#This Row],[TOTAL ]],Tabelle3[[TOTAL ]],0),\"-\")","v":"-"},null,null,null,null,{"$f":"IF(Tabelle3[[#This Row],[Position\nG / D / FC / FW]]=\"G\",VLOOKUP($M$5-Tabelle3[[#This Row],[Jahr\nannée]],GOALI,2),VLOOKUP($M$5-Tabelle3[[#This Row],[Jahr\nannée]],SPIELER,2))","v":10},{"$f":"IF(Tabelle3[[#This Row],[Position\nG / D / FC / FW]]=\"G\",VLOOKUP($M$5-Tabelle3[[#This Row],[Jahr\nannée]],GOALI,3),VLOOKUP($M$5-Tabelle3[[#This Row],[Jahr\nannée]],SPIELER,3))","v":10},{"$f":"IF(Tabelle3[[#This Row],[Position\nG / D / FC / FW]]=\"G\",VLOOKUP($M$5-Tabelle3[[#This Row],[Jahr\nannée]],GOALI,4),VLOOKUP($M$5-Tabelle3[[#This Row],[Jahr\nannée]],SPIELER,4))","v":20},{"$f":"IF(Tabelle3[[#This Row],[Position\nG / D / FC / FW]]=\"G\",VLOOKUP($M$5-Tabelle3[[#This Row],[Jahr\nannée]],GOALI,5),VLOOKUP($M$5-Tabelle3[[#This Row],[Jahr\nannée]],SPIELER,5))","v":15},{"$f":"IF(Tabelle3[[#This Row],[Position\nG / D / FC / FW]]=\"G\",VLOOKUP($M$5-Tabelle3[[#This Row],[Jahr\nannée]],GOALI,6),VLOOKUP($M$5-Tabelle3[[#This Row],[Jahr\nannée]],SPIELER,6))","v":10},{"$f":"IF(Tabelle3[[#This Row],[Position\nG / D / FC / FW]]=\"G\",VLOOKUP($M$5-Tabelle3[[#This Row],[Jahr\nannée]],GOALI,9),VLOOKUP($M$5-Tabelle3[[#This Row],[Jahr\nannée]],SPIELER,9))","v":15},{"$f":"IF(Tabelle3[[#This Row],[Position\nG / D / FC / FW]]=\"G\",VLOOKUP($M$5-Tabelle3[[#This Row],[Jahr\nannée]],GOALI,7),VLOOKUP($M$5-Tabelle3[[#This Row],[Jahr\nannée]],SPIELER,7))","v":10},{"$f":"IF(Tabelle3[[#This Row],[Position\nG / D / FC / FW]]=\"G\",VLOOKUP($M$5-Tabelle3[[#This Row],[Jahr\nannée]],GOALI,8),VLOOKUP($M$5-Tabelle3[[#This Row],[Jahr\nannée]],SPIELER,8))","v":0},{"$f":"IF(Tabelle3[[#This Row],[Position\nG / D / FC / FW]]=\"G\",VLOOKUP($M$5-Tabelle3[[#This Row],[Jahr\nannée]],GOALI,10),VLOOKUP($M$5-Tabelle3[[#This Row],[Jahr\nannée]],SPIELER,10))","v":0},{"$f":"IF(Tabelle3[[#This Row],[Position\nG / D / FC / FW]]=\"G\",VLOOKUP($M$5-Tabelle3[[#This Row],[Jahr\nannée]],GOALI,11),VLOOKUP($M$5-Tabelle3[[#This Row],[Jahr\nannée]],SPIELER,11))","v":10},{"$f":"IF(Tabelle3[[#This Row],[Position\nG / D / FC / FW]]=\"G\",VLOOKUP($M$5-Tabelle3[[#This Row],[Jahr\nannée]],FGOALIE,2),VLOOKUP($M$5-Tabelle3[[#This Row],[Jahr\nannée]],FSPIELER,2))","v":10},{"$f":"IF(Tabelle3[[#This Row],[Position\nG / D / FC / FW]]=\"G\",VLOOKUP($M$5-Tabelle3[[#This Row],[Jahr\nannée]],FGOALIE,3),VLOOKUP($M$5-Tabelle3[[#This Row],[Jahr\nannée]],FSPIELER,3))","v":10},{"$f":"IF(Tabelle3[[#This Row],[Position\nG / D / FC / FW]]=\"G\",VLOOKUP($M$5-Tabelle3[[#This Row],[Jahr\nannée]],FGOALIE,4),VLOOKUP($M$5-Tabelle3[[#This Row],[Jahr\nannée]],FSPIELER,4))","v":20},{"$f":"IF(Tabelle3[[#This Row],[Position\nG / D / FC / FW]]=\"G\",VLOOKUP($M$5-Tabelle3[[#This Row],[Jahr\nannée]],FGOALIE,5),VLOOKUP($M$5-Tabelle3[[#This Row],[Jahr\nannée]],FSPIELER,5))","v":15},{"$f":"IF(Tabelle3[[#This Row],[Position\nG / D / FC / FW]]=\"G\",VLOOKUP($M$5-Tabelle3[[#This Row],[Jahr\nannée]],FGOALIE,6),VLOOKUP($M$5-Tabelle3[[#This Row],[Jahr\nannée]],FSPIELER,6))","v":10},{"$f":"IF(Tabelle3[[#This Row],[Position\nG / D / FC / FW]]=\"G\",VLOOKUP($M$5-Tabelle3[[#This Row],[Jahr\nannée]],FGOALIE,9),VLOOKUP($M$5-Tabelle3[[#This Row],[Jahr\nannée]],FSPIELER,9))","v":15},{"$f":"IF(Tabelle3[[#This Row],[Position\nG / D / FC / FW]]=\"G\",VLOOKUP($M$5-Tabelle3[[#This Row],[Jahr\nannée]],FGOALIE,7),VLOOKUP($M$5-Tabelle3[[#This Row],[Jahr\nannée]],FSPIELER,7))","v":10},{"$f":"IF(Tabelle3[[#This Row],[Position\nG / D / FC / FW]]=\"G\",VLOOKUP($M$5-Tabelle3[[#This Row],[Jahr\nannée]],FGOALIE,8),VLOOKUP($M$5-Tabelle3[[#This Row],[Jahr\nannée]],FSPIELER,8))","v":0},{"$f":"IF(Tabelle3[[#This Row],[Position\nG / D / FC / FW]]=\"G\",VLOOKUP($M$5-Tabelle3[[#This Row],[Jahr\nannée]],FGOALIE,10),VLOOKUP($M$5-Tabelle3[[#This Row],[Jahr\nannée]],FSPIELER,10))","v":0},{"$f":"IF(Tabelle3[[#This Row],[Position\nG / D / FC / FW]]=\"G\",VLOOKUP($M$5-Tabelle3[[#This Row],[Jahr\nannée]],FGOALIE,11),VLOOKUP($M$5-Tabelle3[[#This Row],[Jahr\nannée]],FSPIELER,11))","v":10}]
[20,null,null,"-",null,null,null,null,null,{"$f":"IF(ISBLANK('20'!$H$4),\"-\",'20'!$H$4)","v":"-"},{"$f":"IF(ISBLANK('20'!$H$5),\"-\",'20'!$H$5)","v":"-"},{"$f":"IF(ISBLANK('20'!$H$2),\"-\",'20'!$H$2)","v":"-"},null,null,null,null,null,null,null,{"$f":"'20'!$M$19","v":0},{"$f":"'20'!$M$24","v":0},{"$f":"'20'!$M$30","v":0},{"$f":"'20'!$M$36","v":0},{"$f":"'20'!$M$41","v":0},{"$f":"'20'!$M$46","v":0},{"$f":"'20'!$M$13","v":0},{"$f":"'20'!$AA$2","v":0},{"$f":"'20'!$AA$4","v":0},{"$f":"'20'!$AA$3","v":0},{"$f":"IF(Tabelle3[[#This Row],[SKATING]]=0,\"-\",IF(Tabelle3[[#This Row],[Sex]]=\"M\",SUMPRODUCT(Tabelle3[[#This Row],[SKATING]:[VERANLAGUNG\nPREDISPOSITION]],AJ30:AS30),SUMPRODUCT(Tabelle3[[#This Row],[SKATING]:[VERANLAGUNG\nPREDISPOSITION]],AT30:BC30)))","v":"-"},{"$f":"IFERROR(RANK(Tabelle3[[#This Row],[TOTAL ]],Tabelle3[[TOTAL ]],0),\"-\")","v":"-"},null,null,null,null,{"$f":"IF(Tabelle3[[#This Row],[Position\nG / D / FC / FW]]=\"G\",VLOOKUP($M$5-Tabelle3[[#This Row],[Jahr\nannée]],GOALI,2),VLOOKUP($M$5-Tabelle3[[#This Row],[Jahr\nannée]],SPIELER,2))","v":10},{"$f":"IF(Tabelle3[[#This Row],[Position\nG / D / FC / FW]]=\"G\",VLOOKUP($M$5-Tabelle3[[#This Row],[Jahr\nannée]],GOALI,3),VLOOKUP($M$5-Tabelle3[[#This Row],[Jahr\nannée]],SPIELER,3))","v":10},{"$f":"IF(Tabelle3[[#This Row],[Position\nG / D / FC / FW]]=\"G\",VLOOKUP($M$5-Tabelle3[[#This Row],[Jahr\nannée]],GOALI,4),VLOOKUP($M$5-Tabelle3[[#This Row],[Jahr\nannée]],SPIELER,4))","v":20},{"$f":"IF(Tabelle3[[#This Row],[Position\nG / D / FC / FW]]=\"G\",VLOOKUP($M$5-Tabelle3[[#This Row],[Jahr\nannée]],GOALI,5),VLOOKUP($M$5-Tabelle3[[#This Row],[Jahr\nannée]],SPIELER,5))","v":15},{"$f":"IF(Tabelle3[[#This Row],[Position\nG / D / FC / FW]]=\"G\",VLOOKUP($M$5-Tabelle3[[#This Row],[Jahr\nannée]],GOALI,6),VLOOKUP($M$5-Tabelle3[[#This Row],[Jahr\nannée]],SPIELER,6))","v":10},{"$f":"IF(Tabelle3[[#This Row],[Position\nG / D / FC / FW]]=\"G\",VLOOKUP($M$5-Tabelle3[[#This Row],[Jahr\nannée]],GOALI,9),VLOOKUP($M$5-Tabelle3[[#This Row],[Jahr\nannée]],SPIELER,9))","v":15},{"$f":"IF(Tabelle3[[#This Row],[Position\nG / D / FC / FW]]=\"G\",VLOOKUP($M$5-Tabelle3[[#This Row],[Jahr\nannée]],GOALI,7),VLOOKUP($M$5-Tabelle3[[#This Row],[Jahr\nannée]],SPIELER,7))","v":10},{"$f":"IF(Tabelle3[[#This Row],[Position\nG / D / FC / FW]]=\"G\",VLOOKUP($M$5-Tabelle3[[#This Row],[Jahr\nannée]],GOALI,8),VLOOKUP($M$5-Tabelle3[[#This Row],[Jahr\nannée]],SPIELER,8))","v":0},{"$f":"IF(Tabelle3[[#This Row],[Position\nG / D / FC / FW]]=\"G\",VLOOKUP($M$5-Tabelle3[[#This Row],[Jahr\nannée]],GOALI,10),VLOOKUP($M$5-Tabelle3[[#This Row],[Jahr\nannée]],SPIELER,10))","v":0},{"$f":"IF(Tabelle3[[#This Row],[Position\nG / D / FC / FW]]=\"G\",VLOOKUP($M$5-Tabelle3[[#This Row],[Jahr\nannée]],GOALI,11),VLOOKUP($M$5-Tabelle3[[#This Row],[Jahr\nannée]],SPIELER,11))","v":10},{"$f":"IF(Tabelle3[[#This Row],[Position\nG / D / FC / FW]]=\"G\",VLOOKUP($M$5-Tabelle3[[#This Row],[Jahr\nannée]],FGOALIE,2),VLOOKUP($M$5-Tabelle3[[#This Row],[Jahr\nannée]],FSPIELER,2))","v":10},{"$f":"IF(Tabelle3[[#This Row],[Position\nG / D / FC / FW]]=\"G\",VLOOKUP($M$5-Tabelle3[[#This Row],[Jahr\nannée]],FGOALIE,3),VLOOKUP($M$5-Tabelle3[[#This Row],[Jahr\nannée]],FSPIELER,3))","v":10},{"$f":"IF(Tabelle3[[#This Row],[Position\nG / D / FC / FW]]=\"G\",VLOOKUP($M$5-Tabelle3[[#This Row],[Jahr\nannée]],FGOALIE,4),VLOOKUP($M$5-Tabelle3[[#This Row],[Jahr\nannée]],FSPIELER,4))","v":20},{"$f":"IF(Tabelle3[[#This Row],[Position\nG / D / FC / FW]]=\"G\",VLOOKUP($M$5-Tabelle3[[#This Row],[Jahr\nannée]],FGOALIE,5),VLOOKUP($M$5-Tabelle3[[#This Row],[Jahr\nannée]],FSPIELER,5))","v":15},{"$f":"IF(Tabelle3[[#This Row],[Position\nG / D / FC / FW]]=\"G\",VLOOKUP($M$5-Tabelle3[[#This Row],[Jahr\nannée]],FGOALIE,6),VLOOKUP($M$5-Tabelle3[[#This Row],[Jahr\nannée]],FSPIELER,6))","v":10},{"$f":"IF(Tabelle3[[#This Row],[Position\nG / D / FC / FW]]=\"G\",VLOOKUP($M$5-Tabelle3[[#This Row],[Jahr\nannée]],FGOALIE,9),VLOOKUP($M$5-Tabelle3[[#This Row],[Jahr\nannée]],FSPIELER,9))","v":15},{"$f":"IF(Tabelle3[[#This Row],[Position\nG / D / FC / FW]]=\"G\",VLOOKUP($M$5-Tabelle3[[#This Row],[Jahr\nannée]],FGOALIE,7),VLOOKUP($M$5-Tabelle3[[#This Row],[Jahr\nannée]],FSPIELER,7))","v":10},{"$f":"IF(Tabelle3[[#This Row],[Position\nG / D / FC / FW]]=\"G\",VLOOKUP($M$5-Tabelle3[[#This Row],[Jahr\nannée]],FGOALIE,8),VLOOKUP($M$5-Tabelle3[[#This Row],[Jahr\nannée]],FSPIELER,8))","v":0},{"$f":"IF(Tabelle3[[#This Row],[Position\nG / D / FC / FW]]=\"G\",VLOOKUP($M$5-Tabelle3[[#This Row],[Jahr\nannée]],FGOALIE,10),VLOOKUP($M$5-Tabelle3[[#This Row],[Jahr\nannée]],FSPIELER,10))","v":0},{"$f":"IF(Tabelle3[[#This Row],[Position\nG / D / FC / FW]]=\"G\",VLOOKUP($M$5-Tabelle3[[#This Row],[Jahr\nannée]],FGOALIE,11),VLOOKUP($M$5-Tabelle3[[#This Row],[Jahr\nannée]],FSPIELER,11))","v":10}]
[21,null,null,"-",null,null,null,null,null,{"$f":"IF(ISBLANK('21'!$H$4),\"-\",'21'!$H$4)","v":"-"},{"$f":"IF(ISBLANK('21'!$H$5),\"-\",'21'!$H$5)","v":"-"},{"$f":"IF(ISBLANK('21'!$H$2),\"-\",'21'!$H$2)","v":"-"},null,null,null,null,null,null,null,{"$f":"'21'!$M$19","v":0},{"$f":"'21'!$M$24","v":0},{"$f":"'21'!$M$30","v":0},{"$f":"'21'!$M$36","v":0},{"$f":"'21'!$M$41","v":0},{"$f":"'21'!$M$46","v":0},{"$f":"'21'!$M$13","v":0},{"$f":"'21'!$AA$2","v":0},{"$f":"'21'!$AA$4","v":0},{"$f":"'21'!$AA$3","v":0},{"$f":"IF(Tabelle3[[#This Row],[SKATING]]=0,\"-\",IF(Tabelle3[[#This Row],[Sex]]=\"M\",SUMPRODUCT(Tabelle3[[#This Row],[SKATING]:[VERANLAGUNG\nPREDISPOSITION]],AJ31:AS31),SUMPRODUCT(Tabelle3[[#This Row],[SKATING]:[VERANLAGUNG\nPREDISPOSITION]],AT31:BC31)))","v":"-"},{"$f":"IFERROR(RANK(Tabelle3[[#This Row],[TOTAL ]],Tabelle3[[TOTAL ]],0),\"-\")","v":"-"},null,null,null,null,{"$f":"IF(Tabelle3[[#This Row],[Position\nG / D / FC / FW]]=\"G\",VLOOKUP($M$5-Tabelle3[[#This Row],[Jahr\nannée]],GOALI,2),VLOOKUP($M$5-Tabelle3[[#This Row],[Jahr\nannée]],SPIELER,2))","v":10},{"$f":"IF(Tabelle3[[#This Row],[Position\nG / D / FC / FW]]=\"G\",VLOOKUP($M$5-Tabelle3[[#This Row],[Jahr\nannée]],GOALI,3),VLOOKUP($M$5-Tabelle3[[#This Row],[Jahr\nannée]],SPIELER,3))","v":10},{"$f":"IF(Tabelle3[[#This Row],[Position\nG / D / FC / FW]]=\"G\",VLOOKUP($M$5-Tabelle3[[#This Row],[Jahr\nannée]],GOALI,4),VLOOKUP($M$5-Tabelle3[[#This Row],[Jahr\nannée]],SPIELER,4))","v":20},{"$f":"IF(Tabelle3[[#This Row],[Position\nG / D / FC / FW]]=\"G\",VLOOKUP($M$5-Tabelle3[[#This Row],[Jahr\nannée]],GOALI,5),VLOOKUP($M$5-Tabelle3[[#This Row],[Jahr\nannée]],SPIELER,5))","v":15},{"$f":"IF(Tabelle3[[#This Row],[Position\nG / D / FC / FW]]=\"G\",VLOOKUP($M$5-Tabelle3[[#This Row],[Jahr\nannée]],GOALI,6),VLOOKUP($M$5-Tabelle3[[#This Row],[Jahr\nannée]],SPIELER,6))","v":10},{"$f":"IF(Tabelle3[[#This Row],[Position\nG / D / FC / FW]]=\"G\",VLOOKUP($M$5-Tabelle3[[#This Row],[Jahr\nannée]],GOALI,9),VLOOKUP($M$5-Tabelle3[[#This Row],[Jahr\nannée]],SPIELER,9))","v":15},{"$f":"IF(Tabelle3[[#This Row],[Position\nG / D / FC / FW]]=\"G\",VLOOKUP($M$5-Tabelle3[[#This Row],[Jahr\nannée]],GOALI,7),VLOOKUP($M$5-Tabelle3[[#This Row],[Jahr\nannée]],SPIELER,7))","v":10},{"$f":"IF(Tabelle3[[#This Row],[Position\nG / D / FC / FW]]=\"G\",VLOOKUP($M$5-Tabelle3[[#This Row],[Jahr\nannée]],GOALI,8),VLOOKUP($M$5-Tabelle3[[#This Row],[Jahr\nannée]],SPIELER,8))","v":0},{"$f":"IF(Tabelle3[[#This Row],[Position\nG / D / FC / FW]]=\"G\",VLOOKUP($M$5-Tabelle3[[#This Row],[Jahr\nannée]],GOALI,10),VLOOKUP($M$5-Tabelle3[[#This Row],[Jahr\nannée]],SPIELER,10))","v":0},{"$f":"IF(Tabelle3[[#This Row],[Position\nG / D / FC / FW]]=\"G\",VLOOKUP($M$5-Tabelle3[[#This Row],[Jahr\nannée]],GOALI,11),VLOOKUP($M$5-Tabelle3[[#This Row],[Jahr\nannée]],SPIELER,11))","v":10},{"$f":"IF(Tabelle3[[#This Row],[Position\nG / D / FC / FW]]=\"G\",VLOOKUP($M$5-Tabelle3[[#This Row],[Jahr\nannée]],FGOALIE,2),VLOOKUP($M$5-Tabelle3[[#This Row],[Jahr\nannée]],FSPIELER,2))","v":10},{"$f":"IF(Tabelle3[[#This Row],[Position\nG / D / FC / FW]]=\"G\",VLOOKUP($M$5-Tabelle3[[#This Row],[Jahr\nannée]],FGOALIE,3),VLOOKUP($M$5-Tabelle3[[#This Row],[Jahr\nannée]],FSPIELER,3))","v":10},{"$f":"IF(Tabelle3[[#This Row],[Position\nG / D / FC / FW]]=\"G\",VLOOKUP($M$5-Tabelle3[[#This Row],[Jahr\nannée]],FGOALIE,4),VLOOKUP($M$5-Tabelle3[[#This Row],[Jahr\nannée]],FSPIELER,4))","v":20},{"$f":"IF(Tabelle3[[#This Row],[Position\nG / D / FC / FW]]=\"G\",VLOOKUP($M$5-Tabelle3[[#This Row],[Jahr\nannée]],FGOALIE,5),VLOOKUP($M$5-Tabelle3[[#This Row],[Jahr\nannée]],FSPIELER,5))","v":15},{"$f":"IF(Tabelle3[[#This Row],[Position\nG / D / FC / FW]]=\"G\",VLOOKUP($M$5-Tabelle3[[#This Row],[Jahr\nannée]],FGOALIE,6),VLOOKUP($M$5-Tabelle3[[#This Row],[Jahr\nannée]],FSPIELER,6))","v":10},{"$f":"IF(Tabelle3[[#This Row],[Position\nG / D / FC / FW]]=\"G\",VLOOKUP($M$5-Tabelle3[[#This Row],[Jahr\nannée]],FGOALIE,9),VLOOKUP($M$5-Tabelle3[[#This Row],[Jahr\nannée]],FSPIELER,9))","v":15},{"$f":"IF(Tabelle3[[#This Row],[Position\nG / D / FC / FW]]=\"G\",VLOOKUP($M$5-Tabelle3[[#This Row],[Jahr\nannée]],FGOALIE,7),VLOOKUP($M$5-Tabelle3[[#This Row],[Jahr\nannée]],FSPIELER,7))","v":10},{"$f":"IF(Tabelle3[[#This Row],[Position\nG / D / FC / FW]]=\"G\",VLOOKUP($M$5-Tabelle3[[#This Row],[Jahr\nannée]],FGOALIE,8),VLOOKUP($M$5-Tabelle3[[#This Row],[Jahr\nannée]],FSPIELER,8))","v":0},{"$f":"IF(Tabelle3[[#This Row],[Position\nG / D / FC / FW]]=\"G\",VLOOKUP($M$5-Tabelle3[[#This Row],[Jahr\nannée]],FGOALIE,10),VLOOKUP($M$5-Tabelle3[[#This Row],[Jahr\nannée]],FSPIELER,10))","v":0},{"$f":"IF(Tabelle3[[#This Row],[Position\nG / D / FC / FW]]=\"G\",VLOOKUP($M$5-Tabelle3[[#This Row],[Jahr\nannée]],FGOALIE,11),VLOOKUP($M$5-Tabelle3[[#This Row],[Jahr\nannée]],FSPIELER,11))","v":10}]
[22,null,null,"-",null,null,null,null,null,{"$f":"IF(ISBLANK('22'!$H$4),\"-\",'22'!$H$4)","v":"-"},{"$f":"IF(ISBLANK('22'!$H$5),\"-\",'22'!$H$5)","v":"-"},{"$f":"IF(ISBLANK('22'!$H$2),\"-\",'22'!$H$2)","v":"-"},null,null,null,null,null,null,null,{"$f":"'22'!$M$19","v":0},{"$f":"'22'!$M$24","v":0},{"$f":"'22'!$M$30","v":0},{"$f":"'22'!$M$36","v":0},{"$f":"'22'!$M$41","v":0},{"$f":"'22'!$M$46","v":0},{"$f":"'22'!$M$13","v":0},{"$f":"'22'!$AA$2","v":0},{"$f":"'22'!$AA$4","v":0},{"$f":"'22'!$AA$3","v":0},{"$f":"IF(Tabelle3[[#This Row],[SKATING]]=0,\"-\",IF(Tabelle3[[#This Row],[Sex]]=\"M\",SUMPRODUCT(Tabelle3[[#This Row],[SKATING]:[VERANLAGUNG\nPREDISPOSITION]],AJ32:AS32),SUMPRODUCT(Tabelle3[[#This Row],[SKATING]:[VERANLAGUNG\nPREDISPOSITION]],AT32:BC32)))","v":"-"},{"$f":"IFERROR(RANK(Tabelle3[[#This Row],[TOTAL ]],Tabelle3[[TOTAL ]],0),\"-\")","v":"-"},null,null,null,null,{"$f":"IF(Tabelle3[[#This Row],[Position\nG / D / FC / FW]]=\"G\",VLOOKUP($M$5-Tabelle3[[#This Row],[Jahr\nannée]],GOALI,2),VLOOKUP($M$5-Tabelle3[[#This Row],[Jahr\nannée]],SPIELER,2))","v":10},{"$f":"IF(Tabelle3[[#This Row],[Position\nG / D / FC / FW]]=\"G\",VLOOKUP($M$5-Tabelle3[[#This Row],[Jahr\nannée]],GOALI,3),VLOOKUP($M$5-Tabelle3[[#This Row],[Jahr\nannée]],SPIELER,3))","v":10},{"$f":"IF(Tabelle3[[#This Row],[Position\nG / D / FC / FW]]=\"G\",VLOOKUP($M$5-Tabelle3[[#This Row],[Jahr\nannée]],GOALI,4),VLOOKUP($M$5-Tabelle3[[#This Row],[Jahr\nannée]],SPIELER,4))","v":20},{"$f":"IF(Tabelle3[[#This Row],[Position\nG / D / FC / FW]]=\"G\",VLOOKUP($M$5-Tabelle3[[#This Row],[Jahr\nannée]],GOALI,5),VLOOKUP($M$5-Tabelle3[[#This Row],[Jahr\nannée]],SPIELER,5))","v":15},{"$f":"IF(Tabelle3[[#This Row],[Position\nG / D / FC / FW]]=\"G\",VLOOKUP($M$5-Tabelle3[[#This Row],[Jahr\nannée]],GOALI,6),VLOOKUP($M$5-Tabelle3[[#This Row],[Jahr\nannée]],SPIELER,6))","v":10},{"$f":"IF(Tabelle3[[#This Row],[Position\nG / D / FC / FW]]=\"G\",VLOOKUP($M$5-Tabelle3[[#This Row],[Jahr\nannée]],GOALI,9),VLOOKUP($M$5-Tabelle3[[#This Row],[Jahr\nannée]],SPIELER,9))","v":15},{"$f":"IF(Tabelle3[[#This Row],[Position\nG / D / FC / FW]]=\"G\",VLOOKUP($M$5-Tabelle3[[#This Row],[Jahr\nannée]],GOALI,7),VLOOKUP($M$5-Tabelle3[[#This Row],[Jahr\nannée]],SPIELER,7))","v":10},{"$f":"IF(Tabelle3[[#This Row],[Position\nG / D / FC / FW]]=\"G\",VLOOKUP($M$5-Tabelle3[[#This Row],[Jahr\nannée]],GOALI,8),VLOOKUP($M$5-Tabelle3[[#This Row],[Jahr\nannée]],SPIELER,8))","v":0},{"$f":"IF(Tabelle3[[#This Row],[Position\nG / D / FC / FW]]=\"G\",VLOOKUP($M$5-Tabelle3[[#This Row],[Jahr\nannée]],GOALI,10),VLOOKUP($M$5-Tabelle3[[#This Row],[Jahr\nannée]],SPIELER,10))","v":0},{"$f":"IF(Tabelle3[[#This Row],[Position\nG / D / FC / FW]]=\"G\",VLOOKUP($M$5-Tabelle3[[#This Row],[Jahr\nannée]],GOALI,11),VLOOKUP($M$5-Tabelle3[[#This Row],[Jahr\nannée]],SPIELER,11))","v":10},{"$f":"IF(Tabelle3[[#This Row],[Position\nG / D / FC / FW]]=\"G\",VLOOKUP($M$5-Tabelle3[[#This Row],[Jahr\nannée]],FGOALIE,2),VLOOKUP($M$5-Tabelle3[[#This Row],[Jahr\nannée]],FSPIELER,2))","v":10},{"$f":"IF(Tabelle3[[#This Row],[Position\nG / D / FC / FW]]=\"G\",VLOOKUP($M$5-Tabelle3[[#This Row],[Jahr\nannée]],FGOALIE,3),VLOOKUP($M$5-Tabelle3[[#This Row],[Jahr\nannée]],FSPIELER,3))","v":10},{"$f":"IF(Tabelle3[[#This Row],[Position\nG / D / FC / FW]]=\"G\",VLOOKUP($M$5-Tabelle3[[#This Row],[Jahr\nannée]],FGOALIE,4),VLOOKUP($M$5-Tabelle3[[#This Row],[Jahr\nannée]],FSPIELER,4))","v":20},{"$f":"IF(Tabelle3[[#This Row],[Position\nG / D / FC / FW]]=\"G\",VLOOKUP($M$5-Tabelle3[[#This Row],[Jahr\nannée]],FGOALIE,5),VLOOKUP($M$5-Tabelle3[[#This Row],[Jahr\nannée]],FSPIELER,5))","v":15},{"$f":"IF(Tabelle3[[#This Row],[Position\nG / D / FC / FW]]=\"G\",VLOOKUP($M$5-Tabelle3[[#This Row],[Jahr\nannée]],FGOALIE,6),VLOOKUP($M$5-Tabelle3[[#This Row],[Jahr\nannée]],FSPIELER,6))","v":10},{"$f":"IF(Tabelle3[[#This Row],[Position\nG / D / FC / FW]]=\"G\",VLOOKUP($M$5-Tabelle3[[#This Row],[Jahr\nannée]],FGOALIE,9),VLOOKUP($M$5-Tabelle3[[#This Row],[Jahr\nannée]],FSPIELER,9))","v":15},{"$f":"IF(Tabelle3[[#This Row],[Position\nG / D / FC / FW]]=\"G\",VLOOKUP($M$5-Tabelle3[[#This Row],[Jahr\nannée]],FGOALIE,7),VLOOKUP($M$5-Tabelle3[[#This Row],[Jahr\nannée]],FSPIELER,7))","v":10},{"$f":"IF(Tabelle3[[#This Row],[Position\nG / D / FC / FW]]=\"G\",VLOOKUP($M$5-Tabelle3[[#This Row],[Jahr\nannée]],FGOALIE,8),VLOOKUP($M$5-Tabelle3[[#This Row],[Jahr\nannée]],FSPIELER,8))","v":0},{"$f":"IF(Tabelle3[[#This Row],[Position\nG / D / FC / FW]]=\"G\",VLOOKUP($M$5-Tabelle3[[#This Row],[Jahr\nannée]],FGOALIE,10),VLOOKUP($M$5-Tabelle3[[#This Row],[Jahr\nannée]],FSPIELER,10))","v":0},{"$f":"IF(Tabelle3[[#This Row],[Position\nG / D / FC / FW]]=\"G\",VLOOKUP($M$5-Tabelle3[[#This Row],[Jahr\nannée]],FGOALIE,11),VLOOKUP($M$5-Tabelle3[[#This Row],[Jahr\nannée]],FSPIELER,11))","v":10}]
[23,null,null,"-",null,null,null,null,null,{"$f":"IF(ISBLANK('23'!$H$4),\"-\",'23'!$H$4)","v":"-"},{"$f":"IF(ISBLANK('23'!$H$5),\"-\",'23'!$H$5)","v":"-"},{"$f":"IF(ISBLANK('23'!$H$2),\"-\",'23'!$H$2)","v":"-"},null,null,null,null,null,null,null,{"$f":"'23'!$M$19","v":0},{"$f":"'23'!$M$24","v":0},{"$f":"'23'!$M$30","v":0},{"$f":"'23'!$M$36","v":0},{"$f":"'23'!$M$41","v":0},{"$f":"'23'!$M$46","v":0},{"$f":"'23'!$M$13","v":0},{"$f":"'23'!$AA$2","v":0},{"$f":"'23'!$AA$4","v":0},{"$f":"'23'!$AA$3","v":0},{"$f":"IF(Tabelle3[[#This Row],[SKATING]]=0,\"-\",IF(Tabelle3[[#This Row],[Sex]]=\"M\",SUMPRODUCT(Tabelle3[[#This Row],[SKATING]:[VERANLAGUNG\nPREDISPOSITION]],AJ33:AS33),SUMPRODUCT(Tabelle3[[#This Row],[SKATING]:[VERANLAGUNG\nPREDISPOSITION]],AT33:BC33)))","v":"-"},{"$f":"IFERROR(RANK(Tabelle3[[#This Row],[TOTAL ]],Tabelle3[[TOTAL ]],0),\"-\")","v":"-"},null,null,null,null,{"$f":"IF(Tabelle3[[#This Row],[Position\nG / D / FC / FW]]=\"G\",VLOOKUP($M$5-Tabelle3[[#This Row],[Jahr\nannée]],GOALI,2),VLOOKUP($M$5-Tabelle3[[#This Row],[Jahr\nannée]],SPIELER,2))","v":10},{"$f":"IF(Tabelle3[[#This Row],[Position\nG / D / FC / FW]]=\"G\",VLOOKUP($M$5-Tabelle3[[#This Row],[Jahr\nannée]],GOALI,3),VLOOKUP($M$5-Tabelle3[[#This Row],[Jahr\nannée]],SPIELER,3))","v":10},{"$f":"IF(Tabelle3[[#This Row],[Position\nG / D / FC / FW]]=\"G\",VLOOKUP($M$5-Tabelle3[[#This Row],[Jahr\nannée]],GOALI,4),VLOOKUP($M$5-Tabelle3[[#This Row],[Jahr\nannée]],SPIELER,4))","v":20},{"$f":"IF(Tabelle3[[#This Row],[Position\nG / D / FC / FW]]=\"G\",VLOOKUP($M$5-Tabelle3[[#This Row],[Jahr\nannée]],GOALI,5),VLOOKUP($M$5-Tabelle3[[#This Row],[Jahr\nannée]],SPIELER,5))","v":15},{"$f":"IF(Tabelle3[[#This Row],[Position\nG / D / FC / FW]]=\"G\",VLOOKUP($M$5-Tabelle3[[#This Row],[Jahr\nannée]],GOALI,6),VLOOKUP($M$5-Tabelle3[[#This Row],[Jahr\nannée]],SPIELER,6))","v":10},{"$f":"IF(Tabelle3[[#This Row],[Position\nG / D / FC / FW]]=\"G\",VLOOKUP($M$5-Tabelle3[[#This Row],[Jahr\nannée]],GOALI,9),VLOOKUP($M$5-Tabelle3[[#This Row],[Jahr\nannée]],SPIELER,9))","v":15},{"$f":"IF(Tabelle3[[#This Row],[Position\nG / D / FC / FW]]=\"G\",VLOOKUP($M$5-Tabelle3[[#This Row],[Jahr\nannée]],GOALI,7),VLOOKUP($M$5-Tabelle3[[#This Row],[Jahr\nannée]],SPIELER,7))","v":10},{"$f":"IF(Tabelle3[[#This Row],[Position\nG / D / FC / FW]]=\"G\",VLOOKUP($M$5-Tabelle3[[#This Row],[Jahr\nannée]],GOALI,8),VLOOKUP($M$5-Tabelle3[[#This Row],[Jahr\nannée]],SPIELER,8))","v":0},{"$f":"IF(Tabelle3[[#This Row],[Position\nG / D / FC / FW]]=\"G\",VLOOKUP($M$5-Tabelle3[[#This Row],[Jahr\nannée]],GOALI,10),VLOOKUP($M$5-Tabelle3[[#This Row],[Jahr\nannée]],SPIELER,10))","v":0},{"$f":"IF(Tabelle3[[#This Row],[Position\nG / D / FC / FW]]=\"G\",VLOOKUP($M$5-Tabelle3[[#This Row],[Jahr\nannée]],GOALI,11),VLOOKUP($M$5-Tabelle3[[#This Row],[Jahr\nannée]],SPIELER,11))","v":10},{"$f":"IF(Tabelle3[[#This Row],[Position\nG / D / FC / FW]]=\"G\",VLOOKUP($M$5-Tabelle3[[#This Row],[Jahr\nannée]],FGOALIE,2),VLOOKUP($M$5-Tabelle3[[#This Row],[Jahr\nannée]],FSPIELER,2))","v":10},{"$f":"IF(Tabelle3[[#This Row],[Position\nG / D / FC / FW]]=\"G\",VLOOKUP($M$5-Tabelle3[[#This Row],[Jahr\nannée]],FGOALIE,3),VLOOKUP($M$5-Tabelle3[[#This Row],[Jahr\nannée]],FSPIELER,3))","v":10},{"$f":"IF(Tabelle3[[#This Row],[Position\nG / D / FC / FW]]=\"G\",VLOOKUP($M$5-Tabelle3[[#This Row],[Jahr\nannée]],FGOALIE,4),VLOOKUP($M$5-Tabelle3[[#This Row],[Jahr\nannée]],FSPIELER,4))","v":20},{"$f":"IF(Tabelle3[[#This Row],[Position\nG / D / FC / FW]]=\"G\",VLOOKUP($M$5-Tabelle3[[#This Row],[Jahr\nannée]],FGOALIE,5),VLOOKUP($M$5-Tabelle3[[#This Row],[Jahr\nannée]],FSPIELER,5))","v":15},{"$f":"IF(Tabelle3[[#This Row],[Position\nG / D / FC / FW]]=\"G\",VLOOKUP($M$5-Tabelle3[[#This Row],[Jahr\nannée]],FGOALIE,6),VLOOKUP($M$5-Tabelle3[[#This Row],[Jahr\nannée]],FSPIELER,6))","v":10},{"$f":"IF(Tabelle3[[#This Row],[Position\nG / D / FC / FW]]=\"G\",VLOOKUP($M$5-Tabelle3[[#This Row],[Jahr\nannée]],FGOALIE,9),VLOOKUP($M$5-Tabelle3[[#This Row],[Jahr\nannée]],FSPIELER,9))","v":15},{"$f":"IF(Tabelle3[[#This Row],[Position\nG / D / FC / FW]]=\"G\",VLOOKUP($M$5-Tabelle3[[#This Row],[Jahr\nannée]],FGOALIE,7),VLOOKUP($M$5-Tabelle3[[#This Row],[Jahr\nannée]],FSPIELER,7))","v":10},{"$f":"IF(Tabelle3[[#This Row],[Position\nG / D / FC / FW]]=\"G\",VLOOKUP($M$5-Tabelle3[[#This Row],[Jahr\nannée]],FGOALIE,8),VLOOKUP($M$5-Tabelle3[[#This Row],[Jahr\nannée]],FSPIELER,8))","v":0},{"$f":"IF(Tabelle3[[#This Row],[Position\nG / D / FC / FW]]=\"G\",VLOOKUP($M$5-Tabelle3[[#This Row],[Jahr\nannée]],FGOALIE,10),VLOOKUP($M$5-Tabelle3[[#This Row],[Jahr\nannée]],FSPIELER,10))","v":0},{"$f":"IF(Tabelle3[[#This Row],[Position\nG / D / FC / FW]]=\"G\",VLOOKUP($M$5-Tabelle3[[#This Row],[Jahr\nannée]],FGOALIE,11),VLOOKUP($M$5-Tabelle3[[#This Row],[Jahr\nannée]],FSPIELER,11))","v":10}]
[24,null,null,"-",null,null,null,null,null,{"$f":"IF(ISBLANK('24'!$H$4),\"-\",'24'!$H$4)","v":"-"},{"$f":"IF(ISBLANK('24'!$H$5),\"-\",'24'!$H$5)","v":"-"},{"$f":"IF(ISBLANK('24'!$H$2),\"-\",'24'!$H$2)","v":"-"},null,null,null,null,null,null,null,{"$f":"'24'!$M$19","v":0},{"$f":"'24'!$M$24","v":0},{"$f":"'24'!$M$30","v":0},{"$f":"'24'!$M$36","v":0},{"$f":"'24'!$M$41","v":0},{"$f":"'24'!$M$46","v":0},{"$f":"'24'!$M$13","v":0},{"$f":"'24'!$AA$2","v":0},{"$f":"'24'!$AA$4","v":0},{"$f":"'24'!$AA$3","v":0},{"$f":"IF(Tabelle3[[#This Row],[SKATING]]=0,\"-\",IF(Tabelle3[[#This Row],[Sex]]=\"M\",SUMPRODUCT(Tabelle3[[#This Row],[SKATING]:[VERANLAGUNG\nPREDISPOSITION]],AJ34:AS34),SUMPRODUCT(Tabelle3[[#This Row],[SKATING]:[VERANLAGUNG\nPREDISPOSITION]],AT34:BC34)))","v":"-"},{"$f":"IFERROR(RANK(Tabelle3[[#This Row],[TOTAL ]],Tabelle3[[TOTAL ]],0),\"-\")","v":"-"},null,null,null,null,{"$f":"IF(Tabelle3[[#This Row],[Position\nG / D / FC / FW]]=\"G\",VLOOKUP($M$5-Tabelle3[[#This Row],[Jahr\nannée]],GOALI,2),VLOOKUP($M$5-Tabelle3[[#This Row],[Jahr\nannée]],SPIELER,2))","v":10},{"$f":"IF(Tabelle3[[#This Row],[Position\nG / D / FC / FW]]=\"G\",VLOOKUP($M$5-Tabelle3[[#This Row],[Jahr\nannée]],GOALI,3),VLOOKUP($M$5-Tabelle3[[#This Row],[Jahr\nannée]],SPIELER,3))","v":10},{"$f":"IF(Tabelle3[[#This Row],[Position\nG / D / FC / FW]]=\"G\",VLOOKUP($M$5-Tabelle3[[#This Row],[Jahr\nannée]],GOALI,4),VLOOKUP($M$5-Tabelle3[[#This Row],[Jahr\nannée]],SPIELER,4))","v":20},{"$f":"IF(Tabelle3[[#This Row],[Position\nG / D / FC / FW]]=\"G\",VLOOKUP($M$5-Tabelle3[[#This Row],[Jahr\nannée]],GOALI,5),VLOOKUP($M$5-Tabelle3[[#This Row],[Jahr\nannée]],SPIELER,5))","v":15},{"$f":"IF(Tabelle3[[#This Row],[Position\nG / D / FC / FW]]=\"G\",VLOOKUP($M$5-Tabelle3[[#This Row],[Jahr\nannée]],GOALI,6),VLOOKUP($M$5-Tabelle3[[#This Row],[Jahr\nannée]],SPIELER,6))","v":10},{"$f":"IF(Tabelle3[[#This Row],[Position\nG / D / FC / FW]]=\"G\",VLOOKUP($M$5-Tabelle3[[#This Row],[Jahr\nannée]],GOALI,9),VLOOKUP($M$5-Tabelle3[[#This Row],[Jahr\nannée]],SPIELER,9))","v":15},{"$f":"IF(Tabelle3[[#This Row],[Position\nG / D / FC / FW]]=\"G\",VLOOKUP($M$5-Tabelle3[[#This Row],[Jahr\nannée]],GOALI,7),VLOOKUP($M$5-Tabelle3[[#This Row],[Jahr\nannée]],SPIELER,7))","v":10},{"$f":"IF(Tabelle3[[#This Row],[Position\nG / D / FC / FW]]=\"G\",VLOOKUP($M$5-Tabelle3[[#This Row],[Jahr\nannée]],GOALI,8),VLOOKUP($M$5-Tabelle3[[#This Row],[Jahr\nannée]],SPIELER,8))","v":0},{"$f":"IF(Tabelle3[[#This Row],[Position\nG / D / FC / FW]]=\"G\",VLOOKUP($M$5-Tabelle3[[#This Row],[Jahr\nannée]],GOALI,10),VLOOKUP($M$5-Tabelle3[[#This Row],[Jahr\nannée]],SPIELER,10))","v":0},{"$f":"IF(Tabelle3[[#This Row],[Position\nG / D / FC / FW]]=\"G\",VLOOKUP($M$5-Tabelle3[[#This Row],[Jahr\nannée]],GOALI,11),VLOOKUP($M$5-Tabelle3[[#This Row],[Jahr\nannée]],SPIELER,11))","v":10},{"$f":"IF(Tabelle3[[#This Row],[Position\nG / D / FC / FW]]=\"G\",VLOOKUP($M$5-Tabelle3[[#This Row],[Jahr\nannée]],FGOALIE,2),VLOOKUP($M$5-Tabelle3[[#This Row],[Jahr\nannée]],FSPIELER,2))","v":10},{"$f":"IF(Tabelle3[[#This Row],[Position\nG / D / FC / FW]]=\"G\",VLOOKUP($M$5-Tabelle3[[#This Row],[Jahr\nannée]],FGOALIE,3),VLOOKUP($M$5-Tabelle3[[#This Row],[Jahr\nannée]],FSPIELER,3))","v":10},{"$f":"IF(Tabelle3[[#This Row],[Position\nG / D / FC / FW]]=\"G\",VLOOKUP($M$5-Tabelle3[[#This Row],[Jahr\nannée]],FGOALIE,4),VLOOKUP($M$5-Tabelle3[[#This Row],[Jahr\nannée]],FSPIELER,4))","v":20},{"$f":"IF(Tabelle3[[#This Row],[Position\nG / D / FC / FW]]=\"G\",VLOOKUP($M$5-Tabelle3[[#This Row],[Jahr\nannée]],FGOALIE,5),VLOOKUP($M$5-Tabelle3[[#This Row],[Jahr\nannée]],FSPIELER,5))","v":15},{"$f":"IF(Tabelle3[[#This Row],[Position\nG / D / FC / FW]]=\"G\",VLOOKUP($M$5-Tabelle3[[#This Row],[Jahr\nannée]],FGOALIE,6),VLOOKUP($M$5-Tabelle3[[#This Row],[Jahr\nannée]],FSPIELER,6))","v":10},{"$f":"IF(Tabelle3[[#This Row],[Position\nG / D / FC / FW]]=\"G\",VLOOKUP($M$5-Tabelle3[[#This Row],[Jahr\nannée]],FGOALIE,9),VLOOKUP($M$5-Tabelle3[[#This Row],[Jahr\nannée]],FSPIELER,9))","v":15},{"$f":"IF(Tabelle3[[#This Row],[Position\nG / D / FC / FW]]=\"G\",VLOOKUP($M$5-Tabelle3[[#This Row],[Jahr\nannée]],FGOALIE,7),VLOOKUP($M$5-Tabelle3[[#This Row],[Jahr\nannée]],FSPIELER,7))","v":10},{"$f":"IF(Tabelle3[[#This Row],[Position\nG / D / FC / FW]]=\"G\",VLOOKUP($M$5-Tabelle3[[#This Row],[Jahr\nannée]],FGOALIE,8),VLOOKUP($M$5-Tabelle3[[#This Row],[Jahr\nannée]],FSPIELER,8))","v":0},{"$f":"IF(Tabelle3[[#This Row],[Position\nG / D / FC / FW]]=\"G\",VLOOKUP($M$5-Tabelle3[[#This Row],[Jahr\nannée]],FGOALIE,10),VLOOKUP($M$5-Tabelle3[[#This Row],[Jahr\nannée]],FSPIELER,10))","v":0},{"$f":"IF(Tabelle3[[#This Row],[Position\nG / D / FC / FW]]=\"G\",VLOOKUP($M$5-Tabelle3[[#This Row],[Jahr\nannée]],FGOALIE,11),VLOOKUP($M$5-Tabelle3[[#This Row],[Jahr\nannée]],FSPIELER,11))","v":10}]
[25,null,null,"-",null,null,null,null,null,{"$f":"IF(ISBLANK('25'!$H$4),\"-\",'25'!$H$4)","v":"-"},{"$f":"IF(ISBLANK('25'!$H$5),\"-\",'25'!$H$5)","v":"-"},{"$f":"IF(ISBLANK('25'!$H$2),\"-\",'25'!$H$2)","v":"-"},null,null,null,null,null,null,null,{"$f":"'25'!$M$19","v":0},{"$f":"'25'!$M$24","v":0},{"$f":"'25'!$M$30","v":0},{"$f":"'25'!$M$36","v":0},{"$f":"'25'!$M$41","v":0},{"$f":"'25'!$M$46","v":0},{"$f":"'25'!$M$13","v":0},{"$f":"'25'!$AA$2","v":0},{"$f":"'25'!$AA$4","v":0},{"$f":"'25'!$AA$3","v":0},{"$f":"IF(Tabelle3[[#This Row],[SKATING]]=0,\"-\",IF(Tabelle3[[#This Row],[Sex]]=\"M\",SUMPRODUCT(Tabelle3[[#This Row],[SKATING]:[VERANLAGUNG\nPREDISPOSITION]],AJ35:AS35),SUMPRODUCT(Tabelle3[[#This Row],[SKATING]:[VERANLAGUNG\nPREDISPOSITION]],AT35:BC35)))","v":"-"},{"$f":"IFERROR(RANK(Tabelle3[[#This Row],[TOTAL ]],Tabelle3[[TOTAL ]],0),\"-\")","v":"-"},null,null,null,null,{"$f":"IF(Tabelle3[[#This Row],[Position\nG / D / FC / FW]]=\"G\",VLOOKUP($M$5-Tabelle3[[#This Row],[Jahr\nannée]],GOALI,2),VLOOKUP($M$5-Tabelle3[[#This Row],[Jahr\nannée]],SPIELER,2))","v":10},{"$f":"IF(Tabelle3[[#This Row],[Position\nG / D / FC / FW]]=\"G\",VLOOKUP($M$5-Tabelle3[[#This Row],[Jahr\nannée]],GOALI,3),VLOOKUP($M$5-Tabelle3[[#This Row],[Jahr\nannée]],SPIELER,3))","v":10},{"$f":"IF(Tabelle3[[#This Row],[Position\nG / D / FC / FW]]=\"G\",VLOOKUP($M$5-Tabelle3[[#This Row],[Jahr\nannée]],GOALI,4),VLOOKUP($M$5-Tabelle3[[#This Row],[Jahr\nannée]],SPIELER,4))","v":20},{"$f":"IF(Tabelle3[[#This Row],[Position\nG / D / FC / FW]]=\"G\",VLOOKUP($M$5-Tabelle3[[#This Row],[Jahr\nannée]],GOALI,5),VLOOKUP($M$5-Tabelle3[[#This Row],[Jahr\nannée]],SPIELER,5))","v":15},{"$f":"IF(Tabelle3[[#This Row],[Position\nG / D / FC / FW]]=\"G\",VLOOKUP($M$5-Tabelle3[[#This Row],[Jahr\nannée]],GOALI,6),VLOOKUP($M$5-Tabelle3[[#This Row],[Jahr\nannée]],SPIELER,6))","v":10},{"$f":"IF(Tabelle3[[#This Row],[Position\nG / D / FC / FW]]=\"G\",VLOOKUP($M$5-Tabelle3[[#This Row],[Jahr\nannée]],GOALI,9),VLOOKUP($M$5-Tabelle3[[#This Row],[Jahr\nannée]],SPIELER,9))","v":15},{"$f":"IF(Tabelle3[[#This Row],[Position\nG / D / FC / FW]]=\"G\",VLOOKUP($M$5-Tabelle3[[#This Row],[Jahr\nannée]],GOALI,7),VLOOKUP($M$5-Tabelle3[[#This Row],[Jahr\nannée]],SPIELER,7))","v":10},{"$f":"IF(Tabelle3[[#This Row],[Position\nG / D / FC / FW]]=\"G\",VLOOKUP($M$5-Tabelle3[[#This Row],[Jahr\nannée]],GOALI,8),VLOOKUP($M$5-Tabelle3[[#This Row],[Jahr\nannée]],SPIELER,8))","v":0},{"$f":"IF(Tabelle3[[#This Row],[Position\nG / D / FC / FW]]=\"G\",VLOOKUP($M$5-Tabelle3[[#This Row],[Jahr\nannée]],GOALI,10),VLOOKUP($M$5-Tabelle3[[#This Row],[Jahr\nannée]],SPIELER,10))","v":0},{"$f":"IF(Tabelle3[[#This Row],[Position\nG / D / FC / FW]]=\"G\",VLOOKUP($M$5-Tabelle3[[#This Row],[Jahr\nannée]],GOALI,11),VLOOKUP($M$5-Tabelle3[[#This Row],[Jahr\nannée]],SPIELER,11))","v":10},{"$f":"IF(Tabelle3[[#This Row],[Position\nG / D / FC / FW]]=\"G\",VLOOKUP($M$5-Tabelle3[[#This Row],[Jahr\nannée]],FGOALIE,2),VLOOKUP($M$5-Tabelle3[[#This Row],[Jahr\nannée]],FSPIELER,2))","v":10},{"$f":"IF(Tabelle3[[#This Row],[Position\nG / D / FC / FW]]=\"G\",VLOOKUP($M$5-Tabelle3[[#This Row],[Jahr\nannée]],FGOALIE,3),VLOOKUP($M$5-Tabelle3[[#This Row],[Jahr\nannée]],FSPIELER,3))","v":10},{"$f":"IF(Tabelle3[[#This Row],[Position\nG / D / FC / FW]]=\"G\",VLOOKUP($M$5-Tabelle3[[#This Row],[Jahr\nannée]],FGOALIE,4),VLOOKUP($M$5-Tabelle3[[#This Row],[Jahr\nannée]],FSPIELER,4))","v":20},{"$f":"IF(Tabelle3[[#This Row],[Position\nG / D / FC / FW]]=\"G\",VLOOKUP($M$5-Tabelle3[[#This Row],[Jahr\nannée]],FGOALIE,5),VLOOKUP($M$5-Tabelle3[[#This Row],[Jahr\nannée]],FSPIELER,5))","v":15},{"$f":"IF(Tabelle3[[#This Row],[Position\nG / D / FC / FW]]=\"G\",VLOOKUP($M$5-Tabelle3[[#This Row],[Jahr\nannée]],FGOALIE,6),VLOOKUP($M$5-Tabelle3[[#This Row],[Jahr\nannée]],FSPIELER,6))","v":10},{"$f":"IF(Tabelle3[[#This Row],[Position\nG / D / FC / FW]]=\"G\",VLOOKUP($M$5-Tabelle3[[#This Row],[Jahr\nannée]],FGOALIE,9),VLOOKUP($M$5-Tabelle3[[#This Row],[Jahr\nannée]],FSPIELER,9))","v":15},{"$f":"IF(Tabelle3[[#This Row],[Position\nG / D / FC / FW]]=\"G\",VLOOKUP($M$5-Tabelle3[[#This Row],[Jahr\nannée]],FGOALIE,7),VLOOKUP($M$5-Tabelle3[[#This Row],[Jahr\nannée]],FSPIELER,7))","v":10},{"$f":"IF(Tabelle3[[#This Row],[Position\nG / D / FC / FW]]=\"G\",VLOOKUP($M$5-Tabelle3[[#This Row],[Jahr\nannée]],FGOALIE,8),VLOOKUP($M$5-Tabelle3[[#This Row],[Jahr\nannée]],FSPIELER,8))","v":0},{"$f":"IF(Tabelle3[[#This Row],[Position\nG / D / FC / FW]]=\"G\",VLOOKUP($M$5-Tabelle3[[#This Row],[Jahr\nannée]],FGOALIE,10),VLOOKUP($M$5-Tabelle3[[#This Row],[Jahr\nannée]],FSPIELER,10))","v":0},{"$f":"IF(Tabelle3[[#This Row],[Position\nG / D / FC / FW]]=\"G\",VLOOKUP($M$5-Tabelle3[[#This Row],[Jahr\nannée]],FGOALIE,11),VLOOKUP($M$5-Tabelle3[[#This Row],[Jahr\nannée]],FSPIELER,11))","v":10}]
[26,null,null,"-",null,null,null,null,null,{"$f":"IF(ISBLANK('26'!$H$4),\"-\",'26'!$H$4)","v":"-"},{"$f":"IF(ISBLANK('26'!$H$5),\"-\",'26'!$H$5)","v":"-"},{"$f":"IF(ISBLANK('26'!$H$2),\"-\",'26'!$H$2)","v":"-"},null,null,null,null,null,null,null,{"$f":"'26'!$M$19","v":0},{"$f":"'26'!$M$24","v":0},{"$f":"'26'!$M$30","v":0},{"$f":"'26'!$M$36","v":0},{"$f":"'26'!$M$41","v":0},{"$f":"'26'!$M$46","v":0},{"$f":"'26'!$M$13","v":0},{"$f":"'26'!$AA$2","v":0},{"$f":"'26'!$AA$4","v":0},{"$f":"'26'!$AA$3","v":0},{"$f":"IF(Tabelle3[[#This Row],[SKATING]]=0,\"-\",IF(Tabelle3[[#This Row],[Sex]]=\"M\",SUMPRODUCT(Tabelle3[[#This Row],[SKATING]:[VERANLAGUNG\nPREDISPOSITION]],AJ36:AS36),SUMPRODUCT(Tabelle3[[#This Row],[SKATING]:[VERANLAGUNG\nPREDISPOSITION]],AT36:BC36)))","v":"-"},{"$f":"IFERROR(RANK(Tabelle3[[#This Row],[TOTAL ]],Tabelle3[[TOTAL ]],0),\"-\")","v":"-"},null,null,null,null,{"$f":"IF(Tabelle3[[#This Row],[Position\nG / D / FC / FW]]=\"G\",VLOOKUP($M$5-Tabelle3[[#This Row],[Jahr\nannée]],GOALI,2),VLOOKUP($M$5-Tabelle3[[#This Row],[Jahr\nannée]],SPIELER,2))","v":10},{"$f":"IF(Tabelle3[[#This Row],[Position\nG / D / FC / FW]]=\"G\",VLOOKUP($M$5-Tabelle3[[#This Row],[Jahr\nannée]],GOALI,3),VLOOKUP($M$5-Tabelle3[[#This Row],[Jahr\nannée]],SPIELER,3))","v":10},{"$f":"IF(Tabelle3[[#This Row],[Position\nG / D / FC / FW]]=\"G\",VLOOKUP($M$5-Tabelle3[[#This Row],[Jahr\nannée]],GOALI,4),VLOOKUP($M$5-Tabelle3[[#This Row],[Jahr\nannée]],SPIELER,4))","v":20},{"$f":"IF(Tabelle3[[#This Row],[Position\nG / D / FC / FW]]=\"G\",VLOOKUP($M$5-Tabelle3[[#This Row],[Jahr\nannée]],GOALI,5),VLOOKUP($M$5-Tabelle3[[#This Row],[Jahr\nannée]],SPIELER,5))","v":15},{"$f":"IF(Tabelle3[[#This Row],[Position\nG / D / FC / FW]]=\"G\",VLOOKUP($M$5-Tabelle3[[#This Row],[Jahr\nannée]],GOALI,6),VLOOKUP($M$5-Tabelle3[[#This Row],[Jahr\nannée]],SPIELER,6))","v":10},{"$f":"IF(Tabelle3[[#This Row],[Position\nG / D / FC / FW]]=\"G\",VLOOKUP($M$5-Tabelle3[[#This Row],[Jahr\nannée]],GOALI,9),VLOOKUP($M$5-Tabelle3[[#This Row],[Jahr\nannée]],SPIELER,9))","v":15},{"$f":"IF(Tabelle3[[#This Row],[Position\nG / D / FC / FW]]=\"G\",VLOOKUP($M$5-Tabelle3[[#This Row],[Jahr\nannée]],GOALI,7),VLOOKUP($M$5-Tabelle3[[#This Row],[Jahr\nannée]],SPIELER,7))","v":10},{"$f":"IF(Tabelle3[[#This Row],[Position\nG / D / FC / FW]]=\"G\",VLOOKUP($M$5-Tabelle3[[#This Row],[Jahr\nannée]],GOALI,8),VLOOKUP($M$5-Tabelle3[[#This Row],[Jahr\nannée]],SPIELER,8))","v":0},{"$f":"IF(Tabelle3[[#This Row],[Position\nG / D / FC / FW]]=\"G\",VLOOKUP($M$5-Tabelle3[[#This Row],[Jahr\nannée]],GOALI,10),VLOOKUP($M$5-Tabelle3[[#This Row],[Jahr\nannée]],SPIELER,10))","v":0},{"$f":"IF(Tabelle3[[#This Row],[Position\nG / D / FC / FW]]=\"G\",VLOOKUP($M$5-Tabelle3[[#This Row],[Jahr\nannée]],GOALI,11),VLOOKUP($M$5-Tabelle3[[#This Row],[Jahr\nannée]],SPIELER,11))","v":10},{"$f":"IF(Tabelle3[[#This Row],[Position\nG / D / FC / FW]]=\"G\",VLOOKUP($M$5-Tabelle3[[#This Row],[Jahr\nannée]],FGOALIE,2),VLOOKUP($M$5-Tabelle3[[#This Row],[Jahr\nannée]],FSPIELER,2))","v":10},{"$f":"IF(Tabelle3[[#This Row],[Position\nG / D / FC / FW]]=\"G\",VLOOKUP($M$5-Tabelle3[[#This Row],[Jahr\nannée]],FGOALIE,3),VLOOKUP($M$5-Tabelle3[[#This Row],[Jahr\nannée]],FSPIELER,3))","v":10},{"$f":"IF(Tabelle3[[#This Row],[Position\nG / D / FC / FW]]=\"G\",VLOOKUP($M$5-Tabelle3[[#This Row],[Jahr\nannée]],FGOALIE,4),VLOOKUP($M$5-Tabelle3[[#This Row],[Jahr\nannée]],FSPIELER,4))","v":20},{"$f":"IF(Tabelle3[[#This Row],[Position\nG / D / FC / FW]]=\"G\",VLOOKUP($M$5-Tabelle3[[#This Row],[Jahr\nannée]],FGOALIE,5),VLOOKUP($M$5-Tabelle3[[#This Row],[Jahr\nannée]],FSPIELER,5))","v":15},{"$f":"IF(Tabelle3[[#This Row],[Position\nG / D / FC / FW]]=\"G\",VLOOKUP($M$5-Tabelle3[[#This Row],[Jahr\nannée]],FGOALIE,6),VLOOKUP($M$5-Tabelle3[[#This Row],[Jahr\nannée]],FSPIELER,6))","v":10},{"$f":"IF(Tabelle3[[#This Row],[Position\nG / D / FC / FW]]=\"G\",VLOOKUP($M$5-Tabelle3[[#This Row],[Jahr\nannée]],FGOALIE,9),VLOOKUP($M$5-Tabelle3[[#This Row],[Jahr\nannée]],FSPIELER,9))","v":15},{"$f":"IF(Tabelle3[[#This Row],[Position\nG / D / FC / FW]]=\"G\",VLOOKUP($M$5-Tabelle3[[#This Row],[Jahr\nannée]],FGOALIE,7),VLOOKUP($M$5-Tabelle3[[#This Row],[Jahr\nannée]],FSPIELER,7))","v":10},{"$f":"IF(Tabelle3[[#This Row],[Position\nG / D / FC / FW]]=\"G\",VLOOKUP($M$5-Tabelle3[[#This Row],[Jahr\nannée]],FGOALIE,8),VLOOKUP($M$5-Tabelle3[[#This Row],[Jahr\nannée]],FSPIELER,8))","v":0},{"$f":"IF(Tabelle3[[#This Row],[Position\nG / D / FC / FW]]=\"G\",VLOOKUP($M$5-Tabelle3[[#This Row],[Jahr\nannée]],FGOALIE,10),VLOOKUP($M$5-Tabelle3[[#This Row],[Jahr\nannée]],FSPIELER,10))","v":0},{"$f":"IF(Tabelle3[[#This Row],[Position\nG / D / FC / FW]]=\"G\",VLOOKUP($M$5-Tabelle3[[#This Row],[Jahr\nannée]],FGOALIE,11),VLOOKUP($M$5-Tabelle3[[#This Row],[Jahr\nannée]],FSPIELER,11))","v":10}]
[27,null,null,"-",null,null,null,null,null,{"$f":"IF(ISBLANK('27'!$H$4),\"-\",'27'!$H$4)","v":"-"},{"$f":"IF(ISBLANK('27'!$H$5),\"-\",'27'!$H$5)","v":"-"},{"$f":"IF(ISBLANK('27'!$H$2),\"-\",'27'!$H$2)","v":"-"},null,null,null,null,null,null,null,{"$f":"'27'!$M$19","v":0},{"$f":"'27'!$M$24","v":0},{"$f":"'27'!$M$30","v":0},{"$f":"'27'!$M$36","v":0},{"$f":"'27'!$M$41","v":0},{"$f":"'27'!$M$46","v":0},{"$f":"'27'!$M$13","v":0},{"$f":"'27'!$AA$2","v":0},{"$f":"'27'!$AA$4","v":0},{"$f":"'27'!$AA$3","v":0},{"$f":"IF(Tabelle3[[#This Row],[SKATING]]=0,\"-\",IF(Tabelle3[[#This Row],[Sex]]=\"M\",SUMPRODUCT(Tabelle3[[#This Row],[SKATING]:[VERANLAGUNG\nPREDISPOSITION]],AJ37:AS37),SUMPRODUCT(Tabelle3[[#This Row],[SKATING]:[VERANLAGUNG\nPREDISPOSITION]],AT37:BC37)))","v":"-"},{"$f":"IFERROR(RANK(Tabelle3[[#This Row],[TOTAL ]],Tabelle3[[TOTAL ]],0),\"-\")","v":"-"},null,null,null,null,{"$f":"IF(Tabelle3[[#This Row],[Position\nG / D / FC / FW]]=\"G\",VLOOKUP($M$5-Tabelle3[[#This Row],[Jahr\nannée]],GOALI,2),VLOOKUP($M$5-Tabelle3[[#This Row],[Jahr\nannée]],SPIELER,2))","v":10},{"$f":"IF(Tabelle3[[#This Row],[Position\nG / D / FC / FW]]=\"G\",VLOOKUP($M$5-Tabelle3[[#This Row],[Jahr\nannée]],GOALI,3),VLOOKUP($M$5-Tabelle3[[#This Row],[Jahr\nannée]],SPIELER,3))","v":10},{"$f":"IF(Tabelle3[[#This Row],[Position\nG / D / FC / FW]]=\"G\",VLOOKUP($M$5-Tabelle3[[#This Row],[Jahr\nannée]],GOALI,4),VLOOKUP($M$5-Tabelle3[[#This Row],[Jahr\nannée]],SPIELER,4))","v":20},{"$f":"IF(Tabelle3[[#This Row],[Position\nG / D / FC / FW]]=\"G\",VLOOKUP($M$5-Tabelle3[[#This Row],[Jahr\nannée]],GOALI,5),VLOOKUP($M$5-Tabelle3[[#This Row],[Jahr\nannée]],SPIELER,5))","v":15},{"$f":"IF(Tabelle3[[#This Row],[Position\nG / D / FC / FW]]=\"G\",VLOOKUP($M$5-Tabelle3[[#This Row],[Jahr\nannée]],GOALI,6),VLOOKUP($M$5-Tabelle3[[#This Row],[Jahr\nannée]],SPIELER,6))","v":10},{"$f":"IF(Tabelle3[[#This Row],[Position\nG / D / FC / FW]]=\"G\",VLOOKUP($M$5-Tabelle3[[#This Row],[Jahr\nannée]],GOALI,9),VLOOKUP($M$5-Tabelle3[[#This Row],[Jahr\nannée]],SPIELER,9))","v":15},{"$f":"IF(Tabelle3[[#This Row],[Position\nG / D / FC / FW]]=\"G\",VLOOKUP($M$5-Tabelle3[[#This Row],[Jahr\nannée]],GOALI,7),VLOOKUP($M$5-Tabelle3[[#This Row],[Jahr\nannée]],SPIELER,7))","v":10},{"$f":"IF(Tabelle3[[#This Row],[Position\nG / D / FC / FW]]=\"G\",VLOOKUP($M$5-Tabelle3[[#This Row],[Jahr\nannée]],GOALI,8),VLOOKUP($M$5-Tabelle3[[#This Row],[Jahr\nannée]],SPIELER,8))","v":0},{"$f":"IF(Tabelle3[[#This Row],[Position\nG / D / FC / FW]]=\"G\",VLOOKUP($M$5-Tabelle3[[#This Row],[Jahr\nannée]],GOALI,10),VLOOKUP($M$5-Tabelle3[[#This Row],[Jahr\nannée]],SPIELER,10))","v":0},{"$f":"IF(Tabelle3[[#This Row],[Position\nG / D / FC / FW]]=\"G\",VLOOKUP($M$5-Tabelle3[[#This Row],[Jahr\nannée]],GOALI,11),VLOOKUP($M$5-Tabelle3[[#This Row],[Jahr\nannée]],SPIELER,11))","v":10},{"$f":"IF(Tabelle3[[#This Row],[Position\nG / D / FC / FW]]=\"G\",VLOOKUP($M$5-Tabelle3[[#This Row],[Jahr\nannée]],FGOALIE,2),VLOOKUP($M$5-Tabelle3[[#This Row],[Jahr\nannée]],FSPIELER,2))","v":10},{"$f":"IF(Tabelle3[[#This Row],[Position\nG / D / FC / FW]]=\"G\",VLOOKUP($M$5-Tabelle3[[#This Row],[Jahr\nannée]],FGOALIE,3),VLOOKUP($M$5-Tabelle3[[#This Row],[Jahr\nannée]],FSPIELER,3))","v":10},{"$f":"IF(Tabelle3[[#This Row],[Position\nG / D / FC / FW]]=\"G\",VLOOKUP($M$5-Tabelle3[[#This Row],[Jahr\nannée]],FGOALIE,4),VLOOKUP($M$5-Tabelle3[[#This Row],[Jahr\nannée]],FSPIELER,4))","v":20},{"$f":"IF(Tabelle3[[#This Row],[Position\nG / D / FC / FW]]=\"G\",VLOOKUP($M$5-Tabelle3[[#This Row],[Jahr\nannée]],FGOALIE,5),VLOOKUP($M$5-Tabelle3[[#This Row],[Jahr\nannée]],FSPIELER,5))","v":15},{"$f":"IF(Tabelle3[[#This Row],[Position\nG / D / FC / FW]]=\"G\",VLOOKUP($M$5-Tabelle3[[#This Row],[Jahr\nannée]],FGOALIE,6),VLOOKUP($M$5-Tabelle3[[#This Row],[Jahr\nannée]],FSPIELER,6))","v":10},{"$f":"IF(Tabelle3[[#This Row],[Position\nG / D / FC / FW]]=\"G\",VLOOKUP($M$5-Tabelle3[[#This Row],[Jahr\nannée]],FGOALIE,9),VLOOKUP($M$5-Tabelle3[[#This Row],[Jahr\nannée]],FSPIELER,9))","v":15},{"$f":"IF(Tabelle3[[#This Row],[Position\nG / D / FC / FW]]=\"G\",VLOOKUP($M$5-Tabelle3[[#This Row],[Jahr\nannée]],FGOALIE,7),VLOOKUP($M$5-Tabelle3[[#This Row],[Jahr\nannée]],FSPIELER,7))","v":10},{"$f":"IF(Tabelle3[[#This Row],[Position\nG / D / FC / FW]]=\"G\",VLOOKUP($M$5-Tabelle3[[#This Row],[Jahr\nannée]],FGOALIE,8),VLOOKUP($M$5-Tabelle3[[#This Row],[Jahr\nannée]],FSPIELER,8))","v":0},{"$f":"IF(Tabelle3[[#This Row],[Position\nG / D / FC / FW]]=\"G\",VLOOKUP($M$5-Tabelle3[[#This Row],[Jahr\nannée]],FGOALIE,10),VLOOKUP($M$5-Tabelle3[[#This Row],[Jahr\nannée]],FSPIELER,10))","v":0},{"$f":"IF(Tabelle3[[#This Row],[Position\nG / D / FC / FW]]=\"G\",VLOOKUP($M$5-Tabelle3[[#This Row],[Jahr\nannée]],FGOALIE,11),VLOOKUP($M$5-Tabelle3[[#This Row],[Jahr\nannée]],FSPIELER,11))","v":10}]
[28,null,null,"-",null,null,null,null,null,{"$f":"IF(ISBLANK('28'!$H$4),\"-\",'28'!$H$4)","v":"-"},{"$f":"IF(ISBLANK('28'!$H$5),\"-\",'28'!$H$5)","v":"-"},{"$f":"IF(ISBLANK('28'!$H$2),\"-\",'28'!$H$2)","v":"-"},null,null,null,null,null,null,null,{"$f":"'28'!$M$19","v":0},{"$f":"'28'!$M$24","v":0},{"$f":"'28'!$M$30","v":0},{"$f":"'28'!$M$36","v":0},{"$f":"'28'!$M$41","v":0},{"$f":"'28'!$M$46","v":0},{"$f":"'28'!$M$13","v":0},{"$f":"'28'!$AA$2","v":0},{"$f":"'28'!$AA$4","v":0},{"$f":"'28'!$AA$3","v":0},{"$f":"IF(Tabelle3[[#This Row],[SKATING]]=0,\"-\",IF(Tabelle3[[#This Row],[Sex]]=\"M\",SUMPRODUCT(Tabelle3[[#This Row],[SKATING]:[VERANLAGUNG\nPREDISPOSITION]],AJ38:AS38),SUMPRODUCT(Tabelle3[[#This Row],[SKATING]:[VERANLAGUNG\nPREDISPOSITION]],AT38:BC38)))","v":"-"},{"$f":"IFERROR(RANK(Tabelle3[[#This Row],[TOTAL ]],Tabelle3[[TOTAL ]],0),\"-\")","v":"-"},null,null,null,null,{"$f":"IF(Tabelle3[[#This Row],[Position\nG / D / FC / FW]]=\"G\",VLOOKUP($M$5-Tabelle3[[#This Row],[Jahr\nannée]],GOALI,2),VLOOKUP($M$5-Tabelle3[[#This Row],[Jahr\nannée]],SPIELER,2))","v":10},{"$f":"IF(Tabelle3[[#This Row],[Position\nG / D / FC / FW]]=\"G\",VLOOKUP($M$5-Tabelle3[[#This Row],[Jahr\nannée]],GOALI,3),VLOOKUP($M$5-Tabelle3[[#This Row],[Jahr\nannée]],SPIELER,3))","v":10},{"$f":"IF(Tabelle3[[#This Row],[Position\nG / D / FC / FW]]=\"G\",VLOOKUP($M$5-Tabelle3[[#This Row],[Jahr\nannée]],GOALI,4),VLOOKUP($M$5-Tabelle3[[#This Row],[Jahr\nannée]],SPIELER,4))","v":20},{"$f":"IF(Tabelle3[[#This Row],[Position\nG / D / FC / FW]]=\"G\",VLOOKUP($M$5-Tabelle3[[#This Row],[Jahr\nannée]],GOALI,5),VLOOKUP($M$5-Tabelle3[[#This Row],[Jahr\nannée]],SPIELER,5))","v":15},{"$f":"IF(Tabelle3[[#This Row],[Position\nG / D / FC / FW]]=\"G\",VLOOKUP($M$5-Tabelle3[[#This Row],[Jahr\nannée]],GOALI,6),VLOOKUP($M$5-Tabelle3[[#This Row],[Jahr\nannée]],SPIELER,6))","v":10},{"$f":"IF(Tabelle3[[#This Row],[Position\nG / D / FC / FW]]=\"G\",VLOOKUP($M$5-Tabelle3[[#This Row],[Jahr\nannée]],GOALI,9),VLOOKUP($M$5-Tabelle3[[#This Row],[Jahr\nannée]],SPIELER,9))","v":15},{"$f":"IF(Tabelle3[[#This Row],[Position\nG / D / FC / FW]]=\"G\",VLOOKUP($M$5-Tabelle3[[#This Row],[Jahr\nannée]],GOALI,7),VLOOKUP($M$5-Tabelle3[[#This Row],[Jahr\nannée]],SPIELER,7))","v":10},{"$f":"IF(Tabelle3[[#This Row],[Position\nG / D / FC / FW]]=\"G\",VLOOKUP($M$5-Tabelle3[[#This Row],[Jahr\nannée]],GOALI,8),VLOOKUP($M$5-Tabelle3[[#This Row],[Jahr\nannée]],SPIELER,8))","v":0},{"$f":"IF(Tabelle3[[#This Row],[Position\nG / D / FC / FW]]=\"G\",VLOOKUP($M$5-Tabelle3[[#This Row],[Jahr\nannée]],GOALI,10),VLOOKUP($M$5-Tabelle3[[#This Row],[Jahr\nannée]],SPIELER,10))","v":0},{"$f":"IF(Tabelle3[[#This Row],[Position\nG / D / FC / FW]]=\"G\",VLOOKUP($M$5-Tabelle3[[#This Row],[Jahr\nannée]],GOALI,11),VLOOKUP($M$5-Tabelle3[[#This Row],[Jahr\nannée]],SPIELER,11))","v":10},{"$f":"IF(Tabelle3[[#This Row],[Position\nG / D / FC / FW]]=\"G\",VLOOKUP($M$5-Tabelle3[[#This Row],[Jahr\nannée]],FGOALIE,2),VLOOKUP($M$5-Tabelle3[[#This Row],[Jahr\nannée]],FSPIELER,2))","v":10},{"$f":"IF(Tabelle3[[#This Row],[Position\nG / D / FC / FW]]=\"G\",VLOOKUP($M$5-Tabelle3[[#This Row],[Jahr\nannée]],FGOALIE,3),VLOOKUP($M$5-Tabelle3[[#This Row],[Jahr\nannée]],FSPIELER,3))","v":10},{"$f":"IF(Tabelle3[[#This Row],[Position\nG / D / FC / FW]]=\"G\",VLOOKUP($M$5-Tabelle3[[#This Row],[Jahr\nannée]],FGOALIE,4),VLOOKUP($M$5-Tabelle3[[#This Row],[Jahr\nannée]],FSPIELER,4))","v":20},{"$f":"IF(Tabelle3[[#This Row],[Position\nG / D / FC / FW]]=\"G\",VLOOKUP($M$5-Tabelle3[[#This Row],[Jahr\nannée]],FGOALIE,5),VLOOKUP($M$5-Tabelle3[[#This Row],[Jahr\nannée]],FSPIELER,5))","v":15},{"$f":"IF(Tabelle3[[#This Row],[Position\nG / D / FC / FW]]=\"G\",VLOOKUP($M$5-Tabelle3[[#This Row],[Jahr\nannée]],FGOALIE,6),VLOOKUP($M$5-Tabelle3[[#This Row],[Jahr\nannée]],FSPIELER,6))","v":10},{"$f":"IF(Tabelle3[[#This Row],[Position\nG / D / FC / FW]]=\"G\",VLOOKUP($M$5-Tabelle3[[#This Row],[Jahr\nannée]],FGOALIE,9),VLOOKUP($M$5-Tabelle3[[#This Row],[Jahr\nannée]],FSPIELER,9))","v":15},{"$f":"IF(Tabelle3[[#This Row],[Position\nG / D / FC / FW]]=\"G\",VLOOKUP($M$5-Tabelle3[[#This Row],[Jahr\nannée]],FGOALIE,7),VLOOKUP($M$5-Tabelle3[[#This Row],[Jahr\nannée]],FSPIELER,7))","v":10},{"$f":"IF(Tabelle3[[#This Row],[Position\nG / D / FC / FW]]=\"G\",VLOOKUP($M$5-Tabelle3[[#This Row],[Jahr\nannée]],FGOALIE,8),VLOOKUP($M$5-Tabelle3[[#This Row],[Jahr\nannée]],FSPIELER,8))","v":0},{"$f":"IF(Tabelle3[[#This Row],[Position\nG / D / FC / FW]]=\"G\",VLOOKUP($M$5-Tabelle3[[#This Row],[Jahr\nannée]],FGOALIE,10),VLOOKUP($M$5-Tabelle3[[#This Row],[Jahr\nannée]],FSPIELER,10))","v":0},{"$f":"IF(Tabelle3[[#This Row],[Position\nG / D / FC / FW]]=\"G\",VLOOKUP($M$5-Tabelle3[[#This Row],[Jahr\nannée]],FGOALIE,11),VLOOKUP($M$5-Tabelle3[[#This Row],[Jahr\nannée]],FSPIELER,11))","v":10}]
[29,null,null,"-",null,null,null,null,null,{"$f":"IF(ISBLANK('29'!$H$4),\"-\",'29'!$H$4)","v":"-"},{"$f":"IF(ISBLANK('29'!$H$5),\"-\",'29'!$H$5)","v":"-"},{"$f":"IF(ISBLANK('29'!$H$2),\"-\",'29'!$H$2)","v":"-"},null,null,null,null,null,null,null,{"$f":"'29'!$M$19","v":0},{"$f":"'29'!$M$24","v":0},{"$f":"'29'!$M$30","v":0},{"$f":"'29'!$M$36","v":0},{"$f":"'29'!$M$41","v":0},{"$f":"'29'!$M$46","v":0},{"$f":"'29'!$M$13","v":0},{"$f":"'29'!$AA$2","v":0},{"$f":"'29'!$AA$4","v":0},{"$f":"'29'!$AA$3","v":0},{"$f":"IF(Tabelle3[[#This Row],[SKATING]]=0,\"-\",IF(Tabelle3[[#This Row],[Sex]]=\"M\",SUMPRODUCT(Tabelle3[[#This Row],[SKATING]:[VERANLAGUNG\nPREDISPOSITION]],AJ39:AS39),SUMPRODUCT(Tabelle3[[#This Row],[SKATING]:[VERANLAGUNG\nPREDISPOSITION]],AT39:BC39)))","v":"-"},{"$f":"IFERROR(RANK(Tabelle3[[#This Row],[TOTAL ]],Tabelle3[[TOTAL ]],0),\"-\")","v":"-"},null,null,null,null,{"$f":"IF(Tabelle3[[#This Row],[Position\nG / D / FC / FW]]=\"G\",VLOOKUP($M$5-Tabelle3[[#This Row],[Jahr\nannée]],GOALI,2),VLOOKUP($M$5-Tabelle3[[#This Row],[Jahr\nannée]],SPIELER,2))","v":10},{"$f":"IF(Tabelle3[[#This Row],[Position\nG / D / FC / FW]]=\"G\",VLOOKUP($M$5-Tabelle3[[#This Row],[Jahr\nannée]],GOALI,3),VLOOKUP($M$5-Tabelle3[[#This Row],[Jahr\nannée]],SPIELER,3))","v":10},{"$f":"IF(Tabelle3[[#This Row],[Position\nG / D / FC / FW]]=\"G\",VLOOKUP($M$5-Tabelle3[[#This Row],[Jahr\nannée]],GOALI,4),VLOOKUP($M$5-Tabelle3[[#This Row],[Jahr\nannée]],SPIELER,4))","v":20},{"$f":"IF(Tabelle3[[#This Row],[Position\nG / D / FC / FW]]=\"G\",VLOOKUP($M$5-Tabelle3[[#This Row],[Jahr\nannée]],GOALI,5),VLOOKUP($M$5-Tabelle3[[#This Row],[Jahr\nannée]],SPIELER,5))","v":15},{"$f":"IF(Tabelle3[[#This Row],[Position\nG / D / FC / FW]]=\"G\",VLOOKUP($M$5-Tabelle3[[#This Row],[Jahr\nannée]],GOALI,6),VLOOKUP($M$5-Tabelle3[[#This Row],[Jahr\nannée]],SPIELER,6))","v":10},{"$f":"IF(Tabelle3[[#This Row],[Position\nG / D / FC / FW]]=\"G\",VLOOKUP($M$5-Tabelle3[[#This Row],[Jahr\nannée]],GOALI,9),VLOOKUP($M$5-Tabelle3[[#This Row],[Jahr\nannée]],SPIELER,9))","v":15},{"$f":"IF(Tabelle3[[#This Row],[Position\nG / D / FC / FW]]=\"G\",VLOOKUP($M$5-Tabelle3[[#This Row],[Jahr\nannée]],GOALI,7),VLOOKUP($M$5-Tabelle3[[#This Row],[Jahr\nannée]],SPIELER,7))","v":10},{"$f":"IF(Tabelle3[[#This Row],[Position\nG / D / FC / FW]]=\"G\",VLOOKUP($M$5-Tabelle3[[#This Row],[Jahr\nannée]],GOALI,8),VLOOKUP($M$5-Tabelle3[[#This Row],[Jahr\nannée]],SPIELER,8))","v":0},{"$f":"IF(Tabelle3[[#This Row],[Position\nG / D / FC / FW]]=\"G\",VLOOKUP($M$5-Tabelle3[[#This Row],[Jahr\nannée]],GOALI,10),VLOOKUP($M$5-Tabelle3[[#This Row],[Jahr\nannée]],SPIELER,10))","v":0},{"$f":"IF(Tabelle3[[#This Row],[Position\nG / D / FC / FW]]=\"G\",VLOOKUP($M$5-Tabelle3[[#This Row],[Jahr\nannée]],GOALI,11),VLOOKUP($M$5-Tabelle3[[#This Row],[Jahr\nannée]],SPIELER,11))","v":10},{"$f":"IF(Tabelle3[[#This Row],[Position\nG / D / FC / FW]]=\"G\",VLOOKUP($M$5-Tabelle3[[#This Row],[Jahr\nannée]],FGOALIE,2),VLOOKUP($M$5-Tabelle3[[#This Row],[Jahr\nannée]],FSPIELER,2))","v":10},{"$f":"IF(Tabelle3[[#This Row],[Position\nG / D / FC / FW]]=\"G\",VLOOKUP($M$5-Tabelle3[[#This Row],[Jahr\nannée]],FGOALIE,3),VLOOKUP($M$5-Tabelle3[[#This Row],[Jahr\nannée]],FSPIELER,3))","v":10},{"$f":"IF(Tabelle3[[#This Row],[Position\nG / D / FC / FW]]=\"G\",VLOOKUP($M$5-Tabelle3[[#This Row],[Jahr\nannée]],FGOALIE,4),VLOOKUP($M$5-Tabelle3[[#This Row],[Jahr\nannée]],FSPIELER,4))","v":20},{"$f":"IF(Tabelle3[[#This Row],[Position\nG / D / FC / FW]]=\"G\",VLOOKUP($M$5-Tabelle3[[#This Row],[Jahr\nannée]],FGOALIE,5),VLOOKUP($M$5-Tabelle3[[#This Row],[Jahr\nannée]],FSPIELER,5))","v":15},{"$f":"IF(Tabelle3[[#This Row],[Position\nG / D / FC / FW]]=\"G\",VLOOKUP($M$5-Tabelle3[[#This Row],[Jahr\nannée]],FGOALIE,6),VLOOKUP($M$5-Tabelle3[[#This Row],[Jahr\nannée]],FSPIELER,6))","v":10},{"$f":"IF(Tabelle3[[#This Row],[Position\nG / D / FC / FW]]=\"G\",VLOOKUP($M$5-Tabelle3[[#This Row],[Jahr\nannée]],FGOALIE,9),VLOOKUP($M$5-Tabelle3[[#This Row],[Jahr\nannée]],FSPIELER,9))","v":15},{"$f":"IF(Tabelle3[[#This Row],[Position\nG / D / FC / FW]]=\"G\",VLOOKUP($M$5-Tabelle3[[#This Row],[Jahr\nannée]],FGOALIE,7),VLOOKUP($M$5-Tabelle3[[#This Row],[Jahr\nannée]],FSPIELER,7))","v":10},{"$f":"IF(Tabelle3[[#This Row],[Position\nG / D / FC / FW]]=\"G\",VLOOKUP($M$5-Tabelle3[[#This Row],[Jahr\nannée]],FGOALIE,8),VLOOKUP($M$5-Tabelle3[[#This Row],[Jahr\nannée]],FSPIELER,8))","v":0},{"$f":"IF(Tabelle3[[#This Row],[Position\nG / D / FC / FW]]=\"G\",VLOOKUP($M$5-Tabelle3[[#This Row],[Jahr\nannée]],FGOALIE,10),VLOOKUP($M$5-Tabelle3[[#This Row],[Jahr\nannée]],FSPIELER,10))","v":0},{"$f":"IF(Tabelle3[[#This Row],[Position\nG / D / FC / FW]]=\"G\",VLOOKUP($M$5-Tabelle3[[#This Row],[Jahr\nannée]],FGOALIE,11),VLOOKUP($M$5-Tabelle3[[#This Row],[Jahr\nannée]],FSPIELER,11))","v":10}]
[30,null,null,"-",null,null,null,null,null,{"$f":"IF(ISBLANK('30'!$H$4),\"-\",'30'!$H$4)","v":"-"},{"$f":"IF(ISBLANK('30'!$H$5),\"-\",'30'!$H$5)","v":"-"},{"$f":"IF(ISBLANK('30'!$H$2),\"-\",'30'!$H$2)","v":"-"},null,null,null,null,null,null,null,{"$f":"'30'!$M$19","v":0},{"$f":"'30'!$M$24","v":0},{"$f":"'30'!$M$30","v":0},{"$f":"'30'!$M$36","v":0},{"$f":"'30'!$M$41","v":0},{"$f":"'30'!$M$46","v":0},{"$f":"'30'!$M$13","v":0},{"$f":"'30'!$AA$2","v":0},{"$f":"'30'!$AA$4","v":0},{"$f":"'30'!$AA$3","v":0},{"$f":"IF(Tabelle3[[#This Row],[SKATING]]=0,\"-\",IF(Tabelle3[[#This Row],[Sex]]=\"M\",SUMPRODUCT(Tabelle3[[#This Row],[SKATING]:[VERANLAGUNG\nPREDISPOSITION]],AJ40:AS40),SUMPRODUCT(Tabelle3[[#This Row],[SKATING]:[VERANLAGUNG\nPREDISPOSITION]],AT40:BC40)))","v":"-"},{"$f":"IFERROR(RANK(Tabelle3[[#This Row],[TOTAL ]],Tabelle3[[TOTAL ]],0),\"-\")","v":"-"},null,null,null,null,{"$f":"IF(Tabelle3[[#This Row],[Position\nG / D / FC / FW]]=\"G\",VLOOKUP($M$5-Tabelle3[[#This Row],[Jahr\nannée]],GOALI,2),VLOOKUP($M$5-Tabelle3[[#This Row],[Jahr\nannée]],SPIELER,2))","v":10},{"$f":"IF(Tabelle3[[#This Row],[Position\nG / D / FC / FW]]=\"G\",VLOOKUP($M$5-Tabelle3[[#This Row],[Jahr\nannée]],GOALI,3),VLOOKUP($M$5-Tabelle3[[#This Row],[Jahr\nannée]],SPIELER,3))","v":10},{"$f":"IF(Tabelle3[[#This Row],[Position\nG / D / FC / FW]]=\"G\",VLOOKUP($M$5-Tabelle3[[#This Row],[Jahr\nannée]],GOALI,4),VLOOKUP($M$5-Tabelle3[[#This Row],[Jahr\nannée]],SPIELER,4))","v":20},{"$f":"IF(Tabelle3[[#This Row],[Position\nG / D / FC / FW]]=\"G\",VLOOKUP($M$5-Tabelle3[[#This Row],[Jahr\nannée]],GOALI,5),VLOOKUP($M$5-Tabelle3[[#This Row],[Jahr\nannée]],SPIELER,5))","v":15},{"$f":"IF(Tabelle3[[#This Row],[Position\nG / D / FC / FW]]=\"G\",VLOOKUP($M$5-Tabelle3[[#This Row],[Jahr\nannée]],GOALI,6),VLOOKUP($M$5-Tabelle3[[#This Row],[Jahr\nannée]],SPIELER,6))","v":10},{"$f":"IF(Tabelle3[[#This Row],[Position\nG / D / FC / FW]]=\"G\",VLOOKUP($M$5-Tabelle3[[#This Row],[Jahr\nannée]],GOALI,9),VLOOKUP($M$5-Tabelle3[[#This Row],[Jahr\nannée]],SPIELER,9))","v":15},{"$f":"IF(Tabelle3[[#This Row],[Position\nG / D / FC / FW]]=\"G\",VLOOKUP($M$5-Tabelle3[[#This Row],[Jahr\nannée]],GOALI,7),VLOOKUP($M$5-Tabelle3[[#This Row],[Jahr\nannée]],SPIELER,7))","v":10},{"$f":"IF(Tabelle3[[#This Row],[Position\nG / D / FC / FW]]=\"G\",VLOOKUP($M$5-Tabelle3[[#This Row],[Jahr\nannée]],GOALI,8),VLOOKUP($M$5-Tabelle3[[#This Row],[Jahr\nannée]],SPIELER,8))","v":0},{"$f":"IF(Tabelle3[[#This Row],[Position\nG / D / FC / FW]]=\"G\",VLOOKUP($M$5-Tabelle3[[#This Row],[Jahr\nannée]],GOALI,10),VLOOKUP($M$5-Tabelle3[[#This Row],[Jahr\nannée]],SPIELER,10))","v":0},{"$f":"IF(Tabelle3[[#This Row],[Position\nG / D / FC / FW]]=\"G\",VLOOKUP($M$5-Tabelle3[[#This Row],[Jahr\nannée]],GOALI,11),VLOOKUP($M$5-Tabelle3[[#This Row],[Jahr\nannée]],SPIELER,11))","v":10},{"$f":"IF(Tabelle3[[#This Row],[Position\nG / D / FC / FW]]=\"G\",VLOOKUP($M$5-Tabelle3[[#This Row],[Jahr\nannée]],FGOALIE,2),VLOOKUP($M$5-Tabelle3[[#This Row],[Jahr\nannée]],FSPIELER,2))","v":10},{"$f":"IF(Tabelle3[[#This Row],[Position\nG / D / FC / FW]]=\"G\",VLOOKUP($M$5-Tabelle3[[#This Row],[Jahr\nannée]],FGOALIE,3),VLOOKUP($M$5-Tabelle3[[#This Row],[Jahr\nannée]],FSPIELER,3))","v":10},{"$f":"IF(Tabelle3[[#This Row],[Position\nG / D / FC / FW]]=\"G\",VLOOKUP($M$5-Tabelle3[[#This Row],[Jahr\nannée]],FGOALIE,4),VLOOKUP($M$5-Tabelle3[[#This Row],[Jahr\nannée]],FSPIELER,4))","v":20},{"$f":"IF(Tabelle3[[#This Row],[Position\nG / D / FC / FW]]=\"G\",VLOOKUP($M$5-Tabelle3[[#This Row],[Jahr\nannée]],FGOALIE,5),VLOOKUP($M$5-Tabelle3[[#This Row],[Jahr\nannée]],FSPIELER,5))","v":15},{"$f":"IF(Tabelle3[[#This Row],[Position\nG / D / FC / FW]]=\"G\",VLOOKUP($M$5-Tabelle3[[#This Row],[Jahr\nannée]],FGOALIE,6),VLOOKUP($M$5-Tabelle3[[#This Row],[Jahr\nannée]],FSPIELER,6))","v":10},{"$f":"IF(Tabelle3[[#This Row],[Position\nG / D / FC / FW]]=\"G\",VLOOKUP($M$5-Tabelle3[[#This Row],[Jahr\nannée]],FGOALIE,9),VLOOKUP($M$5-Tabelle3[[#This Row],[Jahr\nannée]],FSPIELER,9))","v":15},{"$f":"IF(Tabelle3[[#This Row],[Position\nG / D / FC / FW]]=\"G\",VLOOKUP($M$5-Tabelle3[[#This Row],[Jahr\nannée]],FGOALIE,7),VLOOKUP($M$5-Tabelle3[[#This Row],[Jahr\nannée]],FSPIELER,7))","v":10},{"$f":"IF(Tabelle3[[#This Row],[Position\nG / D / FC / FW]]=\"G\",VLOOKUP($M$5-Tabelle3[[#This Row],[Jahr\nannée]],FGOALIE,8),VLOOKUP($M$5-Tabelle3[[#This Row],[Jahr\nannée]],FSPIELER,8))","v":0},{"$f":"IF(Tabelle3[[#This Row],[Position\nG / D / FC / FW]]=\"G\",VLOOKUP($M$5-Tabelle3[[#This Row],[Jahr\nannée]],FGOALIE,10),VLOOKUP($M$5-Tabelle3[[#This Row],[Jahr\nannée]],FSPIELER,10))","v":0},{"$f":"IF(Tabelle3[[#This Row],[Position\nG / D / FC / FW]]=\"G\",VLOOKUP($M$5-Tabelle3[[#This Row],[Jahr\nannée]],FGOALIE,11),VLOOKUP($M$5-Tabelle3[[#This Row],[Jahr\nannée]],FSPIELER,11))","v":10}]

{"sheet":"1","index":4,"n_rows":50,"n_cols":36,"rows_kept":50,"cut":false,"hidden":false,"merged":[[40,0,44,2],[40,3,40,5],[47,3,47,5],[47,6,47,11],[45,34,49,34],[45,12,49,12],[45,13,49,13],[45,15,49,15],[45,17,49,17],[45,19,49,19],[45,21,49,21],[45,23,49,23],[45,25,49,25],[45,26,49,32],[45,0,49,2],[45,3,45,5],[45,6,45,11],[46,3,46,5],[46,6,46,11],[48,3,48,5],[48,6,48,11],[49,3,49,5],[49,6,49,11],[4,2,4,5],[18,3,18,5],[18,6,18,11],[4,0,4,1],[2,0,2,1],[3,0,3,1],[11,0,11,2],[12,0,16,2],[17,0,17,2],[18,0,22,2],[8,0,8,1],[21,3,21,5],[21,6,21,11],[22,3,22,5],[22,6,22,11],[13,3,13,5],[13,6,13,11],[14,3,14,5],[14,6,14,11],[15,3,15,5],[15,6,15,11],[20,3,20,5],[20,6,20,11],[40,12,44,12],[38,3,38,5],[38,6,38,11],[19,3,19,5],[12,3,12,5],[12,6,12,11],[35,12,39,12],[40,6,40,11],[42,3,42,5],[42,6,42,11],[44,3,44,5],[44,6,44,11],[19,6,19,11],[17,3,17,5],[17,6,17,11],[16,3,16,5],[16,6,16,11],[26,6,26,11],[28,3,28,5],[43,3,43,5],[43,6,43,11],[1,0,1,1],[7,0,7,1],[1,2,1,5],[11,26,11,32],[12,13,16,13],[29,6,29,11],[32,3,32,5],[34,3,34,5],[34,6,34,11],[23,12,28,12],[29,12,33,12],[31,3,31,5],[33,3,33,5],[33,6,33,11],[29,3,29,5],[26,3,26,5],[32,6,32,11],[31,6,31,11],[11,3,11,5],[6,0,6,1],[2,2,2,5],[8,2,8,35],[10,0,10,24],[10,25,10,35],[35,0,39,2],[12,25,16,25],[6,2,6,35],[35,3,35,5],[35,6,35,11],[35,23,39,23],[18,15,22,15],[18,17,22,17],[18,19,22,19],[18,21,22,21],[18,23,22,23],[27,6,27,11],[29,0,33,2],[34,0,34,2],[23,6,23,11],[23,0,28,2],[7,2,7,35],[11,13,11,14],[11,15,11,16],[11,17,11,18],[12,12,16,12],[18,12,22,12],[28,6,28,11],[23,3,23,5],[40,13,44,13],[23,13,28,13],[18,13,22,13],[17,19,17,20],[17,21,17,22],[17,23,17,24],[40,21,44,21],[40,23,44,23],[35,13,39,13],[40,19,44,19],[29,15,33,15],[29,17,33,17],[29,19,33,19],[29,21,33,21],[29,23,33,23],[23,19,28,19],[23,21,28,21],[23,23,28,23],[23,17,28,17],[40,15,44,15],[35,15,39,15],[35,17,39,17],[35,19,39,19],[35,21,39,21],[1,10,1,24],[2,11,2,24],[3,10,3,24],[4,10,4,24],[34,13,34,14],[34,15,34,16],[34,17,34,18],[34,19,34,20],[34,21,34,22],[34,23,34,24],[17,13,17,14],[17,15,17,16],[17,17,17,18],[29,13,33,13],[12,15,16,15],[12,17,16,17],[12,19,16,19],[12,21,16,21],[12,23,16,23],[11,19,11,20],[11,21,11,22],[11,23,11,24],[23,15,28,15],[11,6,11,11],[0,0,0,24],[0,25,0,26],[0,27,0,32],[0,33,0,35],[35,34,39,34],[40,25,44,25],[40,26,44,32],[40,34,44,34],[12,34,16,34],[18,25,22,25],[18,26,22,32],[18,34,22,34],[23,25,28,25],[23,26,28,32],[23,34,28,34],[29,25,33,25],[29,26,33,32],[29,34,33,34],[35,26,39,32],[34,26,34,32],[17,26,17,32],[12,26,16,32],[40,17,44,17],[35,25,39,25],[24,3,24,5],[24,6,24,11],[25,3,25,5],[25,6,25,11],[30,3,30,5],[30,6,30,11],[36,3,36,5],[36,6,36,11],[41,3,41,5],[41,6,41,11],[37,3,37,5],[37,6,37,11],[27,3,27,5],[39,6,39,11],[39,3,39,5]]}
["Informazioni personali",null,null,null,null,null,null,null,null,null,null,null,null,null,null,null,null,null,null,null,null,null,null,null,null,"Predisposizione",null,"Valutazioni",null,null,null,null,null,"Rating"]
["COGNOME",null,{"$f":"IF(ISBLANK(VLOOKUP(1,Tabelle3[],3,0)),\"-\",VLOOKUP(1,Tabelle3[],3,0))","v":"xxx"},null,null,null,"POSIZIONE","C",null,"INDIRIZZO",{"$f":"IF(ISBLANK(VLOOKUP(1,Tabelle3[],5,0)),\"-\",VLOOKUP(1,Tabelle3[],5,0))","v":"xxx"},null,null,null,null,null,null,null,null,null,null,null,null,null,null,"Età\" (biologica/età relativa)",null,"Data 1",null,null,"cm",null,"Kg",null,"ECCELLENTE",5]
["NOME",null,{"$f":"IF(ISBLANK(VLOOKUP(1,Tabelle3[],2,0)),\"-\",VLOOKUP(1,Tabelle3[],2,0))","v":"xxx"},null,null,null,"BASTONE",null,null,"LUOGO",{"$f":"IF(ISBLANK(VLOOKUP(1,Tabelle3[],7,0)),\"-\",VLOOKUP(1,Tabelle3[],7,0))","v":"xxxx"},{"$f":"IF(ISBLANK(VLOOKUP(1,Tabelle3[],6,0)),\"-\",VLOOKUP(1,Tabelle3[],6,0))","v":"xxx"},null,null,null,null,null,null,null,null,null,null,null,null,null,"Predisposizione",null,"Data 2",null,null,"cm",null,"Kg",null,"BUONO",4]
["DATA DI NASC.",null,{"$f":"IF(ISBLANK(VLOOKUP(1,Tabelle3[],14,0)),\"-\",VLOOKUP(1,Tabelle3[],14,0))","v":"xx"},{"$f":"IF(ISBLANK(VLOOKUP(1,Tabelle3[],15,0)),\"-\",VLOOKUP(1,Tabelle3[],15,0))","v":"xx"},{"$f":"IF(ISBLANK(VLOOKUP(1,Tabelle3[],16,0)),\"-\",VLOOKUP(1,Tabelle3[],16,0))","v":2001},null,"ALTEZZA",null,"cm (Finale)","TELEFONO",{"$f":"IF(ISBLANK(VLOOKUP(1,Tabelle3[],8,0)),\"-\",VLOOKUP(1,Tabelle3[],8,0))","v":"xxx xxx xx xx"},null,null,null,null,null,null,null,null,null,null,null,null,null,null,"Ambiente di vita",null,"Data 3",null,null,"cm",null,"Kg",null,"MEDIO/DISCRETO",3]
["SESSO",null,{"$f":"IF(ISBLANK(VLOOKUP(1,Tabelle3[],13,0)),\"-\",VLOOKUP(1,Tabelle3[],13,0))","v":"M"},null,null,null,"PESO",null,"Kg (Finale)","E-Mail",{"$f":"IF(ISBLANK(VLOOKUP(1,Tabelle3[],9,0)),\"-\",VLOOKUP(1,Tabelle3[],9,0))","v":"-"},null,null,null,null,null,null,null,null,null,null,null,null,null,null,null,null,"Data 4",null,null,"cm",null,"Kg",null,"CON LACUNE",2]
[null,null,null,null,null,null,null,null,null,null,null,null,null,null,null,null,null,null,null,null,null,null,null,null,null,null,null,"Data 5",null,null,"cm",null,"Kg",null,"INSUFFICIENTE",1]
["Visione",null,"xxx"]
["Prossimo passo",null,"xxx"]
["Proflio giocatore",null,"xxx"]
[]
["VALUTAZIONI (COACH / GIOCATORE)",null,null,null,null,null,null,null,null,null,null,null,null,null,null,null,null,null,null,null,null,null,null,null,null,"Obiettivi SMART"]
[{"$f":"'Spiegazioni Skills FTEM'!A3","v":"TEAM"},null,null,{"$f":"'Spiegazioni Skills FTEM'!B3","v":"CAPACITÀ"},null,null,{"$f":"'Spiegazioni Skills FTEM'!C3","v":"CRITERIO D'OSSERVAZIONE"},null,null,{"$f":"'Spiegazioni Skills FTEM'!H3","v":0},null,null,"Final","Data1",null,"Data2",null,"Data3",null,"Data4",null,"Data5",null,"Player",null,"OBIETTIVO","PROVVEDIMENTI:\n(SPECIFICI, MISURABILI, REALISTICI)",null,null,null,null,null,null,"TERMINE","COTROLLO DELL'OBIETTIVO","Data"]
[{"$f":"'Spiegazioni Skills FTEM'!A4","v":"SQUADRA"},null,null,{"$f":"IF($H$2=\"G\",'Spiegazioni Skills FTEM'!F4,'Spiegazioni Skills FTEM'!B4)","v":"Comunicazione"},null,null,{"$f":"IF($H$2=\"G\",'Spiegazioni Skills FTEM'!G4,'Spiegazioni Skills FTEM'!C4)","v":"Cura relazioni aperte e rispettose, fiducia quale base comportamentale, affronta i conflitti senza ledere la stabilità del gruppo, comunica con i compagni, gli allenatori e\nfunzionari con i medesimi valori"},null,null,{"$f":"IF($H$2=\"G\",'Spiegazioni Skills FTEM'!#REF!,'Spiegazioni Skills FTEM'!#REF!)","v":{"$error":"#REF!"}},null,null,null,{"$f":"IFERROR(AVERAGE(O13:O17),\"-\")","v":"-"},null,{"$f":"IFERROR(AVERAGE(Q13:Q17),\"-\")","v":"-"},null,{"$f":"IFERROR(AVERAGE(S13:S17),\"-\")","v":"-"},null,{"$f":"IFERROR(AVERAGE(U13:U17),\"-\")","v":"-"},null,{"$f":"IFERROR(AVERAGE(W13:W17),\"-\")","v":"-"},null,{"$f":"IFERROR(AVERAGE(Y13:Y17),\"-\")","v":"-"}]
[{"$f":"'Spiegazioni Skills FTEM'!A5","v":0},null,null,{"$f":"IF($H$2=\"G\",'Spiegazioni Skills FTEM'!F5,'Spiegazioni Skills FTEM'!B5)","v":"Capacità nella squadra"},null,null,{"$f":"IF($H$2=\"G\",'Spiegazioni Skills FTEM'!G5,'Spiegazioni Skills FTEM'!C5)","v":"Integrazione nel gruppo, definisce e realizza obiettivi comuni, NOI prima dell'IO, contribuisce a creare un buon spirito di squadra e clima di lavoro"},null,null,{"$f":"IF($H$2=\"G\",'Spiegazioni Skills FTEM'!#REF!,'Spiegazioni Skills FTEM'!#REF!)","v":{"$error":"#REF!"}}]
[{"$f":"'Spiegazioni Skills FTEM'!A6","v":0},null,null,{"$f":"IF($H$2=\"G\",'Spiegazioni Skills FTEM'!F6,'Spiegazioni Skills FTEM'!B6)","v":"Leadership"},null,null,{"$f":"IF($H$2=\"G\",'Spiegazioni Skills FTEM'!G6,'Spiegazioni Skills FTEM'!C6)","v":"Assume responsabilità nell'ambito del gruppo, cerca di migliorare la squadra e i compagni, influenza positivamente la dinamica di gruppo"},null,null,{"$f":"IF($H$2=\"G\",'Spiegazioni Skills FTEM'!#REF!,'Spiegazioni Skills FTEM'!#REF!)","v":{"$error":"#REF!"}}]
[{"$f":"'Spiegazioni Skills FTEM'!A7","v":0},null,null,{"$f":"IF($H$2=\"G\",'Spiegazioni Skills FTEM'!F7,'Spiegazioni Skills FTEM'!B7)","v":"Ripartizione dei ruoli"},null,null,{"$f":"IF($H$2=\"G\",'Spiegazioni Skills FTEM'!G7,'Spiegazioni Skills FTEM'!C7)","v":"Riconosce e adempie il suo ruolo, è cosciente della sua posizione nel sistema e nella squadra, mette a disposizione della squadra le sue competenze"},null,null,{"$f":"IF($H$2=\"G\",'Spiegazioni Skills FTEM'!#REF!,'Spiegazioni Skills FTEM'!#REF!)","v":{"$error":"#REF!"}}]
[{"$f":"'Spiegazioni Skills FTEM'!A8","v":0},null,null,{"$f":"IF($H$2=\"G\",'Spiegazioni Skills FTEM'!F8,'Spiegazioni Skills FTEM'!B8)","v":"Rispetto"},null,null,{"$f":"IF($H$2=\"G\",'Spiegazioni Skills FTEM'!G8,'Spiegazioni Skills FTEM'!C8)","v":"Relazioni rispettose con i compagni, allenatori, avversari, arbitri e staff; rispetta le regole i pricipi del fairplay (compreso la lotta al doping)"},null,null,{"$f":"IF($H$2=\"G\",'Spiegazioni Skills FTEM'!#REF!,'Spiegazioni Skills FTEM'!#REF!)","v":{"$error":"#REF!"}}]
[{"$f":"'Spiegazioni Skills FTEM'!A9","v":"ON ICE"},null,null,{"$f":"'Spiegazioni Skills FTEM'!B9","v":"CAPACITÀ"},null,null,{"$f":"'Spiegazioni Skills FTEM'!C9","v":"CRITERIO D'OSSERVAZIONE"},null,null,{"$f":"'Spiegazioni Skills FTEM'!H9","v":0},null,null,null,"Data1",null,"Data2",null,"Data3",null,"Data4",null,"Data5",null,"Player",null,"OBIETTIVO","PROVVEDIMENTI:\n(SPECIFICI, MISURABILI, REALISTICI)",null,null,null,null,null,null,"TERMINE","COTROLLO DELL'OBIETTIVO","Date"]
[{"$f":"'Spiegazioni Skills FTEM'!A10","v":"PATTINAGGIO"},null,null,{"$f":"IF($H$2=\"G\",'Spiegazioni Skills FTEM'!F10,'Spiegazioni Skills FTEM'!B10)","v":"Velocità dei piedi"},null,null,{"$f":"IF($H$2=\"G\",'Spiegazioni Skills FTEM'!G10,'Spiegazioni Skills FTEM'!C10)","v":"Accelerazione, partenza, esplosività dei primi 3 passi, frequenza"},null,null,{"$f":"IF($H$2=\"G\",'Spiegazioni Skills FTEM'!#REF!,'Spiegazioni Skills FTEM'!#REF!)","v":{"$error":"#REF!"}},null,null,null,{"$f":"IFERROR(AVERAGE(O19:O23),\"-\")","v":"-"},null,{"$f":"IFERROR(AVERAGE(Q19:Q23),\"-\")","v":"-"},null,{"$f":"IFERROR(AVERAGE(S19:S23),\"-\")","v":"-"},null,{"$f":"IFERROR(AVERAGE(U19:U23),\"-\")","v":"-"},null,{"$f":"IFERROR(AVERAGE(W19:W23),\"-\")","v":"-"},null,{"$f":"IFERROR(AVERAGE(Y19:Y23),\"-\")","v":"-"}]
[{"$f":"'Spiegazioni Skills FTEM'!A11:A11","v":0},null,null,{"$f":"IF($H$2=\"G\",'Spiegazioni Skills FTEM'!F11,'Spiegazioni Skills FTEM'!B11)","v":"Velocità/rapidità"},null,null,{"$f":"IF($H$2=\"G\",'Spiegazioni Skills FTEM'!G11,'Spiegazioni Skills FTEM'!C11)","v":"Velocità, facoltà di scivolare, avanti / indietro, economia dello sforzo"},null,null,{"$f":"IF($H$2=\"G\",'Spiegazioni Skills FTEM'!#REF!,'Spiegazioni Skills FTEM'!#REF!)","v":{"$error":"#REF!"}}]
[null,null,null,{"$f":"IF($H$2=\"G\",'Spiegazioni Skills FTEM'!F12,'Spiegazioni Skills FTEM'!B12)","v":"Agilità"},null,null,{"$f":"IF($H$2=\"G\",'Spiegazioni Skills FTEM'!G12,'Spiegazioni Skills FTEM'!C12)","v":"Cambiamento di direzione, girarsi, stop e ripartenza, \"Nummelin\""},null,null,{"$f":"IF($H$2=\"G\",'Spiegazioni Skills FTEM'!#REF!,'Spiegazioni Skills FTEM'!#REF!)","v":{"$error":"#REF!"}}]
[{"$f":"'Spiegazioni Skills FTEM'!A12:A12","v":0},null,null,{"$f":"IF($H$2=\"G\",'Spiegazioni Skills FTEM'!F13,'Spiegazioni Skills FTEM'!B13)","v":"Equilibrio"},null,null,{"$f":"IF($H$2=\"G\",'Spiegazioni Skills FTEM'!G13,'Spiegazioni Skills FTEM'!C13)","v":"Equilibrio, stabilità, posizione bassa, su una gamba, su entrambe"},null,null,{"$f":"IF($H$2=\"G\",'Spiegazioni Skills FTEM'!#REF!,'Spiegazioni Skills FTEM'!#REF!)","v":{"$error":"#REF!"}},null,null,null,{"$f":"IFERROR(AVERAGE(O22:O23),\"-\")","v":"-"},null,{"$f":"IFERROR(AVERAGE(Q22:Q23),\"-\")","v":"-"},null,{"$f":"IFERROR(AVERAGE(S22:S23),\"-\")","v":"-"},null,{"$f":"IFERROR(AVERAGE(U22:U23),\"-\")","v":"-"},null,{"$f":"IFERROR(AVERAGE(W22:W23),\"-\")","v":"-"},null,"-"]
[{"$f":"'Spiegazioni Skills FTEM'!A14:A14","v":0},null,null,{"$f":"IF($H$2=\"G\",'Spiegazioni Skills FTEM'!F14,'Spiegazioni Skills FTEM'!B14)","v":"Pattinaggio indietro"},null,null,{"$f":"IF($H$2=\"G\",'Spiegazioni Skills FTEM'!G14,'Spiegazioni Skills FTEM'!C14)","v":"Accelerazione, velocità, equilibrio"},null,null,{"$f":"IF($H$2=\"G\",'Spiegazioni Skills FTEM'!#REF!,'Spiegazioni Skills FTEM'!#REF!)","v":{"$error":"#REF!"}}]
[{"$f":"'Spiegazioni Skills FTEM'!A15","v":"ABILITÀ"},null,null,{"$f":"IF($H$2=\"G\",'Spiegazioni Skills FTEM'!F15,'Spiegazioni Skills FTEM'!B15)","v":"Tirare"},null,null,{"$f":"IF($H$2=\"G\",'Spiegazioni Skills FTEM'!G15,'Spiegazioni Skills FTEM'!C15)","v":"Efficienza (poco spazio, poco tempo), ricchezza di varianti, grado di sorpresa (Quick Release), precisione, potenza (conclusioni tattiche)"},null,null,{"$f":"IF($H$2=\"G\",'Spiegazioni Skills FTEM'!#REF!,'Spiegazioni Skills FTEM'!#REF!)","v":{"$error":"#REF!"}},null,null,null,{"$f":"IFERROR(AVERAGE(O24:O29),\"-\")","v":"-"},null,{"$f":"IFERROR(AVERAGE(Q24:Q29),\"-\")","v":"-"},null,{"$f":"IFERROR(AVERAGE(S24:S29),\"-\")","v":"-"},null,{"$f":"IFERROR(AVERAGE(U24:U29),\"-\")","v":"-"},null,{"$f":"IFERROR(AVERAGE(W24:W29),\"-\")","v":"-"},null,{"$f":"IFERROR(AVERAGE(Y24:Y29),\"-\")","v":"-"}]
[null,null,null,{"$f":"IF($H$2=\"G\",'Spiegazioni Skills FTEM'!F16,'Spiegazioni Skills FTEM'!B16)","v":"Passare"},null,null,{"$f":"IF($H$2=\"G\",'Spiegazioni Skills FTEM'!G16,'Spiegazioni Skills FTEM'!C16)","v":"Passaggio (distanza, flipp, rovescio), ricezione del passaggio (precisione, timing, diritto, rovescio, sul pattino), velocità del disco"},null,null,{"$f":"IF($H$2=\"G\",'Spiegazioni Skills FTEM'!#REF!,'Spiegazioni Skills FTEM'!#REF!)","v":{"$error":"#REF!"}}]
[null,null,null,{"$f":"IF($H$2=\"G\",'Spiegazioni Skills FTEM'!F17,'Spiegazioni Skills FTEM'!B17)","v":"Lavoro col bastone - condotta del disco"},null,null,{"$f":"IF($H$2=\"G\",'Spiegazioni Skills FTEM'!G17,'Spiegazioni Skills FTEM'!C17)","v":"Bastone sul disco, intercettare le linee di passaggio, deviare, controllo del bastone avversario"},null,null,{"$f":"IF($H$2=\"G\",'Spiegazioni Skills FTEM'!#REF!,'Spiegazioni Skills FTEM'!#REF!)","v":{"$error":"#REF!"}}]
[{"$f":"'Spiegazioni Skills FTEM'!A16:A16","v":0},null,null,{"$f":"IF($H$2=\"G\",'Spiegazioni Skills FTEM'!F18,'Spiegazioni Skills FTEM'!B18)","v":"Possedere/proteggere il disco"},null,null,{"$f":"IF($H$2=\"G\",'Spiegazioni Skills FTEM'!G18,'Spiegazioni Skills FTEM'!C18)","v":"Controllo del disco, dribbling, protezione del disco, finte (varianti col pattino, con o senza la balaustra), ingaggi (face-off)"},null,null,{"$f":"IF($H$2=\"G\",'Spiegazioni Skills FTEM'!#REF!,'Spiegazioni Skills FTEM'!#REF!)","v":{"$error":"#REF!"}}]
[{"$f":"'Spiegazioni Skills FTEM'!A17:A17","v":0},null,null,{"$f":"IF($H$2=\"G\",'Spiegazioni Skills FTEM'!F19,'Spiegazioni Skills FTEM'!B19)","v":"Gioco del corpo"},null,null,{"$f":"IF($H$2=\"G\",'Spiegazioni Skills FTEM'!G19,'Spiegazioni Skills FTEM'!C19)","v":"Facoltà di imporsi fisicamente, duelli (ghiaccio aperto, balaustra), subire dei checks/testa alta, livello di lotta, duro ma corretto, blocco dei tiri con il corpo"},null,null,{"$f":"IF($H$2=\"G\",'Spiegazioni Skills FTEM'!#REF!,'Spiegazioni Skills FTEM'!#REF!)","v":{"$error":"#REF!"}}]
[{"$f":"'Spiegazioni Skills FTEM'!A20:A20","v":0},null,null,{"$f":"IF($H$2=\"G\",'Spiegazioni Skills FTEM'!F20,'Spiegazioni Skills FTEM'!B20)","v":"-"},null,null,{"$f":"IF($H$2=\"G\",'Spiegazioni Skills FTEM'!G20,'Spiegazioni Skills FTEM'!C20)","v":"-"},null,null,{"$f":"IF($H$2=\"G\",'Spiegazioni Skills FTEM'!#REF!,'Spiegazioni Skills FTEM'!#REF!)","v":{"$error":"#REF!"}}]
[{"$f":"'Spiegazioni Skills FTEM'!A21","v":"SENSO DELL'HOCKEY"},null,null,{"$f":"IF($H$2=\"G\",'Spiegazioni Skills FTEM'!F21,'Spiegazioni Skills FTEM'!B21)","v":"Intelligenza nel gioco"},null,null,{"$f":"IF($H$2=\"G\",'Spiegazioni Skills FTEM'!G21,'Spiegazioni Skills FTEM'!C21)","v":"Vedere spazi e giocatori liberi, creare situazioni di superiorità numerica, agire cercando soluzioni in tutte le situazioni, velocità di visualizzazione"},null,null,{"$f":"IF($H$2=\"G\",'Spiegazioni Skills FTEM'!#REF!,'Spiegazioni Skills FTEM'!#REF!)","v":{"$error":"#REF!"}},null,null,null,{"$f":"IFERROR(AVERAGE(O30:O34),\"-\")","v":"-"},null,{"$f":"IFERROR(AVERAGE(Q30:Q34),\"-\")","v":"-"},null,{"$f":"IFERROR(AVERAGE(S30:S34),\"-\")","v":"-"},null,{"$f":"IFERROR(AVERAGE(U30:U34),\"-\")","v":"-"},null,{"$f":"IFERROR(AVERAGE(W30:W34),\"-\")","v":"-"},null,{"$f":"IFERROR(AVERAGE(Y30:Y34),\"-\")","v":"-"}]
[{"$f":"'Spiegazioni Skills FTEM'!A22:A22","v":0},null,null,{"$f":"IF($H$2=\"G\",'Spiegazioni Skills FTEM'!F22,'Spiegazioni Skills FTEM'!B22)","v":"Sensibilità offensiva"},null,null,{"$f":"IF($H$2=\"G\",'Spiegazioni Skills FTEM'!G22,'Spiegazioni Skills FTEM'!C22)","v":"Smarcarsi, anticipare le situazioni di gioco, aprire spazi liberi per i compagni, piazzarsi per le conclusioni, velocità nel chiudere gli spazi (pressione), comunicazione"},null,null,{"$f":"IF($H$2=\"G\",'Spiegazioni Skills FTEM'!#REF!,'Spiegazioni Skills FTEM'!#REF!)","v":{"$error":"#REF!"}}]
[null,null,null,{"$f":"IF($H$2=\"G\",'Spiegazioni Skills FTEM'!F23,'Spiegazioni Skills FTEM'!B23)","v":"Sensibilità difensiva"},null,null,{"$f":"IF($H$2=\"G\",'Spiegazioni Skills FTEM'!G23,'Spiegazioni Skills FTEM'!C23)","v":"Mantenere la posizione difensiva, protezione dello slot, assicurare i compagni / supporto, individuare le linee di passaggio, bloccare i tiri, ridurre velocemente gli spazi, comunicazione"},null,null,{"$f":"IF($H$2=\"G\",'Spiegazioni Skills FTEM'!#REF!,'Spiegazioni Skills FTEM'!#REF!)","v":{"$error":"#REF!"}}]
[{"$f":"'Spiegazioni Skills FTEM'!A24:A24","v":0},null,null,{"$f":"IF($H$2=\"G\",'Spiegazioni Skills FTEM'!F24,'Spiegazioni Skills FTEM'!B24)","v":"Gestione del disco"},null,null,{"$f":"IF($H$2=\"G\",'Spiegazioni Skills FTEM'!G24,'Spiegazioni Skills FTEM'!C24)","v":"Prendere decisioni adeguate nelle situazioni di gioco, supporto, creare superiorità numerica"},null,null,{"$f":"IF($H$2=\"G\",'Spiegazioni Skills FTEM'!#REF!,'Spiegazioni Skills FTEM'!#REF!)","v":{"$error":"#REF!"}}]
[{"$f":"'Spiegazioni Skills FTEM'!A25:A25","v":0},null,null,{"$f":"IF($H$2=\"G\",'Spiegazioni Skills FTEM'!F25,'Spiegazioni Skills FTEM'!B25)","v":"Creatività"},null,null,{"$f":"IF($H$2=\"G\",'Spiegazioni Skills FTEM'!G25,'Spiegazioni Skills FTEM'!C25)","v":"Creare situazioni a sorpresa, fiuto del gol"},null,null,{"$f":"IF($H$2=\"G\",'Spiegazioni Skills FTEM'!#REF!,'Spiegazioni Skills FTEM'!#REF!)","v":{"$error":"#REF!"}}]
[{"$f":"'Spiegazioni Skills FTEM'!A26","v":"PERSONALITY"},null,null,{"$f":"'Spiegazioni Skills FTEM'!B26","v":"CAPACITÀ"},null,null,{"$f":"'Spiegazioni Skills FTEM'!C26","v":"CRITERIO D'OSSERVAZIONE"},null,null,{"$f":"'Spiegazioni Skills FTEM'!H26","v":0},null,null,null,"Data1",null,"Data2",null,"Data3",null,"Data4",null,"Data5",null,"Player",null,"OBIETTIVO","PROVVEDIMENTI:\n(SPECIFICI, MISURABILI, REALISTICI)",null,null,null,null,null,null,"TERMINE","COTROLLO DELL'OBIETTIVO","Date"]
[{"$f":"'Spiegazioni Skills FTEM'!A27","v":"PERSONALITÀ"},null,null,{"$f":"IF($H$2=\"G\",'Spiegazioni Skills FTEM'!F27,'Spiegazioni Skills FTEM'!B27)","v":"Fiducia in se stesso"},null,null,{"$f":"IF($H$2=\"G\",'Spiegazioni Skills FTEM'!G27,'Spiegazioni Skills FTEM'!C27)","v":"Possiede la necessaria fiducia in se stesso, «I can do it»-attitudine, sa valutare le proprie capacità (conosce i propri punti forti e deboli), può realizzare le proprie qualità con\ncostanza, è coraggioso e sa prendere dei rischi calcolati"},null,null,{"$f":"IF($H$2=\"G\",'Spiegazioni Skills FTEM'!#REF!,'Spiegazioni Skills FTEM'!#REF!)","v":{"$error":"#REF!"}},null,null,null,{"$f":"IFERROR(AVERAGE(O36:O40),\"-\")","v":"-"},null,{"$f":"IFERROR(AVERAGE(Q36:Q40),\"-\")","v":"-"},null,{"$f":"IFERROR(AVERAGE(S36:S40),\"-\")","v":"-"},null,{"$f":"IFERROR(AVERAGE(U36:U40),\"-\")","v":"-"},null,{"$f":"IFERROR(AVERAGE(W36:W40),\"-\")","v":"-"},null,{"$f":"IFERROR(AVERAGE(Y36:Y40),\"-\")","v":"-"}]
[{"$f":"'Spiegazioni Skills FTEM'!A28:A28","v":0},null,null,{"$f":"IF($H$2=\"G\",'Spiegazioni Skills FTEM'!F28,'Spiegazioni Skills FTEM'!B28)","v":"Capacità d'apprendimento"},null,null,{"$f":"IF($H$2=\"G\",'Spiegazioni Skills FTEM'!G28,'Spiegazioni Skills FTEM'!C28)","v":"Ha una buona capacità d'apprendimento (sa recepire e realizzare), possiede una personalità, cerca di imparare dai propri errori derivandone delle misure"},null,null,{"$f":"IF($H$2=\"G\",'Spiegazioni Skills FTEM'!#REF!,'Spiegazioni Skills FTEM'!#REF!)","v":{"$error":"#REF!"}}]
[null,null,null,{"$f":"IF($H$2=\"G\",'Spiegazioni Skills FTEM'!F29,'Spiegazioni Skills FTEM'!B29)","v":"Senso di responsabilità"},null,null,{"$f":"IF($H$2=\"G\",'Spiegazioni Skills FTEM'!G29,'Spiegazioni Skills FTEM'!C29)","v":"Assume responsabiltà per le proprie prestazioni e sviluppo, agisce autonomamente, cura i dettagli, mostra un grande impegno in tutti i settori"},null,null,{"$f":"IF($H$2=\"G\",'Spiegazioni Skills FTEM'!#REF!,'Spiegazioni Skills FTEM'!#REF!)","v":{"$error":"#REF!"}}]
[{"$f":"'Spiegazioni Skills FTEM'!A30:A30","v":0},null,null,{"$f":"IF($H$2=\"G\",'Spiegazioni Skills FTEM'!F30,'Spiegazioni Skills FTEM'!B30)","v":"Motivazione"},null,null,{"$f":"IF($H$2=\"G\",'Spiegazioni Skills FTEM'!G30,'Spiegazioni Skills FTEM'!C30)","v":"È sempre motivato, vuole sempre svilupparsi e imparare, vuol essere il primo e avere successo, non rinuncia mai e non si lascia influenzare dagli insuccessi"},null,null,{"$f":"IF($H$2=\"G\",'Spiegazioni Skills FTEM'!#REF!,'Spiegazioni Skills FTEM'!#REF!)","v":{"$error":"#REF!"}}]
[{"$f":"'Spiegazioni Skills FTEM'!A31:A31","v":0},null,null,{"$f":"IF($H$2=\"G\",'Spiegazioni Skills FTEM'!F31,'Spiegazioni Skills FTEM'!B31)","v":"Prestazione Stile di vita"},null,null,{"$f":"IF($H$2=\"G\",'Spiegazioni Skills FTEM'!G31,'Spiegazioni Skills FTEM'!C31)","v":"Gestisce bene la quotidianità il suo ambiente seguendo i principi della prestazione, caparbio, perseverante e finalizzato sugli obiettivi, focus sulla propria prestazione, coraggioso e grintoso, sa imporsi nei confronti delle resistenze, le sfide lo motivano"},null,null,{"$f":"IF($H$2=\"G\",'Spiegazioni Skills FTEM'!#REF!,'Spiegazioni Skills FTEM'!#REF!)","v":{"$error":"#REF!"}}]
[{"$f":"'Spiegazioni Skills FTEM'!A32","v":"FORZA MENTALE"},null,null,{"$f":"IF($H$2=\"G\",'Spiegazioni Skills FTEM'!F32,'Spiegazioni Skills FTEM'!B32)","v":"Impegno"},null,null,{"$f":"IF($H$2=\"G\",'Spiegazioni Skills FTEM'!G32,'Spiegazioni Skills FTEM'!C32)","v":"Mostra molta intensità negli allenamenti e nelle partite, dà sempre il massimo e vuole sempre spronare i propri limiti, mostra passione, si sforza ad alzare la qualità negli allenamenti"},null,null,{"$f":"IF($H$2=\"G\",'Spiegazioni Skills FTEM'!#REF!,'Spiegazioni Skills FTEM'!#REF!)","v":{"$error":"#REF!"}},null,null,null,{"$f":"IFERROR(AVERAGE(O41:O45),\"-\")","v":"-"},null,{"$f":"IFERROR(AVERAGE(Q41:Q45),\"-\")","v":"-"},null,{"$f":"IFERROR(AVERAGE(S41:S45),\"-\")","v":"-"},null,{"$f":"IFERROR(AVERAGE(U41:U45),\"-\")","v":"-"},null,{"$f":"IFERROR(AVERAGE(W41:W45),\"-\")","v":"-"},null,{"$f":"IFERROR(AVERAGE(Y41:Y45),\"-\")","v":"-"}]
[null,null,null,{"$f":"IF($H$2=\"G\",'Spiegazioni Skills FTEM'!F33,'Spiegazioni Skills FTEM'!B33)","v":"Preparazione"},null,null,{"$f":"IF($H$2=\"G\",'Spiegazioni Skills FTEM'!G33,'Spiegazioni Skills FTEM'!C33)","v":"Preparazione consapevole e finalizzata, mentalmente e fisicamente, possiede un efficiente approccio per l'ottenimento dell'ideale stato di prestazione (ILZ/ISP)"},null,null,{"$f":"IF($H$2=\"G\",'Spiegazioni Skills FTEM'!#REF!,'Spiegazioni Skills FTEM'!#REF!)","v":{"$error":"#REF!"}}]
[{"$f":"'Spiegazioni Skills FTEM'!A34:A34","v":0},null,null,{"$f":"IF($H$2=\"G\",'Spiegazioni Skills FTEM'!F34,'Spiegazioni Skills FTEM'!B34)","v":"Coaching individuale"},null,null,{"$f":"IF($H$2=\"G\",'Spiegazioni Skills FTEM'!G34,'Spiegazioni Skills FTEM'!C34)","v":"Possiede una buona capacità di concentrazione, può mantenere il suo ILZ/ISP durante la partita e l'allenamento, può utilizzare tecniche di base per rafforzare il mentale, resistenti contro pensieri e influenze negative, è consapevole del proprio linguaggio del corpo che è in grado di padroneggiare"},null,null,{"$f":"IF($H$2=\"G\",'Spiegazioni Skills FTEM'!#REF!,'Spiegazioni Skills FTEM'!#REF!)","v":{"$error":"#REF!"}}]
[{"$f":"'Spiegazioni Skills FTEM'!A35:A35","v":0},null,null,{"$f":"IF($H$2=\"G\",'Spiegazioni Skills FTEM'!F35,'Spiegazioni Skills FTEM'!B35)","v":"Gestione delle energie"},null,null,{"$f":"IF($H$2=\"G\",'Spiegazioni Skills FTEM'!G35,'Spiegazioni Skills FTEM'!C35)","v":"Può gestire le proprie energie, cura la rigenerazione, può gestire i momenti in cui si deve andare al massimo oppure risparmiarsi, interruttore on/off"},null,null,{"$f":"IF($H$2=\"G\",'Spiegazioni Skills FTEM'!#REF!,'Spiegazioni Skills FTEM'!#REF!)","v":{"$error":"#REF!"}}]
[{"$f":"'Spiegazioni Skills FTEM'!A36:A36","v":0},null,null,{"$f":"IF($H$2=\"G\",'Spiegazioni Skills FTEM'!F36,'Spiegazioni Skills FTEM'!B36)","v":"Controllo delle emozioni"},null,null,{"$f":"IF($H$2=\"G\",'Spiegazioni Skills FTEM'!G36,'Spiegazioni Skills FTEM'!C36)","v":"Può regolare le proprie emozioni e impulsi, mantiene il controllo quando si trova sotto pressione, sa anche agire adeguatamente in situazioni emotive o frustranti"},null,null,{"$f":"IF($H$2=\"G\",'Spiegazioni Skills FTEM'!#REF!,'Spiegazioni Skills FTEM'!#REF!)","v":{"$error":"#REF!"}}]
[{"$f":"'Spiegazioni Skills FTEM'!A37","v":"FISICO"},null,null,{"$f":"IF($H$2=\"G\",'Spiegazioni Skills FTEM'!F37,'Spiegazioni Skills FTEM'!B37)","v":"Produzione di prestazione"},null,null,{"$f":"IF($H$2=\"G\",'Spiegazioni Skills FTEM'!G37,'Spiegazioni Skills FTEM'!C37)","v":"Possiede nelle gambe e nella parte alta del corpo la necessaria potenza/forza/velocità (fattori neuromuscolari)"},null,null,{"$f":"IF($H$2=\"G\",'Spiegazioni Skills FTEM'!#REF!,'Spiegazioni Skills FTEM'!#REF!)","v":{"$error":"#REF!"}},null,null,null,{"$f":"IFERROR(AVERAGE(O46:O50),\"-\")","v":"-"},null,{"$f":"IFERROR(AVERAGE(Q46:Q50),\"-\")","v":"-"},null,{"$f":"IFERROR(AVERAGE(S46:S50),\"-\")","v":"-"},null,{"$f":"IFERROR(AVERAGE(U46:U50),\"-\")","v":"-"},null,{"$f":"IFERROR(AVERAGE(W46:W50),\"-\")","v":"-"},null,{"$f":"IFERROR(AVERAGE(Y46:Y50),\"-\")","v":"-"}]
[null,null,null,{"$f":"IF($H$2=\"G\",'Spiegazioni Skills FTEM'!F38,'Spiegazioni Skills FTEM'!B38)","v":"Resistenza specifica alla fatica"},null,null,{"$f":"IF($H$2=\"G\",'Spiegazioni Skills FTEM'!G38,'Spiegazioni Skills FTEM'!C38)","v":"È capace di mantenere a lungo nell'ambito di un impiego la potenza/forza/velocità ed è capace di recuperare completamente attraverso i vari impieghi sul ghiaccio (fattori metabolici e cardiovascolari)"},null,null,{"$f":"IF($H$2=\"G\",'Spiegazioni Skills FTEM'!#REF!,'Spiegazioni Skills FTEM'!#REF!)","v":{"$error":"#REF!"}}]
[{"$f":"'Spiegazioni Skills FTEM'!A39:A39","v":0},null,null,{"$f":"IF($H$2=\"G\",'Spiegazioni Skills FTEM'!F39,'Spiegazioni Skills FTEM'!B39)","v":"Salute / prevenzione"},null,null,{"$f":"IF($H$2=\"G\",'Spiegazioni Skills FTEM'!G39,'Spiegazioni Skills FTEM'!C39)","v":"Possiede la necessaria stabilità (stabilità delle gambe) e mobilità delle articolazioni centrali"},null,null,{"$f":"IF($H$2=\"G\",'Spiegazioni Skills FTEM'!#REF!,'Spiegazioni Skills FTEM'!#REF!)","v":{"$error":"#REF!"}}]
[{"$f":"'Spiegazioni Skills FTEM'!A40:A40","v":0},null,null,{"$f":"IF($H$2=\"G\",'Spiegazioni Skills FTEM'!F40,'Spiegazioni Skills FTEM'!B40)","v":"Competenze della mobilità"},null,null,{"$f":"IF($H$2=\"G\",'Spiegazioni Skills FTEM'!G40,'Spiegazioni Skills FTEM'!C40)","v":"Padroneggia le basilari capacità di movimento che garantiscono in modo determinante le abilità specifiche \"skills\", come pure l'efficacia dei movimenti"},null,null,{"$f":"IF($H$2=\"G\",'Spiegazioni Skills FTEM'!#REF!,'Spiegazioni Skills FTEM'!#REF!)","v":{"$error":"#REF!"}}]
[{"$f":"'Spiegazioni Skills FTEM'!A41:A41","v":0},null,null,{"$f":"IF($H$2=\"G\",'Spiegazioni Skills FTEM'!F41,'Spiegazioni Skills FTEM'!B41)","v":"Robustezza"},null,null,{"$f":"IF($H$2=\"G\",'Spiegazioni Skills FTEM'!G41,'Spiegazioni Skills FTEM'!C41)","v":"Possiede la necessaria forza di base (tensione del corpo) per vincere i duelli e resistere alle cariche"},null,null,{"$f":"IF($H$2=\"G\",'Spiegazioni Skills FTEM'!#REF!,'Spiegazioni Skills FTEM'!#REF!)","v":{"$error":"#REF!"}}]

{"sheet":"2","index":5,"n_rows":50,"n_cols":36,"rows_kept":50,"cut":false,"hidden":false,"merged":[[45,34,49,34],[45,12,49,12],[45,13,49,13],[45,15,49,15],[45,17,49,17],[45,19,49,19],[45,21,49,21],[45,23,49,23],[45,25,49,25],[45,26,49,32],[45,0,49,2],[45,3,45,5],[45,6,45,11],[46,3,46,5],[46,6,46,11],[48,3,48,5],[48,6,48,11],[49,3,49,5],[49,6,49,11],[47,3,47,5],[47,6,47,11],[40,0,44,2],[40,3,40,5],[40,6,40,11],[40,12,44,12],[40,13,44,13],[40,15,44,15],[37,3,37,5],[37,6,37,11],[38,3,38,5],[38,6,38,11],[43,3,43,5],[43,6,43,11],[40,17,44,17],[40,19,44,19],[40,21,44,21],[40,23,44,23],[42,3,42,5],[42,6,42,11],[44,3,44,5],[44,6,44,11],[34,23,34,24],[35,23,39,23],[41,3,41,5],[41,6,41,11],[34,0,34,2],[34,3,34,5],[34,6,34,11],[34,13,34,14],[34,15,34,16],[34,17,34,18],[34,19,34,20],[34,21,34,22],[35,17,39,17],[35,19,39,19],[35,21,39,21],[35,0,39,2],[35,3,35,5],[35,6,35,11],[35,12,39,12],[35,13,39,13],[35,15,39,15],[39,3,39,5],[39,6,39,11],[36,3,36,5],[36,6,36,11],[23,19,28,19],[23,21,28,21],[23,23,28,23],[26,3,26,5],[26,6,26,11],[28,3,28,5],[28,6,28,11],[33,3,33,5],[33,6,33,11],[29,23,33,23],[29,17,33,17],[29,19,33,19],[29,21,33,21],[31,3,31,5],[31,6,31,11],[32,3,32,5],[32,6,32,11],[29,3,29,5],[29,6,29,11],[29,12,33,12],[27,3,27,5],[27,6,27,11],[23,0,28,2],[23,3,23,5],[23,6,23,11],[23,12,28,12],[23,13,28,13],[23,15,28,15],[23,17,28,17],[29,13,33,13],[29,15,33,15],[29,0,33,2],[30,3,30,5],[30,6,30,11],[18,0,22,2],[18,3,18,5],[18,6,18,11],[18,12,22,12],[18,13,22,13],[19,3,19,5],[19,6,19,11],[21,3,21,5],[21,6,21,11],[18,15,22,15],[18,17,22,17],[18,19,22,19],[18,21,22,21],[18,23,22,23],[22,3,22,5],[22,6,22,11],[18,25,22,25],[18,26,22,32],[12,23,16,23],[16,3,16,5],[16,6,16,11],[17,0,17,2],[17,3,17,5],[17,6,17,11],[17,13,17,14],[17,15,17,16],[17,17,17,18],[17,19,17,20],[17,21,17,22],[17,23,17,24],[12,0,16,2],[12,3,12,5],[12,6,12,11],[12,12,16,12],[12,13,16,13],[12,15,16,15],[12,17,16,17],[12,19,16,19],[12,21,16,21],[13,3,13,5],[13,6,13,11],[14,3,14,5],[10,0,10,24],[10,25,10,35],[11,0,11,2],[11,3,11,5],[11,13,11,14],[11,15,11,16],[11,17,11,18],[11,19,11,20],[11,21,11,22],[11,23,11,24],[11,26,11,32],[11,6,11,11],[7,0,7,1],[7,2,7,35],[8,0,8,1],[8,2,8,35],[3,0,3,1],[3,10,3,24],[4,0,4,1],[4,2,4,5],[4,10,4,24],[1,10,1,24],[2,0,2,1],[2,2,2,5],[2,11,2,24],[6,0,6,1],[6,2,6,35],[0,0,0,24],[0,25,0,26],[0,27,0,32],[0,33,0,35],[1,0,1,1],[1,2,1,5],[35,34,39,34],[40,25,44,25],[40,26,44,32],[40,34,44,34],[12,25,16,25],[12,26,16,32],[12,34,16,34],[18,34,22,34],[23,25,28,25],[23,26,28,32],[23,34,28,34],[29,25,33,25],[29,26,33,32],[29,34,33,34],[17,26,17,32],[34,26,34,32],[35,25,39,25],[35,26,39,32],[14,6,14,11],[15,3,15,5],[15,6,15,11],[20,3,20,5],[20,6,20,11],[24,3,24,5],[24,6,24,11],[25,3,25,5],[25,6,25,11]]}
["Personalien",null,null,null,null,null,null,null,null,null,null,null,null,null,null,null,null,null,null,null,null,null,null,null,null,"Predisposizione",null,"Valutazioni",null,null,null,null,null,"Rating"]
["COGNOME",null,{"$f":"IF(ISBLANK(VLOOKUP(2,Tabelle3[],3,0)),\"-\",VLOOKUP(2,Tabelle3[],3,0))","v":"-"},null,null,null,"POSIZIONE",null,null,"INDIRIZZO",{"$f":"IF(ISBLANK(VLOOKUP(2,Tabelle3[],5,0)),\"-\",VLOOKUP(2,Tabelle3[],5,0))","v":"-"},null,null,null,null,null,null,null,null,null,null,null,null,null,null,"Età\" (biologica/età relativa)",null,"Data 1",null,null,"cm",null,"Kg",null,"ECCELLENTE",5]
["NOME",null,{"$f":"IF(ISBLANK(VLOOKUP(2,Tabelle3[],2,0)),\"-\",VLOOKUP(2,Tabelle3[],2,0))","v":"-"},null,null,null,"BASTONE",null,null,"LUOGO",{"$f":"IF(ISBLANK(VLOOKUP(2,Tabelle3[],7,0)),\"-\",VLOOKUP(2,Tabelle3[],7,0))","v":"-"},{"$f":"IF(ISBLANK(VLOOKUP(2,Tabelle3[],6,0)),\"-\",VLOOKUP(2,Tabelle3[],6,0))","v":"-"},null,null,null,null,null,null,null,null,null,null,null,null,null,"Predisposizione",null,"Data 2",null,null,"cm",null,"Kg",null,"BUONO",4]
["DATA DI NASC.",null,{"$f":"IF(ISBLANK(VLOOKUP(2,Tabelle3[],14,0)),\"-\",VLOOKUP(2,Tabelle3[],14,0))","v":"-"},{"$f":"IF(ISBLANK(VLOOKUP(2,Tabelle3[],15,0)),\"-\",VLOOKUP(2,Tabelle3[],15,0))","v":"-"},{"$f":"IF(ISBLANK(VLOOKUP(2,Tabelle3[],16,0)),\"-\",VLOOKUP(2,Tabelle3[],16,0))","v":"-"},null,"ALTEZZA",null,"cm (Finale)","TELEFONO",{"$f":"IF(ISBLANK(VLOOKUP(2,Tabelle3[],8,0)),\"-\",VLOOKUP(2,Tabelle3[],8,0))","v":"-"},null,null,null,null,null,null,null,null,null,null,null,null,null,null,"Ambiente di vita",null,"Data 3",null,null,"cm",null,"Kg",null,"MEDIO/DISCRETO",3]
["SESSO",null,{"$f":"IF(ISBLANK(VLOOKUP(2,Tabelle3[],13,0)),\"-\",VLOOKUP(2,Tabelle3[],13,0))","v":"-"},null,null,null,"PESO",null,"Kg (Finale)","E-Mail",{"$f":"IF(ISBLANK(VLOOKUP(2,Tabelle3[],9,0)),\"-\",VLOOKUP(2,Tabelle3[],9,0))","v":"-"},null,null,null,null,null,null,null,null,null,null,null,null,null,null,null,null,"Data 4",null,null,"cm",null,"Kg",null,"CON LACUNE",2]
[null,null,null,null,null,null,null,null,null,null,null,null,null,null,null,null,null,null,null,null,null,null,null,null,null,null,null,"Data 5",null,null,"cm",null,"Kg",null,"INSUFFICIENTE",1]
["Visione",null,"xxx"]
["Prossimo passo",null,"xxx"]
["Proflio giocatore",null,"xxx"]
[]
["VALUTAZIONI (COACH / GIOCATORE)",null,null,null,null,null,null,null,null,null,null,null,null,null,null,null,null,null,null,null,null,null,null,null,null,"Obiettivi SMART"]
[{"$f":"'Spiegazioni Skills FTEM'!A3","v":"TEAM"},null,null,{"$f":"'Spiegazioni Skills FTEM'!B3","v":"CAPACITÀ"},null,null,{"$f":"'Spiegazioni Skills FTEM'!C3","v":"CRITERIO D'OSSERVAZIONE"},null,null,{"$f":"'Spiegazioni Skills FTEM'!H3","v":0},null,null,"Final","Data1",null,"Data2",null,"Data3",null,"Data4",null,"Data5",null,"Player",null,"OBIETTIVO","PROVVEDIMENTI:\n(SPECIFICI, MISURABILI, REALISTICI)",null,null,null,null,null,null,"TERMINE","COTROLLO DELL'OBIETTIVO","Data"]
[{"$f":"'Spiegazioni Skills FTEM'!A4","v":"SQUADRA"},null,null,{"$f":"IF($H$2=\"G\",'Spiegazioni Skills FTEM'!F4,'Spiegazioni Skills FTEM'!B4)","v":"Comunicazione"},null,null,{"$f":"IF($H$2=\"G\",'Spiegazioni Skills FTEM'!G4,'Spiegazioni Skills FTEM'!C4)","v":"Cura relazioni aperte e rispettose, fiducia quale base comportamentale, affronta i conflitti senza ledere la stabilità del gruppo, comunica con i compagni, gli allenatori e\nfunzionari con i medesimi valori"},null,null,{"$f":"IF($H$2=\"G\",'Spiegazioni Skills FTEM'!#REF!,'Spiegazioni Skills FTEM'!#REF!)","v":{"$error":"#REF!"}},null,null,null,{"$f":"IFERROR(AVERAGE(O13:O17),\"-\")","v":"-"},null,{"$f":"IFERROR(AVERAGE(Q13:Q17),\"-\")","v":"-"},null,{"$f":"IFERROR(AVERAGE(S13:S17),\"-\")","v":"-"},null,{"$f":"IFERROR(AVERAGE(U13:U17),\"-\")","v":"-"},null,{"$f":"IFERROR(AVERAGE(W13:W17),\"-\")","v":"-"},null,{"$f":"IFERROR(AVERAGE(Y13:Y17),\"-\")","v":"-"}]
[{"$f":"'Spiegazioni Skills FTEM'!A5","v":0},null,null,{"$f":"IF($H$2=\"G\",'Spiegazioni Skills FTEM'!F5,'Spiegazioni Skills FTEM'!B5)","v":"Capacità nella squadra"},null,null,{"$f":"IF($H$2=\"G\",'Spiegazioni Skills FTEM'!G5,'Spiegazioni Skills FTEM'!C5)","v":"Integrazione nel gruppo, definisce e realizza obiettivi comuni, NOI prima dell'IO, contribuisce a creare un buon spirito di squadra e clima di lavoro"},null,null,{"$f":"IF($H$2=\"G\",'Spiegazioni Skills FTEM'!#REF!,'Spiegazioni Skills FTEM'!#REF!)","v":{"$error":"#REF!"}}]
[{"$f":"'Spiegazioni Skills FTEM'!A6","v":0},null,null,{"$f":"IF($H$2=\"G\",'Spiegazioni Skills FTEM'!F6,'Spiegazioni Skills FTEM'!B6)","v":"Leadership"},null,null,{"$f":"IF($H$2=\"G\",'Spiegazioni Skills FTEM'!G6,'Spiegazioni Skills FTEM'!C6)","v":"Assume responsabilità nell'ambito del gruppo, cerca di migliorare la squadra e i compagni, influenza positivamente la dinamica di gruppo"},null,null,{"$f":"IF($H$2=\"G\",'Spiegazioni Skills FTEM'!#REF!,'Spiegazioni Skills FTEM'!#REF!)","v":{"$error":"#REF!"}}]
[{"$f":"'Spiegazioni Skills FTEM'!A7","v":0},null,null,{"$f":"IF($H$2=\"G\",'Spiegazioni Skills FTEM'!F7,'Spiegazioni Skills FTEM'!B7)","v":"Ripartizione dei ruoli"},null,null,{"$f":"IF($H$2=\"G\",'Spiegazioni Skills FTEM'!G7,'Spiegazioni Skills FTEM'!C7)","v":"Riconosce e adempie il suo ruolo, è cosciente della sua posizione nel sistema e nella squadra, mette a disposizione della squadra le sue competenze"},null,null,{"$f":"IF($H$2=\"G\",'Spiegazioni Skills FTEM'!#REF!,'Spiegazioni Skills FTEM'!#REF!)","v":{"$error":"#REF!"}}]
[{"$f":"'Spiegazioni Skills FTEM'!A8","v":0},null,null,{"$f":"IF($H$2=\"G\",'Spiegazioni Skills FTEM'!F8,'Spiegazioni Skills FTEM'!B8)","v":"Rispetto"},null,null,{"$f":"IF($H$2=\"G\",'Spiegazioni Skills FTEM'!G8,'Spiegazioni Skills FTEM'!C8)","v":"Relazioni rispettose con i compagni, allenatori, avversari, arbitri e staff; rispetta le regole i pricipi del fairplay (compreso la lotta al doping)"},null,null,{"$f":"IF($H$2=\"G\",'Spiegazioni Skills FTEM'!#REF!,'Spiegazioni Skills FTEM'!#REF!)","v":{"$error":"#REF!"}}]
[{"$f":"'Spiegazioni Skills FTEM'!A9","v":"ON ICE"},null,null,{"$f":"'Spiegazioni Skills FTEM'!B9","v":"CAPACITÀ"},null,null,{"$f":"'Spiegazioni Skills FTEM'!C9","v":"CRITERIO D'OSSERVAZIONE"},null,null,{"$f":"'Spiegazioni Skills FTEM'!H9","v":0},null,null,null,"Data1",null,"Data2",null,"Data3",null,"Data4",null,"Data5",null,"Player",null,"OBIETTIVO","PROVVEDIMENTI:\n(SPECIFICI, MISURABILI, REALISTICI)",null,null,null,null,null,null,"TERMINE","COTROLLO DELL'OBIETTIVO","Date"]
[{"$f":"'Spiegazioni Skills FTEM'!A10","v":"PATTINAGGIO"},null,null,{"$f":"IF($H$2=\"G\",'Spiegazioni Skills FTEM'!F10,'Spiegazioni Skills FTEM'!B10)","v":"Velocità dei piedi"},null,null,{"$f":"IF($H$2=\"G\",'Spiegazioni Skills FTEM'!G10,'Spiegazioni Skills FTEM'!C10)","v":"Accelerazione, partenza, esplosività dei primi 3 passi, frequenza"},null,null,{"$f":"IF($H$2=\"G\",'Spiegazioni Skills FTEM'!#REF!,'Spiegazioni Skills FTEM'!#REF!)","v":{"$error":"#REF!"}},null,null,null,{"$f":"IFERROR(AVERAGE(O19:O23),\"-\")","v":"-"},null,{"$f":"IFERROR(AVERAGE(Q19:Q23),\"-\")","v":"-"},null,{"$f":"IFERROR(AVERAGE(S19:S23),\"-\")","v":"-"},null,{"$f":"IFERROR(AVERAGE(U19:U23),\"-\")","v":"-"},null,{"$f":"IFERROR(AVERAGE(W19:W23),\"-\")","v":"-"},null,{"$f":"IFERROR(AVERAGE(Y19:Y23),\"-\")","v":"-"}]
[{"$f":"'Spiegazioni Skills FTEM'!A11:A11","v":0},null,null,{"$f":"IF($H$2=\"G\",'Spiegazioni Skills FTEM'!F11,'Spiegazioni Skills FTEM'!B11)","v":"Velocità/rapidità"},null,null,{"$f":"IF($H$2=\"G\",'Spiegazioni Skills FTEM'!G11,'Spiegazioni Skills FTEM'!C11)","v":"Velocità, facoltà di scivolare, avanti / indietro, economia dello sforzo"},null,null,{"$f":"IF($H$2=\"G\",'Spiegazioni Skills FTEM'!#REF!,'Spiegazioni Skills FTEM'!#REF!)","v":{"$error":"#REF!"}}]
[null,null,null,{"$f":"IF($H$2=\"G\",'Spiegazioni Skills FTEM'!F12,'Spiegazioni Skills FTEM'!B12)","v":"Agilità"},null,null,{"$f":"IF($H$2=\"G\",'Spiegazioni Skills FTEM'!G12,'Spiegazioni Skills FTEM'!C12)","v":"Cambiamento di direzione, girarsi, stop e ripartenza, \"Nummelin\""},null,null,{"$f":"IF($H$2=\"G\",'Spiegazioni Skills FTEM'!#REF!,'Spiegazioni Skills FTEM'!#REF!)","v":{"$error":"#REF!"}}]
[{"$f":"'Spiegazioni Skills FTEM'!A12:A12","v":0},null,null,{"$f":"IF($H$2=\"G\",'Spiegazioni Skills FTEM'!F13,'Spiegazioni Skills FTEM'!B13)","v":"Equilibrio"},null,null,{"$f":"IF($H$2=\"G\",'Spiegazioni Skills FTEM'!G13,'Spiegazioni Skills FTEM'!C13)","v":"Equilibrio, stabilità, posizione bassa, su una gamba, su entrambe"},null,null,{"$f":"IF($H$2=\"G\",'Spiegazioni Skills FTEM'!#REF!,'Spiegazioni Skills FTEM'!#REF!)","v":{"$error":"#REF!"}},null,null,null,{"$f":"IFERROR(AVERAGE(O22:O23),\"-\")","v":"-"},null,{"$f":"IFERROR(AVERAGE(Q22:Q23),\"-\")","v":"-"},null,{"$f":"IFERROR(AVERAGE(S22:S23),\"-\")","v":"-"},null,{"$f":"IFERROR(AVERAGE(U22:U23),\"-\")","v":"-"},null,{"$f":"IFERROR(AVERAGE(W22:W23),\"-\")","v":"-"},null,"-"]
[{"$f":"'Spiegazioni Skills FTEM'!A14:A14","v":0},null,null,{"$f":"IF($H$2=\"G\",'Spiegazioni Skills FTEM'!F14,'Spiegazioni Skills FTEM'!B14)","v":"Pattinaggio indietro"},null,null,{"$f":"IF($H$2=\"G\",'Spiegazioni Skills FTEM'!G14,'Spiegazioni Skills FTEM'!C14)","v":"Accelerazione, velocità, equilibrio"},null,null,{"$f":"IF($H$2=\"G\",'Spiegazioni Skills FTEM'!#REF!,'Spiegazioni Skills FTEM'!#REF!)","v":{"$error":"#REF!"}}]
[{"$f":"'Spiegazioni Skills FTEM'!A15","v":"ABILITÀ"},null,null,{"$f":"IF($H$2=\"G\",'Spiegazioni Skills FTEM'!F15,'Spiegazioni Skills FTEM'!B15)","v":"Tirare"},null,null,{"$f":"IF($H$2=\"G\",'Spiegazioni Skills FTEM'!G15,'Spiegazioni Skills FTEM'!C15)","v":"Efficienza (poco spazio, poco tempo), ricchezza di varianti, grado di sorpresa (Quick Release), precisione, potenza (conclusioni tattiche)"},null,null,{"$f":"IF($H$2=\"G\",'Spiegazioni Skills FTEM'!#REF!,'Spiegazioni Skills FTEM'!#REF!)","v":{"$error":"#REF!"}},null,null,null,{"$f":"IFERROR(AVERAGE(O24:O29),\"-\")","v":"-"},null,{"$f":"IFERROR(AVERAGE(Q24:Q29),\"-\")","v":"-"},null,{"$f":"IFERROR(AVERAGE(S24:S29),\"-\")","v":"-"},null,{"$f":"IFERROR(AVERAGE(U24:U29),\"-\")","v":"-"},null,{"$f":"IFERROR(AVERAGE(W24:W29),\"-\")","v":"-"},null,{"$f":"IFERROR(AVERAGE(Y24:Y29),\"-\")","v":"-"}]
[null,null,null,{"$f":"IF($H$2=\"G\",'Spiegazioni Skills FTEM'!F16,'Spiegazioni Skills FTEM'!B16)","v":"Passare"},null,null,{"$f":"IF($H$2=\"G\",'Spiegazioni Skills FTEM'!G16,'Spiegazioni Skills FTEM'!C16)","v":"Passaggio (distanza, flipp, rovescio), ricezione del passaggio (precisione, timing, diritto, rovescio, sul pattino), velocità del disco"},null,null,{"$f":"IF($H$2=\"G\",'Spiegazioni Skills FTEM'!#REF!,'Spiegazioni Skills FTEM'!#REF!)","v":{"$error":"#REF!"}}]
[null,null,null,{"$f":"IF($H$2=\"G\",'Spiegazioni Skills FTEM'!F17,'Spiegazioni Skills FTEM'!B17)","v":"Lavoro col bastone - condotta del disco"},null,null,{"$f":"IF($H$2=\"G\",'Spiegazioni Skills FTEM'!G17,'Spiegazioni Skills FTEM'!C17)","v":"Bastone sul disco, intercettare le linee di passaggio, deviare, controllo del bastone avversario"},null,null,{"$f":"IF($H$2=\"G\",'Spiegazioni Skills FTEM'!#REF!,'Spiegazioni Skills FTEM'!#REF!)","v":{"$error":"#REF!"}}]
[{"$f":"'Spiegazioni Skills FTEM'!A16:A16","v":0},null,null,{"$f":"IF($H$2=\"G\",'Spiegazioni Skills FTEM'!F18,'Spiegazioni Skills FTEM'!B18)","v":"Possedere/proteggere il disco"},null,null,{"$f":"IF($H$2=\"G\",'Spiegazioni Skills FTEM'!G18,'Spiegazioni Skills FTEM'!C18)","v":"Controllo del disco, dribbling, protezione del disco, finte (varianti col pattino, con o senza la balaustra), ingaggi (face-off)"},null,null,{"$f":"IF($H$2=\"G\",'Spiegazioni Skills FTEM'!#REF!,'Spiegazioni Skills FTEM'!#REF!)","v":{"$error":"#REF!"}}]
[{"$f":"'Spiegazioni Skills FTEM'!A17:A17","v":0},null,null,{"$f":"IF($H$2=\"G\",'Spiegazioni Skills FTEM'!F19,'Spiegazioni Skills FTEM'!B19)","v":"Gioco del corpo"},null,null,{"$f":"IF($H$2=\"G\",'Spiegazioni Skills FTEM'!G19,'Spiegazioni Skills FTEM'!C19)","v":"Facoltà di imporsi fisicamente, duelli (ghiaccio aperto, balaustra), subire dei checks/testa alta, livello di lotta, duro ma corretto, blocco dei tiri con il corpo"},null,null,{"$f":"IF($H$2=\"G\",'Spiegazioni Skills FTEM'!#REF!,'Spiegazioni Skills FTEM'!#REF!)","v":{"$error":"#REF!"}}]
[{"$f":"'Spiegazioni Skills FTEM'!A20:A20","v":0},null,null,{"$f":"IF($H$2=\"G\",'Spiegazioni Skills FTEM'!F20,'Spiegazioni Skills FTEM'!B20)","v":"-"},null,null,{"$f":"IF($H$2=\"G\",'Spiegazioni Skills FTEM'!G20,'Spiegazioni Skills FTEM'!C20)","v":"-"},null,null,{"$f":"IF($H$2=\"G\",'Spiegazioni Skills FTEM'!#REF!,'Spiegazioni Skills FTEM'!#REF!)","v":{"$error":"#REF!"}}]
[{"$f":"'Spiegazioni Skills FTEM'!A21","v":"SENSO DELL'HOCKEY"},null,null,{"$f":"IF($H$2=\"G\",'Spiegazioni Skills FTEM'!F21,'Spiegazioni Skills FTEM'!B21)","v":"Intelligenza nel gioco"},null,null,{"$f":"IF($H$2=\"G\",'Spiegazioni Skills FTEM'!G21,'Spiegazioni Skills FTEM'!C21)","v":"Vedere spazi e giocatori liberi, creare situazioni di superiorità numerica, agire cercando soluzioni in tutte le situazioni, velocità di visualizzazione"},null,null,{"$f":"IF($H$2=\"G\",'Spiegazioni Skills FTEM'!#REF!,'Spiegazioni Skills FTEM'!#REF!)","v":{"$error":"#REF!"}},null,null,null,{"$f":"IFERROR(AVERAGE(O30:O34),\"-\")","v":"-"},null,{"$f":"IFERROR(AVERAGE(Q30:Q34),\"-\")","v":"-"},null,{"$f":"IFERROR(AVERAGE(S30:S34),\"-\")","v":"-"},null,{"$f":"IFERROR(AVERAGE(U30:U34),\"-\")","v":"-"},null,{"$f":"IFERROR(AVERAGE(W30:W34),\"-\")","v":"-"},null,{"$f":"IFERROR(AVERAGE(Y30:Y34),\"-\")","v":"-"}]
[{"$f":"'Spiegazioni Skills FTEM'!A22:A22","v":0},null,null,{"$f":"IF($H$2=\"G\",'Spiegazioni Skills FTEM'!F22,'Spiegazioni Skills FTEM'!B22)","v":"Sensibilità offensiva"},null,null,{"$f":"IF($H$2=\"G\",'Spiegazioni Skills FTEM'!G22,'Spiegazioni Skills FTEM'!C22)","v":"Smarcarsi, anticipare le situazioni di gioco, aprire spazi liberi per i compagni, piazzarsi per le conclusioni, velocità nel chiudere gli spazi (pressione), comunicazione"},null,null,{"$f":"IF($H$2=\"G\",'Spiegazioni Skills FTEM'!#REF!,'Spiegazioni Skills FTEM'!#REF!)","v":{"$error":"#REF!"}}]
[null,null,null,{"$f":"IF($H$2=\"G\",'Spiegazioni Skills FTEM'!F23,'Spiegazioni Skills FTEM'!B23)","v":"Sensibilità difensiva"},null,null,{"$f":"IF($H$2=\"G\",'Spiegazioni Skills FTEM'!G23,'Spiegazioni Skills FTEM'!C23)","v":"Mantenere la posizione difensiva, protezione dello slot, assicurare i compagni / supporto, individuare le linee di passaggio, bloccare i tiri, ridurre velocemente gli spazi, comunicazione"},null,null,{"$f":"IF($H$2=\"G\",'Spiegazioni Skills FTEM'!#REF!,'Spiegazioni Skills FTEM'!#REF!)","v":{"$error":"#REF!"}}]
[{"$f":"'Spiegazioni Skills FTEM'!A24:A24","v":0},null,null,{"$f":"IF($H$2=\"G\",'Spiegazioni Skills FTEM'!F24,'Spiegazioni Skills FTEM'!B24)","v":"Gestione del disco"},null,null,{"$f":"IF($H$2=\"G\",'Spiegazioni Skills FTEM'!G24,'Spiegazioni Skills FTEM'!C24)","v":"Prendere decisioni adeguate nelle situazioni di gioco, supporto, creare superiorità numerica"},null,null,{"$f":"IF($H$2=\"G\",'Spiegazioni Skills FTEM'!#REF!,'Spiegazioni Skills FTEM'!#REF!)","v":{"$error":"#REF!"}}]
[{"$f":"'Spiegazioni Skills FTEM'!A25:A25","v":0},null,null,{"$f":"IF($H$2=\"G\",'Spiegazioni Skills FTEM'!F25,'Spiegazioni Skills FTEM'!B25)","v":"Creatività"},null,null,{"$f":"IF($H$2=\"G\",'Spiegazioni Skills FTEM'!G25,'Spiegazioni Skills FTEM'!C25)","v":"Creare situazioni a sorpresa, fiuto del gol"},null,null,{"$f":"IF($H$2=\"G\",'Spiegazioni Skills FTEM'!#REF!,'Spiegazioni Skills FTEM'!#REF!)","v":{"$error":"#REF!"}}]
[{"$f":"'Spiegazioni Skills FTEM'!A26","v":"PERSONALITY"},null,null,{"$f":"'Spiegazioni Skills FTEM'!B26","v":"CAPACITÀ"},null,null,{"$f":"'Spiegazioni Skills FTEM'!C26","v":"CRITERIO D'OSSERVAZIONE"},null,null,{"$f":"'Spiegazioni Skills FTEM'!H26","v":0},null,null,null,"Data1",null,"Data2",null,"Data3",null,"Data4",null,"Data5",null,"Player",null,"OBIETTIVO","PROVVEDIMENTI:\n(SPECIFICI, MISURABILI, REALISTICI)",null,null,null,null,null,null,"TERMINE","COTROLLO DELL'OBIETTIVO","Date"]
[{"$f":"'Spiegazioni Skills FTEM'!A27","v":"PERSONALITÀ"},null,null,{"$f":"IF($H$2=\"G\",'Spiegazioni Skills FTEM'!F27,'Spiegazioni Skills FTEM'!B27)","v":"Fiducia in se stesso"},null,null,{"$f":"IF($H$2=\"G\",'Spiegazioni Skills FTEM'!G27,'Spiegazioni Skills FTEM'!C27)","v":"Possiede la necessaria fiducia in se stesso, «I can do it»-attitudine, sa valutare le proprie capacità (conosce i propri punti forti e deboli), può realizzare le proprie qualità con\ncostanza, è coraggioso e sa prendere dei rischi calcolati"},null,null,{"$f":"IF($H$2=\"G\",'Spiegazioni Skills FTEM'!#REF!,'Spiegazioni Skills FTEM'!#REF!)","v":{"$error":"#REF!"}},null,null,null,{"$f":"IFERROR(AVERAGE(O36:O40),\"-\")","v":"-"},null,{"$f":"IFERROR(AVERAGE(Q36:Q40),\"-\")","v":"-"},null,{"$f":"IFERROR(AVERAGE(S36:S40),\"-\")","v":"-"},null,{"$f":"IFERROR(AVERAGE(U36:U40),\"-\")","v":"-"},null,{"$f":"IFERROR(AVERAGE(W36:W40),\"-\")","v":"-"},null,{"$f":"IFERROR(AVERAGE(Y36:Y40),\"-\")","v":"-"}]
[{"$f":"'Spiegazioni Skills FTEM'!A28:A28","v":0},null,null,{"$f":"IF($H$2=\"G\",'Spiegazioni Skills FTEM'!F28,'Spiegazioni Skills FTEM'!B28)","v":"Capacità d'apprendimento"},null,null,{"$f":"IF($H$2=\"G\",'Spiegazioni Skills FTEM'!G28,'Spiegazioni Skills FTEM'!C28)","v":"Ha una buona capacità d'apprendimento (sa recepire e realizzare), possiede una personalità, cerca di imparare dai propri errori derivandone delle misure"},null,null,{"$f":"IF($H$2=\"G\",'Spiegazioni Skills FTEM'!#REF!,'Spiegazioni Skills FTEM'!#REF!)","v":{"$error":"#REF!"}}]
[null,null,null,{"$f":"IF($H$2=\"G\",'Spiegazioni Skills FTEM'!F29,'Spiegazioni Skills FTEM'!B29)","v":"Senso di responsabilità"},null,null,{"$f":"IF($H$2=\"G\",'Spiegazioni Skills FTEM'!G29,'Spiegazioni Skills FTEM'!C29)","v":"Assume responsabiltà per le proprie prestazioni e sviluppo, agisce autonomamente, cura i dettagli, mostra un grande impegno in tutti i settori"},null,null,{"$f":"IF($H$2=\"G\",'Spiegazioni Skills FTEM'!#REF!,'Spiegazioni Skills FTEM'!#REF!)","v":{"$error":"#REF!"}}]
[{"$f":"'Spiegazioni Skills FTEM'!A30:A30","v":0},null,null,{"$f":"IF($H$2=\"G\",'Spiegazioni Skills FTEM'!F30,'Spiegazioni Skills FTEM'!B30)","v":"Motivazione"},null,null,{"$f":"IF($H$2=\"G\",'Spiegazioni Skills FTEM'!G30,'Spiegazioni Skills FTEM'!C30)","v":"È sempre motivato, vuole sempre svilupparsi e imparare, vuol essere il primo e avere successo, non rinuncia mai e non si lascia influenzare dagli insuccessi"},null,null,{"$f":"IF($H$2=\"G\",'Spiegazioni Skills FTEM'!#REF!,'Spiegazioni Skills FTEM'!#REF!)","v":{"$error":"#REF!"}}]
[{"$f":"'Spiegazioni Skills FTEM'!A31:A31","v":0},null,null,{"$f":"IF($H$2=\"G\",'Spiegazioni Skills FTEM'!F31,'Spiegazioni Skills FTEM'!B31)","v":"Prestazione Stile di vita"},null,null,{"$f":"IF($H$2=\"G\",'Spiegazioni Skills FTEM'!G31,'Spiegazioni Skills FTEM'!C31)","v":"Gestisce bene la quotidianità il suo ambiente seguendo i principi della prestazione, caparbio, perseverante e finalizzato sugli obiettivi, focus sulla propria prestazione, coraggioso e grintoso, sa imporsi nei confronti delle resistenze, le sfide lo motivano"},null,null,{"$f":"IF($H$2=\"G\",'Spiegazioni Skills FTEM'!#REF!,'Spiegazioni Skills FTEM'!#REF!)","v":{"$error":"#REF!"}}]
[{"$f":"'Spiegazioni Skills FTEM'!A32","v":"FORZA MENTALE"},null,null,{"$f":"IF($H$2=\"G\",'Spiegazioni Skills FTEM'!F32,'Spiegazioni Skills FTEM'!B32)","v":"Impegno"},null,null,{"$f":"IF($H$2=\"G\",'Spiegazioni Skills FTEM'!G32,'Spiegazioni Skills FTEM'!C32)","v":"Mostra molta intensità negli allenamenti e nelle partite, dà sempre il massimo e vuole sempre spronare i propri limiti, mostra passione, si sforza ad alzare la qualità negli allenamenti"},null,null,{"$f":"IF($H$2=\"G\",'Spiegazioni Skills FTEM'!#REF!,'Spiegazioni Skills FTEM'!#REF!)","v":{"$error":"#REF!"}},null,null,null,{"$f":"IFERROR(AVERAGE(O41:O45),\"-\")","v":"-"},null,{"$f":"IFERROR(AVERAGE(Q41:Q45),\"-\")","v":"-"},null,{"$f":"IFERROR(AVERAGE(S41:S45),\"-\")","v":"-"},null,{"$f":"IFERROR(AVERAGE(U41:U45),\"-\")","v":"-"},null,{"$f":"IFERROR(AVERAGE(W41:W45),\"-\")","v":"-"},null,{"$f":"IFERROR(AVERAGE(Y41:Y45),\"-\")","v":"-"}]
[null,null,null,{"$f":"IF($H$2=\"G\",'Spiegazioni Skills FTEM'!F33,'Spiegazioni Skills FTEM'!B33)","v":"Preparazione"},null,null,{"$f":"IF($H$2=\"G\",'Spiegazioni Skills FTEM'!G33,'Spiegazioni Skills FTEM'!C33)","v":"Preparazione consapevole e finalizzata, mentalmente e fisicamente, possiede un efficiente approccio per l'ottenimento dell'ideale stato di prestazione (ILZ/ISP)"},null,null,{"$f":"IF($H$2=\"G\",'Spiegazioni Skills FTEM'!#REF!,'Spiegazioni Skills FTEM'!#REF!)","v":{"$error":"#REF!"}}]
[{"$f":"'Spiegazioni Skills FTEM'!A34:A34","v":0},null,null,{"$f":"IF($H$2=\"G\",'Spiegazioni Skills FTEM'!F34,'Spiegazioni Skills FTEM'!B34)","v":"Coaching individuale"},null,null,{"$f":"IF($H$2=\"G\",'Spiegazioni Skills FTEM'!G34,'Spiegazioni Skills FTEM'!C34)","v":"Possiede una buona capacità di concentrazione, può mantenere il suo ILZ/ISP durante la partita e l'allenamento, può utilizzare tecniche di base per rafforzare il mentale, resistenti contro pensieri e influenze negative, è consapevole del proprio linguaggio del corpo che è in grado di padroneggiare"},null,null,{"$f":"IF($H$2=\"G\",'Spiegazioni Skills FTEM'!#REF!,'Spiegazioni Skills FTEM'!#REF!)","v":{"$error":"#REF!"}}]
[{"$f":"'Spiegazioni Skills FTEM'!A35:A35","v":0},null,null,{"$f":"IF($H$2=\"G\",'Spiegazioni Skills FTEM'!F35,'Spiegazioni Skills FTEM'!B35)","v":"Gestione delle energie"},null,null,{"$f":"IF($H$2=\"G\",'Spiegazioni Skills FTEM'!G35,'Spiegazioni Skills FTEM'!C35)","v":"Può gestire le proprie energie, cura la rigenerazione, può gestire i momenti in cui si deve andare al massimo oppure risparmiarsi, interruttore on/off"},null,null,{"$f":"IF($H$2=\"G\",'Spiegazioni Skills FTEM'!#REF!,'Spiegazioni Skills FTEM'!#REF!)","v":{"$error":"#REF!"}}]
[{"$f":"'Spiegazioni Skills FTEM'!A36:A36","v":0},null,null,{"$f":"IF($H$2=\"G\",'Spiegazioni Skills FTEM'!F36,'Spiegazioni Skills FTEM'!B36)","v":"Controllo delle emozioni"},null,null,{"$f":"IF($H$2=\"G\",'Spiegazioni Skills FTEM'!G36,'Spiegazioni Skills FTEM'!C36)","v":"Può regolare le proprie emozioni e impulsi, mantiene il controllo quando si trova sotto pressione, sa anche agire adeguatamente in situazioni emotive o frustranti"},null,null,{"$f":"IF($H$2=\"G\",'Spiegazioni Skills FTEM'!#REF!,'Spiegazioni Skills FTEM'!#REF!)","v":{"$error":"#REF!"}}]
[{"$f":"'Spiegazioni Skills FTEM'!A37","v":"FISICO"},null,null,{"$f":"IF($H$2=\"G\",'Spiegazioni Skills FTEM'!F37,'Spiegazioni Skills FTEM'!B37)","v":"Produzione di prestazione"},null,null,{"$f":"IF($H$2=\"G\",'Spiegazioni Skills FTEM'!G37,'Spiegazioni Skills FTEM'!C37)","v":"Possiede nelle gambe e nella parte alta del corpo la necessaria potenza/forza/velocità (fattori neuromuscolari)"},null,null,{"$f":"IF($H$2=\"G\",'Spiegazioni Skills FTEM'!#REF!,'Spiegazioni Skills FTEM'!#REF!)","v":{"$error":"#REF!"}},null,null,null,{"$f":"IFERROR(AVERAGE(O46:O50),\"-\")","v":"-"},null,{"$f":"IFERROR(AVERAGE(Q46:Q50),\"-\")","v":"-"},null,{"$f":"IFERROR(AVERAGE(S46:S50),\"-\")","v":"-"},null,{"$f":"IFERROR(AVERAGE(U46:U50),\"-\")","v":"-"},null,{"$f":"IFERROR(AVERAGE(W46:W50),\"-\")","v":"-"},null,{"$f":"IFERROR(AVERAGE(Y46:Y50),\"-\")","v":"-"}]
[null,null,null,{"$f":"IF($H$2=\"G\",'Spiegazioni Skills FTEM'!F38,'Spiegazioni Skills FTEM'!B38)","v":"Resistenza specifica alla fatica"},null,null,{"$f":"IF($H$2=\"G\",'Spiegazioni Skills FTEM'!G38,'Spiegazioni Skills FTEM'!C38)","v":"È capace di mantenere a lungo nell'ambito di un impiego la potenza/forza/velocità ed è capace di recuperare completamente attraverso i vari impieghi sul ghiaccio (fattori metabolici e cardiovascolari)"},null,null,{"$f":"IF($H$2=\"G\",'Spiegazioni Skills FTEM'!#REF!,'Spiegazioni Skills FTEM'!#REF!)","v":{"$error":"#REF!"}}]
[{"$f":"'Spiegazioni Skills FTEM'!A39:A39","v":0},null,null,{"$f":"IF($H$2=\"G\",'Spiegazioni Skills FTEM'!F39,'Spiegazioni Skills FTEM'!B39)","v":"Salute / prevenzione"},null,null,{"$f":"IF($H$2=\"G\",'Spiegazioni Skills FTEM'!G39,'Spiegazioni Skills FTEM'!C39)","v":"Possiede la necessaria stabilità (stabilità delle gambe) e mobilità delle articolazioni centrali"},null,null,{"$f":"IF($H$2=\"G\",'Spiegazioni Skills FTEM'!#REF!,'Spiegazioni Skills FTEM'!#REF!)","v":{"$error":"#REF!"}}]
[{"$f":"'Spiegazioni Skills FTEM'!A40:A40","v":0},null,null,{"$f":"IF($H$2=\"G\",'Spiegazioni Skills FTEM'!F40,'Spiegazioni Skills FTEM'!B40)","v":"Competenze della mobilità"},null,null,{"$f":"IF($H$2=\"G\",'Spiegazioni Skills FTEM'!G40,'Spiegazioni Skills FTEM'!C40)","v":"Padroneggia le basilari capacità di movimento che garantiscono in modo determinante le abilità specifiche \"skills\", come pure l'efficacia dei movimenti"},null,null,{"$f":"IF($H$2=\"G\",'Spiegazioni Skills FTEM'!#REF!,'Spiegazioni Skills FTEM'!#REF!)","v":{"$error":"#REF!"}}]
[{"$f":"'Spiegazioni Skills FTEM'!A41:A41","v":0},null,null,{"$f":"IF($H$2=\"G\",'Spiegazioni Skills FTEM'!F41,'Spiegazioni Skills FTEM'!B41)","v":"Robustezza"},null,null,{"$f":"IF($H$2=\"G\",'Spiegazioni Skills FTEM'!G41,'Spiegazioni Skills FTEM'!C41)","v":"Possiede la necessaria forza di base (tensione del corpo) per vincere i duelli e resistere alle cariche"},null,null,{"$f":"IF($H$2=\"G\",'Spiegazioni Skills FTEM'!#REF!,'Spiegazioni Skills FTEM'!#REF!)","v":{"$error":"#REF!"}}]

{"sheet":"3","index":6,"n_rows":50,"n_cols":36,"rows_kept":50,"cut":false,"hidden":false,"merged":[[45,34,49,34],[45,12,49,12],[45,13,49,13],[45,15,49,15],[45,17,49,17],[45,19,49,19],[45,21,49,21],[45,23,49,23],[45,25,49,25],[45,26,49,32],[45,0,49,2],[45,3,45,5],[45,6,45,11],[46,3,46,5],[46,6,46,11],[48,3,48,5],[48,6,48,11],[49,3,49,5],[49,6,49,11],[47,3,47,5],[47,6,47,11],[40,23,44,23],[42,3,42,5],[42,6,42,11],[44,3,44,5],[44,6,44,11],[40,0,44,2],[40,3,40,5],[40,6,40,11],[40,12,44,12],[40,13,44,13],[40,15,44,15],[43,3,43,5],[43,6,43,11],[34,21,34,22],[35,17,39,17],[35,19,39,19],[35,21,39,21],[37,3,37,5],[37,6,37,11],[38,3,38,5],[38,6,38,11],[40,17,44,17],[40,19,44,19],[40,21,44,21],[36,3,36,5],[36,6,36,11],[41,3,41,5],[41,6,41,11],[29,0,33,2],[29,3,29,5],[29,6,29,11],[29,12,33,12],[29,13,33,13],[29,15,33,15],[34,23,34,24],[34,26,34,32],[35,0,39,2],[35,3,35,5],[35,6,35,11],[35,12,39,12],[35,13,39,13],[35,15,39,15],[39,3,39,5],[39,6,39,11],[35,23,39,23],[34,0,34,2],[34,3,34,5],[34,6,34,11],[34,13,34,14],[34,15,34,16],[34,17,34,18],[34,19,34,20],[23,19,28,19],[23,21,28,21],[23,23,28,23],[26,3,26,5],[26,6,26,11],[28,3,28,5],[28,6,28,11],[33,3,33,5],[33,6,33,11],[29,23,33,23],[29,17,33,17],[29,19,33,19],[29,21,33,21],[31,3,31,5],[31,6,31,11],[32,3,32,5],[32,6,32,11],[27,3,27,5],[27,6,27,11],[25,3,25,5],[25,6,25,11],[30,3,30,5],[30,6,30,11],[12,21,16,21],[18,15,22,15],[18,17,22,17],[18,19,22,19],[18,21,22,21],[18,23,22,23],[22,3,22,5],[22,6,22,11],[23,0,28,2],[23,3,23,5],[23,6,23,11],[23,12,28,12],[23,13,28,13],[23,15,28,15],[23,17,28,17],[18,0,22,2],[18,3,18,5],[18,6,18,11],[18,12,22,12],[18,13,22,13],[19,3,19,5],[19,6,19,11],[21,3,21,5],[21,6,21,11],[11,21,11,22],[11,23,11,24],[11,26,11,32],[11,6,11,11],[12,23,16,23],[16,3,16,5],[16,6,16,11],[17,0,17,2],[17,3,17,5],[17,6,17,11],[17,13,17,14],[17,15,17,16],[17,17,17,18],[17,19,17,20],[17,21,17,22],[17,23,17,24],[12,0,16,2],[12,3,12,5],[12,6,12,11],[12,12,16,12],[12,13,16,13],[12,15,16,15],[12,17,16,17],[12,19,16,19],[4,0,4,1],[4,2,4,5],[4,10,4,24],[10,0,10,24],[10,25,10,35],[40,25,44,25],[40,26,44,32],[40,34,44,34],[12,25,16,25],[12,26,16,32],[12,34,16,34],[18,25,22,25],[18,26,22,32],[18,34,22,34],[23,25,28,25],[23,26,28,32],[23,34,28,34],[17,26,17,32],[11,0,11,2],[11,3,11,5],[11,13,11,14],[11,15,11,16],[11,17,11,18],[11,19,11,20],[0,0,0,24],[0,25,0,26],[0,27,0,32],[0,33,0,35],[29,25,33,25],[29,26,33,32],[29,34,33,34],[35,25,39,25],[35,26,39,32],[35,34,39,34],[1,0,1,1],[1,2,1,5],[1,10,1,24],[2,0,2,1],[2,2,2,5],[2,11,2,24],[6,0,6,1],[6,2,6,35],[7,0,7,1],[7,2,7,35],[8,0,8,1],[8,2,8,35],[3,0,3,1],[3,10,3,24],[13,3,13,5],[13,6,13,11],[14,3,14,5],[14,6,14,11],[15,3,15,5],[15,6,15,11],[20,3,20,5],[20,6,20,11],[24,3,24,5],[24,6,24,11]]}
["Personalien",null,null,null,null,null,null,null,null,null,null,null,null,null,null,null,null,null,null,null,null,null,null,null,null,"Predisposizione",null,"Valutazioni",null,null,null,null,null,"Rating"]
["COGNOME",null,{"$f":"IF(ISBLANK(VLOOKUP(3,Tabelle3[],3,0)),\"-\",VLOOKUP(3,Tabelle3[],3,0))","v":"-"},null,null,null,"POSIZIONE",null,null,"INDIRIZZO",{"$f":"IF(ISBLANK(VLOOKUP(3,Tabelle3[],5,0)),\"-\",VLOOKUP(3,Tabelle3[],5,0))","v":"-"},null,null,null,null,null,null,null,null,null,null,null,null,null,null,"Età\" (biologica/età relativa)",null,"Data 1",null,null,"cm",null,"Kg",null,"ECCELLENTE",5]
["NOME",null,{"$f":"IF(ISBLANK(VLOOKUP(3,Tabelle3[],2,0)),\"-\",VLOOKUP(3,Tabelle3[],2,0))","v":"-"},null,null,null,"BASTONE",null,null,"LUOGO",{"$f":"IF(ISBLANK(VLOOKUP(3,Tabelle3[],7,0)),\"-\",VLOOKUP(3,Tabelle3[],7,0))","v":"-"},{"$f":"IF(ISBLANK(VLOOKUP(3,Tabelle3[],6,0)),\"-\",VLOOKUP(3,Tabelle3[],6,0))","v":"-"},null,null,null,null,null,null,null,null,null,null,null,null,null,"Predisposizione",null,"Data 2",null,null,"cm",null,"Kg",null,"BUONO",4]
["DATA DI NASC.",null,{"$f":"IF(ISBLANK(VLOOKUP(3,Tabelle3[],14,0)),\"-\",VLOOKUP(3,Tabelle3[],14,0))","v":"-"},{"$f":"IF(ISBLANK(VLOOKUP(3,Tabelle3[],15,0)),\"-\",VLOOKUP(3,Tabelle3[],15,0))","v":"-"},{"$f":"IF(ISBLANK(VLOOKUP(3,Tabelle3[],16,0)),\"-\",VLOOKUP(3,Tabelle3[],16,0))","v":"-"},null,"ALTEZZA",null,"cm (Finale)","TELEFONO",{"$f":"IF(ISBLANK(VLOOKUP(3,Tabelle3[],8,0)),\"-\",VLOOKUP(3,Tabelle3[],8,0))","v":"-"},null,null,null,null,null,null,null,null,null,null,null,null,null,null,"Ambiente di vita",null,"Data 3",null,null,"cm",null,"Kg",null,"MEDIO/DISCRETO",3]
["SESSO",null,{"$f":"IF(ISBLANK(VLOOKUP(3,Tabelle3[],13,0)),\"-\",VLOOKUP(3,Tabelle3[],13,0))","v":"-"},null,null,null,"PESO",null,"Kg (Finale)","E-Mail",{"$f":"IF(ISBLANK(VLOOKUP(3,Tabelle3[],9,0)),\"-\",VLOOKUP(3,Tabelle3[],9,0))","v":"-"},null,null,null,null,null,null,null,null,null,null,null,null,null,null,null,null,"Data 4",null,null,"cm",null,"Kg",null,"CON LACUNE",2]
[null,null,null,null,null,null,null,null,null,null,null,null,null,null,null,null,null,null,null,null,null,null,null,null,null,null,null,"Data 5",null,null,"cm",null,"Kg",null,"INSUFFICIENTE",1]
["Visione",null,"xxx"]
["Prossimo passo",null,"xxx"]
["Proflio giocatore",null,"xxx"]
[]
["VALUTAZIONI (COACH / GIOCATORE)",null,null,null,null,null,null,null,null,null,null,null,null,null,null,null,null,null,null,null,null,null,null,null,null,"Obiettivi SMART"]
[{"$f":"'Spiegazioni Skills FTEM'!A3","v":"TEAM"},null,null,{"$f":"'Spiegazioni Skills FTEM'!B3","v":"CAPACITÀ"},null,null,{"$f":"'Spiegazioni Skills FTEM'!C3","v":"CRITERIO D'OSSERVAZIONE"},null,null,{"$f":"'Spiegazioni Skills FTEM'!H3","v":0},null,null,"Final","Data1",null,"Data2",null,"Data3",null,"Data4",null,"Data5",null,"Player",null,"OBIETTIVO","PROVVEDIMENTI:\n(SPECIFICI, MISURABILI, REALISTICI)",null,null,null,null,null,null,"TERMINE","COTROLLO DELL'OBIETTIVO","Data"]
[{"$f":"'Spiegazioni Skills FTEM'!A4","v":"SQUADRA"},null,null,{"$f":"IF($H$2=\"G\",'Spiegazioni Skills FTEM'!F4,'Spiegazioni Skills FTEM'!B4)","v":"Comunicazione"},null,null,{"$f":"IF($H$2=\"G\",'Spiegazioni Skills FTEM'!G4,'Spiegazioni Skills FTEM'!C4)","v":"Cura relazioni aperte e rispettose, fiducia quale base comportamentale, affronta i conflitti senza ledere la stabilità del gruppo, comunica con i compagni, gli allenatori e\nfunzionari con i medesimi valori"},null,null,{"$f":"IF($H$2=\"G\",'Spiegazioni Skills FTEM'!#REF!,'Spiegazioni Skills FTEM'!#REF!)","v":{"$error":"#REF!"}},null,null,null,{"$f":"IFERROR(AVERAGE(O13:O17),\"-\")","v":"-"},null,{"$f":"IFERROR(AVERAGE(Q13:Q17),\"-\")","v":"-"},null,{"$f":"IFERROR(AVERAGE(S13:S17),\"-\")","v":"-"},null,{"$f":"IFERROR(AVERAGE(U13:U17),\"-\")","v":"-"},null,{"$f":"IFERROR(AVERAGE(W13:W17),\"-\")","v":"-"},null,{"$f":"IFERROR(AVERAGE(Y13:Y17),\"-\")","v":"-"}]
[{"$f":"'Spiegazioni Skills FTEM'!A5","v":0},null,null,{"$f":"IF($H$2=\"G\",'Spiegazioni Skills FTEM'!F5,'Spiegazioni Skills FTEM'!B5)","v":"Capacità nella squadra"},null,null,{"$f":"IF($H$2=\"G\",'Spiegazioni Skills FTEM'!G5,'Spiegazioni Skills FTEM'!C5)","v":"Integrazione nel gruppo, definisce e realizza obiettivi comuni, NOI prima dell'IO, contribuisce a creare un buon spirito di squadra e clima di lavoro"},null,null,{"$f":"IF($H$2=\"G\",'Spiegazioni Skills FTEM'!#REF!,'Spiegazioni Skills FTEM'!#REF!)","v":{"$error":"#REF!"}}]
[{"$f":"'Spiegazioni Skills FTEM'!A6","v":0},null,null,{"$f":"IF($H$2=\"G\",'Spiegazioni Skills FTEM'!F6,'Spiegazioni Skills FTEM'!B6)","v":"Leadership"},null,null,{"$f":"IF($H$2=\"G\",'Spiegazioni Skills FTEM'!G6,'Spiegazioni Skills FTEM'!C6)","v":"Assume responsabilità nell'ambito del gruppo, cerca di migliorare la squadra e i compagni, influenza positivamente la dinamica di gruppo"},null,null,{"$f":"IF($H$2=\"G\",'Spiegazioni Skills FTEM'!#REF!,'Spiegazioni Skills FTEM'!#REF!)","v":{"$error":"#REF!"}}]
[{"$f":"'Spiegazioni Skills FTEM'!A7","v":0},null,null,{"$f":"IF($H$2=\"G\",'Spiegazioni Skills FTEM'!F7,'Spiegazioni Skills FTEM'!B7)","v":"Ripartizione dei ruoli"},null,null,{"$f":"IF($H$2=\"G\",'Spiegazioni Skills FTEM'!G7,'Spiegazioni Skills FTEM'!C7)","v":"Riconosce e adempie il suo ruolo, è cosciente della sua posizione nel sistema e nella squadra, mette a disposizione della squadra le sue competenze"},null,null,{"$f":"IF($H$2=\"G\",'Spiegazioni Skills FTEM'!#REF!,'Spiegazioni Skills FTEM'!#REF!)","v":{"$error":"#REF!"}}]
[{"$f":"'Spiegazioni Skills FTEM'!A8","v":0},null,null,{"$f":"IF($H$2=\"G\",'Spiegazioni Skills FTEM'!F8,'Spiegazioni Skills FTEM'!B8)","v":"Rispetto"},null,null,{"$f":"IF($H$2=\"G\",'Spiegazioni Skills FTEM'!G8,'Spiegazioni Skills FTEM'!C8)","v":"Relazioni rispettose con i compagni, allenatori, avversari, arbitri e staff; rispetta le regole i pricipi del fairplay (compreso la lotta al doping)"},null,null,{"$f":"IF($H$2=\"G\",'Spiegazioni Skills FTEM'!#REF!,'Spiegazioni Skills FTEM'!#REF!)","v":{"$error":"#REF!"}}]
[{"$f":"'Spiegazioni Skills FTEM'!A9","v":"ON ICE"},null,null,{"$f":"'Spiegazioni Skills FTEM'!B9","v":"CAPACITÀ"},null,null,{"$f":"'Spiegazioni Skills FTEM'!C9","v":"CRITERIO D'OSSERVAZIONE"},null,null,{"$f":"'Spiegazioni Skills FTEM'!H9","v":0},null,null,null,"Data1",null,"Data2",null,"Data3",null,"Data4",null,"Data5",null,"Player",null,"OBIETTIVO","PROVVEDIMENTI:\n(SPECIFICI, MISURABILI, REALISTICI)",null,null,null,null,null,null,"TERMINE","COTROLLO DELL'OBIETTIVO","Date"]
[{"$f":"'Spiegazioni Skills FTEM'!A10","v":"PATTINAGGIO"},null,null,{"$f":"IF($H$2=\"G\",'Spiegazioni Skills FTEM'!F10,'Spiegazioni Skills FTEM'!B10)","v":"Velocità dei piedi"},null,null,{"$f":"IF($H$2=\"G\",'Spiegazioni Skills FTEM'!G10,'Spiegazioni Skills FTEM'!C10)","v":"Accelerazione, partenza, esplosività dei primi 3 passi, frequenza"},null,null,{"$f":"IF($H$2=\"G\",'Spiegazioni Skills FTEM'!#REF!,'Spiegazioni Skills FTEM'!#REF!)","v":{"$error":"#REF!"}},null,null,null,{"$f":"IFERROR(AVERAGE(O19:O23),\"-\")","v":"-"},null,{"$f":"IFERROR(AVERAGE(Q19:Q23),\"-\")","v":"-"},null,{"$f":"IFERROR(AVERAGE(S19:S23),\"-\")","v":"-"},null,{"$f":"IFERROR(AVERAGE(U19:U23),\"-\")","v":"-"},null,{"$f":"IFERROR(AVERAGE(W19:W23),\"-\")","v":"-"},null,{"$f":"IFERROR(AVERAGE(Y19:Y23),\"-\")","v":"-"}]
[{"$f":"'Spiegazioni Skills FTEM'!A11:A11","v":0},null,null,{"$f":"IF($H$2=\"G\",'Spiegazioni Skills FTEM'!F11,'Spiegazioni Skills FTEM'!B11)","v":"Velocità/rapidità"},null,null,{"$f":"IF($H$2=\"G\",'Spiegazioni Skills FTEM'!G11,'Spiegazioni Skills FTEM'!C11)","v":"Velocità, facoltà di scivolare, avanti / indietro, economia dello sforzo"},null,null,{"$f":"IF($H$2=\"G\",'Spiegazioni Skills FTEM'!#REF!,'Spiegazioni Skills FTEM'!#REF!)","v":{"$error":"#REF!"}}]
[null,null,null,{"$f":"IF($H$2=\"G\",'Spiegazioni Skills FTEM'!F12,'Spiegazioni Skills FTEM'!B12)","v":"Agilità"},null,null,{"$f":"IF($H$2=\"G\",'Spiegazioni Skills FTEM'!G12,'Spiegazioni Skills FTEM'!C12)","v":"Cambiamento di direzione, girarsi, stop e ripartenza, \"Nummelin\""},null,null,{"$f":"IF($H$2=\"G\",'Spiegazioni Skills FTEM'!#REF!,'Spiegazioni Skills FTEM'!#REF!)","v":{"$error":"#REF!"}}]
[{"$f":"'Spiegazioni Skills FTEM'!A12:A12","v":0},null,null,{"$f":"IF($H$2=\"G\",'Spiegazioni Skills FTEM'!F13,'Spiegazioni Skills FTEM'!B13)","v":"Equilibrio"},null,null,{"$f":"IF($H$2=\"G\",'Spiegazioni Skills FTEM'!G13,'Spiegazioni Skills FTEM'!C13)","v":"Equilibrio, stabilità, posizione bassa, su una gamba, su entrambe"},null,null,{"$f":"IF($H$2=\"G\",'Spiegazioni Skills FTEM'!#REF!,'Spiegazioni Skills FTEM'!#REF!)","v":{"$error":"#REF!"}},null,null,null,{"$f":"IFERROR(AVERAGE(O22:O23),\"-\")","v":"-"},null,{"$f":"IFERROR(AVERAGE(Q22:Q23),\"-\")","v":"-"},null,{"$f":"IFERROR(AVERAGE(S22:S23),\"-\")","v":"-"},null,{"$f":"IFERROR(AVERAGE(U22:U23),\"-\")","v":"-"},null,{"$f":"IFERROR(AVERAGE(W22:W23),\"-\")","v":"-"},null,"-"]
[{"$f":"'Spiegazioni Skills FTEM'!A14:A14","v":0},null,null,{"$f":"IF($H$2=\"G\",'Spiegazioni Skills FTEM'!F14,'Spiegazioni Skills FTEM'!B14)","v":"Pattinaggio indietro"},null,null,{"$f":"IF($H$2=\"G\",'Spiegazioni Skills FTEM'!G14,'Spiegazioni Skills FTEM'!C14)","v":"Accelerazione, velocità, equilibrio"},null,null,{"$f":"IF($H$2=\"G\",'Spiegazioni Skills FTEM'!#REF!,'Spiegazioni Skills FTEM'!#REF!)","v":{"$error":"#REF!"}}]
[{"$f":"'Spiegazioni Skills FTEM'!A15","v":"ABILITÀ"},null,null,{"$f":"IF($H$2=\"G\",'Spiegazioni Skills FTEM'!F15,'Spiegazioni Skills FTEM'!B15)","v":"Tirare"},null,null,{"$f":"IF($H$2=\"G\",'Spiegazioni Skills FTEM'!G15,'Spiegazioni Skills FTEM'!C15)","v":"Efficienza (poco spazio, poco tempo), ricchezza di varianti, grado di sorpresa (Quick Release), precisione, potenza (conclusioni tattiche)"},null,null,{"$f":"IF($H$2=\"G\",'Spiegazioni Skills FTEM'!#REF!,'Spiegazioni Skills FTEM'!#REF!)","v":{"$error":"#REF!"}},null,null,null,{"$f":"IFERROR(AVERAGE(O24:O29),\"-\")","v":"-"},null,{"$f":"IFERROR(AVERAGE(Q24:Q29),\"-\")","v":"-"},null,{"$f":"IFERROR(AVERAGE(S24:S29),\"-\")","v":"-"},null,{"$f":"IFERROR(AVERAGE(U24:U29),\"-\")","v":"-"},null,{"$f":"IFERROR(AVERAGE(W24:W29),\"-\")","v":"-"},null,{"$f":"IFERROR(AVERAGE(Y24:Y29),\"-\")","v":"-"}]
[null,null,null,{"$f":"IF($H$2=\"G\",'Spiegazioni Skills FTEM'!F16,'Spiegazioni Skills FTEM'!B16)","v":"Passare"},null,null,{"$f":"IF($H$2=\"G\",'Spiegazioni Skills FTEM'!G16,'Spiegazioni Skills FTEM'!C16)","v":"Passaggio (distanza, flipp, rovescio), ricezione del passaggio (precisione, timing, diritto, rovescio, sul pattino), velocità del disco"},null,null,{"$f":"IF($H$2=\"G\",'Spiegazioni Skills FTEM'!#REF!,'Spiegazioni Skills FTEM'!#REF!)","v":{"$error":"#REF!"}}]
[null,null,null,{"$f":"IF($H$2=\"G\",'Spiegazioni Skills FTEM'!F17,'Spiegazioni Skills FTEM'!B17)","v":"Lavoro col bastone - condotta del disco"},null,null,{"$f":"IF($H$2=\"G\",'Spiegazioni Skills FTEM'!G17,'Spiegazioni Skills FTEM'!C17)","v":"Bastone sul disco, intercettare le linee di passaggio, deviare, controllo del bastone avversario"},null,null,{"$f":"IF($H$2=\"G\",'Spiegazioni Skills FTEM'!#REF!,'Spiegazioni Skills FTEM'!#REF!)","v":{"$error":"#REF!"}}]
[{"$f":"'Spiegazioni Skills FTEM'!A16:A16","v":0},null,null,{"$f":"IF($H$2=\"G\",'Spiegazioni Skills FTEM'!F18,'Spiegazioni Skills FTEM'!B18)","v":"Possedere/proteggere il disco"},null,null,{"$f":"IF($H$2=\"G\",'Spiegazioni Skills FTEM'!G18,'Spiegazioni Skills FTEM'!C18)","v":"Controllo del disco, dribbling, protezione del disco, finte (varianti col pattino, con o senza la balaustra), ingaggi (face-off)"},null,null,{"$f":"IF($H$2=\"G\",'Spiegazioni Skills FTEM'!#REF!,'Spiegazioni Skills FTEM'!#REF!)","v":{"$error":"#REF!"}}]
[{"$f":"'Spiegazioni Skills FTEM'!A17:A17","v":0},null,null,{"$f":"IF($H$2=\"G\",'Spiegazioni Skills FTEM'!F19,'Spiegazioni Skills FTEM'!B19)","v":"Gioco del corpo"},null,null,{"$f":"IF($H$2=\"G\",'Spiegazioni Skills FTEM'!G19,'Spiegazioni Skills FTEM'!C19)","v":"Facoltà di imporsi fisicamente, duelli (ghiaccio aperto, balaustra), subire dei checks/testa alta, livello di lotta, duro ma corretto, blocco dei tiri con il corpo"},null,null,{"$f":"IF($H$2=\"G\",'Spiegazioni Skills FTEM'!#REF!,'Spiegazioni Skills FTEM'!#REF!)","v":{"$error":"#REF!"}}]
[{"$f":"'Spiegazioni Skills FTEM'!A20:A20","v":0},null,null,{"$f":"IF($H$2=\"G\",'Spiegazioni Skills FTEM'!F20,'Spiegazioni Skills FTEM'!B20)","v":"-"},null,null,{"$f":"IF($H$2=\"G\",'Spiegazioni Skills FTEM'!G20,'Spiegazioni Skills FTEM'!C20)","v":"-"},null,null,{"$f":"IF($H$2=\"G\",'Spiegazioni Skills FTEM'!#REF!,'Spiegazioni Skills FTEM'!#REF!)","v":{"$error":"#REF!"}}]
[{"$f":"'Spiegazioni Skills FTEM'!A21","v":"SENSO DELL'HOCKEY"},null,null,{"$f":"IF($H$2=\"G\",'Spiegazioni Skills FTEM'!F21,'Spiegazioni Skills FTEM'!B21)","v":"Intelligenza nel gioco"},null,null,{"$f":"IF($H$2=\"G\",'Spiegazioni Skills FTEM'!G21,'Spiegazioni Skills FTEM'!C21)","v":"Vedere spazi e giocatori liberi, creare situazioni di superiorità numerica, agire cercando soluzioni in tutte le situazioni, velocità di visualizzazione"},null,null,{"$f":"IF($H$2=\"G\",'Spiegazioni Skills FTEM'!#REF!,'Spiegazioni Skills FTEM'!#REF!)","v":{"$error":"#REF!"}},null,null,null,{"$f":"IFERROR(AVERAGE(O30:O34),\"-\")","v":"-"},null,{"$f":"IFERROR(AVERAGE(Q30:Q34),\"-\")","v":"-"},null,{"$f":"IFERROR(AVERAGE(S30:S34),\"-\")","v":"-"},null,{"$f":"IFERROR(AVERAGE(U30:U34),\"-\")","v":"-"},null,{"$f":"IFERROR(AVERAGE(W30:W34),\"-\")","v":"-"},null,{"$f":"IFERROR(AVERAGE(Y30:Y34),\"-\")","v":"-"}]
[{"$f":"'Spiegazioni Skills FTEM'!A22:A22","v":0},null,null,{"$f":"IF($H$2=\"G\",'Spiegazioni Skills FTEM'!F22,'Spiegazioni Skills FTEM'!B22)","v":"Sensibilità offensiva"},null,null,{"$f":"IF($H$2=\"G\",'Spiegazioni Skills FTEM'!G22,'Spiegazioni Skills FTEM'!C22)","v":"Smarcarsi, anticipare le situazioni di gioco, aprire spazi liberi per i compagni, piazzarsi per le conclusioni, velocità nel chiudere gli spazi (pressione), comunicazione"},null,null,{"$f":"IF($H$2=\"G\",'Spiegazioni Skills FTEM'!#REF!,'Spiegazioni Skills FTEM'!#REF!)","v":{"$error":"#REF!"}}]
[null,null,null,{"$f":"IF($H$2=\"G\",'Spiegazioni Skills FTEM'!F23,'Spiegazioni Skills FTEM'!B23)","v":"Sensibilità difensiva"},null,null,{"$f":"IF($H$2=\"G\",'Spiegazioni Skills FTEM'!G23,'Spiegazioni Skills FTEM'!C23)","v":"Mantenere la posizione difensiva, protezione dello slot, assicurare i compagni / supporto, individuare le linee di passaggio, bloccare i tiri, ridurre velocemente gli spazi, comunicazione"},null,null,{"$f":"IF($H$2=\"G\",'Spiegazioni Skills FTEM'!#REF!,'Spiegazioni Skills FTEM'!#REF!)","v":{"$error":"#REF!"}}]
[{"$f":"'Spiegazioni Skills FTEM'!A24:A24","v":0},null,null,{"$f":"IF($H$2=\"G\",'Spiegazioni Skills FTEM'!F24,'Spiegazioni Skills FTEM'!B24)","v":"Gestione del disco"},null,null,{"$f":"IF($H$2=\"G\",'Spiegazioni Skills FTEM'!G24,'Spiegazioni Skills FTEM'!C24)","v":"Prendere decisioni adeguate nelle situazioni di gioco, supporto, creare superiorità numerica"},null,null,{"$f":"IF($H$2=\"G\",'Spiegazioni Skills FTEM'!#REF!,'Spiegazioni Skills FTEM'!#REF!)","v":{"$error":"#REF!"}}]
[{"$f":"'Spiegazioni Skills FTEM'!A25:A25","v":0},null,null,{"$f":"IF($H$2=\"G\",'Spiegazioni Skills FTEM'!F25,'Spiegazioni Skills FTEM'!B25)","v":"Creatività"},null,null,{"$f":"IF($H$2=\"G\",'Spiegazioni Skills FTEM'!G25,'Spiegazioni Skills FTEM'!C25)","v":"Creare situazioni a sorpresa, fiuto del gol"},null,null,{"$f":"IF($H$2=\"G\",'Spiegazioni Skills FTEM'!#REF!,'Spiegazioni Skills FTEM'!#REF!)","v":{"$error":"#REF!"}}]
[{"$f":"'Spiegazioni Skills FTEM'!A26","v":"PERSONALITY"},null,null,{"$f":"'Spiegazioni Skills FTEM'!B26","v":"CAPACITÀ"},null,null,{"$f":"'Spiegazioni Skills FTEM'!C26","v":"CRITERIO D'OSSERVAZIONE"},null,null,{"$f":"'Spiegazioni Skills FTEM'!H26","v":0},null,null,null,"Data1",null,"Data2",null,"Data3",null,"Data4",null,"Data5",null,"Player",null,"OBIETTIVO","PROVVEDIMENTI:\n(SPECIFICI, MISURABILI, REALISTICI)",null,null,null,null,null,null,"TERMINE","COTROLLO DELL'OBIETTIVO","Date"]
[{"$f":"'Spiegazioni Skills FTEM'!A27","v":"PERSONALITÀ"},null,null,{"$f":"IF($H$2=\"G\",'Spiegazioni Skills FTEM'!F27,'Spiegazioni Skills FTEM'!B27)","v":"Fiducia in se stesso"},null,null,{"$f":"IF($H$2=\"G\",'Spiegazioni Skills FTEM'!G27,'Spiegazioni Skills FTEM'!C27)","v":"Possiede la necessaria fiducia in se stesso, «I can do it»-attitudine, sa valutare le proprie capacità (conosce i propri punti forti e deboli), può realizzare le proprie qualità con\ncostanza, è coraggioso e sa prendere dei rischi calcolati"},null,null,{"$f":"IF($H$2=\"G\",'Spiegazioni Skills FTEM'!#REF!,'Spiegazioni Skills FTEM'!#REF!)","v":{"$error":"#REF!"}},null,null,null,{"$f":"IFERROR(AVERAGE(O36:O40),\"-\")","v":"-"},null,{"$f":"IFERROR(AVERAGE(Q36:Q40),\"-\")","v":"-"},null,{"$f":"IFERROR(AVERAGE(S36:S40),\"-\")","v":"-"},null,{"$f":"IFERROR(AVERAGE(U36:U40),\"-\")","v":"-"},null,{"$f":"IFERROR(AVERAGE(W36:W40),\"-\")","v":"-"},null,{"$f":"IFERROR(AVERAGE(Y36:Y40),\"-\")","v":"-"}]
[{"$f":"'Spiegazioni Skills FTEM'!A28:A28","v":0},null,null,{"$f":"IF($H$2=\"G\",'Spiegazioni Skills FTEM'!F28,'Spiegazioni Skills FTEM'!B28)","v":"Capacità d'apprendimento"},null,null,{"$f":"IF($H$2=\"G\",'Spiegazioni Skills FTEM'!G28,'Spiegazioni Skills FTEM'!C28)","v":"Ha una buona capacità d'apprendimento (sa recepire e realizzare), possiede una personalità, cerca di imparare dai propri errori derivandone delle misure"},null,null,{"$f":"IF($H$2=\"G\",'Spiegazioni Skills FTEM'!#REF!,'Spiegazioni Skills FTEM'!#REF!)","v":{"$error":"#REF!"}}]
[null,null,null,{"$f":"IF($H$2=\"G\",'Spiegazioni Skills FTEM'!F29,'Spiegazioni Skills FTEM'!B29)","v":"Senso di responsabilità"},null,null,{"$f":"IF($H$2=\"G\",'Spiegazioni Skills FTEM'!G29,'Spiegazioni Skills FTEM'!C29)","v":"Assume responsabiltà per le proprie prestazioni e sviluppo, agisce autonomamente, cura i dettagli, mostra un grande impegno in tutti i settori"},null,null,{"$f":"IF($H$2=\"G\",'Spiegazioni Skills FTEM'!#REF!,'Spiegazioni Skills FTEM'!#REF!)","v":{"$error":"#REF!"}}]
[{"$f":"'Spiegazioni Skills FTEM'!A30:A30","v":0},null,null,{"$f":"IF($H$2=\"G\",'Spiegazioni Skills FTEM'!F30,'Spiegazioni Skills FTEM'!B30)","v":"Motivazione"},null,null,{"$f":"IF($H$2=\"G\",'Spiegazioni Skills FTEM'!G30,'Spiegazioni Skills FTEM'!C30)","v":"È sempre motivato, vuole sempre svilupparsi e imparare, vuol essere il primo e avere successo, non rinuncia mai e non si lascia influenzare dagli insuccessi"},null,null,{"$f":"IF($H$2=\"G\",'Spiegazioni Skills FTEM'!#REF!,'Spiegazioni Skills FTEM'!#REF!)","v":{"$error":"#REF!"}}]
[{"$f":"'Spiegazioni Skills FTEM'!A31:A31","v":0},null,null,{"$f":"IF($H$2=\"G\",'Spiegazioni Skills FTEM'!F31,'Spiegazioni Skills FTEM'!B31)","v":"Prestazione Stile di vita"},null,null,{"$f":"IF($H$2=\"G\",'Spiegazioni Skills FTEM'!G31,'Spiegazioni Skills FTEM'!C31)","v":"Gestisce bene la quotidianità il suo ambiente seguendo i principi della prestazione, caparbio, perseverante e finalizzato sugli obiettivi, focus sulla propria prestazione, coraggioso e grintoso, sa imporsi nei confronti delle resistenze, le sfide lo motivano"},null,null,{"$f":"IF($H$2=\"G\",'Spiegazioni Skills FTEM'!#REF!,'Spiegazioni Skills FTEM'!#REF!)","v":{"$error":"#REF!"}}]
[{"$f":"'Spiegazioni Skills FTEM'!A32","v":"FORZA MENTALE"},null,null,{"$f":"IF($H$2=\"G\",'Spiegazioni Skills FTEM'!F32,'Spiegazioni Skills FTEM'!B32)","v":"Impegno"},null,null,{"$f":"IF($H$2=\"G\",'Spiegazioni Skills FTEM'!G32,'Spiegazioni Skills FTEM'!C32)","v":"Mostra molta intensità negli allenamenti e nelle partite, dà sempre il massimo e vuole sempre spronare i propri limiti, mostra passione, si sforza ad alzare la qualità negli allenamenti"},null,null,{"$f":"IF($H$2=\"G\",'Spiegazioni Skills FTEM'!#REF!,'Spiegazioni Skills FTEM'!#REF!)","v":{"$error":"#REF!"}},null,null,null,{"$f":"IFERROR(AVERAGE(O41:O45),\"-\")","v":"-"},null,{"$f":"IFERROR(AVERAGE(Q41:Q45),\"-\")","v":"-"},null,{"$f":"IFERROR(AVERAGE(S41:S45),\"-\")","v":"-"},null,{"$f":"IFERROR(AVERAGE(U41:U45),\"-\")","v":"-"},null,{"$f":"IFERROR(AVERAGE(W41:W45),\"-\")","v":"-"},null,{"$f":"IFERROR(AVERAGE(Y41:Y45),\"-\")","v":"-"}]
[null,null,null,{"$f":"IF($H$2=\"G\",'Spiegazioni Skills FTEM'!F33,'Spiegazioni Skills FTEM'!B33)","v":"Preparazione"},null,null,{"$f":"IF($H$2=\"G\",'Spiegazioni Skills FTEM'!G33,'Spiegazioni Skills FTEM'!C33)","v":"Preparazione consapevole e finalizzata, mentalmente e fisicamente, possiede un efficiente approccio per l'ottenimento dell'ideale stato di prestazione (ILZ/ISP)"},null,null,{"$f":"IF($H$2=\"G\",'Spiegazioni Skills FTEM'!#REF!,'Spiegazioni Skills FTEM'!#REF!)","v":{"$error":"#REF!"}}]
[{"$f":"'Spiegazioni Skills FTEM'!A34:A34","v":0},null,null,{"$f":"IF($H$2=\"G\",'Spiegazioni Skills FTEM'!F34,'Spiegazioni Skills FTEM'!B34)","v":"Coaching individuale"},null,null,{"$f":"IF($H$2=\"G\",'Spiegazioni Skills FTEM'!G34,'Spiegazioni Skills FTEM'!C34)","v":"Possiede una buona capacità di concentrazione, può mantenere il suo ILZ/ISP durante la partita e l'allenamento, può utilizzare tecniche di base per rafforzare il mentale, resistenti contro pensieri e influenze negative, è consapevole del proprio linguaggio del corpo che è in grado di padroneggiare"},null,null,{"$f":"IF($H$2=\"G\",'Spiegazioni Skills FTEM'!#REF!,'Spiegazioni Skills FTEM'!#REF!)","v":{"$error":"#REF!"}}]
[{"$f":"'Spiegazioni Skills FTEM'!A35:A35","v":0},null,null,{"$f":"IF($H$2=\"G\",'Spiegazioni Skills FTEM'!F35,'Spiegazioni Skills FTEM'!B35)","v":"Gestione delle energie"},null,null,{"$f":"IF($H$2=\"G\",'Spiegazioni Skills FTEM'!G35,'Spiegazioni Skills FTEM'!C35)","v":"Può gestire le proprie energie, cura la rigenerazione, può gestire i momenti in cui si deve andare al massimo oppure risparmiarsi, interruttore on/off"},null,null,{"$f":"IF($H$2=\"G\",'Spiegazioni Skills FTEM'!#REF!,'Spiegazioni Skills FTEM'!#REF!)","v":{"$error":"#REF!"}}]
[{"$f":"'Spiegazioni Skills FTEM'!A36:A36","v":0},null,null,{"$f":"IF($H$2=\"G\",'Spiegazioni Skills FTEM'!F36,'Spiegazioni Skills FTEM'!B36)","v":"Controllo delle emozioni"},null,null,{"$f":"IF($H$2=\"G\",'Spiegazioni Skills FTEM'!G36,'Spiegazioni Skills FTEM'!C36)","v":"Può regolare le proprie emozioni e impulsi, mantiene il controllo quando si trova sotto pressione, sa anche agire adeguatamente in situazioni emotive o frustranti"},null,null,{"$f":"IF($H$2=\"G\",'Spiegazioni Skills FTEM'!#REF!,'Spiegazioni Skills FTEM'!#REF!)","v":{"$error":"#REF!"}}]
[{"$f":"'Spiegazioni Skills FTEM'!A37","v":"FISICO"},null,null,{"$f":"IF($H$2=\"G\",'Spiegazioni Skills FTEM'!F37,'Spiegazioni Skills FTEM'!B37)","v":"Produzione di prestazione"},null,null,{"$f":"IF($H$2=\"G\",'Spiegazioni Skills FTEM'!G37,'Spiegazioni Skills FTEM'!C37)","v":"Possiede nelle gambe e nella parte alta del corpo la necessaria potenza/forza/velocità (fattori neuromuscolari)"},null,null,{"$f":"IF($H$2=\"G\",'Spiegazioni Skills FTEM'!#REF!,'Spiegazioni Skills FTEM'!#REF!)","v":{"$error":"#REF!"}},null,null,null,{"$f":"IFERROR(AVERAGE(O46:O50),\"-\")","v":"-"},null,{"$f":"IFERROR(AVERAGE(Q46:Q50),\"-\")","v":"-"},null,{"$f":"IFERROR(AVERAGE(S46:S50),\"-\")","v":"-"},null,{"$f":"IFERROR(AVERAGE(U46:U50),\"-\")","v":"-"},null,{"$f":"IFERROR(AVERAGE(W46:W50),\"-\")","v":"-"},null,{"$f":"IFERROR(AVERAGE(Y46:Y50),\"-\")","v":"-"}]
[null,null,null,{"$f":"IF($H$2=\"G\",'Spiegazioni Skills FTEM'!F38,'Spiegazioni Skills FTEM'!B38)","v":"Resistenza specifica alla fatica"},null,null,{"$f":"IF($H$2=\"G\",'Spiegazioni Skills FTEM'!G38,'Spiegazioni Skills FTEM'!C38)","v":"È capace di mantenere a lungo nell'ambito di un impiego la potenza/forza/velocità ed è capace di recuperare completamente attraverso i vari impieghi sul ghiaccio (fattori metabolici e cardiovascolari)"},null,null,{"$f":"IF($H$2=\"G\",'Spiegazioni Skills FTEM'!#REF!,'Spiegazioni Skills FTEM'!#REF!)","v":{"$error":"#REF!"}}]
[{"$f":"'Spiegazioni Skills FTEM'!A39:A39","v":0},null,null,{"$f":"IF($H$2=\"G\",'Spiegazioni Skills FTEM'!F39,'Spiegazioni Skills FTEM'!B39)","v":"Salute / prevenzione"},null,null,{"$f":"IF($H$2=\"G\",'Spiegazioni Skills FTEM'!G39,'Spiegazioni Skills FTEM'!C39)","v":"Possiede la necessaria stabilità (stabilità delle gambe) e mobilità delle articolazioni centrali"},null,null,{"$f":"IF($H$2=\"G\",'Spiegazioni Skills FTEM'!#REF!,'Spiegazioni Skills FTEM'!#REF!)","v":{"$error":"#REF!"}}]
[{"$f":"'Spiegazioni Skills FTEM'!A40:A40","v":0},null,null,{"$f":"IF($H$2=\"G\",'Spiegazioni Skills FTEM'!F40,'Spiegazioni Skills FTEM'!B40)","v":"Competenze della mobilità"},null,null,{"$f":"IF($H$2=\"G\",'Spiegazioni Skills FTEM'!G40,'Spiegazioni Skills FTEM'!C40)","v":"Padroneggia le basilari capacità di movimento che garantiscono in modo determinante le abilità specifiche \"skills\", come pure l'efficacia dei movimenti"},null,null,{"$f":"IF($H$2=\"G\",'Spiegazioni Skills FTEM'!#REF!,'Spiegazioni Skills FTEM'!#REF!)","v":{"$error":"#REF!"}}]
[{"$f":"'Spiegazioni Skills FTEM'!A41:A41","v":0},null,null,{"$f":"IF($H$2=\"G\",'Spiegazioni Skills FTEM'!F41,'Spiegazioni Skills FTEM'!B41)","v":"Robustezza"},null,null,{"$f":"IF($H$2=\"G\",'Spiegazioni Skills FTEM'!G41,'Spiegazioni Skills FTEM'!C41)","v":"Possiede la necessaria forza di base (tensione del corpo) per vincere i duelli e resistere alle cariche"},null,null,{"$f":"IF($H$2=\"G\",'Spiegazioni Skills FTEM'!#REF!,'Spiegazioni Skills FTEM'!#REF!)","v":{"$error":"#REF!"}}]

{"sheet":"4","index":7,"n_rows":50,"n_cols":36,"rows_kept":50,"cut":false,"hidden":false,"merged":[[45,34,49,34],[45,12,49,12],[45,13,49,13],[45,15,49,15],[45,17,49,17],[45,19,49,19],[45,21,49,21],[45,23,49,23],[45,25,49,25],[45,26,49,32],[45,0,49,2],[45,3,45,5],[45,6,45,11],[46,3,46,5],[46,6,46,11],[48,3,48,5],[48,6,48,11],[49,3,49,5],[49,6,49,11],[47,3,47,5],[47,6,47,11],[40,23,44,23],[42,3,42,5],[42,6,42,11],[44,3,44,5],[44,6,44,11],[40,0,44,2],[40,3,40,5],[40,6,40,11],[40,12,44,12],[40,13,44,13],[40,15,44,15],[43,3,43,5],[43,6,43,11],[34,21,34,22],[35,17,39,17],[35,19,39,19],[35,21,39,21],[37,3,37,5],[37,6,37,11],[38,3,38,5],[38,6,38,11],[40,17,44,17],[40,19,44,19],[40,21,44,21],[36,3,36,5],[36,6,36,11],[41,3,41,5],[41,6,41,11],[29,0,33,2],[29,3,29,5],[29,6,29,11],[29,12,33,12],[29,13,33,13],[29,15,33,15],[34,23,34,24],[34,26,34,32],[35,0,39,2],[35,3,35,5],[35,6,35,11],[35,12,39,12],[35,13,39,13],[35,15,39,15],[39,3,39,5],[39,6,39,11],[35,23,39,23],[34,0,34,2],[34,3,34,5],[34,6,34,11],[34,13,34,14],[34,15,34,16],[34,17,34,18],[34,19,34,20],[23,19,28,19],[23,21,28,21],[23,23,28,23],[26,3,26,5],[26,6,26,11],[28,3,28,5],[28,6,28,11],[33,3,33,5],[33,6,33,11],[29,23,33,23],[29,17,33,17],[29,19,33,19],[29,21,33,21],[31,3,31,5],[31,6,31,11],[32,3,32,5],[32,6,32,11],[27,3,27,5],[27,6,27,11],[25,3,25,5],[25,6,25,11],[30,3,30,5],[30,6,30,11],[12,21,16,21],[18,15,22,15],[18,17,22,17],[18,19,22,19],[18,21,22,21],[18,23,22,23],[22,3,22,5],[22,6,22,11],[23,0,28,2],[23,3,23,5],[23,6,23,11],[23,12,28,12],[23,13,28,13],[23,15,28,15],[23,17,28,17],[18,0,22,2],[18,3,18,5],[18,6,18,11],[18,12,22,12],[18,13,22,13],[19,3,19,5],[19,6,19,11],[21,3,21,5],[21,6,21,11],[11,21,11,22],[11,23,11,24],[11,26,11,32],[11,6,11,11],[12,23,16,23],[16,3,16,5],[16,6,16,11],[17,0,17,2],[17,3,17,5],[17,6,17,11],[17,13,17,14],[17,15,17,16],[17,17,17,18],[17,19,17,20],[17,21,17,22],[17,23,17,24],[12,0,16,2],[12,3,12,5],[12,6,12,11],[12,12,16,12],[12,13,16,13],[12,15,16,15],[12,17,16,17],[12,19,16,19],[4,0,4,1],[4,2,4,5],[4,10,4,24],[10,0,10,24],[10,25,10,35],[40,25,44,25],[40,26,44,32],[40,34,44,34],[12,25,16,25],[12,26,16,32],[12,34,16,34],[18,25,22,25],[18,26,22,32],[18,34,22,34],[23,25,28,25],[23,26,28,32],[23,34,28,34],[17,26,17,32],[11,0,11,2],[11,3,11,5],[11,13,11,14],[11,15,11,16],[11,17,11,18],[11,19,11,20],[0,0,0,24],[0,25,0,26],[0,27,0,32],[0,33,0,35],[29,25,33,25],[29,26,33,32],[29,34,33,34],[35,25,39,25],[35,26,39,32],[35,34,39,34],[1,0,1,1],[1,2,1,5],[1,10,1,24],[2,0,2,1],[2,2,2,5],[2,11,2,24],[6,0,6,1],[6,2,6,35],[7,0,7,1],[7,2,7,35],[8,0,8,1],[8,2,8,35],[3,0,3,1],[3,10,3,24],[13,3,13,5],[13,6,13,11],[14,3,14,5],[14,6,14,11],[15,3,15,5],[15,6,15,11],[20,3,20,5],[20,6,20,11],[24,3,24,5],[24,6,24,11]]}
["Personalien",null,null,null,null,null,null,null,null,null,null,null,null,null,null,null,null,null,null,null,null,null,null,null,null,"Predisposizione",null,"Valutazioni",null,null,null,null,null,"Rating"]
["COGNOME",null,{"$f":"IF(ISBLANK(VLOOKUP(4,Tabelle3[],3,0)),\"-\",VLOOKUP(4,Tabelle3[],3,0))","v":"-"},null,null,null,"POSIZIONE",null,null,"INDIRIZZO",{"$f":"IF(ISBLANK(VLOOKUP(4,Tabelle3[],5,0)),\"-\",VLOOKUP(4,Tabelle3[],5,0))","v":"-"},null,null,null,null,null,null,null,null,null,null,null,null,null,null,"Età\" (biologica/età relativa)",null,"Data 1",null,null,"cm",null,"Kg",null,"ECCELLENTE",5]
["NOME",null,{"$f":"IF(ISBLANK(VLOOKUP(4,Tabelle3[],2,0)),\"-\",VLOOKUP(4,Tabelle3[],2,0))","v":"-"},null,null,null,"BASTONE",null,null,"LUOGO",{"$f":"IF(ISBLANK(VLOOKUP(4,Tabelle3[],7,0)),\"-\",VLOOKUP(4,Tabelle3[],7,0))","v":"-"},{"$f":"IF(ISBLANK(VLOOKUP(4,Tabelle3[],6,0)),\"-\",VLOOKUP(4,Tabelle3[],6,0))","v":"-"},null,null,null,null,null,null,null,null,null,null,null,null,null,"Predisposizione",null,"Data 2",null,null,"cm",null,"Kg",null,"BUONO",4]
["DATA DI NASC.",null,{"$f":"IF(ISBLANK(VLOOKUP(4,Tabelle3[],14,0)),\"-\",VLOOKUP(4,Tabelle3[],14,0))","v":"-"},{"$f":"IF(ISBLANK(VLOOKUP(4,Tabelle3[],15,0)),\"-\",VLOOKUP(4,Tabelle3[],15,0))","v":"-"},{"$f":"IF(ISBLANK(VLOOKUP(4,Tabelle3[],16,0)),\"-\",VLOOKUP(4,Tabelle3[],16,0))","v":"-"},null,"ALTEZZA",null,"cm (Finale)","TELEFONO",{"$f":"IF(ISBLANK(VLOOKUP(4,Tabelle3[],8,0)),\"-\",VLOOKUP(4,Tabelle3[],8,0))","v":"-"},null,null,null,null,null,null,null,null,null,null,null,null,null,null,"Ambiente di vita",null,"Data 3",null,null,"cm",null,"Kg",null,"MEDIO/DISCRETO",3]
["SESSO",null,{"$f":"IF(ISBLANK(VLOOKUP(4,Tabelle3[],13,0)),\"-\",VLOOKUP(4,Tabelle3[],13,0))","v":"-"},null,null,null,"PESO",null,"Kg (Finale)","E-Mail",{"$f":"IF(ISBLANK(VLOOKUP(4,Tabelle3[],9,0)),\"-\",VLOOKUP(4,Tabelle3[],9,0))","v":"-"},null,null,null,null,null,null,null,null,null,null,null,null,null,null,null,null,"Data 4",null,null,"cm",null,"Kg",null,"CON LACUNE",2]
[null,null,null,null,null,null,null,null,null,null,null,null,null,null,null,null,null,null,null,null,null,null,null,null,null,null,null,"Data 5",null,null,"cm",null,"Kg",null,"INSUFFICIENTE",1]
["Visione",null,"xxx"]
["Prossimo passo",null,"xxx"]
["Proflio giocatore",null,"xxx"]
[]
["VALUTAZIONI (COACH / GIOCATORE)",null,null,null,null,null,null,null,null,null,null,null,null,null,null,null,null,null,null,null,null,null,null,null,null,"Obiettivi SMART"]
[{"$f":"'Spiegazioni Skills FTEM'!A3","v":"TEAM"},null,null,{"$f":"'Spiegazioni Skills FTEM'!B3","v":"CAPACITÀ"},null,null,{"$f":"'Spiegazioni Skills FTEM'!C3","v":"CRITERIO D'OSSERVAZIONE"},null,null,{"$f":"'Spiegazioni Skills FTEM'!H3","v":0},null,null,"Final","Data1",null,"Data2",null,"Data3",null,"Data4",null,"Data5",null,"Player",null,"OBIETTIVO","PROVVEDIMENTI:\n(SPECIFICI, MISURABILI, REALISTICI)",null,null,null,null,null,null,"TERMINE","COTROLLO DELL'OBIETTIVO","Data"]
[{"$f":"'Spiegazioni Skills FTEM'!A4","v":"SQUADRA"},null,null,{"$f":"IF($H$2=\"G\",'Spiegazioni Skills FTEM'!F4,'Spiegazioni Skills FTEM'!B4)","v":"Comunicazione"},null,null,{"$f":"IF($H$2=\"G\",'Spiegazioni Skills FTEM'!G4,'Spiegazioni Skills FTEM'!C4)","v":"Cura relazioni aperte e rispettose, fiducia quale base comportamentale, affronta i conflitti senza ledere la stabilità del gruppo, comunica con i compagni, gli allenatori e\nfunzionari con i medesimi valori"},null,null,{"$f":"IF($H$2=\"G\",'Spiegazioni Skills FTEM'!#REF!,'Spiegazioni Skills FTEM'!#REF!)","v":{"$error":"#REF!"}},null,null,null,{"$f":"IFERROR(AVERAGE(O13:O17),\"-\")","v":"-"},null,{"$f":"IFERROR(AVERAGE(Q13:Q17),\"-\")","v":"-"},null,{"$f":"IFERROR(AVERAGE(S13:S17),\"-\")","v":"-"},null,{"$f":"IFERROR(AVERAGE(U13:U17),\"-\")","v":"-"},null,{"$f":"IFERROR(AVERAGE(W13:W17),\"-\")","v":"-"},null,{"$f":"IFERROR(AVERAGE(Y13:Y17),\"-\")","v":"-"}]
[{"$f":"'Spiegazioni Skills FTEM'!A5","v":0},null,null,{"$f":"IF($H$2=\"G\",'Spiegazioni Skills FTEM'!F5,'Spiegazioni Skills FTEM'!B5)","v":"Capacità nella squadra"},null,null,{"$f":"IF($H$2=\"G\",'Spiegazioni Skills FTEM'!G5,'Spiegazioni Skills FTEM'!C5)","v":"Integrazione nel gruppo, definisce e realizza obiettivi comuni, NOI prima dell'IO, contribuisce a creare un buon spirito di squadra e clima di lavoro"},null,null,{"$f":"IF($H$2=\"G\",'Spiegazioni Skills FTEM'!#REF!,'Spiegazioni Skills FTEM'!#REF!)","v":{"$error":"#REF!"}}]
[{"$f":"'Spiegazioni Skills FTEM'!A6","v":0},null,null,{"$f":"IF($H$2=\"G\",'Spiegazioni Skills FTEM'!F6,'Spiegazioni Skills FTEM'!B6)","v":"Leadership"},null,null,{"$f":"IF($H$2=\"G\",'Spiegazioni Skills FTEM'!G6,'Spiegazioni Skills FTEM'!C6)","v":"Assume responsabilità nell'ambito del gruppo, cerca di migliorare la squadra e i compagni, influenza positivamente la dinamica di gruppo"},null,null,{"$f":"IF($H$2=\"G\",'Spiegazioni Skills FTEM'!#REF!,'Spiegazioni Skills FTEM'!#REF!)","v":{"$error":"#REF!"}}]
[{"$f":"'Spiegazioni Skills FTEM'!A7","v":0},null,null,{"$f":"IF($H$2=\"G\",'Spiegazioni Skills FTEM'!F7,'Spiegazioni Skills FTEM'!B7)","v":"Ripartizione dei ruoli"},null,null,{"$f":"IF($H$2=\"G\",'Spiegazioni Skills FTEM'!G7,'Spiegazioni Skills FTEM'!C7)","v":"Riconosce e adempie il suo ruolo, è cosciente della sua posizione nel sistema e nella squadra, mette a disposizione della squadra le sue competenze"},null,null,{"$f":"IF($H$2=\"G\",'Spiegazioni Skills FTEM'!#REF!,'Spiegazioni Skills FTEM'!#REF!)","v":{"$error":"#REF!"}}]
[{"$f":"'Spiegazioni Skills FTEM'!A8","v":0},null,null,{"$f":"IF($H$2=\"G\",'Spiegazioni Skills FTEM'!F8,'Spiegazioni Skills FTEM'!B8)","v":"Rispetto"},null,null,{"$f":"IF($H$2=\"G\",'Spiegazioni Skills FTEM'!G8,'Spiegazioni Skills FTEM'!C8)","v":"Relazioni rispettose con i compagni, allenatori, avversari, arbitri e staff; rispetta le regole i pricipi del fairplay (compreso la lotta al doping)"},null,null,{"$f":"IF($H$2=\"G\",'Spiegazioni Skills FTEM'!#REF!,'Spiegazioni Skills FTEM'!#REF!)","v":{"$error":"#REF!"}}]
[{"$f":"'Spiegazioni Skills FTEM'!A9","v":"ON ICE"},null,null,{"$f":"'Spiegazioni Skills FTEM'!B9","v":"CAPACITÀ"},null,null,{"$f":"'Spiegazioni Skills FTEM'!C9","v":"CRITERIO D'OSSERVAZIONE"},null,null,{"$f":"'Spiegazioni Skills FTEM'!H9","v":0},null,null,null,"Data1",null,"Data2",null,"Data3",null,"Data4",null,"Data5",null,"Player",null,"OBIETTIVO","PROVVEDIMENTI:\n(SPECIFICI, MISURABILI, REALISTICI)",null,null,null,null,null,null,"TERMINE","COTROLLO DELL'OBIETTIVO","Date"]
[{"$f":"'Spiegazioni Skills FTEM'!A10","v":"PATTINAGGIO"},null,null,{"$f":"IF($H$2=\"G\",'Spiegazioni Skills FTEM'!F10,'Spiegazioni Skills FTEM'!B10)","v":"Velocità dei piedi"},null,null,{"$f":"IF($H$2=\"G\",'Spiegazioni Skills FTEM'!G10,'Spiegazioni Skills FTEM'!C10)","v":"Accelerazione, partenza, esplosività dei primi 3 passi, frequenza"},null,null,{"$f":"IF($H$2=\"G\",'Spiegazioni Skills FTEM'!#REF!,'Spiegazioni Skills FTEM'!#REF!)","v":{"$error":"#REF!"}},null,null,null,{"$f":"IFERROR(AVERAGE(O19:O23),\"-\")","v":"-"},null,{"$f":"IFERROR(AVERAGE(Q19:Q23),\"-\")","v":"-"},null,{"$f":"IFERROR(AVERAGE(S19:S23),\"-\")","v":"-"},null,{"$f":"IFERROR(AVERAGE(U19:U23),\"-\")","v":"-"},null,{"$f":"IFERROR(AVERAGE(W19:W23),\"-\")","v":"-"},null,{"$f":"IFERROR(AVERAGE(Y19:Y23),\"-\")","v":"-"}]
[{"$f":"'Spiegazioni Skills FTEM'!A11:A11","v":0},null,null,{"$f":"IF($H$2=\"G\",'Spiegazioni Skills FTEM'!F11,'Spiegazioni Skills FTEM'!B11)","v":"Velocità/rapidità"},null,null,{"$f":"IF($H$2=\"G\",'Spiegazioni Skills FTEM'!G11,'Spiegazioni Skills FTEM'!C11)","v":"Velocità, facoltà di scivolare, avanti / indietro, economia dello sforzo"},null,null,{"$f":"IF($H$2=\"G\",'Spiegazioni Skills FTEM'!#REF!,'Spiegazioni Skills FTEM'!#REF!)","v":{"$error":"#REF!"}}]
[null,null,null,{"$f":"IF($H$2=\"G\",'Spiegazioni Skills FTEM'!F12,'Spiegazioni Skills FTEM'!B12)","v":"Agilità"},null,null,{"$f":"IF($H$2=\"G\",'Spiegazioni Skills FTEM'!G12,'Spiegazioni Skills FTEM'!C12)","v":"Cambiamento di direzione, girarsi, stop e ripartenza, \"Nummelin\""},null,null,{"$f":"IF($H$2=\"G\",'Spiegazioni Skills FTEM'!#REF!,'Spiegazioni Skills FTEM'!#REF!)","v":{"$error":"#REF!"}}]
[{"$f":"'Spiegazioni Skills FTEM'!A12:A12","v":0},null,null,{"$f":"IF($H$2=\"G\",'Spiegazioni Skills FTEM'!F13,'Spiegazioni Skills FTEM'!B13)","v":"Equilibrio"},null,null,{"$f":"IF($H$2=\"G\",'Spiegazioni Skills FTEM'!G13,'Spiegazioni Skills FTEM'!C13)","v":"Equilibrio, stabilità, posizione bassa, su una gamba, su entrambe"},null,null,{"$f":"IF($H$2=\"G\",'Spiegazioni Skills FTEM'!#REF!,'Spiegazioni Skills FTEM'!#REF!)","v":{"$error":"#REF!"}},null,null,null,{"$f":"IFERROR(AVERAGE(O22:O23),\"-\")","v":"-"},null,{"$f":"IFERROR(AVERAGE(Q22:Q23),\"-\")","v":"-"},null,{"$f":"IFERROR(AVERAGE(S22:S23),\"-\")","v":"-"},null,{"$f":"IFERROR(AVERAGE(U22:U23),\"-\")","v":"-"},null,{"$f":"IFERROR(AVERAGE(W22:W23),\"-\")","v":"-"},null,"-"]
[{"$f":"'Spiegazioni Skills FTEM'!A14:A14","v":0},null,null,{"$f":"IF($H$2=\"G\",'Spiegazioni Skills FTEM'!F14,'Spiegazioni Skills FTEM'!B14)","v":"Pattinaggio indietro"},null,null,{"$f":"IF($H$2=\"G\",'Spiegazioni Skills FTEM'!G14,'Spiegazioni Skills FTEM'!C14)","v":"Accelerazione, velocità, equilibrio"},null,null,{"$f":"IF($H$2=\"G\",'Spiegazioni Skills FTEM'!#REF!,'Spiegazioni Skills FTEM'!#REF!)","v":{"$error":"#REF!"}}]
[{"$f":"'Spiegazioni Skills FTEM'!A15","v":"ABILITÀ"},null,null,{"$f":"IF($H$2=\"G\",'Spiegazioni Skills FTEM'!F15,'Spiegazioni Skills FTEM'!B15)","v":"Tirare"},null,null,{"$f":"IF($H$2=\"G\",'Spiegazioni Skills FTEM'!G15,'Spiegazioni Skills FTEM'!C15)","v":"Efficienza (poco spazio, poco tempo), ricchezza di varianti, grado di sorpresa (Quick Release), precisione, potenza (conclusioni tattiche)"},null,null,{"$f":"IF($H$2=\"G\",'Spiegazioni Skills FTEM'!#REF!,'Spiegazioni Skills FTEM'!#REF!)","v":{"$error":"#REF!"}},null,null,null,{"$f":"IFERROR(AVERAGE(O24:O29),\"-\")","v":"-"},null,{"$f":"IFERROR(AVERAGE(Q24:Q29),\"-\")","v":"-"},null,{"$f":"IFERROR(AVERAGE(S24:S29),\"-\")","v":"-"},null,{"$f":"IFERROR(AVERAGE(U24:U29),\"-\")","v":"-"},null,{"$f":"IFERROR(AVERAGE(W24:W29),\"-\")","v":"-"},null,{"$f":"IFERROR(AVERAGE(Y24:Y29),\"-\")","v":"-"}]
[null,null,null,{"$f":"IF($H$2=\"G\",'Spiegazioni Skills FTEM'!F16,'Spiegazioni Skills FTEM'!B16)","v":"Passare"},null,null,{"$f":"IF($H$2=\"G\",'Spiegazioni Skills FTEM'!G16,'Spiegazioni Skills FTEM'!C16)","v":"Passaggio (distanza, flipp, rovescio), ricezione del passaggio (precisione, timing, diritto, rovescio, sul pattino), velocità del disco"},null,null,{"$f":"IF($H$2=\"G\",'Spiegazioni Skills FTEM'!#REF!,'Spiegazioni Skills FTEM'!#REF!)","v":{"$error":"#REF!"}}]
[null,null,null,{"$f":"IF($H$2=\"G\",'Spiegazioni Skills FTEM'!F17,'Spiegazioni Skills FTEM'!B17)","v":"Lavoro col bastone - condotta del disco"},null,null,{"$f":"IF($H$2=\"G\",'Spiegazioni Skills FTEM'!G17,'Spiegazioni Skills FTEM'!C17)","v":"Bastone sul disco, intercettare le linee di passaggio, deviare, controllo del bastone avversario"},null,null,{"$f":"IF($H$2=\"G\",'Spiegazioni Skills FTEM'!#REF!,'Spiegazioni Skills FTEM'!#REF!)","v":{"$error":"#REF!"}}]
[{"$f":"'Spiegazioni Skills FTEM'!A16:A16","v":0},null,null,{"$f":"IF($H$2=\"G\",'Spiegazioni Skills FTEM'!F18,'Spiegazioni Skills FTEM'!B18)","v":"Possedere/proteggere il disco"},null,null,{"$f":"IF($H$2=\"G\",'Spiegazioni Skills FTEM'!G18,'Spiegazioni Skills FTEM'!C18)","v":"Controllo del disco, dribbling, protezione del disco, finte (varianti col pattino, con o senza la balaustra), ingaggi (face-off)"},null,null,{"$f":"IF($H$2=\"G\",'Spiegazioni Skills FTEM'!#REF!,'Spiegazioni Skills FTEM'!#REF!)","v":{"$error":"#REF!"}}]
[{"$f":"'Spiegazioni Skills FTEM'!A17:A17","v":0},null,null,{"$f":"IF($H$2=\"G\",'Spiegazioni Skills FTEM'!F19,'Spiegazioni Skills FTEM'!B19)","v":"Gioco del corpo"},null,null,{"$f":"IF($H$2=\"G\",'Spiegazioni Skills FTEM'!G19,'Spiegazioni Skills FTEM'!C19)","v":"Facoltà di imporsi fisicamente, duelli (ghiaccio aperto, balaustra), subire dei checks/testa alta, livello di lotta, duro ma corretto, blocco dei tiri con il corpo"},null,null,{"$f":"IF($H$2=\"G\",'Spiegazioni Skills FTEM'!#REF!,'Spiegazioni Skills FTEM'!#REF!)","v":{"$error":"#REF!"}}]
[{"$f":"'Spiegazioni Skills FTEM'!A20:A20","v":0},null,null,{"$f":"IF($H$2=\"G\",'Spiegazioni Skills FTEM'!F20,'Spiegazioni Skills FTEM'!B20)","v":"-"},null,null,{"$f":"IF($H$2=\"G\",'Spiegazioni Skills FTEM'!G20,'Spiegazioni Skills FTEM'!C20)","v":"-"},null,null,{"$f":"IF($H$2=\"G\",'Spiegazioni Skills FTEM'!#REF!,'Spiegazioni Skills FTEM'!#REF!)","v":{"$error":"#REF!"}}]
[{"$f":"'Spiegazioni Skills FTEM'!A21","v":"SENSO DELL'HOCKEY"},null,null,{"$f":"IF($H$2=\"G\",'Spiegazioni Skills FTEM'!F21,'Spiegazioni Skills FTEM'!B21)","v":"Intelligenza nel gioco"},null,null,{"$f":"IF($H$2=\"G\",'Spiegazioni Skills FTEM'!G21,'Spiegazioni Skills FTEM'!C21)","v":"Vedere spazi e giocatori liberi, creare situazioni di superiorità numerica, agire cercando soluzioni in tutte le situazioni, velocità di visualizzazione"},null,null,{"$f":"IF($H$2=\"G\",'Spiegazioni Skills FTEM'!#REF!,'Spiegazioni Skills FTEM'!#REF!)","v":{"$error":"#REF!"}},null,null,null,{"$f":"IFERROR(AVERAGE(O30:O34),\"-\")","v":"-"},null,{"$f":"IFERROR(AVERAGE(Q30:Q34),\"-\")","v":"-"},null,{"$f":"IFERROR(AVERAGE(S30:S34),\"-\")","v":"-"},null,{"$f":"IFERROR(AVERAGE(U30:U34),\"-\")","v":"-"},null,{"$f":"IFERROR(AVERAGE(W30:W34),\"-\")","v":"-"},null,{"$f":"IFERROR(AVERAGE(Y30:Y34),\"-\")","v":"-"}]
[{"$f":"'Spiegazioni Skills FTEM'!A22:A22","v":0},null,null,{"$f":"IF($H$2=\"G\",'Spiegazioni Skills FTEM'!F22,'Spiegazioni Skills FTEM'!B22)","v":"Sensibilità offensiva"},null,null,{"$f":"IF($H$2=\"G\",'Spiegazioni Skills FTEM'!G22,'Spiegazioni Skills FTEM'!C22)","v":"Smarcarsi, anticipare le situazioni di gioco, aprire spazi liberi per i compagni, piazzarsi per le conclusioni, velocità nel chiudere gli spazi (pressione), comunicazione"},null,null,{"$f":"IF($H$2=\"G\",'Spiegazioni Skills FTEM'!#REF!,'Spiegazioni Skills FTEM'!#REF!)","v":{"$error":"#REF!"}}]
[null,null,null,{"$f":"IF($H$2=\"G\",'Spiegazioni Skills FTEM'!F23,'Spiegazioni Skills FTEM'!B23)","v":"Sensibilità difensiva"},null,null,{"$f":"IF($H$2=\"G\",'Spiegazioni Skills FTEM'!G23,'Spiegazioni Skills FTEM'!C23)","v":"Mantenere la posizione difensiva, protezione dello slot, assicurare i compagni / supporto, individuare le linee di passaggio, bloccare i tiri, ridurre velocemente gli spazi, comunicazione"},null,null,{"$f":"IF($H$2=\"G\",'Spiegazioni Skills FTEM'!#REF!,'Spiegazioni Skills FTEM'!#REF!)","v":{"$error":"#REF!"}}]
[{"$f":"'Spiegazioni Skills FTEM'!A24:A24","v":0},null,null,{"$f":"IF($H$2=\"G\",'Spiegazioni Skills FTEM'!F24,'Spiegazioni Skills FTEM'!B24)","v":"Gestione del disco"},null,null,{"$f":"IF($H$2=\"G\",'Spiegazioni Skills FTEM'!G24,'Spiegazioni Skills FTEM'!C24)","v":"Prendere decisioni adeguate nelle situazioni di gioco, supporto, creare superiorità numerica"},null,null,{"$f":"IF($H$2=\"G\",'Spiegazioni Skills FTEM'!#REF!,'Spiegazioni Skills FTEM'!#REF!)","v":{"$error":"#REF!"}}]
[{"$f":"'Spiegazioni Skills FTEM'!A25:A25","v":0},null,null,{"$f":"IF($H$2=\"G\",'Spiegazioni Skills FTEM'!F25,'Spiegazioni Skills FTEM'!B25)","v":"Creatività"},null,null,{"$f":"IF($H$2=\"G\",'Spiegazioni Skills FTEM'!G25,'Spiegazioni Skills FTEM'!C25)","v":"Creare situazioni a sorpresa, fiuto del gol"},null,null,{"$f":"IF($H$2=\"G\",'Spiegazioni Skills FTEM'!#REF!,'Spiegazioni Skills FTEM'!#REF!)","v":{"$error":"#REF!"}}]
[{"$f":"'Spiegazioni Skills FTEM'!A26","v":"PERSONALITY"},null,null,{"$f":"'Spiegazioni Skills FTEM'!B26","v":"CAPACITÀ"},null,null,{"$f":"'Spiegazioni Skills FTEM'!C26","v":"CRITERIO D'OSSERVAZIONE"},null,null,{"$f":"'Spiegazioni Skills FTEM'!H26","v":0},null,null,null,"Data1",null,"Data2",null,"Data3",null,"Data4",null,"Data5",null,"Player",null,"OBIETTIVO","PROVVEDIMENTI:\n(SPECIFICI, MISURABILI, REALISTICI)",null,null,null,null,null,null,"TERMINE","COTROLLO DELL'OBIETTIVO","Date"]
[{"$f":"'Spiegazioni Skills FTEM'!A27","v":"PERSONALITÀ"},null,null,{"$f":"IF($H$2=\"G\",'Spiegazioni Skills FTEM'!F27,'Spiegazioni Skills FTEM'!B27)","v":"Fiducia in se stesso"},null,null,{"$f":"IF($H$2=\"G\",'Spiegazioni Skills FTEM'!G27,'Spiegazioni Skills FTEM'!C27)","v":"Possiede la necessaria fiducia in se stesso, «I can do it»-attitudine, sa valutare le proprie capacità (conosce i propri punti forti e deboli), può realizzare le proprie qualità con\ncostanza, è coraggioso e sa prendere dei rischi calcolati"},null,null,{"$f":"IF($H$2=\"G\",'Spiegazioni Skills FTEM'!#REF!,'Spiegazioni Skills FTEM'!#REF!)","v":{"$error":"#REF!"}},null,null,null,{"$f":"IFERROR(AVERAGE(O36:O40),\"-\")","v":"-"},null,{"$f":"IFERROR(AVERAGE(Q36:Q40),\"-\")","v":"-"},null,{"$f":"IFERROR(AVERAGE(S36:S40),\"-\")","v":"-"},null,{"$f":"IFERROR(AVERAGE(U36:U40),\"-\")","v":"-"},null,{"$f":"IFERROR(AVERAGE(W36:W40),\"-\")","v":"-"},null,{"$f":"IFERROR(AVERAGE(Y36:Y40),\"-\")","v":"-"}]
[{"$f":"'Spiegazioni Skills FTEM'!A28:A28","v":0},null,null,{"$f":"IF($H$2=\"G\",'Spiegazioni Skills FTEM'!F28,'Spiegazioni Skills FTEM'!B28)","v":"Capacità d'apprendimento"},null,null,{"$f":"IF($H$2=\"G\",'Spiegazioni Skills FTEM'!G28,'Spiegazioni Skills FTEM'!C28)","v":"Ha una buona capacità d'apprendimento (sa recepire e realizzare), possiede una personalità, cerca di imparare dai propri errori derivandone delle misure"},null,null,{"$f":"IF($H$2=\"G\",'Spiegazioni Skills FTEM'!#REF!,'Spiegazioni Skills FTEM'!#REF!)","v":{"$error":"#REF!"}}]
[null,null,null,{"$f":"IF($H$2=\"G\",'Spiegazioni Skills FTEM'!F29,'Spiegazioni Skills FTEM'!B29)","v":"Senso di responsabilità"},null,null,{"$f":"IF($H$2=\"G\",'Spiegazioni Skills FTEM'!G29,'Spiegazioni Skills FTEM'!C29)","v":"Assume responsabiltà per le proprie prestazioni e sviluppo, agisce autonomamente, cura i dettagli, mostra un grande impegno in tutti i settori"},null,null,{"$f":"IF($H$2=\"G\",'Spiegazioni Skills FTEM'!#REF!,'Spiegazioni Skills FTEM'!#REF!)","v":{"$error":"#REF!"}}]
[{"$f":"'Spiegazioni Skills FTEM'!A30:A30","v":0},null,null,{"$f":"IF($H$2=\"G\",'Spiegazioni Skills FTEM'!F30,'Spiegazioni Skills FTEM'!B30)","v":"Motivazione"},null,null,{"$f":"IF($H$2=\"G\",'Spiegazioni Skills FTEM'!G30,'Spiegazioni Skills FTEM'!C30)","v":"È sempre motivato, vuole sempre svilupparsi e imparare, vuol essere il primo e avere successo, non rinuncia mai e non si lascia influenzare dagli insuccessi"},null,null,{"$f":"IF($H$2=\"G\",'Spiegazioni Skills FTEM'!#REF!,'Spiegazioni Skills FTEM'!#REF!)","v":{"$error":"#REF!"}}]
[{"$f":"'Spiegazioni Skills FTEM'!A31:A31","v":0},null,null,{"$f":"IF($H$2=\"G\",'Spiegazioni Skills FTEM'!F31,'Spiegazioni Skills FTEM'!B31)","v":"Prestazione Stile di vita"},null,null,{"$f":"IF($H$2=\"G\",'Spiegazioni Skills FTEM'!G31,'Spiegazioni Skills FTEM'!C31)","v":"Gestisce bene la quotidianità il suo ambiente seguendo i principi della prestazione, caparbio, perseverante e finalizzato sugli obiettivi, focus sulla propria prestazione, coraggioso e grintoso, sa imporsi nei confronti delle resistenze, le sfide lo motivano"},null,null,{"$f":"IF($H$2=\"G\",'Spiegazioni Skills FTEM'!#REF!,'Spiegazioni Skills FTEM'!#REF!)","v":{"$error":"#REF!"}}]
[{"$f":"'Spiegazioni Skills FTEM'!A32","v":"FORZA MENTALE"},null,null,{"$f":"IF($H$2=\"G\",'Spiegazioni Skills FTEM'!F32,'Spiegazioni Skills FTEM'!B32)","v":"Impegno"},null,null,{"$f":"IF($H$2=\"G\",'Spiegazioni Skills FTEM'!G32,'Spiegazioni Skills FTEM'!C32)","v":"Mostra molta intensità negli allenamenti e nelle partite, dà sempre il massimo e vuole sempre spronare i propri limiti, mostra passione, si sforza ad alzare la qualità negli allenamenti"},null,null,{"$f":"IF($H$2=\"G\",'Spiegazioni Skills FTEM'!#REF!,'Spiegazioni Skills FTEM'!#REF!)","v":{"$error":"#REF!"}},null,null,null,{"$f":"IFERROR(AVERAGE(O41:O45),\"-\")","v":"-"},null,{"$f":"IFERROR(AVERAGE(Q41:Q45),\"-\")","v":"-"},null,{"$f":"IFERROR(AVERAGE(S41:S45),\"-\")","v":"-"},null,{"$f":"IFERROR(AVERAGE(U41:U45),\"-\")","v":"-"},null,{"$f":"IFERROR(AVERAGE(W41:W45),\"-\")","v":"-"},null,{"$f":"IFERROR(AVERAGE(Y41:Y45),\"-\")","v":"-"}]
[null,null,null,{"$f":"IF($H$2=\"G\",'Spiegazioni Skills FTEM'!F33,'Spiegazioni Skills FTEM'!B33)","v":"Preparazione"},null,null,{"$f":"IF($H$2=\"G\",'Spiegazioni Skills FTEM'!G33,'Spiegazioni Skills FTEM'!C33)","v":"Preparazione consapevole e finalizzata, mentalmente e fisicamente, possiede un efficiente approccio per l'ottenimento dell'ideale stato di prestazione (ILZ/ISP)"},null,null,{"$f":"IF($H$2=\"G\",'Spiegazioni Skills FTEM'!#REF!,'Spiegazioni Skills FTEM'!#REF!)","v":{"$error":"#REF!"}}]
[{"$f":"'Spiegazioni Skills FTEM'!A34:A34","v":0},null,null,{"$f":"IF($H$2=\"G\",'Spiegazioni Skills FTEM'!F34,'Spiegazioni Skills FTEM'!B34)","v":"Coaching individuale"},null,null,{"$f":"IF($H$2=\"G\",'Spiegazioni Skills FTEM'!G34,'Spiegazioni Skills FTEM'!C34)","v":"Possiede una buona capacità di concentrazione, può mantenere il suo ILZ/ISP durante la partita e l'allenamento, può utilizzare tecniche di base per rafforzare il mentale, resistenti contro pensieri e influenze negative, è consapevole del proprio linguaggio del corpo che è in grado di padroneggiare"},null,null,{"$f":"IF($H$2=\"G\",'Spiegazioni Skills FTEM'!#REF!,'Spiegazioni Skills FTEM'!#REF!)","v":{"$error":"#REF!"}}]
[{"$f":"'Spiegazioni Skills FTEM'!A35:A35","v":0},null,null,{"$f":"IF($H$2=\"G\",'Spiegazioni Skills FTEM'!F35,'Spiegazioni Skills FTEM'!B35)","v":"Gestione delle energie"},null,null,{"$f":"IF($H$2=\"G\",'Spiegazioni Skills FTEM'!G35,'Spiegazioni Skills FTEM'!C35)","v":"Può gestire le proprie energie, cura la rigenerazione, può gestire i momenti in cui si deve andare al massimo oppure risparmiarsi, interruttore on/off"},null,null,{"$f":"IF($H$2=\"G\",'Spiegazioni Skills FTEM'!#REF!,'Spiegazioni Skills FTEM'!#REF!)","v":{"$error":"#REF!"}}]
[{"$f":"'Spiegazioni Skills FTEM'!A36:A36","v":0},null,null,{"$f":"IF($H$2=\"G\",'Spiegazioni Skills FTEM'!F36,'Spiegazioni Skills FTEM'!B36)","v":"Controllo delle emozioni"},null,null,{"$f":"IF($H$2=\"G\",'Spiegazioni Skills FTEM'!G36,'Spiegazioni Skills FTEM'!C36)","v":"Può regolare le proprie emozioni e impulsi, mantiene il controllo quando si trova sotto pressione, sa anche agire adeguatamente in situazioni emotive o frustranti"},null,null,{"$f":"IF($H$2=\"G\",'Spiegazioni Skills FTEM'!#REF!,'Spiegazioni Skills FTEM'!#REF!)","v":{"$error":"#REF!"}}]
[{"$f":"'Spiegazioni Skills FTEM'!A37","v":"FISICO"},null,null,{"$f":"IF($H$2=\"G\",'Spiegazioni Skills FTEM'!F37,'Spiegazioni Skills FTEM'!B37)","v":"Produzione di prestazione"},null,null,{"$f":"IF($H$2=\"G\",'Spiegazioni Skills FTEM'!G37,'Spiegazioni Skills FTEM'!C37)","v":"Possiede nelle gambe e nella parte alta del corpo la necessaria potenza/forza/velocità (fattori neuromuscolari)"},null,null,{"$f":"IF($H$2=\"G\",'Spiegazioni Skills FTEM'!#REF!,'Spiegazioni Skills FTEM'!#REF!)","v":{"$error":"#REF!"}},null,null,null,{"$f":"IFERROR(AVERAGE(O46:O50),\"-\")","v":"-"},null,{"$f":"IFERROR(AVERAGE(Q46:Q50),\"-\")","v":"-"},null,{"$f":"IFERROR(AVERAGE(S46:S50),\"-\")","v":"-"},null,{"$f":"IFERROR(AVERAGE(U46:U50),\"-\")","v":"-"},null,{"$f":"IFERROR(AVERAGE(W46:W50),\"-\")","v":"-"},null,{"$f":"IFERROR(AVERAGE(Y46:Y50),\"-\")","v":"-"}]
[null,null,null,{"$f":"IF($H$2=\"G\",'Spiegazioni Skills FTEM'!F38,'Spiegazioni Skills FTEM'!B38)","v":"Resistenza specifica alla fatica"},null,null,{"$f":"IF($H$2=\"G\",'Spiegazioni Skills FTEM'!G38,'Spiegazioni Skills FTEM'!C38)","v":"È capace di mantenere a lungo nell'ambito di un impiego la potenza/forza/velocità ed è capace di recuperare completamente attraverso i vari impieghi sul ghiaccio (fattori metabolici e cardiovascolari)"},null,null,{"$f":"IF($H$2=\"G\",'Spiegazioni Skills FTEM'!#REF!,'Spiegazioni Skills FTEM'!#REF!)","v":{"$error":"#REF!"}}]
[{"$f":"'Spiegazioni Skills FTEM'!A39:A39","v":0},null,null,{"$f":"IF($H$2=\"G\",'Spiegazioni Skills FTEM'!F39,'Spiegazioni Skills FTEM'!B39)","v":"Salute / prevenzione"},null,null,{"$f":"IF($H$2=\"G\",'Spiegazioni Skills FTEM'!G39,'Spiegazioni Skills FTEM'!C39)","v":"Possiede la necessaria stabilità (stabilità delle gambe) e mobilità delle articolazioni centrali"},null,null,{"$f":"IF($H$2=\"G\",'Spiegazioni Skills FTEM'!#REF!,'Spiegazioni Skills FTEM'!#REF!)","v":{"$error":"#REF!"}}]
[{"$f":"'Spiegazioni Skills FTEM'!A40:A40","v":0},null,null,{"$f":"IF($H$2=\"G\",'Spiegazioni Skills FTEM'!F40,'Spiegazioni Skills FTEM'!B40)","v":"Competenze della mobilità"},null,null,{"$f":"IF($H$2=\"G\",'Spiegazioni Skills FTEM'!G40,'Spiegazioni Skills FTEM'!C40)","v":"Padroneggia le basilari capacità di movimento che garantiscono in modo determinante le abilità specifiche \"skills\", come pure l'efficacia dei movimenti"},null,null,{"$f":"IF($H$2=\"G\",'Spiegazioni Skills FTEM'!#REF!,'Spiegazioni Skills FTEM'!#REF!)","v":{"$error":"#REF!"}}]
[{"$f":"'Spiegazioni Skills FTEM'!A41:A41","v":0},null,null,{"$f":"IF($H$2=\"G\",'Spiegazioni Skills FTEM'!F41,'Spiegazioni Skills FTEM'!B41)","v":"Robustezza"},null,null,{"$f":"IF($H$2=\"G\",'Spiegazioni Skills FTEM'!G41,'Spiegazioni Skills FTEM'!C41)","v":"Possiede la necessaria forza di base (tensione del corpo) per vincere i duelli e resistere alle cariche"},null,null,{"$f":"IF($H$2=\"G\",'Spiegazioni Skills FTEM'!#REF!,'Spiegazioni Skills FTEM'!#REF!)","v":{"$error":"#REF!"}}]

{"sheet":"5","index":8,"n_rows":50,"n_cols":36,"rows_kept":50,"cut":false,"hidden":false,"merged":[[45,34,49,34],[45,12,49,12],[45,13,49,13],[45,15,49,15],[45,17,49,17],[45,19,49,19],[45,21,49,21],[45,23,49,23],[45,25,49,25],[45,26,49,32],[45,0,49,2],[45,3,45,5],[45,6,45,11],[46,3,46,5],[46,6,46,11],[48,3,48,5],[48,6,48,11],[49,3,49,5],[49,6,49,11],[47,3,47,5],[47,6,47,11],[40,23,44,23],[42,3,42,5],[42,6,42,11],[44,3,44,5],[44,6,44,11],[40,0,44,2],[40,3,40,5],[40,6,40,11],[40,12,44,12],[40,13,44,13],[40,15,44,15],[43,3,43,5],[43,6,43,11],[34,21,34,22],[35,17,39,17],[35,19,39,19],[35,21,39,21],[37,3,37,5],[37,6,37,11],[38,3,38,5],[38,6,38,11],[40,17,44,17],[40,19,44,19],[40,21,44,21],[36,3,36,5],[36,6,36,11],[41,3,41,5],[41,6,41,11],[29,0,33,2],[29,3,29,5],[29,6,29,11],[29,12,33,12],[29,13,33,13],[29,15,33,15],[34,23,34,24],[34,26,34,32],[35,0,39,2],[35,3,35,5],[35,6,35,11],[35,12,39,12],[35,13,39,13],[35,15,39,15],[39,3,39,5],[39,6,39,11],[35,23,39,23],[34,0,34,2],[34,3,34,5],[34,6,34,11],[34,13,34,14],[34,15,34,16],[34,17,34,18],[34,19,34,20],[23,19,28,19],[23,21,28,21],[23,23,28,23],[26,3,26,5],[26,6,26,11],[28,3,28,5],[28,6,28,11],[33,3,33,5],[33,6,33,11],[29,23,33,23],[29,17,33,17],[29,19,33,19],[29,21,33,21],[31,3,31,5],[31,6,31,11],[32,3,32,5],[32,6,32,11],[27,3,27,5],[27,6,27,11],[25,3,25,5],[25,6,25,11],[30,3,30,5],[30,6,30,11],[12,21,16,21],[18,15,22,15],[18,17,22,17],[18,19,22,19],[18,21,22,21],[18,23,22,23],[22,3,22,5],[22,6,22,11],[23,0,28,2],[23,3,23,5],[23,6,23,11],[23,12,28,12],[23,13,28,13],[23,15,28,15],[23,17,28,17],[18,0,22,2],[18,3,18,5],[18,6,18,11],[18,12,22,12],[18,13,22,13],[19,3,19,5],[19,6,19,11],[21,3,21,5],[21,6,21,11],[11,21,11,22],[11,23,11,24],[11,26,11,32],[11,6,11,11],[12,23,16,23],[16,3,16,5],[16,6,16,11],[17,0,17,2],[17,3,17,5],[17,6,17,11],[17,13,17,14],[17,15,17,16],[17,17,17,18],[17,19,17,20],[17,21,17,22],[17,23,17,24],[12,0,16,2],[12,3,12,5],[12,6,12,11],[12,12,16,12],[12,13,16,13],[12,15,16,15],[12,17,16,17],[12,19,16,19],[4,0,4,1],[4,2,4,5],[4,10,4,24],[10,0,10,24],[10,25,10,35],[40,25,44,25],[40,26,44,32],[40,34,44,34],[12,25,16,25],[12,26,16,32],[12,34,16,34],[18,25,22,25],[18,26,22,32],[18,34,22,34],[23,25,28,25],[23,26,28,32],[23,34,28,34],[17,26,17,32],[11,0,11,2],[11,3,11,5],[11,13,11,14],[11,15,11,16],[11,17,11,18],[11,19,11,20],[0,0,0,24],[0,25,0,26],[0,27,0,32],[0,33,0,35],[29,25,33,25],[29,26,33,32],[29,34,33,34],[35,25,39,25],[35,26,39,32],[35,34,39,34],[1,0,1,1],[1,2,1,5],[1,10,1,24],[2,0,2,1],[2,2,2,5],[2,11,2,24],[6,0,6,1],[6,2,6,35],[7,0,7,1],[7,2,7,35],[8,0,8,1],[8,2,8,35],[3,0,3,1],[3,10,3,24],[13,3,13,5],[13,6,13,11],[14,3,14,5],[14,6,14,11],[15,3,15,5],[15,6,15,11],[20,3,20,5],[20,6,20,11],[24,3,24,5],[24,6,24,11]]}
["Personalien",null,null,null,null,null,null,null,null,null,null,null,null,null,null,null,null,null,null,null,null,null,null,null,null,"Predisposizione",null,"Valutazioni",null,null,null,null,null,"Rating"]
["COGNOME",null,{"$f":"IF(ISBLANK(VLOOKUP(5,Tabelle3[],3,0)),\"-\",VLOOKUP(5,Tabelle3[],3,0))","v":"-"},null,null,null,"POSIZIONE",null,null,"INDIRIZZO",{"$f":"IF(ISBLANK(VLOOKUP(5,Tabelle3[],5,0)),\"-\",VLOOKUP(5,Tabelle3[],5,0))","v":"-"},null,null,null,null,null,null,null,null,null,null,null,null,null,null,"Età\" (biologica/età relativa)",null,"Data 1",null,null,"cm",null,"Kg",null,"ECCELLENTE",5]
["NOME",null,{"$f":"IF(ISBLANK(VLOOKUP(5,Tabelle3[],2,0)),\"-\",VLOOKUP(5,Tabelle3[],2,0))","v":"-"},null,null,null,"BASTONE",null,null,"LUOGO",{"$f":"IF(ISBLANK(VLOOKUP(5,Tabelle3[],7,0)),\"-\",VLOOKUP(5,Tabelle3[],7,0))","v":"-"},{"$f":"IF(ISBLANK(VLOOKUP(5,Tabelle3[],6,0)),\"-\",VLOOKUP(5,Tabelle3[],6,0))","v":"-"},null,null,null,null,null,null,null,null,null,null,null,null,null,"Predisposizione",null,"Data 2",null,null,"cm",null,"Kg",null,"BUONO",4]
["DATA DI NASC.",null,{"$f":"IF(ISBLANK(VLOOKUP(5,Tabelle3[],14,0)),\"-\",VLOOKUP(5,Tabelle3[],14,0))","v":"-"},{"$f":"IF(ISBLANK(VLOOKUP(5,Tabelle3[],15,0)),\"-\",VLOOKUP(5,Tabelle3[],15,0))","v":"-"},{"$f":"IF(ISBLANK(VLOOKUP(5,Tabelle3[],16,0)),\"-\",VLOOKUP(5,Tabelle3[],16,0))","v":"-"},null,"ALTEZZA",null,"cm (Finale)","TELEFONO",{"$f":"IF(ISBLANK(VLOOKUP(5,Tabelle3[],8,0)),\"-\",VLOOKUP(5,Tabelle3[],8,0))","v":"-"},null,null,null,null,null,null,null,null,null,null,null,null,null,null,"Ambiente di vita",null,"Data 3",null,null,"cm",null,"Kg",null,"MEDIO/DISCRETO",3]
["SESSO",null,{"$f":"IF(ISBLANK(VLOOKUP(5,Tabelle3[],13,0)),\"-\",VLOOKUP(5,Tabelle3[],13,0))","v":"-"},null,null,null,"PESO",null,"Kg (Finale)","E-Mail",{"$f":"IF(ISBLANK(VLOOKUP(5,Tabelle3[],9,0)),\"-\",VLOOKUP(5,Tabelle3[],9,0))","v":"-"},null,null,null,null,null,null,null,null,null,null,null,null,null,null,null,null,"Data 4",null,null,"cm",null,"Kg",null,"CON LACUNE",2]
[null,null,null,null,null,null,null,null,null,null,null,null,null,null,null,null,null,null,null,null,null,null,null,null,null,null,null,"Data 5",null,null,"cm",null,"Kg",null,"INSUFFICIENTE",1]
["Visione",null,"xxx"]
["Prossimo passo",null,"xxx"]
["Proflio giocatore",null,"xxx"]
[]
["VALUTAZIONI (COACH / GIOCATORE)",null,null,null,null,null,null,null,null,null,null,null,null,null,null,null,null,null,null,null,null,null,null,null,null,"Obiettivi SMART"]
[{"$f":"'Spiegazioni Skills FTEM'!A3","v":"TEAM"},null,null,{"$f":"'Spiegazioni Skills FTEM'!B3","v":"CAPACITÀ"},null,null,{"$f":"'Spiegazioni Skills FTEM'!C3","v":"CRITERIO D'OSSERVAZIONE"},null,null,{"$f":"'Spiegazioni Skills FTEM'!H3","v":0},null,null,"Final","Data1",null,"Data2",null,"Data3",null,"Data4",null,"Data5",null,"Player",null,"OBIETTIVO","PROVVEDIMENTI:\n(SPECIFICI, MISURABILI, REALISTICI)",null,null,null,null,null,null,"TERMINE","COTROLLO DELL'OBIETTIVO","Data"]
[{"$f":"'Spiegazioni Skills FTEM'!A4","v":"SQUADRA"},null,null,{"$f":"IF($H$2=\"G\",'Spiegazioni Skills FTEM'!F4,'Spiegazioni Skills FTEM'!B4)","v":"Comunicazione"},null,null,{"$f":"IF($H$2=\"G\",'Spiegazioni Skills FTEM'!G4,'Spiegazioni Skills FTEM'!C4)","v":"Cura relazioni aperte e rispettose, fiducia quale base comportamentale, affronta i conflitti senza ledere la stabilità del gruppo, comunica con i compagni, gli allenatori e\nfunzionari con i medesimi valori"},null,null,{"$f":"IF($H$2=\"G\",'Spiegazioni Skills FTEM'!#REF!,'Spiegazioni Skills FTEM'!#REF!)","v":{"$error":"#REF!"}},null,null,null,{"$f":"IFERROR(AVERAGE(O13:O17),\"-\")","v":"-"},null,{"$f":"IFERROR(AVERAGE(Q13:Q17),\"-\")","v":"-"},null,{"$f":"IFERROR(AVERAGE(S13:S17),\"-\")","v":"-"},null,{"$f":"IFERROR(AVERAGE(U13:U17),\"-\")","v":"-"},null,{"$f":"IFERROR(AVERAGE(W13:W17),\"-\")","v":"-"},null,{"$f":"IFERROR(AVERAGE(Y13:Y17),\"-\")","v":"-"}]
[{"$f":"'Spiegazioni Skills FTEM'!A5","v":0},null,null,{"$f":"IF($H$2=\"G\",'Spiegazioni Skills FTEM'!F5,'Spiegazioni Skills FTEM'!B5)","v":"Capacità nella squadra"},null,null,{"$f":"IF($H$2=\"G\",'Spiegazioni Skills FTEM'!G5,'Spiegazioni Skills FTEM'!C5)","v":"Integrazione nel gruppo, definisce e realizza obiettivi comuni, NOI prima dell'IO, contribuisce a creare un buon spirito di squadra e clima di lavoro"},null,null,{"$f":"IF($H$2=\"G\",'Spiegazioni Skills FTEM'!#REF!,'Spiegazioni Skills FTEM'!#REF!)","v":{"$error":"#REF!"}}]
[{"$f":"'Spiegazioni Skills FTEM'!A6","v":0},null,null,{"$f":"IF($H$2=\"G\",'Spiegazioni Skills FTEM'!F6,'Spiegazioni Skills FTEM'!B6)","v":"Leadership"},null,null,{"$f":"IF($H$2=\"G\",'Spiegazioni Skills FTEM'!G6,'Spiegazioni Skills FTEM'!C6)","v":"Assume responsabilità nell'ambito del gruppo, cerca di migliorare la squadra e i compagni, influenza positivamente la dinamica di gruppo"},null,null,{"$f":"IF($H$2=\"G\",'Spiegazioni Skills FTEM'!#REF!,'Spiegazioni Skills FTEM'!#REF!)","v":{"$error":"#REF!"}}]
[{"$f":"'Spiegazioni Skills FTEM'!A7","v":0},null,null,{"$f":"IF($H$2=\"G\",'Spiegazioni Skills FTEM'!F7,'Spiegazioni Skills FTEM'!B7)","v":"Ripartizione dei ruoli"},null,null,{"$f":"IF($H$2=\"G\",'Spiegazioni Skills FTEM'!G7,'Spiegazioni Skills FTEM'!C7)","v":"Riconosce e adempie il suo ruolo, è cosciente della sua posizione nel sistema e nella squadra, mette a disposizione della squadra le sue competenze"},null,null,{"$f":"IF($H$2=\"G\",'Spiegazioni Skills FTEM'!#REF!,'Spiegazioni Skills FTEM'!#REF!)","v":{"$error":"#REF!"}}]
[{"$f":"'Spiegazioni Skills FTEM'!A8","v":0},null,null,{"$f":"IF($H$2=\"G\",'Spiegazioni Skills FTEM'!F8,'Spiegazioni Skills FTEM'!B8)","v":"Rispetto"},null,null,{"$f":"IF($H$2=\"G\",'Spiegazioni Skills FTEM'!G8,'Spiegazioni Skills FTEM'!C8)","v":"Relazioni rispettose con i compagni, allenatori, avversari, arbitri e staff; rispetta le regole i pricipi del fairplay (compreso la lotta al doping)"},null,null,{"$f":"IF($H$2=\"G\",'Spiegazioni Skills FTEM'!#REF!,'Spiegazioni Skills FTEM'!#REF!)","v":{"$error":"#REF!"}}]
[{"$f":"'Spiegazioni Skills FTEM'!A9","v":"ON ICE"},null,null,{"$f":"'Spiegazioni Skills FTEM'!B9","v":"CAPACITÀ"},null,null,{"$f":"'Spiegazioni Skills FTEM'!C9","v":"CRITERIO D'OSSERVAZIONE"},null,null,{"$f":"'Spiegazioni Skills FTEM'!H9","v":0},null,null,null,"Data1",null,"Data2",null,"Data3",null,"Data4",null,"Data5",null,"Player",null,"OBIETTIVO","PROVVEDIMENTI:\n(SPECIFICI, MISURABILI, REALISTICI)",null,null,null,null,null,null,"TERMINE","COTROLLO DELL'OBIETTIVO","Date"]
[{"$f":"'Spiegazioni Skills FTEM'!A10","v":"PATTINAGGIO"},null,null,{"$f":"IF($H$2=\"G\",'Spiegazioni Skills FTEM'!F10,'Spiegazioni Skills FTEM'!B10)","v":"Velocità dei piedi"},null,null,{"$f":"IF($H$2=\"G\",'Spiegazioni Skills FTEM'!G10,'Spiegazioni Skills FTEM'!C10)","v":"Accelerazione, partenza, esplosività dei primi 3 passi, frequenza"},null,null,{"$f":"IF($H$2=\"G\",'Spiegazioni Skills FTEM'!#REF!,'Spiegazioni Skills FTEM'!#REF!)","v":{"$error":"#REF!"}},null,null,null,{"$f":"IFERROR(AVERAGE(O19:O23),\"-\")","v":"-"},null,{"$f":"IFERROR(AVERAGE(Q19:Q23),\"-\")","v":"-"},null,{"$f":"IFERROR(AVERAGE(S19:S23),\"-\")","v":"-"},null,{"$f":"IFERROR(AVERAGE(U19:U23),\"-\")","v":"-"},null,{"$f":"IFERROR(AVERAGE(W19:W23),\"-\")","v":"-"},null,{"$f":"IFERROR(AVERAGE(Y19:Y23),\"-\")","v":"-"}]
[{"$f":"'Spiegazioni Skills FTEM'!A11:A11","v":0},null,null,{"$f":"IF($H$2=\"G\",'Spiegazioni Skills FTEM'!F11,'Spiegazioni Skills FTEM'!B11)","v":"Velocità/rapidità"},null,null,{"$f":"IF($H$2=\"G\",'Spiegazioni Skills FTEM'!G11,'Spiegazioni Skills FTEM'!C11)","v":"Velocità, facoltà di scivolare, avanti / indietro, economia dello sforzo"},null,null,{"$f":"IF($H$2=\"G\",'Spiegazioni Skills FTEM'!#REF!,'Spiegazioni Skills FTEM'!#REF!)","v":{"$error":"#REF!"}}]
[null,null,null,{"$f":"IF($H$2=\"G\",'Spiegazioni Skills FTEM'!F12,'Spiegazioni Skills FTEM'!B12)","v":"Agilità"},null,null,{"$f":"IF($H$2=\"G\",'Spiegazioni Skills FTEM'!G12,'Spiegazioni Skills FTEM'!C12)","v":"Cambiamento di direzione, girarsi, stop e ripartenza, \"Nummelin\""},null,null,{"$f":"IF($H$2=\"G\",'Spiegazioni Skills FTEM'!#REF!,'Spiegazioni Skills FTEM'!#REF!)","v":{"$error":"#REF!"}}]
[{"$f":"'Spiegazioni Skills FTEM'!A12:A12","v":0},null,null,{"$f":"IF($H$2=\"G\",'Spiegazioni Skills FTEM'!F13,'Spiegazioni Skills FTEM'!B13)","v":"Equilibrio"},null,null,{"$f":"IF($H$2=\"G\",'Spiegazioni Skills FTEM'!G13,'Spiegazioni Skills FTEM'!C13)","v":"Equilibrio, stabilità, posizione bassa, su una gamba, su entrambe"},null,null,{"$f":"IF($H$2=\"G\",'Spiegazioni Skills FTEM'!#REF!,'Spiegazioni Skills FTEM'!#REF!)","v":{"$error":"#REF!"}},null,null,null,{"$f":"IFERROR(AVERAGE(O22:O23),\"-\")","v":"-"},null,{"$f":"IFERROR(AVERAGE(Q22:Q23),\"-\")","v":"-"},null,{"$f":"IFERROR(AVERAGE(S22:S23),\"-\")","v":"-"},null,{"$f":"IFERROR(AVERAGE(U22:U23),\"-\")","v":"-"},null,{"$f":"IFERROR(AVERAGE(W22:W23),\"-\")","v":"-"},null,"-"]
[{"$f":"'Spiegazioni Skills FTEM'!A14:A14","v":0},null,null,{"$f":"IF($H$2=\"G\",'Spiegazioni Skills FTEM'!F14,'Spiegazioni Skills FTEM'!B14)","v":"Pattinaggio indietro"},null,null,{"$f":"IF($H$2=\"G\",'Spiegazioni Skills FTEM'!G14,'Spiegazioni Skills FTEM'!C14)","v":"Accelerazione, velocità, equilibrio"},null,null,{"$f":"IF($H$2=\"G\",'Spiegazioni Skills FTEM'!#REF!,'Spiegazioni Skills FTEM'!#REF!)","v":{"$error":"#REF!"}}]
[{"$f":"'Spiegazioni Skills FTEM'!A15","v":"ABILITÀ"},null,null,{"$f":"IF($H$2=\"G\",'Spiegazioni Skills FTEM'!F15,'Spiegazioni Skills FTEM'!B15)","v":"Tirare"},null,null,{"$f":"IF($H$2=\"G\",'Spiegazioni Skills FTEM'!G15,'Spiegazioni Skills FTEM'!C15)","v":"Efficienza (poco spazio, poco tempo), ricchezza di varianti, grado di sorpresa (Quick Release), precisione, potenza (conclusioni tattiche)"},null,null,{"$f":"IF($H$2=\"G\",'Spiegazioni Skills FTEM'!#REF!,'Spiegazioni Skills FTEM'!#REF!)","v":{"$error":"#REF!"}},null,null,null,{"$f":"IFERROR(AVERAGE(O24:O29),\"-\")","v":"-"},null,{"$f":"IFERROR(AVERAGE(Q24:Q29),\"-\")","v":"-"},null,{"$f":"IFERROR(AVERAGE(S24:S29),\"-\")","v":"-"},null,{"$f":"IFERROR(AVERAGE(U24:U29),\"-\")","v":"-"},null,{"$f":"IFERROR(AVERAGE(W24:W29),\"-\")","v":"-"},null,{"$f":"IFERROR(AVERAGE(Y24:Y29),\"-\")","v":"-"}]
[null,null,null,{"$f":"IF($H$2=\"G\",'Spiegazioni Skills FTEM'!F16,'Spiegazioni Skills FTEM'!B16)","v":"Passare"},null,null,{"$f":"IF($H$2=\"G\",'Spiegazioni Skills FTEM'!G16,'Spiegazioni Skills FTEM'!C16)","v":"Passaggio (distanza, flipp, rovescio), ricezione del passaggio (precisione, timing, diritto, rovescio, sul pattino), velocità del disco"},null,null,{"$f":"IF($H$2=\"G\",'Spiegazioni Skills FTEM'!#REF!,'Spiegazioni Skills FTEM'!#REF!)","v":{"$error":"#REF!"}}]
[null,null,null,{"$f":"IF($H$2=\"G\",'Spiegazioni Skills FTEM'!F17,'Spiegazioni Skills FTEM'!B17)","v":"Lavoro col bastone - condotta del disco"},null,null,{"$f":"IF($H$2=\"G\",'Spiegazioni Skills FTEM'!G17,'Spiegazioni Skills FTEM'!C17)","v":"Bastone sul disco, intercettare le linee di passaggio, deviare, controllo del bastone avversario"},null,null,{"$f":"IF($H$2=\"G\",'Spiegazioni Skills FTEM'!#REF!,'Spiegazioni Skills FTEM'!#REF!)","v":{"$error":"#REF!"}}]
[{"$f":"'Spiegazioni Skills FTEM'!A16:A16","v":0},null,null,{"$f":"IF($H$2=\"G\",'Spiegazioni Skills FTEM'!F18,'Spiegazioni Skills FTEM'!B18)","v":"Possedere/proteggere il disco"},null,null,{"$f":"IF($H$2=\"G\",'Spiegazioni Skills FTEM'!G18,'Spiegazioni Skills FTEM'!C18)","v":"Controllo del disco, dribbling, protezione del disco, finte (varianti col pattino, con o senza la balaustra), ingaggi (face-off)"},null,null,{"$f":"IF($H$2=\"G\",'Spiegazioni Skills FTEM'!#REF!,'Spiegazioni Skills FTEM'!#REF!)","v":{"$error":"#REF!"}}]
[{"$f":"'Spiegazioni Skills FTEM'!A17:A17","v":0},null,null,{"$f":"IF($H$2=\"G\",'Spiegazioni Skills FTEM'!F19,'Spiegazioni Skills FTEM'!B19)","v":"Gioco del corpo"},null,null,{"$f":"IF($H$2=\"G\",'Spiegazioni Skills FTEM'!G19,'Spiegazioni Skills FTEM'!C19)","v":"Facoltà di imporsi fisicamente, duelli (ghiaccio aperto, balaustra), subire dei checks/testa alta, livello di lotta, duro ma corretto, blocco dei tiri con il corpo"},null,null,{"$f":"IF($H$2=\"G\",'Spiegazioni Skills FTEM'!#REF!,'Spiegazioni Skills FTEM'!#REF!)","v":{"$error":"#REF!"}}]
[{"$f":"'Spiegazioni Skills FTEM'!A20:A20","v":0},null,null,{"$f":"IF($H$2=\"G\",'Spiegazioni Skills FTEM'!F20,'Spiegazioni Skills FTEM'!B20)","v":"-"},null,null,{"$f":"IF($H$2=\"G\",'Spiegazioni Skills FTEM'!G20,'Spiegazioni Skills FTEM'!C20)","v":"-"},null,null,{"$f":"IF($H$2=\"G\",'Spiegazioni Skills FTEM'!#REF!,'Spiegazioni Skills FTEM'!#REF!)","v":{"$error":"#REF!"}}]
[{"$f":"'Spiegazioni Skills FTEM'!A21","v":"SENSO DELL'HOCKEY"},null,null,{"$f":"IF($H$2=\"G\",'Spiegazioni Skills FTEM'!F21,'Spiegazioni Skills FTEM'!B21)","v":"Intelligenza nel gioco"},null,null,{"$f":"IF($H$2=\"G\",'Spiegazioni Skills FTEM'!G21,'Spiegazioni Skills FTEM'!C21)","v":"Vedere spazi e giocatori liberi, creare situazioni di superiorità numerica, agire cercando soluzioni in tutte le situazioni, velocità di visualizzazione"},null,null,{"$f":"IF($H$2=\"G\",'Spiegazioni Skills FTEM'!#REF!,'Spiegazioni Skills FTEM'!#REF!)","v":{"$error":"#REF!"}},null,null,null,{"$f":"IFERROR(AVERAGE(O30:O34),\"-\")","v":"-"},null,{"$f":"IFERROR(AVERAGE(Q30:Q34),\"-\")","v":"-"},null,{"$f":"IFERROR(AVERAGE(S30:S34),\"-\")","v":"-"},null,{"$f":"IFERROR(AVERAGE(U30:U34),\"-\")","v":"-"},null,{"$f":"IFERROR(AVERAGE(W30:W34),\"-\")","v":"-"},null,{"$f":"IFERROR(AVERAGE(Y30:Y34),\"-\")","v":"-"}]
[{"$f":"'Spiegazioni Skills FTEM'!A22:A22","v":0},null,null,{"$f":"IF($H$2=\"G\",'Spiegazioni Skills FTEM'!F22,'Spiegazioni Skills FTEM'!B22)","v":"Sensibilità offensiva"},null,null,{"$f":"IF($H$2=\"G\",'Spiegazioni Skills FTEM'!G22,'Spiegazioni Skills FTEM'!C22)","v":"Smarcarsi, anticipare le situazioni di gioco, aprire spazi liberi per i compagni, piazzarsi per le conclusioni, velocità nel chiudere gli spazi (pressione), comunicazione"},null,null,{"$f":"IF($H$2=\"G\",'Spiegazioni Skills FTEM'!#REF!,'Spiegazioni Skills FTEM'!#REF!)","v":{"$error":"#REF!"}}]
[null,null,null,{"$f":"IF($H$2=\"G\",'Spiegazioni Skills FTEM'!F23,'Spiegazioni Skills FTEM'!B23)","v":"Sensibilità difensiva"},null,null,{"$f":"IF($H$2=\"G\",'Spiegazioni Skills FTEM'!G23,'Spiegazioni Skills FTEM'!C23)","v":"Mantenere la posizione difensiva, protezione dello slot, assicurare i compagni / supporto, individuare le linee di passaggio, bloccare i tiri, ridurre velocemente gli spazi, comunicazione"},null,null,{"$f":"IF($H$2=\"G\",'Spiegazioni Skills FTEM'!#REF!,'Spiegazioni Skills FTEM'!#REF!)","v":{"$error":"#REF!"}}]
[{"$f":"'Spiegazioni Skills FTEM'!A24:A24","v":0},null,null,{"$f":"IF($H$2=\"G\",'Spiegazioni Skills FTEM'!F24,'Spiegazioni Skills FTEM'!B24)","v":"Gestione del disco"},null,null,{"$f":"IF($H$2=\"G\",'Spiegazioni Skills FTEM'!G24,'Spiegazioni Skills FTEM'!C24)","v":"Prendere decisioni adeguate nelle situazioni di gioco, supporto, creare superiorità numerica"},null,null,{"$f":"IF($H$2=\"G\",'Spiegazioni Skills FTEM'!#REF!,'Spiegazioni Skills FTEM'!#REF!)","v":{"$error":"#REF!"}}]
[{"$f":"'Spiegazioni Skills FTEM'!A25:A25","v":0},null,null,{"$f":"IF($H$2=\"G\",'Spiegazioni Skills FTEM'!F25,'Spiegazioni Skills FTEM'!B25)","v":"Creatività"},null,null,{"$f":"IF($H$2=\"G\",'Spiegazioni Skills FTEM'!G25,'Spiegazioni Skills FTEM'!C25)","v":"Creare situazioni a sorpresa, fiuto del gol"},null,null,{"$f":"IF($H$2=\"G\",'Spiegazioni Skills FTEM'!#REF!,'Spiegazioni Skills FTEM'!#REF!)","v":{"$error":"#REF!"}}]
[{"$f":"'Spiegazioni Skills FTEM'!A26","v":"PERSONALITY"},null,null,{"$f":"'Spiegazioni Skills FTEM'!B26","v":"CAPACITÀ"},null,null,{"$f":"'Spiegazioni Skills FTEM'!C26","v":"CRITERIO D'OSSERVAZIONE"},null,null,{"$f":"'Spiegazioni Skills FTEM'!H26","v":0},null,null,null,"Data1",null,"Data2",null,"Data3",null,"Data4",null,"Data5",null,"Player",null,"OBIETTIVO","PROVVEDIMENTI:\n(SPECIFICI, MISURABILI, REALISTICI)",null,null,null,null,null,null,"TERMINE","COTROLLO DELL'OBIETTIVO","Date"]
[{"$f":"'Spiegazioni Skills FTEM'!A27","v":"PERSONALITÀ"},null,null,{"$f":"IF($H$2=\"G\",'Spiegazioni Skills FTEM'!F27,'Spiegazioni Skills FTEM'!B27)","v":"Fiducia in se stesso"},null,null,{"$f":"IF($H$2=\"G\",'Spiegazioni Skills FTEM'!G27,'Spiegazioni Skills FTEM'!C27)","v":"Possiede la necessaria fiducia in se stesso, «I can do it»-attitudine, sa valutare le proprie capacità (conosce i propri punti forti e deboli), può realizzare le proprie qualità con\ncostanza, è coraggioso e sa prendere dei rischi calcolati"},null,null,{"$f":"IF($H$2=\"G\",'Spiegazioni Skills FTEM'!#REF!,'Spiegazioni Skills FTEM'!#REF!)","v":{"$error":"#REF!"}},null,null,null,{"$f":"IFERROR(AVERAGE(O36:O40),\"-\")","v":"-"},null,{"$f":"IFERROR(AVERAGE(Q36:Q40),\"-\")","v":"-"},null,{"$f":"IFERROR(AVERAGE(S36:S40),\"-\")","v":"-"},null,{"$f":"IFERROR(AVERAGE(U36:U40),\"-\")","v":"-"},null,{"$f":"IFERROR(AVERAGE(W36:W40),\"-\")","v":"-"},null,{"$f":"IFERROR(AVERAGE(Y36:Y40),\"-\")","v":"-"}]
[{"$f":"'Spiegazioni Skills FTEM'!A28:A28","v":0},null,null,{"$f":"IF($H$2=\"G\",'Spiegazioni Skills FTEM'!F28,'Spiegazioni Skills FTEM'!B28)","v":"Capacità d'apprendimento"},null,null,{"$f":"IF($H$2=\"G\",'Spiegazioni Skills FTEM'!G28,'Spiegazioni Skills FTEM'!C28)","v":"Ha una buona capacità d'apprendimento (sa recepire e realizzare), possiede una personalità, cerca di imparare dai propri errori derivandone delle misure"},null,null,{"$f":"IF($H$2=\"G\",'Spiegazioni Skills FTEM'!#REF!,'Spiegazioni Skills FTEM'!#REF!)","v":{"$error":"#REF!"}}]
[null,null,null,{"$f":"IF($H$2=\"G\",'Spiegazioni Skills FTEM'!F29,'Spiegazioni Skills FTEM'!B29)","v":"Senso di responsabilità"},null,null,{"$f":"IF($H$2=\"G\",'Spiegazioni Skills FTEM'!G29,'Spiegazioni Skills FTEM'!C29)","v":"Assume responsabiltà per le proprie prestazioni e sviluppo, agisce autonomamente, cura i dettagli, mostra un grande impegno in tutti i settori"},null,null,{"$f":"IF($H$2=\"G\",'Spiegazioni Skills FTEM'!#REF!,'Spiegazioni Skills FTEM'!#REF!)","v":{"$error":"#REF!"}}]
[{"$f":"'Spiegazioni Skills FTEM'!A30:A30","v":0},null,null,{"$f":"IF($H$2=\"G\",'Spiegazioni Skills FTEM'!F30,'Spiegazioni Skills FTEM'!B30)","v":"Motivazione"},null,null,{"$f":"IF($H$2=\"G\",'Spiegazioni Skills FTEM'!G30,'Spiegazioni Skills FTEM'!C30)","v":"È sempre motivato, vuole sempre svilupparsi e imparare, vuol essere il primo e avere successo, non rinuncia mai e non si lascia influenzare dagli insuccessi"},null,null,{"$f":"IF($H$2=\"G\",'Spiegazioni Skills FTEM'!#REF!,'Spiegazioni Skills FTEM'!#REF!)","v":{"$error":"#REF!"}}]
[{"$f":"'Spiegazioni Skills FTEM'!A31:A31","v":0},null,null,{"$f":"IF($H$2=\"G\",'Spiegazioni Skills FTEM'!F31,'Spiegazioni Skills FTEM'!B31)","v":"Prestazione Stile di vita"},null,null,{"$f":"IF($H$2=\"G\",'Spiegazioni Skills FTEM'!G31,'Spiegazioni Skills FTEM'!C31)","v":"Gestisce bene la quotidianità il suo ambiente seguendo i principi della prestazione, caparbio, perseverante e finalizzato sugli obiettivi, focus sulla propria prestazione, coraggioso e grintoso, sa imporsi nei confronti delle resistenze, le sfide lo motivano"},null,null,{"$f":"IF($H$2=\"G\",'Spiegazioni Skills FTEM'!#REF!,'Spiegazioni Skills FTEM'!#REF!)","v":{"$error":"#REF!"}}]
[{"$f":"'Spiegazioni Skills FTEM'!A32","v":"FORZA MENTALE"},null,null,{"$f":"IF($H$2=\"G\",'Spiegazioni Skills FTEM'!F32,'Spiegazioni Skills FTEM'!B32)","v":"Impegno"},null,null,{"$f":"IF($H$2=\"G\",'Spiegazioni Skills FTEM'!G32,'Spiegazioni Skills FTEM'!C32)","v":"Mostra molta intensità negli allenamenti e nelle partite, dà sempre il massimo e vuole sempre spronare i propri limiti, mostra passione, si sforza ad alzare la qualità negli allenamenti"},null,null,{"$f":"IF($H$2=\"G\",'Spiegazioni Skills FTEM'!#REF!,'Spiegazioni Skills FTEM'!#REF!)","v":{"$error":"#REF!"}},null,null,null,{"$f":"IFERROR(AVERAGE(O41:O45),\"-\")","v":"-"},null,{"$f":"IFERROR(AVERAGE(Q41:Q45),\"-\")","v":"-"},null,{"$f":"IFERROR(AVERAGE(S41:S45),\"-\")","v":"-"},null,{"$f":"IFERROR(AVERAGE(U41:U45),\"-\")","v":"-"},null,{"$f":"IFERROR(AVERAGE(W41:W45),\"-\")","v":"-"},null,{"$f":"IFERROR(AVERAGE(Y41:Y45),\"-\")","v":"-"}]
[null,null,null,{"$f":"IF($H$2=\"G\",'Spiegazioni Skills FTEM'!F33,'Spiegazioni Skills FTEM'!B33)","v":"Preparazione"},null,null,{"$f":"IF($H$2=\"G\",'Spiegazioni Skills FTEM'!G33,'Spiegazioni Skills FTEM'!C33)","v":"Preparazione consapevole e finalizzata, mentalmente e fisicamente, possiede un efficiente approccio per l'ottenimento dell'ideale stato di prestazione (ILZ/ISP)"},null,null,{"$f":"IF($H$2=\"G\",'Spiegazioni Skills FTEM'!#REF!,'Spiegazioni Skills FTEM'!#REF!)","v":{"$error":"#REF!"}}]
[{"$f":"'Spiegazioni Skills FTEM'!A34:A34","v":0},null,null,{"$f":"IF($H$2=\"G\",'Spiegazioni Skills FTEM'!F34,'Spiegazioni Skills FTEM'!B34)","v":"Coaching individuale"},null,null,{"$f":"IF($H$2=\"G\",'Spiegazioni Skills FTEM'!G34,'Spiegazioni Skills FTEM'!C34)","v":"Possiede una buona capacità di concentrazione, può mantenere il suo ILZ/ISP durante la partita e l'allenamento, può utilizzare tecniche di base per rafforzare il mentale, resistenti contro pensieri e influenze negative, è consapevole del proprio linguaggio del corpo che è in grado di padroneggiare"},null,null,{"$f":"IF($H$2=\"G\",'Spiegazioni Skills FTEM'!#REF!,'Spiegazioni Skills FTEM'!#REF!)","v":{"$error":"#REF!"}}]
[{"$f":"'Spiegazioni Skills FTEM'!A35:A35","v":0},null,null,{"$f":"IF($H$2=\"G\",'Spiegazioni Skills FTEM'!F35,'Spiegazioni Skills FTEM'!B35)","v":"Gestione delle energie"},null,null,{"$f":"IF($H$2=\"G\",'Spiegazioni Skills FTEM'!G35,'Spiegazioni Skills FTEM'!C35)","v":"Può gestire le proprie energie, cura la rigenerazione, può gestire i momenti in cui si deve andare al massimo oppure risparmiarsi, interruttore on/off"},null,null,{"$f":"IF($H$2=\"G\",'Spiegazioni Skills FTEM'!#REF!,'Spiegazioni Skills FTEM'!#REF!)","v":{"$error":"#REF!"}}]
[{"$f":"'Spiegazioni Skills FTEM'!A36:A36","v":0},null,null,{"$f":"IF($H$2=\"G\",'Spiegazioni Skills FTEM'!F36,'Spiegazioni Skills FTEM'!B36)","v":"Controllo delle emozioni"},null,null,{"$f":"IF($H$2=\"G\",'Spiegazioni Skills FTEM'!G36,'Spiegazioni Skills FTEM'!C36)","v":"Può regolare le proprie emozioni e impulsi, mantiene il controllo quando si trova sotto pressione, sa anche agire adeguatamente in situazioni emotive o frustranti"},null,null,{"$f":"IF($H$2=\"G\",'Spiegazioni Skills FTEM'!#REF!,'Spiegazioni Skills FTEM'!#REF!)","v":{"$error":"#REF!"}}]
[{"$f":"'Spiegazioni Skills FTEM'!A37","v":"FISICO"},null,null,{"$f":"IF($H$2=\"G\",'Spiegazioni Skills FTEM'!F37,'Spiegazioni Skills FTEM'!B37)","v":"Produzione di prestazione"},null,null,{"$f":"IF($H$2=\"G\",'Spiegazioni Skills FTEM'!G37,'Spiegazioni Skills FTEM'!C37)","v":"Possiede nelle gambe e nella parte alta del corpo la necessaria potenza/forza/velocità (fattori neuromuscolari)"},null,null,{"$f":"IF($H$2=\"G\",'Spiegazioni Skills FTEM'!#REF!,'Spiegazioni Skills FTEM'!#REF!)","v":{"$error":"#REF!"}},null,null,null,{"$f":"IFERROR(AVERAGE(O46:O50),\"-\")","v":"-"},null,{"$f":"IFERROR(AVERAGE(Q46:Q50),\"-\")","v":"-"},null,{"$f":"IFERROR(AVERAGE(S46:S50),\"-\")","v":"-"},null,{"$f":"IFERROR(AVERAGE(U46:U50),\"-\")","v":"-"},null,{"$f":"IFERROR(AVERAGE(W46:W50),\"-\")","v":"-"},null,{"$f":"IFERROR(AVERAGE(Y46:Y50),\"-\")","v":"-"}]
[null,null,null,{"$f":"IF($H$2=\"G\",'Spiegazioni Skills FTEM'!F38,'Spiegazioni Skills FTEM'!B38)","v":"Resistenza specifica alla fatica"},null,null,{"$f":"IF($H$2=\"G\",'Spiegazioni Skills FTEM'!G38,'Spiegazioni Skills FTEM'!C38)","v":"È capace di mantenere a lungo nell'ambito di un impiego la potenza/forza/velocità ed è capace di recuperare completamente attraverso i vari impieghi sul ghiaccio (fattori metabolici e cardiovascolari)"},null,null,{"$f":"IF($H$2=\"G\",'Spiegazioni Skills FTEM'!#REF!,'Spiegazioni Skills FTEM'!#REF!)","v":{"$error":"#REF!"}}]
[{"$f":"'Spiegazioni Skills FTEM'!A39:A39","v":0},null,null,{"$f":"IF($H$2=\"G\",'Spiegazioni Skills FTEM'!F39,'Spiegazioni Skills FTEM'!B39)","v":"Salute / prevenzione"},null,null,{"$f":"IF($H$2=\"G\",'Spiegazioni Skills FTEM'!G39,'Spiegazioni Skills FTEM'!C39)","v":"Possiede la necessaria stabilità (stabilità delle gambe) e mobilità delle articolazioni centrali"},null,null,{"$f":"IF($H$2=\"G\",'Spiegazioni Skills FTEM'!#REF!,'Spiegazioni Skills FTEM'!#REF!)","v":{"$error":"#REF!"}}]
[{"$f":"'Spiegazioni Skills FTEM'!A40:A40","v":0},null,null,{"$f":"IF($H$2=\"G\",'Spiegazioni Skills FTEM'!F40,'Spiegazioni Skills FTEM'!B40)","v":"Competenze della mobilità"},null,null,{"$f":"IF($H$2=\"G\",'Spiegazioni Skills FTEM'!G40,'Spiegazioni Skills FTEM'!C40)","v":"Padroneggia le basilari capacità di movimento che garantiscono in modo determinante le abilità specifiche \"skills\", come pure l'efficacia dei movimenti"},null,null,{"$f":"IF($H$2=\"G\",'Spiegazioni Skills FTEM'!#REF!,'Spiegazioni Skills FTEM'!#REF!)","v":{"$error":"#REF!"}}]
[{"$f":"'Spiegazioni Skills FTEM'!A41:A41","v":0},null,null,{"$f":"IF($H$2=\"G\",'Spiegazioni Skills FTEM'!F41,'Spiegazioni Skills FTEM'!B41)","v":"Robustezza"},null,null,{"$f":"IF($H$2=\"G\",'Spiegazioni Skills FTEM'!G41,'Spiegazioni Skills FTEM'!C41)","v":"Possiede la necessaria forza di base (tensione del corpo) per vincere i duelli e resistere alle cariche"},null,null,{"$f":"IF($H$2=\"G\",'Spiegazioni Skills FTEM'!#REF!,'Spiegazioni Skills FTEM'!#REF!)","v":{"$error":"#REF!"}}]

{"sheet":"6","index":9,"n_rows":50,"n_cols":36,"rows_kept":50,"cut":false,"hidden":false,"merged":[[45,34,49,34],[45,12,49,12],[45,13,49,13],[45,15,49,15],[45,17,49,17],[45,19,49,19],[45,21,49,21],[45,23,49,23],[45,25,49,25],[45,26,49,32],[45,0,49,2],[45,3,45,5],[45,6,45,11],[46,3,46,5],[46,6,46,11],[48,3,48,5],[48,6,48,11],[49,3,49,5],[49,6,49,11],[47,3,47,5],[47,6,47,11],[40,23,44,23],[42,3,42,5],[42,6,42,11],[44,3,44,5],[44,6,44,11],[40,0,44,2],[40,3,40,5],[40,6,40,11],[40,12,44,12],[40,13,44,13],[40,15,44,15],[43,3,43,5],[43,6,43,11],[34,21,34,22],[35,17,39,17],[35,19,39,19],[35,21,39,21],[37,3,37,5],[37,6,37,11],[38,3,38,5],[38,6,38,11],[40,17,44,17],[40,19,44,19],[40,21,44,21],[36,3,36,5],[36,6,36,11],[41,3,41,5],[41,6,41,11],[29,0,33,2],[29,3,29,5],[29,6,29,11],[29,12,33,12],[29,13,33,13],[29,15,33,15],[34,23,34,24],[34,26,34,32],[35,0,39,2],[35,3,35,5],[35,6,35,11],[35,12,39,12],[35,13,39,13],[35,15,39,15],[39,3,39,5],[39,6,39,11],[35,23,39,23],[34,0,34,2],[34,3,34,5],[34,6,34,11],[34,13,34,14],[34,15,34,16],[34,17,34,18],[34,19,34,20],[23,19,28,19],[23,21,28,21],[23,23,28,23],[26,3,26,5],[26,6,26,11],[28,3,28,5],[28,6,28,11],[33,3,33,5],[33,6,33,11],[29,23,33,23],[29,17,33,17],[29,19,33,19],[29,21,33,21],[31,3,31,5],[31,6,31,11],[32,3,32,5],[32,6,32,11],[27,3,27,5],[27,6,27,11],[25,3,25,5],[25,6,25,11],[30,3,30,5],[30,6,30,11],[12,21,16,21],[18,15,22,15],[18,17,22,17],[18,19,22,19],[18,21,22,21],[18,23,22,23],[22,3,22,5],[22,6,22,11],[23,0,28,2],[23,3,23,5],[23,6,23,11],[23,12,28,12],[23,13,28,13],[23,15,28,15],[23,17,28,17],[18,0,22,2],[18,3,18,5],[18,6,18,11],[18,12,22,12],[18,13,22,13],[19,3,19,5],[19,6,19,11],[21,3,21,5],[21,6,21,11],[11,21,11,22],[11,23,11,24],[11,26,11,32],[11,6,11,11],[12,23,16,23],[16,3,16,5],[16,6,16,11],[17,0,17,2],[17,3,17,5],[17,6,17,11],[17,13,17,14],[17,15,17,16],[17,17,17,18],[17,19,17,20],[17,21,17,22],[17,23,17,24],[12,0,16,2],[12,3,12,5],[12,6,12,11],[12,12,16,12],[12,13,16,13],[12,15,16,15],[12,17,16,17],[12,19,16,19],[4,0,4,1],[4,2,4,5],[4,10,4,24],[10,0,10,24],[10,25,10,35],[40,25,44,25],[40,26,44,32],[40,34,44,34],[12,25,16,25],[12,26,16,32],[12,34,16,34],[18,25,22,25],[18,26,22,32],[18,34,22,34],[23,25,28,25],[23,26,28,32],[23,34,28,34],[17,26,17,32],[11,0,11,2],[11,3,11,5],[11,13,11,14],[11,15,11,16],[11,17,11,18],[11,19,11,20],[0,0,0,24],[0,25,0,26],[0,27,0,32],[0,33,0,35],[29,25,33,25],[29,26,33,32],[29,34,33,34],[35,25,39,25],[35,26,39,32],[35,34,39,34],[1,0,1,1],[1,2,1,5],[1,10,1,24],[2,0,2,1],[2,2,2,5],[2,11,2,24],[6,0,6,1],[6,2,6,35],[7,0,7,1],[7,2,7,35],[8,0,8,1],[8,2,8,35],[3,0,3,1],[3,10,3,24],[13,3,13,5],[13,6,13,11],[14,3,14,5],[14,6,14,11],[15,3,15,5],[15,6,15,11],[20,3,20,5],[20,6,20,11],[24,3,24,5],[24,6,24,11]]}
["Personalien",null,null,null,null,null,null,null,null,null,null,null,null,null,null,null,null,null,null,null,null,null,null,null,null,"Predisposizione",null,"Valutazioni",null,null,null,null,null,"Rating"]
["COGNOME",null,{"$f":"IF(ISBLANK(VLOOKUP(6,Tabelle3[],3,0)),\"-\",VLOOKUP(6,Tabelle3[],3,0))","v":"-"},null,null,null,"POSIZIONE",null,null,"INDIRIZZO",{"$f":"IF(ISBLANK(VLOOKUP(6,Tabelle3[],5,0)),\"-\",VLOOKUP(6,Tabelle3[],5,0))","v":"-"},null,null,null,null,null,null,null,null,null,null,null,null,null,null,"Età\" (biologica/età relativa)",null,"Data 1",null,null,"cm",null,"Kg",null,"ECCELLENTE",5]
["NOME",null,{"$f":"IF(ISBLANK(VLOOKUP(6,Tabelle3[],2,0)),\"-\",VLOOKUP(6,Tabelle3[],2,0))","v":"-"},null,null,null,"BASTONE",null,null,"LUOGO",{"$f":"IF(ISBLANK(VLOOKUP(6,Tabelle3[],7,0)),\"-\",VLOOKUP(6,Tabelle3[],7,0))","v":"-"},{"$f":"IF(ISBLANK(VLOOKUP(6,Tabelle3[],6,0)),\"-\",VLOOKUP(6,Tabelle3[],6,0))","v":"-"},null,null,null,null,null,null,null,null,null,null,null,null,null,"Predisposizione",null,"Data 2",null,null,"cm",null,"Kg",null,"BUONO",4]
["DATA DI NASC.",null,{"$f":"IF(ISBLANK(VLOOKUP(6,Tabelle3[],14,0)),\"-\",VLOOKUP(6,Tabelle3[],14,0))","v":"-"},{"$f":"IF(ISBLANK(VLOOKUP(6,Tabelle3[],15,0)),\"-\",VLOOKUP(6,Tabelle3[],15,0))","v":"-"},{"$f":"IF(ISBLANK(VLOOKUP(6,Tabelle3[],16,0)),\"-\",VLOOKUP(6,Tabelle3[],16,0))","v":"-"},null,"ALTEZZA",null,"cm (Finale)","TELEFONO",{"$f":"IF(ISBLANK(VLOOKUP(6,Tabelle3[],8,0)),\"-\",VLOOKUP(6,Tabelle3[],8,0))","v":"-"},null,null,null,null,null,null,null,null,null,null,null,null,null,null,"Ambiente di vita",null,"Data 3",null,null,"cm",null,"Kg",null,"MEDIO/DISCRETO",3]
["SESSO",null,{"$f":"IF(ISBLANK(VLOOKUP(6,Tabelle3[],13,0)),\"-\",VLOOKUP(6,Tabelle3[],13,0))","v":"-"},null,null,null,"PESO",null,"Kg (Finale)","E-Mail",{"$f":"IF(ISBLANK(VLOOKUP(6,Tabelle3[],9,0)),\"-\",VLOOKUP(6,Tabelle3[],9,0))","v":"-"},null,null,null,null,null,null,null,null,null,null,null,null,null,null,null,null,"Data 4",null,null,"cm",null,"Kg",null,"CON LACUNE",2]
[null,null,null,null,null,null,null,null,null,null,null,null,null,null,null,null,null,null,null,null,null,null,null,null,null,null,null,"Data 5",null,null,"cm",null,"Kg",null,"INSUFFICIENTE",1]
["Visione",null,"xxx"]
["Prossimo passo",null,"xxx"]
["Proflio giocatore",null,"xxx"]
[]
["VALUTAZIONI (COACH / GIOCATORE)",null,null,null,null,null,null,null,null,null,null,null,null,null,null,null,null,null,null,null,null,null,null,null,null,"Obiettivi SMART"]
[{"$f":"'Spiegazioni Skills FTEM'!A3","v":"TEAM"},null,null,{"$f":"'Spiegazioni Skills FTEM'!B3","v":"CAPACITÀ"},null,null,{"$f":"'Spiegazioni Skills FTEM'!C3","v":"CRITERIO D'OSSERVAZIONE"},null,null,{"$f":"'Spiegazioni Skills FTEM'!H3","v":0},null,null,"Final","Data1",null,"Data2",null,"Data3",null,"Data4",null,"Data5",null,"Player",null,"OBIETTIVO","PROVVEDIMENTI:\n(SPECIFICI, MISURABILI, REALISTICI)",null,null,null,null,null,null,"TERMINE","COTROLLO DELL'OBIETTIVO","Data"]
[{"$f":"'Spiegazioni Skills FTEM'!A4","v":"SQUADRA"},null,null,{"$f":"IF($H$2=\"G\",'Spiegazioni Skills FTEM'!F4,'Spiegazioni Skills FTEM'!B4)","v":"Comunicazione"},null,null,{"$f":"IF($H$2=\"G\",'Spiegazioni Skills FTEM'!G4,'Spiegazioni Skills FTEM'!C4)","v":"Cura relazioni aperte e rispettose, fiducia quale base comportamentale, affronta i conflitti senza ledere la stabilità del gruppo, comunica con i compagni, gli allenatori e\nfunzionari con i medesimi valori"},null,null,{"$f":"IF($H$2=\"G\",'Spiegazioni Skills FTEM'!#REF!,'Spiegazioni Skills FTEM'!#REF!)","v":{"$error":"#REF!"}},null,null,null,{"$f":"IFERROR(AVERAGE(O13:O17),\"-\")","v":"-"},null,{"$f":"IFERROR(AVERAGE(Q13:Q17),\"-\")","v":"-"},null,{"$f":"IFERROR(AVERAGE(S13:S17),\"-\")","v":"-"},null,{"$f":"IFERROR(AVERAGE(U13:U17),\"-\")","v":"-"},null,{"$f":"IFERROR(AVERAGE(W13:W17),\"-\")","v":"-"},null,{"$f":"IFERROR(AVERAGE(Y13:Y17),\"-\")","v":"-"}]
[{"$f":"'Spiegazioni Skills FTEM'!A5","v":0},null,null,{"$f":"IF($H$2=\"G\",'Spiegazioni Skills FTEM'!F5,'Spiegazioni Skills FTEM'!B5)","v":"Capacità nella squadra"},null,null,{"$f":"IF($H$2=\"G\",'Spiegazioni Skills FTEM'!G5,'Spiegazioni Skills FTEM'!C5)","v":"Integrazione nel gruppo, definisce e realizza obiettivi comuni, NOI prima dell'IO, contribuisce a creare un buon spirito di squadra e clima di lavoro"},null,null,{"$f":"IF($H$2=\"G\",'Spiegazioni Skills FTEM'!#REF!,'Spiegazioni Skills FTEM'!#REF!)","v":{"$error":"#REF!"}}]
[{"$f":"'Spiegazioni Skills FTEM'!A6","v":0},null,null,{"$f":"IF($H$2=\"G\",'Spiegazioni Skills FTEM'!F6,'Spiegazioni Skills FTEM'!B6)","v":"Leadership"},null,null,{"$f":"IF($H$2=\"G\",'Spiegazioni Skills FTEM'!G6,'Spiegazioni Skills FTEM'!C6)","v":"Assume responsabilità nell'ambito del gruppo, cerca di migliorare la squadra e i compagni, influenza positivamente la dinamica di gruppo"},null,null,{"$f":"IF($H$2=\"G\",'Spiegazioni Skills FTEM'!#REF!,'Spiegazioni Skills FTEM'!#REF!)","v":{"$error":"#REF!"}}]
[{"$f":"'Spiegazioni Skills FTEM'!A7","v":0},null,null,{"$f":"IF($H$2=\"G\",'Spiegazioni Skills FTEM'!F7,'Spiegazioni Skills FTEM'!B7)","v":"Ripartizione dei ruoli"},null,null,{"$f":"IF($H$2=\"G\",'Spiegazioni Skills FTEM'!G7,'Spiegazioni Skills FTEM'!C7)","v":"Riconosce e adempie il suo ruolo, è cosciente della sua posizione nel sistema e nella squadra, mette a disposizione della squadra le sue competenze"},null,null,{"$f":"IF($H$2=\"G\",'Spiegazioni Skills FTEM'!#REF!,'Spiegazioni Skills FTEM'!#REF!)","v":{"$error":"#REF!"}}]
[{"$f":"'Spiegazioni Skills FTEM'!A8","v":0},null,null,{"$f":"IF($H$2=\"G\",'Spiegazioni Skills FTEM'!F8,'Spiegazioni Skills FTEM'!B8)","v":"Rispetto"},null,null,{"$f":"IF($H$2=\"G\",'Spiegazioni Skills FTEM'!G8,'Spiegazioni Skills FTEM'!C8)","v":"Relazioni rispettose con i compagni, allenatori, avversari, arbitri e staff; rispetta le regole i pricipi del fairplay (compreso la lotta al doping)"},null,null,{"$f":"IF($H$2=\"G\",'Spiegazioni Skills FTEM'!#REF!,'Spiegazioni Skills FTEM'!#REF!)","v":{"$error":"#REF!"}}]
[{"$f":"'Spiegazioni Skills FTEM'!A9","v":"ON ICE"},null,null,{"$f":"'Spiegazioni Skills FTEM'!B9","v":"CAPACITÀ"},null,null,{"$f":"'Spiegazioni Skills FTEM'!C9","v":"CRITERIO D'OSSERVAZIONE"},null,null,{"$f":"'Spiegazioni Skills FTEM'!H9","v":0},null,null,null,"Data1",null,"Data2",null,"Data3",null,"Data4",null,"Data5",null,"Player",null,"OBIETTIVO","PROVVEDIMENTI:\n(SPECIFICI, MISURABILI, REALISTICI)",null,null,null,null,null,null,"TERMINE","COTROLLO DELL'OBIETTIVO","Date"]
[{"$f":"'Spiegazioni Skills FTEM'!A10","v":"PATTINAGGIO"},null,null,{"$f":"IF($H$2=\"G\",'Spiegazioni Skills FTEM'!F10,'Spiegazioni Skills FTEM'!B10)","v":"Velocità dei piedi"},null,null,{"$f":"IF($H$2=\"G\",'Spiegazioni Skills FTEM'!G10,'Spiegazioni Skills FTEM'!C10)","v":"Accelerazione, partenza, esplosività dei primi 3 passi, frequenza"},null,null,{"$f":"IF($H$2=\"G\",'Spiegazioni Skills FTEM'!#REF!,'Spiegazioni Skills FTEM'!#REF!)","v":{"$error":"#REF!"}},null,null,null,{"$f":"IFERROR(AVERAGE(O19:O23),\"-\")","v":"-"},null,{"$f":"IFERROR(AVERAGE(Q19:Q23),\"-\")","v":"-"},null,{"$f":"IFERROR(AVERAGE(S19:S23),\"-\")","v":"-"},null,{"$f":"IFERROR(AVERAGE(U19:U23),\"-\")","v":"-"},null,{"$f":"IFERROR(AVERAGE(W19:W23),\"-\")","v":"-"},null,{"$f":"IFERROR(AVERAGE(Y19:Y23),\"-\")","v":"-"}]
[{"$f":"'Spiegazioni Skills FTEM'!A11:A11","v":0},null,null,{"$f":"IF($H$2=\"G\",'Spiegazioni Skills FTEM'!F11,'Spiegazioni Skills FTEM'!B11)","v":"Velocità/rapidità"},null,null,{"$f":"IF($H$2=\"G\",'Spiegazioni Skills FTEM'!G11,'Spiegazioni Skills FTEM'!C11)","v":"Velocità, facoltà di scivolare, avanti / indietro, economia dello sforzo"},null,null,{"$f":"IF($H$2=\"G\",'Spiegazioni Skills FTEM'!#REF!,'Spiegazioni Skills FTEM'!#REF!)","v":{"$error":"#REF!"}}]
[null,null,null,{"$f":"IF($H$2=\"G\",'Spiegazioni Skills FTEM'!F12,'Spiegazioni Skills FTEM'!B12)","v":"Agilità"},null,null,{"$f":"IF($H$2=\"G\",'Spiegazioni Skills FTEM'!G12,'Spiegazioni Skills FTEM'!C12)","v":"Cambiamento di direzione, girarsi, stop e ripartenza, \"Nummelin\""},null,null,{"$f":"IF($H$2=\"G\",'Spiegazioni Skills FTEM'!#REF!,'Spiegazioni Skills FTEM'!#REF!)","v":{"$error":"#REF!"}}]
[{"$f":"'Spiegazioni Skills FTEM'!A12:A12","v":0},null,null,{"$f":"IF($H$2=\"G\",'Spiegazioni Skills FTEM'!F13,'Spiegazioni Skills FTEM'!B13)","v":"Equilibrio"},null,null,{"$f":"IF($H$2=\"G\",'Spiegazioni Skills FTEM'!G13,'Spiegazioni Skills FTEM'!C13)","v":"Equilibrio, stabilità, posizione bassa, su una gamba, su entrambe"},null,null,{"$f":"IF($H$2=\"G\",'Spiegazioni Skills FTEM'!#REF!,'Spiegazioni Skills FTEM'!#REF!)","v":{"$error":"#REF!"}},null,null,null,{"$f":"IFERROR(AVERAGE(O22:O23),\"-\")","v":"-"},null,{"$f":"IFERROR(AVERAGE(Q22:Q23),\"-\")","v":"-"},null,{"$f":"IFERROR(AVERAGE(S22:S23),\"-\")","v":"-"},null,{"$f":"IFERROR(AVERAGE(U22:U23),\"-\")","v":"-"},null,{"$f":"IFERROR(AVERAGE(W22:W23),\"-\")","v":"-"},null,"-"]
[{"$f":"'Spiegazioni Skills FTEM'!A14:A14","v":0},null,null,{"$f":"IF($H$2=\"G\",'Spiegazioni Skills FTEM'!F14,'Spiegazioni Skills FTEM'!B14)","v":"Pattinaggio indietro"},null,null,{"$f":"IF($H$2=\"G\",'Spiegazioni Skills FTEM'!G14,'Spiegazioni Skills FTEM'!C14)","v":"Accelerazione, velocità, equilibrio"},null,null,{"$f":"IF($H$2=\"G\",'Spiegazioni Skills FTEM'!#REF!,'Spiegazioni Skills FTEM'!#REF!)","v":{"$error":"#REF!"}}]
[{"$f":"'Spiegazioni Skills FTEM'!A15","v":"ABILITÀ"},null,null,{"$f":"IF($H$2=\"G\",'Spiegazioni Skills FTEM'!F15,'Spiegazioni Skills FTEM'!B15)","v":"Tirare"},null,null,{"$f":"IF($H$2=\"G\",'Spiegazioni Skills FTEM'!G15,'Spiegazioni Skills FTEM'!C15)","v":"Efficienza (poco spazio, poco tempo), ricchezza di varianti, grado di sorpresa (Quick Release), precisione, potenza (conclusioni tattiche)"},null,null,{"$f":"IF($H$2=\"G\",'Spiegazioni Skills FTEM'!#REF!,'Spiegazioni Skills FTEM'!#REF!)","v":{"$error":"#REF!"}},null,null,null,{"$f":"IFERROR(AVERAGE(O24:O29),\"-\")","v":"-"},null,{"$f":"IFERROR(AVERAGE(Q24:Q29),\"-\")","v":"-"},null,{"$f":"IFERROR(AVERAGE(S24:S29),\"-\")","v":"-"},null,{"$f":"IFERROR(AVERAGE(U24:U29),\"-\")","v":"-"},null,{"$f":"IFERROR(AVERAGE(W24:W29),\"-\")","v":"-"},null,{"$f":"IFERROR(AVERAGE(Y24:Y29),\"-\")","v":"-"}]
[null,null,null,{"$f":"IF($H$2=\"G\",'Spiegazioni Skills FTEM'!F16,'Spiegazioni Skills FTEM'!B16)","v":"Passare"},null,null,{"$f":"IF($H$2=\"G\",'Spiegazioni Skills FTEM'!G16,'Spiegazioni Skills FTEM'!C16)","v":"Passaggio (distanza, flipp, rovescio), ricezione del passaggio (precisione, timing, diritto, rovescio, sul pattino), velocità del disco"},null,null,{"$f":"IF($H$2=\"G\",'Spiegazioni Skills FTEM'!#REF!,'Spiegazioni Skills FTEM'!#REF!)","v":{"$error":"#REF!"}}]
[null,null,null,{"$f":"IF($H$2=\"G\",'Spiegazioni Skills FTEM'!F17,'Spiegazioni Skills FTEM'!B17)","v":"Lavoro col bastone - condotta del disco"},null,null,{"$f":"IF($H$2=\"G\",'Spiegazioni Skills FTEM'!G17,'Spiegazioni Skills FTEM'!C17)","v":"Bastone sul disco, intercettare le linee di passaggio, deviare, controllo del bastone avversario"},null,null,{"$f":"IF($H$2=\"G\",'Spiegazioni Skills FTEM'!#REF!,'Spiegazioni Skills FTEM'!#REF!)","v":{"$error":"#REF!"}}]
[{"$f":"'Spiegazioni Skills FTEM'!A16:A16","v":0},null,null,{"$f":"IF($H$2=\"G\",'Spiegazioni Skills FTEM'!F18,'Spiegazioni Skills FTEM'!B18)","v":"Possedere/proteggere il disco"},null,null,{"$f":"IF($H$2=\"G\",'Spiegazioni Skills FTEM'!G18,'Spiegazioni Skills FTEM'!C18)","v":"Controllo del disco, dribbling, protezione del disco, finte (varianti col pattino, con o senza la balaustra), ingaggi (face-off)"},null,null,{"$f":"IF($H$2=\"G\",'Spiegazioni Skills FTEM'!#REF!,'Spiegazioni Skills FTEM'!#REF!)","v":{"$error":"#REF!"}}]
[{"$f":"'Spiegazioni Skills FTEM'!A17:A17","v":0},null,null,{"$f":"IF($H$2=\"G\",'Spiegazioni Skills FTEM'!F19,'Spiegazioni Skills FTEM'!B19)","v":"Gioco del corpo"},null,null,{"$f":"IF($H$2=\"G\",'Spiegazioni Skills FTEM'!G19,'Spiegazioni Skills FTEM'!C19)","v":"Facoltà di imporsi fisicamente, duelli (ghiaccio aperto, balaustra), subire dei checks/testa alta, livello di lotta, duro ma corretto, blocco dei tiri con il corpo"},null,null,{"$f":"IF($H$2=\"G\",'Spiegazioni Skills FTEM'!#REF!,'Spiegazioni Skills FTEM'!#REF!)","v":{"$error":"#REF!"}}]
[{"$f":"'Spiegazioni Skills FTEM'!A20:A20","v":0},null,null,{"$f":"IF($H$2=\"G\",'Spiegazioni Skills FTEM'!F20,'Spiegazioni Skills FTEM'!B20)","v":"-"},null,null,{"$f":"IF($H$2=\"G\",'Spiegazioni Skills FTEM'!G20,'Spiegazioni Skills FTEM'!C20)","v":"-"},null,null,{"$f":"IF($H$2=\"G\",'Spiegazioni Skills FTEM'!#REF!,'Spiegazioni Skills FTEM'!#REF!)","v":{"$error":"#REF!"}}]
[{"$f":"'Spiegazioni Skills FTEM'!A21","v":"SENSO DELL'HOCKEY"},null,null,{"$f":"IF($H$2=\"G\",'Spiegazioni Skills FTEM'!F21,'Spiegazioni Skills FTEM'!B21)","v":"Intelligenza nel gioco"},null,null,{"$f":"IF($H$2=\"G\",'Spiegazioni Skills FTEM'!G21,'Spiegazioni Skills FTEM'!C21)","v":"Vedere spazi e giocatori liberi, creare situazioni di superiorità numerica, agire cercando soluzioni in tutte le situazioni, velocità di visualizzazione"},null,null,{"$f":"IF($H$2=\"G\",'Spiegazioni Skills FTEM'!#REF!,'Spiegazioni Skills FTEM'!#REF!)","v":{"$error":"#REF!"}},null,null,null,{"$f":"IFERROR(AVERAGE(O30:O34),\"-\")","v":"-"},null,{"$f":"IFERROR(AVERAGE(Q30:Q34),\"-\")","v":"-"},null,{"$f":"IFERROR(AVERAGE(S30:S34),\"-\")","v":"-"},null,{"$f":"IFERROR(AVERAGE(U30:U34),\"-\")","v":"-"},null,{"$f":"IFERROR(AVERAGE(W30:W34),\"-\")","v":"-"},null,{"$f":"IFERROR(AVERAGE(Y30:Y34),\"-\")","v":"-"}]
[{"$f":"'Spiegazioni Skills FTEM'!A22:A22","v":0},null,null,{"$f":"IF($H$2=\"G\",'Spiegazioni Skills FTEM'!F22,'Spiegazioni Skills FTEM'!B22)","v":"Sensibilità offensiva"},null,null,{"$f":"IF($H$2=\"G\",'Spiegazioni Skills FTEM'!G22,'Spiegazioni Skills FTEM'!C22)","v":"Smarcarsi, anticipare le situazioni di gioco, aprire spazi liberi per i compagni, piazzarsi per le conclusioni, velocità nel chiudere gli spazi (pressione), comunicazione"},null,null,{"$f":"IF($H$2=\"G\",'Spiegazioni Skills FTEM'!#REF!,'Spiegazioni Skills FTEM'!#REF!)","v":{"$error":"#REF!"}}]
[null,null,null,{"$f":"IF($H$2=\"G\",'Spiegazioni Skills FTEM'!F23,'Spiegazioni Skills FTEM'!B23)","v":"Sensibilità difensiva"},null,null,{"$f":"IF($H$2=\"G\",'Spiegazioni Skills FTEM'!G23,'Spiegazioni Skills FTEM'!C23)","v":"Mantenere la posizione difensiva, protezione dello slot, assicurare i compagni / supporto, individuare le linee di passaggio, bloccare i tiri, ridurre velocemente gli spazi, comunicazione"},null,null,{"$f":"IF($H$2=\"G\",'Spiegazioni Skills FTEM'!#REF!,'Spiegazioni Skills FTEM'!#REF!)","v":{"$error":"#REF!"}}]
[{"$f":"'Spiegazioni Skills FTEM'!A24:A24","v":0},null,null,{"$f":"IF($H$2=\"G\",'Spiegazioni Skills FTEM'!F24,'Spiegazioni Skills FTEM'!B24)","v":"Gestione del disco"},null,null,{"$f":"IF($H$2=\"G\",'Spiegazioni Skills FTEM'!G24,'Spiegazioni Skills FTEM'!C24)","v":"Prendere decisioni adeguate nelle situazioni di gioco, supporto, creare superiorità numerica"},null,null,{"$f":"IF($H$2=\"G\",'Spiegazioni Skills FTEM'!#REF!,'Spiegazioni Skills FTEM'!#REF!)","v":{"$error":"#REF!"}}]
[{"$f":"'Spiegazioni Skills FTEM'!A25:A25","v":0},null,null,{"$f":"IF($H$2=\"G\",'Spiegazioni Skills FTEM'!F25,'Spiegazioni Skills FTEM'!B25)","v":"Creatività"},null,null,{"$f":"IF($H$2=\"G\",'Spiegazioni Skills FTEM'!G25,'Spiegazioni Skills FTEM'!C25)","v":"Creare situazioni a sorpresa, fiuto del gol"},null,null,{"$f":"IF($H$2=\"G\",'Spiegazioni Skills FTEM'!#REF!,'Spiegazioni Skills FTEM'!#REF!)","v":{"$error":"#REF!"}}]
[{"$f":"'Spiegazioni Skills FTEM'!A26","v":"PERSONALITY"},null,null,{"$f":"'Spiegazioni Skills FTEM'!B26","v":"CAPACITÀ"},null,null,{"$f":"'Spiegazioni Skills FTEM'!C26","v":"CRITERIO D'OSSERVAZIONE"},null,null,{"$f":"'Spiegazioni Skills FTEM'!H26","v":0},null,null,null,"Data1",null,"Data2",null,"Data3",null,"Data4",null,"Data5",null,"Player",null,"OBIETTIVO","PROVVEDIMENTI:\n(SPECIFICI, MISURABILI, REALISTICI)",null,null,null,null,null,null,"TERMINE","COTROLLO DELL'OBIETTIVO","Date"]
[{"$f":"'Spiegazioni Skills FTEM'!A27","v":"PERSONALITÀ"},null,null,{"$f":"IF($H$2=\"G\",'Spiegazioni Skills FTEM'!F27,'Spiegazioni Skills FTEM'!B27)","v":"Fiducia in se stesso"},null,null,{"$f":"IF($H$2=\"G\",'Spiegazioni Skills FTEM'!G27,'Spiegazioni Skills FTEM'!C27)","v":"Possiede la necessaria fiducia in se stesso, «I can do it»-attitudine, sa valutare le proprie capacità (conosce i propri punti forti e deboli), può realizzare le proprie qualità con\ncostanza, è coraggioso e sa prendere dei rischi calcolati"},null,null,{"$f":"IF($H$2=\"G\",'Spiegazioni Skills FTEM'!#REF!,'Spiegazioni Skills FTEM'!#REF!)","v":{"$error":"#REF!"}},null,null,null,{"$f":"IFERROR(AVERAGE(O36:O40),\"-\")","v":"-"},null,{"$f":"IFERROR(AVERAGE(Q36:Q40),\"-\")","v":"-"},null,{"$f":"IFERROR(AVERAGE(S36:S40),\"-\")","v":"-"},null,{"$f":"IFERROR(AVERAGE(U36:U40),\"-\")","v":"-"},null,{"$f":"IFERROR(AVERAGE(W36:W40),\"-\")","v":"-"},null,{"$f":"IFERROR(AVERAGE(Y36:Y40),\"-\")","v":"-"}]
[{"$f":"'Spiegazioni Skills FTEM'!A28:A28","v":0},null,null,{"$f":"IF($H$2=\"G\",'Spiegazioni Skills FTEM'!F28,'Spiegazioni Skills FTEM'!B28)","v":"Capacità d'apprendimento"},null,null,{"$f":"IF($H$2=\"G\",'Spiegazioni Skills FTEM'!G28,'Spiegazioni Skills FTEM'!C28)","v":"Ha una buona capacità d'apprendimento (sa recepire e realizzare), possiede una personalità, cerca di imparare dai propri errori derivandone delle misure"},null,null,{"$f":"IF($H$2=\"G\",'Spiegazioni Skills FTEM'!#REF!,'Spiegazioni Skills FTEM'!#REF!)","v":{"$error":"#REF!"}}]
[null,null,null,{"$f":"IF($H$2=\"G\",'Spiegazioni Skills FTEM'!F29,'Spiegazioni Skills FTEM'!B29)","v":"Senso di responsabilità"},null,null,{"$f":"IF($H$2=\"G\",'Spiegazioni Skills FTEM'!G29,'Spiegazioni Skills FTEM'!C29)","v":"Assume responsabiltà per le proprie prestazioni e sviluppo, agisce autonomamente, cura i dettagli, mostra un grande impegno in tutti i settori"},null,null,{"$f":"IF($H$2=\"G\",'Spiegazioni Skills FTEM'!#REF!,'Spiegazioni Skills FTEM'!#REF!)","v":{"$error":"#REF!"}}]
[{"$f":"'Spiegazioni Skills FTEM'!A30:A30","v":0},null,null,{"$f":"IF($H$2=\"G\",'Spiegazioni Skills FTEM'!F30,'Spiegazioni Skills FTEM'!B30)","v":"Motivazione"},null,null,{"$f":"IF($H$2=\"G\",'Spiegazioni Skills FTEM'!G30,'Spiegazioni Skills FTEM'!C30)","v":"È sempre motivato, vuole sempre svilupparsi e imparare, vuol essere il primo e avere successo, non rinuncia mai e non si lascia influenzare dagli insuccessi"},null,null,{"$f":"IF($H$2=\"G\",'Spiegazioni Skills FTEM'!#REF!,'Spiegazioni Skills FTEM'!#REF!)","v":{"$error":"#REF!"}}]
[{"$f":"'Spiegazioni Skills FTEM'!A31:A31","v":0},null,null,{"$f":"IF($H$2=\"G\",'Spiegazioni Skills FTEM'!F31,'Spiegazioni Skills FTEM'!B31)","v":"Prestazione Stile di vita"},null,null,{"$f":"IF($H$2=\"G\",'Spiegazioni Skills FTEM'!G31,'Spiegazioni Skills FTEM'!C31)","v":"Gestisce bene la quotidianità il suo ambiente seguendo i principi della prestazione, caparbio, perseverante e finalizzato sugli obiettivi, focus sulla propria prestazione, coraggioso e grintoso, sa imporsi nei confronti delle resistenze, le sfide lo motivano"},null,null,{"$f":"IF($H$2=\"G\",'Spiegazioni Skills FTEM'!#REF!,'Spiegazioni Skills FTEM'!#REF!)","v":{"$error":"#REF!"}}]
[{"$f":"'Spiegazioni Skills FTEM'!A32","v":"FORZA MENTALE"},null,null,{"$f":"IF($H$2=\"G\",'Spiegazioni Skills FTEM'!F32,'Spiegazioni Skills FTEM'!B32)","v":"Impegno"},null,null,{"$f":"IF($H$2=\"G\",'Spiegazioni Skills FTEM'!G32,'Spiegazioni Skills FTEM'!C32)","v":"Mostra molta intensità negli allenamenti e nelle partite, dà sempre il massimo e vuole sempre spronare i propri limiti, mostra passione, si sforza ad alzare la qualità negli allenamenti"},null,null,{"$f":"IF($H$2=\"G\",'Spiegazioni Skills FTEM'!#REF!,'Spiegazioni Skills FTEM'!#REF!)","v":{"$error":"#REF!"}},null,null,null,{"$f":"IFERROR(AVERAGE(O41:O45),\"-\")","v":"-"},null,{"$f":"IFERROR(AVERAGE(Q41:Q45),\"-\")","v":"-"},null,{"$f":"IFERROR(AVERAGE(S41:S45),\"-\")","v":"-"},null,{"$f":"IFERROR(AVERAGE(U41:U45),\"-\")","v":"-"},null,{"$f":"IFERROR(AVERAGE(W41:W45),\"-\")","v":"-"},null,{"$f":"IFERROR(AVERAGE(Y41:Y45),\"-\")","v":"-"}]
[null,null,null,{"$f":"IF($H$2=\"G\",'Spiegazioni Skills FTEM'!F33,'Spiegazioni Skills FTEM'!B33)","v":"Preparazione"},null,null,{"$f":"IF($H$2=\"G\",'Spiegazioni Skills FTEM'!G33,'Spiegazioni Skills FTEM'!C33)","v":"Preparazione consapevole e finalizzata, mentalmente e fisicamente, possiede un efficiente approccio per l'ottenimento dell'ideale stato di prestazione (ILZ/ISP)"},null,null,{"$f":"IF($H$2=\"G\",'Spiegazioni Skills FTEM'!#REF!,'Spiegazioni Skills FTEM'!#REF!)","v":{"$error":"#REF!"}}]
[{"$f":"'Spiegazioni Skills FTEM'!A34:A34","v":0},null,null,{"$f":"IF($H$2=\"G\",'Spiegazioni Skills FTEM'!F34,'Spiegazioni Skills FTEM'!B34)","v":"Coaching individuale"},null,null,{"$f":"IF($H$2=\"G\",'Spiegazioni Skills FTEM'!G34,'Spiegazioni Skills FTEM'!C34)","v":"Possiede una buona capacità di concentrazione, può mantenere il suo ILZ/ISP durante la partita e l'allenamento, può utilizzare tecniche di base per rafforzare il mentale, resistenti contro pensieri e influenze negative, è consapevole del proprio linguaggio del corpo che è in grado di padroneggiare"},null,null,{"$f":"IF($H$2=\"G\",'Spiegazioni Skills FTEM'!#REF!,'Spiegazioni Skills FTEM'!#REF!)","v":{"$error":"#REF!"}}]
[{"$f":"'Spiegazioni Skills FTEM'!A35:A35","v":0},null,null,{"$f":"IF($H$2=\"G\",'Spiegazioni Skills FTEM'!F35,'Spiegazioni Skills FTEM'!B35)","v":"Gestione delle energie"},null,null,{"$f":"IF($H$2=\"G\",'Spiegazioni Skills FTEM'!G35,'Spiegazioni Skills FTEM'!C35)","v":"Può gestire le proprie energie, cura la rigenerazione, può gestire i momenti in cui si deve andare al massimo oppure risparmiarsi, interruttore on/off"},null,null,{"$f":"IF($H$2=\"G\",'Spiegazioni Skills FTEM'!#REF!,'Spiegazioni Skills FTEM'!#REF!)","v":{"$error":"#REF!"}}]
[{"$f":"'Spiegazioni Skills FTEM'!A36:A36","v":0},null,null,{"$f":"IF($H$2=\"G\",'Spiegazioni Skills FTEM'!F36,'Spiegazioni Skills FTEM'!B36)","v":"Controllo delle emozioni"},null,null,{"$f":"IF($H$2=\"G\",'Spiegazioni Skills FTEM'!G36,'Spiegazioni Skills FTEM'!C36)","v":"Può regolare le proprie emozioni e impulsi, mantiene il controllo quando si trova sotto pressione, sa anche agire adeguatamente in situazioni emotive o frustranti"},null,null,{"$f":"IF($H$2=\"G\",'Spiegazioni Skills FTEM'!#REF!,'Spiegazioni Skills FTEM'!#REF!)","v":{"$error":"#REF!"}}]
[{"$f":"'Spiegazioni Skills FTEM'!A37","v":"FISICO"},null,null,{"$f":"IF($H$2=\"G\",'Spiegazioni Skills FTEM'!F37,'Spiegazioni Skills FTEM'!B37)","v":"Produzione di prestazione"},null,null,{"$f":"IF($H$2=\"G\",'Spiegazioni Skills FTEM'!G37,'Spiegazioni Skills FTEM'!C37)","v":"Possiede nelle gambe e nella parte alta del corpo la necessaria potenza/forza/velocità (fattori neuromuscolari)"},null,null,{"$f":"IF($H$2=\"G\",'Spiegazioni Skills FTEM'!#REF!,'Spiegazioni Skills FTEM'!#REF!)","v":{"$error":"#REF!"}},null,null,null,{"$f":"IFERROR(AVERAGE(O46:O50),\"-\")","v":"-"},null,{"$f":"IFERROR(AVERAGE(Q46:Q50),\"-\")","v":"-"},null,{"$f":"IFERROR(AVERAGE(S46:S50),\"-\")","v":"-"},null,{"$f":"IFERROR(AVERAGE(U46:U50),\"-\")","v":"-"},null,{"$f":"IFERROR(AVERAGE(W46:W50),\"-\")","v":"-"},null,{"$f":"IFERROR(AVERAGE(Y46:Y50),\"-\")","v":"-"}]
[null,null,null,{"$f":"IF($H$2=\"G\",'Spiegazioni Skills FTEM'!F38,'Spiegazioni Skills FTEM'!B38)","v":"Resistenza specifica alla fatica"},null,null,{"$f":"IF($H$2=\"G\",'Spiegazioni Skills FTEM'!G38,'Spiegazioni Skills FTEM'!C38)","v":"È capace di mantenere a lungo nell'ambito di un impiego la potenza/forza/velocità ed è capace di recuperare completamente attraverso i vari impieghi sul ghiaccio (fattori metabolici e cardiovascolari)"},null,null,{"$f":"IF($H$2=\"G\",'Spiegazioni Skills FTEM'!#REF!,'Spiegazioni Skills FTEM'!#REF!)","v":{"$error":"#REF!"}}]
[{"$f":"'Spiegazioni Skills FTEM'!A39:A39","v":0},null,null,{"$f":"IF($H$2=\"G\",'Spiegazioni Skills FTEM'!F39,'Spiegazioni Skills FTEM'!B39)","v":"Salute / prevenzione"},null,null,{"$f":"IF($H$2=\"G\",'Spiegazioni Skills FTEM'!G39,'Spiegazioni Skills FTEM'!C39)","v":"Possiede la necessaria stabilità (stabilità delle gambe) e mobilità delle articolazioni centrali"},null,null,{"$f":"IF($H$2=\"G\",'Spiegazioni Skills FTEM'!#REF!,'Spiegazioni Skills FTEM'!#REF!)","v":{"$error":"#REF!"}}]
[{"$f":"'Spiegazioni Skills FTEM'!A40:A40","v":0},null,null,{"$f":"IF($H$2=\"G\",'Spiegazioni Skills FTEM'!F40,'Spiegazioni Skills FTEM'!B40)","v":"Competenze della mobilità"},null,null,{"$f":"IF($H$2=\"G\",'Spiegazioni Skills FTEM'!G40,'Spiegazioni Skills FTEM'!C40)","v":"Padroneggia le basilari capacità di movimento che garantiscono in modo determinante le abilità specifiche \"skills\", come pure l'efficacia dei movimenti"},null,null,{"$f":"IF($H$2=\"G\",'Spiegazioni Skills FTEM'!#REF!,'Spiegazioni Skills FTEM'!#REF!)","v":{"$error":"#REF!"}}]
[{"$f":"'Spiegazioni Skills FTEM'!A41:A41","v":0},null,null,{"$f":"IF($H$2=\"G\",'Spiegazioni Skills FTEM'!F41,'Spiegazioni Skills FTEM'!B41)","v":"Robustezza"},null,null,{"$f":"IF($H$2=\"G\",'Spiegazioni Skills FTEM'!G41,'Spiegazioni Skills FTEM'!C41)","v":"Possiede la necessaria forza di base (tensione del corpo) per vincere i duelli e resistere alle cariche"},null,null,{"$f":"IF($H$2=\"G\",'Spiegazioni Skills FTEM'!#REF!,'Spiegazioni Skills FTEM'!#REF!)","v":{"$error":"#REF!"}}]

{"sheet":"7","index":10,"n_rows":50,"n_cols":36,"rows_kept":50,"cut":false,"hidden":false,"merged":[[45,34,49,34],[45,12,49,12],[45,13,49,13],[45,15,49,15],[45,17,49,17],[45,19,49,19],[45,21,49,21],[45,23,49,23],[45,25,49,25],[45,26,49,32],[45,0,49,2],[45,3,45,5],[45,6,45,11],[46,3,46,5],[46,6,46,11],[48,3,48,5],[48,6,48,11],[49,3,49,5],[49,6,49,11],[47,3,47,5],[47,6,47,11],[40,23,44,23],[42,3,42,5],[42,6,42,11],[44,3,44,5],[44,6,44,11],[40,0,44,2],[40,3,40,5],[40,6,40,11],[40,12,44,12],[40,13,44,13],[40,15,44,15],[43,3,43,5],[43,6,43,11],[34,21,34,22],[35,17,39,17],[35,19,39,19],[35,21,39,21],[37,3,37,5],[37,6,37,11],[38,3,38,5],[38,6,38,11],[40,17,44,17],[40,19,44,19],[40,21,44,21],[36,3,36,5],[36,6,36,11],[41,3,41,5],[41,6,41,11],[29,0,33,2],[29,3,29,5],[29,6,29,11],[29,12,33,12],[29,13,33,13],[29,15,33,15],[34,23,34,24],[34,26,34,32],[35,0,39,2],[35,3,35,5],[35,6,35,11],[35,12,39,12],[35,13,39,13],[35,15,39,15],[39,3,39,5],[39,6,39,11],[35,23,39,23],[34,0,34,2],[34,3,34,5],[34,6,34,11],[34,13,34,14],[34,15,34,16],[34,17,34,18],[34,19,34,20],[23,19,28,19],[23,21,28,21],[23,23,28,23],[26,3,26,5],[26,6,26,11],[28,3,28,5],[28,6,28,11],[33,3,33,5],[33,6,33,11],[29,23,33,23],[29,17,33,17],[29,19,33,19],[29,21,33,21],[31,3,31,5],[31,6,31,11],[32,3,32,5],[32,6,32,11],[27,3,27,5],[27,6,27,11],[25,3,25,5],[25,6,25,11],[30,3,30,5],[30,6,30,11],[12,21,16,21],[18,15,22,15],[18,17,22,17],[18,19,22,19],[18,21,22,21],[18,23,22,23],[22,3,22,5],[22,6,22,11],[23,0,28,2],[23,3,23,5],[23,6,23,11],[23,12,28,12],[23,13,28,13],[23,15,28,15],[23,17,28,17],[18,0,22,2],[18,3,18,5],[18,6,18,11],[18,12,22,12],[18,13,22,13],[19,3,19,5],[19,6,19,11],[21,3,21,5],[21,6,21,11],[11,21,11,22],[11,23,11,24],[11,26,11,32],[11,6,11,11],[12,23,16,23],[16,3,16,5],[16,6,16,11],[17,0,17,2],[17,3,17,5],[17,6,17,11],[17,13,17,14],[17,15,17,16],[17,17,17,18],[17,19,17,20],[17,21,17,22],[17,23,17,24],[12,0,16,2],[12,3,12,5],[12,6,12,11],[12,12,16,12],[12,13,16,13],[12,15,16,15],[12,17,16,17],[12,19,16,19],[4,0,4,1],[4,2,4,5],[4,10,4,24],[10,0,10,24],[10,25,10,35],[40,25,44,25],[40,26,44,32],[40,34,44,34],[12,25,16,25],[12,26,16,32],[12,34,16,34],[18,25,22,25],[18,26,22,32],[18,34,22,34],[23,25,28,25],[23,26,28,32],[23,34,28,34],[17,26,17,32],[11,0,11,2],[11,3,11,5],[11,13,11,14],[11,15,11,16],[11,17,11,18],[11,19,11,20],[0,0,0,24],[0,25,0,26],[0,27,0,32],[0,33,0,35],[29,25,33,25],[29,26,33,32],[29,34,33,34],[35,25,39,25],[35,26,39,32],[35,34,39,34],[1,0,1,1],[1,2,1,5],[1,10,1,24],[2,0,2,1],[2,2,2,5],[2,11,2,24],[6,0,6,1],[6,2,6,35],[7,0,7,1],[7,2,7,35],[8,0,8,1],[8,2,8,35],[3,0,3,1],[3,10,3,24],[13,3,13,5],[13,6,13,11],[14,3,14,5],[14,6,14,11],[15,3,15,5],[15,6,15,11],[20,3,20,5],[20,6,20,11],[24,3,24,5],[24,6,24,11]]}
["Personalien",null,null,null,null,null,null,null,null,null,null,null,null,null,null,null,null,null,null,null,null,null,null,null,null,"Predisposizione",null,"Valutazioni",null,null,null,null,null,"Rating"]
["COGNOME",null,{"$f":"IF(ISBLANK(VLOOKUP(7,Tabelle3[],3,0)),\"-\",VLOOKUP(7,Tabelle3[],3,0))","v":"-"},null,null,null,"POSIZIONE",null,null,"INDIRIZZO",{"$f":"IF(ISBLANK(VLOOKUP(7,Tabelle3[],5,0)),\"-\",VLOOKUP(7,Tabelle3[],5,0))","v":"-"},null,null,null,null,null,null,null,null,null,null,null,null,null,null,"Età\" (biologica/età relativa)",null,"Data 1",null,null,"cm",null,"Kg",null,"ECCELLENTE",5]
["NOME",null,{"$f":"IF(ISBLANK(VLOOKUP(7,Tabelle3[],2,0)),\"-\",VLOOKUP(7,Tabelle3[],2,0))","v":"-"},null,null,null,"BASTONE",null,null,"LUOGO",{"$f":"IF(ISBLANK(VLOOKUP(7,Tabelle3[],7,0)),\"-\",VLOOKUP(7,Tabelle3[],7,0))","v":"-"},{"$f":"IF(ISBLANK(VLOOKUP(7,Tabelle3[],6,0)),\"-\",VLOOKUP(7,Tabelle3[],6,0))","v":"-"},null,null,null,null,null,null,null,null,null,null,null,null,null,"Predisposizione",null,"Data 2",null,null,"cm",null,"Kg",null,"BUONO",4]
["DATA DI NASC.",null,{"$f":"IF(ISBLANK(VLOOKUP(7,Tabelle3[],14,0)),\"-\",VLOOKUP(7,Tabelle3[],14,0))","v":"-"},{"$f":"IF(ISBLANK(VLOOKUP(7,Tabelle3[],15,0)),\"-\",VLOOKUP(7,Tabelle3[],15,0))","v":"-"},{"$f":"IF(ISBLANK(VLOOKUP(7,Tabelle3[],16,0)),\"-\",VLOOKUP(7,Tabelle3[],16,0))","v":"-"},null,"ALTEZZA",null,"cm (Finale)","TELEFONO",{"$f":"IF(ISBLANK(VLOOKUP(7,Tabelle3[],8,0)),\"-\",VLOOKUP(7,Tabelle3[],8,0))","v":"-"},null,null,null,null,null,null,null,null,null,null,null,null,null,null,"Ambiente di vita",null,"Data 3",null,null,"cm",null,"Kg",null,"MEDIO/DISCRETO",3]
["SESSO",null,{"$f":"IF(ISBLANK(VLOOKUP(7,Tabelle3[],13,0)),\"-\",VLOOKUP(7,Tabelle3[],13,0))","v":"-"},null,null,null,"PESO",null,"Kg (Finale)","E-Mail",{"$f":"IF(ISBLANK(VLOOKUP(7,Tabelle3[],9,0)),\"-\",VLOOKUP(7,Tabelle3[],9,0))","v":"-"},null,null,null,null,null,null,null,null,null,null,null,null,null,null,null,null,"Data 4",null,null,"cm",null,"Kg",null,"CON LACUNE",2]
[null,null,null,null,null,null,null,null,null,null,null,null,null,null,null,null,null,null,null,null,null,null,null,null,null,null,null,"Data 5",null,null,"cm",null,"Kg",null,"INSUFFICIENTE",1]
["Visione",null,"xxx"]
["Prossimo passo",null,"xxx"]
["Proflio giocatore",null,"xxx"]
[]
["VALUTAZIONI (COACH / GIOCATORE)",null,null,null,null,null,null,null,null,null,null,null,null,null,null,null,null,null,null,null,null,null,null,null,null,"Obiettivi SMART"]
[{"$f":"'Spiegazioni Skills FTEM'!A3","v":"TEAM"},null,null,{"$f":"'Spiegazioni Skills FTEM'!B3","v":"CAPACITÀ"},null,null,{"$f":"'Spiegazioni Skills FTEM'!C3","v":"CRITERIO D'OSSERVAZIONE"},null,null,{"$f":"'Spiegazioni Skills FTEM'!H3","v":0},null,null,"Final","Data1",null,"Data2",null,"Data3",null,"Data4",null,"Data5",null,"Player",null,"OBIETTIVO","PROVVEDIMENTI:\n(SPECIFICI, MISURABILI, REALISTICI)",null,null,null,null,null,null,"TERMINE","COTROLLO DELL'OBIETTIVO","Data"]
[{"$f":"'Spiegazioni Skills FTEM'!A4","v":"SQUADRA"},null,null,{"$f":"IF($H$2=\"G\",'Spiegazioni Skills FTEM'!F4,'Spiegazioni Skills FTEM'!B4)","v":"Comunicazione"},null,null,{"$f":"IF($H$2=\"G\",'Spiegazioni Skills FTEM'!G4,'Spiegazioni Skills FTEM'!C4)","v":"Cura relazioni aperte e rispettose, fiducia quale base comportamentale, affronta i conflitti senza ledere la stabilità del gruppo, comunica con i compagni, gli allenatori e\nfunzionari con i medesimi valori"},null,null,{"$f":"IF($H$2=\"G\",'Spiegazioni Skills FTEM'!#REF!,'Spiegazioni Skills FTEM'!#REF!)","v":{"$error":"#REF!"}},null,null,null,{"$f":"IFERROR(AVERAGE(O13:O17),\"-\")","v":"-"},null,{"$f":"IFERROR(AVERAGE(Q13:Q17),\"-\")","v":"-"},null,{"$f":"IFERROR(AVERAGE(S13:S17),\"-\")","v":"-"},null,{"$f":"IFERROR(AVERAGE(U13:U17),\"-\")","v":"-"},null,{"$f":"IFERROR(AVERAGE(W13:W17),\"-\")","v":"-"},null,{"$f":"IFERROR(AVERAGE(Y13:Y17),\"-\")","v":"-"}]
[{"$f":"'Spiegazioni Skills FTEM'!A5","v":0},null,null,{"$f":"IF($H$2=\"G\",'Spiegazioni Skills FTEM'!F5,'Spiegazioni Skills FTEM'!B5)","v":"Capacità nella squadra"},null,null,{"$f":"IF($H$2=\"G\",'Spiegazioni Skills FTEM'!G5,'Spiegazioni Skills FTEM'!C5)","v":"Integrazione nel gruppo, definisce e realizza obiettivi comuni, NOI prima dell'IO, contribuisce a creare un buon spirito di squadra e clima di lavoro"},null,null,{"$f":"IF($H$2=\"G\",'Spiegazioni Skills FTEM'!#REF!,'Spiegazioni Skills FTEM'!#REF!)","v":{"$error":"#REF!"}}]
[{"$f":"'Spiegazioni Skills FTEM'!A6","v":0},null,null,{"$f":"IF($H$2=\"G\",'Spiegazioni Skills FTEM'!F6,'Spiegazioni Skills FTEM'!B6)","v":"Leadership"},null,null,{"$f":"IF($H$2=\"G\",'Spiegazioni Skills FTEM'!G6,'Spiegazioni Skills FTEM'!C6)","v":"Assume responsabilità nell'ambito del gruppo, cerca di migliorare la squadra e i compagni, influenza positivamente la dinamica di gruppo"},null,null,{"$f":"IF($H$2=\"G\",'Spiegazioni Skills FTEM'!#REF!,'Spiegazioni Skills FTEM'!#REF!)","v":{"$error":"#REF!"}}]
[{"$f":"'Spiegazioni Skills FTEM'!A7","v":0},null,null,{"$f":"IF($H$2=\"G\",'Spiegazioni Skills FTEM'!F7,'Spiegazioni Skills FTEM'!B7)","v":"Ripartizione dei ruoli"},null,null,{"$f":"IF($H$2=\"G\",'Spiegazioni Skills FTEM'!G7,'Spiegazioni Skills FTEM'!C7)","v":"Riconosce e adempie il suo ruolo, è cosciente della sua posizione nel sistema e nella squadra, mette a disposizione della squadra le sue competenze"},null,null,{"$f":"IF($H$2=\"G\",'Spiegazioni Skills FTEM'!#REF!,'Spiegazioni Skills FTEM'!#REF!)","v":{"$error":"#REF!"}}]
[{"$f":"'Spiegazioni Skills FTEM'!A8","v":0},null,null,{"$f":"IF($H$2=\"G\",'Spiegazioni Skills FTEM'!F8,'Spiegazioni Skills FTEM'!B8)","v":"Rispetto"},null,null,{"$f":"IF($H$2=\"G\",'Spiegazioni Skills FTEM'!G8,'Spiegazioni Skills FTEM'!C8)","v":"Relazioni rispettose con i compagni, allenatori, avversari, arbitri e staff; rispetta le regole i pricipi del fairplay (compreso la lotta al doping)"},null,null,{"$f":"IF($H$2=\"G\",'Spiegazioni Skills FTEM'!#REF!,'Spiegazioni Skills FTEM'!#REF!)","v":{"$error":"#REF!"}}]
[{"$f":"'Spiegazioni Skills FTEM'!A9","v":"ON ICE"},null,null,{"$f":"'Spiegazioni Skills FTEM'!B9","v":"CAPACITÀ"},null,null,{"$f":"'Spiegazioni Skills FTEM'!C9","v":"CRITERIO D'OSSERVAZIONE"},null,null,{"$f":"'Spiegazioni Skills FTEM'!H9","v":0},null,null,null,"Data1",null,"Data2",null,"Data3",null,"Data4",null,"Data5",null,"Player",null,"OBIETTIVO","PROVVEDIMENTI:\n(SPECIFICI, MISURABILI, REALISTICI)",null,null,null,null,null,null,"TERMINE","COTROLLO DELL'OBIETTIVO","Date"]
[{"$f":"'Spiegazioni Skills FTEM'!A10","v":"PATTINAGGIO"},null,null,{"$f":"IF($H$2=\"G\",'Spiegazioni Skills FTEM'!F10,'Spiegazioni Skills FTEM'!B10)","v":"Velocità dei piedi"},null,null,{"$f":"IF($H$2=\"G\",'Spiegazioni Skills FTEM'!G10,'Spiegazioni Skills FTEM'!C10)","v":"Accelerazione, partenza, esplosività dei primi 3 passi, frequenza"},null,null,{"$f":"IF($H$2=\"G\",'Spiegazioni Skills FTEM'!#REF!,'Spiegazioni Skills FTEM'!#REF!)","v":{"$error":"#REF!"}},null,null,null,{"$f":"IFERROR(AVERAGE(O19:O23),\"-\")","v":"-"},null,{"$f":"IFERROR(AVERAGE(Q19:Q23),\"-\")","v":"-"},null,{"$f":"IFERROR(AVERAGE(S19:S23),\"-\")","v":"-"},null,{"$f":"IFERROR(AVERAGE(U19:U23),\"-\")","v":"-"},null,{"$f":"IFERROR(AVERAGE(W19:W23),\"-\")","v":"-"},null,{"$f":"IFERROR(AVERAGE(Y19:Y23),\"-\")","v":"-"}]
[{"$f":"'Spiegazioni Skills FTEM'!A11:A11","v":0},null,null,{"$f":"IF($H$2=\"G\",'Spiegazioni Skills FTEM'!F11,'Spiegazioni Skills FTEM'!B11)","v":"Velocità/rapidità"},null,null,{"$f":"IF($H$2=\"G\",'Spiegazioni Skills FTEM'!G11,'Spiegazioni Skills FTEM'!C11)","v":"Velocità, facoltà di scivolare, avanti / indietro, economia dello sforzo"},null,null,{"$f":"IF($H$2=\"G\",'Spiegazioni Skills FTEM'!#REF!,'Spiegazioni Skills FTEM'!#REF!)","v":{"$error":"#REF!"}}]
[null,null,null,{"$f":"IF($H$2=\"G\",'Spiegazioni Skills FTEM'!F12,'Spiegazioni Skills FTEM'!B12)","v":"Agilità"},null,null,{"$f":"IF($H$2=\"G\",'Spiegazioni Skills FTEM'!G12,'Spiegazioni Skills FTEM'!C12)","v":"Cambiamento di direzione, girarsi, stop e ripartenza, \"Nummelin\""},null,null,{"$f":"IF($H$2=\"G\",'Spiegazioni Skills FTEM'!#REF!,'Spiegazioni Skills FTEM'!#REF!)","v":{"$error":"#REF!"}}]
[{"$f":"'Spiegazioni Skills FTEM'!A12:A12","v":0},null,null,{"$f":"IF($H$2=\"G\",'Spiegazioni Skills FTEM'!F13,'Spiegazioni Skills FTEM'!B13)","v":"Equilibrio"},null,null,{"$f":"IF($H$2=\"G\",'Spiegazioni Skills FTEM'!G13,'Spiegazioni Skills FTEM'!C13)","v":"Equilibrio, stabilità, posizione bassa, su una gamba, su entrambe"},null,null,{"$f":"IF($H$2=\"G\",'Spiegazioni Skills FTEM'!#REF!,'Spiegazioni Skills FTEM'!#REF!)","v":{"$error":"#REF!"}},null,null,null,{"$f":"IFERROR(AVERAGE(O22:O23),\"-\")","v":"-"},null,{"$f":"IFERROR(AVERAGE(Q22:Q23),\"-\")","v":"-"},null,{"$f":"IFERROR(AVERAGE(S22:S23),\"-\")","v":"-"},null,{"$f":"IFERROR(AVERAGE(U22:U23),\"-\")","v":"-"},null,{"$f":"IFERROR(AVERAGE(W22:W23),\"-\")","v":"-"},null,"-"]
[{"$f":"'Spiegazioni Skills FTEM'!A14:A14","v":0},null,null,{"$f":"IF($H$2=\"G\",'Spiegazioni Skills FTEM'!F14,'Spiegazioni Skills FTEM'!B14)","v":"Pattinaggio indietro"},null,null,{"$f":"IF($H$2=\"G\",'Spiegazioni Skills FTEM'!G14,'Spiegazioni Skills FTEM'!C14)","v":"Accelerazione, velocità, equilibrio"},null,null,{"$f":"IF($H$2=\"G\",'Spiegazioni Skills FTEM'!#REF!,'Spiegazioni Skills FTEM'!#REF!)","v":{"$error":"#REF!"}}]
[{"$f":"'Spiegazioni Skills FTEM'!A15","v":"ABILITÀ"},null,null,{"$f":"IF($H$2=\"G\",'Spiegazioni Skills FTEM'!F15,'Spiegazioni Skills FTEM'!B15)","v":"Tirare"},null,null,{"$f":"IF($H$2=\"G\",'Spiegazioni Skills FTEM'!G15,'Spiegazioni Skills FTEM'!C15)","v":"Efficienza (poco spazio, poco tempo), ricchezza di varianti, grado di sorpresa (Quick Release), precisione, potenza (conclusioni tattiche)"},null,null,{"$f":"IF($H$2=\"G\",'Spiegazioni Skills FTEM'!#REF!,'Spiegazioni Skills FTEM'!#REF!)","v":{"$error":"#REF!"}},null,null,null,{"$f":"IFERROR(AVERAGE(O24:O29),\"-\")","v":"-"},null,{"$f":"IFERROR(AVERAGE(Q24:Q29),\"-\")","v":"-"},null,{"$f":"IFERROR(AVERAGE(S24:S29),\"-\")","v":"-"},null,{"$f":"IFERROR(AVERAGE(U24:U29),\"-\")","v":"-"},null,{"$f":"IFERROR(AVERAGE(W24:W29),\"-\")","v":"-"},null,{"$f":"IFERROR(AVERAGE(Y24:Y29),\"-\")","v":"-"}]
[null,null,null,{"$f":"IF($H$2=\"G\",'Spiegazioni Skills FTEM'!F16,'Spiegazioni Skills FTEM'!B16)","v":"Passare"},null,null,{"$f":"IF($H$2=\"G\",'Spiegazioni Skills FTEM'!G16,'Spiegazioni Skills FTEM'!C16)","v":"Passaggio (distanza, flipp, rovescio), ricezione del passaggio (precisione, timing, diritto, rovescio, sul pattino), velocità del disco"},null,null,{"$f":"IF($H$2=\"G\",'Spiegazioni Skills FTEM'!#REF!,'Spiegazioni Skills FTEM'!#REF!)","v":{"$error":"#REF!"}}]
[null,null,null,{"$f":"IF($H$2=\"G\",'Spiegazioni Skills FTEM'!F17,'Spiegazioni Skills FTEM'!B17)","v":"Lavoro col bastone - condotta del disco"},null,null,{"$f":"IF($H$2=\"G\",'Spiegazioni Skills FTEM'!G17,'Spiegazioni Skills FTEM'!C17)","v":"Bastone sul disco, intercettare le linee di passaggio, deviare, controllo del bastone avversario"},null,null,{"$f":"IF($H$2=\"G\",'Spiegazioni Skills FTEM'!#REF!,'Spiegazioni Skills FTEM'!#REF!)","v":{"$error":"#REF!"}}]
[{"$f":"'Spiegazioni Skills FTEM'!A16:A16","v":0},null,null,{"$f":"IF($H$2=\"G\",'Spiegazioni Skills FTEM'!F18,'Spiegazioni Skills FTEM'!B18)","v":"Possedere/proteggere il disco"},null,null,{"$f":"IF($H$2=\"G\",'Spiegazioni Skills FTEM'!G18,'Spiegazioni Skills FTEM'!C18)","v":"Controllo del disco, dribbling, protezione del disco, finte (varianti col pattino, con o senza la balaustra), ingaggi (face-off)"},null,null,{"$f":"IF($H$2=\"G\",'Spiegazioni Skills FTEM'!#REF!,'Spiegazioni Skills FTEM'!#REF!)","v":{"$error":"#REF!"}}]
[{"$f":"'Spiegazioni Skills FTEM'!A17:A17","v":0},null,null,{"$f":"IF($H$2=\"G\",'Spiegazioni Skills FTEM'!F19,'Spiegazioni Skills FTEM'!B19)","v":"Gioco del corpo"},null,null,{"$f":"IF($H$2=\"G\",'Spiegazioni Skills FTEM'!G19,'Spiegazioni Skills FTEM'!C19)","v":"Facoltà di imporsi fisicamente, duelli (ghiaccio aperto, balaustra), subire dei checks/testa alta, livello di lotta, duro ma corretto, blocco dei tiri con il corpo"},null,null,{"$f":"IF($H$2=\"G\",'Spiegazioni Skills FTEM'!#REF!,'Spiegazioni Skills FTEM'!#REF!)","v":{"$error":"#REF!"}}]
[{"$f":"'Spiegazioni Skills FTEM'!A20:A20","v":0},null,null,{"$f":"IF($H$2=\"G\",'Spiegazioni Skills FTEM'!F20,'Spiegazioni Skills FTEM'!B20)","v":"-"},null,null,{"$f":"IF($H$2=\"G\",'Spiegazioni Skills FTEM'!G20,'Spiegazioni Skills FTEM'!C20)","v":"-"},null,null,{"$f":"IF($H$2=\"G\",'Spiegazioni Skills FTEM'!#REF!,'Spiegazioni Skills FTEM'!#REF!)","v":{"$error":"#REF!"}}]
[{"$f":"'Spiegazioni Skills FTEM'!A21","v":"SENSO DELL'HOCKEY"},null,null,{"$f":"IF($H$2=\"G\",'Spiegazioni Skills FTEM'!F21,'Spiegazioni Skills FTEM'!B21)","v":"Intelligenza nel gioco"},null,null,{"$f":"IF($H$2=\"G\",'Spiegazioni Skills FTEM'!G21,'Spiegazioni Skills FTEM'!C21)","v":"Vedere spazi e giocatori liberi, creare situazioni di superiorità numerica, agire cercando soluzioni in tutte le situazioni, velocità di visualizzazione"},null,null,{"$f":"IF($H$2=\"G\",'Spiegazioni Skills FTEM'!#REF!,'Spiegazioni Skills FTEM'!#REF!)","v":{"$error":"#REF!"}},null,null,null,{"$f":"IFERROR(AVERAGE(O30:O34),\"-\")","v":"-"},null,{"$f":"IFERROR(AVERAGE(Q30:Q34),\"-\")","v":"-"},null,{"$f":"IFERROR(AVERAGE(S30:S34),\"-\")","v":"-"},null,{"$f":"IFERROR(AVERAGE(U30:U34),\"-\")","v":"-"},null,{"$f":"IFERROR(AVERAGE(W30:W34),\"-\")","v":"-"},null,{"$f":"IFERROR(AVERAGE(Y30:Y34),\"-\")","v":"-"}]
[{"$f":"'Spiegazioni Skills FTEM'!A22:A22","v":0},null,null,{"$f":"IF($H$2=\"G\",'Spiegazioni Skills FTEM'!F22,'Spiegazioni Skills FTEM'!B22)","v":"Sensibilità offensiva"},null,null,{"$f":"IF($H$2=\"G\",'Spiegazioni Skills FTEM'!G22,'Spiegazioni Skills FTEM'!C22)","v":"Smarcarsi, anticipare le situazioni di gioco, aprire spazi liberi per i compagni, piazzarsi per le conclusioni, velocità nel chiudere gli spazi (pressione), comunicazione"},null,null,{"$f":"IF($H$2=\"G\",'Spiegazioni Skills FTEM'!#REF!,'Spiegazioni Skills FTEM'!#REF!)","v":{"$error":"#REF!"}}]
[null,null,null,{"$f":"IF($H$2=\"G\",'Spiegazioni Skills FTEM'!F23,'Spiegazioni Skills FTEM'!B23)","v":"Sensibilità difensiva"},null,null,{"$f":"IF($H$2=\"G\",'Spiegazioni Skills FTEM'!G23,'Spiegazioni Skills FTEM'!C23)","v":"Mantenere la posizione difensiva, protezione dello slot, assicurare i compagni / supporto, individuare le linee di passaggio, bloccare i tiri, ridurre velocemente gli spazi, comunicazione"},null,null,{"$f":"IF($H$2=\"G\",'Spiegazioni Skills FTEM'!#REF!,'Spiegazioni Skills FTEM'!#REF!)","v":{"$error":"#REF!"}}]
[{"$f":"'Spiegazioni Skills FTEM'!A24:A24","v":0},null,null,{"$f":"IF($H$2=\"G\",'Spiegazioni Skills FTEM'!F24,'Spiegazioni Skills FTEM'!B24)","v":"Gestione del disco"},null,null,{"$f":"IF($H$2=\"G\",'Spiegazioni Skills FTEM'!G24,'Spiegazioni Skills FTEM'!C24)","v":"Prendere decisioni adeguate nelle situazioni di gioco, supporto, creare superiorità numerica"},null,null,{"$f":"IF($H$2=\"G\",'Spiegazioni Skills FTEM'!#REF!,'Spiegazioni Skills FTEM'!#REF!)","v":{"$error":"#REF!"}}]
[{"$f":"'Spiegazioni Skills FTEM'!A25:A25","v":0},null,null,{"$f":"IF($H$2=\"G\",'Spiegazioni Skills FTEM'!F25,'Spiegazioni Skills FTEM'!B25)","v":"Creatività"},null,null,{"$f":"IF($H$2=\"G\",'Spiegazioni Skills FTEM'!G25,'Spiegazioni Skills FTEM'!C25)","v":"Creare situazioni a sorpresa, fiuto del gol"},null,null,{"$f":"IF($H$2=\"G\",'Spiegazioni Skills FTEM'!#REF!,'Spiegazioni Skills FTEM'!#REF!)","v":{"$error":"#REF!"}}]
[{"$f":"'Spiegazioni Skills FTEM'!A26","v":"PERSONALITY"},null,null,{"$f":"'Spiegazioni Skills FTEM'!B26","v":"CAPACITÀ"},null,null,{"$f":"'Spiegazioni Skills FTEM'!C26","v":"CRITERIO D'OSSERVAZIONE"},null,null,{"$f":"'Spiegazioni Skills FTEM'!H26","v":0},null,null,null,"Data1",null,"Data2",null,"Data3",null,"Data4",null,"Data5",null,"Player",null,"OBIETTIVO","PROVVEDIMENTI:\n(SPECIFICI, MISURABILI, REALISTICI)",null,null,null,null,null,null,"TERMINE","COTROLLO DELL'OBIETTIVO","Date"]
[{"$f":"'Spiegazioni Skills FTEM'!A27","v":"PERSONALITÀ"},null,null,{"$f":"IF($H$2=\"G\",'Spiegazioni Skills FTEM'!F27,'Spiegazioni Skills FTEM'!B27)","v":"Fiducia in se stesso"},null,null,{"$f":"IF($H$2=\"G\",'Spiegazioni Skills FTEM'!G27,'Spiegazioni Skills FTEM'!C27)","v":"Possiede la necessaria fiducia in se stesso, «I can do it»-attitudine, sa valutare le proprie capacità (conosce i propri punti forti e deboli), può realizzare le proprie qualità con\ncostanza, è coraggioso e sa prendere dei rischi calcolati"},null,null,{"$f":"IF($H$2=\"G\",'Spiegazioni Skills FTEM'!#REF!,'Spiegazioni Skills FTEM'!#REF!)","v":{"$error":"#REF!"}},null,null,null,{"$f":"IFERROR(AVERAGE(O36:O40),\"-\")","v":"-"},null,{"$f":"IFERROR(AVERAGE(Q36:Q40),\"-\")","v":"-"},null,{"$f":"IFERROR(AVERAGE(S36:S40),\"-\")","v":"-"},null,{"$f":"IFERROR(AVERAGE(U36:U40),\"-\")","v":"-"},null,{"$f":"IFERROR(AVERAGE(W36:W40),\"-\")","v":"-"},null,{"$f":"IFERROR(AVERAGE(Y36:Y40),\"-\")","v":"-"}]
[{"$f":"'Spiegazioni Skills FTEM'!A28:A28","v":0},null,null,{"$f":"IF($H$2=\"G\",'Spiegazioni Skills FTEM'!F28,'Spiegazioni Skills FTEM'!B28)","v":"Capacità d'apprendimento"},null,null,{"$f":"IF($H$2=\"G\",'Spiegazioni Skills FTEM'!G28,'Spiegazioni Skills FTEM'!C28)","v":"Ha una buona capacità d'apprendimento (sa recepire e realizzare), possiede una personalità, cerca di imparare dai propri errori derivandone delle misure"},null,null,{"$f":"IF($H$2=\"G\",'Spiegazioni Skills FTEM'!#REF!,'Spiegazioni Skills FTEM'!#REF!)","v":{"$error":"#REF!"}}]
[null,null,null,{"$f":"IF($H$2=\"G\",'Spiegazioni Skills FTEM'!F29,'Spiegazioni Skills FTEM'!B29)","v":"Senso di responsabilità"},null,null,{"$f":"IF($H$2=\"G\",'Spiegazioni Skills FTEM'!G29,'Spiegazioni Skills FTEM'!C29)","v":"Assume responsabiltà per le proprie prestazioni e sviluppo, agisce autonomamente, cura i dettagli, mostra un grande impegno in tutti i settori"},null,null,{"$f":"IF($H$2=\"G\",'Spiegazioni Skills FTEM'!#REF!,'Spiegazioni Skills FTEM'!#REF!)","v":{"$error":"#REF!"}}]
[{"$f":"'Spiegazioni Skills FTEM'!A30:A30","v":0},null,null,{"$f":"IF($H$2=\"G\",'Spiegazioni Skills FTEM'!F30,'Spiegazioni Skills FTEM'!B30)","v":"Motivazione"},null,null,{"$f":"IF($H$2=\"G\",'Spiegazioni Skills FTEM'!G30,'Spiegazioni Skills FTEM'!C30)","v":"È sempre motivato, vuole sempre svilupparsi e imparare, vuol essere il primo e avere successo, non rinuncia mai e non si lascia influenzare dagli insuccessi"},null,null,{"$f":"IF($H$2=\"G\",'Spiegazioni Skills FTEM'!#REF!,'Spiegazioni Skills FTEM'!#REF!)","v":{"$error":"#REF!"}}]
[{"$f":"'Spiegazioni Skills FTEM'!A31:A31","v":0},null,null,{"$f":"IF($H$2=\"G\",'Spiegazioni Skills FTEM'!F31,'Spiegazioni Skills FTEM'!B31)","v":"Prestazione Stile di vita"},null,null,{"$f":"IF($H$2=\"G\",'Spiegazioni Skills FTEM'!G31,'Spiegazioni Skills FTEM'!C31)","v":"Gestisce bene la quotidianità il suo ambiente seguendo i principi della prestazione, caparbio, perseverante e finalizzato sugli obiettivi, focus sulla propria prestazione, coraggioso e grintoso, sa imporsi nei confronti delle resistenze, le sfide lo motivano"},null,null,{"$f":"IF($H$2=\"G\",'Spiegazioni Skills FTEM'!#REF!,'Spiegazioni Skills FTEM'!#REF!)","v":{"$error":"#REF!"}}]
[{"$f":"'Spiegazioni Skills FTEM'!A32","v":"FORZA MENTALE"},null,null,{"$f":"IF($H$2=\"G\",'Spiegazioni Skills FTEM'!F32,'Spiegazioni Skills FTEM'!B32)","v":"Impegno"},null,null,{"$f":"IF($H$2=\"G\",'Spiegazioni Skills FTEM'!G32,'Spiegazioni Skills FTEM'!C32)","v":"Mostra molta intensità negli allenamenti e nelle partite, dà sempre il massimo e vuole sempre spronare i propri limiti, mostra passione, si sforza ad alzare la qualità negli allenamenti"},null,null,{"$f":"IF($H$2=\"G\",'Spiegazioni Skills FTEM'!#REF!,'Spiegazioni Skills FTEM'!#REF!)","v":{"$error":"#REF!"}},null,null,null,{"$f":"IFERROR(AVERAGE(O41:O45),\"-\")","v":"-"},null,{"$f":"IFERROR(AVERAGE(Q41:Q45),\"-\")","v":"-"},null,{"$f":"IFERROR(AVERAGE(S41:S45),\"-\")","v":"-"},null,{"$f":"IFERROR(AVERAGE(U41:U45),\"-\")","v":"-"},null,{"$f":"IFERROR(AVERAGE(W41:W45),\"-\")","v":"-"},null,{"$f":"IFERROR(AVERAGE(Y41:Y45),\"-\")","v":"-"}]
[null,null,null,{"$f":"IF($H$2=\"G\",'Spiegazioni Skills FTEM'!F33,'Spiegazioni Skills FTEM'!B33)","v":"Preparazione"},null,null,{"$f":"IF($H$2=\"G\",'Spiegazioni Skills FTEM'!G33,'Spiegazioni Skills FTEM'!C33)","v":"Preparazione consapevole e finalizzata, mentalmente e fisicamente, possiede un efficiente approccio per l'ottenimento dell'ideale stato di prestazione (ILZ/ISP)"},null,null,{"$f":"IF($H$2=\"G\",'Spiegazioni Skills FTEM'!#REF!,'Spiegazioni Skills FTEM'!#REF!)","v":{"$error":"#REF!"}}]
[{"$f":"'Spiegazioni Skills FTEM'!A34:A34","v":0},null,null,{"$f":"IF($H$2=\"G\",'Spiegazioni Skills FTEM'!F34,'Spiegazioni Skills FTEM'!B34)","v":"Coaching individuale"},null,null,{"$f":"IF($H$2=\"G\",'Spiegazioni Skills FTEM'!G34,'Spiegazioni Skills FTEM'!C34)","v":"Possiede una buona capacità di concentrazione, può mantenere il suo ILZ/ISP durante la partita e l'allenamento, può utilizzare tecniche di base per rafforzare il mentale, resistenti contro pensieri e influenze negative, è consapevole del proprio linguaggio del corpo che è in grado di padroneggiare"},null,null,{"$f":"IF($H$2=\"G\",'Spiegazioni Skills FTEM'!#REF!,'Spiegazioni Skills FTEM'!#REF!)","v":{"$error":"#REF!"}}]
[{"$f":"'Spiegazioni Skills FTEM'!A35:A35","v":0},null,null,{"$f":"IF($H$2=\"G\",'Spiegazioni Skills FTEM'!F35,'Spiegazioni Skills FTEM'!B35)","v":"Gestione delle energie"},null,null,{"$f":"IF($H$2=\"G\",'Spiegazioni Skills FTEM'!G35,'Spiegazioni Skills FTEM'!C35)","v":"Può gestire le proprie energie, cura la rigenerazione, può gestire i momenti in cui si deve andare al massimo oppure risparmiarsi, interruttore on/off"},null,null,{"$f":"IF($H$2=\"G\",'Spiegazioni Skills FTEM'!#REF!,'Spiegazioni Skills FTEM'!#REF!)","v":{"$error":"#REF!"}}]
[{"$f":"'Spiegazioni Skills FTEM'!A36:A36","v":0},null,null,{"$f":"IF($H$2=\"G\",'Spiegazioni Skills FTEM'!F36,'Spiegazioni Skills FTEM'!B36)","v":"Controllo delle emozioni"},null,null,{"$f":"IF($H$2=\"G\",'Spiegazioni Skills FTEM'!G36,'Spiegazioni Skills FTEM'!C36)","v":"Può regolare le proprie emozioni e impulsi, mantiene il controllo quando si trova sotto pressione, sa anche agire adeguatamente in situazioni emotive o frustranti"},null,null,{"$f":"IF($H$2=\"G\",'Spiegazioni Skills FTEM'!#REF!,'Spiegazioni Skills FTEM'!#REF!)","v":{"$error":"#REF!"}}]
[{"$f":"'Spiegazioni Skills FTEM'!A37","v":"FISICO"},null,null,{"$f":"IF($H$2=\"G\",'Spiegazioni Skills FTEM'!F37,'Spiegazioni Skills FTEM'!B37)","v":"Produzione di prestazione"},null,null,{"$f":"IF($H$2=\"G\",'Spiegazioni Skills FTEM'!G37,'Spiegazioni Skills FTEM'!C37)","v":"Possiede nelle gambe e nella parte alta del corpo la necessaria potenza/forza/velocità (fattori neuromuscolari)"},null,null,{"$f":"IF($H$2=\"G\",'Spiegazioni Skills FTEM'!#REF!,'Spiegazioni Skills FTEM'!#REF!)","v":{"$error":"#REF!"}},null,null,null,{"$f":"IFERROR(AVERAGE(O46:O50),\"-\")","v":"-"},null,{"$f":"IFERROR(AVERAGE(Q46:Q50),\"-\")","v":"-"},null,{"$f":"IFERROR(AVERAGE(S46:S50),\"-\")","v":"-"},null,{"$f":"IFERROR(AVERAGE(U46:U50),\"-\")","v":"-"},null,{"$f":"IFERROR(AVERAGE(W46:W50),\"-\")","v":"-"},null,{"$f":"IFERROR(AVERAGE(Y46:Y50),\"-\")","v":"-"}]
[null,null,null,{"$f":"IF($H$2=\"G\",'Spiegazioni Skills FTEM'!F38,'Spiegazioni Skills FTEM'!B38)","v":"Resistenza specifica alla fatica"},null,null,{"$f":"IF($H$2=\"G\",'Spiegazioni Skills FTEM'!G38,'Spiegazioni Skills FTEM'!C38)","v":"È capace di mantenere a lungo nell'ambito di un impiego la potenza/forza/velocità ed è capace di recuperare completamente attraverso i vari impieghi sul ghiaccio (fattori metabolici e cardiovascolari)"},null,null,{"$f":"IF($H$2=\"G\",'Spiegazioni Skills FTEM'!#REF!,'Spiegazioni Skills FTEM'!#REF!)","v":{"$error":"#REF!"}}]
[{"$f":"'Spiegazioni Skills FTEM'!A39:A39","v":0},null,null,{"$f":"IF($H$2=\"G\",'Spiegazioni Skills FTEM'!F39,'Spiegazioni Skills FTEM'!B39)","v":"Salute / prevenzione"},null,null,{"$f":"IF($H$2=\"G\",'Spiegazioni Skills FTEM'!G39,'Spiegazioni Skills FTEM'!C39)","v":"Possiede la necessaria stabilità (stabilità delle gambe) e mobilità delle articolazioni centrali"},null,null,{"$f":"IF($H$2=\"G\",'Spiegazioni Skills FTEM'!#REF!,'Spiegazioni Skills FTEM'!#REF!)","v":{"$error":"#REF!"}}]
[{"$f":"'Spiegazioni Skills FTEM'!A40:A40","v":0},null,null,{"$f":"IF($H$2=\"G\",'Spiegazioni Skills FTEM'!F40,'Spiegazioni Skills FTEM'!B40)","v":"Competenze della mobilità"},null,null,{"$f":"IF($H$2=\"G\",'Spiegazioni Skills FTEM'!G40,'Spiegazioni Skills FTEM'!C40)","v":"Padroneggia le basilari capacità di movimento che garantiscono in modo determinante le abilità specifiche \"skills\", come pure l'efficacia dei movimenti"},null,null,{"$f":"IF($H$2=\"G\",'Spiegazioni Skills FTEM'!#REF!,'Spiegazioni Skills FTEM'!#REF!)","v":{"$error":"#REF!"}}]
[{"$f":"'Spiegazioni Skills FTEM'!A41:A41","v":0},null,null,{"$f":"IF($H$2=\"G\",'Spiegazioni Skills FTEM'!F41,'Spiegazioni Skills FTEM'!B41)","v":"Robustezza"},null,null,{"$f":"IF($H$2=\"G\",'Spiegazioni Skills FTEM'!G41,'Spiegazioni Skills FTEM'!C41)","v":"Possiede la necessaria forza di base (tensione del corpo) per vincere i duelli e resistere alle cariche"},null,null,{"$f":"IF($H$2=\"G\",'Spiegazioni Skills FTEM'!#REF!,'Spiegazioni Skills FTEM'!#REF!)","v":{"$error":"#REF!"}}]

{"sheet":"8","index":11,"n_rows":50,"n_cols":36,"rows_kept":50,"cut":false,"hidden":false,"merged":[[45,34,49,34],[45,12,49,12],[45,13,49,13],[45,15,49,15],[45,17,49,17],[45,19,49,19],[45,21,49,21],[45,23,49,23],[45,25,49,25],[45,26,49,32],[45,0,49,2],[45,3,45,5],[45,6,45,11],[46,3,46,5],[46,6,46,11],[48,3,48,5],[48,6,48,11],[49,3,49,5],[49,6,49,11],[47,3,47,5],[47,6,47,11],[40,23,44,23],[42,3,42,5],[42,6,42,11],[44,3,44,5],[44,6,44,11],[40,0,44,2],[40,3,40,5],[40,6,40,11],[40,12,44,12],[40,13,44,13],[40,15,44,15],[43,3,43,5],[43,6,43,11],[34,21,34,22],[35,17,39,17],[35,19,39,19],[35,21,39,21],[37,3,37,5],[37,6,37,11],[38,3,38,5],[38,6,38,11],[40,17,44,17],[40,19,44,19],[40,21,44,21],[36,3,36,5],[36,6,36,11],[41,3,41,5],[41,6,41,11],[29,0,33,2],[29,3,29,5],[29,6,29,11],[29,12,33,12],[29,13,33,13],[29,15,33,15],[34,23,34,24],[34,26,34,32],[35,0,39,2],[35,3,35,5],[35,6,35,11],[35,12,39,12],[35,13,39,13],[35,15,39,15],[39,3,39,5],[39,6,39,11],[35,23,39,23],[34,0,34,2],[34,3,34,5],[34,6,34,11],[34,13,34,14],[34,15,34,16],[34,17,34,18],[34,19,34,20],[23,19,28,19],[23,21,28,21],[23,23,28,23],[26,3,26,5],[26,6,26,11],[28,3,28,5],[28,6,28,11],[33,3,33,5],[33,6,33,11],[29,23,33,23],[29,17,33,17],[29,19,33,19],[29,21,33,21],[31,3,31,5],[31,6,31,11],[32,3,32,5],[32,6,32,11],[27,3,27,5],[27,6,27,11],[25,3,25,5],[25,6,25,11],[30,3,30,5],[30,6,30,11],[12,21,16,21],[18,15,22,15],[18,17,22,17],[18,19,22,19],[18,21,22,21],[18,23,22,23],[22,3,22,5],[22,6,22,11],[23,0,28,2],[23,3,23,5],[23,6,23,11],[23,12,28,12],[23,13,28,13],[23,15,28,15],[23,17,28,17],[18,0,22,2],[18,3,18,5],[18,6,18,11],[18,12,22,12],[18,13,22,13],[19,3,19,5],[19,6,19,11],[21,3,21,5],[21,6,21,11],[11,21,11,22],[11,23,11,24],[11,26,11,32],[11,6,11,11],[12,23,16,23],[16,3,16,5],[16,6,16,11],[17,0,17,2],[17,3,17,5],[17,6,17,11],[17,13,17,14],[17,15,17,16],[17,17,17,18],[17,19,17,20],[17,21,17,22],[17,23,17,24],[12,0,16,2],[12,3,12,5],[12,6,12,11],[12,12,16,12],[12,13,16,13],[12,15,16,15],[12,17,16,17],[12,19,16,19],[4,0,4,1],[4,2,4,5],[4,10,4,24],[10,0,10,24],[10,25,10,35],[40,25,44,25],[40,26,44,32],[40,34,44,34],[12,25,16,25],[12,26,16,32],[12,34,16,34],[18,25,22,25],[18,26,22,32],[18,34,22,34],[23,25,28,25],[23,26,28,32],[23,34,28,34],[17,26,17,32],[11,0,11,2],[11,3,11,5],[11,13,11,14],[11,15,11,16],[11,17,11,18],[11,19,11,20],[0,0,0,24],[0,25,0,26],[0,27,0,32],[0,33,0,35],[29,25,33,25],[29,26,33,32],[29,34,33,34],[35,25,39,25],[35,26,39,32],[35,34,39,34],[1,0,1,1],[1,2,1,5],[1,10,1,24],[2,0,2,1],[2,2,2,5],[2,11,2,24],[6,0,6,1],[6,2,6,35],[7,0,7,1],[7,2,7,35],[8,0,8,1],[8,2,8,35],[3,0,3,1],[3,10,3,24],[13,3,13,5],[13,6,13,11],[14,3,14,5],[14,6,14,11],[15,3,15,5],[15,6,15,11],[20,3,20,5],[20,6,20,11],[24,3,24,5],[24,6,24,11]]}
["Personalien",null,null,null,null,null,null,null,null,null,null,null,null,null,null,null,null,null,null,null,null,null,null,null,null,"Predisposizione",null,"Valutazioni",null,null,null,null,null,"Rating"]
["COGNOME",null,{"$f":"IF(ISBLANK(VLOOKUP(8,Tabelle3[],3,0)),\"-\",VLOOKUP(8,Tabelle3[],3,0))","v":"-"},null,null,null,"POSIZIONE",null,null,"INDIRIZZO",{"$f":"IF(ISBLANK(VLOOKUP(8,Tabelle3[],5,0)),\"-\",VLOOKUP(8,Tabelle3[],5,0))","v":"-"},null,null,null,null,null,null,null,null,null,null,null,null,null,null,"Età\" (biologica/età relativa)",null,"Data 1",null,null,"cm",null,"Kg",null,"ECCELLENTE",5]
["NOME",null,{"$f":"IF(ISBLANK(VLOOKUP(8,Tabelle3[],2,0)),\"-\",VLOOKUP(8,Tabelle3[],2,0))","v":"-"},null,null,null,"BASTONE",null,null,"LUOGO",{"$f":"IF(ISBLANK(VLOOKUP(8,Tabelle3[],7,0)),\"-\",VLOOKUP(8,Tabelle3[],7,0))","v":"-"},{"$f":"IF(ISBLANK(VLOOKUP(8,Tabelle3[],6,0)),\"-\",VLOOKUP(8,Tabelle3[],6,0))","v":"-"},null,null,null,null,null,null,null,null,null,null,null,null,null,"Predisposizione",null,"Data 2",null,null,"cm",null,"Kg",null,"BUONO",4]
["DATA DI NASC.",null,{"$f":"IF(ISBLANK(VLOOKUP(8,Tabelle3[],14,0)),\"-\",VLOOKUP(8,Tabelle3[],14,0))","v":"-"},{"$f":"IF(ISBLANK(VLOOKUP(8,Tabelle3[],15,0)),\"-\",VLOOKUP(8,Tabelle3[],15,0))","v":"-"},{"$f":"IF(ISBLANK(VLOOKUP(8,Tabelle3[],16,0)),\"-\",VLOOKUP(8,Tabelle3[],16,0))","v":"-"},null,"ALTEZZA",null,"cm (Finale)","TELEFONO",{"$f":"IF(ISBLANK(VLOOKUP(8,Tabelle3[],8,0)),\"-\",VLOOKUP(8,Tabelle3[],8,0))","v":"-"},null,null,null,null,null,null,null,null,null,null,null,null,null,null,"Ambiente di vita",null,"Data 3",null,null,"cm",null,"Kg",null,"MEDIO/DISCRETO",3]
["SESSO",null,{"$f":"IF(ISBLANK(VLOOKUP(8,Tabelle3[],13,0)),\"-\",VLOOKUP(8,Tabelle3[],13,0))","v":"-"},null,null,null,"PESO",null,"Kg (Finale)","E-Mail",{"$f":"IF(ISBLANK(VLOOKUP(8,Tabelle3[],9,0)),\"-\",VLOOKUP(8,Tabelle3[],9,0))","v":"-"},null,null,null,null,null,null,null,null,null,null,null,null,null,null,null,null,"Data 4",null,null,"cm",null,"Kg",null,"CON LACUNE",2]
[null,null,null,null,null,null,null,null,null,null,null,null,null,null,null,null,null,null,null,null,null,null,null,null,null,null,null,"Data 5",null,null,"cm",null,"Kg",null,"INSUFFICIENTE",1]
["Visione",null,"xxx"]
["Prossimo passo",null,"xxx"]
["Proflio giocatore",null,"xxx"]
[]
["VALUTAZIONI (COACH / GIOCATORE)",null,null,null,null,null,null,null,null,null,null,null,null,null,null,null,null,null,null,null,null,null,null,null,null,"Obiettivi SMART"]
[{"$f":"'Spiegazioni Skills FTEM'!A3","v":"TEAM"},null,null,{"$f":"'Spiegazioni Skills FTEM'!B3","v":"CAPACITÀ"},null,null,{"$f":"'Spiegazioni Skills FTEM'!C3","v":"CRITERIO D'OSSERVAZIONE"},null,null,{"$f":"'Spiegazioni Skills FTEM'!H3","v":0},null,null,"Final","Data1",null,"Data2",null,"Data3",null,"Data4",null,"Data5",null,"Player",null,"OBIETTIVO","PROVVEDIMENTI:\n(SPECIFICI, MISURABILI, REALISTICI)",null,null,null,null,null,null,"TERMINE","COTROLLO DELL'OBIETTIVO","Data"]
[{"$f":"'Spiegazioni Skills FTEM'!A4","v":"SQUADRA"},null,null,{"$f":"IF($H$2=\"G\",'Spiegazioni Skills FTEM'!F4,'Spiegazioni Skills FTEM'!B4)","v":"Comunicazione"},null,null,{"$f":"IF($H$2=\"G\",'Spiegazioni Skills FTEM'!G4,'Spiegazioni Skills FTEM'!C4)","v":"Cura relazioni aperte e rispettose, fiducia quale base comportamentale, affronta i conflitti senza ledere la stabilità del gruppo, comunica con i compagni, gli allenatori e\nfunzionari con i medesimi valori"},null,null,{"$f":"IF($H$2=\"G\",'Spiegazioni Skills FTEM'!#REF!,'Spiegazioni Skills FTEM'!#REF!)","v":{"$error":"#REF!"}},null,null,null,{"$f":"IFERROR(AVERAGE(O13:O17),\"-\")","v":"-"},null,{"$f":"IFERROR(AVERAGE(Q13:Q17),\"-\")","v":"-"},null,{"$f":"IFERROR(AVERAGE(S13:S17),\"-\")","v":"-"},null,{"$f":"IFERROR(AVERAGE(U13:U17),\"-\")","v":"-"},null,{"$f":"IFERROR(AVERAGE(W13:W17),\"-\")","v":"-"},null,{"$f":"IFERROR(AVERAGE(Y13:Y17),\"-\")","v":"-"}]
[{"$f":"'Spiegazioni Skills FTEM'!A5","v":0},null,null,{"$f":"IF($H$2=\"G\",'Spiegazioni Skills FTEM'!F5,'Spiegazioni Skills FTEM'!B5)","v":"Capacità nella squadra"},null,null,{"$f":"IF($H$2=\"G\",'Spiegazioni Skills FTEM'!G5,'Spiegazioni Skills FTEM'!C5)","v":"Integrazione nel gruppo, definisce e realizza obiettivi comuni, NOI prima dell'IO, contribuisce a creare un buon spirito di squadra e clima di lavoro"},null,null,{"$f":"IF($H$2=\"G\",'Spiegazioni Skills FTEM'!#REF!,'Spiegazioni Skills FTEM'!#REF!)","v":{"$error":"#REF!"}}]
[{"$f":"'Spiegazioni Skills FTEM'!A6","v":0},null,null,{"$f":"IF($H$2=\"G\",'Spiegazioni Skills FTEM'!F6,'Spiegazioni Skills FTEM'!B6)","v":"Leadership"},null,null,{"$f":"IF($H$2=\"G\",'Spiegazioni Skills FTEM'!G6,'Spiegazioni Skills FTEM'!C6)","v":"Assume responsabilità nell'ambito del gruppo, cerca di migliorare la squadra e i compagni, influenza positivamente la dinamica di gruppo"},null,null,{"$f":"IF($H$2=\"G\",'Spiegazioni Skills FTEM'!#REF!,'Spiegazioni Skills FTEM'!#REF!)","v":{"$error":"#REF!"}}]
[{"$f":"'Spiegazioni Skills FTEM'!A7","v":0},null,null,{"$f":"IF($H$2=\"G\",'Spiegazioni Skills FTEM'!F7,'Spiegazioni Skills FTEM'!B7)","v":"Ripartizione dei ruoli"},null,null,{"$f":"IF($H$2=\"G\",'Spiegazioni Skills FTEM'!G7,'Spiegazioni Skills FTEM'!C7)","v":"Riconosce e adempie il suo ruolo, è cosciente della sua posizione nel sistema e nella squadra, mette a disposizione della squadra le sue competenze"},null,null,{"$f":"IF($H$2=\"G\",'Spiegazioni Skills FTEM'!#REF!,'Spiegazioni Skills FTEM'!#REF!)","v":{"$error":"#REF!"}}]
[{"$f":"'Spiegazioni Skills FTEM'!A8","v":0},null,null,{"$f":"IF($H$2=\"G\",'Spiegazioni Skills FTEM'!F8,'Spiegazioni Skills FTEM'!B8)","v":"Rispetto"},null,null,{"$f":"IF($H$2=\"G\",'Spiegazioni Skills FTEM'!G8,'Spiegazioni Skills FTEM'!C8)","v":"Relazioni rispettose con i compagni, allenatori, avversari, arbitri e staff; rispetta le regole i pricipi del fairplay (compreso la lotta al doping)"},null,null,{"$f":"IF($H$2=\"G\",'Spiegazioni Skills FTEM'!#REF!,'Spiegazioni Skills FTEM'!#REF!)","v":{"$error":"#REF!"}}]
[{"$f":"'Spiegazioni Skills FTEM'!A9","v":"ON ICE"},null,null,{"$f":"'Spiegazioni Skills FTEM'!B9","v":"CAPACITÀ"},null,null,{"$f":"'Spiegazioni Skills FTEM'!C9","v":"CRITERIO D'OSSERVAZIONE"},null,null,{"$f":"'Spiegazioni Skills FTEM'!H9","v":0},null,null,null,"Data1",null,"Data2",null,"Data3",null,"Data4",null,"Data5",null,"Player",null,"OBIETTIVO","PROVVEDIMENTI:\n(SPECIFICI, MISURABILI, REALISTICI)",null,null,null,null,null,null,"TERMINE","COTROLLO DELL'OBIETTIVO","Date"]
[{"$f":"'Spiegazioni Skills FTEM'!A10","v":"PATTINAGGIO"},null,null,{"$f":"IF($H$2=\"G\",'Spiegazioni Skills FTEM'!F10,'Spiegazioni Skills FTEM'!B10)","v":"Velocità dei piedi"},null,null,{"$f":"IF($H$2=\"G\",'Spiegazioni Skills FTEM'!G10,'Spiegazioni Skills FTEM'!C10)","v":"Accelerazione, partenza, esplosività dei primi 3 passi, frequenza"},null,null,{"$f":"IF($H$2=\"G\",'Spiegazioni Skills FTEM'!#REF!,'Spiegazioni Skills FTEM'!#REF!)","v":{"$error":"#REF!"}},null,null,null,{"$f":"IFERROR(AVERAGE(O19:O23),\"-\")","v":"-"},null,{"$f":"IFERROR(AVERAGE(Q19:Q23),\"-\")","v":"-"},null,{"$f":"IFERROR(AVERAGE(S19:S23),\"-\")","v":"-"},null,{"$f":"IFERROR(AVERAGE(U19:U23),\"-\")","v":"-"},null,{"$f":"IFERROR(AVERAGE(W19:W23),\"-\")","v":"-"},null,{"$f":"IFERROR(AVERAGE(Y19:Y23),\"-\")","v":"-"}]
[{"$f":"'Spiegazioni Skills FTEM'!A11:A11","v":0},null,null,{"$f":"IF($H$2=\"G\",'Spiegazioni Skills FTEM'!F11,'Spiegazioni Skills FTEM'!B11)","v":"Velocità/rapidità"},null,null,{"$f":"IF($H$2=\"G\",'Spiegazioni Skills FTEM'!G11,'Spiegazioni Skills FTEM'!C11)","v":"Velocità, facoltà di scivolare, avanti / indietro, economia dello sforzo"},null,null,{"$f":"IF($H$2=\"G\",'Spiegazioni Skills FTEM'!#REF!,'Spiegazioni Skills FTEM'!#REF!)","v":{"$error":"#REF!"}}]
[null,null,null,{"$f":"IF($H$2=\"G\",'Spiegazioni Skills FTEM'!F12,'Spiegazioni Skills FTEM'!B12)","v":"Agilità"},null,null,{"$f":"IF($H$2=\"G\",'Spiegazioni Skills FTEM'!G12,'Spiegazioni Skills FTEM'!C12)","v":"Cambiamento di direzione, girarsi, stop e ripartenza, \"Nummelin\""},null,null,{"$f":"IF($H$2=\"G\",'Spiegazioni Skills FTEM'!#REF!,'Spiegazioni Skills FTEM'!#REF!)","v":{"$error":"#REF!"}}]
[{"$f":"'Spiegazioni Skills FTEM'!A12:A12","v":0},null,null,{"$f":"IF($H$2=\"G\",'Spiegazioni Skills FTEM'!F13,'Spiegazioni Skills FTEM'!B13)","v":"Equilibrio"},null,null,{"$f":"IF($H$2=\"G\",'Spiegazioni Skills FTEM'!G13,'Spiegazioni Skills FTEM'!C13)","v":"Equilibrio, stabilità, posizione bassa, su una gamba, su entrambe"},null,null,{"$f":"IF($H$2=\"G\",'Spiegazioni Skills FTEM'!#REF!,'Spiegazioni Skills FTEM'!#REF!)","v":{"$error":"#REF!"}},null,null,null,{"$f":"IFERROR(AVERAGE(O22:O23),\"-\")","v":"-"},null,{"$f":"IFERROR(AVERAGE(Q22:Q23),\"-\")","v":"-"},null,{"$f":"IFERROR(AVERAGE(S22:S23),\"-\")","v":"-"},null,{"$f":"IFERROR(AVERAGE(U22:U23),\"-\")","v":"-"},null,{"$f":"IFERROR(AVERAGE(W22:W23),\"-\")","v":"-"},null,"-"]
[{"$f":"'Spiegazioni Skills FTEM'!A14:A14","v":0},null,null,{"$f":"IF($H$2=\"G\",'Spiegazioni Skills FTEM'!F14,'Spiegazioni Skills FTEM'!B14)","v":"Pattinaggio indietro"},null,null,{"$f":"IF($H$2=\"G\",'Spiegazioni Skills FTEM'!G14,'Spiegazioni Skills FTEM'!C14)","v":"Accelerazione, velocità, equilibrio"},null,null,{"$f":"IF($H$2=\"G\",'Spiegazioni Skills FTEM'!#REF!,'Spiegazioni Skills FTEM'!#REF!)","v":{"$error":"#REF!"}}]
[{"$f":"'Spiegazioni Skills FTEM'!A15","v":"ABILITÀ"},null,null,{"$f":"IF($H$2=\"G\",'Spiegazioni Skills FTEM'!F15,'Spiegazioni Skills FTEM'!B15)","v":"Tirare"},null,null,{"$f":"IF($H$2=\"G\",'Spiegazioni Skills FTEM'!G15,'Spiegazioni Skills FTEM'!C15)","v":"Efficienza (poco spazio, poco tempo), ricchezza di varianti, grado di sorpresa (Quick Release), precisione, potenza (conclusioni tattiche)"},null,null,{"$f":"IF($H$2=\"G\",'Spiegazioni Skills FTEM'!#REF!,'Spiegazioni Skills FTEM'!#REF!)","v":{"$error":"#REF!"}},null,null,null,{"$f":"IFERROR(AVERAGE(O24:O29),\"-\")","v":"-"},null,{"$f":"IFERROR(AVERAGE(Q24:Q29),\"-\")","v":"-"},null,{"$f":"IFERROR(AVERAGE(S24:S29),\"-\")","v":"-"},null,{"$f":"IFERROR(AVERAGE(U24:U29),\"-\")","v":"-"},null,{"$f":"IFERROR(AVERAGE(W24:W29),\"-\")","v":"-"},null,{"$f":"IFERROR(AVERAGE(Y24:Y29),\"-\")","v":"-"}]
[null,null,null,{"$f":"IF($H$2=\"G\",'Spiegazioni Skills FTEM'!F16,'Spiegazioni Skills FTEM'!B16)","v":"Passare"},null,null,{"$f":"IF($H$2=\"G\",'Spiegazioni Skills FTEM'!G16,'Spiegazioni Skills FTEM'!C16)","v":"Passaggio (distanza, flipp, rovescio), ricezione del passaggio (precisione, timing, diritto, rovescio, sul pattino), velocità del disco"},null,null,{"$f":"IF($H$2=\"G\",'Spiegazioni Skills FTEM'!#REF!,'Spiegazioni Skills FTEM'!#REF!)","v":{"$error":"#REF!"}}]
[null,null,null,{"$f":"IF($H$2=\"G\",'Spiegazioni Skills FTEM'!F17,'Spiegazioni Skills FTEM'!B17)","v":"Lavoro col bastone - condotta del disco"},null,null,{"$f":"IF($H$2=\"G\",'Spiegazioni Skills FTEM'!G17,'Spiegazioni Skills FTEM'!C17)","v":"Bastone sul disco, intercettare le linee di passaggio, deviare, controllo del bastone avversario"},null,null,{"$f":"IF($H$2=\"G\",'Spiegazioni Skills FTEM'!#REF!,'Spiegazioni Skills FTEM'!#REF!)","v":{"$error":"#REF!"}}]
[{"$f":"'Spiegazioni Skills FTEM'!A16:A16","v":0},null,null,{"$f":"IF($H$2=\"G\",'Spiegazioni Skills FTEM'!F18,'Spiegazioni Skills FTEM'!B18)","v":"Possedere/proteggere il disco"},null,null,{"$f":"IF($H$2=\"G\",'Spiegazioni Skills FTEM'!G18,'Spiegazioni Skills FTEM'!C18)","v":"Controllo del disco, dribbling, protezione del disco, finte (varianti col pattino, con o senza la balaustra), ingaggi (face-off)"},null,null,{"$f":"IF($H$2=\"G\",'Spiegazioni Skills FTEM'!#REF!,'Spiegazioni Skills FTEM'!#REF!)","v":{"$error":"#REF!"}}]
[{"$f":"'Spiegazioni Skills FTEM'!A17:A17","v":0},null,null,{"$f":"IF($H$2=\"G\",'Spiegazioni Skills FTEM'!F19,'Spiegazioni Skills FTEM'!B19)","v":"Gioco del corpo"},null,null,{"$f":"IF($H$2=\"G\",'Spiegazioni Skills FTEM'!G19,'Spiegazioni Skills FTEM'!C19)","v":"Facoltà di imporsi fisicamente, duelli (ghiaccio aperto, balaustra), subire dei checks/testa alta, livello di lotta, duro ma corretto, blocco dei tiri con il corpo"},null,null,{"$f":"IF($H$2=\"G\",'Spiegazioni Skills FTEM'!#REF!,'Spiegazioni Skills FTEM'!#REF!)","v":{"$error":"#REF!"}}]
[{"$f":"'Spiegazioni Skills FTEM'!A20:A20","v":0},null,null,{"$f":"IF($H$2=\"G\",'Spiegazioni Skills FTEM'!F20,'Spiegazioni Skills FTEM'!B20)","v":"-"},null,null,{"$f":"IF($H$2=\"G\",'Spiegazioni Skills FTEM'!G20,'Spiegazioni Skills FTEM'!C20)","v":"-"},null,null,{"$f":"IF($H$2=\"G\",'Spiegazioni Skills FTEM'!#REF!,'Spiegazioni Skills FTEM'!#REF!)","v":{"$error":"#REF!"}}]
[{"$f":"'Spiegazioni Skills FTEM'!A21","v":"SENSO DELL'HOCKEY"},null,null,{"$f":"IF($H$2=\"G\",'Spiegazioni Skills FTEM'!F21,'Spiegazioni Skills FTEM'!B21)","v":"Intelligenza nel gioco"},null,null,{"$f":"IF($H$2=\"G\",'Spiegazioni Skills FTEM'!G21,'Spiegazioni Skills FTEM'!C21)","v":"Vedere spazi e giocatori liberi, creare situazioni di superiorità numerica, agire cercando soluzioni in tutte le situazioni, velocità di visualizzazione"},null,null,{"$f":"IF($H$2=\"G\",'Spiegazioni Skills FTEM'!#REF!,'Spiegazioni Skills FTEM'!#REF!)","v":{"$error":"#REF!"}},null,null,null,{"$f":"IFERROR(AVERAGE(O30:O34),\"-\")","v":"-"},null,{"$f":"IFERROR(AVERAGE(Q30:Q34),\"-\")","v":"-"},null,{"$f":"IFERROR(AVERAGE(S30:S34),\"-\")","v":"-"},null,{"$f":"IFERROR(AVERAGE(U30:U34),\"-\")","v":"-"},null,{"$f":"IFERROR(AVERAGE(W30:W34),\"-\")","v":"-"},null,{"$f":"IFERROR(AVERAGE(Y30:Y34),\"-\")","v":"-"}]
[{"$f":"'Spiegazioni Skills FTEM'!A22:A22","v":0},null,null,{"$f":"IF($H$2=\"G\",'Spiegazioni Skills FTEM'!F22,'Spiegazioni Skills FTEM'!B22)","v":"Sensibilità offensiva"},null,null,{"$f":"IF($H$2=\"G\",'Spiegazioni Skills FTEM'!G22,'Spiegazioni Skills FTEM'!C22)","v":"Smarcarsi, anticipare le situazioni di gioco, aprire spazi liberi per i compagni, piazzarsi per le conclusioni, velocità nel chiudere gli spazi (pressione), comunicazione"},null,null,{"$f":"IF($H$2=\"G\",'Spiegazioni Skills FTEM'!#REF!,'Spiegazioni Skills FTEM'!#REF!)","v":{"$error":"#REF!"}}]
[null,null,null,{"$f":"IF($H$2=\"G\",'Spiegazioni Skills FTEM'!F23,'Spiegazioni Skills FTEM'!B23)","v":"Sensibilità difensiva"},null,null,{"$f":"IF($H$2=\"G\",'Spiegazioni Skills FTEM'!G23,'Spiegazioni Skills FTEM'!C23)","v":"Mantenere la posizione difensiva, protezione dello slot, assicurare i compagni / supporto, individuare le linee di passaggio, bloccare i tiri, ridurre velocemente gli spazi, comunicazione"},null,null,{"$f":"IF($H$2=\"G\",'Spiegazioni Skills FTEM'!#REF!,'Spiegazioni Skills FTEM'!#REF!)","v":{"$error":"#REF!"}}]
[{"$f":"'Spiegazioni Skills FTEM'!A24:A24","v":0},null,null,{"$f":"IF($H$2=\"G\",'Spiegazioni Skills FTEM'!F24,'Spiegazioni Skills FTEM'!B24)","v":"Gestione del disco"},null,null,{"$f":"IF($H$2=\"G\",'Spiegazioni Skills FTEM'!G24,'Spiegazioni Skills FTEM'!C24)","v":"Prendere decisioni adeguate nelle situazioni di gioco, supporto, creare superiorità numerica"},null,null,{"$f":"IF($H$2=\"G\",'Spiegazioni Skills FTEM'!#REF!,'Spiegazioni Skills FTEM'!#REF!)","v":{"$error":"#REF!"}}]
[{"$f":"'Spiegazioni Skills FTEM'!A25:A25","v":0},null,null,{"$f":"IF($H$2=\"G\",'Spiegazioni Skills FTEM'!F25,'Spiegazioni Skills FTEM'!B25)","v":"Creatività"},null,null,{"$f":"IF($H$2=\"G\",'Spiegazioni Skills FTEM'!G25,'Spiegazioni Skills FTEM'!C25)","v":"Creare situazioni a sorpresa, fiuto del gol"},null,null,{"$f":"IF($H$2=\"G\",'Spiegazioni Skills FTEM'!#REF!,'Spiegazioni Skills FTEM'!#REF!)","v":{"$error":"#REF!"}}]
[{"$f":"'Spiegazioni Skills FTEM'!A26","v":"PERSONALITY"},null,null,{"$f":"'Spiegazioni Skills FTEM'!B26","v":"CAPACITÀ"},null,null,{"$f":"'Spiegazioni Skills FTEM'!C26","v":"CRITERIO D'OSSERVAZIONE"},null,null,{"$f":"'Spiegazioni Skills FTEM'!H26","v":0},null,null,null,"Data1",null,"Data2",null,"Data3",null,"Data4",null,"Data5",null,"Player",null,"OBIETTIVO","PROVVEDIMENTI:\n(SPECIFICI, MISURABILI, REALISTICI)",null,null,null,null,null,null,"TERMINE","COTROLLO DELL'OBIETTIVO","Date"]
[{"$f":"'Spiegazioni Skills FTEM'!A27","v":"PERSONALITÀ"},null,null,{"$f":"IF($H$2=\"G\",'Spiegazioni Skills FTEM'!F27,'Spiegazioni Skills FTEM'!B27)","v":"Fiducia in se stesso"},null,null,{"$f":"IF($H$2=\"G\",'Spiegazioni Skills FTEM'!G27,'Spiegazioni Skills FTEM'!C27)","v":"Possiede la necessaria fiducia in se stesso, «I can do it»-attitudine, sa valutare le proprie capacità (conosce i propri punti forti e deboli), può realizzare le proprie qualità con\ncostanza, è coraggioso e sa prendere dei rischi calcolati"},null,null,{"$f":"IF($H$2=\"G\",'Spiegazioni Skills FTEM'!#REF!,'Spiegazioni Skills FTEM'!#REF!)","v":{"$error":"#REF!"}},null,null,null,{"$f":"IFERROR(AVERAGE(O36:O40),\"-\")","v":"-"},null,{"$f":"IFERROR(AVERAGE(Q36:Q40),\"-\")","v":"-"},null,{"$f":"IFERROR(AVERAGE(S36:S40),\"-\")","v":"-"},null,{"$f":"IFERROR(AVERAGE(U36:U40),\"-\")","v":"-"},null,{"$f":"IFERROR(AVERAGE(W36:W40),\"-\")","v":"-"},null,{"$f":"IFERROR(AVERAGE(Y36:Y40),\"-\")","v":"-"}]
[{"$f":"'Spiegazioni Skills FTEM'!A28:A28","v":0},null,null,{"$f":"IF($H$2=\"G\",'Spiegazioni Skills FTEM'!F28,'Spiegazioni Skills FTEM'!B28)","v":"Capacità d'apprendimento"},null,null,{"$f":"IF($H$2=\"G\",'Spiegazioni Skills FTEM'!G28,'Spiegazioni Skills FTEM'!C28)","v":"Ha una buona capacità d'apprendimento (sa recepire e realizzare), possiede una personalità, cerca di imparare dai propri errori derivandone delle misure"},null,null,{"$f":"IF($H$2=\"G\",'Spiegazioni Skills FTEM'!#REF!,'Spiegazioni Skills FTEM'!#REF!)","v":{"$error":"#REF!"}}]
[null,null,null,{"$f":"IF($H$2=\"G\",'Spiegazioni Skills FTEM'!F29,'Spiegazioni Skills FTEM'!B29)","v":"Senso di responsabilità"},null,null,{"$f":"IF($H$2=\"G\",'Spiegazioni Skills FTEM'!G29,'Spiegazioni Skills FTEM'!C29)","v":"Assume responsabiltà per le proprie prestazioni e sviluppo, agisce autonomamente, cura i dettagli, mostra un grande impegno in tutti i settori"},null,null,{"$f":"IF($H$2=\"G\",'Spiegazioni Skills FTEM'!#REF!,'Spiegazioni Skills FTEM'!#REF!)","v":{"$error":"#REF!"}}]
[{"$f":"'Spiegazioni Skills FTEM'!A30:A30","v":0},null,null,{"$f":"IF($H$2=\"G\",'Spiegazioni Skills FTEM'!F30,'Spiegazioni Skills FTEM'!B30)","v":"Motivazione"},null,null,{"$f":"IF($H$2=\"G\",'Spiegazioni Skills FTEM'!G30,'Spiegazioni Skills FTEM'!C30)","v":"È sempre motivato, vuole sempre svilupparsi e imparare, vuol essere il primo e avere successo, non rinuncia mai e non si lascia influenzare dagli insuccessi"},null,null,{"$f":"IF($H$2=\"G\",'Spiegazioni Skills FTEM'!#REF!,'Spiegazioni Skills FTEM'!#REF!)","v":{"$error":"#REF!"}}]
[{"$f":"'Spiegazioni Skills FTEM'!A31:A31","v":0},null,null,{"$f":"IF($H$2=\"G\",'Spiegazioni Skills FTEM'!F31,'Spiegazioni Skills FTEM'!B31)","v":"Prestazione Stile di vita"},null,null,{"$f":"IF($H$2=\"G\",'Spiegazioni Skills FTEM'!G31,'Spiegazioni Skills FTEM'!C31)","v":"Gestisce bene la quotidianità il suo ambiente seguendo i principi della prestazione, caparbio, perseverante e finalizzato sugli obiettivi, focus sulla propria prestazione, coraggioso e grintoso, sa imporsi nei confronti delle resistenze, le sfide lo motivano"},null,null,{"$f":"IF($H$2=\"G\",'Spiegazioni Skills FTEM'!#REF!,'Spiegazioni Skills FTEM'!#REF!)","v":{"$error":"#REF!"}}]
[{"$f":"'Spiegazioni Skills FTEM'!A32","v":"FORZA MENTALE"},null,null,{"$f":"IF($H$2=\"G\",'Spiegazioni Skills FTEM'!F32,'Spiegazioni Skills FTEM'!B32)","v":"Impegno"},null,null,{"$f":"IF($H$2=\"G\",'Spiegazioni Skills FTEM'!G32,'Spiegazioni Skills FTEM'!C32)","v":"Mostra molta intensità negli allenamenti e nelle partite, dà sempre il massimo e vuole sempre spronare i propri limiti, mostra passione, si sforza ad alzare la qualità negli allenamenti"},null,null,{"$f":"IF($H$2=\"G\",'Spiegazioni Skills FTEM'!#REF!,'Spiegazioni Skills FTEM'!#REF!)","v":{"$error":"#REF!"}},null,null,null,{"$f":"IFERROR(AVERAGE(O41:O45),\"-\")","v":"-"},null,{"$f":"IFERROR(AVERAGE(Q41:Q45),\"-\")","v":"-"},null,{"$f":"IFERROR(AVERAGE(S41:S45),\"-\")","v":"-"},null,{"$f":"IFERROR(AVERAGE(U41:U45),\"-\")","v":"-"},null,{"$f":"IFERROR(AVERAGE(W41:W45),\"-\")","v":"-"},null,{"$f":"IFERROR(AVERAGE(Y41:Y45),\"-\")","v":"-"}]
[null,null,null,{"$f":"IF($H$2=\"G\",'Spiegazioni Skills FTEM'!F33,'Spiegazioni Skills FTEM'!B33)","v":"Preparazione"},null,null,{"$f":"IF($H$2=\"G\",'Spiegazioni Skills FTEM'!G33,'Spiegazioni Skills FTEM'!C33)","v":"Preparazione consapevole e finalizzata, mentalmente e fisicamente, possiede un efficiente approccio per l'ottenimento dell'ideale stato di prestazione (ILZ/ISP)"},null,null,{"$f":"IF($H$2=\"G\",'Spiegazioni Skills FTEM'!#REF!,'Spiegazioni Skills FTEM'!#REF!)","v":{"$error":"#REF!"}}]
[{"$f":"'Spiegazioni Skills FTEM'!A34:A34","v":0},null,null,{"$f":"IF($H$2=\"G\",'Spiegazioni Skills FTEM'!F34,'Spiegazioni Skills FTEM'!B34)","v":"Coaching individuale"},null,null,{"$f":"IF($H$2=\"G\",'Spiegazioni Skills FTEM'!G34,'Spiegazioni Skills FTEM'!C34)","v":"Possiede una buona capacità di concentrazione, può mantenere il suo ILZ/ISP durante la partita e l'allenamento, può utilizzare tecniche di base per rafforzare il mentale, resistenti contro pensieri e influenze negative, è consapevole del proprio linguaggio del corpo che è in grado di padroneggiare"},null,null,{"$f":"IF($H$2=\"G\",'Spiegazioni Skills FTEM'!#REF!,'Spiegazioni Skills FTEM'!#REF!)","v":{"$error":"#REF!"}}]
[{"$f":"'Spiegazioni Skills FTEM'!A35:A35","v":0},null,null,{"$f":"IF($H$2=\"G\",'Spiegazioni Skills FTEM'!F35,'Spiegazioni Skills FTEM'!B35)","v":"Gestione delle energie"},null,null,{"$f":"IF($H$2=\"G\",'Spiegazioni Skills FTEM'!G35,'Spiegazioni Skills FTEM'!C35)","v":"Può gestire le proprie energie, cura la rigenerazione, può gestire i momenti in cui si deve andare al massimo oppure risparmiarsi, interruttore on/off"},null,null,{"$f":"IF($H$2=\"G\",'Spiegazioni Skills FTEM'!#REF!,'Spiegazioni Skills FTEM'!#REF!)","v":{"$error":"#REF!"}}]
[{"$f":"'Spiegazioni Skills FTEM'!A36:A36","v":0},null,null,{"$f":"IF($H$2=\"G\",'Spiegazioni Skills FTEM'!F36,'Spiegazioni Skills FTEM'!B36)","v":"Controllo delle emozioni"},null,null,{"$f":"IF($H$2=\"G\",'Spiegazioni Skills FTEM'!G36,'Spiegazioni Skills FTEM'!C36)","v":"Può regolare le proprie emozioni e impulsi, mantiene il controllo quando si trova sotto pressione, sa anche agire adeguatamente in situazioni emotive o frustranti"},null,null,{"$f":"IF($H$2=\"G\",'Spiegazioni Skills FTEM'!#REF!,'Spiegazioni Skills FTEM'!#REF!)","v":{"$error":"#REF!"}}]
[{"$f":"'Spiegazioni Skills FTEM'!A37","v":"FISICO"},null,null,{"$f":"IF($H$2=\"G\",'Spiegazioni Skills FTEM'!F37,'Spiegazioni Skills FTEM'!B37)","v":"Produzione di prestazione"},null,null,{"$f":"IF($H$2=\"G\",'Spiegazioni Skills FTEM'!G37,'Spiegazioni Skills FTEM'!C37)","v":"Possiede nelle gambe e nella parte alta del corpo la necessaria potenza/forza/velocità (fattori neuromuscolari)"},null,null,{"$f":"IF($H$2=\"G\",'Spiegazioni Skills FTEM'!#REF!,'Spiegazioni Skills FTEM'!#REF!)","v":{"$error":"#REF!"}},null,null,null,{"$f":"IFERROR(AVERAGE(O46:O50),\"-\")","v":"-"},null,{"$f":"IFERROR(AVERAGE(Q46:Q50),\"-\")","v":"-"},null,{"$f":"IFERROR(AVERAGE(S46:S50),\"-\")","v":"-"},null,{"$f":"IFERROR(AVERAGE(U46:U50),\"-\")","v":"-"},null,{"$f":"IFERROR(AVERAGE(W46:W50),\"-\")","v":"-"},null,{"$f":"IFERROR(AVERAGE(Y46:Y50),\"-\")","v":"-"}]
[null,null,null,{"$f":"IF($H$2=\"G\",'Spiegazioni Skills FTEM'!F38,'Spiegazioni Skills FTEM'!B38)","v":"Resistenza specifica alla fatica"},null,null,{"$f":"IF($H$2=\"G\",'Spiegazioni Skills FTEM'!G38,'Spiegazioni Skills FTEM'!C38)","v":"È capace di mantenere a lungo nell'ambito di un impiego la potenza/forza/velocità ed è capace di recuperare completamente attraverso i vari impieghi sul ghiaccio (fattori metabolici e cardiovascolari)"},null,null,{"$f":"IF($H$2=\"G\",'Spiegazioni Skills FTEM'!#REF!,'Spiegazioni Skills FTEM'!#REF!)","v":{"$error":"#REF!"}}]
[{"$f":"'Spiegazioni Skills FTEM'!A39:A39","v":0},null,null,{"$f":"IF($H$2=\"G\",'Spiegazioni Skills FTEM'!F39,'Spiegazioni Skills FTEM'!B39)","v":"Salute / prevenzione"},null,null,{"$f":"IF($H$2=\"G\",'Spiegazioni Skills FTEM'!G39,'Spiegazioni Skills FTEM'!C39)","v":"Possiede la necessaria stabilità (stabilità delle gambe) e mobilità delle articolazioni centrali"},null,null,{"$f":"IF($H$2=\"G\",'Spiegazioni Skills FTEM'!#REF!,'Spiegazioni Skills FTEM'!#REF!)","v":{"$error":"#REF!"}}]
[{"$f":"'Spiegazioni Skills FTEM'!A40:A40","v":0},null,null,{"$f":"IF($H$2=\"G\",'Spiegazioni Skills FTEM'!F40,'Spiegazioni Skills FTEM'!B40)","v":"Competenze della mobilità"},null,null,{"$f":"IF($H$2=\"G\",'Spiegazioni Skills FTEM'!G40,'Spiegazioni Skills FTEM'!C40)","v":"Padroneggia le basilari capacità di movimento che garantiscono in modo determinante le abilità specifiche \"skills\", come pure l'efficacia dei movimenti"},null,null,{"$f":"IF($H$2=\"G\",'Spiegazioni Skills FTEM'!#REF!,'Spiegazioni Skills FTEM'!#REF!)","v":{"$error":"#REF!"}}]
[{"$f":"'Spiegazioni Skills FTEM'!A41:A41","v":0},null,null,{"$f":"IF($H$2=\"G\",'Spiegazioni Skills FTEM'!F41,'Spiegazioni Skills FTEM'!B41)","v":"Robustezza"},null,null,{"$f":"IF($H$2=\"G\",'Spiegazioni Skills FTEM'!G41,'Spiegazioni Skills FTEM'!C41)","v":"Possiede la necessaria forza di base (tensione del corpo) per vincere i duelli e resistere alle cariche"},null,null,{"$f":"IF($H$2=\"G\",'Spiegazioni Skills FTEM'!#REF!,'Spiegazioni Skills FTEM'!#REF!)","v":{"$error":"#REF!"}}]

{"sheet":"9","index":12,"n_rows":50,"n_cols":36,"rows_kept":50,"cut":false,"hidden":false,"merged":[[45,34,49,34],[45,12,49,12],[45,13,49,13],[45,15,49,15],[45,17,49,17],[45,19,49,19],[45,21,49,21],[45,23,49,23],[45,25,49,25],[45,26,49,32],[45,0,49,2],[45,3,45,5],[45,6,45,11],[46,3,46,5],[46,6,46,11],[48,3,48,5],[48,6,48,11],[49,3,49,5],[49,6,49,11],[47,3,47,5],[47,6,47,11],[40,23,44,23],[42,3,42,5],[42,6,42,11],[44,3,44,5],[44,6,44,11],[40,0,44,2],[40,3,40,5],[40,6,40,11],[40,12,44,12],[40,13,44,13],[40,15,44,15],[43,3,43,5],[43,6,43,11],[34,21,34,22],[35,17,39,17],[35,19,39,19],[35,21,39,21],[37,3,37,5],[37,6,37,11],[38,3,38,5],[38,6,38,11],[40,17,44,17],[40,19,44,19],[40,21,44,21],[36,3,36,5],[36,6,36,11],[41,3,41,5],[41,6,41,11],[29,0,33,2],[29,3,29,5],[29,6,29,11],[29,12,33,12],[29,13,33,13],[29,15,33,15],[34,23,34,24],[34,26,34,32],[35,0,39,2],[35,3,35,5],[35,6,35,11],[35,12,39,12],[35,13,39,13],[35,15,39,15],[39,3,39,5],[39,6,39,11],[35,23,39,23],[34,0,34,2],[34,3,34,5],[34,6,34,11],[34,13,34,14],[34,15,34,16],[34,17,34,18],[34,19,34,20],[23,19,28,19],[23,21,28,21],[23,23,28,23],[26,3,26,5],[26,6,26,11],[28,3,28,5],[28,6,28,11],[33,3,33,5],[33,6,33,11],[29,23,33,23],[29,17,33,17],[29,19,33,19],[29,21,33,21],[31,3,31,5],[31,6,31,11],[32,3,32,5],[32,6,32,11],[27,3,27,5],[27,6,27,11],[25,3,25,5],[25,6,25,11],[30,3,30,5],[30,6,30,11],[12,21,16,21],[18,15,22,15],[18,17,22,17],[18,19,22,19],[18,21,22,21],[18,23,22,23],[22,3,22,5],[22,6,22,11],[23,0,28,2],[23,3,23,5],[23,6,23,11],[23,12,28,12],[23,13,28,13],[23,15,28,15],[23,17,28,17],[18,0,22,2],[18,3,18,5],[18,6,18,11],[18,12,22,12],[18,13,22,13],[19,3,19,5],[19,6,19,11],[21,3,21,5],[21,6,21,11],[11,21,11,22],[11,23,11,24],[11,26,11,32],[11,6,11,11],[12,23,16,23],[16,3,16,5],[16,6,16,11],[17,0,17,2],[17,3,17,5],[17,6,17,11],[17,13,17,14],[17,15,17,16],[17,17,17,18],[17,19,17,20],[17,21,17,22],[17,23,17,24],[12,0,16,2],[12,3,12,5],[12,6,12,11],[12,12,16,12],[12,13,16,13],[12,15,16,15],[12,17,16,17],[12,19,16,19],[4,0,4,1],[4,2,4,5],[4,10,4,24],[10,0,10,24],[10,25,10,35],[40,25,44,25],[40,26,44,32],[40,34,44,34],[12,25,16,25],[12,26,16,32],[12,34,16,34],[18,25,22,25],[18,26,22,32],[18,34,22,34],[23,25,28,25],[23,26,28,32],[23,34,28,34],[17,26,17,32],[11,0,11,2],[11,3,11,5],[11,13,11,14],[11,15,11,16],[11,17,11,18],[11,19,11,20],[0,0,0,24],[0,25,0,26],[0,27,0,32],[0,33,0,35],[29,25,33,25],[29,26,33,32],[29,34,33,34],[35,25,39,25],[35,26,39,32],[35,34,39,34],[1,0,1,1],[1,2,1,5],[1,10,1,24],[2,0,2,1],[2,2,2,5],[2,11,2,24],[6,0,6,1],[6,2,6,35],[7,0,7,1],[7,2,7,35],[8,0,8,1],[8,2,8,35],[3,0,3,1],[3,10,3,24],[13,3,13,5],[13,6,13,11],[14,3,14,5],[14,6,14,11],[15,3,15,5],[15,6,15,11],[20,3,20,5],[20,6,20,11],[24,3,24,5],[24,6,24,11]]}
["Personalien",null,null,null,null,null,null,null,null,null,null,null,null,null,null,null,null,null,null,null,null,null,null,null,null,"Predisposizione",null,"Valutazioni",null,null,null,null,null,"Rating"]
["COGNOME",null,{"$f":"IF(ISBLANK(VLOOKUP(9,Tabelle3[],3,0)),\"-\",VLOOKUP(9,Tabelle3[],3,0))","v":"-"},null,null,null,"POSIZIONE",null,null,"INDIRIZZO",{"$f":"IF(ISBLANK(VLOOKUP(9,Tabelle3[],5,0)),\"-\",VLOOKUP(9,Tabelle3[],5,0))","v":"-"},null,null,null,null,null,null,null,null,null,null,null,null,null,null,"Età\" (biologica/età relativa)",null,"Data 1",null,null,"cm",null,"Kg",null,"ECCELLENTE",5]
["NOME",null,{"$f":"IF(ISBLANK(VLOOKUP(9,Tabelle3[],2,0)),\"-\",VLOOKUP(9,Tabelle3[],2,0))","v":"-"},null,null,null,"BASTONE",null,null,"LUOGO",{"$f":"IF(ISBLANK(VLOOKUP(9,Tabelle3[],7,0)),\"-\",VLOOKUP(9,Tabelle3[],7,0))","v":"-"},{"$f":"IF(ISBLANK(VLOOKUP(9,Tabelle3[],6,0)),\"-\",VLOOKUP(9,Tabelle3[],6,0))","v":"-"},null,null,null,null,null,null,null,null,null,null,null,null,null,"Predisposizione",null,"Data 2",null,null,"cm",null,"Kg",null,"BUONO",4]
["DATA DI NASC.",null,{"$f":"IF(ISBLANK(VLOOKUP(9,Tabelle3[],14,0)),\"-\",VLOOKUP(9,Tabelle3[],14,0))","v":"-"},{"$f":"IF(ISBLANK(VLOOKUP(9,Tabelle3[],15,0)),\"-\",VLOOKUP(9,Tabelle3[],15,0))","v":"-"},{"$f":"IF(ISBLANK(VLOOKUP(9,Tabelle3[],16,0)),\"-\",VLOOKUP(9,Tabelle3[],16,0))","v":"-"},null,"ALTEZZA",null,"cm (Finale)","TELEFONO",{"$f":"IF(ISBLANK(VLOOKUP(9,Tabelle3[],8,0)),\"-\",VLOOKUP(9,Tabelle3[],8,0))","v":"-"},null,null,null,null,null,null,null,null,null,null,null,null,null,null,"Ambiente di vita",null,"Data 3",null,null,"cm",null,"Kg",null,"MEDIO/DISCRETO",3]
["SESSO",null,{"$f":"IF(ISBLANK(VLOOKUP(9,Tabelle3[],13,0)),\"-\",VLOOKUP(9,Tabelle3[],13,0))","v":"-"},null,null,null,"PESO",null,"Kg (Finale)","E-Mail",{"$f":"IF(ISBLANK(VLOOKUP(9,Tabelle3[],9,0)),\"-\",VLOOKUP(9,Tabelle3[],9,0))","v":"-"},null,null,null,null,null,null,null,null,null,null,null,null,null,null,null,null,"Data 4",null,null,"cm",null,"Kg",null,"CON LACUNE",2]
[null,null,null,null,null,null,null,null,null,null,null,null,null,null,null,null,null,null,null,null,null,null,null,null,null,null,null,"Data 5",null,null,"cm",null,"Kg",null,"INSUFFICIENTE",1]
["Visione",null,"xxx"]
["Prossimo passo",null,"xxx"]
["Proflio giocatore",null,"xxx"]
[]
["VALUTAZIONI (COACH / GIOCATORE)",null,null,null,null,null,null,null,null,null,null,null,null,null,null,null,null,null,null,null,null,null,null,null,null,"Obiettivi SMART"]
[{"$f":"'Spiegazioni Skills FTEM'!A3","v":"TEAM"},null,null,{"$f":"'Spiegazioni Skills FTEM'!B3","v":"CAPACITÀ"},null,null,{"$f":"'Spiegazioni Skills FTEM'!C3","v":"CRITERIO D'OSSERVAZIONE"},null,null,{"$f":"'Spiegazioni Skills FTEM'!H3","v":0},null,null,"Final","Data1",null,"Data2",null,"Data3",null,"Data4",null,"Data5",null,"Player",null,"OBIETTIVO","PROVVEDIMENTI:\n(SPECIFICI, MISURABILI, REALISTICI)",null,null,null,null,null,null,"TERMINE","COTROLLO DELL'OBIETTIVO","Data"]
[{"$f":"'Spiegazioni Skills FTEM'!A4","v":"SQUADRA"},null,null,{"$f":"IF($H$2=\"G\",'Spiegazioni Skills FTEM'!F4,'Spiegazioni Skills FTEM'!B4)","v":"Comunicazione"},null,null,{"$f":"IF($H$2=\"G\",'Spiegazioni Skills FTEM'!G4,'Spiegazioni Skills FTEM'!C4)","v":"Cura relazioni aperte e rispettose, fiducia quale base comportamentale, affronta i conflitti senza ledere la stabilità del gruppo, comunica con i compagni, gli allenatori e\nfunzionari con i medesimi valori"},null,null,{"$f":"IF($H$2=\"G\",'Spiegazioni Skills FTEM'!#REF!,'Spiegazioni Skills FTEM'!#REF!)","v":{"$error":"#REF!"}},null,null,null,{"$f":"IFERROR(AVERAGE(O13:O17),\"-\")","v":"-"},null,{"$f":"IFERROR(AVERAGE(Q13:Q17),\"-\")","v":"-"},null,{"$f":"IFERROR(AVERAGE(S13:S17),\"-\")","v":"-"},null,{"$f":"IFERROR(AVERAGE(U13:U17),\"-\")","v":"-"},null,{"$f":"IFERROR(AVERAGE(W13:W17),\"-\")","v":"-"},null,{"$f":"IFERROR(AVERAGE(Y13:Y17),\"-\")","v":"-"}]
[{"$f":"'Spiegazioni Skills FTEM'!A5","v":0},null,null,{"$f":"IF($H$2=\"G\",'Spiegazioni Skills FTEM'!F5,'Spiegazioni Skills FTEM'!B5)","v":"Capacità nella squadra"},null,null,{"$f":"IF($H$2=\"G\",'Spiegazioni Skills FTEM'!G5,'Spiegazioni Skills FTEM'!C5)","v":"Integrazione nel gruppo, definisce e realizza obiettivi comuni, NOI prima dell'IO, contribuisce a creare un buon spirito di squadra e clima di lavoro"},null,null,{"$f":"IF($H$2=\"G\",'Spiegazioni Skills FTEM'!#REF!,'Spiegazioni Skills FTEM'!#REF!)","v":{"$error":"#REF!"}}]
[{"$f":"'Spiegazioni Skills FTEM'!A6","v":0},null,null,{"$f":"IF($H$2=\"G\",'Spiegazioni Skills FTEM'!F6,'Spiegazioni Skills FTEM'!B6)","v":"Leadership"},null,null,{"$f":"IF($H$2=\"G\",'Spiegazioni Skills FTEM'!G6,'Spiegazioni Skills FTEM'!C6)","v":"Assume responsabilità nell'ambito del gruppo, cerca di migliorare la squadra e i compagni, influenza positivamente la dinamica di gruppo"},null,null,{"$f":"IF($H$2=\"G\",'Spiegazioni Skills FTEM'!#REF!,'Spiegazioni Skills FTEM'!#REF!)","v":{"$error":"#REF!"}}]
[{"$f":"'Spiegazioni Skills FTEM'!A7","v":0},null,null,{"$f":"IF($H$2=\"G\",'Spiegazioni Skills FTEM'!F7,'Spiegazioni Skills FTEM'!B7)","v":"Ripartizione dei ruoli"},null,null,{"$f":"IF($H$2=\"G\",'Spiegazioni Skills FTEM'!G7,'Spiegazioni Skills FTEM'!C7)","v":"Riconosce e adempie il suo ruolo, è cosciente della sua posizione nel sistema e nella squadra, mette a disposizione della squadra le sue competenze"},null,null,{"$f":"IF($H$2=\"G\",'Spiegazioni Skills FTEM'!#REF!,'Spiegazioni Skills FTEM'!#REF!)","v":{"$error":"#REF!"}}]
[{"$f":"'Spiegazioni Skills FTEM'!A8","v":0},null,null,{"$f":"IF($H$2=\"G\",'Spiegazioni Skills FTEM'!F8,'Spiegazioni Skills FTEM'!B8)","v":"Rispetto"},null,null,{"$f":"IF($H$2=\"G\",'Spiegazioni Skills FTEM'!G8,'Spiegazioni Skills FTEM'!C8)","v":"Relazioni rispettose con i compagni, allenatori, avversari, arbitri e staff; rispetta le regole i pricipi del fairplay (compreso la lotta al doping)"},null,null,{"$f":"IF($H$2=\"G\",'Spiegazioni Skills FTEM'!#REF!,'Spiegazioni Skills FTEM'!#REF!)","v":{"$error":"#REF!"}}]
[{"$f":"'Spiegazioni Skills FTEM'!A9","v":"ON ICE"},null,null,{"$f":"'Spiegazioni Skills FTEM'!B9","v":"CAPACITÀ"},null,null,{"$f":"'Spiegazioni Skills FTEM'!C9","v":"CRITERIO D'OSSERVAZIONE"},null,null,{"$f":"'Spiegazioni Skills FTEM'!H9","v":0},null,null,null,"Data1",null,"Data2",null,"Data3",null,"Data4",null,"Data5",null,"Player",null,"OBIETTIVO","PROVVEDIMENTI:\n(SPECIFICI, MISURABILI, REALISTICI)",null,null,null,null,null,null,"TERMINE","COTROLLO DELL'OBIETTIVO","Date"]
[{"$f":"'Spiegazioni Skills FTEM'!A10","v":"PATTINAGGIO"},null,null,{"$f":"IF($H$2=\"G\",'Spiegazioni Skills FTEM'!F10,'Spiegazioni Skills FTEM'!B10)","v":"Velocità dei piedi"},null,null,{"$f":"IF($H$2=\"G\",'Spiegazioni Skills FTEM'!G10,'Spiegazioni Skills FTEM'!C10)","v":"Accelerazione, partenza, esplosività dei primi 3 passi, frequenza"},null,null,{"$f":"IF($H$2=\"G\",'Spiegazioni Skills FTEM'!#REF!,'Spiegazioni Skills FTEM'!#REF!)","v":{"$error":"#REF!"}},null,null,null,{"$f":"IFERROR(AVERAGE(O19:O23),\"-\")","v":"-"},null,{"$f":"IFERROR(AVERAGE(Q19:Q23),\"-\")","v":"-"},null,{"$f":"IFERROR(AVERAGE(S19:S23),\"-\")","v":"-"},null,{"$f":"IFERROR(AVERAGE(U19:U23),\"-\")","v":"-"},null,{"$f":"IFERROR(AVERAGE(W19:W23),\"-\")","v":"-"},null,{"$f":"IFERROR(AVERAGE(Y19:Y23),\"-\")","v":"-"}]
[{"$f":"'Spiegazioni Skills FTEM'!A11:A11","v":0},null,null,{"$f":"IF($H$2=\"G\",'Spiegazioni Skills FTEM'!F11,'Spiegazioni Skills FTEM'!B11)","v":"Velocità/rapidità"},null,null,{"$f":"IF($H$2=\"G\",'Spiegazioni Skills FTEM'!G11,'Spiegazioni Skills FTEM'!C11)","v":"Velocità, facoltà di scivolare, avanti / indietro, economia dello sforzo"},null,null,{"$f":"IF($H$2=\"G\",'Spiegazioni Skills FTEM'!#REF!,'Spiegazioni Skills FTEM'!#REF!)","v":{"$error":"#REF!"}}]
[null,null,null,{"$f":"IF($H$2=\"G\",'Spiegazioni Skills FTEM'!F12,'Spiegazioni Skills FTEM'!B12)","v":"Agilità"},null,null,{"$f":"IF($H$2=\"G\",'Spiegazioni Skills FTEM'!G12,'Spiegazioni Skills FTEM'!C12)","v":"Cambiamento di direzione, girarsi, stop e ripartenza, \"Nummelin\""},null,null,{"$f":"IF($H$2=\"G\",'Spiegazioni Skills FTEM'!#REF!,'Spiegazioni Skills FTEM'!#REF!)","v":{"$error":"#REF!"}}]
[{"$f":"'Spiegazioni Skills FTEM'!A12:A12","v":0},null,null,{"$f":"IF($H$2=\"G\",'Spiegazioni Skills FTEM'!F13,'Spiegazioni Skills FTEM'!B13)","v":"Equilibrio"},null,null,{"$f":"IF($H$2=\"G\",'Spiegazioni Skills FTEM'!G13,'Spiegazioni Skills FTEM'!C13)","v":"Equilibrio, stabilità, posizione bassa, su una gamba, su entrambe"},null,null,{"$f":"IF($H$2=\"G\",'Spiegazioni Skills FTEM'!#REF!,'Spiegazioni Skills FTEM'!#REF!)","v":{"$error":"#REF!"}},null,null,null,{"$f":"IFERROR(AVERAGE(O22:O23),\"-\")","v":"-"},null,{"$f":"IFERROR(AVERAGE(Q22:Q23),\"-\")","v":"-"},null,{"$f":"IFERROR(AVERAGE(S22:S23),\"-\")","v":"-"},null,{"$f":"IFERROR(AVERAGE(U22:U23),\"-\")","v":"-"},null,{"$f":"IFERROR(AVERAGE(W22:W23),\"-\")","v":"-"},null,"-"]
[{"$f":"'Spiegazioni Skills FTEM'!A14:A14","v":0},null,null,{"$f":"IF($H$2=\"G\",'Spiegazioni Skills FTEM'!F14,'Spiegazioni Skills FTEM'!B14)","v":"Pattinaggio indietro"},null,null,{"$f":"IF($H$2=\"G\",'Spiegazioni Skills FTEM'!G14,'Spiegazioni Skills FTEM'!C14)","v":"Accelerazione, velocità, equilibrio"},null,null,{"$f":"IF($H$2=\"G\",'Spiegazioni Skills FTEM'!#REF!,'Spiegazioni Skills FTEM'!#REF!)","v":{"$error":"#REF!"}}]
[{"$f":"'Spiegazioni Skills FTEM'!A15","v":"ABILITÀ"},null,null,{"$f":"IF($H$2=\"G\",'Spiegazioni Skills FTEM'!F15,'Spiegazioni Skills FTEM'!B15)","v":"Tirare"},null,null,{"$f":"IF($H$2=\"G\",'Spiegazioni Skills FTEM'!G15,'Spiegazioni Skills FTEM'!C15)","v":"Efficienza (poco spazio, poco tempo), ricchezza di varianti, grado di sorpresa (Quick Release), precisione, potenza (conclusioni tattiche)"},null,null,{"$f":"IF($H$2=\"G\",'Spiegazioni Skills FTEM'!#REF!,'Spiegazioni Skills FTEM'!#REF!)","v":{"$error":"#REF!"}},null,null,null,{"$f":"IFERROR(AVERAGE(O24:O29),\"-\")","v":"-"},null,{"$f":"IFERROR(AVERAGE(Q24:Q29),\"-\")","v":"-"},null,{"$f":"IFERROR(AVERAGE(S24:S29),\"-\")","v":"-"},null,{"$f":"IFERROR(AVERAGE(U24:U29),\"-\")","v":"-"},null,{"$f":"IFERROR(AVERAGE(W24:W29),\"-\")","v":"-"},null,{"$f":"IFERROR(AVERAGE(Y24:Y29),\"-\")","v":"-"}]
[null,null,null,{"$f":"IF($H$2=\"G\",'Spiegazioni Skills FTEM'!F16,'Spiegazioni Skills FTEM'!B16)","v":"Passare"},null,null,{"$f":"IF($H$2=\"G\",'Spiegazioni Skills FTEM'!G16,'Spiegazioni Skills FTEM'!C16)","v":"Passaggio (distanza, flipp, rovescio), ricezione del passaggio (precisione, timing, diritto, rovescio, sul pattino), velocità del disco"},null,null,{"$f":"IF($H$2=\"G\",'Spiegazioni Skills FTEM'!#REF!,'Spiegazioni Skills FTEM'!#REF!)","v":{"$error":"#REF!"}}]
[null,null,null,{"$f":"IF($H$2=\"G\",'Spiegazioni Skills FTEM'!F17,'Spiegazioni Skills FTEM'!B17)","v":"Lavoro col bastone - condotta del disco"},null,null,{"$f":"IF($H$2=\"G\",'Spiegazioni Skills FTEM'!G17,'Spiegazioni Skills FTEM'!C17)","v":"Bastone sul disco, intercettare le linee di passaggio, deviare, controllo del bastone avversario"},null,null,{"$f":"IF($H$2=\"G\",'Spiegazioni Skills FTEM'!#REF!,'Spiegazioni Skills FTEM'!#REF!)","v":{"$error":"#REF!"}}]
[{"$f":"'Spiegazioni Skills FTEM'!A16:A16","v":0},null,null,{"$f":"IF($H$2=\"G\",'Spiegazioni Skills FTEM'!F18,'Spiegazioni Skills FTEM'!B18)","v":"Possedere/proteggere il disco"},null,null,{"$f":"IF($H$2=\"G\",'Spiegazioni Skills FTEM'!G18,'Spiegazioni Skills FTEM'!C18)","v":"Controllo del disco, dribbling, protezione del disco, finte (varianti col pattino, con o senza la balaustra), ingaggi (face-off)"},null,null,{"$f":"IF($H$2=\"G\",'Spiegazioni Skills FTEM'!#REF!,'Spiegazioni Skills FTEM'!#REF!)","v":{"$error":"#REF!"}}]
[{"$f":"'Spiegazioni Skills FTEM'!A17:A17","v":0},null,null,{"$f":"IF($H$2=\"G\",'Spiegazioni Skills FTEM'!F19,'Spiegazioni Skills FTEM'!B19)","v":"Gioco del corpo"},null,null,{"$f":"IF($H$2=\"G\",'Spiegazioni Skills FTEM'!G19,'Spiegazioni Skills FTEM'!C19)","v":"Facoltà di imporsi fisicamente, duelli (ghiaccio aperto, balaustra), subire dei checks/testa alta, livello di lotta, duro ma corretto, blocco dei tiri con il corpo"},null,null,{"$f":"IF($H$2=\"G\",'Spiegazioni Skills FTEM'!#REF!,'Spiegazioni Skills FTEM'!#REF!)","v":{"$error":"#REF!"}}]
[{"$f":"'Spiegazioni Skills FTEM'!A20:A20","v":0},null,null,{"$f":"IF($H$2=\"G\",'Spiegazioni Skills FTEM'!F20,'Spiegazioni Skills FTEM'!B20)","v":"-"},null,null,{"$f":"IF($H$2=\"G\",'Spiegazioni Skills FTEM'!G20,'Spiegazioni Skills FTEM'!C20)","v":"-"},null,null,{"$f":"IF($H$2=\"G\",'Spiegazioni Skills FTEM'!#REF!,'Spiegazioni Skills FTEM'!#REF!)","v":{"$error":"#REF!"}}]
[{"$f":"'Spiegazioni Skills FTEM'!A21","v":"SENSO DELL'HOCKEY"},null,null,{"$f":"IF($H$2=\"G\",'Spiegazioni Skills FTEM'!F21,'Spiegazioni Skills FTEM'!B21)","v":"Intelligenza nel gioco"},null,null,{"$f":"IF($H$2=\"G\",'Spiegazioni Skills FTEM'!G21,'Spiegazioni Skills FTEM'!C21)","v":"Vedere spazi e giocatori liberi, creare situazioni di superiorità numerica, agire cercando soluzioni in tutte le situazioni, velocità di visualizzazione"},null,null,{"$f":"IF($H$2=\"G\",'Spiegazioni Skills FTEM'!#REF!,'Spiegazioni Skills FTEM'!#REF!)","v":{"$error":"#REF!"}},null,null,null,{"$f":"IFERROR(AVERAGE(O30:O34),\"-\")","v":"-"},null,{"$f":"IFERROR(AVERAGE(Q30:Q34),\"-\")","v":"-"},null,{"$f":"IFERROR(AVERAGE(S30:S34),\"-\")","v":"-"},null,{"$f":"IFERROR(AVERAGE(U30:U34),\"-\")","v":"-"},null,{"$f":"IFERROR(AVERAGE(W30:W34),\"-\")","v":"-"},null,{"$f":"IFERROR(AVERAGE(Y30:Y34),\"-\")","v":"-"}]
[{"$f":"'Spiegazioni Skills FTEM'!A22:A22","v":0},null,null,{"$f":"IF($H$2=\"G\",'Spiegazioni Skills FTEM'!F22,'Spiegazioni Skills FTEM'!B22)","v":"Sensibilità offensiva"},null,null,{"$f":"IF($H$2=\"G\",'Spiegazioni Skills FTEM'!G22,'Spiegazioni Skills FTEM'!C22)","v":"Smarcarsi, anticipare le situazioni di gioco, aprire spazi liberi per i compagni, piazzarsi per le conclusioni, velocità nel chiudere gli spazi (pressione), comunicazione"},null,null,{"$f":"IF($H$2=\"G\",'Spiegazioni Skills FTEM'!#REF!,'Spiegazioni Skills FTEM'!#REF!)","v":{"$error":"#REF!"}}]
[null,null,null,{"$f":"IF($H$2=\"G\",'Spiegazioni Skills FTEM'!F23,'Spiegazioni Skills FTEM'!B23)","v":"Sensibilità difensiva"},null,null,{"$f":"IF($H$2=\"G\",'Spiegazioni Skills FTEM'!G23,'Spiegazioni Skills FTEM'!C23)","v":"Mantenere la posizione difensiva, protezione dello slot, assicurare i compagni / supporto, individuare le linee di passaggio, bloccare i tiri, ridurre velocemente gli spazi, comunicazione"},null,null,{"$f":"IF($H$2=\"G\",'Spiegazioni Skills FTEM'!#REF!,'Spiegazioni Skills FTEM'!#REF!)","v":{"$error":"#REF!"}}]
[{"$f":"'Spiegazioni Skills FTEM'!A24:A24","v":0},null,null,{"$f":"IF($H$2=\"G\",'Spiegazioni Skills FTEM'!F24,'Spiegazioni Skills FTEM'!B24)","v":"Gestione del disco"},null,null,{"$f":"IF($H$2=\"G\",'Spiegazioni Skills FTEM'!G24,'Spiegazioni Skills FTEM'!C24)","v":"Prendere decisioni adeguate nelle situazioni di gioco, supporto, creare superiorità numerica"},null,null,{"$f":"IF($H$2=\"G\",'Spiegazioni Skills FTEM'!#REF!,'Spiegazioni Skills FTEM'!#REF!)","v":{"$error":"#REF!"}}]
[{"$f":"'Spiegazioni Skills FTEM'!A25:A25","v":0},null,null,{"$f":"IF($H$2=\"G\",'Spiegazioni Skills FTEM'!F25,'Spiegazioni Skills FTEM'!B25)","v":"Creatività"},null,null,{"$f":"IF($H$2=\"G\",'Spiegazioni Skills FTEM'!G25,'Spiegazioni Skills FTEM'!C25)","v":"Creare situazioni a sorpresa, fiuto del gol"},null,null,{"$f":"IF($H$2=\"G\",'Spiegazioni Skills FTEM'!#REF!,'Spiegazioni Skills FTEM'!#REF!)","v":{"$error":"#REF!"}}]
[{"$f":"'Spiegazioni Skills FTEM'!A26","v":"PERSONALITY"},null,null,{"$f":"'Spiegazioni Skills FTEM'!B26","v":"CAPACITÀ"},null,null,{"$f":"'Spiegazioni Skills FTEM'!C26","v":"CRITERIO D'OSSERVAZIONE"},null,null,{"$f":"'Spiegazioni Skills FTEM'!H26","v":0},null,null,null,"Data1",null,"Data2",null,"Data3",null,"Data4",null,"Data5",null,"Player",null,"OBIETTIVO","PROVVEDIMENTI:\n(SPECIFICI, MISURABILI, REALISTICI)",null,null,null,null,null,null,"TERMINE","COTROLLO DELL'OBIETTIVO","Date"]
[{"$f":"'Spiegazioni Skills FTEM'!A27","v":"PERSONALITÀ"},null,null,{"$f":"IF($H$2=\"G\",'Spiegazioni Skills FTEM'!F27,'Spiegazioni Skills FTEM'!B27)","v":"Fiducia in se stesso"},null,null,{"$f":"IF($H$2=\"G\",'Spiegazioni Skills FTEM'!G27,'Spiegazioni Skills FTEM'!C27)","v":"Possiede la necessaria fiducia in se stesso, «I can do it»-attitudine, sa valutare le proprie capacità (conosce i propri punti forti e deboli), può realizzare le proprie qualità con\ncostanza, è coraggioso e sa prendere dei rischi calcolati"},null,null,{"$f":"IF($H$2=\"G\",'Spiegazioni Skills FTEM'!#REF!,'Spiegazioni Skills FTEM'!#REF!)","v":{"$error":"#REF!"}},null,null,null,{"$f":"IFERROR(AVERAGE(O36:O40),\"-\")","v":"-"},null,{"$f":"IFERROR(AVERAGE(Q36:Q40),\"-\")","v":"-"},null,{"$f":"IFERROR(AVERAGE(S36:S40),\"-\")","v":"-"},null,{"$f":"IFERROR(AVERAGE(U36:U40),\"-\")","v":"-"},null,{"$f":"IFERROR(AVERAGE(W36:W40),\"-\")","v":"-"},null,{"$f":"IFERROR(AVERAGE(Y36:Y40),\"-\")","v":"-"}]
[{"$f":"'Spiegazioni Skills FTEM'!A28:A28","v":0},null,null,{"$f":"IF($H$2=\"G\",'Spiegazioni Skills FTEM'!F28,'Spiegazioni Skills FTEM'!B28)","v":"Capacità d'apprendimento"},null,null,{"$f":"IF($H$2=\"G\",'Spiegazioni Skills FTEM'!G28,'Spiegazioni Skills FTEM'!C28)","v":"Ha una buona capacità d'apprendimento (sa recepire e realizzare), possiede una personalità, cerca di imparare dai propri errori derivandone delle misure"},null,null,{"$f":"IF($H$2=\"G\",'Spiegazioni Skills FTEM'!#REF!,'Spiegazioni Skills FTEM'!#REF!)","v":{"$error":"#REF!"}}]
[null,null,null,{"$f":"IF($H$2=\"G\",'Spiegazioni Skills FTEM'!F29,'Spiegazioni Skills FTEM'!B29)","v":"Senso di responsabilità"},null,null,{"$f":"IF($H$2=\"G\",'Spiegazioni Skills FTEM'!G29,'Spiegazioni Skills FTEM'!C29)","v":"Assume responsabiltà per le proprie prestazioni e sviluppo, agisce autonomamente, cura i dettagli, mostra un grande impegno in tutti i settori"},null,null,{"$f":"IF($H$2=\"G\",'Spiegazioni Skills FTEM'!#REF!,'Spiegazioni Skills FTEM'!#REF!)","v":{"$error":"#REF!"}}]
[{"$f":"'Spiegazioni Skills FTEM'!A30:A30","v":0},null,null,{"$f":"IF($H$2=\"G\",'Spiegazioni Skills FTEM'!F30,'Spiegazioni Skills FTEM'!B30)","v":"Motivazione"},null,null,{"$f":"IF($H$2=\"G\",'Spiegazioni Skills FTEM'!G30,'Spiegazioni Skills FTEM'!C30)","v":"È sempre motivato, vuole sempre svilupparsi e imparare, vuol essere il primo e avere successo, non rinuncia mai e non si lascia influenzare dagli insuccessi"},null,null,{"$f":"IF($H$2=\"G\",'Spiegazioni Skills FTEM'!#REF!,'Spiegazioni Skills FTEM'!#REF!)","v":{"$error":"#REF!"}}]
[{"$f":"'Spiegazioni Skills FTEM'!A31:A31","v":0},null,null,{"$f":"IF($H$2=\"G\",'Spiegazioni Skills FTEM'!F31,'Spiegazioni Skills FTEM'!B31)","v":"Prestazione Stile di vita"},null,null,{"$f":"IF($H$2=\"G\",'Spiegazioni Skills FTEM'!G31,'Spiegazioni Skills FTEM'!C31)","v":"Gestisce bene la quotidianità il suo ambiente seguendo i principi della prestazione, caparbio, perseverante e finalizzato sugli obiettivi, focus sulla propria prestazione, coraggioso e grintoso, sa imporsi nei confronti delle resistenze, le sfide lo motivano"},null,null,{"$f":"IF($H$2=\"G\",'Spiegazioni Skills FTEM'!#REF!,'Spiegazioni Skills FTEM'!#REF!)","v":{"$error":"#REF!"}}]
[{"$f":"'Spiegazioni Skills FTEM'!A32","v":"FORZA MENTALE"},null,null,{"$f":"IF($H$2=\"G\",'Spiegazioni Skills FTEM'!F32,'Spiegazioni Skills FTEM'!B32)","v":"Impegno"},null,null,{"$f":"IF($H$2=\"G\",'Spiegazioni Skills FTEM'!G32,'Spiegazioni Skills FTEM'!C32)","v":"Mostra molta intensità negli allenamenti e nelle partite, dà sempre il massimo e vuole sempre spronare i propri limiti, mostra passione, si sforza ad alzare la qualità negli allenamenti"},null,null,{"$f":"IF($H$2=\"G\",'Spiegazioni Skills FTEM'!#REF!,'Spiegazioni Skills FTEM'!#REF!)","v":{"$error":"#REF!"}},null,null,null,{"$f":"IFERROR(AVERAGE(O41:O45),\"-\")","v":"-"},null,{"$f":"IFERROR(AVERAGE(Q41:Q45),\"-\")","v":"-"},null,{"$f":"IFERROR(AVERAGE(S41:S45),\"-\")","v":"-"},null,{"$f":"IFERROR(AVERAGE(U41:U45),\"-\")","v":"-"},null,{"$f":"IFERROR(AVERAGE(W41:W45),\"-\")","v":"-"},null,{"$f":"IFERROR(AVERAGE(Y41:Y45),\"-\")","v":"-"}]
[null,null,null,{"$f":"IF($H$2=\"G\",'Spiegazioni Skills FTEM'!F33,'Spiegazioni Skills FTEM'!B33)","v":"Preparazione"},null,null,{"$f":"IF($H$2=\"G\",'Spiegazioni Skills FTEM'!G33,'Spiegazioni Skills FTEM'!C33)","v":"Preparazione consapevole e finalizzata, mentalmente e fisicamente, possiede un efficiente approccio per l'ottenimento dell'ideale stato di prestazione (ILZ/ISP)"},null,null,{"$f":"IF($H$2=\"G\",'Spiegazioni Skills FTEM'!#REF!,'Spiegazioni Skills FTEM'!#REF!)","v":{"$error":"#REF!"}}]
[{"$f":"'Spiegazioni Skills FTEM'!A34:A34","v":0},null,null,{"$f":"IF($H$2=\"G\",'Spiegazioni Skills FTEM'!F34,'Spiegazioni Skills FTEM'!B34)","v":"Coaching individuale"},null,null,{"$f":"IF($H$2=\"G\",'Spiegazioni Skills FTEM'!G34,'Spiegazioni Skills FTEM'!C34)","v":"Possiede una buona capacità di concentrazione, può mantenere il suo ILZ/ISP durante la partita e l'allenamento, può utilizzare tecniche di base per rafforzare il mentale, resistenti contro pensieri e influenze negative, è consapevole del proprio linguaggio del corpo che è in grado di padroneggiare"},null,null,{"$f":"IF($H$2=\"G\",'Spiegazioni Skills FTEM'!#REF!,'Spiegazioni Skills FTEM'!#REF!)","v":{"$error":"#REF!"}}]
[{"$f":"'Spiegazioni Skills FTEM'!A35:A35","v":0},null,null,{"$f":"IF($H$2=\"G\",'Spiegazioni Skills FTEM'!F35,'Spiegazioni Skills FTEM'!B35)","v":"Gestione delle energie"},null,null,{"$f":"IF($H$2=\"G\",'Spiegazioni Skills FTEM'!G35,'Spiegazioni Skills FTEM'!C35)","v":"Può gestire le proprie energie, cura la rigenerazione, può gestire i momenti in cui si deve andare al massimo oppure risparmiarsi, interruttore on/off"},null,null,{"$f":"IF($H$2=\"G\",'Spiegazioni Skills FTEM'!#REF!,'Spiegazioni Skills FTEM'!#REF!)","v":{"$error":"#REF!"}}]
[{"$f":"'Spiegazioni Skills FTEM'!A36:A36","v":0},null,null,{"$f":"IF($H$2=\"G\",'Spiegazioni Skills FTEM'!F36,'Spiegazioni Skills FTEM'!B36)","v":"Controllo delle emozioni"},null,null,{"$f":"IF($H$2=\"G\",'Spiegazioni Skills FTEM'!G36,'Spiegazioni Skills FTEM'!C36)","v":"Può regolare le proprie emozioni e impulsi, mantiene il controllo quando si trova sotto pressione, sa anche agire adeguatamente in situazioni emotive o frustranti"},null,null,{"$f":"IF($H$2=\"G\",'Spiegazioni Skills FTEM'!#REF!,'Spiegazioni Skills FTEM'!#REF!)","v":{"$error":"#REF!"}}]
[{"$f":"'Spiegazioni Skills FTEM'!A37","v":"FISICO"},null,null,{"$f":"IF($H$2=\"G\",'Spiegazioni Skills FTEM'!F37,'Spiegazioni Skills FTEM'!B37)","v":"Produzione di prestazione"},null,null,{"$f":"IF($H$2=\"G\",'Spiegazioni Skills FTEM'!G37,'Spiegazioni Skills FTEM'!C37)","v":"Possiede nelle gambe e nella parte alta del corpo la necessaria potenza/forza/velocità (fattori neuromuscolari)"},null,null,{"$f":"IF($H$2=\"G\",'Spiegazioni Skills FTEM'!#REF!,'Spiegazioni Skills FTEM'!#REF!)","v":{"$error":"#REF!"}},null,null,null,{"$f":"IFERROR(AVERAGE(O46:O50),\"-\")","v":"-"},null,{"$f":"IFERROR(AVERAGE(Q46:Q50),\"-\")","v":"-"},null,{"$f":"IFERROR(AVERAGE(S46:S50),\"-\")","v":"-"},null,{"$f":"IFERROR(AVERAGE(U46:U50),\"-\")","v":"-"},null,{"$f":"IFERROR(AVERAGE(W46:W50),\"-\")","v":"-"},null,{"$f":"IFERROR(AVERAGE(Y46:Y50),\"-\")","v":"-"}]
[null,null,null,{"$f":"IF($H$2=\"G\",'Spiegazioni Skills FTEM'!F38,'Spiegazioni Skills FTEM'!B38)","v":"Resistenza specifica alla fatica"},null,null,{"$f":"IF($H$2=\"G\",'Spiegazioni Skills FTEM'!G38,'Spiegazioni Skills FTEM'!C38)","v":"È capace di mantenere a lungo nell'ambito di un impiego la potenza/forza/velocità ed è capace di recuperare completamente attraverso i vari impieghi sul ghiaccio (fattori metabolici e cardiovascolari)"},null,null,{"$f":"IF($H$2=\"G\",'Spiegazioni Skills FTEM'!#REF!,'Spiegazioni Skills FTEM'!#REF!)","v":{"$error":"#REF!"}}]
[{"$f":"'Spiegazioni Skills FTEM'!A39:A39","v":0},null,null,{"$f":"IF($H$2=\"G\",'Spiegazioni Skills FTEM'!F39,'Spiegazioni Skills FTEM'!B39)","v":"Salute / prevenzione"},null,null,{"$f":"IF($H$2=\"G\",'Spiegazioni Skills FTEM'!G39,'Spiegazioni Skills FTEM'!C39)","v":"Possiede la necessaria stabilità (stabilità delle gambe) e mobilità delle articolazioni centrali"},null,null,{"$f":"IF($H$2=\"G\",'Spiegazioni Skills FTEM'!#REF!,'Spiegazioni Skills FTEM'!#REF!)","v":{"$error":"#REF!"}}]
[{"$f":"'Spiegazioni Skills FTEM'!A40:A40","v":0},null,null,{"$f":"IF($H$2=\"G\",'Spiegazioni Skills FTEM'!F40,'Spiegazioni Skills FTEM'!B40)","v":"Competenze della mobilità"},null,null,{"$f":"IF($H$2=\"G\",'Spiegazioni Skills FTEM'!G40,'Spiegazioni Skills FTEM'!C40)","v":"Padroneggia le basilari capacità di movimento che garantiscono in modo determinante le abilità specifiche \"skills\", come pure l'efficacia dei movimenti"},null,null,{"$f":"IF($H$2=\"G\",'Spiegazioni Skills FTEM'!#REF!,'Spiegazioni Skills FTEM'!#REF!)","v":{"$error":"#REF!"}}]
[{"$f":"'Spiegazioni Skills FTEM'!A41:A41","v":0},null,null,{"$f":"IF($H$2=\"G\",'Spiegazioni Skills FTEM'!F41,'Spiegazioni Skills FTEM'!B41)","v":"Robustezza"},null,null,{"$f":"IF($H$2=\"G\",'Spiegazioni Skills FTEM'!G41,'Spiegazioni Skills FTEM'!C41)","v":"Possiede la necessaria forza di base (tensione del corpo) per vincere i duelli e resistere alle cariche"},null,null,{"$f":"IF($H$2=\"G\",'Spiegazioni Skills FTEM'!#REF!,'Spiegazioni Skills FTEM'!#REF!)","v":{"$error":"#REF!"}}]

{"sheet":"10","index":13,"n_rows":50,"n_cols":36,"rows_kept":50,"cut":false,"hidden":false,"merged":[[45,34,49,34],[45,12,49,12],[45,13,49,13],[45,15,49,15],[45,17,49,17],[45,19,49,19],[45,21,49,21],[45,23,49,23],[45,25,49,25],[45,26,49,32],[45,0,49,2],[45,3,45,5],[45,6,45,11],[46,3,46,5],[46,6,46,11],[48,3,48,5],[48,6,48,11],[49,3,49,5],[49,6,49,11],[47,3,47,5],[47,6,47,11],[40,23,44,23],[42,3,42,5],[42,6,42,11],[44,3,44,5],[44,6,44,11],[40,0,44,2],[40,3,40,5],[40,6,40,11],[40,12,44,12],[40,13,44,13],[40,15,44,15],[43,3,43,5],[43,6,43,11],[34,21,34,22],[35,17,39,17],[35,19,39,19],[35,21,39,21],[37,3,37,5],[37,6,37,11],[38,3,38,5],[38,6,38,11],[40,17,44,17],[40,19,44,19],[40,21,44,21],[36,3,36,5],[36,6,36,11],[41,3,41,5],[41,6,41,11],[29,0,33,2],[29,3,29,5],[29,6,29,11],[29,12,33,12],[29,13,33,13],[29,15,33,15],[34,23,34,24],[34,26,34,32],[35,0,39,2],[35,3,35,5],[35,6,35,11],[35,12,39,12],[35,13,39,13],[35,15,39,15],[39,3,39,5],[39,6,39,11],[35,23,39,23],[34,0,34,2],[34,3,34,5],[34,6,34,11],[34,13,34,14],[34,15,34,16],[34,17,34,18],[34,19,34,20],[23,19,28,19],[23,21,28,21],[23,23,28,23],[26,3,26,5],[26,6,26,11],[28,3,28,5],[28,6,28,11],[33,3,33,5],[33,6,33,11],[29,23,33,23],[29,17,33,17],[29,19,33,19],[29,21,33,21],[31,3,31,5],[31,6,31,11],[32,3,32,5],[32,6,32,11],[27,3,27,5],[27,6,27,11],[25,3,25,5],[25,6,25,11],[30,3,30,5],[30,6,30,11],[12,21,16,21],[18,15,22,15],[18,17,22,17],[18,19,22,19],[18,21,22,21],[18,23,22,23],[22,3,22,5],[22,6,22,11],[23,0,28,2],[23,3,23,5],[23,6,23,11],[23,12,28,12],[23,13,28,13],[23,15,28,15],[23,17,28,17],[18,0,22,2],[18,3,18,5],[18,6,18,11],[18,12,22,12],[18,13,22,13],[19,3,19,5],[19,6,19,11],[21,3,21,5],[21,6,21,11],[11,21,11,22],[11,23,11,24],[11,26,11,32],[11,6,11,11],[12,23,16,23],[16,3,16,5],[16,6,16,11],[17,0,17,2],[17,3,17,5],[17,6,17,11],[17,13,17,14],[17,15,17,16],[17,17,17,18],[17,19,17,20],[17,21,17,22],[17,23,17,24],[12,0,16,2],[12,3,12,5],[12,6,12,11],[12,12,16,12],[12,13,16,13],[12,15,16,15],[12,17,16,17],[12,19,16,19],[4,0,4,1],[4,2,4,5],[4,10,4,24],[10,0,10,24],[10,25,10,35],[40,25,44,25],[40,26,44,32],[40,34,44,34],[12,25,16,25],[12,26,16,32],[12,34,16,34],[18,25,22,25],[18,26,22,32],[18,34,22,34],[23,25,28,25],[23,26,28,32],[23,34,28,34],[17,26,17,32],[11,0,11,2],[11,3,11,5],[11,13,11,14],[11,15,11,16],[11,17,11,18],[11,19,11,20],[0,0,0,24],[0,25,0,26],[0,27,0,32],[0,33,0,35],[29,25,33,25],[29,26,33,32],[29,34,33,34],[35,25,39,25],[35,26,39,32],[35,34,39,34],[1,0,1,1],[1,2,1,5],[1,10,1,24],[2,0,2,1],[2,2,2,5],[2,11,2,24],[6,0,6,1],[6,2,6,35],[7,0,7,1],[7,2,7,35],[8,0,8,1],[8,2,8,35],[3,0,3,1],[3,10,3,24],[13,3,13,5],[13,6,13,11],[14,3,14,5],[14,6,14,11],[15,3,15,5],[15,6,15,11],[20,3,20,5],[20,6,20,11],[24,3,24,5],[24,6,24,11]]}
["Personalien",null,null,null,null,null,null,null,null,null,null,null,null,null,null,null,null,null,null,null,null,null,null,null,null,"Predisposizione",null,"Valutazioni",null,null,null,null,null,"Rating"]
["COGNOME",null,{"$f":"IF(ISBLANK(VLOOKUP(10,Tabelle3[],3,0)),\"-\",VLOOKUP(10,Tabelle3[],3,0))","v":"-"},null,null,null,"POSIZIONE",null,null,"INDIRIZZO",{"$f":"IF(ISBLANK(VLOOKUP(10,Tabelle3[],5,0)),\"-\",VLOOKUP(10,Tabelle3[],5,0))","v":"-"},null,null,null,null,null,null,null,null,null,null,null,null,null,null,"Età\" (biologica/età relativa)",null,"Data 1",null,null,"cm",null,"Kg",null,"ECCELLENTE",5]
["NOME",null,{"$f":"IF(ISBLANK(VLOOKUP(10,Tabelle3[],2,0)),\"-\",VLOOKUP(10,Tabelle3[],2,0))","v":"-"},null,null,null,"BASTONE",null,null,"LUOGO",{"$f":"IF(ISBLANK(VLOOKUP(10,Tabelle3[],7,0)),\"-\",VLOOKUP(10,Tabelle3[],7,0))","v":"-"},{"$f":"IF(ISBLANK(VLOOKUP(10,Tabelle3[],6,0)),\"-\",VLOOKUP(10,Tabelle3[],6,0))","v":"-"},null,null,null,null,null,null,null,null,null,null,null,null,null,"Predisposizione",null,"Data 2",null,null,"cm",null,"Kg",null,"BUONO",4]
["DATA DI NASC.",null,{"$f":"IF(ISBLANK(VLOOKUP(10,Tabelle3[],14,0)),\"-\",VLOOKUP(10,Tabelle3[],14,0))","v":"-"},{"$f":"IF(ISBLANK(VLOOKUP(10,Tabelle3[],15,0)),\"-\",VLOOKUP(10,Tabelle3[],15,0))","v":"-"},{"$f":"IF(ISBLANK(VLOOKUP(10,Tabelle3[],16,0)),\"-\",VLOOKUP(10,Tabelle3[],16,0))","v":"-"},null,"ALTEZZA",null,"cm (Finale)","TELEFONO",{"$f":"IF(ISBLANK(VLOOKUP(10,Tabelle3[],8,0)),\"-\",VLOOKUP(10,Tabelle3[],8,0))","v":"-"},null,null,null,null,null,null,null,null,null,null,null,null,null,null,"Ambiente di vita",null,"Data 3",null,null,"cm",null,"Kg",null,"MEDIO/DISCRETO",3]
["SESSO",null,{"$f":"IF(ISBLANK(VLOOKUP(10,Tabelle3[],13,0)),\"-\",VLOOKUP(10,Tabelle3[],13,0))","v":"-"},null,null,null,"PESO",null,"Kg (Finale)","E-Mail",{"$f":"IF(ISBLANK(VLOOKUP(10,Tabelle3[],9,0)),\"-\",VLOOKUP(10,Tabelle3[],9,0))","v":"-"},null,null,null,null,null,null,null,null,null,null,null,null,null,null,null,null,"Data 4",null,null,"cm",null,"Kg",null,"CON LACUNE",2]
[null,null,null,null,null,null,null,null,null,null,null,null,null,null,null,null,null,null,null,null,null,null,null,null,null,null,null,"Data 5",null,null,"cm",null,"Kg",null,"INSUFFICIENTE",1]
["Visione",null,"xxx"]
["Prossimo passo",null,"xxx"]
["Proflio giocatore",null,"xxx"]
[]
["VALUTAZIONI (COACH / GIOCATORE)",null,null,null,null,null,null,null,null,null,null,null,null,null,null,null,null,null,null,null,null,null,null,null,null,"Obiettivi SMART"]
[{"$f":"'Spiegazioni Skills FTEM'!A3","v":"TEAM"},null,null,{"$f":"'Spiegazioni Skills FTEM'!B3","v":"CAPACITÀ"},null,null,{"$f":"'Spiegazioni Skills FTEM'!C3","v":"CRITERIO D'OSSERVAZIONE"},null,null,{"$f":"'Spiegazioni Skills FTEM'!H3","v":0},null,null,"Final","Data1",null,"Data2",null,"Data3",null,"Data4",null,"Data5",null,"Player",null,"OBIETTIVO","PROVVEDIMENTI:\n(SPECIFICI, MISURABILI, REALISTICI)",null,null,null,null,null,null,"TERMINE","COTROLLO DELL'OBIETTIVO","Data"]
[{"$f":"'Spiegazioni Skills FTEM'!A4","v":"SQUADRA"},null,null,{"$f":"IF($H$2=\"G\",'Spiegazioni Skills FTEM'!F4,'Spiegazioni Skills FTEM'!B4)","v":"Comunicazione"},null,null,{"$f":"IF($H$2=\"G\",'Spiegazioni Skills FTEM'!G4,'Spiegazioni Skills FTEM'!C4)","v":"Cura relazioni aperte e rispettose, fiducia quale base comportamentale, affronta i conflitti senza ledere la stabilità del gruppo, comunica con i compagni, gli allenatori e\nfunzionari con i medesimi valori"},null,null,{"$f":"IF($H$2=\"G\",'Spiegazioni Skills FTEM'!#REF!,'Spiegazioni Skills FTEM'!#REF!)","v":{"$error":"#REF!"}},null,null,null,{"$f":"IFERROR(AVERAGE(O13:O17),\"-\")","v":"-"},null,{"$f":"IFERROR(AVERAGE(Q13:Q17),\"-\")","v":"-"},null,{"$f":"IFERROR(AVERAGE(S13:S17),\"-\")","v":"-"},null,{"$f":"IFERROR(AVERAGE(U13:U17),\"-\")","v":"-"},null,{"$f":"IFERROR(AVERAGE(W13:W17),\"-\")","v":"-"},null,{"$f":"IFERROR(AVERAGE(Y13:Y17),\"-\")","v":"-"}]
[{"$f":"'Spiegazioni Skills FTEM'!A5","v":0},null,null,{"$f":"IF($H$2=\"G\",'Spiegazioni Skills FTEM'!F5,'Spiegazioni Skills FTEM'!B5)","v":"Capacità nella squadra"},null,null,{"$f":"IF($H$2=\"G\",'Spiegazioni Skills FTEM'!G5,'Spiegazioni Skills FTEM'!C5)","v":"Integrazione nel gruppo, definisce e realizza obiettivi comuni, NOI prima dell'IO, contribuisce a creare un buon spirito di squadra e clima di lavoro"},null,null,{"$f":"IF($H$2=\"G\",'Spiegazioni Skills FTEM'!#REF!,'Spiegazioni Skills FTEM'!#REF!)","v":{"$error":"#REF!"}}]
[{"$f":"'Spiegazioni Skills FTEM'!A6","v":0},null,null,{"$f":"IF($H$2=\"G\",'Spiegazioni Skills FTEM'!F6,'Spiegazioni Skills FTEM'!B6)","v":"Leadership"},null,null,{"$f":"IF($H$2=\"G\",'Spiegazioni Skills FTEM'!G6,'Spiegazioni Skills FTEM'!C6)","v":"Assume responsabilità nell'ambito del gruppo, cerca di migliorare la squadra e i compagni, influenza positivamente la dinamica di gruppo"},null,null,{"$f":"IF($H$2=\"G\",'Spiegazioni Skills FTEM'!#REF!,'Spiegazioni Skills FTEM'!#REF!)","v":{"$error":"#REF!"}}]
[{"$f":"'Spiegazioni Skills FTEM'!A7","v":0},null,null,{"$f":"IF($H$2=\"G\",'Spiegazioni Skills FTEM'!F7,'Spiegazioni Skills FTEM'!B7)","v":"Ripartizione dei ruoli"},null,null,{"$f":"IF($H$2=\"G\",'Spiegazioni Skills FTEM'!G7,'Spiegazioni Skills FTEM'!C7)","v":"Riconosce e adempie il suo ruolo, è cosciente della sua posizione nel sistema e nella squadra, mette a disposizione della squadra le sue competenze"},null,null,{"$f":"IF($H$2=\"G\",'Spiegazioni Skills FTEM'!#REF!,'Spiegazioni Skills FTEM'!#REF!)","v":{"$error":"#REF!"}}]
[{"$f":"'Spiegazioni Skills FTEM'!A8","v":0},null,null,{"$f":"IF($H$2=\"G\",'Spiegazioni Skills FTEM'!F8,'Spiegazioni Skills FTEM'!B8)","v":"Rispetto"},null,null,{"$f":"IF($H$2=\"G\",'Spiegazioni Skills FTEM'!G8,'Spiegazioni Skills FTEM'!C8)","v":"Relazioni rispettose con i compagni, allenatori, avversari, arbitri e staff; rispetta le regole i pricipi del fairplay (compreso la lotta al doping)"},null,null,{"$f":"IF($H$2=\"G\",'Spiegazioni Skills FTEM'!#REF!,'Spiegazioni Skills FTEM'!#REF!)","v":{"$error":"#REF!"}}]
[{"$f":"'Spiegazioni Skills FTEM'!A9","v":"ON ICE"},null,null,{"$f":"'Spiegazioni Skills FTEM'!B9","v":"CAPACITÀ"},null,null,{"$f":"'Spiegazioni Skills FTEM'!C9","v":"CRITERIO D'OSSERVAZIONE"},null,null,{"$f":"'Spiegazioni Skills FTEM'!H9","v":0},null,null,null,"Data1",null,"Data2",null,"Data3",null,"Data4",null,"Data5",null,"Player",null,"OBIETTIVO","PROVVEDIMENTI:\n(SPECIFICI, MISURABILI, REALISTICI)",null,null,null,null,null,null,"TERMINE","COTROLLO DELL'OBIETTIVO","Date"]
[{"$f":"'Spiegazioni Skills FTEM'!A10","v":"PATTINAGGIO"},null,null,{"$f":"IF($H$2=\"G\",'Spiegazioni Skills FTEM'!F10,'Spiegazioni Skills FTEM'!B10)","v":"Velocità dei piedi"},null,null,{"$f":"IF($H$2=\"G\",'Spiegazioni Skills FTEM'!G10,'Spiegazioni Skills FTEM'!C10)","v":"Accelerazione, partenza, esplosività dei primi 3 passi, frequenza"},null,null,{"$f":"IF($H$2=\"G\",'Spiegazioni Skills FTEM'!#REF!,'Spiegazioni Skills FTEM'!#REF!)","v":{"$error":"#REF!"}},null,null,null,{"$f":"IFERROR(AVERAGE(O19:O23),\"-\")","v":"-"},null,{"$f":"IFERROR(AVERAGE(Q19:Q23),\"-\")","v":"-"},null,{"$f":"IFERROR(AVERAGE(S19:S23),\"-\")","v":"-"},null,{"$f":"IFERROR(AVERAGE(U19:U23),\"-\")","v":"-"},null,{"$f":"IFERROR(AVERAGE(W19:W23),\"-\")","v":"-"},null,{"$f":"IFERROR(AVERAGE(Y19:Y23),\"-\")","v":"-"}]
[{"$f":"'Spiegazioni Skills FTEM'!A11:A11","v":0},null,null,{"$f":"IF($H$2=\"G\",'Spiegazioni Skills FTEM'!F11,'Spiegazioni Skills FTEM'!B11)","v":"Velocità/rapidità"},null,null,{"$f":"IF($H$2=\"G\",'Spiegazioni Skills FTEM'!G11,'Spiegazioni Skills FTEM'!C11)","v":"Velocità, facoltà di scivolare, avanti / indietro, economia dello sforzo"},null,null,{"$f":"IF($H$2=\"G\",'Spiegazioni Skills FTEM'!#REF!,'Spiegazioni Skills FTEM'!#REF!)","v":{"$error":"#REF!"}}]
[null,null,null,{"$f":"IF($H$2=\"G\",'Spiegazioni Skills FTEM'!F12,'Spiegazioni Skills FTEM'!B12)","v":"Agilità"},null,null,{"$f":"IF($H$2=\"G\",'Spiegazioni Skills FTEM'!G12,'Spiegazioni Skills FTEM'!C12)","v":"Cambiamento di direzione, girarsi, stop e ripartenza, \"Nummelin\""},null,null,{"$f":"IF($H$2=\"G\",'Spiegazioni Skills FTEM'!#REF!,'Spiegazioni Skills FTEM'!#REF!)","v":{"$error":"#REF!"}}]
[{"$f":"'Spiegazioni Skills FTEM'!A12:A12","v":0},null,null,{"$f":"IF($H$2=\"G\",'Spiegazioni Skills FTEM'!F13,'Spiegazioni Skills FTEM'!B13)","v":"Equilibrio"},null,null,{"$f":"IF($H$2=\"G\",'Spiegazioni Skills FTEM'!G13,'Spiegazioni Skills FTEM'!C13)","v":"Equilibrio, stabilità, posizione bassa, su una gamba, su entrambe"},null,null,{"$f":"IF($H$2=\"G\",'Spiegazioni Skills FTEM'!#REF!,'Spiegazioni Skills FTEM'!#REF!)","v":{"$error":"#REF!"}},null,null,null,{"$f":"IFERROR(AVERAGE(O22:O23),\"-\")","v":"-"},null,{"$f":"IFERROR(AVERAGE(Q22:Q23),\"-\")","v":"-"},null,{"$f":"IFERROR(AVERAGE(S22:S23),\"-\")","v":"-"},null,{"$f":"IFERROR(AVERAGE(U22:U23),\"-\")","v":"-"},null,{"$f":"IFERROR(AVERAGE(W22:W23),\"-\")","v":"-"},null,"-"]
[{"$f":"'Spiegazioni Skills FTEM'!A14:A14","v":0},null,null,{"$f":"IF($H$2=\"G\",'Spiegazioni Skills FTEM'!F14,'Spiegazioni Skills FTEM'!B14)","v":"Pattinaggio indietro"},null,null,{"$f":"IF($H$2=\"G\",'Spiegazioni Skills FTEM'!G14,'Spiegazioni Skills FTEM'!C14)","v":"Accelerazione, velocità, equilibrio"},null,null,{"$f":"IF($H$2=\"G\",'Spiegazioni Skills FTEM'!#REF!,'Spiegazioni Skills FTEM'!#REF!)","v":{"$error":"#REF!"}}]
[{"$f":"'Spiegazioni Skills FTEM'!A15","v":"ABILITÀ"},null,null,{"$f":"IF($H$2=\"G\",'Spiegazioni Skills FTEM'!F15,'Spiegazioni Skills FTEM'!B15)","v":"Tirare"},null,null,{"$f":"IF($H$2=\"G\",'Spiegazioni Skills FTEM'!G15,'Spiegazioni Skills FTEM'!C15)","v":"Efficienza (poco spazio, poco tempo), ricchezza di varianti, grado di sorpresa (Quick Release), precisione, potenza (conclusioni tattiche)"},null,null,{"$f":"IF($H$2=\"G\",'Spiegazioni Skills FTEM'!#REF!,'Spiegazioni Skills FTEM'!#REF!)","v":{"$error":"#REF!"}},null,null,null,{"$f":"IFERROR(AVERAGE(O24:O29),\"-\")","v":"-"},null,{"$f":"IFERROR(AVERAGE(Q24:Q29),\"-\")","v":"-"},null,{"$f":"IFERROR(AVERAGE(S24:S29),\"-\")","v":"-"},null,{"$f":"IFERROR(AVERAGE(U24:U29),\"-\")","v":"-"},null,{"$f":"IFERROR(AVERAGE(W24:W29),\"-\")","v":"-"},null,{"$f":"IFERROR(AVERAGE(Y24:Y29),\"-\")","v":"-"}]
[null,null,null,{"$f":"IF($H$2=\"G\",'Spiegazioni Skills FTEM'!F16,'Spiegazioni Skills FTEM'!B16)","v":"Passare"},null,null,{"$f":"IF($H$2=\"G\",'Spiegazioni Skills FTEM'!G16,'Spiegazioni Skills FTEM'!C16)","v":"Passaggio (distanza, flipp, rovescio), ricezione del passaggio (precisione, timing, diritto, rovescio, sul pattino), velocità del disco"},null,null,{"$f":"IF($H$2=\"G\",'Spiegazioni Skills FTEM'!#REF!,'Spiegazioni Skills FTEM'!#REF!)","v":{"$error":"#REF!"}}]
[null,null,null,{"$f":"IF($H$2=\"G\",'Spiegazioni Skills FTEM'!F17,'Spiegazioni Skills FTEM'!B17)","v":"Lavoro col bastone - condotta del disco"},null,null,{"$f":"IF($H$2=\"G\",'Spiegazioni Skills FTEM'!G17,'Spiegazioni Skills FTEM'!C17)","v":"Bastone sul disco, intercettare le linee di passaggio, deviare, controllo del bastone avversario"},null,null,{"$f":"IF($H$2=\"G\",'Spiegazioni Skills FTEM'!#REF!,'Spiegazioni Skills FTEM'!#REF!)","v":{"$error":"#REF!"}}]
[{"$f":"'Spiegazioni Skills FTEM'!A16:A16","v":0},null,null,{"$f":"IF($H$2=\"G\",'Spiegazioni Skills FTEM'!F18,'Spiegazioni Skills FTEM'!B18)","v":"Possedere/proteggere il disco"},null,null,{"$f":"IF($H$2=\"G\",'Spiegazioni Skills FTEM'!G18,'Spiegazioni Skills FTEM'!C18)","v":"Controllo del disco, dribbling, protezione del disco, finte (varianti col pattino, con o senza la balaustra), ingaggi (face-off)"},null,null,{"$f":"IF($H$2=\"G\",'Spiegazioni Skills FTEM'!#REF!,'Spiegazioni Skills FTEM'!#REF!)","v":{"$error":"#REF!"}}]
[{"$f":"'Spiegazioni Skills FTEM'!A17:A17","v":0},null,null,{"$f":"IF($H$2=\"G\",'Spiegazioni Skills FTEM'!F19,'Spiegazioni Skills FTEM'!B19)","v":"Gioco del corpo"},null,null,{"$f":"IF($H$2=\"G\",'Spiegazioni Skills FTEM'!G19,'Spiegazioni Skills FTEM'!C19)","v":"Facoltà di imporsi fisicamente, duelli (ghiaccio aperto, balaustra), subire dei checks/testa alta, livello di lotta, duro ma corretto, blocco dei tiri con il corpo"},null,null,{"$f":"IF($H$2=\"G\",'Spiegazioni Skills FTEM'!#REF!,'Spiegazioni Skills FTEM'!#REF!)","v":{"$error":"#REF!"}}]
[{"$f":"'Spiegazioni Skills FTEM'!A20:A20","v":0},null,null,{"$f":"IF($H$2=\"G\",'Spiegazioni Skills FTEM'!F20,'Spiegazioni Skills FTEM'!B20)","v":"-"},null,null,{"$f":"IF($H$2=\"G\",'Spiegazioni Skills FTEM'!G20,'Spiegazioni Skills FTEM'!C20)","v":"-"},null,null,{"$f":"IF($H$2=\"G\",'Spiegazioni Skills FTEM'!#REF!,'Spiegazioni Skills FTEM'!#REF!)","v":{"$error":"#REF!"}}]
[{"$f":"'Spiegazioni Skills FTEM'!A21","v":"SENSO DELL'HOCKEY"},null,null,{"$f":"IF($H$2=\"G\",'Spiegazioni Skills FTEM'!F21,'Spiegazioni Skills FTEM'!B21)","v":"Intelligenza nel gioco"},null,null,{"$f":"IF($H$2=\"G\",'Spiegazioni Skills FTEM'!G21,'Spiegazioni Skills FTEM'!C21)","v":"Vedere spazi e giocatori liberi, creare situazioni di superiorità numerica, agire cercando soluzioni in tutte le situazioni, velocità di visualizzazione"},null,null,{"$f":"IF($H$2=\"G\",'Spiegazioni Skills FTEM'!#REF!,'Spiegazioni Skills FTEM'!#REF!)","v":{"$error":"#REF!"}},null,null,null,{"$f":"IFERROR(AVERAGE(O30:O34),\"-\")","v":"-"},null,{"$f":"IFERROR(AVERAGE(Q30:Q34),\"-\")","v":"-"},null,{"$f":"IFERROR(AVERAGE(S30:S34),\"-\")","v":"-"},null,{"$f":"IFERROR(AVERAGE(U30:U34),\"-\")","v":"-"},null,{"$f":"IFERROR(AVERAGE(W30:W34),\"-\")","v":"-"},null,{"$f":"IFERROR(AVERAGE(Y30:Y34),\"-\")","v":"-"}]
[{"$f":"'Spiegazioni Skills FTEM'!A22:A22","v":0},null,null,{"$f":"IF($H$2=\"G\",'Spiegazioni Skills FTEM'!F22,'Spiegazioni Skills FTEM'!B22)","v":"Sensibilità offensiva"},null,null,{"$f":"IF($H$2=\"G\",'Spiegazioni Skills FTEM'!G22,'Spiegazioni Skills FTEM'!C22)","v":"Smarcarsi, anticipare le situazioni di gioco, aprire spazi liberi per i compagni, piazzarsi per le conclusioni, velocità nel chiudere gli spazi (pressione), comunicazione"},null,null,{"$f":"IF($H$2=\"G\",'Spiegazioni Skills FTEM'!#REF!,'Spiegazioni Skills FTEM'!#REF!)","v":{"$error":"#REF!"}}]
[null,null,null,{"$f":"IF($H$2=\"G\",'Spiegazioni Skills FTEM'!F23,'Spiegazioni Skills FTEM'!B23)","v":"Sensibilità difensiva"},null,null,{"$f":"IF($H$2=\"G\",'Spiegazioni Skills FTEM'!G23,'Spiegazioni Skills FTEM'!C23)","v":"Mantenere la posizione difensiva, protezione dello slot, assicurare i compagni / supporto, individuare le linee di passaggio, bloccare i tiri, ridurre velocemente gli spazi, comunicazione"},null,null,{"$f":"IF($H$2=\"G\",'Spiegazioni Skills FTEM'!#REF!,'Spiegazioni Skills FTEM'!#REF!)","v":{"$error":"#REF!"}}]
[{"$f":"'Spiegazioni Skills FTEM'!A24:A24","v":0},null,null,{"$f":"IF($H$2=\"G\",'Spiegazioni Skills FTEM'!F24,'Spiegazioni Skills FTEM'!B24)","v":"Gestione del disco"},null,null,{"$f":"IF($H$2=\"G\",'Spiegazioni Skills FTEM'!G24,'Spiegazioni Skills FTEM'!C24)","v":"Prendere decisioni adeguate nelle situazioni di gioco, supporto, creare superiorità numerica"},null,null,{"$f":"IF($H$2=\"G\",'Spiegazioni Skills FTEM'!#REF!,'Spiegazioni Skills FTEM'!#REF!)","v":{"$error":"#REF!"}}]
[{"$f":"'Spiegazioni Skills FTEM'!A25:A25","v":0},null,null,{"$f":"IF($H$2=\"G\",'Spiegazioni Skills FTEM'!F25,'Spiegazioni Skills FTEM'!B25)","v":"Creatività"},null,null,{"$f":"IF($H$2=\"G\",'Spiegazioni Skills FTEM'!G25,'Spiegazioni Skills FTEM'!C25)","v":"Creare situazioni a sorpresa, fiuto del gol"},null,null,{"$f":"IF($H$2=\"G\",'Spiegazioni Skills FTEM'!#REF!,'Spiegazioni Skills FTEM'!#REF!)","v":{"$error":"#REF!"}}]
[{"$f":"'Spiegazioni Skills FTEM'!A26","v":"PERSONALITY"},null,null,{"$f":"'Spiegazioni Skills FTEM'!B26","v":"CAPACITÀ"},null,null,{"$f":"'Spiegazioni Skills FTEM'!C26","v":"CRITERIO D'OSSERVAZIONE"},null,null,{"$f":"'Spiegazioni Skills FTEM'!H26","v":0},null,null,null,"Data1",null,"Data2",null,"Data3",null,"Data4",null,"Data5",null,"Player",null,"OBIETTIVO","PROVVEDIMENTI:\n(SPECIFICI, MISURABILI, REALISTICI)",null,null,null,null,null,null,"TERMINE","COTROLLO DELL'OBIETTIVO","Date"]
[{"$f":"'Spiegazioni Skills FTEM'!A27","v":"PERSONALITÀ"},null,null,{"$f":"IF($H$2=\"G\",'Spiegazioni Skills FTEM'!F27,'Spiegazioni Skills FTEM'!B27)","v":"Fiducia in se stesso"},null,null,{"$f":"IF($H$2=\"G\",'Spiegazioni Skills FTEM'!G27,'Spiegazioni Skills FTEM'!C27)","v":"Possiede la necessaria fiducia in se stesso, «I can do it»-attitudine, sa valutare le proprie capacità (conosce i propri punti forti e deboli), può realizzare le proprie qualità con\ncostanza, è coraggioso e sa prendere dei rischi calcolati"},null,null,{"$f":"IF($H$2=\"G\",'Spiegazioni Skills FTEM'!#REF!,'Spiegazioni Skills FTEM'!#REF!)","v":{"$error":"#REF!"}},null,null,null,{"$f":"IFERROR(AVERAGE(O36:O40),\"-\")","v":"-"},null,{"$f":"IFERROR(AVERAGE(Q36:Q40),\"-\")","v":"-"},null,{"$f":"IFERROR(AVERAGE(S36:S40),\"-\")","v":"-"},null,{"$f":"IFERROR(AVERAGE(U36:U40),\"-\")","v":"-"},null,{"$f":"IFERROR(AVERAGE(W36:W40),\"-\")","v":"-"},null,{"$f":"IFERROR(AVERAGE(Y36:Y40),\"-\")","v":"-"}]
[{"$f":"'Spiegazioni Skills FTEM'!A28:A28","v":0},null,null,{"$f":"IF($H$2=\"G\",'Spiegazioni Skills FTEM'!F28,'Spiegazioni Skills FTEM'!B28)","v":"Capacità d'apprendimento"},null,null,{"$f":"IF($H$2=\"G\",'Spiegazioni Skills FTEM'!G28,'Spiegazioni Skills FTEM'!C28)","v":"Ha una buona capacità d'apprendimento (sa recepire e realizzare), possiede una personalità, cerca di imparare dai propri errori derivandone delle misure"},null,null,{"$f":"IF($H$2=\"G\",'Spiegazioni Skills FTEM'!#REF!,'Spiegazioni Skills FTEM'!#REF!)","v":{"$error":"#REF!"}}]
[null,null,null,{"$f":"IF($H$2=\"G\",'Spiegazioni Skills FTEM'!F29,'Spiegazioni Skills FTEM'!B29)","v":"Senso di responsabilità"},null,null,{"$f":"IF($H$2=\"G\",'Spiegazioni Skills FTEM'!G29,'Spiegazioni Skills FTEM'!C29)","v":"Assume responsabiltà per le proprie prestazioni e sviluppo, agisce autonomamente, cura i dettagli, mostra un grande impegno in tutti i settori"},null,null,{"$f":"IF($H$2=\"G\",'Spiegazioni Skills FTEM'!#REF!,'Spiegazioni Skills FTEM'!#REF!)","v":{"$error":"#REF!"}}]
[{"$f":"'Spiegazioni Skills FTEM'!A30:A30","v":0},null,null,{"$f":"IF($H$2=\"G\",'Spiegazioni Skills FTEM'!F30,'Spiegazioni Skills FTEM'!B30)","v":"Motivazione"},null,null,{"$f":"IF($H$2=\"G\",'Spiegazioni Skills FTEM'!G30,'Spiegazioni Skills FTEM'!C30)","v":"È sempre motivato, vuole sempre svilupparsi e imparare, vuol essere il primo e avere successo, non rinuncia mai e non si lascia influenzare dagli insuccessi"},null,null,{"$f":"IF($H$2=\"G\",'Spiegazioni Skills FTEM'!#REF!,'Spiegazioni Skills FTEM'!#REF!)","v":{"$error":"#REF!"}}]
[{"$f":"'Spiegazioni Skills FTEM'!A31:A31","v":0},null,null,{"$f":"IF($H$2=\"G\",'Spiegazioni Skills FTEM'!F31,'Spiegazioni Skills FTEM'!B31)","v":"Prestazione Stile di vita"},null,null,{"$f":"IF($H$2=\"G\",'Spiegazioni Skills FTEM'!G31,'Spiegazioni Skills FTEM'!C31)","v":"Gestisce bene la quotidianità il suo ambiente seguendo i principi della prestazione, caparbio, perseverante e finalizzato sugli obiettivi, focus sulla propria prestazione, coraggioso e grintoso, sa imporsi nei confronti delle resistenze, le sfide lo motivano"},null,null,{"$f":"IF($H$2=\"G\",'Spiegazioni Skills FTEM'!#REF!,'Spiegazioni Skills FTEM'!#REF!)","v":{"$error":"#REF!"}}]
[{"$f":"'Spiegazioni Skills FTEM'!A32","v":"FORZA MENTALE"},null,null,{"$f":"IF($H$2=\"G\",'Spiegazioni Skills FTEM'!F32,'Spiegazioni Skills FTEM'!B32)","v":"Impegno"},null,null,{"$f":"IF($H$2=\"G\",'Spiegazioni Skills FTEM'!G32,'Spiegazioni Skills FTEM'!C32)","v":"Mostra molta intensità negli allenamenti e nelle partite, dà sempre il massimo e vuole sempre spronare i propri limiti, mostra passione, si sforza ad alzare la qualità negli allenamenti"},null,null,{"$f":"IF($H$2=\"G\",'Spiegazioni Skills FTEM'!#REF!,'Spiegazioni Skills FTEM'!#REF!)","v":{"$error":"#REF!"}},null,null,null,{"$f":"IFERROR(AVERAGE(O41:O45),\"-\")","v":"-"},null,{"$f":"IFERROR(AVERAGE(Q41:Q45),\"-\")","v":"-"},null,{"$f":"IFERROR(AVERAGE(S41:S45),\"-\")","v":"-"},null,{"$f":"IFERROR(AVERAGE(U41:U45),\"-\")","v":"-"},null,{"$f":"IFERROR(AVERAGE(W41:W45),\"-\")","v":"-"},null,{"$f":"IFERROR(AVERAGE(Y41:Y45),\"-\")","v":"-"}]
[null,null,null,{"$f":"IF($H$2=\"G\",'Spiegazioni Skills FTEM'!F33,'Spiegazioni Skills FTEM'!B33)","v":"Preparazione"},null,null,{"$f":"IF($H$2=\"G\",'Spiegazioni Skills FTEM'!G33,'Spiegazioni Skills FTEM'!C33)","v":"Preparazione consapevole e finalizzata, mentalmente e fisicamente, possiede un efficiente approccio per l'ottenimento dell'ideale stato di prestazione (ILZ/ISP)"},null,null,{"$f":"IF($H$2=\"G\",'Spiegazioni Skills FTEM'!#REF!,'Spiegazioni Skills FTEM'!#REF!)","v":{"$error":"#REF!"}}]
[{"$f":"'Spiegazioni Skills FTEM'!A34:A34","v":0},null,null,{"$f":"IF($H$2=\"G\",'Spiegazioni Skills FTEM'!F34,'Spiegazioni Skills FTEM'!B34)","v":"Coaching individuale"},null,null,{"$f":"IF($H$2=\"G\",'Spiegazioni Skills FTEM'!G34,'Spiegazioni Skills FTEM'!C34)","v":"Possiede una buona capacità di concentrazione, può mantenere il suo ILZ/ISP durante la partita e l'allenamento, può utilizzare tecniche di base per rafforzare il mentale, resistenti contro pensieri e influenze negative, è consapevole del proprio linguaggio del corpo che è in grado di padroneggiare"},null,null,{"$f":"IF($H$2=\"G\",'Spiegazioni Skills FTEM'!#REF!,'Spiegazioni Skills FTEM'!#REF!)","v":{"$error":"#REF!"}}]
[{"$f":"'Spiegazioni Skills FTEM'!A35:A35","v":0},null,null,{"$f":"IF($H$2=\"G\",'Spiegazioni Skills FTEM'!F35,'Spiegazioni Skills FTEM'!B35)","v":"Gestione delle energie"},null,null,{"$f":"IF($H$2=\"G\",'Spiegazioni Skills FTEM'!G35,'Spiegazioni Skills FTEM'!C35)","v":"Può gestire le proprie energie, cura la rigenerazione, può gestire i momenti in cui si deve andare al massimo oppure risparmiarsi, interruttore on/off"},null,null,{"$f":"IF($H$2=\"G\",'Spiegazioni Skills FTEM'!#REF!,'Spiegazioni Skills FTEM'!#REF!)","v":{"$error":"#REF!"}}]
[{"$f":"'Spiegazioni Skills FTEM'!A36:A36","v":0},null,null,{"$f":"IF($H$2=\"G\",'Spiegazioni Skills FTEM'!F36,'Spiegazioni Skills FTEM'!B36)","v":"Controllo delle emozioni"},null,null,{"$f":"IF($H$2=\"G\",'Spiegazioni Skills FTEM'!G36,'Spiegazioni Skills FTEM'!C36)","v":"Può regolare le proprie emozioni e impulsi, mantiene il controllo quando si trova sotto pressione, sa anche agire adeguatamente in situazioni emotive o frustranti"},null,null,{"$f":"IF($H$2=\"G\",'Spiegazioni Skills FTEM'!#REF!,'Spiegazioni Skills FTEM'!#REF!)","v":{"$error":"#REF!"}}]
[{"$f":"'Spiegazioni Skills FTEM'!A37","v":"FISICO"},null,null,{"$f":"IF($H$2=\"G\",'Spiegazioni Skills FTEM'!F37,'Spiegazioni Skills FTEM'!B37)","v":"Produzione di prestazione"},null,null,{"$f":"IF($H$2=\"G\",'Spiegazioni Skills FTEM'!G37,'Spiegazioni Skills FTEM'!C37)","v":"Possiede nelle gambe e nella parte alta del corpo la necessaria potenza/forza/velocità (fattori neuromuscolari)"},null,null,{"$f":"IF($H$2=\"G\",'Spiegazioni Skills FTEM'!#REF!,'Spiegazioni Skills FTEM'!#REF!)","v":{"$error":"#REF!"}},null,null,null,{"$f":"IFERROR(AVERAGE(O46:O50),\"-\")","v":"-"},null,{"$f":"IFERROR(AVERAGE(Q46:Q50),\"-\")","v":"-"},null,{"$f":"IFERROR(AVERAGE(S46:S50),\"-\")","v":"-"},null,{"$f":"IFERROR(AVERAGE(U46:U50),\"-\")","v":"-"},null,{"$f":"IFERROR(AVERAGE(W46:W50),\"-\")","v":"-"},null,{"$f":"IFERROR(AVERAGE(Y46:Y50),\"-\")","v":"-"}]
[null,null,null,{"$f":"IF($H$2=\"G\",'Spiegazioni Skills FTEM'!F38,'Spiegazioni Skills FTEM'!B38)","v":"Resistenza specifica alla fatica"},null,null,{"$f":"IF($H$2=\"G\",'Spiegazioni Skills FTEM'!G38,'Spiegazioni Skills FTEM'!C38)","v":"È capace di mantenere a lungo nell'ambito di un impiego la potenza/forza/velocità ed è capace di recuperare completamente attraverso i vari impieghi sul ghiaccio (fattori metabolici e cardiovascolari)"},null,null,{"$f":"IF($H$2=\"G\",'Spiegazioni Skills FTEM'!#REF!,'Spiegazioni Skills FTEM'!#REF!)","v":{"$error":"#REF!"}}]
[{"$f":"'Spiegazioni Skills FTEM'!A39:A39","v":0},null,null,{"$f":"IF($H$2=\"G\",'Spiegazioni Skills FTEM'!F39,'Spiegazioni Skills FTEM'!B39)","v":"Salute / prevenzione"},null,null,{"$f":"IF($H$2=\"G\",'Spiegazioni Skills FTEM'!G39,'Spiegazioni Skills FTEM'!C39)","v":"Possiede la necessaria stabilità (stabilità delle gambe) e mobilità delle articolazioni centrali"},null,null,{"$f":"IF($H$2=\"G\",'Spiegazioni Skills FTEM'!#REF!,'Spiegazioni Skills FTEM'!#REF!)","v":{"$error":"#REF!"}}]
[{"$f":"'Spiegazioni Skills FTEM'!A40:A40","v":0},null,null,{"$f":"IF($H$2=\"G\",'Spiegazioni Skills FTEM'!F40,'Spiegazioni Skills FTEM'!B40)","v":"Competenze della mobilità"},null,null,{"$f":"IF($H$2=\"G\",'Spiegazioni Skills FTEM'!G40,'Spiegazioni Skills FTEM'!C40)","v":"Padroneggia le basilari capacità di movimento che garantiscono in modo determinante le abilità specifiche \"skills\", come pure l'efficacia dei movimenti"},null,null,{"$f":"IF($H$2=\"G\",'Spiegazioni Skills FTEM'!#REF!,'Spiegazioni Skills FTEM'!#REF!)","v":{"$error":"#REF!"}}]
[{"$f":"'Spiegazioni Skills FTEM'!A41:A41","v":0},null,null,{"$f":"IF($H$2=\"G\",'Spiegazioni Skills FTEM'!F41,'Spiegazioni Skills FTEM'!B41)","v":"Robustezza"},null,null,{"$f":"IF($H$2=\"G\",'Spiegazioni Skills FTEM'!G41,'Spiegazioni Skills FTEM'!C41)","v":"Possiede la necessaria forza di base (tensione del corpo) per vincere i duelli e resistere alle cariche"},null,null,{"$f":"IF($H$2=\"G\",'Spiegazioni Skills FTEM'!#REF!,'Spiegazioni Skills FTEM'!#REF!)","v":{"$error":"#REF!"}}]

{"sheet":"11","index":14,"n_rows":50,"n_cols":36,"rows_kept":50,"cut":false,"hidden":false,"merged":[[45,34,49,34],[45,12,49,12],[45,13,49,13],[45,15,49,15],[45,17,49,17],[45,19,49,19],[45,21,49,21],[45,23,49,23],[45,25,49,25],[45,26,49,32],[45,0,49,2],[45,3,45,5],[45,6,45,11],[46,3,46,5],[46,6,46,11],[48,3,48,5],[48,6,48,11],[49,3,49,5],[49,6,49,11],[47,3,47,5],[47,6,47,11],[40,23,44,23],[42,3,42,5],[42,6,42,11],[44,3,44,5],[44,6,44,11],[40,0,44,2],[40,3,40,5],[40,6,40,11],[40,12,44,12],[40,13,44,13],[40,15,44,15],[43,3,43,5],[43,6,43,11],[34,21,34,22],[35,17,39,17],[35,19,39,19],[35,21,39,21],[37,3,37,5],[37,6,37,11],[38,3,38,5],[38,6,38,11],[40,17,44,17],[40,19,44,19],[40,21,44,21],[36,3,36,5],[36,6,36,11],[41,3,41,5],[41,6,41,11],[29,0,33,2],[29,3,29,5],[29,6,29,11],[29,12,33,12],[29,13,33,13],[29,15,33,15],[34,23,34,24],[34,26,34,32],[35,0,39,2],[35,3,35,5],[35,6,35,11],[35,12,39,12],[35,13,39,13],[35,15,39,15],[39,3,39,5],[39,6,39,11],[35,23,39,23],[34,0,34,2],[34,3,34,5],[34,6,34,11],[34,13,34,14],[34,15,34,16],[34,17,34,18],[34,19,34,20],[23,19,28,19],[23,21,28,21],[23,23,28,23],[26,3,26,5],[26,6,26,11],[28,3,28,5],[28,6,28,11],[33,3,33,5],[33,6,33,11],[29,23,33,23],[29,17,33,17],[29,19,33,19],[29,21,33,21],[31,3,31,5],[31,6,31,11],[32,3,32,5],[32,6,32,11],[27,3,27,5],[27,6,27,11],[25,3,25,5],[25,6,25,11],[30,3,30,5],[30,6,30,11],[12,21,16,21],[18,15,22,15],[18,17,22,17],[18,19,22,19],[18,21,22,21],[18,23,22,23],[22,3,22,5],[22,6,22,11],[23,0,28,2],[23,3,23,5],[23,6,23,11],[23,12,28,12],[23,13,28,13],[23,15,28,15],[23,17,28,17],[18,0,22,2],[18,3,18,5],[18,6,18,11],[18,12,22,12],[18,13,22,13],[19,3,19,5],[19,6,19,11],[21,3,21,5],[21,6,21,11],[11,21,11,22],[11,23,11,24],[11,26,11,32],[11,6,11,11],[12,23,16,23],[16,3,16,5],[16,6,16,11],[17,0,17,2],[17,3,17,5],[17,6,17,11],[17,13,17,14],[17,15,17,16],[17,17,17,18],[17,19,17,20],[17,21,17,22],[17,23,17,24],[12,0,16,2],[12,3,12,5],[12,6,12,11],[12,12,16,12],[12,13,16,13],[12,15,16,15],[12,17,16,17],[12,19,16,19],[4,0,4,1],[4,2,4,5],[4,10,4,24],[10,0,10,24],[10,25,10,35],[40,25,44,25],[40,26,44,32],[40,34,44,34],[12,25,16,25],[12,26,16,32],[12,34,16,34],[18,25,22,25],[18,26,22,32],[18,34,22,34],[23,25,28,25],[23,26,28,32],[23,34,28,34],[17,26,17,32],[11,0,11,2],[11,3,11,5],[11,13,11,14],[11,15,11,16],[11,17,11,18],[11,19,11,20],[0,0,0,24],[0,25,0,26],[0,27,0,32],[0,33,0,35],[29,25,33,25],[29,26,33,32],[29,34,33,34],[35,25,39,25],[35,26,39,32],[35,34,39,34],[1,0,1,1],[1,2,1,5],[1,10,1,24],[2,0,2,1],[2,2,2,5],[2,11,2,24],[6,0,6,1],[6,2,6,35],[7,0,7,1],[7,2,7,35],[8,0,8,1],[8,2,8,35],[3,0,3,1],[3,10,3,24],[13,3,13,5],[13,6,13,11],[14,3,14,5],[14,6,14,11],[15,3,15,5],[15,6,15,11],[20,3,20,5],[20,6,20,11],[24,3,24,5],[24,6,24,11]]}
["Personalien",null,null,null,null,null,null,null,null,null,null,null,null,null,null,null,null,null,null,null,null,null,null,null,null,"Predisposizione",null,"Valutazioni",null,null,null,null,null,"Rating"]
["COGNOME",null,{"$f":"IF(ISBLANK(VLOOKUP(11,Tabelle3[],3,0)),\"-\",VLOOKUP(11,Tabelle3[],3,0))","v":"-"},null,null,null,"POSIZIONE",null,null,"INDIRIZZO",{"$f":"IF(ISBLANK(VLOOKUP(11,Tabelle3[],5,0)),\"-\",VLOOKUP(11,Tabelle3[],5,0))","v":"-"},null,null,null,null,null,null,null,null,null,null,null,null,null,null,"Età\" (biologica/età relativa)",null,"Data 1",null,null,"cm",null,"Kg",null,"ECCELLENTE",5]
["NOME",null,{"$f":"IF(ISBLANK(VLOOKUP(11,Tabelle3[],2,0)),\"-\",VLOOKUP(11,Tabelle3[],2,0))","v":"-"},null,null,null,"BASTONE",null,null,"LUOGO",{"$f":"IF(ISBLANK(VLOOKUP(11,Tabelle3[],7,0)),\"-\",VLOOKUP(11,Tabelle3[],7,0))","v":"-"},{"$f":"IF(ISBLANK(VLOOKUP(11,Tabelle3[],6,0)),\"-\",VLOOKUP(11,Tabelle3[],6,0))","v":"-"},null,null,null,null,null,null,null,null,null,null,null,null,null,"Predisposizione",null,"Data 2",null,null,"cm",null,"Kg",null,"BUONO",4]
["DATA DI NASC.",null,{"$f":"IF(ISBLANK(VLOOKUP(11,Tabelle3[],14,0)),\"-\",VLOOKUP(11,Tabelle3[],14,0))","v":"-"},{"$f":"IF(ISBLANK(VLOOKUP(11,Tabelle3[],15,0)),\"-\",VLOOKUP(11,Tabelle3[],15,0))","v":"-"},{"$f":"IF(ISBLANK(VLOOKUP(11,Tabelle3[],16,0)),\"-\",VLOOKUP(11,Tabelle3[],16,0))","v":"-"},null,"ALTEZZA",null,"cm (Finale)","TELEFONO",{"$f":"IF(ISBLANK(VLOOKUP(11,Tabelle3[],8,0)),\"-\",VLOOKUP(11,Tabelle3[],8,0))","v":"-"},null,null,null,null,null,null,null,null,null,null,null,null,null,null,"Ambiente di vita",null,"Data 3",null,null,"cm",null,"Kg",null,"MEDIO/DISCRETO",3]
["SESSO",null,{"$f":"IF(ISBLANK(VLOOKUP(11,Tabelle3[],13,0)),\"-\",VLOOKUP(11,Tabelle3[],13,0))","v":"-"},null,null,null,"PESO",null,"Kg (Finale)","E-Mail",{"$f":"IF(ISBLANK(VLOOKUP(11,Tabelle3[],9,0)),\"-\",VLOOKUP(11,Tabelle3[],9,0))","v":"-"},null,null,null,null,null,null,null,null,null,null,null,null,null,null,null,null,"Data 4",null,null,"cm",null,"Kg",null,"CON LACUNE",2]
[null,null,null,null,null,null,null,null,null,null,null,null,null,null,null,null,null,null,null,null,null,null,null,null,null,null,null,"Data 5",null,null,"cm",null,"Kg",null,"INSUFFICIENTE",1]
["Visione",null,"xxx"]
["Prossimo passo",null,"xxx"]
["Proflio giocatore",null,"xxx"]
[]
["VALUTAZIONI (COACH / GIOCATORE)",null,null,null,null,null,null,null,null,null,null,null,null,null,null,null,null,null,null,null,null,null,null,null,null,"Obiettivi SMART"]
[{"$f":"'Spiegazioni Skills FTEM'!A3","v":"TEAM"},null,null,{"$f":"'Spiegazioni Skills FTEM'!B3","v":"CAPACITÀ"},null,null,{"$f":"'Spiegazioni Skills FTEM'!C3","v":"CRITERIO D'OSSERVAZIONE"},null,null,{"$f":"'Spiegazioni Skills FTEM'!H3","v":0},null,null,"Final","Data1",null,"Data2",null,"Data3",null,"Data4",null,"Data5",null,"Player",null,"OBIETTIVO","PROVVEDIMENTI:\n(SPECIFICI, MISURABILI, REALISTICI)",null,null,null,null,null,null,"TERMINE","COTROLLO DELL'OBIETTIVO","Data"]
[{"$f":"'Spiegazioni Skills FTEM'!A4","v":"SQUADRA"},null,null,{"$f":"IF($H$2=\"G\",'Spiegazioni Skills FTEM'!F4,'Spiegazioni Skills FTEM'!B4)","v":"Comunicazione"},null,null,{"$f":"IF($H$2=\"G\",'Spiegazioni Skills FTEM'!G4,'Spiegazioni Skills FTEM'!C4)","v":"Cura relazioni aperte e rispettose, fiducia quale base comportamentale, affronta i conflitti senza ledere la stabilità del gruppo, comunica con i compagni, gli allenatori e\nfunzionari con i medesimi valori"},null,null,{"$f":"IF($H$2=\"G\",'Spiegazioni Skills FTEM'!#REF!,'Spiegazioni Skills FTEM'!#REF!)","v":{"$error":"#REF!"}},null,null,null,{"$f":"IFERROR(AVERAGE(O13:O17),\"-\")","v":"-"},null,{"$f":"IFERROR(AVERAGE(Q13:Q17),\"-\")","v":"-"},null,{"$f":"IFERROR(AVERAGE(S13:S17),\"-\")","v":"-"},null,{"$f":"IFERROR(AVERAGE(U13:U17),\"-\")","v":"-"},null,{"$f":"IFERROR(AVERAGE(W13:W17),\"-\")","v":"-"},null,{"$f":"IFERROR(AVERAGE(Y13:Y17),\"-\")","v":"-"}]
[{"$f":"'Spiegazioni Skills FTEM'!A5","v":0},null,null,{"$f":"IF($H$2=\"G\",'Spiegazioni Skills FTEM'!F5,'Spiegazioni Skills FTEM'!B5)","v":"Capacità nella squadra"},null,null,{"$f":"IF($H$2=\"G\",'Spiegazioni Skills FTEM'!G5,'Spiegazioni Skills FTEM'!C5)","v":"Integrazione nel gruppo, definisce e realizza obiettivi comuni, NOI prima dell'IO, contribuisce a creare un buon spirito di squadra e clima di lavoro"},null,null,{"$f":"IF($H$2=\"G\",'Spiegazioni Skills FTEM'!#REF!,'Spiegazioni Skills FTEM'!#REF!)","v":{"$error":"#REF!"}}]
[{"$f":"'Spiegazioni Skills FTEM'!A6","v":0},null,null,{"$f":"IF($H$2=\"G\",'Spiegazioni Skills FTEM'!F6,'Spiegazioni Skills FTEM'!B6)","v":"Leadership"},null,null,{"$f":"IF($H$2=\"G\",'Spiegazioni Skills FTEM'!G6,'Spiegazioni Skills FTEM'!C6)","v":"Assume responsabilità nell'ambito del gruppo, cerca di migliorare la squadra e i compagni, influenza positivamente la dinamica di gruppo"},null,null,{"$f":"IF($H$2=\"G\",'Spiegazioni Skills FTEM'!#REF!,'Spiegazioni Skills FTEM'!#REF!)","v":{"$error":"#REF!"}}]
[{"$f":"'Spiegazioni Skills FTEM'!A7","v":0},null,null,{"$f":"IF($H$2=\"G\",'Spiegazioni Skills FTEM'!F7,'Spiegazioni Skills FTEM'!B7)","v":"Ripartizione dei ruoli"},null,null,{"$f":"IF($H$2=\"G\",'Spiegazioni Skills FTEM'!G7,'Spiegazioni Skills FTEM'!C7)","v":"Riconosce e adempie il suo ruolo, è cosciente della sua posizione nel sistema e nella squadra, mette a disposizione della squadra le sue competenze"},null,null,{"$f":"IF($H$2=\"G\",'Spiegazioni Skills FTEM'!#REF!,'Spiegazioni Skills FTEM'!#REF!)","v":{"$error":"#REF!"}}]
[{"$f":"'Spiegazioni Skills FTEM'!A8","v":0},null,null,{"$f":"IF($H$2=\"G\",'Spiegazioni Skills FTEM'!F8,'Spiegazioni Skills FTEM'!B8)","v":"Rispetto"},null,null,{"$f":"IF($H$2=\"G\",'Spiegazioni Skills FTEM'!G8,'Spiegazioni Skills FTEM'!C8)","v":"Relazioni rispettose con i compagni, allenatori, avversari, arbitri e staff; rispetta le regole i pricipi del fairplay (compreso la lotta al doping)"},null,null,{"$f":"IF($H$2=\"G\",'Spiegazioni Skills FTEM'!#REF!,'Spiegazioni Skills FTEM'!#REF!)","v":{"$error":"#REF!"}}]
[{"$f":"'Spiegazioni Skills FTEM'!A9","v":"ON ICE"},null,null,{"$f":"'Spiegazioni Skills FTEM'!B9","v":"CAPACITÀ"},null,null,{"$f":"'Spiegazioni Skills FTEM'!C9","v":"CRITERIO D'OSSERVAZIONE"},null,null,{"$f":"'Spiegazioni Skills FTEM'!H9","v":0},null,null,null,"Data1",null,"Data2",null,"Data3",null,"Data4",null,"Data5",null,"Player",null,"OBIETTIVO","PROVVEDIMENTI:\n(SPECIFICI, MISURABILI, REALISTICI)",null,null,null,null,null,null,"TERMINE","COTROLLO DELL'OBIETTIVO","Date"]
[{"$f":"'Spiegazioni Skills FTEM'!A10","v":"PATTINAGGIO"},null,null,{"$f":"IF($H$2=\"G\",'Spiegazioni Skills FTEM'!F10,'Spiegazioni Skills FTEM'!B10)","v":"Velocità dei piedi"},null,null,{"$f":"IF($H$2=\"G\",'Spiegazioni Skills FTEM'!G10,'Spiegazioni Skills FTEM'!C10)","v":"Accelerazione, partenza, esplosività dei primi 3 passi, frequenza"},null,null,{"$f":"IF($H$2=\"G\",'Spiegazioni Skills FTEM'!#REF!,'Spiegazioni Skills FTEM'!#REF!)","v":{"$error":"#REF!"}},null,null,null,{"$f":"IFERROR(AVERAGE(O19:O23),\"-\")","v":"-"},null,{"$f":"IFERROR(AVERAGE(Q19:Q23),\"-\")","v":"-"},null,{"$f":"IFERROR(AVERAGE(S19:S23),\"-\")","v":"-"},null,{"$f":"IFERROR(AVERAGE(U19:U23),\"-\")","v":"-"},null,{"$f":"IFERROR(AVERAGE(W19:W23),\"-\")","v":"-"},null,{"$f":"IFERROR(AVERAGE(Y19:Y23),\"-\")","v":"-"}]
[{"$f":"'Spiegazioni Skills FTEM'!A11:A11","v":0},null,null,{"$f":"IF($H$2=\"G\",'Spiegazioni Skills FTEM'!F11,'Spiegazioni Skills FTEM'!B11)","v":"Velocità/rapidità"},null,null,{"$f":"IF($H$2=\"G\",'Spiegazioni Skills FTEM'!G11,'Spiegazioni Skills FTEM'!C11)","v":"Velocità, facoltà di scivolare, avanti / indietro, economia dello sforzo"},null,null,{"$f":"IF($H$2=\"G\",'Spiegazioni Skills FTEM'!#REF!,'Spiegazioni Skills FTEM'!#REF!)","v":{"$error":"#REF!"}}]
[null,null,null,{"$f":"IF($H$2=\"G\",'Spiegazioni Skills FTEM'!F12,'Spiegazioni Skills FTEM'!B12)","v":"Agilità"},null,null,{"$f":"IF($H$2=\"G\",'Spiegazioni Skills FTEM'!G12,'Spiegazioni Skills FTEM'!C12)","v":"Cambiamento di direzione, girarsi, stop e ripartenza, \"Nummelin\""},null,null,{"$f":"IF($H$2=\"G\",'Spiegazioni Skills FTEM'!#REF!,'Spiegazioni Skills FTEM'!#REF!)","v":{"$error":"#REF!"}}]
[{"$f":"'Spiegazioni Skills FTEM'!A12:A12","v":0},null,null,{"$f":"IF($H$2=\"G\",'Spiegazioni Skills FTEM'!F13,'Spiegazioni Skills FTEM'!B13)","v":"Equilibrio"},null,null,{"$f":"IF($H$2=\"G\",'Spiegazioni Skills FTEM'!G13,'Spiegazioni Skills FTEM'!C13)","v":"Equilibrio, stabilità, posizione bassa, su una gamba, su entrambe"},null,null,{"$f":"IF($H$2=\"G\",'Spiegazioni Skills FTEM'!#REF!,'Spiegazioni Skills FTEM'!#REF!)","v":{"$error":"#REF!"}},null,null,null,{"$f":"IFERROR(AVERAGE(O22:O23),\"-\")","v":"-"},null,{"$f":"IFERROR(AVERAGE(Q22:Q23),\"-\")","v":"-"},null,{"$f":"IFERROR(AVERAGE(S22:S23),\"-\")","v":"-"},null,{"$f":"IFERROR(AVERAGE(U22:U23),\"-\")","v":"-"},null,{"$f":"IFERROR(AVERAGE(W22:W23),\"-\")","v":"-"},null,"-"]
[{"$f":"'Spiegazioni Skills FTEM'!A14:A14","v":0},null,null,{"$f":"IF($H$2=\"G\",'Spiegazioni Skills FTEM'!F14,'Spiegazioni Skills FTEM'!B14)","v":"Pattinaggio indietro"},null,null,{"$f":"IF($H$2=\"G\",'Spiegazioni Skills FTEM'!G14,'Spiegazioni Skills FTEM'!C14)","v":"Accelerazione, velocità, equilibrio"},null,null,{"$f":"IF($H$2=\"G\",'Spiegazioni Skills FTEM'!#REF!,'Spiegazioni Skills FTEM'!#REF!)","v":{"$error":"#REF!"}}]
[{"$f":"'Spiegazioni Skills FTEM'!A15","v":"ABILITÀ"},null,null,{"$f":"IF($H$2=\"G\",'Spiegazioni Skills FTEM'!F15,'Spiegazioni Skills FTEM'!B15)","v":"Tirare"},null,null,{"$f":"IF($H$2=\"G\",'Spiegazioni Skills FTEM'!G15,'Spiegazioni Skills FTEM'!C15)","v":"Efficienza (poco spazio, poco tempo), ricchezza di varianti, grado di sorpresa (Quick Release), precisione, potenza (conclusioni tattiche)"},null,null,{"$f":"IF($H$2=\"G\",'Spiegazioni Skills FTEM'!#REF!,'Spiegazioni Skills FTEM'!#REF!)","v":{"$error":"#REF!"}},null,null,null,{"$f":"IFERROR(AVERAGE(O24:O29),\"-\")","v":"-"},null,{"$f":"IFERROR(AVERAGE(Q24:Q29),\"-\")","v":"-"},null,{"$f":"IFERROR(AVERAGE(S24:S29),\"-\")","v":"-"},null,{"$f":"IFERROR(AVERAGE(U24:U29),\"-\")","v":"-"},null,{"$f":"IFERROR(AVERAGE(W24:W29),\"-\")","v":"-"},null,{"$f":"IFERROR(AVERAGE(Y24:Y29),\"-\")","v":"-"}]
[null,null,null,{"$f":"IF($H$2=\"G\",'Spiegazioni Skills FTEM'!F16,'Spiegazioni Skills FTEM'!B16)","v":"Passare"},null,null,{"$f":"IF($H$2=\"G\",'Spiegazioni Skills FTEM'!G16,'Spiegazioni Skills FTEM'!C16)","v":"Passaggio (distanza, flipp, rovescio), ricezione del passaggio (precisione, timing, diritto, rovescio, sul pattino), velocità del disco"},null,null,{"$f":"IF($H$2=\"G\",'Spiegazioni Skills FTEM'!#REF!,'Spiegazioni Skills FTEM'!#REF!)","v":{"$error":"#REF!"}}]
[null,null,null,{"$f":"IF($H$2=\"G\",'Spiegazioni Skills FTEM'!F17,'Spiegazioni Skills FTEM'!B17)","v":"Lavoro col bastone - condotta del disco"},null,null,{"$f":"IF($H$2=\"G\",'Spiegazioni Skills FTEM'!G17,'Spiegazioni Skills FTEM'!C17)","v":"Bastone sul disco, intercettare le linee di passaggio, deviare, controllo del bastone avversario"},null,null,{"$f":"IF($H$2=\"G\",'Spiegazioni Skills FTEM'!#REF!,'Spiegazioni Skills FTEM'!#REF!)","v":{"$error":"#REF!"}}]
[{"$f":"'Spiegazioni Skills FTEM'!A16:A16","v":0},null,null,{"$f":"IF($H$2=\"G\",'Spiegazioni Skills FTEM'!F18,'Spiegazioni Skills FTEM'!B18)","v":"Possedere/proteggere il disco"},null,null,{"$f":"IF($H$2=\"G\",'Spiegazioni Skills FTEM'!G18,'Spiegazioni Skills FTEM'!C18)","v":"Controllo del disco, dribbling, protezione del disco, finte (varianti col pattino, con o senza la balaustra), ingaggi (face-off)"},null,null,{"$f":"IF($H$2=\"G\",'Spiegazioni Skills FTEM'!#REF!,'Spiegazioni Skills FTEM'!#REF!)","v":{"$error":"#REF!"}}]
[{"$f":"'Spiegazioni Skills FTEM'!A17:A17","v":0},null,null,{"$f":"IF($H$2=\"G\",'Spiegazioni Skills FTEM'!F19,'Spiegazioni Skills FTEM'!B19)","v":"Gioco del corpo"},null,null,{"$f":"IF($H$2=\"G\",'Spiegazioni Skills FTEM'!G19,'Spiegazioni Skills FTEM'!C19)","v":"Facoltà di imporsi fisicamente, duelli (ghiaccio aperto, balaustra), subire dei checks/testa alta, livello di lotta, duro ma corretto, blocco dei tiri con il corpo"},null,null,{"$f":"IF($H$2=\"G\",'Spiegazioni Skills FTEM'!#REF!,'Spiegazioni Skills FTEM'!#REF!)","v":{"$error":"#REF!"}}]
[{"$f":"'Spiegazioni Skills FTEM'!A20:A20","v":0},null,null,{"$f":"IF($H$2=\"G\",'Spiegazioni Skills FTEM'!F20,'Spiegazioni Skills FTEM'!B20)","v":"-"},null,null,{"$f":"IF($H$2=\"G\",'Spiegazioni Skills FTEM'!G20,'Spiegazioni Skills FTEM'!C20)","v":"-"},null,null,{"$f":"IF($H$2=\"G\",'Spiegazioni Skills FTEM'!#REF!,'Spiegazioni Skills FTEM'!#REF!)","v":{"$error":"#REF!"}}]
[{"$f":"'Spiegazioni Skills FTEM'!A21","v":"SENSO DELL'HOCKEY"},null,null,{"$f":"IF($H$2=\"G\",'Spiegazioni Skills FTEM'!F21,'Spiegazioni Skills FTEM'!B21)","v":"Intelligenza nel gioco"},null,null,{"$f":"IF($H$2=\"G\",'Spiegazioni Skills FTEM'!G21,'Spiegazioni Skills FTEM'!C21)","v":"Vedere spazi e giocatori liberi, creare situazioni di superiorità numerica, agire cercando soluzioni in tutte le situazioni, velocità di visualizzazione"},null,null,{"$f":"IF($H$2=\"G\",'Spiegazioni Skills FTEM'!#REF!,'Spiegazioni Skills FTEM'!#REF!)","v":{"$error":"#REF!"}},null,null,null,{"$f":"IFERROR(AVERAGE(O30:O34),\"-\")","v":"-"},null,{"$f":"IFERROR(AVERAGE(Q30:Q34),\"-\")","v":"-"},null,{"$f":"IFERROR(AVERAGE(S30:S34),\"-\")","v":"-"},null,{"$f":"IFERROR(AVERAGE(U30:U34),\"-\")","v":"-"},null,{"$f":"IFERROR(AVERAGE(W30:W34),\"-\")","v":"-"},null,{"$f":"IFERROR(AVERAGE(Y30:Y34),\"-\")","v":"-"}]
[{"$f":"'Spiegazioni Skills FTEM'!A22:A22","v":0},null,null,{"$f":"IF($H$2=\"G\",'Spiegazioni Skills FTEM'!F22,'Spiegazioni Skills FTEM'!B22)","v":"Sensibilità offensiva"},null,null,{"$f":"IF($H$2=\"G\",'Spiegazioni Skills FTEM'!G22,'Spiegazioni Skills FTEM'!C22)","v":"Smarcarsi, anticipare le situazioni di gioco, aprire spazi liberi per i compagni, piazzarsi per le conclusioni, velocità nel chiudere gli spazi (pressione), comunicazione"},null,null,{"$f":"IF($H$2=\"G\",'Spiegazioni Skills FTEM'!#REF!,'Spiegazioni Skills FTEM'!#REF!)","v":{"$error":"#REF!"}}]
[null,null,null,{"$f":"IF($H$2=\"G\",'Spiegazioni Skills FTEM'!F23,'Spiegazioni Skills FTEM'!B23)","v":"Sensibilità difensiva"},null,null,{"$f":"IF($H$2=\"G\",'Spiegazioni Skills FTEM'!G23,'Spiegazioni Skills FTEM'!C23)","v":"Mantenere la posizione difensiva, protezione dello slot, assicurare i compagni / supporto, individuare le linee di passaggio, bloccare i tiri, ridurre velocemente gli spazi, comunicazione"},null,null,{"$f":"IF($H$2=\"G\",'Spiegazioni Skills FTEM'!#REF!,'Spiegazioni Skills FTEM'!#REF!)","v":{"$error":"#REF!"}}]
[{"$f":"'Spiegazioni Skills FTEM'!A24:A24","v":0},null,null,{"$f":"IF($H$2=\"G\",'Spiegazioni Skills FTEM'!F24,'Spiegazioni Skills FTEM'!B24)","v":"Gestione del disco"},null,null,{"$f":"IF($H$2=\"G\",'Spiegazioni Skills FTEM'!G24,'Spiegazioni Skills FTEM'!C24)","v":"Prendere decisioni adeguate nelle situazioni di gioco, supporto, creare superiorità numerica"},null,null,{"$f":"IF($H$2=\"G\",'Spiegazioni Skills FTEM'!#REF!,'Spiegazioni Skills FTEM'!#REF!)","v":{"$error":"#REF!"}}]
[{"$f":"'Spiegazioni Skills FTEM'!A25:A25","v":0},null,null,{"$f":"IF($H$2=\"G\",'Spiegazioni Skills FTEM'!F25,'Spiegazioni Skills FTEM'!B25)","v":"Creatività"},null,null,{"$f":"IF($H$2=\"G\",'Spiegazioni Skills FTEM'!G25,'Spiegazioni Skills FTEM'!C25)","v":"Creare situazioni a sorpresa, fiuto del gol"},null,null,{"$f":"IF($H$2=\"G\",'Spiegazioni Skills FTEM'!#REF!,'Spiegazioni Skills FTEM'!#REF!)","v":{"$error":"#REF!"}}]
[{"$f":"'Spiegazioni Skills FTEM'!A26","v":"PERSONALITY"},null,null,{"$f":"'Spiegazioni Skills FTEM'!B26","v":"CAPACITÀ"},null,null,{"$f":"'Spiegazioni Skills FTEM'!C26","v":"CRITERIO D'OSSERVAZIONE"},null,null,{"$f":"'Spiegazioni Skills FTEM'!H26","v":0},null,null,null,"Data1",null,"Data2",null,"Data3",null,"Data4",null,"Data5",null,"Player",null,"OBIETTIVO","PROVVEDIMENTI:\n(SPECIFICI, MISURABILI, REALISTICI)",null,null,null,null,null,null,"TERMINE","COTROLLO DELL'OBIETTIVO","Date"]
[{"$f":"'Spiegazioni Skills FTEM'!A27","v":"PERSONALITÀ"},null,null,{"$f":"IF($H$2=\"G\",'Spiegazioni Skills FTEM'!F27,'Spiegazioni Skills FTEM'!B27)","v":"Fiducia in se stesso"},null,null,{"$f":"IF($H$2=\"G\",'Spiegazioni Skills FTEM'!G27,'Spiegazioni Skills FTEM'!C27)","v":"Possiede la necessaria fiducia in se stesso, «I can do it»-attitudine, sa valutare le proprie capacità (conosce i propri punti forti e deboli), può realizzare le proprie qualità con\ncostanza, è coraggioso e sa prendere dei rischi calcolati"},null,null,{"$f":"IF($H$2=\"G\",'Spiegazioni Skills FTEM'!#REF!,'Spiegazioni Skills FTEM'!#REF!)","v":{"$error":"#REF!"}},null,null,null,{"$f":"IFERROR(AVERAGE(O36:O40),\"-\")","v":"-"},null,{"$f":"IFERROR(AVERAGE(Q36:Q40),\"-\")","v":"-"},null,{"$f":"IFERROR(AVERAGE(S36:S40),\"-\")","v":"-"},null,{"$f":"IFERROR(AVERAGE(U36:U40),\"-\")","v":"-"},null,{"$f":"IFERROR(AVERAGE(W36:W40),\"-\")","v":"-"},null,{"$f":"IFERROR(AVERAGE(Y36:Y40),\"-\")","v":"-"}]
[{"$f":"'Spiegazioni Skills FTEM'!A28:A28","v":0},null,null,{"$f":"IF($H$2=\"G\",'Spiegazioni Skills FTEM'!F28,'Spiegazioni Skills FTEM'!B28)","v":"Capacità d'apprendimento"},null,null,{"$f":"IF($H$2=\"G\",'Spiegazioni Skills FTEM'!G28,'Spiegazioni Skills FTEM'!C28)","v":"Ha una buona capacità d'apprendimento (sa recepire e realizzare), possiede una personalità, cerca di imparare dai propri errori derivandone delle misure"},null,null,{"$f":"IF($H$2=\"G\",'Spiegazioni Skills FTEM'!#REF!,'Spiegazioni Skills FTEM'!#REF!)","v":{"$error":"#REF!"}}]
[null,null,null,{"$f":"IF($H$2=\"G\",'Spiegazioni Skills FTEM'!F29,'Spiegazioni Skills FTEM'!B29)","v":"Senso di responsabilità"},null,null,{"$f":"IF($H$2=\"G\",'Spiegazioni Skills FTEM'!G29,'Spiegazioni Skills FTEM'!C29)","v":"Assume responsabiltà per le proprie prestazioni e sviluppo, agisce autonomamente, cura i dettagli, mostra un grande impegno in tutti i settori"},null,null,{"$f":"IF($H$2=\"G\",'Spiegazioni Skills FTEM'!#REF!,'Spiegazioni Skills FTEM'!#REF!)","v":{"$error":"#REF!"}}]
[{"$f":"'Spiegazioni Skills FTEM'!A30:A30","v":0},null,null,{"$f":"IF($H$2=\"G\",'Spiegazioni Skills FTEM'!F30,'Spiegazioni Skills FTEM'!B30)","v":"Motivazione"},null,null,{"$f":"IF($H$2=\"G\",'Spiegazioni Skills FTEM'!G30,'Spiegazioni Skills FTEM'!C30)","v":"È sempre motivato, vuole sempre svilupparsi e imparare, vuol essere il primo e avere successo, non rinuncia mai e non si lascia influenzare dagli insuccessi"},null,null,{"$f":"IF($H$2=\"G\",'Spiegazioni Skills FTEM'!#REF!,'Spiegazioni Skills FTEM'!#REF!)","v":{"$error":"#REF!"}}]
[{"$f":"'Spiegazioni Skills FTEM'!A31:A31","v":0},null,null,{"$f":"IF($H$2=\"G\",'Spiegazioni Skills FTEM'!F31,'Spiegazioni Skills FTEM'!B31)","v":"Prestazione Stile di vita"},null,null,{"$f":"IF($H$2=\"G\",'Spiegazioni Skills FTEM'!G31,'Spiegazioni Skills FTEM'!C31)","v":"Gestisce bene la quotidianità il suo ambiente seguendo i principi della prestazione, caparbio, perseverante e finalizzato sugli obiettivi, focus sulla propria prestazione, coraggioso e grintoso, sa imporsi nei confronti delle resistenze, le sfide lo motivano"},null,null,{"$f":"IF($H$2=\"G\",'Spiegazioni Skills FTEM'!#REF!,'Spiegazioni Skills FTEM'!#REF!)","v":{"$error":"#REF!"}}]
[{"$f":"'Spiegazioni Skills FTEM'!A32","v":"FORZA MENTALE"},null,null,{"$f":"IF($H$2=\"G\",'Spiegazioni Skills FTEM'!F32,'Spiegazioni Skills FTEM'!B32)","v":"Impegno"},null,null,{"$f":"IF($H$2=\"G\",'Spiegazioni Skills FTEM'!G32,'Spiegazioni Skills FTEM'!C32)","v":"Mostra molta intensità negli allenamenti e nelle partite, dà sempre il massimo e vuole sempre spronare i propri limiti, mostra passione, si sforza ad alzare la qualità negli allenamenti"},null,null,{"$f":"IF($H$2=\"G\",'Spiegazioni Skills FTEM'!#REF!,'Spiegazioni Skills FTEM'!#REF!)","v":{"$error":"#REF!"}},null,null,null,{"$f":"IFERROR(AVERAGE(O41:O45),\"-\")","v":"-"},null,{"$f":"IFERROR(AVERAGE(Q41:Q45),\"-\")","v":"-"},null,{"$f":"IFERROR(AVERAGE(S41:S45),\"-\")","v":"-"},null,{"$f":"IFERROR(AVERAGE(U41:U45),\"-\")","v":"-"},null,{"$f":"IFERROR(AVERAGE(W41:W45),\"-\")","v":"-"},null,{"$f":"IFERROR(AVERAGE(Y41:Y45),\"-\")","v":"-"}]
[null,null,null,{"$f":"IF($H$2=\"G\",'Spiegazioni Skills FTEM'!F33,'Spiegazioni Skills FTEM'!B33)","v":"Preparazione"},null,null,{"$f":"IF($H$2=\"G\",'Spiegazioni Skills FTEM'!G33,'Spiegazioni Skills FTEM'!C33)","v":"Preparazione consapevole e finalizzata, mentalmente e fisicamente, possiede un efficiente approccio per l'ottenimento dell'ideale stato di prestazione (ILZ/ISP)"},null,null,{"$f":"IF($H$2=\"G\",'Spiegazioni Skills FTEM'!#REF!,'Spiegazioni Skills FTEM'!#REF!)","v":{"$error":"#REF!"}}]
[{"$f":"'Spiegazioni Skills FTEM'!A34:A34","v":0},null,null,{"$f":"IF($H$2=\"G\",'Spiegazioni Skills FTEM'!F34,'Spiegazioni Skills FTEM'!B34)","v":"Coaching individuale"},null,null,{"$f":"IF($H$2=\"G\",'Spiegazioni Skills FTEM'!G34,'Spiegazioni Skills FTEM'!C34)","v":"Possiede una buona capacità di concentrazione, può mantenere il suo ILZ/ISP durante la partita e l'allenamento, può utilizzare tecniche di base per rafforzare il mentale, resistenti contro pensieri e influenze negative, è consapevole del proprio linguaggio del corpo che è in grado di padroneggiare"},null,null,{"$f":"IF($H$2=\"G\",'Spiegazioni Skills FTEM'!#REF!,'Spiegazioni Skills FTEM'!#REF!)","v":{"$error":"#REF!"}}]
[{"$f":"'Spiegazioni Skills FTEM'!A35:A35","v":0},null,null,{"$f":"IF($H$2=\"G\",'Spiegazioni Skills FTEM'!F35,'Spiegazioni Skills FTEM'!B35)","v":"Gestione delle energie"},null,null,{"$f":"IF($H$2=\"G\",'Spiegazioni Skills FTEM'!G35,'Spiegazioni Skills FTEM'!C35)","v":"Può gestire le proprie energie, cura la rigenerazione, può gestire i momenti in cui si deve andare al massimo oppure risparmiarsi, interruttore on/off"},null,null,{"$f":"IF($H$2=\"G\",'Spiegazioni Skills FTEM'!#REF!,'Spiegazioni Skills FTEM'!#REF!)","v":{"$error":"#REF!"}}]
[{"$f":"'Spiegazioni Skills FTEM'!A36:A36","v":0},null,null,{"$f":"IF($H$2=\"G\",'Spiegazioni Skills FTEM'!F36,'Spiegazioni Skills FTEM'!B36)","v":"Controllo delle emozioni"},null,null,{"$f":"IF($H$2=\"G\",'Spiegazioni Skills FTEM'!G36,'Spiegazioni Skills FTEM'!C36)","v":"Può regolare le proprie emozioni e impulsi, mantiene il controllo quando si trova sotto pressione, sa anche agire adeguatamente in situazioni emotive o frustranti"},null,null,{"$f":"IF($H$2=\"G\",'Spiegazioni Skills FTEM'!#REF!,'Spiegazioni Skills FTEM'!#REF!)","v":{"$error":"#REF!"}}]
[{"$f":"'Spiegazioni Skills FTEM'!A37","v":"FISICO"},null,null,{"$f":"IF($H$2=\"G\",'Spiegazioni Skills FTEM'!F37,'Spiegazioni Skills FTEM'!B37)","v":"Produzione di prestazione"},null,null,{"$f":"IF($H$2=\"G\",'Spiegazioni Skills FTEM'!G37,'Spiegazioni Skills FTEM'!C37)","v":"Possiede nelle gambe e nella parte alta del corpo la necessaria potenza/forza/velocità (fattori neuromuscolari)"},null,null,{"$f":"IF($H$2=\"G\",'Spiegazioni Skills FTEM'!#REF!,'Spiegazioni Skills FTEM'!#REF!)","v":{"$error":"#REF!"}},null,null,null,{"$f":"IFERROR(AVERAGE(O46:O50),\"-\")","v":"-"},null,{"$f":"IFERROR(AVERAGE(Q46:Q50),\"-\")","v":"-"},null,{"$f":"IFERROR(AVERAGE(S46:S50),\"-\")","v":"-"},null,{"$f":"IFERROR(AVERAGE(U46:U50),\"-\")","v":"-"},null,{"$f":"IFERROR(AVERAGE(W46:W50),\"-\")","v":"-"},null,{"$f":"IFERROR(AVERAGE(Y46:Y50),\"-\")","v":"-"}]
[null,null,null,{"$f":"IF($H$2=\"G\",'Spiegazioni Skills FTEM'!F38,'Spiegazioni Skills FTEM'!B38)","v":"Resistenza specifica alla fatica"},null,null,{"$f":"IF($H$2=\"G\",'Spiegazioni Skills FTEM'!G38,'Spiegazioni Skills FTEM'!C38)","v":"È capace di mantenere a lungo nell'ambito di un impiego la potenza/forza/velocità ed è capace di recuperare completamente attraverso i vari impieghi sul ghiaccio (fattori metabolici e cardiovascolari)"},null,null,{"$f":"IF($H$2=\"G\",'Spiegazioni Skills FTEM'!#REF!,'Spiegazioni Skills FTEM'!#REF!)","v":{"$error":"#REF!"}}]
[{"$f":"'Spiegazioni Skills FTEM'!A39:A39","v":0},null,null,{"$f":"IF($H$2=\"G\",'Spiegazioni Skills FTEM'!F39,'Spiegazioni Skills FTEM'!B39)","v":"Salute / prevenzione"},null,null,{"$f":"IF($H$2=\"G\",'Spiegazioni Skills FTEM'!G39,'Spiegazioni Skills FTEM'!C39)","v":"Possiede la necessaria stabilità (stabilità delle gambe) e mobilità delle articolazioni centrali"},null,null,{"$f":"IF($H$2=\"G\",'Spiegazioni Skills FTEM'!#REF!,'Spiegazioni Skills FTEM'!#REF!)","v":{"$error":"#REF!"}}]
[{"$f":"'Spiegazioni Skills FTEM'!A40:A40","v":0},null,null,{"$f":"IF($H$2=\"G\",'Spiegazioni Skills FTEM'!F40,'Spiegazioni Skills FTEM'!B40)","v":"Competenze della mobilità"},null,null,{"$f":"IF($H$2=\"G\",'Spiegazioni Skills FTEM'!G40,'Spiegazioni Skills FTEM'!C40)","v":"Padroneggia le basilari capacità di movimento che garantiscono in modo determinante le abilità specifiche \"skills\", come pure l'efficacia dei movimenti"},null,null,{"$f":"IF($H$2=\"G\",'Spiegazioni Skills FTEM'!#REF!,'Spiegazioni Skills FTEM'!#REF!)","v":{"$error":"#REF!"}}]
[{"$f":"'Spiegazioni Skills FTEM'!A41:A41","v":0},null,null,{"$f":"IF($H$2=\"G\",'Spiegazioni Skills FTEM'!F41,'Spiegazioni Skills FTEM'!B41)","v":"Robustezza"},null,null,{"$f":"IF($H$2=\"G\",'Spiegazioni Skills FTEM'!G41,'Spiegazioni Skills FTEM'!C41)","v":"Possiede la necessaria forza di base (tensione del corpo) per vincere i duelli e resistere alle cariche"},null,null,{"$f":"IF($H$2=\"G\",'Spiegazioni Skills FTEM'!#REF!,'Spiegazioni Skills FTEM'!#REF!)","v":{"$error":"#REF!"}}]

{"sheet":"12","index":15,"n_rows":50,"n_cols":36,"rows_kept":50,"cut":false,"hidden":false,"merged":[[45,34,49,34],[45,12,49,12],[45,13,49,13],[45,15,49,15],[45,17,49,17],[45,19,49,19],[45,21,49,21],[45,23,49,23],[45,25,49,25],[45,26,49,32],[45,0,49,2],[45,3,45,5],[45,6,45,11],[46,3,46,5],[46,6,46,11],[48,3,48,5],[48,6,48,11],[49,3,49,5],[49,6,49,11],[47,3,47,5],[47,6,47,11],[40,23,44,23],[42,3,42,5],[42,6,42,11],[44,3,44,5],[44,6,44,11],[40,0,44,2],[40,3,40,5],[40,6,40,11],[40,12,44,12],[40,13,44,13],[40,15,44,15],[43,3,43,5],[43,6,43,11],[34,21,34,22],[35,17,39,17],[35,19,39,19],[35,21,39,21],[37,3,37,5],[37,6,37,11],[38,3,38,5],[38,6,38,11],[40,17,44,17],[40,19,44,19],[40,21,44,21],[36,3,36,5],[36,6,36,11],[41,3,41,5],[41,6,41,11],[29,0,33,2],[29,3,29,5],[29,6,29,11],[29,12,33,12],[29,13,33,13],[29,15,33,15],[34,23,34,24],[34,26,34,32],[35,0,39,2],[35,3,35,5],[35,6,35,11],[35,12,39,12],[35,13,39,13],[35,15,39,15],[39,3,39,5],[39,6,39,11],[35,23,39,23],[34,0,34,2],[34,3,34,5],[34,6,34,11],[34,13,34,14],[34,15,34,16],[34,17,34,18],[34,19,34,20],[23,19,28,19],[23,21,28,21],[23,23,28,23],[26,3,26,5],[26,6,26,11],[28,3,28,5],[28,6,28,11],[33,3,33,5],[33,6,33,11],[29,23,33,23],[29,17,33,17],[29,19,33,19],[29,21,33,21],[31,3,31,5],[31,6,31,11],[32,3,32,5],[32,6,32,11],[27,3,27,5],[27,6,27,11],[25,3,25,5],[25,6,25,11],[30,3,30,5],[30,6,30,11],[12,21,16,21],[18,15,22,15],[18,17,22,17],[18,19,22,19],[18,21,22,21],[18,23,22,23],[22,3,22,5],[22,6,22,11],[23,0,28,2],[23,3,23,5],[23,6,23,11],[23,12,28,12],[23,13,28,13],[23,15,28,15],[23,17,28,17],[18,0,22,2],[18,3,18,5],[18,6,18,11],[18,12,22,12],[18,13,22,13],[19,3,19,5],[19,6,19,11],[21,3,21,5],[21,6,21,11],[11,21,11,22],[11,23,11,24],[11,26,11,32],[11,6,11,11],[12,23,16,23],[16,3,16,5],[16,6,16,11],[17,0,17,2],[17,3,17,5],[17,6,17,11],[17,13,17,14],[17,15,17,16],[17,17,17,18],[17,19,17,20],[17,21,17,22],[17,23,17,24],[12,0,16,2],[12,3,12,5],[12,6,12,11],[12,12,16,12],[12,13,16,13],[12,15,16,15],[12,17,16,17],[12,19,16,19],[4,0,4,1],[4,2,4,5],[4,10,4,24],[10,0,10,24],[10,25,10,35],[40,25,44,25],[40,26,44,32],[40,34,44,34],[12,25,16,25],[12,26,16,32],[12,34,16,34],[18,25,22,25],[18,26,22,32],[18,34,22,34],[23,25,28,25],[23,26,28,32],[23,34,28,34],[17,26,17,32],[11,0,11,2],[11,3,11,5],[11,13,11,14],[11,15,11,16],[11,17,11,18],[11,19,11,20],[0,0,0,24],[0,25,0,26],[0,27,0,32],[0,33,0,35],[29,25,33,25],[29,26,33,32],[29,34,33,34],[35,25,39,25],[35,26,39,32],[35,34,39,34],[1,0,1,1],[1,2,1,5],[1,10,1,24],[2,0,2,1],[2,2,2,5],[2,11,2,24],[6,0,6,1],[6,2,6,35],[7,0,7,1],[7,2,7,35],[8,0,8,1],[8,2,8,35],[3,0,3,1],[3,10,3,24],[13,3,13,5],[13,6,13,11],[14,3,14,5],[14,6,14,11],[15,3,15,5],[15,6,15,11],[20,3,20,5],[20,6,20,11],[24,3,24,5],[24,6,24,11]]}
["Personalien",null,null,null,null,null,null,null,null,null,null,null,null,null,null,null,null,null,null,null,null,null,null,null,null,"Predisposizione",null,"Valutazioni",null,null,null,null,null,"Rating"]
["COGNOME",null,{"$f":"IF(ISBLANK(VLOOKUP(12,Tabelle3[],3,0)),\"-\",VLOOKUP(12,Tabelle3[],3,0))","v":"-"},null,null,null,"POSIZIONE",null,null,"INDIRIZZO",{"$f":"IF(ISBLANK(VLOOKUP(12,Tabelle3[],5,0)),\"-\",VLOOKUP(12,Tabelle3[],5,0))","v":"-"},null,null,null,null,null,null,null,null,null,null,null,null,null,null,"Età\" (biologica/età relativa)",null,"Data 1",null,null,"cm",null,"Kg",null,"ECCELLENTE",5]
["NOME",null,{"$f":"IF(ISBLANK(VLOOKUP(12,Tabelle3[],2,0)),\"-\",VLOOKUP(12,Tabelle3[],2,0))","v":"-"},null,null,null,"BASTONE",null,null,"LUOGO",{"$f":"IF(ISBLANK(VLOOKUP(12,Tabelle3[],7,0)),\"-\",VLOOKUP(12,Tabelle3[],7,0))","v":"-"},{"$f":"IF(ISBLANK(VLOOKUP(12,Tabelle3[],6,0)),\"-\",VLOOKUP(12,Tabelle3[],6,0))","v":"-"},null,null,null,null,null,null,null,null,null,null,null,null,null,"Predisposizione",null,"Data 2",null,null,"cm",null,"Kg",null,"BUONO",4]
["DATA DI NASC.",null,{"$f":"IF(ISBLANK(VLOOKUP(12,Tabelle3[],14,0)),\"-\",VLOOKUP(12,Tabelle3[],14,0))","v":"-"},{"$f":"IF(ISBLANK(VLOOKUP(12,Tabelle3[],15,0)),\"-\",VLOOKUP(12,Tabelle3[],15,0))","v":"-"},{"$f":"IF(ISBLANK(VLOOKUP(12,Tabelle3[],16,0)),\"-\",VLOOKUP(12,Tabelle3[],16,0))","v":"-"},null,"ALTEZZA",null,"cm (Finale)","TELEFONO",{"$f":"IF(ISBLANK(VLOOKUP(12,Tabelle3[],8,0)),\"-\",VLOOKUP(12,Tabelle3[],8,0))","v":"-"},null,null,null,null,null,null,null,null,null,null,null,null,null,null,"Ambiente di vita",null,"Data 3",null,null,"cm",null,"Kg",null,"MEDIO/DISCRETO",3]
["SESSO",null,{"$f":"IF(ISBLANK(VLOOKUP(12,Tabelle3[],13,0)),\"-\",VLOOKUP(12,Tabelle3[],13,0))","v":"-"},null,null,null,"PESO",null,"Kg (Finale)","E-Mail",{"$f":"IF(ISBLANK(VLOOKUP(12,Tabelle3[],9,0)),\"-\",VLOOKUP(12,Tabelle3[],9,0))","v":"-"},null,null,null,null,null,null,null,null,null,null,null,null,null,null,null,null,"Data 4",null,null,"cm",null,"Kg",null,"CON LACUNE",2]
[null,null,null,null,null,null,null,null,null,null,null,null,null,null,null,null,null,null,null,null,null,null,null,null,null,null,null,"Data 5",null,null,"cm",null,"Kg",null,"INSUFFICIENTE",1]
["Visione",null,"xxx"]
["Prossimo passo",null,"xxx"]
["Proflio giocatore",null,"xxx"]
[]
["VALUTAZIONI (COACH / GIOCATORE)",null,null,null,null,null,null,null,null,null,null,null,null,null,null,null,null,null,null,null,null,null,null,null,null,"Obiettivi SMART"]
[{"$f":"'Spiegazioni Skills FTEM'!A3","v":"TEAM"},null,null,{"$f":"'Spiegazioni Skills FTEM'!B3","v":"CAPACITÀ"},null,null,{"$f":"'Spiegazioni Skills FTEM'!C3","v":"CRITERIO D'OSSERVAZIONE"},null,null,{"$f":"'Spiegazioni Skills FTEM'!H3","v":0},null,null,"Final","Data1",null,"Data2",null,"Data3",null,"Data4",null,"Data5",null,"Player",null,"OBIETTIVO","PROVVEDIMENTI:\n(SPECIFICI, MISURABILI, REALISTICI)",null,null,null,null,null,null,"TERMINE","COTROLLO DELL'OBIETTIVO","Data"]
[{"$f":"'Spiegazioni Skills FTEM'!A4","v":"SQUADRA"},null,null,{"$f":"IF($H$2=\"G\",'Spiegazioni Skills FTEM'!F4,'Spiegazioni Skills FTEM'!B4)","v":"Comunicazione"},null,null,{"$f":"IF($H$2=\"G\",'Spiegazioni Skills FTEM'!G4,'Spiegazioni Skills FTEM'!C4)","v":"Cura relazioni aperte e rispettose, fiducia quale base comportamentale, affronta i conflitti senza ledere la stabilità del gruppo, comunica con i compagni, gli allenatori e\nfunzionari con i medesimi valori"},null,null,{"$f":"IF($H$2=\"G\",'Spiegazioni Skills FTEM'!#REF!,'Spiegazioni Skills FTEM'!#REF!)","v":{"$error":"#REF!"}},null,null,null,{"$f":"IFERROR(AVERAGE(O13:O17),\"-\")","v":"-"},null,{"$f":"IFERROR(AVERAGE(Q13:Q17),\"-\")","v":"-"},null,{"$f":"IFERROR(AVERAGE(S13:S17),\"-\")","v":"-"},null,{"$f":"IFERROR(AVERAGE(U13:U17),\"-\")","v":"-"},null,{"$f":"IFERROR(AVERAGE(W13:W17),\"-\")","v":"-"},null,{"$f":"IFERROR(AVERAGE(Y13:Y17),\"-\")","v":"-"}]
[{"$f":"'Spiegazioni Skills FTEM'!A5","v":0},null,null,{"$f":"IF($H$2=\"G\",'Spiegazioni Skills FTEM'!F5,'Spiegazioni Skills FTEM'!B5)","v":"Capacità nella squadra"},null,null,{"$f":"IF($H$2=\"G\",'Spiegazioni Skills FTEM'!G5,'Spiegazioni Skills FTEM'!C5)","v":"Integrazione nel gruppo, definisce e realizza obiettivi comuni, NOI prima dell'IO, contribuisce a creare un buon spirito di squadra e clima di lavoro"},null,null,{"$f":"IF($H$2=\"G\",'Spiegazioni Skills FTEM'!#REF!,'Spiegazioni Skills FTEM'!#REF!)","v":{"$error":"#REF!"}}]
[{"$f":"'Spiegazioni Skills FTEM'!A6","v":0},null,null,{"$f":"IF($H$2=\"G\",'Spiegazioni Skills FTEM'!F6,'Spiegazioni Skills FTEM'!B6)","v":"Leadership"},null,null,{"$f":"IF($H$2=\"G\",'Spiegazioni Skills FTEM'!G6,'Spiegazioni Skills FTEM'!C6)","v":"Assume responsabilità nell'ambito del gruppo, cerca di migliorare la squadra e i compagni, influenza positivamente la dinamica di gruppo"},null,null,{"$f":"IF($H$2=\"G\",'Spiegazioni Skills FTEM'!#REF!,'Spiegazioni Skills FTEM'!#REF!)","v":{"$error":"#REF!"}}]
[{"$f":"'Spiegazioni Skills FTEM'!A7","v":0},null,null,{"$f":"IF($H$2=\"G\",'Spiegazioni Skills FTEM'!F7,'Spiegazioni Skills FTEM'!B7)","v":"Ripartizione dei ruoli"},null,null,{"$f":"IF($H$2=\"G\",'Spiegazioni Skills FTEM'!G7,'Spiegazioni Skills FTEM'!C7)","v":"Riconosce e adempie il suo ruolo, è cosciente della sua posizione nel sistema e nella squadra, mette a disposizione della squadra le sue competenze"},null,null,{"$f":"IF($H$2=\"G\",'Spiegazioni Skills FTEM'!#REF!,'Spiegazioni Skills FTEM'!#REF!)","v":{"$error":"#REF!"}}]
[{"$f":"'Spiegazioni Skills FTEM'!A8","v":0},null,null,{"$f":"IF($H$2=\"G\",'Spiegazioni Skills FTEM'!F8,'Spiegazioni Skills FTEM'!B8)","v":"Rispetto"},null,null,{"$f":"IF($H$2=\"G\",'Spiegazioni Skills FTEM'!G8,'Spiegazioni Skills FTEM'!C8)","v":"Relazioni rispettose con i compagni, allenatori, avversari, arbitri e staff; rispetta le regole i pricipi del fairplay (compreso la lotta al doping)"},null,null,{"$f":"IF($H$2=\"G\",'Spiegazioni Skills FTEM'!#REF!,'Spiegazioni Skills FTEM'!#REF!)","v":{"$error":"#REF!"}}]
[{"$f":"'Spiegazioni Skills FTEM'!A9","v":"ON ICE"},null,null,{"$f":"'Spiegazioni Skills FTEM'!B9","v":"CAPACITÀ"},null,null,{"$f":"'Spiegazioni Skills FTEM'!C9","v":"CRITERIO D'OSSERVAZIONE"},null,null,{"$f":"'Spiegazioni Skills FTEM'!H9","v":0},null,null,null,"Data1",null,"Data2",null,"Data3",null,"Data4",null,"Data5",null,"Player",null,"OBIETTIVO","PROVVEDIMENTI:\n(SPECIFICI, MISURABILI, REALISTICI)",null,null,null,null,null,null,"TERMINE","COTROLLO DELL'OBIETTIVO","Date"]
[{"$f":"'Spiegazioni Skills FTEM'!A10","v":"PATTINAGGIO"},null,null,{"$f":"IF($H$2=\"G\",'Spiegazioni Skills FTEM'!F10,'Spiegazioni Skills FTEM'!B10)","v":"Velocità dei piedi"},null,null,{"$f":"IF($H$2=\"G\",'Spiegazioni Skills FTEM'!G10,'Spiegazioni Skills FTEM'!C10)","v":"Accelerazione, partenza, esplosività dei primi 3 passi, frequenza"},null,null,{"$f":"IF($H$2=\"G\",'Spiegazioni Skills FTEM'!#REF!,'Spiegazioni Skills FTEM'!#REF!)","v":{"$error":"#REF!"}},null,null,null,{"$f":"IFERROR(AVERAGE(O19:O23),\"-\")","v":"-"},null,{"$f":"IFERROR(AVERAGE(Q19:Q23),\"-\")","v":"-"},null,{"$f":"IFERROR(AVERAGE(S19:S23),\"-\")","v":"-"},null,{"$f":"IFERROR(AVERAGE(U19:U23),\"-\")","v":"-"},null,{"$f":"IFERROR(AVERAGE(W19:W23),\"-\")","v":"-"},null,{"$f":"IFERROR(AVERAGE(Y19:Y23),\"-\")","v":"-"}]
[{"$f":"'Spiegazioni Skills FTEM'!A11:A11","v":0},null,null,{"$f":"IF($H$2=\"G\",'Spiegazioni Skills FTEM'!F11,'Spiegazioni Skills FTEM'!B11)","v":"Velocità/rapidità"},null,null,{"$f":"IF($H$2=\"G\",'Spiegazioni Skills FTEM'!G11,'Spiegazioni Skills FTEM'!C11)","v":"Velocità, facoltà di scivolare, avanti / indietro, economia dello sforzo"},null,null,{"$f":"IF($H$2=\"G\",'Spiegazioni Skills FTEM'!#REF!,'Spiegazioni Skills FTEM'!#REF!)","v":{"$error":"#REF!"}}]
[null,null,null,{"$f":"IF($H$2=\"G\",'Spiegazioni Skills FTEM'!F12,'Spiegazioni Skills FTEM'!B12)","v":"Agilità"},null,null,{"$f":"IF($H$2=\"G\",'Spiegazioni Skills FTEM'!G12,'Spiegazioni Skills FTEM'!C12)","v":"Cambiamento di direzione, girarsi, stop e ripartenza, \"Nummelin\""},null,null,{"$f":"IF($H$2=\"G\",'Spiegazioni Skills FTEM'!#REF!,'Spiegazioni Skills FTEM'!#REF!)","v":{"$error":"#REF!"}}]
[{"$f":"'Spiegazioni Skills FTEM'!A12:A12","v":0},null,null,{"$f":"IF($H$2=\"G\",'Spiegazioni Skills FTEM'!F13,'Spiegazioni Skills FTEM'!B13)","v":"Equilibrio"},null,null,{"$f":"IF($H$2=\"G\",'Spiegazioni Skills FTEM'!G13,'Spiegazioni Skills FTEM'!C13)","v":"Equilibrio, stabilità, posizione bassa, su una gamba, su entrambe"},null,null,{"$f":"IF($H$2=\"G\",'Spiegazioni Skills FTEM'!#REF!,'Spiegazioni Skills FTEM'!#REF!)","v":{"$error":"#REF!"}},null,null,null,{"$f":"IFERROR(AVERAGE(O22:O23),\"-\")","v":"-"},null,{"$f":"IFERROR(AVERAGE(Q22:Q23),\"-\")","v":"-"},null,{"$f":"IFERROR(AVERAGE(S22:S23),\"-\")","v":"-"},null,{"$f":"IFERROR(AVERAGE(U22:U23),\"-\")","v":"-"},null,{"$f":"IFERROR(AVERAGE(W22:W23),\"-\")","v":"-"},null,"-"]
[{"$f":"'Spiegazioni Skills FTEM'!A14:A14","v":0},null,null,{"$f":"IF($H$2=\"G\",'Spiegazioni Skills FTEM'!F14,'Spiegazioni Skills FTEM'!B14)","v":"Pattinaggio indietro"},null,null,{"$f":"IF($H$2=\"G\",'Spiegazioni Skills FTEM'!G14,'Spiegazioni Skills FTEM'!C14)","v":"Accelerazione, velocità, equilibrio"},null,null,{"$f":"IF($H$2=\"G\",'Spiegazioni Skills FTEM'!#REF!,'Spiegazioni Skills FTEM'!#REF!)","v":{"$error":"#REF!"}}]
[{"$f":"'Spiegazioni Skills FTEM'!A15","v":"ABILITÀ"},null,null,{"$f":"IF($H$2=\"G\",'Spiegazioni Skills FTEM'!F15,'Spiegazioni Skills FTEM'!B15)","v":"Tirare"},null,null,{"$f":"IF($H$2=\"G\",'Spiegazioni Skills FTEM'!G15,'Spiegazioni Skills FTEM'!C15)","v":"Efficienza (poco spazio, poco tempo), ricchezza di varianti, grado di sorpresa (Quick Release), precisione, potenza (conclusioni tattiche)"},null,null,{"$f":"IF($H$2=\"G\",'Spiegazioni Skills FTEM'!#REF!,'Spiegazioni Skills FTEM'!#REF!)","v":{"$error":"#REF!"}},null,null,null,{"$f":"IFERROR(AVERAGE(O24:O29),\"-\")","v":"-"},null,{"$f":"IFERROR(AVERAGE(Q24:Q29),\"-\")","v":"-"},null,{"$f":"IFERROR(AVERAGE(S24:S29),\"-\")","v":"-"},null,{"$f":"IFERROR(AVERAGE(U24:U29),\"-\")","v":"-"},null,{"$f":"IFERROR(AVERAGE(W24:W29),\"-\")","v":"-"},null,{"$f":"IFERROR(AVERAGE(Y24:Y29),\"-\")","v":"-"}]
[null,null,null,{"$f":"IF($H$2=\"G\",'Spiegazioni Skills FTEM'!F16,'Spiegazioni Skills FTEM'!B16)","v":"Passare"},null,null,{"$f":"IF($H$2=\"G\",'Spiegazioni Skills FTEM'!G16,'Spiegazioni Skills FTEM'!C16)","v":"Passaggio (distanza, flipp, rovescio), ricezione del passaggio (precisione, timing, diritto, rovescio, sul pattino), velocità del disco"},null,null,{"$f":"IF($H$2=\"G\",'Spiegazioni Skills FTEM'!#REF!,'Spiegazioni Skills FTEM'!#REF!)","v":{"$error":"#REF!"}}]
[null,null,null,{"$f":"IF($H$2=\"G\",'Spiegazioni Skills FTEM'!F17,'Spiegazioni Skills FTEM'!B17)","v":"Lavoro col bastone - condotta del disco"},null,null,{"$f":"IF($H$2=\"G\",'Spiegazioni Skills FTEM'!G17,'Spiegazioni Skills FTEM'!C17)","v":"Bastone sul disco, intercettare le linee di passaggio, deviare, controllo del bastone avversario"},null,null,{"$f":"IF($H$2=\"G\",'Spiegazioni Skills FTEM'!#REF!,'Spiegazioni Skills FTEM'!#REF!)","v":{"$error":"#REF!"}}]
[{"$f":"'Spiegazioni Skills FTEM'!A16:A16","v":0},null,null,{"$f":"IF($H$2=\"G\",'Spiegazioni Skills FTEM'!F18,'Spiegazioni Skills FTEM'!B18)","v":"Possedere/proteggere il disco"},null,null,{"$f":"IF($H$2=\"G\",'Spiegazioni Skills FTEM'!G18,'Spiegazioni Skills FTEM'!C18)","v":"Controllo del disco, dribbling, protezione del disco, finte (varianti col pattino, con o senza la balaustra), ingaggi (face-off)"},null,null,{"$f":"IF($H$2=\"G\",'Spiegazioni Skills FTEM'!#REF!,'Spiegazioni Skills FTEM'!#REF!)","v":{"$error":"#REF!"}}]
[{"$f":"'Spiegazioni Skills FTEM'!A17:A17","v":0},null,null,{"$f":"IF($H$2=\"G\",'Spiegazioni Skills FTEM'!F19,'Spiegazioni Skills FTEM'!B19)","v":"Gioco del corpo"},null,null,{"$f":"IF($H$2=\"G\",'Spiegazioni Skills FTEM'!G19,'Spiegazioni Skills FTEM'!C19)","v":"Facoltà di imporsi fisicamente, duelli (ghiaccio aperto, balaustra), subire dei checks/testa alta, livello di lotta, duro ma corretto, blocco dei tiri con il corpo"},null,null,{"$f":"IF($H$2=\"G\",'Spiegazioni Skills FTEM'!#REF!,'Spiegazioni Skills FTEM'!#REF!)","v":{"$error":"#REF!"}}]
[{"$f":"'Spiegazioni Skills FTEM'!A20:A20","v":0},null,null,{"$f":"IF($H$2=\"G\",'Spiegazioni Skills FTEM'!F20,'Spiegazioni Skills FTEM'!B20)","v":"-"},null,null,{"$f":"IF($H$2=\"G\",'Spiegazioni Skills FTEM'!G20,'Spiegazioni Skills FTEM'!C20)","v":"-"},null,null,{"$f":"IF($H$2=\"G\",'Spiegazioni Skills FTEM'!#REF!,'Spiegazioni Skills FTEM'!#REF!)","v":{"$error":"#REF!"}}]
[{"$f":"'Spiegazioni Skills FTEM'!A21","v":"SENSO DELL'HOCKEY"},null,null,{"$f":"IF($H$2=\"G\",'Spiegazioni Skills FTEM'!F21,'Spiegazioni Skills FTEM'!B21)","v":"Intelligenza nel gioco"},null,null,{"$f":"IF($H$2=\"G\",'Spiegazioni Skills FTEM'!G21,'Spiegazioni Skills FTEM'!C21)","v":"Vedere spazi e giocatori liberi, creare situazioni di superiorità numerica, agire cercando soluzioni in tutte le situazioni, velocità di visualizzazione"},null,null,{"$f":"IF($H$2=\"G\",'Spiegazioni Skills FTEM'!#REF!,'Spiegazioni Skills FTEM'!#REF!)","v":{"$error":"#REF!"}},null,null,null,{"$f":"IFERROR(AVERAGE(O30:O34),\"-\")","v":"-"},null,{"$f":"IFERROR(AVERAGE(Q30:Q34),\"-\")","v":"-"},null,{"$f":"IFERROR(AVERAGE(S30:S34),\"-\")","v":"-"},null,{"$f":"IFERROR(AVERAGE(U30:U34),\"-\")","v":"-"},null,{"$f":"IFERROR(AVERAGE(W30:W34),\"-\")","v":"-"},null,{"$f":"IFERROR(AVERAGE(Y30:Y34),\"-\")","v":"-"}]
[{"$f":"'Spiegazioni Skills FTEM'!A22:A22","v":0},null,null,{"$f":"IF($H$2=\"G\",'Spiegazioni Skills FTEM'!F22,'Spiegazioni Skills FTEM'!B22)","v":"Sensibilità offensiva"},null,null,{"$f":"IF($H$2=\"G\",'Spiegazioni Skills FTEM'!G22,'Spiegazioni Skills FTEM'!C22)","v":"Smarcarsi, anticipare le situazioni di gioco, aprire spazi liberi per i compagni, piazzarsi per le conclusioni, velocità nel chiudere gli spazi (pressione), comunicazione"},null,null,{"$f":"IF($H$2=\"G\",'Spiegazioni Skills FTEM'!#REF!,'Spiegazioni Skills FTEM'!#REF!)","v":{"$error":"#REF!"}}]
[null,null,null,{"$f":"IF($H$2=\"G\",'Spiegazioni Skills FTEM'!F23,'Spiegazioni Skills FTEM'!B23)","v":"Sensibilità difensiva"},null,null,{"$f":"IF($H$2=\"G\",'Spiegazioni Skills FTEM'!G23,'Spiegazioni Skills FTEM'!C23)","v":"Mantenere la posizione difensiva, protezione dello slot, assicurare i compagni / supporto, individuare le linee di passaggio, bloccare i tiri, ridurre velocemente gli spazi, comunicazione"},null,null,{"$f":"IF($H$2=\"G\",'Spiegazioni Skills FTEM'!#REF!,'Spiegazioni Skills FTEM'!#REF!)","v":{"$error":"#REF!"}}]
[{"$f":"'Spiegazioni Skills FTEM'!A24:A24","v":0},null,null,{"$f":"IF($H$2=\"G\",'Spiegazioni Skills FTEM'!F24,'Spiegazioni Skills FTEM'!B24)","v":"Gestione del disco"},null,null,{"$f":"IF($H$2=\"G\",'Spiegazioni Skills FTEM'!G24,'Spiegazioni Skills FTEM'!C24)","v":"Prendere decisioni adeguate nelle situazioni di gioco, supporto, creare superiorità numerica"},null,null,{"$f":"IF($H$2=\"G\",'Spiegazioni Skills FTEM'!#REF!,'Spiegazioni Skills FTEM'!#REF!)","v":{"$error":"#REF!"}}]
[{"$f":"'Spiegazioni Skills FTEM'!A25:A25","v":0},null,null,{"$f":"IF($H$2=\"G\",'Spiegazioni Skills FTEM'!F25,'Spiegazioni Skills FTEM'!B25)","v":"Creatività"},null,null,{"$f":"IF($H$2=\"G\",'Spiegazioni Skills FTEM'!G25,'Spiegazioni Skills FTEM'!C25)","v":"Creare situazioni a sorpresa, fiuto del gol"},null,null,{"$f":"IF($H$2=\"G\",'Spiegazioni Skills FTEM'!#REF!,'Spiegazioni Skills FTEM'!#REF!)","v":{"$error":"#REF!"}}]
[{"$f":"'Spiegazioni Skills FTEM'!A26","v":"PERSONALITY"},null,null,{"$f":"'Spiegazioni Skills FTEM'!B26","v":"CAPACITÀ"},null,null,{"$f":"'Spiegazioni Skills FTEM'!C26","v":"CRITERIO D'OSSERVAZIONE"},null,null,{"$f":"'Spiegazioni Skills FTEM'!H26","v":0},null,null,null,"Data1",null,"Data2",null,"Data3",null,"Data4",null,"Data5",null,"Player",null,"OBIETTIVO","PROVVEDIMENTI:\n(SPECIFICI, MISURABILI, REALISTICI)",null,null,null,null,null,null,"TERMINE","COTROLLO DELL'OBIETTIVO","Date"]
[{"$f":"'Spiegazioni Skills FTEM'!A27","v":"PERSONALITÀ"},null,null,{"$f":"IF($H$2=\"G\",'Spiegazioni Skills FTEM'!F27,'Spiegazioni Skills FTEM'!B27)","v":"Fiducia in se stesso"},null,null,{"$f":"IF($H$2=\"G\",'Spiegazioni Skills FTEM'!G27,'Spiegazioni Skills FTEM'!C27)","v":"Possiede la necessaria fiducia in se stesso, «I can do it»-attitudine, sa valutare le proprie capacità (conosce i propri punti forti e deboli), può realizzare le proprie qualità con\ncostanza, è coraggioso e sa prendere dei rischi calcolati"},null,null,{"$f":"IF($H$2=\"G\",'Spiegazioni Skills FTEM'!#REF!,'Spiegazioni Skills FTEM'!#REF!)","v":{"$error":"#REF!"}},null,null,null,{"$f":"IFERROR(AVERAGE(O36:O40),\"-\")","v":"-"},null,{"$f":"IFERROR(AVERAGE(Q36:Q40),\"-\")","v":"-"},null,{"$f":"IFERROR(AVERAGE(S36:S40),\"-\")","v":"-"},null,{"$f":"IFERROR(AVERAGE(U36:U40),\"-\")","v":"-"},null,{"$f":"IFERROR(AVERAGE(W36:W40),\"-\")","v":"-"},null,{"$f":"IFERROR(AVERAGE(Y36:Y40),\"-\")","v":"-"}]
[{"$f":"'Spiegazioni Skills FTEM'!A28:A28","v":0},null,null,{"$f":"IF($H$2=\"G\",'Spiegazioni Skills FTEM'!F28,'Spiegazioni Skills FTEM'!B28)","v":"Capacità d'apprendimento"},null,null,{"$f":"IF($H$2=\"G\",'Spiegazioni Skills FTEM'!G28,'Spiegazioni Skills FTEM'!C28)","v":"Ha una buona capacità d'apprendimento (sa recepire e realizzare), possiede una personalità, cerca di imparare dai propri errori derivandone delle misure"},null,null,{"$f":"IF($H$2=\"G\",'Spiegazioni Skills FTEM'!#REF!,'Spiegazioni Skills FTEM'!#REF!)","v":{"$error":"#REF!"}}]
[null,null,null,{"$f":"IF($H$2=\"G\",'Spiegazioni Skills FTEM'!F29,'Spiegazioni Skills FTEM'!B29)","v":"Senso di responsabilità"},null,null,{"$f":"IF($H$2=\"G\",'Spiegazioni Skills FTEM'!G29,'Spiegazioni Skills FTEM'!C29)","v":"Assume responsabiltà per le proprie prestazioni e sviluppo, agisce autonomamente, cura i dettagli, mostra un grande impegno in tutti i settori"},null,null,{"$f":"IF($H$2=\"G\",'Spiegazioni Skills FTEM'!#REF!,'Spiegazioni Skills FTEM'!#REF!)","v":{"$error":"#REF!"}}]
[{"$f":"'Spiegazioni Skills FTEM'!A30:A30","v":0},null,null,{"$f":"IF($H$2=\"G\",'Spiegazioni Skills FTEM'!F30,'Spiegazioni Skills FTEM'!B30)","v":"Motivazione"},null,null,{"$f":"IF($H$2=\"G\",'Spiegazioni Skills FTEM'!G30,'Spiegazioni Skills FTEM'!C30)","v":"È sempre motivato, vuole sempre svilupparsi e imparare, vuol essere il primo e avere successo, non rinuncia mai e non si lascia influenzare dagli insuccessi"},null,null,{"$f":"IF($H$2=\"G\",'Spiegazioni Skills FTEM'!#REF!,'Spiegazioni Skills FTEM'!#REF!)","v":{"$error":"#REF!"}}]
[{"$f":"'Spiegazioni Skills FTEM'!A31:A31","v":0},null,null,{"$f":"IF($H$2=\"G\",'Spiegazioni Skills FTEM'!F31,'Spiegazioni Skills FTEM'!B31)","v":"Prestazione Stile di vita"},null,null,{"$f":"IF($H$2=\"G\",'Spiegazioni Skills FTEM'!G31,'Spiegazioni Skills FTEM'!C31)","v":"Gestisce bene la quotidianità il suo ambiente seguendo i principi della prestazione, caparbio, perseverante e finalizzato sugli obiettivi, focus sulla propria prestazione, coraggioso e grintoso, sa imporsi nei confronti delle resistenze, le sfide lo motivano"},null,null,{"$f":"IF($H$2=\"G\",'Spiegazioni Skills FTEM'!#REF!,'Spiegazioni Skills FTEM'!#REF!)","v":{"$error":"#REF!"}}]
[{"$f":"'Spiegazioni Skills FTEM'!A32","v":"FORZA MENTALE"},null,null,{"$f":"IF($H$2=\"G\",'Spiegazioni Skills FTEM'!F32,'Spiegazioni Skills FTEM'!B32)","v":"Impegno"},null,null,{"$f":"IF($H$2=\"G\",'Spiegazioni Skills FTEM'!G32,'Spiegazioni Skills FTEM'!C32)","v":"Mostra molta intensità negli allenamenti e nelle partite, dà sempre il massimo e vuole sempre spronare i propri limiti, mostra passione, si sforza ad alzare la qualità negli allenamenti"},null,null,{"$f":"IF($H$2=\"G\",'Spiegazioni Skills FTEM'!#REF!,'Spiegazioni Skills FTEM'!#REF!)","v":{"$error":"#REF!"}},null,null,null,{"$f":"IFERROR(AVERAGE(O41:O45),\"-\")","v":"-"},null,{"$f":"IFERROR(AVERAGE(Q41:Q45),\"-\")","v":"-"},null,{"$f":"IFERROR(AVERAGE(S41:S45),\"-\")","v":"-"},null,{"$f":"IFERROR(AVERAGE(U41:U45),\"-\")","v":"-"},null,{"$f":"IFERROR(AVERAGE(W41:W45),\"-\")","v":"-"},null,{"$f":"IFERROR(AVERAGE(Y41:Y45),\"-\")","v":"-"}]
[null,null,null,{"$f":"IF($H$2=\"G\",'Spiegazioni Skills FTEM'!F33,'Spiegazioni Skills FTEM'!B33)","v":"Preparazione"},null,null,{"$f":"IF($H$2=\"G\",'Spiegazioni Skills FTEM'!G33,'Spiegazioni Skills FTEM'!C33)","v":"Preparazione consapevole e finalizzata, mentalmente e fisicamente, possiede un efficiente approccio per l'ottenimento dell'ideale stato di prestazione (ILZ/ISP)"},null,null,{"$f":"IF($H$2=\"G\",'Spiegazioni Skills FTEM'!#REF!,'Spiegazioni Skills FTEM'!#REF!)","v":{"$error":"#REF!"}}]
[{"$f":"'Spiegazioni Skills FTEM'!A34:A34","v":0},null,null,{"$f":"IF($H$2=\"G\",'Spiegazioni Skills FTEM'!F34,'Spiegazioni Skills FTEM'!B34)","v":"Coaching individuale"},null,null,{"$f":"IF($H$2=\"G\",'Spiegazioni Skills FTEM'!G34,'Spiegazioni Skills FTEM'!C34)","v":"Possiede una buona capacità di concentrazione, può mantenere il suo ILZ/ISP durante la partita e l'allenamento, può utilizzare tecniche di base per rafforzare il mentale, resistenti contro pensieri e influenze negative, è consapevole del proprio linguaggio del corpo che è in grado di padroneggiare"},null,null,{"$f":"IF($H$2=\"G\",'Spiegazioni Skills FTEM'!#REF!,'Spiegazioni Skills FTEM'!#REF!)","v":{"$error":"#REF!"}}]
[{"$f":"'Spiegazioni Skills FTEM'!A35:A35","v":0},null,null,{"$f":"IF($H$2=\"G\",'Spiegazioni Skills FTEM'!F35,'Spiegazioni Skills FTEM'!B35)","v":"Gestione delle energie"},null,null,{"$f":"IF($H$2=\"G\",'Spiegazioni Skills FTEM'!G35,'Spiegazioni Skills FTEM'!C35)","v":"Può gestire le proprie energie, cura la rigenerazione, può gestire i momenti in cui si deve andare al massimo oppure risparmiarsi, interruttore on/off"},null,null,{"$f":"IF($H$2=\"G\",'Spiegazioni Skills FTEM'!#REF!,'Spiegazioni Skills FTEM'!#REF!)","v":{"$error":"#REF!"}}]
[{"$f":"'Spiegazioni Skills FTEM'!A36:A36","v":0},null,null,{"$f":"IF($H$2=\"G\",'Spiegazioni Skills FTEM'!F36,'Spiegazioni Skills FTEM'!B36)","v":"Controllo delle emozioni"},null,null,{"$f":"IF($H$2=\"G\",'Spiegazioni Skills FTEM'!G36,'Spiegazioni Skills FTEM'!C36)","v":"Può regolare le proprie emozioni e impulsi, mantiene il controllo quando si trova sotto pressione, sa anche agire adeguatamente in situazioni emotive o frustranti"},null,null,{"$f":"IF($H$2=\"G\",'Spiegazioni Skills FTEM'!#REF!,'Spiegazioni Skills FTEM'!#REF!)","v":{"$error":"#REF!"}}]
[{"$f":"'Spiegazioni Skills FTEM'!A37","v":"FISICO"},null,null,{"$f":"IF($H$2=\"G\",'Spiegazioni Skills FTEM'!F37,'Spiegazioni Skills FTEM'!B37)","v":"Produzione di prestazione"},null,null,{"$f":"IF($H$2=\"G\",'Spiegazioni Skills FTEM'!G37,'Spiegazioni Skills FTEM'!C37)","v":"Possiede nelle gambe e nella parte alta del corpo la necessaria potenza/forza/velocità (fattori neuromuscolari)"},null,null,{"$f":"IF($H$2=\"G\",'Spiegazioni Skills FTEM'!#REF!,'Spiegazioni Skills FTEM'!#REF!)","v":{"$error":"#REF!"}},null,null,null,{"$f":"IFERROR(AVERAGE(O46:O50),\"-\")","v":"-"},null,{"$f":"IFERROR(AVERAGE(Q46:Q50),\"-\")","v":"-"},null,{"$f":"IFERROR(AVERAGE(S46:S50),\"-\")","v":"-"},null,{"$f":"IFERROR(AVERAGE(U46:U50),\"-\")","v":"-"},null,{"$f":"IFERROR(AVERAGE(W46:W50),\"-\")","v":"-"},null,{"$f":"IFERROR(AVERAGE(Y46:Y50),\"-\")","v":"-"}]
[null,null,null,{"$f":"IF($H$2=\"G\",'Spiegazioni Skills FTEM'!F38,'Spiegazioni Skills FTEM'!B38)","v":"Resistenza specifica alla fatica"},null,null,{"$f":"IF($H$2=\"G\",'Spiegazioni Skills FTEM'!G38,'Spiegazioni Skills FTEM'!C38)","v":"È capace di mantenere a lungo nell'ambito di un impiego la potenza/forza/velocità ed è capace di recuperare completamente attraverso i vari impieghi sul ghiaccio (fattori metabolici e cardiovascolari)"},null,null,{"$f":"IF($H$2=\"G\",'Spiegazioni Skills FTEM'!#REF!,'Spiegazioni Skills FTEM'!#REF!)","v":{"$error":"#REF!"}}]
[{"$f":"'Spiegazioni Skills FTEM'!A39:A39","v":0},null,null,{"$f":"IF($H$2=\"G\",'Spiegazioni Skills FTEM'!F39,'Spiegazioni Skills FTEM'!B39)","v":"Salute / prevenzione"},null,null,{"$f":"IF($H$2=\"G\",'Spiegazioni Skills FTEM'!G39,'Spiegazioni Skills FTEM'!C39)","v":"Possiede la necessaria stabilità (stabilità delle gambe) e mobilità delle articolazioni centrali"},null,null,{"$f":"IF($H$2=\"G\",'Spiegazioni Skills FTEM'!#REF!,'Spiegazioni Skills FTEM'!#REF!)","v":{"$error":"#REF!"}}]
[{"$f":"'Spiegazioni Skills FTEM'!A40:A40","v":0},null,null,{"$f":"IF($H$2=\"G\",'Spiegazioni Skills FTEM'!F40,'Spiegazioni Skills FTEM'!B40)","v":"Competenze della mobilità"},null,null,{"$f":"IF($H$2=\"G\",'Spiegazioni Skills FTEM'!G40,'Spiegazioni Skills FTEM'!C40)","v":"Padroneggia le basilari capacità di movimento che garantiscono in modo determinante le abilità specifiche \"skills\", come pure l'efficacia dei movimenti"},null,null,{"$f":"IF($H$2=\"G\",'Spiegazioni Skills FTEM'!#REF!,'Spiegazioni Skills FTEM'!#REF!)","v":{"$error":"#REF!"}}]
[{"$f":"'Spiegazioni Skills FTEM'!A41:A41","v":0},null,null,{"$f":"IF($H$2=\"G\",'Spiegazioni Skills FTEM'!F41,'Spiegazioni Skills FTEM'!B41)","v":"Robustezza"},null,null,{"$f":"IF($H$2=\"G\",'Spiegazioni Skills FTEM'!G41,'Spiegazioni Skills FTEM'!C41)","v":"Possiede la necessaria forza di base (tensione del corpo) per vincere i duelli e resistere alle cariche"},null,null,{"$f":"IF($H$2=\"G\",'Spiegazioni Skills FTEM'!#REF!,'Spiegazioni Skills FTEM'!#REF!)","v":{"$error":"#REF!"}}]

{"sheet":"13","index":16,"n_rows":50,"n_cols":36,"rows_kept":50,"cut":false,"hidden":false,"merged":[[45,34,49,34],[45,12,49,12],[45,13,49,13],[45,15,49,15],[45,17,49,17],[45,19,49,19],[45,21,49,21],[45,23,49,23],[45,25,49,25],[45,26,49,32],[45,0,49,2],[45,3,45,5],[45,6,45,11],[46,3,46,5],[46,6,46,11],[48,3,48,5],[48,6,48,11],[49,3,49,5],[49,6,49,11],[47,3,47,5],[47,6,47,11],[40,23,44,23],[42,3,42,5],[42,6,42,11],[44,3,44,5],[44,6,44,11],[40,0,44,2],[40,3,40,5],[40,6,40,11],[40,12,44,12],[40,13,44,13],[40,15,44,15],[43,3,43,5],[43,6,43,11],[34,21,34,22],[35,17,39,17],[35,19,39,19],[35,21,39,21],[37,3,37,5],[37,6,37,11],[38,3,38,5],[38,6,38,11],[40,17,44,17],[40,19,44,19],[40,21,44,21],[36,3,36,5],[36,6,36,11],[41,3,41,5],[41,6,41,11],[29,0,33,2],[29,3,29,5],[29,6,29,11],[29,12,33,12],[29,13,33,13],[29,15,33,15],[34,23,34,24],[34,26,34,32],[35,0,39,2],[35,3,35,5],[35,6,35,11],[35,12,39,12],[35,13,39,13],[35,15,39,15],[39,3,39,5],[39,6,39,11],[35,23,39,23],[34,0,34,2],[34,3,34,5],[34,6,34,11],[34,13,34,14],[34,15,34,16],[34,17,34,18],[34,19,34,20],[23,19,28,19],[23,21,28,21],[23,23,28,23],[26,3,26,5],[26,6,26,11],[28,3,28,5],[28,6,28,11],[33,3,33,5],[33,6,33,11],[29,23,33,23],[29,17,33,17],[29,19,33,19],[29,21,33,21],[31,3,31,5],[31,6,31,11],[32,3,32,5],[32,6,32,11],[27,3,27,5],[27,6,27,11],[25,3,25,5],[25,6,25,11],[30,3,30,5],[30,6,30,11],[12,21,16,21],[18,15,22,15],[18,17,22,17],[18,19,22,19],[18,21,22,21],[18,23,22,23],[22,3,22,5],[22,6,22,11],[23,0,28,2],[23,3,23,5],[23,6,23,11],[23,12,28,12],[23,13,28,13],[23,15,28,15],[23,17,28,17],[18,0,22,2],[18,3,18,5],[18,6,18,11],[18,12,22,12],[18,13,22,13],[19,3,19,5],[19,6,19,11],[21,3,21,5],[21,6,21,11],[11,21,11,22],[11,23,11,24],[11,26,11,32],[11,6,11,11],[12,23,16,23],[16,3,16,5],[16,6,16,11],[17,0,17,2],[17,3,17,5],[17,6,17,11],[17,13,17,14],[17,15,17,16],[17,17,17,18],[17,19,17,20],[17,21,17,22],[17,23,17,24],[12,0,16,2],[12,3,12,5],[12,6,12,11],[12,12,16,12],[12,13,16,13],[12,15,16,15],[12,17,16,17],[12,19,16,19],[4,0,4,1],[4,2,4,5],[4,10,4,24],[10,0,10,24],[10,25,10,35],[40,25,44,25],[40,26,44,32],[40,34,44,34],[12,25,16,25],[12,26,16,32],[12,34,16,34],[18,25,22,25],[18,26,22,32],[18,34,22,34],[23,25,28,25],[23,26,28,32],[23,34,28,34],[17,26,17,32],[11,0,11,2],[11,3,11,5],[11,13,11,14],[11,15,11,16],[11,17,11,18],[11,19,11,20],[0,0,0,24],[0,25,0,26],[0,27,0,32],[0,33,0,35],[29,25,33,25],[29,26,33,32],[29,34,33,34],[35,25,39,25],[35,26,39,32],[35,34,39,34],[1,0,1,1],[1,2,1,5],[1,10,1,24],[2,0,2,1],[2,2,2,5],[2,11,2,24],[6,0,6,1],[6,2,6,35],[7,0,7,1],[7,2,7,35],[8,0,8,1],[8,2,8,35],[3,0,3,1],[3,10,3,24],[13,3,13,5],[13,6,13,11],[14,3,14,5],[14,6,14,11],[15,3,15,5],[15,6,15,11],[20,3,20,5],[20,6,20,11],[24,3,24,5],[24,6,24,11]]}
["Personalien",null,null,null,null,null,null,null,null,null,null,null,null,null,null,null,null,null,null,null,null,null,null,null,null,"Predisposizione",null,"Valutazioni",null,null,null,null,null,"Rating"]
["COGNOME",null,{"$f":"IF(ISBLANK(VLOOKUP(13,Tabelle3[],3,0)),\"-\",VLOOKUP(13,Tabelle3[],3,0))","v":"-"},null,null,null,"POSIZIONE",null,null,"INDIRIZZO",{"$f":"IF(ISBLANK(VLOOKUP(13,Tabelle3[],5,0)),\"-\",VLOOKUP(13,Tabelle3[],5,0))","v":"-"},null,null,null,null,null,null,null,null,null,null,null,null,null,null,"Età\" (biologica/età relativa)",null,"Data 1",null,null,"cm",null,"Kg",null,"ECCELLENTE",5]
["NOME",null,{"$f":"IF(ISBLANK(VLOOKUP(13,Tabelle3[],2,0)),\"-\",VLOOKUP(13,Tabelle3[],2,0))","v":"-"},null,null,null,"BASTONE",null,null,"LUOGO",{"$f":"IF(ISBLANK(VLOOKUP(13,Tabelle3[],7,0)),\"-\",VLOOKUP(13,Tabelle3[],7,0))","v":"-"},{"$f":"IF(ISBLANK(VLOOKUP(13,Tabelle3[],6,0)),\"-\",VLOOKUP(13,Tabelle3[],6,0))","v":"-"},null,null,null,null,null,null,null,null,null,null,null,null,null,"Predisposizione",null,"Data 2",null,null,"cm",null,"Kg",null,"BUONO",4]
["DATA DI NASC.",null,{"$f":"IF(ISBLANK(VLOOKUP(13,Tabelle3[],14,0)),\"-\",VLOOKUP(13,Tabelle3[],14,0))","v":"-"},{"$f":"IF(ISBLANK(VLOOKUP(13,Tabelle3[],15,0)),\"-\",VLOOKUP(13,Tabelle3[],15,0))","v":"-"},{"$f":"IF(ISBLANK(VLOOKUP(13,Tabelle3[],16,0)),\"-\",VLOOKUP(13,Tabelle3[],16,0))","v":"-"},null,"ALTEZZA",null,"cm (Finale)","TELEFONO",{"$f":"IF(ISBLANK(VLOOKUP(13,Tabelle3[],8,0)),\"-\",VLOOKUP(13,Tabelle3[],8,0))","v":"-"},null,null,null,null,null,null,null,null,null,null,null,null,null,null,"Ambiente di vita",null,"Data 3",null,null,"cm",null,"Kg",null,"MEDIO/DISCRETO",3]
["SESSO",null,{"$f":"IF(ISBLANK(VLOOKUP(13,Tabelle3[],13,0)),\"-\",VLOOKUP(13,Tabelle3[],13,0))","v":"-"},null,null,null,"PESO",null,"Kg (Finale)","E-Mail",{"$f":"IF(ISBLANK(VLOOKUP(13,Tabelle3[],9,0)),\"-\",VLOOKUP(13,Tabelle3[],9,0))","v":"-"},null,null,null,null,null,null,null,null,null,null,null,null,null,null,null,null,"Data 4",null,null,"cm",null,"Kg",null,"CON LACUNE",2]
[null,null,null,null,null,null,null,null,null,null,null,null,null,null,null,null,null,null,null,null,null,null,null,null,null,null,null,"Data 5",null,null,"cm",null,"Kg",null,"INSUFFICIENTE",1]
["Visione",null,"xxx"]
["Prossimo passo",null,"xxx"]
["Proflio giocatore",null,"xxx"]
[]
["VALUTAZIONI (COACH / GIOCATORE)",null,null,null,null,null,null,null,null,null,null,null,null,null,null,null,null,null,null,null,null,null,null,null,null,"Obiettivi SMART"]
[{"$f":"'Spiegazioni Skills FTEM'!A3","v":"TEAM"},null,null,{"$f":"'Spiegazioni Skills FTEM'!B3","v":"CAPACITÀ"},null,null,{"$f":"'Spiegazioni Skills FTEM'!C3","v":"CRITERIO D'OSSERVAZIONE"},null,null,{"$f":"'Spiegazioni Skills FTEM'!H3","v":0},null,null,"Final","Data1",null,"Data2",null,"Data3",null,"Data4",null,"Data5",null,"Player",null,"OBIETTIVO","PROVVEDIMENTI:\n(SPECIFICI, MISURABILI, REALISTICI)",null,null,null,null,null,null,"TERMINE","COTROLLO DELL'OBIETTIVO","Data"]
[{"$f":"'Spiegazioni Skills FTEM'!A4","v":"SQUADRA"},null,null,{"$f":"IF($H$2=\"G\",'Spiegazioni Skills FTEM'!F4,'Spiegazioni Skills FTEM'!B4)","v":"Comunicazione"},null,null,{"$f":"IF($H$2=\"G\",'Spiegazioni Skills FTEM'!G4,'Spiegazioni Skills FTEM'!C4)","v":"Cura relazioni aperte e rispettose, fiducia quale base comportamentale, affronta i conflitti senza ledere la stabilità del gruppo, comunica con i compagni, gli allenatori e\nfunzionari con i medesimi valori"},null,null,{"$f":"IF($H$2=\"G\",'Spiegazioni Skills FTEM'!#REF!,'Spiegazioni Skills FTEM'!#REF!)","v":{"$error":"#REF!"}},null,null,null,{"$f":"IFERROR(AVERAGE(O13:O17),\"-\")","v":"-"},null,{"$f":"IFERROR(AVERAGE(Q13:Q17),\"-\")","v":"-"},null,{"$f":"IFERROR(AVERAGE(S13:S17),\"-\")","v":"-"},null,{"$f":"IFERROR(AVERAGE(U13:U17),\"-\")","v":"-"},null,{"$f":"IFERROR(AVERAGE(W13:W17),\"-\")","v":"-"},null,{"$f":"IFERROR(AVERAGE(Y13:Y17),\"-\")","v":"-"}]
[{"$f":"'Spiegazioni Skills FTEM'!A5","v":0},null,null,{"$f":"IF($H$2=\"G\",'Spiegazioni Skills FTEM'!F5,'Spiegazioni Skills FTEM'!B5)","v":"Capacità nella squadra"},null,null,{"$f":"IF($H$2=\"G\",'Spiegazioni Skills FTEM'!G5,'Spiegazioni Skills FTEM'!C5)","v":"Integrazione nel gruppo, definisce e realizza obiettivi comuni, NOI prima dell'IO, contribuisce a creare un buon spirito di squadra e clima di lavoro"},null,null,{"$f":"IF($H$2=\"G\",'Spiegazioni Skills FTEM'!#REF!,'Spiegazioni Skills FTEM'!#REF!)","v":{"$error":"#REF!"}}]
[{"$f":"'Spiegazioni Skills FTEM'!A6","v":0},null,null,{"$f":"IF($H$2=\"G\",'Spiegazioni Skills FTEM'!F6,'Spiegazioni Skills FTEM'!B6)","v":"Leadership"},null,null,{"$f":"IF($H$2=\"G\",'Spiegazioni Skills FTEM'!G6,'Spiegazioni Skills FTEM'!C6)","v":"Assume responsabilità nell'ambito del gruppo, cerca di migliorare la squadra e i compagni, influenza positivamente la dinamica di gruppo"},null,null,{"$f":"IF($H$2=\"G\",'Spiegazioni Skills FTEM'!#REF!,'Spiegazioni Skills FTEM'!#REF!)","v":{"$error":"#REF!"}}]
[{"$f":"'Spiegazioni Skills FTEM'!A7","v":0},null,null,{"$f":"IF($H$2=\"G\",'Spiegazioni Skills FTEM'!F7,'Spiegazioni Skills FTEM'!B7)","v":"Ripartizione dei ruoli"},null,null,{"$f":"IF($H$2=\"G\",'Spiegazioni Skills FTEM'!G7,'Spiegazioni Skills FTEM'!C7)","v":"Riconosce e adempie il suo ruolo, è cosciente della sua posizione nel sistema e nella squadra, mette a disposizione della squadra le sue competenze"},null,null,{"$f":"IF($H$2=\"G\",'Spiegazioni Skills FTEM'!#REF!,'Spiegazioni Skills FTEM'!#REF!)","v":{"$error":"#REF!"}}]
[{"$f":"'Spiegazioni Skills FTEM'!A8","v":0},null,null,{"$f":"IF($H$2=\"G\",'Spiegazioni Skills FTEM'!F8,'Spiegazioni Skills FTEM'!B8)","v":"Rispetto"},null,null,{"$f":"IF($H$2=\"G\",'Spiegazioni Skills FTEM'!G8,'Spiegazioni Skills FTEM'!C8)","v":"Relazioni rispettose con i compagni, allenatori, avversari, arbitri e staff; rispetta le regole i pricipi del fairplay (compreso la lotta al doping)"},null,null,{"$f":"IF($H$2=\"G\",'Spiegazioni Skills FTEM'!#REF!,'Spiegazioni Skills FTEM'!#REF!)","v":{"$error":"#REF!"}}]
[{"$f":"'Spiegazioni Skills FTEM'!A9","v":"ON ICE"},null,null,{"$f":"'Spiegazioni Skills FTEM'!B9","v":"CAPACITÀ"},null,null,{"$f":"'Spiegazioni Skills FTEM'!C9","v":"CRITERIO D'OSSERVAZIONE"},null,null,{"$f":"'Spiegazioni Skills FTEM'!H9","v":0},null,null,null,"Data1",null,"Data2",null,"Data3",null,"Data4",null,"Data5",null,"Player",null,"OBIETTIVO","PROVVEDIMENTI:\n(SPECIFICI, MISURABILI, REALISTICI)",null,null,null,null,null,null,"TERMINE","COTROLLO DELL'OBIETTIVO","Date"]
[{"$f":"'Spiegazioni Skills FTEM'!A10","v":"PATTINAGGIO"},null,null,{"$f":"IF($H$2=\"G\",'Spiegazioni Skills FTEM'!F10,'Spiegazioni Skills FTEM'!B10)","v":"Velocità dei piedi"},null,null,{"$f":"IF($H$2=\"G\",'Spiegazioni Skills FTEM'!G10,'Spiegazioni Skills FTEM'!C10)","v":"Accelerazione, partenza, esplosività dei primi 3 passi, frequenza"},null,null,{"$f":"IF($H$2=\"G\",'Spiegazioni Skills FTEM'!#REF!,'Spiegazioni Skills FTEM'!#REF!)","v":{"$error":"#REF!"}},null,null,null,{"$f":"IFERROR(AVERAGE(O19:O23),\"-\")","v":"-"},null,{"$f":"IFERROR(AVERAGE(Q19:Q23),\"-\")","v":"-"},null,{"$f":"IFERROR(AVERAGE(S19:S23),\"-\")","v":"-"},null,{"$f":"IFERROR(AVERAGE(U19:U23),\"-\")","v":"-"},null,{"$f":"IFERROR(AVERAGE(W19:W23),\"-\")","v":"-"},null,{"$f":"IFERROR(AVERAGE(Y19:Y23),\"-\")","v":"-"}]
[{"$f":"'Spiegazioni Skills FTEM'!A11:A11","v":0},null,null,{"$f":"IF($H$2=\"G\",'Spiegazioni Skills FTEM'!F11,'Spiegazioni Skills FTEM'!B11)","v":"Velocità/rapidità"},null,null,{"$f":"IF($H$2=\"G\",'Spiegazioni Skills FTEM'!G11,'Spiegazioni Skills FTEM'!C11)","v":"Velocità, facoltà di scivolare, avanti / indietro, economia dello sforzo"},null,null,{"$f":"IF($H$2=\"G\",'Spiegazioni Skills FTEM'!#REF!,'Spiegazioni Skills FTEM'!#REF!)","v":{"$error":"#REF!"}}]
[null,null,null,{"$f":"IF($H$2=\"G\",'Spiegazioni Skills FTEM'!F12,'Spiegazioni Skills FTEM'!B12)","v":"Agilità"},null,null,{"$f":"IF($H$2=\"G\",'Spiegazioni Skills FTEM'!G12,'Spiegazioni Skills FTEM'!C12)","v":"Cambiamento di direzione, girarsi, stop e ripartenza, \"Nummelin\""},null,null,{"$f":"IF($H$2=\"G\",'Spiegazioni Skills FTEM'!#REF!,'Spiegazioni Skills FTEM'!#REF!)","v":{"$error":"#REF!"}}]
[{"$f":"'Spiegazioni Skills FTEM'!A12:A12","v":0},null,null,{"$f":"IF($H$2=\"G\",'Spiegazioni Skills FTEM'!F13,'Spiegazioni Skills FTEM'!B13)","v":"Equilibrio"},null,null,{"$f":"IF($H$2=\"G\",'Spiegazioni Skills FTEM'!G13,'Spiegazioni Skills FTEM'!C13)","v":"Equilibrio, stabilità, posizione bassa, su una gamba, su entrambe"},null,null,{"$f":"IF($H$2=\"G\",'Spiegazioni Skills FTEM'!#REF!,'Spiegazioni Skills FTEM'!#REF!)","v":{"$error":"#REF!"}},null,null,null,{"$f":"IFERROR(AVERAGE(O22:O23),\"-\")","v":"-"},null,{"$f":"IFERROR(AVERAGE(Q22:Q23),\"-\")","v":"-"},null,{"$f":"IFERROR(AVERAGE(S22:S23),\"-\")","v":"-"},null,{"$f":"IFERROR(AVERAGE(U22:U23),\"-\")","v":"-"},null,{"$f":"IFERROR(AVERAGE(W22:W23),\"-\")","v":"-"},null,"-"]
[{"$f":"'Spiegazioni Skills FTEM'!A14:A14","v":0},null,null,{"$f":"IF($H$2=\"G\",'Spiegazioni Skills FTEM'!F14,'Spiegazioni Skills FTEM'!B14)","v":"Pattinaggio indietro"},null,null,{"$f":"IF($H$2=\"G\",'Spiegazioni Skills FTEM'!G14,'Spiegazioni Skills FTEM'!C14)","v":"Accelerazione, velocità, equilibrio"},null,null,{"$f":"IF($H$2=\"G\",'Spiegazioni Skills FTEM'!#REF!,'Spiegazioni Skills FTEM'!#REF!)","v":{"$error":"#REF!"}}]
[{"$f":"'Spiegazioni Skills FTEM'!A15","v":"ABILITÀ"},null,null,{"$f":"IF($H$2=\"G\",'Spiegazioni Skills FTEM'!F15,'Spiegazioni Skills FTEM'!B15)","v":"Tirare"},null,null,{"$f":"IF($H$2=\"G\",'Spiegazioni Skills FTEM'!G15,'Spiegazioni Skills FTEM'!C15)","v":"Efficienza (poco spazio, poco tempo), ricchezza di varianti, grado di sorpresa (Quick Release), precisione, potenza (conclusioni tattiche)"},null,null,{"$f":"IF($H$2=\"G\",'Spiegazioni Skills FTEM'!#REF!,'Spiegazioni Skills FTEM'!#REF!)","v":{"$error":"#REF!"}},null,null,null,{"$f":"IFERROR(AVERAGE(O24:O29),\"-\")","v":"-"},null,{"$f":"IFERROR(AVERAGE(Q24:Q29),\"-\")","v":"-"},null,{"$f":"IFERROR(AVERAGE(S24:S29),\"-\")","v":"-"},null,{"$f":"IFERROR(AVERAGE(U24:U29),\"-\")","v":"-"},null,{"$f":"IFERROR(AVERAGE(W24:W29),\"-\")","v":"-"},null,{"$f":"IFERROR(AVERAGE(Y24:Y29),\"-\")","v":"-"}]
[null,null,null,{"$f":"IF($H$2=\"G\",'Spiegazioni Skills FTEM'!F16,'Spiegazioni Skills FTEM'!B16)","v":"Passare"},null,null,{"$f":"IF($H$2=\"G\",'Spiegazioni Skills FTEM'!G16,'Spiegazioni Skills FTEM'!C16)","v":"Passaggio (distanza, flipp, rovescio), ricezione del passaggio (precisione, timing, diritto, rovescio, sul pattino), velocità del disco"},null,null,{"$f":"IF($H$2=\"G\",'Spiegazioni Skills FTEM'!#REF!,'Spiegazioni Skills FTEM'!#REF!)","v":{"$error":"#REF!"}}]
[null,null,null,{"$f":"IF($H$2=\"G\",'Spiegazioni Skills FTEM'!F17,'Spiegazioni Skills FTEM'!B17)","v":"Lavoro col bastone - condotta del disco"},null,null,{"$f":"IF($H$2=\"G\",'Spiegazioni Skills FTEM'!G17,'Spiegazioni Skills FTEM'!C17)","v":"Bastone sul disco, intercettare le linee di passaggio, deviare, controllo del bastone avversario"},null,null,{"$f":"IF($H$2=\"G\",'Spiegazioni Skills FTEM'!#REF!,'Spiegazioni Skills FTEM'!#REF!)","v":{"$error":"#REF!"}}]
[{"$f":"'Spiegazioni Skills FTEM'!A16:A16","v":0},null,null,{"$f":"IF($H$2=\"G\",'Spiegazioni Skills FTEM'!F18,'Spiegazioni Skills FTEM'!B18)","v":"Possedere/proteggere il disco"},null,null,{"$f":"IF($H$2=\"G\",'Spiegazioni Skills FTEM'!G18,'Spiegazioni Skills FTEM'!C18)","v":"Controllo del disco, dribbling, protezione del disco, finte (varianti col pattino, con o senza la balaustra), ingaggi (face-off)"},null,null,{"$f":"IF($H$2=\"G\",'Spiegazioni Skills FTEM'!#REF!,'Spiegazioni Skills FTEM'!#REF!)","v":{"$error":"#REF!"}}]
[{"$f":"'Spiegazioni Skills FTEM'!A17:A17","v":0},null,null,{"$f":"IF($H$2=\"G\",'Spiegazioni Skills FTEM'!F19,'Spiegazioni Skills FTEM'!B19)","v":"Gioco del corpo"},null,null,{"$f":"IF($H$2=\"G\",'Spiegazioni Skills FTEM'!G19,'Spiegazioni Skills FTEM'!C19)","v":"Facoltà di imporsi fisicamente, duelli (ghiaccio aperto, balaustra), subire dei checks/testa alta, livello di lotta, duro ma corretto, blocco dei tiri con il corpo"},null,null,{"$f":"IF($H$2=\"G\",'Spiegazioni Skills FTEM'!#REF!,'Spiegazioni Skills FTEM'!#REF!)","v":{"$error":"#REF!"}}]
[{"$f":"'Spiegazioni Skills FTEM'!A20:A20","v":0},null,null,{"$f":"IF($H$2=\"G\",'Spiegazioni Skills FTEM'!F20,'Spiegazioni Skills FTEM'!B20)","v":"-"},null,null,{"$f":"IF($H$2=\"G\",'Spiegazioni Skills FTEM'!G20,'Spiegazioni Skills FTEM'!C20)","v":"-"},null,null,{"$f":"IF($H$2=\"G\",'Spiegazioni Skills FTEM'!#REF!,'Spiegazioni Skills FTEM'!#REF!)","v":{"$error":"#REF!"}}]
[{"$f":"'Spiegazioni Skills FTEM'!A21","v":"SENSO DELL'HOCKEY"},null,null,{"$f":"IF($H$2=\"G\",'Spiegazioni Skills FTEM'!F21,'Spiegazioni Skills FTEM'!B21)","v":"Intelligenza nel gioco"},null,null,{"$f":"IF($H$2=\"G\",'Spiegazioni Skills FTEM'!G21,'Spiegazioni Skills FTEM'!C21)","v":"Vedere spazi e giocatori liberi, creare situazioni di superiorità numerica, agire cercando soluzioni in tutte le situazioni, velocità di visualizzazione"},null,null,{"$f":"IF($H$2=\"G\",'Spiegazioni Skills FTEM'!#REF!,'Spiegazioni Skills FTEM'!#REF!)","v":{"$error":"#REF!"}},null,null,null,{"$f":"IFERROR(AVERAGE(O30:O34),\"-\")","v":"-"},null,{"$f":"IFERROR(AVERAGE(Q30:Q34),\"-\")","v":"-"},null,{"$f":"IFERROR(AVERAGE(S30:S34),\"-\")","v":"-"},null,{"$f":"IFERROR(AVERAGE(U30:U34),\"-\")","v":"-"},null,{"$f":"IFERROR(AVERAGE(W30:W34),\"-\")","v":"-"},null,{"$f":"IFERROR(AVERAGE(Y30:Y34),\"-\")","v":"-"}]
[{"$f":"'Spiegazioni Skills FTEM'!A22:A22","v":0},null,null,{"$f":"IF($H$2=\"G\",'Spiegazioni Skills FTEM'!F22,'Spiegazioni Skills FTEM'!B22)","v":"Sensibilità offensiva"},null,null,{"$f":"IF($H$2=\"G\",'Spiegazioni Skills FTEM'!G22,'Spiegazioni Skills FTEM'!C22)","v":"Smarcarsi, anticipare le situazioni di gioco, aprire spazi liberi per i compagni, piazzarsi per le conclusioni, velocità nel chiudere gli spazi (pressione), comunicazione"},null,null,{"$f":"IF($H$2=\"G\",'Spiegazioni Skills FTEM'!#REF!,'Spiegazioni Skills FTEM'!#REF!)","v":{"$error":"#REF!"}}]
[null,null,null,{"$f":"IF($H$2=\"G\",'Spiegazioni Skills FTEM'!F23,'Spiegazioni Skills FTEM'!B23)","v":"Sensibilità difensiva"},null,null,{"$f":"IF($H$2=\"G\",'Spiegazioni Skills FTEM'!G23,'Spiegazioni Skills FTEM'!C23)","v":"Mantenere la posizione difensiva, protezione dello slot, assicurare i compagni / supporto, individuare le linee di passaggio, bloccare i tiri, ridurre velocemente gli spazi, comunicazione"},null,null,{"$f":"IF($H$2=\"G\",'Spiegazioni Skills FTEM'!#REF!,'Spiegazioni Skills FTEM'!#REF!)","v":{"$error":"#REF!"}}]
[{"$f":"'Spiegazioni Skills FTEM'!A24:A24","v":0},null,null,{"$f":"IF($H$2=\"G\",'Spiegazioni Skills FTEM'!F24,'Spiegazioni Skills FTEM'!B24)","v":"Gestione del disco"},null,null,{"$f":"IF($H$2=\"G\",'Spiegazioni Skills FTEM'!G24,'Spiegazioni Skills FTEM'!C24)","v":"Prendere decisioni adeguate nelle situazioni di gioco, supporto, creare superiorità numerica"},null,null,{"$f":"IF($H$2=\"G\",'Spiegazioni Skills FTEM'!#REF!,'Spiegazioni Skills FTEM'!#REF!)","v":{"$error":"#REF!"}}]
[{"$f":"'Spiegazioni Skills FTEM'!A25:A25","v":0},null,null,{"$f":"IF($H$2=\"G\",'Spiegazioni Skills FTEM'!F25,'Spiegazioni Skills FTEM'!B25)","v":"Creatività"},null,null,{"$f":"IF($H$2=\"G\",'Spiegazioni Skills FTEM'!G25,'Spiegazioni Skills FTEM'!C25)","v":"Creare situazioni a sorpresa, fiuto del gol"},null,null,{"$f":"IF($H$2=\"G\",'Spiegazioni Skills FTEM'!#REF!,'Spiegazioni Skills FTEM'!#REF!)","v":{"$error":"#REF!"}}]
[{"$f":"'Spiegazioni Skills FTEM'!A26","v":"PERSONALITY"},null,null,{"$f":"'Spiegazioni Skills FTEM'!B26","v":"CAPACITÀ"},null,null,{"$f":"'Spiegazioni Skills FTEM'!C26","v":"CRITERIO D'OSSERVAZIONE"},null,null,{"$f":"'Spiegazioni Skills FTEM'!H26","v":0},null,null,null,"Data1",null,"Data2",null,"Data3",null,"Data4",null,"Data5",null,"Player",null,"OBIETTIVO","PROVVEDIMENTI:\n(SPECIFICI, MISURABILI, REALISTICI)",null,null,null,null,null,null,"TERMINE","COTROLLO DELL'OBIETTIVO","Date"]
[{"$f":"'Spiegazioni Skills FTEM'!A27","v":"PERSONALITÀ"},null,null,{"$f":"IF($H$2=\"G\",'Spiegazioni Skills FTEM'!F27,'Spiegazioni Skills FTEM'!B27)","v":"Fiducia in se stesso"},null,null,{"$f":"IF($H$2=\"G\",'Spiegazioni Skills FTEM'!G27,'Spiegazioni Skills FTEM'!C27)","v":"Possiede la necessaria fiducia in se stesso, «I can do it»-attitudine, sa valutare le proprie capacità (conosce i propri punti forti e deboli), può realizzare le proprie qualità con\ncostanza, è coraggioso e sa prendere dei rischi calcolati"},null,null,{"$f":"IF($H$2=\"G\",'Spiegazioni Skills FTEM'!#REF!,'Spiegazioni Skills FTEM'!#REF!)","v":{"$error":"#REF!"}},null,null,null,{"$f":"IFERROR(AVERAGE(O36:O40),\"-\")","v":"-"},null,{"$f":"IFERROR(AVERAGE(Q36:Q40),\"-\")","v":"-"},null,{"$f":"IFERROR(AVERAGE(S36:S40),\"-\")","v":"-"},null,{"$f":"IFERROR(AVERAGE(U36:U40),\"-\")","v":"-"},null,{"$f":"IFERROR(AVERAGE(W36:W40),\"-\")","v":"-"},null,{"$f":"IFERROR(AVERAGE(Y36:Y40),\"-\")","v":"-"}]
[{"$f":"'Spiegazioni Skills FTEM'!A28:A28","v":0},null,null,{"$f":"IF($H$2=\"G\",'Spiegazioni Skills FTEM'!F28,'Spiegazioni Skills FTEM'!B28)","v":"Capacità d'apprendimento"},null,null,{"$f":"IF($H$2=\"G\",'Spiegazioni Skills FTEM'!G28,'Spiegazioni Skills FTEM'!C28)","v":"Ha una buona capacità d'apprendimento (sa recepire e realizzare), possiede una personalità, cerca di imparare dai propri errori derivandone delle misure"},null,null,{"$f":"IF($H$2=\"G\",'Spiegazioni Skills FTEM'!#REF!,'Spiegazioni Skills FTEM'!#REF!)","v":{"$error":"#REF!"}}]
[null,null,null,{"$f":"IF($H$2=\"G\",'Spiegazioni Skills FTEM'!F29,'Spiegazioni Skills FTEM'!B29)","v":"Senso di responsabilità"},null,null,{"$f":"IF($H$2=\"G\",'Spiegazioni Skills FTEM'!G29,'Spiegazioni Skills FTEM'!C29)","v":"Assume responsabiltà per le proprie prestazioni e sviluppo, agisce autonomamente, cura i dettagli, mostra un grande impegno in tutti i settori"},null,null,{"$f":"IF($H$2=\"G\",'Spiegazioni Skills FTEM'!#REF!,'Spiegazioni Skills FTEM'!#REF!)","v":{"$error":"#REF!"}}]
[{"$f":"'Spiegazioni Skills FTEM'!A30:A30","v":0},null,null,{"$f":"IF($H$2=\"G\",'Spiegazioni Skills FTEM'!F30,'Spiegazioni Skills FTEM'!B30)","v":"Motivazione"},null,null,{"$f":"IF($H$2=\"G\",'Spiegazioni Skills FTEM'!G30,'Spiegazioni Skills FTEM'!C30)","v":"È sempre motivato, vuole sempre svilupparsi e imparare, vuol essere il primo e avere successo, non rinuncia mai e non si lascia influenzare dagli insuccessi"},null,null,{"$f":"IF($H$2=\"G\",'Spiegazioni Skills FTEM'!#REF!,'Spiegazioni Skills FTEM'!#REF!)","v":{"$error":"#REF!"}}]
[{"$f":"'Spiegazioni Skills FTEM'!A31:A31","v":0},null,null,{"$f":"IF($H$2=\"G\",'Spiegazioni Skills FTEM'!F31,'Spiegazioni Skills FTEM'!B31)","v":"Prestazione Stile di vita"},null,null,{"$f":"IF($H$2=\"G\",'Spiegazioni Skills FTEM'!G31,'Spiegazioni Skills FTEM'!C31)","v":"Gestisce bene la quotidianità il suo ambiente seguendo i principi della prestazione, caparbio, perseverante e finalizzato sugli obiettivi, focus sulla propria prestazione, coraggioso e grintoso, sa imporsi nei confronti delle resistenze, le sfide lo motivano"},null,null,{"$f":"IF($H$2=\"G\",'Spiegazioni Skills FTEM'!#REF!,'Spiegazioni Skills FTEM'!#REF!)","v":{"$error":"#REF!"}}]
[{"$f":"'Spiegazioni Skills FTEM'!A32","v":"FORZA MENTALE"},null,null,{"$f":"IF($H$2=\"G\",'Spiegazioni Skills FTEM'!F32,'Spiegazioni Skills FTEM'!B32)","v":"Impegno"},null,null,{"$f":"IF($H$2=\"G\",'Spiegazioni Skills FTEM'!G32,'Spiegazioni Skills FTEM'!C32)","v":"Mostra molta intensità negli allenamenti e nelle partite, dà sempre il massimo e vuole sempre spronare i propri limiti, mostra passione, si sforza ad alzare la qualità negli allenamenti"},null,null,{"$f":"IF($H$2=\"G\",'Spiegazioni Skills FTEM'!#REF!,'Spiegazioni Skills FTEM'!#REF!)","v":{"$error":"#REF!"}},null,null,null,{"$f":"IFERROR(AVERAGE(O41:O45),\"-\")","v":"-"},null,{"$f":"IFERROR(AVERAGE(Q41:Q45),\"-\")","v":"-"},null,{"$f":"IFERROR(AVERAGE(S41:S45),\"-\")","v":"-"},null,{"$f":"IFERROR(AVERAGE(U41:U45),\"-\")","v":"-"},null,{"$f":"IFERROR(AVERAGE(W41:W45),\"-\")","v":"-"},null,{"$f":"IFERROR(AVERAGE(Y41:Y45),\"-\")","v":"-"}]
[null,null,null,{"$f":"IF($H$2=\"G\",'Spiegazioni Skills FTEM'!F33,'Spiegazioni Skills FTEM'!B33)","v":"Preparazione"},null,null,{"$f":"IF($H$2=\"G\",'Spiegazioni Skills FTEM'!G33,'Spiegazioni Skills FTEM'!C33)","v":"Preparazione consapevole e finalizzata, mentalmente e fisicamente, possiede un efficiente approccio per l'ottenimento dell'ideale stato di prestazione (ILZ/ISP)"},null,null,{"$f":"IF($H$2=\"G\",'Spiegazioni Skills FTEM'!#REF!,'Spiegazioni Skills FTEM'!#REF!)","v":{"$error":"#REF!"}}]
[{"$f":"'Spiegazioni Skills FTEM'!A34:A34","v":0},null,null,{"$f":"IF($H$2=\"G\",'Spiegazioni Skills FTEM'!F34,'Spiegazioni Skills FTEM'!B34)","v":"Coaching individuale"},null,null,{"$f":"IF($H$2=\"G\",'Spiegazioni Skills FTEM'!G34,'Spiegazioni Skills FTEM'!C34)","v":"Possiede una buona capacità di concentrazione, può mantenere il suo ILZ/ISP durante la partita e l'allenamento, può utilizzare tecniche di base per rafforzare il mentale, resistenti contro pensieri e influenze negative, è consapevole del proprio linguaggio del corpo che è in grado di padroneggiare"},null,null,{"$f":"IF($H$2=\"G\",'Spiegazioni Skills FTEM'!#REF!,'Spiegazioni Skills FTEM'!#REF!)","v":{"$error":"#REF!"}}]
[{"$f":"'Spiegazioni Skills FTEM'!A35:A35","v":0},null,null,{"$f":"IF($H$2=\"G\",'Spiegazioni Skills FTEM'!F35,'Spiegazioni Skills FTEM'!B35)","v":"Gestione delle energie"},null,null,{"$f":"IF($H$2=\"G\",'Spiegazioni Skills FTEM'!G35,'Spiegazioni Skills FTEM'!C35)","v":"Può gestire le proprie energie, cura la rigenerazione, può gestire i momenti in cui si deve andare al massimo oppure risparmiarsi, interruttore on/off"},null,null,{"$f":"IF($H$2=\"G\",'Spiegazioni Skills FTEM'!#REF!,'Spiegazioni Skills FTEM'!#REF!)","v":{"$error":"#REF!"}}]
[{"$f":"'Spiegazioni Skills FTEM'!A36:A36","v":0},null,null,{"$f":"IF($H$2=\"G\",'Spiegazioni Skills FTEM'!F36,'Spiegazioni Skills FTEM'!B36)","v":"Controllo delle emozioni"},null,null,{"$f":"IF($H$2=\"G\",'Spiegazioni Skills FTEM'!G36,'Spiegazioni Skills FTEM'!C36)","v":"Può regolare le proprie emozioni e impulsi, mantiene il controllo quando si trova sotto pressione, sa anche agire adeguatamente in situazioni emotive o frustranti"},null,null,{"$f":"IF($H$2=\"G\",'Spiegazioni Skills FTEM'!#REF!,'Spiegazioni Skills FTEM'!#REF!)","v":{"$error":"#REF!"}}]
[{"$f":"'Spiegazioni Skills FTEM'!A37","v":"FISICO"},null,null,{"$f":"IF($H$2=\"G\",'Spiegazioni Skills FTEM'!F37,'Spiegazioni Skills FTEM'!B37)","v":"Produzione di prestazione"},null,null,{"$f":"IF($H$2=\"G\",'Spiegazioni Skills FTEM'!G37,'Spiegazioni Skills FTEM'!C37)","v":"Possiede nelle gambe e nella parte alta del corpo la necessaria potenza/forza/velocità (fattori neuromuscolari)"},null,null,{"$f":"IF($H$2=\"G\",'Spiegazioni Skills FTEM'!#REF!,'Spiegazioni Skills FTEM'!#REF!)","v":{"$error":"#REF!"}},null,null,null,{"$f":"IFERROR(AVERAGE(O46:O50),\"-\")","v":"-"},null,{"$f":"IFERROR(AVERAGE(Q46:Q50),\"-\")","v":"-"},null,{"$f":"IFERROR(AVERAGE(S46:S50),\"-\")","v":"-"},null,{"$f":"IFERROR(AVERAGE(U46:U50),\"-\")","v":"-"},null,{"$f":"IFERROR(AVERAGE(W46:W50),\"-\")","v":"-"},null,{"$f":"IFERROR(AVERAGE(Y46:Y50),\"-\")","v":"-"}]
[null,null,null,{"$f":"IF($H$2=\"G\",'Spiegazioni Skills FTEM'!F38,'Spiegazioni Skills FTEM'!B38)","v":"Resistenza specifica alla fatica"},null,null,{"$f":"IF($H$2=\"G\",'Spiegazioni Skills FTEM'!G38,'Spiegazioni Skills FTEM'!C38)","v":"È capace di mantenere a lungo nell'ambito di un impiego la potenza/forza/velocità ed è capace di recuperare completamente attraverso i vari impieghi sul ghiaccio (fattori metabolici e cardiovascolari)"},null,null,{"$f":"IF($H$2=\"G\",'Spiegazioni Skills FTEM'!#REF!,'Spiegazioni Skills FTEM'!#REF!)","v":{"$error":"#REF!"}}]
[{"$f":"'Spiegazioni Skills FTEM'!A39:A39","v":0},null,null,{"$f":"IF($H$2=\"G\",'Spiegazioni Skills FTEM'!F39,'Spiegazioni Skills FTEM'!B39)","v":"Salute / prevenzione"},null,null,{"$f":"IF($H$2=\"G\",'Spiegazioni Skills FTEM'!G39,'Spiegazioni Skills FTEM'!C39)","v":"Possiede la necessaria stabilità (stabilità delle gambe) e mobilità delle articolazioni centrali"},null,null,{"$f":"IF($H$2=\"G\",'Spiegazioni Skills FTEM'!#REF!,'Spiegazioni Skills FTEM'!#REF!)","v":{"$error":"#REF!"}}]
[{"$f":"'Spiegazioni Skills FTEM'!A40:A40","v":0},null,null,{"$f":"IF($H$2=\"G\",'Spiegazioni Skills FTEM'!F40,'Spiegazioni Skills FTEM'!B40)","v":"Competenze della mobilità"},null,null,{"$f":"IF($H$2=\"G\",'Spiegazioni Skills FTEM'!G40,'Spiegazioni Skills FTEM'!C40)","v":"Padroneggia le basilari capacità di movimento che garantiscono in modo determinante le abilità specifiche \"skills\", come pure l'efficacia dei movimenti"},null,null,{"$f":"IF($H$2=\"G\",'Spiegazioni Skills FTEM'!#REF!,'Spiegazioni Skills FTEM'!#REF!)","v":{"$error":"#REF!"}}]
[{"$f":"'Spiegazioni Skills FTEM'!A41:A41","v":0},null,null,{"$f":"IF($H$2=\"G\",'Spiegazioni Skills FTEM'!F41,'Spiegazioni Skills FTEM'!B41)","v":"Robustezza"},null,null,{"$f":"IF($H$2=\"G\",'Spiegazioni Skills FTEM'!G41,'Spiegazioni Skills FTEM'!C41)","v":"Possiede la necessaria forza di base (tensione del corpo) per vincere i duelli e resistere alle cariche"},null,null,{"$f":"IF($H$2=\"G\",'Spiegazioni Skills FTEM'!#REF!,'Spiegazioni Skills FTEM'!#REF!)","v":{"$error":"#REF!"}}]

{"sheet":"14","index":17,"n_rows":50,"n_cols":36,"rows_kept":50,"cut":false,"hidden":false,"merged":[[45,34,49,34],[45,12,49,12],[45,13,49,13],[45,15,49,15],[45,17,49,17],[45,19,49,19],[45,21,49,21],[45,23,49,23],[45,25,49,25],[45,26,49,32],[45,0,49,2],[45,3,45,5],[45,6,45,11],[46,3,46,5],[46,6,46,11],[48,3,48,5],[48,6,48,11],[49,3,49,5],[49,6,49,11],[47,3,47,5],[47,6,47,11],[40,23,44,23],[42,3,42,5],[42,6,42,11],[44,3,44,5],[44,6,44,11],[40,0,44,2],[40,3,40,5],[40,6,40,11],[40,12,44,12],[40,13,44,13],[40,15,44,15],[43,3,43,5],[43,6,43,11],[34,21,34,22],[35,17,39,17],[35,19,39,19],[35,21,39,21],[37,3,37,5],[37,6,37,11],[38,3,38,5],[38,6,38,11],[40,17,44,17],[40,19,44,19],[40,21,44,21],[36,3,36,5],[36,6,36,11],[41,3,41,5],[41,6,41,11],[29,0,33,2],[29,3,29,5],[29,6,29,11],[29,12,33,12],[29,13,33,13],[29,15,33,15],[34,23,34,24],[34,26,34,32],[35,0,39,2],[35,3,35,5],[35,6,35,11],[35,12,39,12],[35,13,39,13],[35,15,39,15],[39,3,39,5],[39,6,39,11],[35,23,39,23],[34,0,34,2],[34,3,34,5],[34,6,34,11],[34,13,34,14],[34,15,34,16],[34,17,34,18],[34,19,34,20],[23,19,28,19],[23,21,28,21],[23,23,28,23],[26,3,26,5],[26,6,26,11],[28,3,28,5],[28,6,28,11],[33,3,33,5],[33,6,33,11],[29,23,33,23],[29,17,33,17],[29,19,33,19],[29,21,33,21],[31,3,31,5],[31,6,31,11],[32,3,32,5],[32,6,32,11],[27,3,27,5],[27,6,27,11],[25,3,25,5],[25,6,25,11],[30,3,30,5],[30,6,30,11],[12,21,16,21],[18,15,22,15],[18,17,22,17],[18,19,22,19],[18,21,22,21],[18,23,22,23],[22,3,22,5],[22,6,22,11],[23,0,28,2],[23,3,23,5],[23,6,23,11],[23,12,28,12],[23,13,28,13],[23,15,28,15],[23,17,28,17],[18,0,22,2],[18,3,18,5],[18,6,18,11],[18,12,22,12],[18,13,22,13],[19,3,19,5],[19,6,19,11],[21,3,21,5],[21,6,21,11],[11,21,11,22],[11,23,11,24],[11,26,11,32],[11,6,11,11],[12,23,16,23],[16,3,16,5],[16,6,16,11],[17,0,17,2],[17,3,17,5],[17,6,17,11],[17,13,17,14],[17,15,17,16],[17,17,17,18],[17,19,17,20],[17,21,17,22],[17,23,17,24],[12,0,16,2],[12,3,12,5],[12,6,12,11],[12,12,16,12],[12,13,16,13],[12,15,16,15],[12,17,16,17],[12,19,16,19],[4,0,4,1],[4,2,4,5],[4,10,4,24],[10,0,10,24],[10,25,10,35],[40,25,44,25],[40,26,44,32],[40,34,44,34],[12,25,16,25],[12,26,16,32],[12,34,16,34],[18,25,22,25],[18,26,22,32],[18,34,22,34],[23,25,28,25],[23,26,28,32],[23,34,28,34],[17,26,17,32],[11,0,11,2],[11,3,11,5],[11,13,11,14],[11,15,11,16],[11,17,11,18],[11,19,11,20],[0,0,0,24],[0,25,0,26],[0,27,0,32],[0,33,0,35],[29,25,33,25],[29,26,33,32],[29,34,33,34],[35,25,39,25],[35,26,39,32],[35,34,39,34],[1,0,1,1],[1,2,1,5],[1,10,1,24],[2,0,2,1],[2,2,2,5],[2,11,2,24],[6,0,6,1],[6,2,6,35],[7,0,7,1],[7,2,7,35],[8,0,8,1],[8,2,8,35],[3,0,3,1],[3,10,3,24],[13,3,13,5],[13,6,13,11],[14,3,14,5],[14,6,14,11],[15,3,15,5],[15,6,15,11],[20,3,20,5],[20,6,20,11],[24,3,24,5],[24,6,24,11]]}
["Personalien",null,null,null,null,null,null,null,null,null,null,null,null,null,null,null,null,null,null,null,null,null,null,null,null,"Predisposizione",null,"Valutazioni",null,null,null,null,null,"Rating"]
["COGNOME",null,{"$f":"IF(ISBLANK(VLOOKUP(14,Tabelle3[],3,0)),\"-\",VLOOKUP(14,Tabelle3[],3,0))","v":"-"},null,null,null,"POSIZIONE",null,null,"INDIRIZZO",{"$f":"IF(ISBLANK(VLOOKUP(14,Tabelle3[],5,0)),\"-\",VLOOKUP(14,Tabelle3[],5,0))","v":"-"},null,null,null,null,null,null,null,null,null,null,null,null,null,null,"Età\" (biologica/età relativa)",null,"Data 1",null,null,"cm",null,"Kg",null,"ECCELLENTE",5]
["NOME",null,{"$f":"IF(ISBLANK(VLOOKUP(14,Tabelle3[],2,0)),\"-\",VLOOKUP(14,Tabelle3[],2,0))","v":"-"},null,null,null,"BASTONE",null,null,"LUOGO",{"$f":"IF(ISBLANK(VLOOKUP(14,Tabelle3[],7,0)),\"-\",VLOOKUP(14,Tabelle3[],7,0))","v":"-"},{"$f":"IF(ISBLANK(VLOOKUP(14,Tabelle3[],6,0)),\"-\",VLOOKUP(14,Tabelle3[],6,0))","v":"-"},null,null,null,null,null,null,null,null,null,null,null,null,null,"Predisposizione",null,"Data 2",null,null,"cm",null,"Kg",null,"BUONO",4]
["DATA DI NASC.",null,{"$f":"IF(ISBLANK(VLOOKUP(14,Tabelle3[],14,0)),\"-\",VLOOKUP(14,Tabelle3[],14,0))","v":"-"},{"$f":"IF(ISBLANK(VLOOKUP(14,Tabelle3[],15,0)),\"-\",VLOOKUP(14,Tabelle3[],15,0))","v":"-"},{"$f":"IF(ISBLANK(VLOOKUP(14,Tabelle3[],16,0)),\"-\",VLOOKUP(14,Tabelle3[],16,0))","v":"-"},null,"ALTEZZA",null,"cm (Finale)","TELEFONO",{"$f":"IF(ISBLANK(VLOOKUP(14,Tabelle3[],8,0)),\"-\",VLOOKUP(14,Tabelle3[],8,0))","v":"-"},null,null,null,null,null,null,null,null,null,null,null,null,null,null,"Ambiente di vita",null,"Data 3",null,null,"cm",null,"Kg",null,"MEDIO/DISCRETO",3]
["SESSO",null,{"$f":"IF(ISBLANK(VLOOKUP(14,Tabelle3[],13,0)),\"-\",VLOOKUP(14,Tabelle3[],13,0))","v":"-"},null,null,null,"PESO",null,"Kg (Finale)","E-Mail",{"$f":"IF(ISBLANK(VLOOKUP(14,Tabelle3[],9,0)),\"-\",VLOOKUP(14,Tabelle3[],9,0))","v":"-"},null,null,null,null,null,null,null,null,null,null,null,null,null,null,null,null,"Data 4",null,null,"cm",null,"Kg",null,"CON LACUNE",2]
[null,null,null,null,null,null,null,null,null,null,null,null,null,null,null,null,null,null,null,null,null,null,null,null,null,null,null,"Data 5",null,null,"cm",null,"Kg",null,"INSUFFICIENTE",1]
["Visione",null,"xxx"]
["Prossimo passo",null,"xxx"]
["Proflio giocatore",null,"xxx"]
[]
["VALUTAZIONI (COACH / GIOCATORE)",null,null,null,null,null,null,null,null,null,null,null,null,null,null,null,null,null,null,null,null,null,null,null,null,"Obiettivi SMART"]
[{"$f":"'Spiegazioni Skills FTEM'!A3","v":"TEAM"},null,null,{"$f":"'Spiegazioni Skills FTEM'!B3","v":"CAPACITÀ"},null,null,{"$f":"'Spiegazioni Skills FTEM'!C3","v":"CRITERIO D'OSSERVAZIONE"},null,null,{"$f":"'Spiegazioni Skills FTEM'!H3","v":0},null,null,"Final","Data1",null,"Data2",null,"Data3",null,"Data4",null,"Data5",null,"Player",null,"OBIETTIVO","PROVVEDIMENTI:\n(SPECIFICI, MISURABILI, REALISTICI)",null,null,null,null,null,null,"TERMINE","COTROLLO DELL'OBIETTIVO","Data"]
[{"$f":"'Spiegazioni Skills FTEM'!A4","v":"SQUADRA"},null,null,{"$f":"IF($H$2=\"G\",'Spiegazioni Skills FTEM'!F4,'Spiegazioni Skills FTEM'!B4)","v":"Comunicazione"},null,null,{"$f":"IF($H$2=\"G\",'Spiegazioni Skills FTEM'!G4,'Spiegazioni Skills FTEM'!C4)","v":"Cura relazioni aperte e rispettose, fiducia quale base comportamentale, affronta i conflitti senza ledere la stabilità del gruppo, comunica con i compagni, gli allenatori e\nfunzionari con i medesimi valori"},null,null,{"$f":"IF($H$2=\"G\",'Spiegazioni Skills FTEM'!#REF!,'Spiegazioni Skills FTEM'!#REF!)","v":{"$error":"#REF!"}},null,null,null,{"$f":"IFERROR(AVERAGE(O13:O17),\"-\")","v":"-"},null,{"$f":"IFERROR(AVERAGE(Q13:Q17),\"-\")","v":"-"},null,{"$f":"IFERROR(AVERAGE(S13:S17),\"-\")","v":"-"},null,{"$f":"IFERROR(AVERAGE(U13:U17),\"-\")","v":"-"},null,{"$f":"IFERROR(AVERAGE(W13:W17),\"-\")","v":"-"},null,{"$f":"IFERROR(AVERAGE(Y13:Y17),\"-\")","v":"-"}]
[{"$f":"'Spiegazioni Skills FTEM'!A5","v":0},null,null,{"$f":"IF($H$2=\"G\",'Spiegazioni Skills FTEM'!F5,'Spiegazioni Skills FTEM'!B5)","v":"Capacità nella squadra"},null,null,{"$f":"IF($H$2=\"G\",'Spiegazioni Skills FTEM'!G5,'Spiegazioni Skills FTEM'!C5)","v":"Integrazione nel gruppo, definisce e realizza obiettivi comuni, NOI prima dell'IO, contribuisce a creare un buon spirito di squadra e clima di lavoro"},null,null,{"$f":"IF($H$2=\"G\",'Spiegazioni Skills FTEM'!#REF!,'Spiegazioni Skills FTEM'!#REF!)","v":{"$error":"#REF!"}}]
[{"$f":"'Spiegazioni Skills FTEM'!A6","v":0},null,null,{"$f":"IF($H$2=\"G\",'Spiegazioni Skills FTEM'!F6,'Spiegazioni Skills FTEM'!B6)","v":"Leadership"},null,null,{"$f":"IF($H$2=\"G\",'Spiegazioni Skills FTEM'!G6,'Spiegazioni Skills FTEM'!C6)","v":"Assume responsabilità nell'ambito del gruppo, cerca di migliorare la squadra e i compagni, influenza positivamente la dinamica di gruppo"},null,null,{"$f":"IF($H$2=\"G\",'Spiegazioni Skills FTEM'!#REF!,'Spiegazioni Skills FTEM'!#REF!)","v":{"$error":"#REF!"}}]
[{"$f":"'Spiegazioni Skills FTEM'!A7","v":0},null,null,{"$f":"IF($H$2=\"G\",'Spiegazioni Skills FTEM'!F7,'Spiegazioni Skills FTEM'!B7)","v":"Ripartizione dei ruoli"},null,null,{"$f":"IF($H$2=\"G\",'Spiegazioni Skills FTEM'!G7,'Spiegazioni Skills FTEM'!C7)","v":"Riconosce e adempie il suo ruolo, è cosciente della sua posizione nel sistema e nella squadra, mette a disposizione della squadra le sue competenze"},null,null,{"$f":"IF($H$2=\"G\",'Spiegazioni Skills FTEM'!#REF!,'Spiegazioni Skills FTEM'!#REF!)","v":{"$error":"#REF!"}}]
[{"$f":"'Spiegazioni Skills FTEM'!A8","v":0},null,null,{"$f":"IF($H$2=\"G\",'Spiegazioni Skills FTEM'!F8,'Spiegazioni Skills FTEM'!B8)","v":"Rispetto"},null,null,{"$f":"IF($H$2=\"G\",'Spiegazioni Skills FTEM'!G8,'Spiegazioni Skills FTEM'!C8)","v":"Relazioni rispettose con i compagni, allenatori, avversari, arbitri e staff; rispetta le regole i pricipi del fairplay (compreso la lotta al doping)"},null,null,{"$f":"IF($H$2=\"G\",'Spiegazioni Skills FTEM'!#REF!,'Spiegazioni Skills FTEM'!#REF!)","v":{"$error":"#REF!"}}]
[{"$f":"'Spiegazioni Skills FTEM'!A9","v":"ON ICE"},null,null,{"$f":"'Spiegazioni Skills FTEM'!B9","v":"CAPACITÀ"},null,null,{"$f":"'Spiegazioni Skills FTEM'!C9","v":"CRITERIO D'OSSERVAZIONE"},null,null,{"$f":"'Spiegazioni Skills FTEM'!H9","v":0},null,null,null,"Data1",null,"Data2",null,"Data3",null,"Data4",null,"Data5",null,"Player",null,"OBIETTIVO","PROVVEDIMENTI:\n(SPECIFICI, MISURABILI, REALISTICI)",null,null,null,null,null,null,"TERMINE","COTROLLO DELL'OBIETTIVO","Date"]
[{"$f":"'Spiegazioni Skills FTEM'!A10","v":"PATTINAGGIO"},null,null,{"$f":"IF($H$2=\"G\",'Spiegazioni Skills FTEM'!F10,'Spiegazioni Skills FTEM'!B10)","v":"Velocità dei piedi"},null,null,{"$f":"IF($H$2=\"G\",'Spiegazioni Skills FTEM'!G10,'Spiegazioni Skills FTEM'!C10)","v":"Accelerazione, partenza, esplosività dei primi 3 passi, frequenza"},null,null,{"$f":"IF($H$2=\"G\",'Spiegazioni Skills FTEM'!#REF!,'Spiegazioni Skills FTEM'!#REF!)","v":{"$error":"#REF!"}},null,null,null,{"$f":"IFERROR(AVERAGE(O19:O23),\"-\")","v":"-"},null,{"$f":"IFERROR(AVERAGE(Q19:Q23),\"-\")","v":"-"},null,{"$f":"IFERROR(AVERAGE(S19:S23),\"-\")","v":"-"},null,{"$f":"IFERROR(AVERAGE(U19:U23),\"-\")","v":"-"},null,{"$f":"IFERROR(AVERAGE(W19:W23),\"-\")","v":"-"},null,{"$f":"IFERROR(AVERAGE(Y19:Y23),\"-\")","v":"-"}]
[{"$f":"'Spiegazioni Skills FTEM'!A11:A11","v":0},null,null,{"$f":"IF($H$2=\"G\",'Spiegazioni Skills FTEM'!F11,'Spiegazioni Skills FTEM'!B11)","v":"Velocità/rapidità"},null,null,{"$f":"IF($H$2=\"G\",'Spiegazioni Skills FTEM'!G11,'Spiegazioni Skills FTEM'!C11)","v":"Velocità, facoltà di scivolare, avanti / indietro, economia dello sforzo"},null,null,{"$f":"IF($H$2=\"G\",'Spiegazioni Skills FTEM'!#REF!,'Spiegazioni Skills FTEM'!#REF!)","v":{"$error":"#REF!"}}]
[null,null,null,{"$f":"IF($H$2=\"G\",'Spiegazioni Skills FTEM'!F12,'Spiegazioni Skills FTEM'!B12)","v":"Agilità"},null,null,{"$f":"IF($H$2=\"G\",'Spiegazioni Skills FTEM'!G12,'Spiegazioni Skills FTEM'!C12)","v":"Cambiamento di direzione, girarsi, stop e ripartenza, \"Nummelin\""},null,null,{"$f":"IF($H$2=\"G\",'Spiegazioni Skills FTEM'!#REF!,'Spiegazioni Skills FTEM'!#REF!)","v":{"$error":"#REF!"}}]
[{"$f":"'Spiegazioni Skills FTEM'!A12:A12","v":0},null,null,{"$f":"IF($H$2=\"G\",'Spiegazioni Skills FTEM'!F13,'Spiegazioni Skills FTEM'!B13)","v":"Equilibrio"},null,null,{"$f":"IF($H$2=\"G\",'Spiegazioni Skills FTEM'!G13,'Spiegazioni Skills FTEM'!C13)","v":"Equilibrio, stabilità, posizione bassa, su una gamba, su entrambe"},null,null,{"$f":"IF($H$2=\"G\",'Spiegazioni Skills FTEM'!#REF!,'Spiegazioni Skills FTEM'!#REF!)","v":{"$error":"#REF!"}},null,null,null,{"$f":"IFERROR(AVERAGE(O22:O23),\"-\")","v":"-"},null,{"$f":"IFERROR(AVERAGE(Q22:Q23),\"-\")","v":"-"},null,{"$f":"IFERROR(AVERAGE(S22:S23),\"-\")","v":"-"},null,{"$f":"IFERROR(AVERAGE(U22:U23),\"-\")","v":"-"},null,{"$f":"IFERROR(AVERAGE(W22:W23),\"-\")","v":"-"},null,"-"]
[{"$f":"'Spiegazioni Skills FTEM'!A14:A14","v":0},null,null,{"$f":"IF($H$2=\"G\",'Spiegazioni Skills FTEM'!F14,'Spiegazioni Skills FTEM'!B14)","v":"Pattinaggio indietro"},null,null,{"$f":"IF($H$2=\"G\",'Spiegazioni Skills FTEM'!G14,'Spiegazioni Skills FTEM'!C14)","v":"Accelerazione, velocità, equilibrio"},null,null,{"$f":"IF($H$2=\"G\",'Spiegazioni Skills FTEM'!#REF!,'Spiegazioni Skills FTEM'!#REF!)","v":{"$error":"#REF!"}}]
[{"$f":"'Spiegazioni Skills FTEM'!A15","v":"ABILITÀ"},null,null,{"$f":"IF($H$2=\"G\",'Spiegazioni Skills FTEM'!F15,'Spiegazioni Skills FTEM'!B15)","v":"Tirare"},null,null,{"$f":"IF($H$2=\"G\",'Spiegazioni Skills FTEM'!G15,'Spiegazioni Skills FTEM'!C15)","v":"Efficienza (poco spazio, poco tempo), ricchezza di varianti, grado di sorpresa (Quick Release), precisione, potenza (conclusioni tattiche)"},null,null,{"$f":"IF($H$2=\"G\",'Spiegazioni Skills FTEM'!#REF!,'Spiegazioni Skills FTEM'!#REF!)","v":{"$error":"#REF!"}},null,null,null,{"$f":"IFERROR(AVERAGE(O24:O29),\"-\")","v":"-"},null,{"$f":"IFERROR(AVERAGE(Q24:Q29),\"-\")","v":"-"},null,{"$f":"IFERROR(AVERAGE(S24:S29),\"-\")","v":"-"},null,{"$f":"IFERROR(AVERAGE(U24:U29),\"-\")","v":"-"},null,{"$f":"IFERROR(AVERAGE(W24:W29),\"-\")","v":"-"},null,{"$f":"IFERROR(AVERAGE(Y24:Y29),\"-\")","v":"-"}]
[null,null,null,{"$f":"IF($H$2=\"G\",'Spiegazioni Skills FTEM'!F16,'Spiegazioni Skills FTEM'!B16)","v":"Passare"},null,null,{"$f":"IF($H$2=\"G\",'Spiegazioni Skills FTEM'!G16,'Spiegazioni Skills FTEM'!C16)","v":"Passaggio (distanza, flipp, rovescio), ricezione del passaggio (precisione, timing, diritto, rovescio, sul pattino), velocità del disco"},null,null,{"$f":"IF($H$2=\"G\",'Spiegazioni Skills FTEM'!#REF!,'Spiegazioni Skills FTEM'!#REF!)","v":{"$error":"#REF!"}}]
[null,null,null,{"$f":"IF($H$2=\"G\",'Spiegazioni Skills FTEM'!F17,'Spiegazioni Skills FTEM'!B17)","v":"Lavoro col bastone - condotta del disco"},null,null,{"$f":"IF($H$2=\"G\",'Spiegazioni Skills FTEM'!G17,'Spiegazioni Skills FTEM'!C17)","v":"Bastone sul disco, intercettare le linee di passaggio, deviare, controllo del bastone avversario"},null,null,{"$f":"IF($H$2=\"G\",'Spiegazioni Skills FTEM'!#REF!,'Spiegazioni Skills FTEM'!#REF!)","v":{"$error":"#REF!"}}]
[{"$f":"'Spiegazioni Skills FTEM'!A16:A16","v":0},null,null,{"$f":"IF($H$2=\"G\",'Spiegazioni Skills FTEM'!F18,'Spiegazioni Skills FTEM'!B18)","v":"Possedere/proteggere il disco"},null,null,{"$f":"IF($H$2=\"G\",'Spiegazioni Skills FTEM'!G18,'Spiegazioni Skills FTEM'!C18)","v":"Controllo del disco, dribbling, protezione del disco, finte (varianti col pattino, con o senza la balaustra), ingaggi (face-off)"},null,null,{"$f":"IF($H$2=\"G\",'Spiegazioni Skills FTEM'!#REF!,'Spiegazioni Skills FTEM'!#REF!)","v":{"$error":"#REF!"}}]
[{"$f":"'Spiegazioni Skills FTEM'!A17:A17","v":0},null,null,{"$f":"IF($H$2=\"G\",'Spiegazioni Skills FTEM'!F19,'Spiegazioni Skills FTEM'!B19)","v":"Gioco del corpo"},null,null,{"$f":"IF($H$2=\"G\",'Spiegazioni Skills FTEM'!G19,'Spiegazioni Skills FTEM'!C19)","v":"Facoltà di imporsi fisicamente, duelli (ghiaccio aperto, balaustra), subire dei checks/testa alta, livello di lotta, duro ma corretto, blocco dei tiri con il corpo"},null,null,{"$f":"IF($H$2=\"G\",'Spiegazioni Skills FTEM'!#REF!,'Spiegazioni Skills FTEM'!#REF!)","v":{"$error":"#REF!"}}]
[{"$f":"'Spiegazioni Skills FTEM'!A20:A20","v":0},null,null,{"$f":"IF($H$2=\"G\",'Spiegazioni Skills FTEM'!F20,'Spiegazioni Skills FTEM'!B20)","v":"-"},null,null,{"$f":"IF($H$2=\"G\",'Spiegazioni Skills FTEM'!G20,'Spiegazioni Skills FTEM'!C20)","v":"-"},null,null,{"$f":"IF($H$2=\"G\",'Spiegazioni Skills FTEM'!#REF!,'Spiegazioni Skills FTEM'!#REF!)","v":{"$error":"#REF!"}}]
[{"$f":"'Spiegazioni Skills FTEM'!A21","v":"SENSO DELL'HOCKEY"},null,null,{"$f":"IF($H$2=\"G\",'Spiegazioni Skills FTEM'!F21,'Spiegazioni Skills FTEM'!B21)","v":"Intelligenza nel gioco"},null,null,{"$f":"IF($H$2=\"G\",'Spiegazioni Skills FTEM'!G21,'Spiegazioni Skills FTEM'!C21)","v":"Vedere spazi e giocatori liberi, creare situazioni di superiorità numerica, agire cercando soluzioni in tutte le situazioni, velocità di visualizzazione"},null,null,{"$f":"IF($H$2=\"G\",'Spiegazioni Skills FTEM'!#REF!,'Spiegazioni Skills FTEM'!#REF!)","v":{"$error":"#REF!"}},null,null,null,{"$f":"IFERROR(AVERAGE(O30:O34),\"-\")","v":"-"},null,{"$f":"IFERROR(AVERAGE(Q30:Q34),\"-\")","v":"-"},null,{"$f":"IFERROR(AVERAGE(S30:S34),\"-\")","v":"-"},null,{"$f":"IFERROR(AVERAGE(U30:U34),\"-\")","v":"-"},null,{"$f":"IFERROR(AVERAGE(W30:W34),\"-\")","v":"-"},null,{"$f":"IFERROR(AVERAGE(Y30:Y34),\"-\")","v":"-"}]
[{"$f":"'Spiegazioni Skills FTEM'!A22:A22","v":0},null,null,{"$f":"IF($H$2=\"G\",'Spiegazioni Skills FTEM'!F22,'Spiegazioni Skills FTEM'!B22)","v":"Sensibilità offensiva"},null,null,{"$f":"IF($H$2=\"G\",'Spiegazioni Skills FTEM'!G22,'Spiegazioni Skills FTEM'!C22)","v":"Smarcarsi, anticipare le situazioni di gioco, aprire spazi liberi per i compagni, piazzarsi per le conclusioni, velocità nel chiudere gli spazi (pressione), comunicazione"},null,null,{"$f":"IF($H$2=\"G\",'Spiegazioni Skills FTEM'!#REF!,'Spiegazioni Skills FTEM'!#REF!)","v":{"$error":"#REF!"}}]
[null,null,null,{"$f":"IF($H$2=\"G\",'Spiegazioni Skills FTEM'!F23,'Spiegazioni Skills FTEM'!B23)","v":"Sensibilità difensiva"},null,null,{"$f":"IF($H$2=\"G\",'Spiegazioni Skills FTEM'!G23,'Spiegazioni Skills FTEM'!C23)","v":"Mantenere la posizione difensiva, protezione dello slot, assicurare i compagni / supporto, individuare le linee di passaggio, bloccare i tiri, ridurre velocemente gli spazi, comunicazione"},null,null,{"$f":"IF($H$2=\"G\",'Spiegazioni Skills FTEM'!#REF!,'Spiegazioni Skills FTEM'!#REF!)","v":{"$error":"#REF!"}}]
[{"$f":"'Spiegazioni Skills FTEM'!A24:A24","v":0},null,null,{"$f":"IF($H$2=\"G\",'Spiegazioni Skills FTEM'!F24,'Spiegazioni Skills FTEM'!B24)","v":"Gestione del disco"},null,null,{"$f":"IF($H$2=\"G\",'Spiegazioni Skills FTEM'!G24,'Spiegazioni Skills FTEM'!C24)","v":"Prendere decisioni adeguate nelle situazioni di gioco, supporto, creare superiorità numerica"},null,null,{"$f":"IF($H$2=\"G\",'Spiegazioni Skills FTEM'!#REF!,'Spiegazioni Skills FTEM'!#REF!)","v":{"$error":"#REF!"}}]
[{"$f":"'Spiegazioni Skills FTEM'!A25:A25","v":0},null,null,{"$f":"IF($H$2=\"G\",'Spiegazioni Skills FTEM'!F25,'Spiegazioni Skills FTEM'!B25)","v":"Creatività"},null,null,{"$f":"IF($H$2=\"G\",'Spiegazioni Skills FTEM'!G25,'Spiegazioni Skills FTEM'!C25)","v":"Creare situazioni a sorpresa, fiuto del gol"},null,null,{"$f":"IF($H$2=\"G\",'Spiegazioni Skills FTEM'!#REF!,'Spiegazioni Skills FTEM'!#REF!)","v":{"$error":"#REF!"}}]
[{"$f":"'Spiegazioni Skills FTEM'!A26","v":"PERSONALITY"},null,null,{"$f":"'Spiegazioni Skills FTEM'!B26","v":"CAPACITÀ"},null,null,{"$f":"'Spiegazioni Skills FTEM'!C26","v":"CRITERIO D'OSSERVAZIONE"},null,null,{"$f":"'Spiegazioni Skills FTEM'!H26","v":0},null,null,null,"Data1",null,"Data2",null,"Data3",null,"Data4",null,"Data5",null,"Player",null,"OBIETTIVO","PROVVEDIMENTI:\n(SPECIFICI, MISURABILI, REALISTICI)",null,null,null,null,null,null,"TERMINE","COTROLLO DELL'OBIETTIVO","Date"]
[{"$f":"'Spiegazioni Skills FTEM'!A27","v":"PERSONALITÀ"},null,null,{"$f":"IF($H$2=\"G\",'Spiegazioni Skills FTEM'!F27,'Spiegazioni Skills FTEM'!B27)","v":"Fiducia in se stesso"},null,null,{"$f":"IF($H$2=\"G\",'Spiegazioni Skills FTEM'!G27,'Spiegazioni Skills FTEM'!C27)","v":"Possiede la necessaria fiducia in se stesso, «I can do it»-attitudine, sa valutare le proprie capacità (conosce i propri punti forti e deboli), può realizzare le proprie qualità con\ncostanza, è coraggioso e sa prendere dei rischi calcolati"},null,null,{"$f":"IF($H$2=\"G\",'Spiegazioni Skills FTEM'!#REF!,'Spiegazioni Skills FTEM'!#REF!)","v":{"$error":"#REF!"}},null,null,null,{"$f":"IFERROR(AVERAGE(O36:O40),\"-\")","v":"-"},null,{"$f":"IFERROR(AVERAGE(Q36:Q40),\"-\")","v":"-"},null,{"$f":"IFERROR(AVERAGE(S36:S40),\"-\")","v":"-"},null,{"$f":"IFERROR(AVERAGE(U36:U40),\"-\")","v":"-"},null,{"$f":"IFERROR(AVERAGE(W36:W40),\"-\")","v":"-"},null,{"$f":"IFERROR(AVERAGE(Y36:Y40),\"-\")","v":"-"}]
[{"$f":"'Spiegazioni Skills FTEM'!A28:A28","v":0},null,null,{"$f":"IF($H$2=\"G\",'Spiegazioni Skills FTEM'!F28,'Spiegazioni Skills FTEM'!B28)","v":"Capacità d'apprendimento"},null,null,{"$f":"IF($H$2=\"G\",'Spiegazioni Skills FTEM'!G28,'Spiegazioni Skills FTEM'!C28)","v":"Ha una buona capacità d'apprendimento (sa recepire e realizzare), possiede una personalità, cerca di imparare dai propri errori derivandone delle misure"},null,null,{"$f":"IF($H$2=\"G\",'Spiegazioni Skills FTEM'!#REF!,'Spiegazioni Skills FTEM'!#REF!)","v":{"$error":"#REF!"}}]
[null,null,null,{"$f":"IF($H$2=\"G\",'Spiegazioni Skills FTEM'!F29,'Spiegazioni Skills FTEM'!B29)","v":"Senso di responsabilità"},null,null,{"$f":"IF($H$2=\"G\",'Spiegazioni Skills FTEM'!G29,'Spiegazioni Skills FTEM'!C29)","v":"Assume responsabiltà per le proprie prestazioni e sviluppo, agisce autonomamente, cura i dettagli, mostra un grande impegno in tutti i settori"},null,null,{"$f":"IF($H$2=\"G\",'Spiegazioni Skills FTEM'!#REF!,'Spiegazioni Skills FTEM'!#REF!)","v":{"$error":"#REF!"}}]
[{"$f":"'Spiegazioni Skills FTEM'!A30:A30","v":0},null,null,{"$f":"IF($H$2=\"G\",'Spiegazioni Skills FTEM'!F30,'Spiegazioni Skills FTEM'!B30)","v":"Motivazione"},null,null,{"$f":"IF($H$2=\"G\",'Spiegazioni Skills FTEM'!G30,'Spiegazioni Skills FTEM'!C30)","v":"È sempre motivato, vuole sempre svilupparsi e imparare, vuol essere il primo e avere successo, non rinuncia mai e non si lascia influenzare dagli insuccessi"},null,null,{"$f":"IF($H$2=\"G\",'Spiegazioni Skills FTEM'!#REF!,'Spiegazioni Skills FTEM'!#REF!)","v":{"$error":"#REF!"}}]
[{"$f":"'Spiegazioni Skills FTEM'!A31:A31","v":0},null,null,{"$f":"IF($H$2=\"G\",'Spiegazioni Skills FTEM'!F31,'Spiegazioni Skills FTEM'!B31)","v":"Prestazione Stile di vita"},null,null,{"$f":"IF($H$2=\"G\",'Spiegazioni Skills FTEM'!G31,'Spiegazioni Skills FTEM'!C31)","v":"Gestisce bene la quotidianità il suo ambiente seguendo i principi della prestazione, caparbio, perseverante e finalizzato sugli obiettivi, focus sulla propria prestazione, coraggioso e grintoso, sa imporsi nei confronti delle resistenze, le sfide lo motivano"},null,null,{"$f":"IF($H$2=\"G\",'Spiegazioni Skills FTEM'!#REF!,'Spiegazioni Skills FTEM'!#REF!)","v":{"$error":"#REF!"}}]
[{"$f":"'Spiegazioni Skills FTEM'!A32","v":"FORZA MENTALE"},null,null,{"$f":"IF($H$2=\"G\",'Spiegazioni Skills FTEM'!F32,'Spiegazioni Skills FTEM'!B32)","v":"Impegno"},null,null,{"$f":"IF($H$2=\"G\",'Spiegazioni Skills FTEM'!G32,'Spiegazioni Skills FTEM'!C32)","v":"Mostra molta intensità negli allenamenti e nelle partite, dà sempre il massimo e vuole sempre spronare i propri limiti, mostra passione, si sforza ad alzare la qualità negli allenamenti"},null,null,{"$f":"IF($H$2=\"G\",'Spiegazioni Skills FTEM'!#REF!,'Spiegazioni Skills FTEM'!#REF!)","v":{"$error":"#REF!"}},null,null,null,{"$f":"IFERROR(AVERAGE(O41:O45),\"-\")","v":"-"},null,{"$f":"IFERROR(AVERAGE(Q41:Q45),\"-\")","v":"-"},null,{"$f":"IFERROR(AVERAGE(S41:S45),\"-\")","v":"-"},null,{"$f":"IFERROR(AVERAGE(U41:U45),\"-\")","v":"-"},null,{"$f":"IFERROR(AVERAGE(W41:W45),\"-\")","v":"-"},null,{"$f":"IFERROR(AVERAGE(Y41:Y45),\"-\")","v":"-"}]
[null,null,null,{"$f":"IF($H$2=\"G\",'Spiegazioni Skills FTEM'!F33,'Spiegazioni Skills FTEM'!B33)","v":"Preparazione"},null,null,{"$f":"IF($H$2=\"G\",'Spiegazioni Skills FTEM'!G33,'Spiegazioni Skills FTEM'!C33)","v":"Preparazione consapevole e finalizzata, mentalmente e fisicamente, possiede un efficiente approccio per l'ottenimento dell'ideale stato di prestazione (ILZ/ISP)"},null,null,{"$f":"IF($H$2=\"G\",'Spiegazioni Skills FTEM'!#REF!,'Spiegazioni Skills FTEM'!#REF!)","v":{"$error":"#REF!"}}]
[{"$f":"'Spiegazioni Skills FTEM'!A34:A34","v":0},null,null,{"$f":"IF($H$2=\"G\",'Spiegazioni Skills FTEM'!F34,'Spiegazioni Skills FTEM'!B34)","v":"Coaching individuale"},null,null,{"$f":"IF($H$2=\"G\",'Spiegazioni Skills FTEM'!G34,'Spiegazioni Skills FTEM'!C34)","v":"Possiede una buona capacità di concentrazione, può mantenere il suo ILZ/ISP durante la partita e l'allenamento, può utilizzare tecniche di base per rafforzare il mentale, resistenti contro pensieri e influenze negative, è consapevole del proprio linguaggio del corpo che è in grado di padroneggiare"},null,null,{"$f":"IF($H$2=\"G\",'Spiegazioni Skills FTEM'!#REF!,'Spiegazioni Skills FTEM'!#REF!)","v":{"$error":"#REF!"}}]
[{"$f":"'Spiegazioni Skills FTEM'!A35:A35","v":0},null,null,{"$f":"IF($H$2=\"G\",'Spiegazioni Skills FTEM'!F35,'Spiegazioni Skills FTEM'!B35)","v":"Gestione delle energie"},null,null,{"$f":"IF($H$2=\"G\",'Spiegazioni Skills FTEM'!G35,'Spiegazioni Skills FTEM'!C35)","v":"Può gestire le proprie energie, cura la rigenerazione, può gestire i momenti in cui si deve andare al massimo oppure risparmiarsi, interruttore on/off"},null,null,{"$f":"IF($H$2=\"G\",'Spiegazioni Skills FTEM'!#REF!,'Spiegazioni Skills FTEM'!#REF!)","v":{"$error":"#REF!"}}]
[{"$f":"'Spiegazioni Skills FTEM'!A36:A36","v":0},null,null,{"$f":"IF($H$2=\"G\",'Spiegazioni Skills FTEM'!F36,'Spiegazioni Skills FTEM'!B36)","v":"Controllo delle emozioni"},null,null,{"$f":"IF($H$2=\"G\",'Spiegazioni Skills FTEM'!G36,'Spiegazioni Skills FTEM'!C36)","v":"Può regolare le proprie emozioni e impulsi, mantiene il controllo quando si trova sotto pressione, sa anche agire adeguatamente in situazioni emotive o frustranti"},null,null,{"$f":"IF($H$2=\"G\",'Spiegazioni Skills FTEM'!#REF!,'Spiegazioni Skills FTEM'!#REF!)","v":{"$error":"#REF!"}}]
[{"$f":"'Spiegazioni Skills FTEM'!A37","v":"FISICO"},null,null,{"$f":"IF($H$2=\"G\",'Spiegazioni Skills FTEM'!F37,'Spiegazioni Skills FTEM'!B37)","v":"Produzione di prestazione"},null,null,{"$f":"IF($H$2=\"G\",'Spiegazioni Skills FTEM'!G37,'Spiegazioni Skills FTEM'!C37)","v":"Possiede nelle gambe e nella parte alta del corpo la necessaria potenza/forza/velocità (fattori neuromuscolari)"},null,null,{"$f":"IF($H$2=\"G\",'Spiegazioni Skills FTEM'!#REF!,'Spiegazioni Skills FTEM'!#REF!)","v":{"$error":"#REF!"}},null,null,null,{"$f":"IFERROR(AVERAGE(O46:O50),\"-\")","v":"-"},null,{"$f":"IFERROR(AVERAGE(Q46:Q50),\"-\")","v":"-"},null,{"$f":"IFERROR(AVERAGE(S46:S50),\"-\")","v":"-"},null,{"$f":"IFERROR(AVERAGE(U46:U50),\"-\")","v":"-"},null,{"$f":"IFERROR(AVERAGE(W46:W50),\"-\")","v":"-"},null,{"$f":"IFERROR(AVERAGE(Y46:Y50),\"-\")","v":"-"}]
[null,null,null,{"$f":"IF($H$2=\"G\",'Spiegazioni Skills FTEM'!F38,'Spiegazioni Skills FTEM'!B38)","v":"Resistenza specifica alla fatica"},null,null,{"$f":"IF($H$2=\"G\",'Spiegazioni Skills FTEM'!G38,'Spiegazioni Skills FTEM'!C38)","v":"È capace di mantenere a lungo nell'ambito di un impiego la potenza/forza/velocità ed è capace di recuperare completamente attraverso i vari impieghi sul ghiaccio (fattori metabolici e cardiovascolari)"},null,null,{"$f":"IF($H$2=\"G\",'Spiegazioni Skills FTEM'!#REF!,'Spiegazioni Skills FTEM'!#REF!)","v":{"$error":"#REF!"}}]
[{"$f":"'Spiegazioni Skills FTEM'!A39:A39","v":0},null,null,{"$f":"IF($H$2=\"G\",'Spiegazioni Skills FTEM'!F39,'Spiegazioni Skills FTEM'!B39)","v":"Salute / prevenzione"},null,null,{"$f":"IF($H$2=\"G\",'Spiegazioni Skills FTEM'!G39,'Spiegazioni Skills FTEM'!C39)","v":"Possiede la necessaria stabilità (stabilità delle gambe) e mobilità delle articolazioni centrali"},null,null,{"$f":"IF($H$2=\"G\",'Spiegazioni Skills FTEM'!#REF!,'Spiegazioni Skills FTEM'!#REF!)","v":{"$error":"#REF!"}}]
[{"$f":"'Spiegazioni Skills FTEM'!A40:A40","v":0},null,null,{"$f":"IF($H$2=\"G\",'Spiegazioni Skills FTEM'!F40,'Spiegazioni Skills FTEM'!B40)","v":"Competenze della mobilità"},null,null,{"$f":"IF($H$2=\"G\",'Spiegazioni Skills FTEM'!G40,'Spiegazioni Skills FTEM'!C40)","v":"Padroneggia le basilari capacità di movimento che garantiscono in modo determinante le abilità specifiche \"skills\", come pure l'efficacia dei movimenti"},null,null,{"$f":"IF($H$2=\"G\",'Spiegazioni Skills FTEM'!#REF!,'Spiegazioni Skills FTEM'!#REF!)","v":{"$error":"#REF!"}}]
[{"$f":"'Spiegazioni Skills FTEM'!A41:A41","v":0},null,null,{"$f":"IF($H$2=\"G\",'Spiegazioni Skills FTEM'!F41,'Spiegazioni Skills FTEM'!B41)","v":"Robustezza"},null,null,{"$f":"IF($H$2=\"G\",'Spiegazioni Skills FTEM'!G41,'Spiegazioni Skills FTEM'!C41)","v":"Possiede la necessaria forza di base (tensione del corpo) per vincere i duelli e resistere alle cariche"},null,null,{"$f":"IF($H$2=\"G\",'Spiegazioni Skills FTEM'!#REF!,'Spiegazioni Skills FTEM'!#REF!)","v":{"$error":"#REF!"}}]

{"sheet":"15","index":18,"n_rows":50,"n_cols":36,"rows_kept":50,"cut":false,"hidden":false,"merged":[[45,34,49,34],[45,12,49,12],[45,13,49,13],[45,15,49,15],[45,17,49,17],[45,19,49,19],[45,21,49,21],[45,23,49,23],[45,25,49,25],[45,26,49,32],[45,0,49,2],[45,3,45,5],[45,6,45,11],[46,3,46,5],[46,6,46,11],[48,3,48,5],[48,6,48,11],[49,3,49,5],[49,6,49,11],[47,3,47,5],[47,6,47,11],[40,23,44,23],[42,3,42,5],[42,6,42,11],[44,3,44,5],[44,6,44,11],[40,0,44,2],[40,3,40,5],[40,6,40,11],[40,12,44,12],[40,13,44,13],[40,15,44,15],[43,3,43,5],[43,6,43,11],[34,21,34,22],[35,17,39,17],[35,19,39,19],[35,21,39,21],[37,3,37,5],[37,6,37,11],[38,3,38,5],[38,6,38,11],[40,17,44,17],[40,19,44,19],[40,21,44,21],[36,3,36,5],[36,6,36,11],[41,3,41,5],[41,6,41,11],[29,0,33,2],[29,3,29,5],[29,6,29,11],[29,12,33,12],[29,13,33,13],[29,15,33,15],[34,23,34,24],[34,26,34,32],[35,0,39,2],[35,3,35,5],[35,6,35,11],[35,12,39,12],[35,13,39,13],[35,15,39,15],[39,3,39,5],[39,6,39,11],[35,23,39,23],[34,0,34,2],[34,3,34,5],[34,6,34,11],[34,13,34,14],[34,15,34,16],[34,17,34,18],[34,19,34,20],[23,19,28,19],[23,21,28,21],[23,23,28,23],[26,3,26,5],[26,6,26,11],[28,3,28,5],[28,6,28,11],[33,3,33,5],[33,6,33,11],[29,23,33,23],[29,17,33,17],[29,19,33,19],[29,21,33,21],[31,3,31,5],[31,6,31,11],[32,3,32,5],[32,6,32,11],[27,3,27,5],[27,6,27,11],[25,3,25,5],[25,6,25,11],[30,3,30,5],[30,6,30,11],[12,21,16,21],[18,15,22,15],[18,17,22,17],[18,19,22,19],[18,21,22,21],[18,23,22,23],[22,3,22,5],[22,6,22,11],[23,0,28,2],[23,3,23,5],[23,6,23,11],[23,12,28,12],[23,13,28,13],[23,15,28,15],[23,17,28,17],[18,0,22,2],[18,3,18,5],[18,6,18,11],[18,12,22,12],[18,13,22,13],[19,3,19,5],[19,6,19,11],[21,3,21,5],[21,6,21,11],[11,21,11,22],[11,23,11,24],[11,26,11,32],[11,6,11,11],[12,23,16,23],[16,3,16,5],[16,6,16,11],[17,0,17,2],[17,3,17,5],[17,6,17,11],[17,13,17,14],[17,15,17,16],[17,17,17,18],[17,19,17,20],[17,21,17,22],[17,23,17,24],[12,0,16,2],[12,3,12,5],[12,6,12,11],[12,12,16,12],[12,13,16,13],[12,15,16,15],[12,17,16,17],[12,19,16,19],[4,0,4,1],[4,2,4,5],[4,10,4,24],[10,0,10,24],[10,25,10,35],[40,25,44,25],[40,26,44,32],[40,34,44,34],[12,25,16,25],[12,26,16,32],[12,34,16,34],[18,25,22,25],[18,26,22,32],[18,34,22,34],[23,25,28,25],[23,26,28,32],[23,34,28,34],[17,26,17,32],[11,0,11,2],[11,3,11,5],[11,13,11,14],[11,15,11,16],[11,17,11,18],[11,19,11,20],[0,0,0,24],[0,25,0,26],[0,27,0,32],[0,33,0,35],[29,25,33,25],[29,26,33,32],[29,34,33,34],[35,25,39,25],[35,26,39,32],[35,34,39,34],[1,0,1,1],[1,2,1,5],[1,10,1,24],[2,0,2,1],[2,2,2,5],[2,11,2,24],[6,0,6,1],[6,2,6,35],[7,0,7,1],[7,2,7,35],[8,0,8,1],[8,2,8,35],[3,0,3,1],[3,10,3,24],[13,3,13,5],[13,6,13,11],[14,3,14,5],[14,6,14,11],[15,3,15,5],[15,6,15,11],[20,3,20,5],[20,6,20,11],[24,3,24,5],[24,6,24,11]]}
["Personalien",null,null,null,null,null,null,null,null,null,null,null,null,null,null,null,null,null,null,null,null,null,null,null,null,"Predisposizione",null,"Valutazioni",null,null,null,null,null,"Rating"]
["COGNOME",null,{"$f":"IF(ISBLANK(VLOOKUP(15,Tabelle3[],3,0)),\"-\",VLOOKUP(15,Tabelle3[],3,0))","v":"-"},null,null,null,"POSIZIONE",null,null,"INDIRIZZO",{"$f":"IF(ISBLANK(VLOOKUP(15,Tabelle3[],5,0)),\"-\",VLOOKUP(15,Tabelle3[],5,0))","v":"-"},null,null,null,null,null,null,null,null,null,null,null,null,null,null,"Età\" (biologica/età relativa)",null,"Data 1",null,null,"cm",null,"Kg",null,"ECCELLENTE",5]
["NOME",null,{"$f":"IF(ISBLANK(VLOOKUP(15,Tabelle3[],2,0)),\"-\",VLOOKUP(15,Tabelle3[],2,0))","v":"-"},null,null,null,"BASTONE",null,null,"LUOGO",{"$f":"IF(ISBLANK(VLOOKUP(15,Tabelle3[],7,0)),\"-\",VLOOKUP(15,Tabelle3[],7,0))","v":"-"},{"$f":"IF(ISBLANK(VLOOKUP(15,Tabelle3[],6,0)),\"-\",VLOOKUP(15,Tabelle3[],6,0))","v":"-"},null,null,null,null,null,null,null,null,null,null,null,null,null,"Predisposizione",null,"Data 2",null,null,"cm",null,"Kg",null,"BUONO",4]
["DATA DI NASC.",null,{"$f":"IF(ISBLANK(VLOOKUP(15,Tabelle3[],14,0)),\"-\",VLOOKUP(15,Tabelle3[],14,0))","v":"-"},{"$f":"IF(ISBLANK(VLOOKUP(15,Tabelle3[],15,0)),\"-\",VLOOKUP(15,Tabelle3[],15,0))","v":"-"},{"$f":"IF(ISBLANK(VLOOKUP(15,Tabelle3[],16,0)),\"-\",VLOOKUP(15,Tabelle3[],16,0))","v":"-"},null,"ALTEZZA",null,"cm (Finale)","TELEFONO",{"$f":"IF(ISBLANK(VLOOKUP(15,Tabelle3[],8,0)),\"-\",VLOOKUP(15,Tabelle3[],8,0))","v":"-"},null,null,null,null,null,null,null,null,null,null,null,null,null,null,"Ambiente di vita",null,"Data 3",null,null,"cm",null,"Kg",null,"MEDIO/DISCRETO",3]
["SESSO",null,{"$f":"IF(ISBLANK(VLOOKUP(15,Tabelle3[],13,0)),\"-\",VLOOKUP(15,Tabelle3[],13,0))","v":"-"},null,null,null,"PESO",null,"Kg (Finale)","E-Mail",{"$f":"IF(ISBLANK(VLOOKUP(15,Tabelle3[],9,0)),\"-\",VLOOKUP(15,Tabelle3[],9,0))","v":"-"},null,null,null,null,null,null,null,null,null,null,null,null,null,null,null,null,"Data 4",null,null,"cm",null,"Kg",null,"CON LACUNE",2]
[null,null,null,null,null,null,null,null,null,null,null,null,null,null,null,null,null,null,null,null,null,null,null,null,null,null,null,"Data 5",null,null,"cm",null,"Kg",null,"INSUFFICIENTE",1]
["Visione",null,"xxx"]
["Prossimo passo",null,"xxx"]
["Proflio giocatore",null,"xxx"]
[]
["VALUTAZIONI (COACH / GIOCATORE)",null,null,null,null,null,null,null,null,null,null,null,null,null,null,null,null,null,null,null,null,null,null,null,null,"Obiettivi SMART"]
[{"$f":"'Spiegazioni Skills FTEM'!A3","v":"TEAM"},null,null,{"$f":"'Spiegazioni Skills FTEM'!B3","v":"CAPACITÀ"},null,null,{"$f":"'Spiegazioni Skills FTEM'!C3","v":"CRITERIO D'OSSERVAZIONE"},null,null,{"$f":"'Spiegazioni Skills FTEM'!H3","v":0},null,null,"Final","Data1",null,"Data2",null,"Data3",null,"Data4",null,"Data5",null,"Player",null,"OBIETTIVO","PROVVEDIMENTI:\n(SPECIFICI, MISURABILI, REALISTICI)",null,null,null,null,null,null,"TERMINE","COTROLLO DELL'OBIETTIVO","Data"]
[{"$f":"'Spiegazioni Skills FTEM'!A4","v":"SQUADRA"},null,null,{"$f":"IF($H$2=\"G\",'Spiegazioni Skills FTEM'!F4,'Spiegazioni Skills FTEM'!B4)","v":"Comunicazione"},null,null,{"$f":"IF($H$2=\"G\",'Spiegazioni Skills FTEM'!G4,'Spiegazioni Skills FTEM'!C4)","v":"Cura relazioni aperte e rispettose, fiducia quale base comportamentale, affronta i conflitti senza ledere la stabilità del gruppo, comunica con i compagni, gli allenatori e\nfunzionari con i medesimi valori"},null,null,{"$f":"IF($H$2=\"G\",'Spiegazioni Skills FTEM'!#REF!,'Spiegazioni Skills FTEM'!#REF!)","v":{"$error":"#REF!"}},null,null,null,{"$f":"IFERROR(AVERAGE(O13:O17),\"-\")","v":"-"},null,{"$f":"IFERROR(AVERAGE(Q13:Q17),\"-\")","v":"-"},null,{"$f":"IFERROR(AVERAGE(S13:S17),\"-\")","v":"-"},null,{"$f":"IFERROR(AVERAGE(U13:U17),\"-\")","v":"-"},null,{"$f":"IFERROR(AVERAGE(W13:W17),\"-\")","v":"-"},null,{"$f":"IFERROR(AVERAGE(Y13:Y17),\"-\")","v":"-"}]
[{"$f":"'Spiegazioni Skills FTEM'!A5","v":0},null,null,{"$f":"IF($H$2=\"G\",'Spiegazioni Skills FTEM'!F5,'Spiegazioni Skills FTEM'!B5)","v":"Capacità nella squadra"},null,null,{"$f":"IF($H$2=\"G\",'Spiegazioni Skills FTEM'!G5,'Spiegazioni Skills FTEM'!C5)","v":"Integrazione nel gruppo, definisce e realizza obiettivi comuni, NOI prima dell'IO, contribuisce a creare un buon spirito di squadra e clima di lavoro"},null,null,{"$f":"IF($H$2=\"G\",'Spiegazioni Skills FTEM'!#REF!,'Spiegazioni Skills FTEM'!#REF!)","v":{"$error":"#REF!"}}]
[{"$f":"'Spiegazioni Skills FTEM'!A6","v":0},null,null,{"$f":"IF($H$2=\"G\",'Spiegazioni Skills FTEM'!F6,'Spiegazioni Skills FTEM'!B6)","v":"Leadership"},null,null,{"$f":"IF($H$2=\"G\",'Spiegazioni Skills FTEM'!G6,'Spiegazioni Skills FTEM'!C6)","v":"Assume responsabilità nell'ambito del gruppo, cerca di migliorare la squadra e i compagni, influenza positivamente la dinamica di gruppo"},null,null,{"$f":"IF($H$2=\"G\",'Spiegazioni Skills FTEM'!#REF!,'Spiegazioni Skills FTEM'!#REF!)","v":{"$error":"#REF!"}}]
[{"$f":"'Spiegazioni Skills FTEM'!A7","v":0},null,null,{"$f":"IF($H$2=\"G\",'Spiegazioni Skills FTEM'!F7,'Spiegazioni Skills FTEM'!B7)","v":"Ripartizione dei ruoli"},null,null,{"$f":"IF($H$2=\"G\",'Spiegazioni Skills FTEM'!G7,'Spiegazioni Skills FTEM'!C7)","v":"Riconosce e adempie il suo ruolo, è cosciente della sua posizione nel sistema e nella squadra, mette a disposizione della squadra le sue competenze"},null,null,{"$f":"IF($H$2=\"G\",'Spiegazioni Skills FTEM'!#REF!,'Spiegazioni Skills FTEM'!#REF!)","v":{"$error":"#REF!"}}]
[{"$f":"'Spiegazioni Skills FTEM'!A8","v":0},null,null,{"$f":"IF($H$2=\"G\",'Spiegazioni Skills FTEM'!F8,'Spiegazioni Skills FTEM'!B8)","v":"Rispetto"},null,null,{"$f":"IF($H$2=\"G\",'Spiegazioni Skills FTEM'!G8,'Spiegazioni Skills FTEM'!C8)","v":"Relazioni rispettose con i compagni, allenatori, avversari, arbitri e staff; rispetta le regole i pricipi del fairplay (compreso la lotta al doping)"},null,null,{"$f":"IF($H$2=\"G\",'Spiegazioni Skills FTEM'!#REF!,'Spiegazioni Skills FTEM'!#REF!)","v":{"$error":"#REF!"}}]
[{"$f":"'Spiegazioni Skills FTEM'!A9","v":"ON ICE"},null,null,{"$f":"'Spiegazioni Skills FTEM'!B9","v":"CAPACITÀ"},null,null,{"$f":"'Spiegazioni Skills FTEM'!C9","v":"CRITERIO D'OSSERVAZIONE"},null,null,{"$f":"'Spiegazioni Skills FTEM'!H9","v":0},null,null,null,"Data1",null,"Data2",null,"Data3",null,"Data4",null,"Data5",null,"Player",null,"OBIETTIVO","PROVVEDIMENTI:\n(SPECIFICI, MISURABILI, REALISTICI)",null,null,null,null,null,null,"TERMINE","COTROLLO DELL'OBIETTIVO","Date"]
[{"$f":"'Spiegazioni Skills FTEM'!A10","v":"PATTINAGGIO"},null,null,{"$f":"IF($H$2=\"G\",'Spiegazioni Skills FTEM'!F10,'Spiegazioni Skills FTEM'!B10)","v":"Velocità dei piedi"},null,null,{"$f":"IF($H$2=\"G\",'Spiegazioni Skills FTEM'!G10,'Spiegazioni Skills FTEM'!C10)","v":"Accelerazione, partenza, esplosività dei primi 3 passi, frequenza"},null,null,{"$f":"IF($H$2=\"G\",'Spiegazioni Skills FTEM'!#REF!,'Spiegazioni Skills FTEM'!#REF!)","v":{"$error":"#REF!"}},null,null,null,{"$f":"IFERROR(AVERAGE(O19:O23),\"-\")","v":"-"},null,{"$f":"IFERROR(AVERAGE(Q19:Q23),\"-\")","v":"-"},null,{"$f":"IFERROR(AVERAGE(S19:S23),\"-\")","v":"-"},null,{"$f":"IFERROR(AVERAGE(U19:U23),\"-\")","v":"-"},null,{"$f":"IFERROR(AVERAGE(W19:W23),\"-\")","v":"-"},null,{"$f":"IFERROR(AVERAGE(Y19:Y23),\"-\")","v":"-"}]
[{"$f":"'Spiegazioni Skills FTEM'!A11:A11","v":0},null,null,{"$f":"IF($H$2=\"G\",'Spiegazioni Skills FTEM'!F11,'Spiegazioni Skills FTEM'!B11)","v":"Velocità/rapidità"},null,null,{"$f":"IF($H$2=\"G\",'Spiegazioni Skills FTEM'!G11,'Spiegazioni Skills FTEM'!C11)","v":"Velocità, facoltà di scivolare, avanti / indietro, economia dello sforzo"},null,null,{"$f":"IF($H$2=\"G\",'Spiegazioni Skills FTEM'!#REF!,'Spiegazioni Skills FTEM'!#REF!)","v":{"$error":"#REF!"}}]
[null,null,null,{"$f":"IF($H$2=\"G\",'Spiegazioni Skills FTEM'!F12,'Spiegazioni Skills FTEM'!B12)","v":"Agilità"},null,null,{"$f":"IF($H$2=\"G\",'Spiegazioni Skills FTEM'!G12,'Spiegazioni Skills FTEM'!C12)","v":"Cambiamento di direzione, girarsi, stop e ripartenza, \"Nummelin\""},null,null,{"$f":"IF($H$2=\"G\",'Spiegazioni Skills FTEM'!#REF!,'Spiegazioni Skills FTEM'!#REF!)","v":{"$error":"#REF!"}}]
[{"$f":"'Spiegazioni Skills FTEM'!A12:A12","v":0},null,null,{"$f":"IF($H$2=\"G\",'Spiegazioni Skills FTEM'!F13,'Spiegazioni Skills FTEM'!B13)","v":"Equilibrio"},null,null,{"$f":"IF($H$2=\"G\",'Spiegazioni Skills FTEM'!G13,'Spiegazioni Skills FTEM'!C13)","v":"Equilibrio, stabilità, posizione bassa, su una gamba, su entrambe"},null,null,{"$f":"IF($H$2=\"G\",'Spiegazioni Skills FTEM'!#REF!,'Spiegazioni Skills FTEM'!#REF!)","v":{"$error":"#REF!"}},null,null,null,{"$f":"IFERROR(AVERAGE(O22:O23),\"-\")","v":"-"},null,{"$f":"IFERROR(AVERAGE(Q22:Q23),\"-\")","v":"-"},null,{"$f":"IFERROR(AVERAGE(S22:S23),\"-\")","v":"-"},null,{"$f":"IFERROR(AVERAGE(U22:U23),\"-\")","v":"-"},null,{"$f":"IFERROR(AVERAGE(W22:W23),\"-\")","v":"-"},null,"-"]
[{"$f":"'Spiegazioni Skills FTEM'!A14:A14","v":0},null,null,{"$f":"IF($H$2=\"G\",'Spiegazioni Skills FTEM'!F14,'Spiegazioni Skills FTEM'!B14)","v":"Pattinaggio indietro"},null,null,{"$f":"IF($H$2=\"G\",'Spiegazioni Skills FTEM'!G14,'Spiegazioni Skills FTEM'!C14)","v":"Accelerazione, velocità, equilibrio"},null,null,{"$f":"IF($H$2=\"G\",'Spiegazioni Skills FTEM'!#REF!,'Spiegazioni Skills FTEM'!#REF!)","v":{"$error":"#REF!"}}]
[{"$f":"'Spiegazioni Skills FTEM'!A15","v":"ABILITÀ"},null,null,{"$f":"IF($H$2=\"G\",'Spiegazioni Skills FTEM'!F15,'Spiegazioni Skills FTEM'!B15)","v":"Tirare"},null,null,{"$f":"IF($H$2=\"G\",'Spiegazioni Skills FTEM'!G15,'Spiegazioni Skills FTEM'!C15)","v":"Efficienza (poco spazio, poco tempo), ricchezza di varianti, grado di sorpresa (Quick Release), precisione, potenza (conclusioni tattiche)"},null,null,{"$f":"IF($H$2=\"G\",'Spiegazioni Skills FTEM'!#REF!,'Spiegazioni Skills FTEM'!#REF!)","v":{"$error":"#REF!"}},null,null,null,{"$f":"IFERROR(AVERAGE(O24:O29),\"-\")","v":"-"},null,{"$f":"IFERROR(AVERAGE(Q24:Q29),\"-\")","v":"-"},null,{"$f":"IFERROR(AVERAGE(S24:S29),\"-\")","v":"-"},null,{"$f":"IFERROR(AVERAGE(U24:U29),\"-\")","v":"-"},null,{"$f":"IFERROR(AVERAGE(W24:W29),\"-\")","v":"-"},null,{"$f":"IFERROR(AVERAGE(Y24:Y29),\"-\")","v":"-"}]
[null,null,null,{"$f":"IF($H$2=\"G\",'Spiegazioni Skills FTEM'!F16,'Spiegazioni Skills FTEM'!B16)","v":"Passare"},null,null,{"$f":"IF($H$2=\"G\",'Spiegazioni Skills FTEM'!G16,'Spiegazioni Skills FTEM'!C16)","v":"Passaggio (distanza, flipp, rovescio), ricezione del passaggio (precisione, timing, diritto, rovescio, sul pattino), velocità del disco"},null,null,{"$f":"IF($H$2=\"G\",'Spiegazioni Skills FTEM'!#REF!,'Spiegazioni Skills FTEM'!#REF!)","v":{"$error":"#REF!"}}]
[null,null,null,{"$f":"IF($H$2=\"G\",'Spiegazioni Skills FTEM'!F17,'Spiegazioni Skills FTEM'!B17)","v":"Lavoro col bastone - condotta del disco"},null,null,{"$f":"IF($H$2=\"G\",'Spiegazioni Skills FTEM'!G17,'Spiegazioni Skills FTEM'!C17)","v":"Bastone sul disco, intercettare le linee di passaggio, deviare, controllo del bastone avversario"},null,null,{"$f":"IF($H$2=\"G\",'Spiegazioni Skills FTEM'!#REF!,'Spiegazioni Skills FTEM'!#REF!)","v":{"$error":"#REF!"}}]
[{"$f":"'Spiegazioni Skills FTEM'!A16:A16","v":0},null,null,{"$f":"IF($H$2=\"G\",'Spiegazioni Skills FTEM'!F18,'Spiegazioni Skills FTEM'!B18)","v":"Possedere/proteggere il disco"},null,null,{"$f":"IF($H$2=\"G\",'Spiegazioni Skills FTEM'!G18,'Spiegazioni Skills FTEM'!C18)","v":"Controllo del disco, dribbling, protezione del disco, finte (varianti col pattino, con o senza la balaustra), ingaggi (face-off)"},null,null,{"$f":"IF($H$2=\"G\",'Spiegazioni Skills FTEM'!#REF!,'Spiegazioni Skills FTEM'!#REF!)","v":{"$error":"#REF!"}}]
[{"$f":"'Spiegazioni Skills FTEM'!A17:A17","v":0},null,null,{"$f":"IF($H$2=\"G\",'Spiegazioni Skills FTEM'!F19,'Spiegazioni Skills FTEM'!B19)","v":"Gioco del corpo"},null,null,{"$f":"IF($H$2=\"G\",'Spiegazioni Skills FTEM'!G19,'Spiegazioni Skills FTEM'!C19)","v":"Facoltà di imporsi fisicamente, duelli (ghiaccio aperto, balaustra), subire dei checks/testa alta, livello di lotta, duro ma corretto, blocco dei tiri con il corpo"},null,null,{"$f":"IF($H$2=\"G\",'Spiegazioni Skills FTEM'!#REF!,'Spiegazioni Skills FTEM'!#REF!)","v":{"$error":"#REF!"}}]
[{"$f":"'Spiegazioni Skills FTEM'!A20:A20","v":0},null,null,{"$f":"IF($H$2=\"G\",'Spiegazioni Skills FTEM'!F20,'Spiegazioni Skills FTEM'!B20)","v":"-"},null,null,{"$f":"IF($H$2=\"G\",'Spiegazioni Skills FTEM'!G20,'Spiegazioni Skills FTEM'!C20)","v":"-"},null,null,{"$f":"IF($H$2=\"G\",'Spiegazioni Skills FTEM'!#REF!,'Spiegazioni Skills FTEM'!#REF!)","v":{"$error":"#REF!"}}]
[{"$f":"'Spiegazioni Skills FTEM'!A21","v":"SENSO DELL'HOCKEY"},null,null,{"$f":"IF($H$2=\"G\",'Spiegazioni Skills FTEM'!F21,'Spiegazioni Skills FTEM'!B21)","v":"Intelligenza nel gioco"},null,null,{"$f":"IF($H$2=\"G\",'Spiegazioni Skills FTEM'!G21,'Spiegazioni Skills FTEM'!C21)","v":"Vedere spazi e giocatori liberi, creare situazioni di superiorità numerica, agire cercando soluzioni in tutte le situazioni, velocità di visualizzazione"},null,null,{"$f":"IF($H$2=\"G\",'Spiegazioni Skills FTEM'!#REF!,'Spiegazioni Skills FTEM'!#REF!)","v":{"$error":"#REF!"}},null,null,null,{"$f":"IFERROR(AVERAGE(O30:O34),\"-\")","v":"-"},null,{"$f":"IFERROR(AVERAGE(Q30:Q34),\"-\")","v":"-"},null,{"$f":"IFERROR(AVERAGE(S30:S34),\"-\")","v":"-"},null,{"$f":"IFERROR(AVERAGE(U30:U34),\"-\")","v":"-"},null,{"$f":"IFERROR(AVERAGE(W30:W34),\"-\")","v":"-"},null,{"$f":"IFERROR(AVERAGE(Y30:Y34),\"-\")","v":"-"}]
[{"$f":"'Spiegazioni Skills FTEM'!A22:A22","v":0},null,null,{"$f":"IF($H$2=\"G\",'Spiegazioni Skills FTEM'!F22,'Spiegazioni Skills FTEM'!B22)","v":"Sensibilità offensiva"},null,null,{"$f":"IF($H$2=\"G\",'Spiegazioni Skills FTEM'!G22,'Spiegazioni Skills FTEM'!C22)","v":"Smarcarsi, anticipare le situazioni di gioco, aprire spazi liberi per i compagni, piazzarsi per le conclusioni, velocità nel chiudere gli spazi (pressione), comunicazione"},null,null,{"$f":"IF($H$2=\"G\",'Spiegazioni Skills FTEM'!#REF!,'Spiegazioni Skills FTEM'!#REF!)","v":{"$error":"#REF!"}}]
[null,null,null,{"$f":"IF($H$2=\"G\",'Spiegazioni Skills FTEM'!F23,'Spiegazioni Skills FTEM'!B23)","v":"Sensibilità difensiva"},null,null,{"$f":"IF($H$2=\"G\",'Spiegazioni Skills FTEM'!G23,'Spiegazioni Skills FTEM'!C23)","v":"Mantenere la posizione difensiva, protezione dello slot, assicurare i compagni / supporto, individuare le linee di passaggio, bloccare i tiri, ridurre velocemente gli spazi, comunicazione"},null,null,{"$f":"IF($H$2=\"G\",'Spiegazioni Skills FTEM'!#REF!,'Spiegazioni Skills FTEM'!#REF!)","v":{"$error":"#REF!"}}]
[{"$f":"'Spiegazioni Skills FTEM'!A24:A24","v":0},null,null,{"$f":"IF($H$2=\"G\",'Spiegazioni Skills FTEM'!F24,'Spiegazioni Skills FTEM'!B24)","v":"Gestione del disco"},null,null,{"$f":"IF($H$2=\"G\",'Spiegazioni Skills FTEM'!G24,'Spiegazioni Skills FTEM'!C24)","v":"Prendere decisioni adeguate nelle situazioni di gioco, supporto, creare superiorità numerica"},null,null,{"$f":"IF($H$2=\"G\",'Spiegazioni Skills FTEM'!#REF!,'Spiegazioni Skills FTEM'!#REF!)","v":{"$error":"#REF!"}}]
[{"$f":"'Spiegazioni Skills FTEM'!A25:A25","v":0},null,null,{"$f":"IF($H$2=\"G\",'Spiegazioni Skills FTEM'!F25,'Spiegazioni Skills FTEM'!B25)","v":"Creatività"},null,null,{"$f":"IF($H$2=\"G\",'Spiegazioni Skills FTEM'!G25,'Spiegazioni Skills FTEM'!C25)","v":"Creare situazioni a sorpresa, fiuto del gol"},null,null,{"$f":"IF($H$2=\"G\",'Spiegazioni Skills FTEM'!#REF!,'Spiegazioni Skills FTEM'!#REF!)","v":{"$error":"#REF!"}}]
[{"$f":"'Spiegazioni Skills FTEM'!A26","v":"PERSONALITY"},null,null,{"$f":"'Spiegazioni Skills FTEM'!B26","v":"CAPACITÀ"},null,null,{"$f":"'Spiegazioni Skills FTEM'!C26","v":"CRITERIO D'OSSERVAZIONE"},null,null,{"$f":"'Spiegazioni Skills FTEM'!H26","v":0},null,null,null,"Data1",null,"Data2",null,"Data3",null,"Data4",null,"Data5",null,"Player",null,"OBIETTIVO","PROVVEDIMENTI:\n(SPECIFICI, MISURABILI, REALISTICI)",null,null,null,null,null,null,"TERMINE","COTROLLO DELL'OBIETTIVO","Date"]
[{"$f":"'Spiegazioni Skills FTEM'!A27","v":"PERSONALITÀ"},null,null,{"$f":"IF($H$2=\"G\",'Spiegazioni Skills FTEM'!F27,'Spiegazioni Skills FTEM'!B27)","v":"Fiducia in se stesso"},null,null,{"$f":"IF($H$2=\"G\",'Spiegazioni Skills FTEM'!G27,'Spiegazioni Skills FTEM'!C27)","v":"Possiede la necessaria fiducia in se stesso, «I can do it»-attitudine, sa valutare le proprie capacità (conosce i propri punti forti e deboli), può realizzare le proprie qualità con\ncostanza, è coraggioso e sa prendere dei rischi calcolati"},null,null,{"$f":"IF($H$2=\"G\",'Spiegazioni Skills FTEM'!#REF!,'Spiegazioni Skills FTEM'!#REF!)","v":{"$error":"#REF!"}},null,null,null,{"$f":"IFERROR(AVERAGE(O36:O40),\"-\")","v":"-"},null,{"$f":"IFERROR(AVERAGE(Q36:Q40),\"-\")","v":"-"},null,{"$f":"IFERROR(AVERAGE(S36:S40),\"-\")","v":"-"},null,{"$f":"IFERROR(AVERAGE(U36:U40),\"-\")","v":"-"},null,{"$f":"IFERROR(AVERAGE(W36:W40),\"-\")","v":"-"},null,{"$f":"IFERROR(AVERAGE(Y36:Y40),\"-\")","v":"-"}]
[{"$f":"'Spiegazioni Skills FTEM'!A28:A28","v":0},null,null,{"$f":"IF($H$2=\"G\",'Spiegazioni Skills FTEM'!F28,'Spiegazioni Skills FTEM'!B28)","v":"Capacità d'apprendimento"},null,null,{"$f":"IF($H$2=\"G\",'Spiegazioni Skills FTEM'!G28,'Spiegazioni Skills FTEM'!C28)","v":"Ha una buona capacità d'apprendimento (sa recepire e realizzare), possiede una personalità, cerca di imparare dai propri errori derivandone delle misure"},null,null,{"$f":"IF($H$2=\"G\",'Spiegazioni Skills FTEM'!#REF!,'Spiegazioni Skills FTEM'!#REF!)","v":{"$error":"#REF!"}}]
[null,null,null,{"$f":"IF($H$2=\"G\",'Spiegazioni Skills FTEM'!F29,'Spiegazioni Skills FTEM'!B29)","v":"Senso di responsabilità"},null,null,{"$f":"IF($H$2=\"G\",'Spiegazioni Skills FTEM'!G29,'Spiegazioni Skills FTEM'!C29)","v":"Assume responsabiltà per le proprie prestazioni e sviluppo, agisce autonomamente, cura i dettagli, mostra un grande impegno in tutti i settori"},null,null,{"$f":"IF($H$2=\"G\",'Spiegazioni Skills FTEM'!#REF!,'Spiegazioni Skills FTEM'!#REF!)","v":{"$error":"#REF!"}}]
[{"$f":"'Spiegazioni Skills FTEM'!A30:A30","v":0},null,null,{"$f":"IF($H$2=\"G\",'Spiegazioni Skills FTEM'!F30,'Spiegazioni Skills FTEM'!B30)","v":"Motivazione"},null,null,{"$f":"IF($H$2=\"G\",'Spiegazioni Skills FTEM'!G30,'Spiegazioni Skills FTEM'!C30)","v":"È sempre motivato, vuole sempre svilupparsi e imparare, vuol essere il primo e avere successo, non rinuncia mai e non si lascia influenzare dagli insuccessi"},null,null,{"$f":"IF($H$2=\"G\",'Spiegazioni Skills FTEM'!#REF!,'Spiegazioni Skills FTEM'!#REF!)","v":{"$error":"#REF!"}}]
[{"$f":"'Spiegazioni Skills FTEM'!A31:A31","v":0},null,null,{"$f":"IF($H$2=\"G\",'Spiegazioni Skills FTEM'!F31,'Spiegazioni Skills FTEM'!B31)","v":"Prestazione Stile di vita"},null,null,{"$f":"IF($H$2=\"G\",'Spiegazioni Skills FTEM'!G31,'Spiegazioni Skills FTEM'!C31)","v":"Gestisce bene la quotidianità il suo ambiente seguendo i principi della prestazione, caparbio, perseverante e finalizzato sugli obiettivi, focus sulla propria prestazione, coraggioso e grintoso, sa imporsi nei confronti delle resistenze, le sfide lo motivano"},null,null,{"$f":"IF($H$2=\"G\",'Spiegazioni Skills FTEM'!#REF!,'Spiegazioni Skills FTEM'!#REF!)","v":{"$error":"#REF!"}}]
[{"$f":"'Spiegazioni Skills FTEM'!A32","v":"FORZA MENTALE"},null,null,{"$f":"IF($H$2=\"G\",'Spiegazioni Skills FTEM'!F32,'Spiegazioni Skills FTEM'!B32)","v":"Impegno"},null,null,{"$f":"IF($H$2=\"G\",'Spiegazioni Skills FTEM'!G32,'Spiegazioni Skills FTEM'!C32)","v":"Mostra molta intensità negli allenamenti e nelle partite, dà sempre il massimo e vuole sempre spronare i propri limiti, mostra passione, si sforza ad alzare la qualità negli allenamenti"},null,null,{"$f":"IF($H$2=\"G\",'Spiegazioni Skills FTEM'!#REF!,'Spiegazioni Skills FTEM'!#REF!)","v":{"$error":"#REF!"}},null,null,null,{"$f":"IFERROR(AVERAGE(O41:O45),\"-\")","v":"-"},null,{"$f":"IFERROR(AVERAGE(Q41:Q45),\"-\")","v":"-"},null,{"$f":"IFERROR(AVERAGE(S41:S45),\"-\")","v":"-"},null,{"$f":"IFERROR(AVERAGE(U41:U45),\"-\")","v":"-"},null,{"$f":"IFERROR(AVERAGE(W41:W45),\"-\")","v":"-"},null,{"$f":"IFERROR(AVERAGE(Y41:Y45),\"-\")","v":"-"}]
[null,null,null,{"$f":"IF($H$2=\"G\",'Spiegazioni Skills FTEM'!F33,'Spiegazioni Skills FTEM'!B33)","v":"Preparazione"},null,null,{"$f":"IF($H$2=\"G\",'Spiegazioni Skills FTEM'!G33,'Spiegazioni Skills FTEM'!C33)","v":"Preparazione consapevole e finalizzata, mentalmente e fisicamente, possiede un efficiente approccio per l'ottenimento dell'ideale stato di prestazione (ILZ/ISP)"},null,null,{"$f":"IF($H$2=\"G\",'Spiegazioni Skills FTEM'!#REF!,'Spiegazioni Skills FTEM'!#REF!)","v":{"$error":"#REF!"}}]
[{"$f":"'Spiegazioni Skills FTEM'!A34:A34","v":0},null,null,{"$f":"IF($H$2=\"G\",'Spiegazioni Skills FTEM'!F34,'Spiegazioni Skills FTEM'!B34)","v":"Coaching individuale"},null,null,{"$f":"IF($H$2=\"G\",'Spiegazioni Skills FTEM'!G34,'Spiegazioni Skills FTEM'!C34)","v":"Possiede una buona capacità di concentrazione, può mantenere il suo ILZ/ISP durante la partita e l'allenamento, può utilizzare tecniche di base per rafforzare il mentale, resistenti contro pensieri e influenze negative, è consapevole del proprio linguaggio del corpo che è in grado di padroneggiare"},null,null,{"$f":"IF($H$2=\"G\",'Spiegazioni Skills FTEM'!#REF!,'Spiegazioni Skills FTEM'!#REF!)","v":{"$error":"#REF!"}}]
[{"$f":"'Spiegazioni Skills FTEM'!A35:A35","v":0},null,null,{"$f":"IF($H$2=\"G\",'Spiegazioni Skills FTEM'!F35,'Spiegazioni Skills FTEM'!B35)","v":"Gestione delle energie"},null,null,{"$f":"IF($H$2=\"G\",'Spiegazioni Skills FTEM'!G35,'Spiegazioni Skills FTEM'!C35)","v":"Può gestire le proprie energie, cura la rigenerazione, può gestire i momenti in cui si deve andare al massimo oppure risparmiarsi, interruttore on/off"},null,null,{"$f":"IF($H$2=\"G\",'Spiegazioni Skills FTEM'!#REF!,'Spiegazioni Skills FTEM'!#REF!)","v":{"$error":"#REF!"}}]
[{"$f":"'Spiegazioni Skills FTEM'!A36:A36","v":0},null,null,{"$f":"IF($H$2=\"G\",'Spiegazioni Skills FTEM'!F36,'Spiegazioni Skills FTEM'!B36)","v":"Controllo delle emozioni"},null,null,{"$f":"IF($H$2=\"G\",'Spiegazioni Skills FTEM'!G36,'Spiegazioni Skills FTEM'!C36)","v":"Può regolare le proprie emozioni e impulsi, mantiene il controllo quando si trova sotto pressione, sa anche agire adeguatamente in situazioni emotive o frustranti"},null,null,{"$f":"IF($H$2=\"G\",'Spiegazioni Skills FTEM'!#REF!,'Spiegazioni Skills FTEM'!#REF!)","v":{"$error":"#REF!"}}]
[{"$f":"'Spiegazioni Skills FTEM'!A37","v":"FISICO"},null,null,{"$f":"IF($H$2=\"G\",'Spiegazioni Skills FTEM'!F37,'Spiegazioni Skills FTEM'!B37)","v":"Produzione di prestazione"},null,null,{"$f":"IF($H$2=\"G\",'Spiegazioni Skills FTEM'!G37,'Spiegazioni Skills FTEM'!C37)","v":"Possiede nelle gambe e nella parte alta del corpo la necessaria potenza/forza/velocità (fattori neuromuscolari)"},null,null,{"$f":"IF($H$2=\"G\",'Spiegazioni Skills FTEM'!#REF!,'Spiegazioni Skills FTEM'!#REF!)","v":{"$error":"#REF!"}},null,null,null,{"$f":"IFERROR(AVERAGE(O46:O50),\"-\")","v":"-"},null,{"$f":"IFERROR(AVERAGE(Q46:Q50),\"-\")","v":"-"},null,{"$f":"IFERROR(AVERAGE(S46:S50),\"-\")","v":"-"},null,{"$f":"IFERROR(AVERAGE(U46:U50),\"-\")","v":"-"},null,{"$f":"IFERROR(AVERAGE(W46:W50),\"-\")","v":"-"},null,{"$f":"IFERROR(AVERAGE(Y46:Y50),\"-\")","v":"-"}]
[null,null,null,{"$f":"IF($H$2=\"G\",'Spiegazioni Skills FTEM'!F38,'Spiegazioni Skills FTEM'!B38)","v":"Resistenza specifica alla fatica"},null,null,{"$f":"IF($H$2=\"G\",'Spiegazioni Skills FTEM'!G38,'Spiegazioni Skills FTEM'!C38)","v":"È capace di mantenere a lungo nell'ambito di un impiego la potenza/forza/velocità ed è capace di recuperare completamente attraverso i vari impieghi sul ghiaccio (fattori metabolici e cardiovascolari)"},null,null,{"$f":"IF($H$2=\"G\",'Spiegazioni Skills FTEM'!#REF!,'Spiegazioni Skills FTEM'!#REF!)","v":{"$error":"#REF!"}}]
[{"$f":"'Spiegazioni Skills FTEM'!A39:A39","v":0},null,null,{"$f":"IF($H$2=\"G\",'Spiegazioni Skills FTEM'!F39,'Spiegazioni Skills FTEM'!B39)","v":"Salute / prevenzione"},null,null,{"$f":"IF($H$2=\"G\",'Spiegazioni Skills FTEM'!G39,'Spiegazioni Skills FTEM'!C39)","v":"Possiede la necessaria stabilità (stabilità delle gambe) e mobilità delle articolazioni centrali"},null,null,{"$f":"IF($H$2=\"G\",'Spiegazioni Skills FTEM'!#REF!,'Spiegazioni Skills FTEM'!#REF!)","v":{"$error":"#REF!"}}]
[{"$f":"'Spiegazioni Skills FTEM'!A40:A40","v":0},null,null,{"$f":"IF($H$2=\"G\",'Spiegazioni Skills FTEM'!F40,'Spiegazioni Skills FTEM'!B40)","v":"Competenze della mobilità"},null,null,{"$f":"IF($H$2=\"G\",'Spiegazioni Skills FTEM'!G40,'Spiegazioni Skills FTEM'!C40)","v":"Padroneggia le basilari capacità di movimento che garantiscono in modo determinante le abilità specifiche \"skills\", come pure l'efficacia dei movimenti"},null,null,{"$f":"IF($H$2=\"G\",'Spiegazioni Skills FTEM'!#REF!,'Spiegazioni Skills FTEM'!#REF!)","v":{"$error":"#REF!"}}]
[{"$f":"'Spiegazioni Skills FTEM'!A41:A41","v":0},null,null,{"$f":"IF($H$2=\"G\",'Spiegazioni Skills FTEM'!F41,'Spiegazioni Skills FTEM'!B41)","v":"Robustezza"},null,null,{"$f":"IF($H$2=\"G\",'Spiegazioni Skills FTEM'!G41,'Spiegazioni Skills FTEM'!C41)","v":"Possiede la necessaria forza di base (tensione del corpo) per vincere i duelli e resistere alle cariche"},null,null,{"$f":"IF($H$2=\"G\",'Spiegazioni Skills FTEM'!#REF!,'Spiegazioni Skills FTEM'!#REF!)","v":{"$error":"#REF!"}}]

{"sheet":"16","index":19,"n_rows":50,"n_cols":36,"rows_kept":50,"cut":false,"hidden":false,"merged":[[45,34,49,34],[45,12,49,12],[45,13,49,13],[45,15,49,15],[45,17,49,17],[45,19,49,19],[45,21,49,21],[45,23,49,23],[45,25,49,25],[45,26,49,32],[45,0,49,2],[45,3,45,5],[45,6,45,11],[46,3,46,5],[46,6,46,11],[48,3,48,5],[48,6,48,11],[49,3,49,5],[49,6,49,11],[47,3,47,5],[47,6,47,11],[40,23,44,23],[42,3,42,5],[42,6,42,11],[44,3,44,5],[44,6,44,11],[40,0,44,2],[40,3,40,5],[40,6,40,11],[40,12,44,12],[40,13,44,13],[40,15,44,15],[43,3,43,5],[43,6,43,11],[34,21,34,22],[35,17,39,17],[35,19,39,19],[35,21,39,21],[37,3,37,5],[37,6,37,11],[38,3,38,5],[38,6,38,11],[40,17,44,17],[40,19,44,19],[40,21,44,21],[36,3,36,5],[36,6,36,11],[41,3,41,5],[41,6,41,11],[29,0,33,2],[29,3,29,5],[29,6,29,11],[29,12,33,12],[29,13,33,13],[29,15,33,15],[34,23,34,24],[34,26,34,32],[35,0,39,2],[35,3,35,5],[35,6,35,11],[35,12,39,12],[35,13,39,13],[35,15,39,15],[39,3,39,5],[39,6,39,11],[35,23,39,23],[34,0,34,2],[34,3,34,5],[34,6,34,11],[34,13,34,14],[34,15,34,16],[34,17,34,18],[34,19,34,20],[23,19,28,19],[23,21,28,21],[23,23,28,23],[26,3,26,5],[26,6,26,11],[28,3,28,5],[28,6,28,11],[33,3,33,5],[33,6,33,11],[29,23,33,23],[29,17,33,17],[29,19,33,19],[29,21,33,21],[31,3,31,5],[31,6,31,11],[32,3,32,5],[32,6,32,11],[27,3,27,5],[27,6,27,11],[25,3,25,5],[25,6,25,11],[30,3,30,5],[30,6,30,11],[12,21,16,21],[18,15,22,15],[18,17,22,17],[18,19,22,19],[18,21,22,21],[18,23,22,23],[22,3,22,5],[22,6,22,11],[23,0,28,2],[23,3,23,5],[23,6,23,11],[23,12,28,12],[23,13,28,13],[23,15,28,15],[23,17,28,17],[18,0,22,2],[18,3,18,5],[18,6,18,11],[18,12,22,12],[18,13,22,13],[19,3,19,5],[19,6,19,11],[21,3,21,5],[21,6,21,11],[11,21,11,22],[11,23,11,24],[11,26,11,32],[11,6,11,11],[12,23,16,23],[16,3,16,5],[16,6,16,11],[17,0,17,2],[17,3,17,5],[17,6,17,11],[17,13,17,14],[17,15,17,16],[17,17,17,18],[17,19,17,20],[17,21,17,22],[17,23,17,24],[12,0,16,2],[12,3,12,5],[12,6,12,11],[12,12,16,12],[12,13,16,13],[12,15,16,15],[12,17,16,17],[12,19,16,19],[4,0,4,1],[4,2,4,5],[4,10,4,24],[10,0,10,24],[10,25,10,35],[40,25,44,25],[40,26,44,32],[40,34,44,34],[12,25,16,25],[12,26,16,32],[12,34,16,34],[18,25,22,25],[18,26,22,32],[18,34,22,34],[23,25,28,25],[23,26,28,32],[23,34,28,34],[17,26,17,32],[11,0,11,2],[11,3,11,5],[11,13,11,14],[11,15,11,16],[11,17,11,18],[11,19,11,20],[0,0,0,24],[0,25,0,26],[0,27,0,32],[0,33,0,35],[29,25,33,25],[29,26,33,32],[29,34,33,34],[35,25,39,25],[35,26,39,32],[35,34,39,34],[1,0,1,1],[1,2,1,5],[1,10,1,24],[2,0,2,1],[2,2,2,5],[2,11,2,24],[6,0,6,1],[6,2,6,35],[7,0,7,1],[7,2,7,35],[8,0,8,1],[8,2,8,35],[3,0,3,1],[3,10,3,24],[13,3,13,5],[13,6,13,11],[14,3,14,5],[14,6,14,11],[15,3,15,5],[15,6,15,11],[20,3,20,5],[20,6,20,11],[24,3,24,5],[24,6,24,11]]}
["Personalien",null,null,null,null,null,null,null,null,null,null,null,null,null,null,null,null,null,null,null,null,null,null,null,null,"Predisposizione",null,"Valutazioni",null,null,null,null,null,"Rating"]
["COGNOME",null,{"$f":"IF(ISBLANK(VLOOKUP(16,Tabelle3[],3,0)),\"-\",VLOOKUP(16,Tabelle3[],3,0))","v":"-"},null,null,null,"POSIZIONE",null,null,"INDIRIZZO",{"$f":"IF(ISBLANK(VLOOKUP(16,Tabelle3[],5,0)),\"-\",VLOOKUP(16,Tabelle3[],5,0))","v":"-"},null,null,null,null,null,null,null,null,null,null,null,null,null,null,"Età\" (biologica/età relativa)",null,"Data 1",null,null,"cm",null,"Kg",null,"ECCELLENTE",5]
["NOME",null,{"$f":"IF(ISBLANK(VLOOKUP(16,Tabelle3[],2,0)),\"-\",VLOOKUP(16,Tabelle3[],2,0))","v":"-"},null,null,null,"BASTONE",null,null,"LUOGO",{"$f":"IF(ISBLANK(VLOOKUP(16,Tabelle3[],7,0)),\"-\",VLOOKUP(16,Tabelle3[],7,0))","v":"-"},{"$f":"IF(ISBLANK(VLOOKUP(16,Tabelle3[],6,0)),\"-\",VLOOKUP(16,Tabelle3[],6,0))","v":"-"},null,null,null,null,null,null,null,null,null,null,null,null,null,"Predisposizione",null,"Data 2",null,null,"cm",null,"Kg",null,"BUONO",4]
["DATA DI NASC.",null,{"$f":"IF(ISBLANK(VLOOKUP(16,Tabelle3[],14,0)),\"-\",VLOOKUP(16,Tabelle3[],14,0))","v":"-"},{"$f":"IF(ISBLANK(VLOOKUP(16,Tabelle3[],15,0)),\"-\",VLOOKUP(16,Tabelle3[],15,0))","v":"-"},{"$f":"IF(ISBLANK(VLOOKUP(16,Tabelle3[],16,0)),\"-\",VLOOKUP(16,Tabelle3[],16,0))","v":"-"},null,"ALTEZZA",null,"cm (Finale)","TELEFONO",{"$f":"IF(ISBLANK(VLOOKUP(16,Tabelle3[],8,0)),\"-\",VLOOKUP(16,Tabelle3[],8,0))","v":"-"},null,null,null,null,null,null,null,null,null,null,null,null,null,null,"Ambiente di vita",null,"Data 3",null,null,"cm",null,"Kg",null,"MEDIO/DISCRETO",3]
["SESSO",null,{"$f":"IF(ISBLANK(VLOOKUP(16,Tabelle3[],13,0)),\"-\",VLOOKUP(16,Tabelle3[],13,0))","v":"-"},null,null,null,"PESO",null,"Kg (Finale)","E-Mail",{"$f":"IF(ISBLANK(VLOOKUP(16,Tabelle3[],9,0)),\"-\",VLOOKUP(16,Tabelle3[],9,0))","v":"-"},null,null,null,null,null,null,null,null,null,null,null,null,null,null,null,null,"Data 4",null,null,"cm",null,"Kg",null,"CON LACUNE",2]
[null,null,null,null,null,null,null,null,null,null,null,null,null,null,null,null,null,null,null,null,null,null,null,null,null,null,null,"Data 5",null,null,"cm",null,"Kg",null,"INSUFFICIENTE",1]
["Visione",null,"xxx"]
["Prossimo passo",null,"xxx"]
["Proflio giocatore",null,"xxx"]
[]
["VALUTAZIONI (COACH / GIOCATORE)",null,null,null,null,null,null,null,null,null,null,null,null,null,null,null,null,null,null,null,null,null,null,null,null,"Obiettivi SMART"]
[{"$f":"'Spiegazioni Skills FTEM'!A3","v":"TEAM"},null,null,{"$f":"'Spiegazioni Skills FTEM'!B3","v":"CAPACITÀ"},null,null,{"$f":"'Spiegazioni Skills FTEM'!C3","v":"CRITERIO D'OSSERVAZIONE"},null,null,{"$f":"'Spiegazioni Skills FTEM'!H3","v":0},null,null,"Final","Data1",null,"Data2",null,"Data3",null,"Data4",null,"Data5",null,"Player",null,"OBIETTIVO","PROVVEDIMENTI:\n(SPECIFICI, MISURABILI, REALISTICI)",null,null,null,null,null,null,"TERMINE","COTROLLO DELL'OBIETTIVO","Data"]
[{"$f":"'Spiegazioni Skills FTEM'!A4","v":"SQUADRA"},null,null,{"$f":"IF($H$2=\"G\",'Spiegazioni Skills FTEM'!F4,'Spiegazioni Skills FTEM'!B4)","v":"Comunicazione"},null,null,{"$f":"IF($H$2=\"G\",'Spiegazioni Skills FTEM'!G4,'Spiegazioni Skills FTEM'!C4)","v":"Cura relazioni aperte e rispettose, fiducia quale base comportamentale, affronta i conflitti senza ledere la stabilità del gruppo, comunica con i compagni, gli allenatori e\nfunzionari con i medesimi valori"},null,null,{"$f":"IF($H$2=\"G\",'Spiegazioni Skills FTEM'!#REF!,'Spiegazioni Skills FTEM'!#REF!)","v":{"$error":"#REF!"}},null,null,null,{"$f":"IFERROR(AVERAGE(O13:O17),\"-\")","v":"-"},null,{"$f":"IFERROR(AVERAGE(Q13:Q17),\"-\")","v":"-"},null,{"$f":"IFERROR(AVERAGE(S13:S17),\"-\")","v":"-"},null,{"$f":"IFERROR(AVERAGE(U13:U17),\"-\")","v":"-"},null,{"$f":"IFERROR(AVERAGE(W13:W17),\"-\")","v":"-"},null,{"$f":"IFERROR(AVERAGE(Y13:Y17),\"-\")","v":"-"}]
[{"$f":"'Spiegazioni Skills FTEM'!A5","v":0},null,null,{"$f":"IF($H$2=\"G\",'Spiegazioni Skills FTEM'!F5,'Spiegazioni Skills FTEM'!B5)","v":"Capacità nella squadra"},null,null,{"$f":"IF($H$2=\"G\",'Spiegazioni Skills FTEM'!G5,'Spiegazioni Skills FTEM'!C5)","v":"Integrazione nel gruppo, definisce e realizza obiettivi comuni, NOI prima dell'IO, contribuisce a creare un buon spirito di squadra e clima di lavoro"},null,null,{"$f":"IF($H$2=\"G\",'Spiegazioni Skills FTEM'!#REF!,'Spiegazioni Skills FTEM'!#REF!)","v":{"$error":"#REF!"}}]
[{"$f":"'Spiegazioni Skills FTEM'!A6","v":0},null,null,{"$f":"IF($H$2=\"G\",'Spiegazioni Skills FTEM'!F6,'Spiegazioni Skills FTEM'!B6)","v":"Leadership"},null,null,{"$f":"IF($H$2=\"G\",'Spiegazioni Skills FTEM'!G6,'Spiegazioni Skills FTEM'!C6)","v":"Assume responsabilità nell'ambito del gruppo, cerca di migliorare la squadra e i compagni, influenza positivamente la dinamica di gruppo"},null,null,{"$f":"IF($H$2=\"G\",'Spiegazioni Skills FTEM'!#REF!,'Spiegazioni Skills FTEM'!#REF!)","v":{"$error":"#REF!"}}]
[{"$f":"'Spiegazioni Skills FTEM'!A7","v":0},null,null,{"$f":"IF($H$2=\"G\",'Spiegazioni Skills FTEM'!F7,'Spiegazioni Skills FTEM'!B7)","v":"Ripartizione dei ruoli"},null,null,{"$f":"IF($H$2=\"G\",'Spiegazioni Skills FTEM'!G7,'Spiegazioni Skills FTEM'!C7)","v":"Riconosce e adempie il suo ruolo, è cosciente della sua posizione nel sistema e nella squadra, mette a disposizione della squadra le sue competenze"},null,null,{"$f":"IF($H$2=\"G\",'Spiegazioni Skills FTEM'!#REF!,'Spiegazioni Skills FTEM'!#REF!)","v":{"$error":"#REF!"}}]
[{"$f":"'Spiegazioni Skills FTEM'!A8","v":0},null,null,{"$f":"IF($H$2=\"G\",'Spiegazioni Skills FTEM'!F8,'Spiegazioni Skills FTEM'!B8)","v":"Rispetto"},null,null,{"$f":"IF($H$2=\"G\",'Spiegazioni Skills FTEM'!G8,'Spiegazioni Skills FTEM'!C8)","v":"Relazioni rispettose con i compagni, allenatori, avversari, arbitri e staff; rispetta le regole i pricipi del fairplay (compreso la lotta al doping)"},null,null,{"$f":"IF($H$2=\"G\",'Spiegazioni Skills FTEM'!#REF!,'Spiegazioni Skills FTEM'!#REF!)","v":{"$error":"#REF!"}}]
[{"$f":"'Spiegazioni Skills FTEM'!A9","v":"ON ICE"},null,null,{"$f":"'Spiegazioni Skills FTEM'!B9","v":"CAPACITÀ"},null,null,{"$f":"'Spiegazioni Skills FTEM'!C9","v":"CRITERIO D'OSSERVAZIONE"},null,null,{"$f":"'Spiegazioni Skills FTEM'!H9","v":0},null,null,null,"Data1",null,"Data2",null,"Data3",null,"Data4",null,"Data5",null,"Player",null,"OBIETTIVO","PROVVEDIMENTI:\n(SPECIFICI, MISURABILI, REALISTICI)",null,null,null,null,null,null,"TERMINE","COTROLLO DELL'OBIETTIVO","Date"]
[{"$f":"'Spiegazioni Skills FTEM'!A10","v":"PATTINAGGIO"},null,null,{"$f":"IF($H$2=\"G\",'Spiegazioni Skills FTEM'!F10,'Spiegazioni Skills FTEM'!B10)","v":"Velocità dei piedi"},null,null,{"$f":"IF($H$2=\"G\",'Spiegazioni Skills FTEM'!G10,'Spiegazioni Skills FTEM'!C10)","v":"Accelerazione, partenza, esplosività dei primi 3 passi, frequenza"},null,null,{"$f":"IF($H$2=\"G\",'Spiegazioni Skills FTEM'!#REF!,'Spiegazioni Skills FTEM'!#REF!)","v":{"$error":"#REF!"}},null,null,null,{"$f":"IFERROR(AVERAGE(O19:O23),\"-\")","v":"-"},null,{"$f":"IFERROR(AVERAGE(Q19:Q23),\"-\")","v":"-"},null,{"$f":"IFERROR(AVERAGE(S19:S23),\"-\")","v":"-"},null,{"$f":"IFERROR(AVERAGE(U19:U23),\"-\")","v":"-"},null,{"$f":"IFERROR(AVERAGE(W19:W23),\"-\")","v":"-"},null,{"$f":"IFERROR(AVERAGE(Y19:Y23),\"-\")","v":"-"}]
[{"$f":"'Spiegazioni Skills FTEM'!A11:A11","v":0},null,null,{"$f":"IF($H$2=\"G\",'Spiegazioni Skills FTEM'!F11,'Spiegazioni Skills FTEM'!B11)","v":"Velocità/rapidità"},null,null,{"$f":"IF($H$2=\"G\",'Spiegazioni Skills FTEM'!G11,'Spiegazioni Skills FTEM'!C11)","v":"Velocità, facoltà di scivolare, avanti / indietro, economia dello sforzo"},null,null,{"$f":"IF($H$2=\"G\",'Spiegazioni Skills FTEM'!#REF!,'Spiegazioni Skills FTEM'!#REF!)","v":{"$error":"#REF!"}}]
[null,null,null,{"$f":"IF($H$2=\"G\",'Spiegazioni Skills FTEM'!F12,'Spiegazioni Skills FTEM'!B12)","v":"Agilità"},null,null,{"$f":"IF($H$2=\"G\",'Spiegazioni Skills FTEM'!G12,'Spiegazioni Skills FTEM'!C12)","v":"Cambiamento di direzione, girarsi, stop e ripartenza, \"Nummelin\""},null,null,{"$f":"IF($H$2=\"G\",'Spiegazioni Skills FTEM'!#REF!,'Spiegazioni Skills FTEM'!#REF!)","v":{"$error":"#REF!"}}]
[{"$f":"'Spiegazioni Skills FTEM'!A12:A12","v":0},null,null,{"$f":"IF($H$2=\"G\",'Spiegazioni Skills FTEM'!F13,'Spiegazioni Skills FTEM'!B13)","v":"Equilibrio"},null,null,{"$f":"IF($H$2=\"G\",'Spiegazioni Skills FTEM'!G13,'Spiegazioni Skills FTEM'!C13)","v":"Equilibrio, stabilità, posizione bassa, su una gamba, su entrambe"},null,null,{"$f":"IF($H$2=\"G\",'Spiegazioni Skills FTEM'!#REF!,'Spiegazioni Skills FTEM'!#REF!)","v":{"$error":"#REF!"}},null,null,null,{"$f":"IFERROR(AVERAGE(O22:O23),\"-\")","v":"-"},null,{"$f":"IFERROR(AVERAGE(Q22:Q23),\"-\")","v":"-"},null,{"$f":"IFERROR(AVERAGE(S22:S23),\"-\")","v":"-"},null,{"$f":"IFERROR(AVERAGE(U22:U23),\"-\")","v":"-"},null,{"$f":"IFERROR(AVERAGE(W22:W23),\"-\")","v":"-"},null,"-"]
[{"$f":"'Spiegazioni Skills FTEM'!A14:A14","v":0},null,null,{"$f":"IF($H$2=\"G\",'Spiegazioni Skills FTEM'!F14,'Spiegazioni Skills FTEM'!B14)","v":"Pattinaggio indietro"},null,null,{"$f":"IF($H$2=\"G\",'Spiegazioni Skills FTEM'!G14,'Spiegazioni Skills FTEM'!C14)","v":"Accelerazione, velocità, equilibrio"},null,null,{"$f":"IF($H$2=\"G\",'Spiegazioni Skills FTEM'!#REF!,'Spiegazioni Skills FTEM'!#REF!)","v":{"$error":"#REF!"}}]
[{"$f":"'Spiegazioni Skills FTEM'!A15","v":"ABILITÀ"},null,null,{"$f":"IF($H$2=\"G\",'Spiegazioni Skills FTEM'!F15,'Spiegazioni Skills FTEM'!B15)","v":"Tirare"},null,null,{"$f":"IF($H$2=\"G\",'Spiegazioni Skills FTEM'!G15,'Spiegazioni Skills FTEM'!C15)","v":"Efficienza (poco spazio, poco tempo), ricchezza di varianti, grado di sorpresa (Quick Release), precisione, potenza (conclusioni tattiche)"},null,null,{"$f":"IF($H$2=\"G\",'Spiegazioni Skills FTEM'!#REF!,'Spiegazioni Skills FTEM'!#REF!)","v":{"$error":"#REF!"}},null,null,null,{"$f":"IFERROR(AVERAGE(O24:O29),\"-\")","v":"-"},null,{"$f":"IFERROR(AVERAGE(Q24:Q29),\"-\")","v":"-"},null,{"$f":"IFERROR(AVERAGE(S24:S29),\"-\")","v":"-"},null,{"$f":"IFERROR(AVERAGE(U24:U29),\"-\")","v":"-"},null,{"$f":"IFERROR(AVERAGE(W24:W29),\"-\")","v":"-"},null,{"$f":"IFERROR(AVERAGE(Y24:Y29),\"-\")","v":"-"}]
[null,null,null,{"$f":"IF($H$2=\"G\",'Spiegazioni Skills FTEM'!F16,'Spiegazioni Skills FTEM'!B16)","v":"Passare"},null,null,{"$f":"IF($H$2=\"G\",'Spiegazioni Skills FTEM'!G16,'Spiegazioni Skills FTEM'!C16)","v":"Passaggio (distanza, flipp, rovescio), ricezione del passaggio (precisione, timing, diritto, rovescio, sul pattino), velocità del disco"},null,null,{"$f":"IF($H$2=\"G\",'Spiegazioni Skills FTEM'!#REF!,'Spiegazioni Skills FTEM'!#REF!)","v":{"$error":"#REF!"}}]
[null,null,null,{"$f":"IF($H$2=\"G\",'Spiegazioni Skills FTEM'!F17,'Spiegazioni Skills FTEM'!B17)","v":"Lavoro col bastone - condotta del disco"},null,null,{"$f":"IF($H$2=\"G\",'Spiegazioni Skills FTEM'!G17,'Spiegazioni Skills FTEM'!C17)","v":"Bastone sul disco, intercettare le linee di passaggio, deviare, controllo del bastone avversario"},null,null,{"$f":"IF($H$2=\"G\",'Spiegazioni Skills FTEM'!#REF!,'Spiegazioni Skills FTEM'!#REF!)","v":{"$error":"#REF!"}}]
[{"$f":"'Spiegazioni Skills FTEM'!A16:A16","v":0},null,null,{"$f":"IF($H$2=\"G\",'Spiegazioni Skills FTEM'!F18,'Spiegazioni Skills FTEM'!B18)","v":"Possedere/proteggere il disco"},null,null,{"$f":"IF($H$2=\"G\",'Spiegazioni Skills FTEM'!G18,'Spiegazioni Skills FTEM'!C18)","v":"Controllo del disco, dribbling, protezione del disco, finte (varianti col pattino, con o senza la balaustra), ingaggi (face-off)"},null,null,{"$f":"IF($H$2=\"G\",'Spiegazioni Skills FTEM'!#REF!,'Spiegazioni Skills FTEM'!#REF!)","v":{"$error":"#REF!"}}]
[{"$f":"'Spiegazioni Skills FTEM'!A17:A17","v":0},null,null,{"$f":"IF($H$2=\"G\",'Spiegazioni Skills FTEM'!F19,'Spiegazioni Skills FTEM'!B19)","v":"Gioco del corpo"},null,null,{"$f":"IF($H$2=\"G\",'Spiegazioni Skills FTEM'!G19,'Spiegazioni Skills FTEM'!C19)","v":"Facoltà di imporsi fisicamente, duelli (ghiaccio aperto, balaustra), subire dei checks/testa alta, livello di lotta, duro ma corretto, blocco dei tiri con il corpo"},null,null,{"$f":"IF($H$2=\"G\",'Spiegazioni Skills FTEM'!#REF!,'Spiegazioni Skills FTEM'!#REF!)","v":{"$error":"#REF!"}}]
[{"$f":"'Spiegazioni Skills FTEM'!A20:A20","v":0},null,null,{"$f":"IF($H$2=\"G\",'Spiegazioni Skills FTEM'!F20,'Spiegazioni Skills FTEM'!B20)","v":"-"},null,null,{"$f":"IF($H$2=\"G\",'Spiegazioni Skills FTEM'!G20,'Spiegazioni Skills FTEM'!C20)","v":"-"},null,null,{"$f":"IF($H$2=\"G\",'Spiegazioni Skills FTEM'!#REF!,'Spiegazioni Skills FTEM'!#REF!)","v":{"$error":"#REF!"}}]
[{"$f":"'Spiegazioni Skills FTEM'!A21","v":"SENSO DELL'HOCKEY"},null,null,{"$f":"IF($H$2=\"G\",'Spiegazioni Skills FTEM'!F21,'Spiegazioni Skills FTEM'!B21)","v":"Intelligenza nel gioco"},null,null,{"$f":"IF($H$2=\"G\",'Spiegazioni Skills FTEM'!G21,'Spiegazioni Skills FTEM'!C21)","v":"Vedere spazi e giocatori liberi, creare situazioni di superiorità numerica, agire cercando soluzioni in tutte le situazioni, velocità di visualizzazione"},null,null,{"$f":"IF($H$2=\"G\",'Spiegazioni Skills FTEM'!#REF!,'Spiegazioni Skills FTEM'!#REF!)","v":{"$error":"#REF!"}},null,null,null,{"$f":"IFERROR(AVERAGE(O30:O34),\"-\")","v":"-"},null,{"$f":"IFERROR(AVERAGE(Q30:Q34),\"-\")","v":"-"},null,{"$f":"IFERROR(AVERAGE(S30:S34),\"-\")","v":"-"},null,{"$f":"IFERROR(AVERAGE(U30:U34),\"-\")","v":"-"},null,{"$f":"IFERROR(AVERAGE(W30:W34),\"-\")","v":"-"},null,{"$f":"IFERROR(AVERAGE(Y30:Y34),\"-\")","v":"-"}]
[{"$f":"'Spiegazioni Skills FTEM'!A22:A22","v":0},null,null,{"$f":"IF($H$2=\"G\",'Spiegazioni Skills FTEM'!F22,'Spiegazioni Skills FTEM'!B22)","v":"Sensibilità offensiva"},null,null,{"$f":"IF($H$2=\"G\",'Spiegazioni Skills FTEM'!G22,'Spiegazioni Skills FTEM'!C22)","v":"Smarcarsi, anticipare le situazioni di gioco, aprire spazi liberi per i compagni, piazzarsi per le conclusioni, velocità nel chiudere gli spazi (pressione), comunicazione"},null,null,{"$f":"IF($H$2=\"G\",'Spiegazioni Skills FTEM'!#REF!,'Spiegazioni Skills FTEM'!#REF!)","v":{"$error":"#REF!"}}]
[null,null,null,{"$f":"IF($H$2=\"G\",'Spiegazioni Skills FTEM'!F23,'Spiegazioni Skills FTEM'!B23)","v":"Sensibilità difensiva"},null,null,{"$f":"IF($H$2=\"G\",'Spiegazioni Skills FTEM'!G23,'Spiegazioni Skills FTEM'!C23)","v":"Mantenere la posizione difensiva, protezione dello slot, assicurare i compagni / supporto, individuare le linee di passaggio, bloccare i tiri, ridurre velocemente gli spazi, comunicazione"},null,null,{"$f":"IF($H$2=\"G\",'Spiegazioni Skills FTEM'!#REF!,'Spiegazioni Skills FTEM'!#REF!)","v":{"$error":"#REF!"}}]
[{"$f":"'Spiegazioni Skills FTEM'!A24:A24","v":0},null,null,{"$f":"IF($H$2=\"G\",'Spiegazioni Skills FTEM'!F24,'Spiegazioni Skills FTEM'!B24)","v":"Gestione del disco"},null,null,{"$f":"IF($H$2=\"G\",'Spiegazioni Skills FTEM'!G24,'Spiegazioni Skills FTEM'!C24)","v":"Prendere decisioni adeguate nelle situazioni di gioco, supporto, creare superiorità numerica"},null,null,{"$f":"IF($H$2=\"G\",'Spiegazioni Skills FTEM'!#REF!,'Spiegazioni Skills FTEM'!#REF!)","v":{"$error":"#REF!"}}]
[{"$f":"'Spiegazioni Skills FTEM'!A25:A25","v":0},null,null,{"$f":"IF($H$2=\"G\",'Spiegazioni Skills FTEM'!F25,'Spiegazioni Skills FTEM'!B25)","v":"Creatività"},null,null,{"$f":"IF($H$2=\"G\",'Spiegazioni Skills FTEM'!G25,'Spiegazioni Skills FTEM'!C25)","v":"Creare situazioni a sorpresa, fiuto del gol"},null,null,{"$f":"IF($H$2=\"G\",'Spiegazioni Skills FTEM'!#REF!,'Spiegazioni Skills FTEM'!#REF!)","v":{"$error":"#REF!"}}]
[{"$f":"'Spiegazioni Skills FTEM'!A26","v":"PERSONALITY"},null,null,{"$f":"'Spiegazioni Skills FTEM'!B26","v":"CAPACITÀ"},null,null,{"$f":"'Spiegazioni Skills FTEM'!C26","v":"CRITERIO D'OSSERVAZIONE"},null,null,{"$f":"'Spiegazioni Skills FTEM'!H26","v":0},null,null,null,"Data1",null,"Data2",null,"Data3",null,"Data4",null,"Data5",null,"Player",null,"OBIETTIVO","PROVVEDIMENTI:\n(SPECIFICI, MISURABILI, REALISTICI)",null,null,null,null,null,null,"TERMINE","COTROLLO DELL'OBIETTIVO","Date"]
[{"$f":"'Spiegazioni Skills FTEM'!A27","v":"PERSONALITÀ"},null,null,{"$f":"IF($H$2=\"G\",'Spiegazioni Skills FTEM'!F27,'Spiegazioni Skills FTEM'!B27)","v":"Fiducia in se stesso"},null,null,{"$f":"IF($H$2=\"G\",'Spiegazioni Skills FTEM'!G27,'Spiegazioni Skills FTEM'!C27)","v":"Possiede la necessaria fiducia in se stesso, «I can do it»-attitudine, sa valutare le proprie capacità (conosce i propri punti forti e deboli), può realizzare le proprie qualità con\ncostanza, è coraggioso e sa prendere dei rischi calcolati"},null,null,{"$f":"IF($H$2=\"G\",'Spiegazioni Skills FTEM'!#REF!,'Spiegazioni Skills FTEM'!#REF!)","v":{"$error":"#REF!"}},null,null,null,{"$f":"IFERROR(AVERAGE(O36:O40),\"-\")","v":"-"},null,{"$f":"IFERROR(AVERAGE(Q36:Q40),\"-\")","v":"-"},null,{"$f":"IFERROR(AVERAGE(S36:S40),\"-\")","v":"-"},null,{"$f":"IFERROR(AVERAGE(U36:U40),\"-\")","v":"-"},null,{"$f":"IFERROR(AVERAGE(W36:W40),\"-\")","v":"-"},null,{"$f":"IFERROR(AVERAGE(Y36:Y40),\"-\")","v":"-"}]
[{"$f":"'Spiegazioni Skills FTEM'!A28:A28","v":0},null,null,{"$f":"IF($H$2=\"G\",'Spiegazioni Skills FTEM'!F28,'Spiegazioni Skills FTEM'!B28)","v":"Capacità d'apprendimento"},null,null,{"$f":"IF($H$2=\"G\",'Spiegazioni Skills FTEM'!G28,'Spiegazioni Skills FTEM'!C28)","v":"Ha una buona capacità d'apprendimento (sa recepire e realizzare), possiede una personalità, cerca di imparare dai propri errori derivandone delle misure"},null,null,{"$f":"IF($H$2=\"G\",'Spiegazioni Skills FTEM'!#REF!,'Spiegazioni Skills FTEM'!#REF!)","v":{"$error":"#REF!"}}]
[null,null,null,{"$f":"IF($H$2=\"G\",'Spiegazioni Skills FTEM'!F29,'Spiegazioni Skills FTEM'!B29)","v":"Senso di responsabilità"},null,null,{"$f":"IF($H$2=\"G\",'Spiegazioni Skills FTEM'!G29,'Spiegazioni Skills FTEM'!C29)","v":"Assume responsabiltà per le proprie prestazioni e sviluppo, agisce autonomamente, cura i dettagli, mostra un grande impegno in tutti i settori"},null,null,{"$f":"IF($H$2=\"G\",'Spiegazioni Skills FTEM'!#REF!,'Spiegazioni Skills FTEM'!#REF!)","v":{"$error":"#REF!"}}]
[{"$f":"'Spiegazioni Skills FTEM'!A30:A30","v":0},null,null,{"$f":"IF($H$2=\"G\",'Spiegazioni Skills FTEM'!F30,'Spiegazioni Skills FTEM'!B30)","v":"Motivazione"},null,null,{"$f":"IF($H$2=\"G\",'Spiegazioni Skills FTEM'!G30,'Spiegazioni Skills FTEM'!C30)","v":"È sempre motivato, vuole sempre svilupparsi e imparare, vuol essere il primo e avere successo, non rinuncia mai e non si lascia influenzare dagli insuccessi"},null,null,{"$f":"IF($H$2=\"G\",'Spiegazioni Skills FTEM'!#REF!,'Spiegazioni Skills FTEM'!#REF!)","v":{"$error":"#REF!"}}]
[{"$f":"'Spiegazioni Skills FTEM'!A31:A31","v":0},null,null,{"$f":"IF($H$2=\"G\",'Spiegazioni Skills FTEM'!F31,'Spiegazioni Skills FTEM'!B31)","v":"Prestazione Stile di vita"},null,null,{"$f":"IF($H$2=\"G\",'Spiegazioni Skills FTEM'!G31,'Spiegazioni Skills FTEM'!C31)","v":"Gestisce bene la quotidianità il suo ambiente seguendo i principi della prestazione, caparbio, perseverante e finalizzato sugli obiettivi, focus sulla propria prestazione, coraggioso e grintoso, sa imporsi nei confronti delle resistenze, le sfide lo motivano"},null,null,{"$f":"IF($H$2=\"G\",'Spiegazioni Skills FTEM'!#REF!,'Spiegazioni Skills FTEM'!#REF!)","v":{"$error":"#REF!"}}]
[{"$f":"'Spiegazioni Skills FTEM'!A32","v":"FORZA MENTALE"},null,null,{"$f":"IF($H$2=\"G\",'Spiegazioni Skills FTEM'!F32,'Spiegazioni Skills FTEM'!B32)","v":"Impegno"},null,null,{"$f":"IF($H$2=\"G\",'Spiegazioni Skills FTEM'!G32,'Spiegazioni Skills FTEM'!C32)","v":"Mostra molta intensità negli allenamenti e nelle partite, dà sempre il massimo e vuole sempre spronare i propri limiti, mostra passione, si sforza ad alzare la qualità negli allenamenti"},null,null,{"$f":"IF($H$2=\"G\",'Spiegazioni Skills FTEM'!#REF!,'Spiegazioni Skills FTEM'!#REF!)","v":{"$error":"#REF!"}},null,null,null,{"$f":"IFERROR(AVERAGE(O41:O45),\"-\")","v":"-"},null,{"$f":"IFERROR(AVERAGE(Q41:Q45),\"-\")","v":"-"},null,{"$f":"IFERROR(AVERAGE(S41:S45),\"-\")","v":"-"},null,{"$f":"IFERROR(AVERAGE(U41:U45),\"-\")","v":"-"},null,{"$f":"IFERROR(AVERAGE(W41:W45),\"-\")","v":"-"},null,{"$f":"IFERROR(AVERAGE(Y41:Y45),\"-\")","v":"-"}]
[null,null,null,{"$f":"IF($H$2=\"G\",'Spiegazioni Skills FTEM'!F33,'Spiegazioni Skills FTEM'!B33)","v":"Preparazione"},null,null,{"$f":"IF($H$2=\"G\",'Spiegazioni Skills FTEM'!G33,'Spiegazioni Skills FTEM'!C33)","v":"Preparazione consapevole e finalizzata, mentalmente e fisicamente, possiede un efficiente approccio per l'ottenimento dell'ideale stato di prestazione (ILZ/ISP)"},null,null,{"$f":"IF($H$2=\"G\",'Spiegazioni Skills FTEM'!#REF!,'Spiegazioni Skills FTEM'!#REF!)","v":{"$error":"#REF!"}}]
[{"$f":"'Spiegazioni Skills FTEM'!A34:A34","v":0},null,null,{"$f":"IF($H$2=\"G\",'Spiegazioni Skills FTEM'!F34,'Spiegazioni Skills FTEM'!B34)","v":"Coaching individuale"},null,null,{"$f":"IF($H$2=\"G\",'Spiegazioni Skills FTEM'!G34,'Spiegazioni Skills FTEM'!C34)","v":"Possiede una buona capacità di concentrazione, può mantenere il suo ILZ/ISP durante la partita e l'allenamento, può utilizzare tecniche di base per rafforzare il mentale, resistenti contro pensieri e influenze negative, è consapevole del proprio linguaggio del corpo che è in grado di padroneggiare"},null,null,{"$f":"IF($H$2=\"G\",'Spiegazioni Skills FTEM'!#REF!,'Spiegazioni Skills FTEM'!#REF!)","v":{"$error":"#REF!"}}]
[{"$f":"'Spiegazioni Skills FTEM'!A35:A35","v":0},null,null,{"$f":"IF($H$2=\"G\",'Spiegazioni Skills FTEM'!F35,'Spiegazioni Skills FTEM'!B35)","v":"Gestione delle energie"},null,null,{"$f":"IF($H$2=\"G\",'Spiegazioni Skills FTEM'!G35,'Spiegazioni Skills FTEM'!C35)","v":"Può gestire le proprie energie, cura la rigenerazione, può gestire i momenti in cui si deve andare al massimo oppure risparmiarsi, interruttore on/off"},null,null,{"$f":"IF($H$2=\"G\",'Spiegazioni Skills FTEM'!#REF!,'Spiegazioni Skills FTEM'!#REF!)","v":{"$error":"#REF!"}}]
[{"$f":"'Spiegazioni Skills FTEM'!A36:A36","v":0},null,null,{"$f":"IF($H$2=\"G\",'Spiegazioni Skills FTEM'!F36,'Spiegazioni Skills FTEM'!B36)","v":"Controllo delle emozioni"},null,null,{"$f":"IF($H$2=\"G\",'Spiegazioni Skills FTEM'!G36,'Spiegazioni Skills FTEM'!C36)","v":"Può regolare le proprie emozioni e impulsi, mantiene il controllo quando si trova sotto pressione, sa anche agire adeguatamente in situazioni emotive o frustranti"},null,null,{"$f":"IF($H$2=\"G\",'Spiegazioni Skills FTEM'!#REF!,'Spiegazioni Skills FTEM'!#REF!)","v":{"$error":"#REF!"}}]
[{"$f":"'Spiegazioni Skills FTEM'!A37","v":"FISICO"},null,null,{"$f":"IF($H$2=\"G\",'Spiegazioni Skills FTEM'!F37,'Spiegazioni Skills FTEM'!B37)","v":"Produzione di prestazione"},null,null,{"$f":"IF($H$2=\"G\",'Spiegazioni Skills FTEM'!G37,'Spiegazioni Skills FTEM'!C37)","v":"Possiede nelle gambe e nella parte alta del corpo la necessaria potenza/forza/velocità (fattori neuromuscolari)"},null,null,{"$f":"IF($H$2=\"G\",'Spiegazioni Skills FTEM'!#REF!,'Spiegazioni Skills FTEM'!#REF!)","v":{"$error":"#REF!"}},null,null,null,{"$f":"IFERROR(AVERAGE(O46:O50),\"-\")","v":"-"},null,{"$f":"IFERROR(AVERAGE(Q46:Q50),\"-\")","v":"-"},null,{"$f":"IFERROR(AVERAGE(S46:S50),\"-\")","v":"-"},null,{"$f":"IFERROR(AVERAGE(U46:U50),\"-\")","v":"-"},null,{"$f":"IFERROR(AVERAGE(W46:W50),\"-\")","v":"-"},null,{"$f":"IFERROR(AVERAGE(Y46:Y50),\"-\")","v":"-"}]
[null,null,null,{"$f":"IF($H$2=\"G\",'Spiegazioni Skills FTEM'!F38,'Spiegazioni Skills FTEM'!B38)","v":"Resistenza specifica alla fatica"},null,null,{"$f":"IF($H$2=\"G\",'Spiegazioni Skills FTEM'!G38,'Spiegazioni Skills FTEM'!C38)","v":"È capace di mantenere a lungo nell'ambito di un impiego la potenza/forza/velocità ed è capace di recuperare completamente attraverso i vari impieghi sul ghiaccio (fattori metabolici e cardiovascolari)"},null,null,{"$f":"IF($H$2=\"G\",'Spiegazioni Skills FTEM'!#REF!,'Spiegazioni Skills FTEM'!#REF!)","v":{"$error":"#REF!"}}]
[{"$f":"'Spiegazioni Skills FTEM'!A39:A39","v":0},null,null,{"$f":"IF($H$2=\"G\",'Spiegazioni Skills FTEM'!F39,'Spiegazioni Skills FTEM'!B39)","v":"Salute / prevenzione"},null,null,{"$f":"IF($H$2=\"G\",'Spiegazioni Skills FTEM'!G39,'Spiegazioni Skills FTEM'!C39)","v":"Possiede la necessaria stabilità (stabilità delle gambe) e mobilità delle articolazioni centrali"},null,null,{"$f":"IF($H$2=\"G\",'Spiegazioni Skills FTEM'!#REF!,'Spiegazioni Skills FTEM'!#REF!)","v":{"$error":"#REF!"}}]
[{"$f":"'Spiegazioni Skills FTEM'!A40:A40","v":0},null,null,{"$f":"IF($H$2=\"G\",'Spiegazioni Skills FTEM'!F40,'Spiegazioni Skills FTEM'!B40)","v":"Competenze della mobilità"},null,null,{"$f":"IF($H$2=\"G\",'Spiegazioni Skills FTEM'!G40,'Spiegazioni Skills FTEM'!C40)","v":"Padroneggia le basilari capacità di movimento che garantiscono in modo determinante le abilità specifiche \"skills\", come pure l'efficacia dei movimenti"},null,null,{"$f":"IF($H$2=\"G\",'Spiegazioni Skills FTEM'!#REF!,'Spiegazioni Skills FTEM'!#REF!)","v":{"$error":"#REF!"}}]
[{"$f":"'Spiegazioni Skills FTEM'!A41:A41","v":0},null,null,{"$f":"IF($H$2=\"G\",'Spiegazioni Skills FTEM'!F41,'Spiegazioni Skills FTEM'!B41)","v":"Robustezza"},null,null,{"$f":"IF($H$2=\"G\",'Spiegazioni Skills FTEM'!G41,'Spiegazioni Skills FTEM'!C41)","v":"Possiede la necessaria forza di base (tensione del corpo) per vincere i duelli e resistere alle cariche"},null,null,{"$f":"IF($H$2=\"G\",'Spiegazioni Skills FTEM'!#REF!,'Spiegazioni Skills FTEM'!#REF!)","v":{"$error":"#REF!"}}]

{"sheet":"17","index":20,"n_rows":50,"n_cols":36,"rows_kept":50,"cut":false,"hidden":false,"merged":[[45,34,49,34],[45,12,49,12],[45,13,49,13],[45,15,49,15],[45,17,49,17],[45,19,49,19],[45,21,49,21],[45,23,49,23],[45,25,49,25],[45,26,49,32],[45,0,49,2],[45,3,45,5],[45,6,45,11],[46,3,46,5],[46,6,46,11],[48,3,48,5],[48,6,48,11],[49,3,49,5],[49,6,49,11],[47,3,47,5],[47,6,47,11],[40,23,44,23],[42,3,42,5],[42,6,42,11],[44,3,44,5],[44,6,44,11],[40,0,44,2],[40,3,40,5],[40,6,40,11],[40,12,44,12],[40,13,44,13],[40,15,44,15],[43,3,43,5],[43,6,43,11],[34,21,34,22],[35,17,39,17],[35,19,39,19],[35,21,39,21],[37,3,37,5],[37,6,37,11],[38,3,38,5],[38,6,38,11],[40,17,44,17],[40,19,44,19],[40,21,44,21],[36,3,36,5],[36,6,36,11],[41,3,41,5],[41,6,41,11],[29,0,33,2],[29,3,29,5],[29,6,29,11],[29,12,33,12],[29,13,33,13],[29,15,33,15],[34,23,34,24],[34,26,34,32],[35,0,39,2],[35,3,35,5],[35,6,35,11],[35,12,39,12],[35,13,39,13],[35,15,39,15],[39,3,39,5],[39,6,39,11],[35,23,39,23],[34,0,34,2],[34,3,34,5],[34,6,34,11],[34,13,34,14],[34,15,34,16],[34,17,34,18],[34,19,34,20],[23,19,28,19],[23,21,28,21],[23,23,28,23],[26,3,26,5],[26,6,26,11],[28,3,28,5],[28,6,28,11],[33,3,33,5],[33,6,33,11],[29,23,33,23],[29,17,33,17],[29,19,33,19],[29,21,33,21],[31,3,31,5],[31,6,31,11],[32,3,32,5],[32,6,32,11],[27,3,27,5],[27,6,27,11],[25,3,25,5],[25,6,25,11],[30,3,30,5],[30,6,30,11],[12,21,16,21],[18,15,22,15],[18,17,22,17],[18,19,22,19],[18,21,22,21],[18,23,22,23],[22,3,22,5],[22,6,22,11],[23,0,28,2],[23,3,23,5],[23,6,23,11],[23,12,28,12],[23,13,28,13],[23,15,28,15],[23,17,28,17],[18,0,22,2],[18,3,18,5],[18,6,18,11],[18,12,22,12],[18,13,22,13],[19,3,19,5],[19,6,19,11],[21,3,21,5],[21,6,21,11],[11,21,11,22],[11,23,11,24],[11,26,11,32],[11,6,11,11],[12,23,16,23],[16,3,16,5],[16,6,16,11],[17,0,17,2],[17,3,17,5],[17,6,17,11],[17,13,17,14],[17,15,17,16],[17,17,17,18],[17,19,17,20],[17,21,17,22],[17,23,17,24],[12,0,16,2],[12,3,12,5],[12,6,12,11],[12,12,16,12],[12,13,16,13],[12,15,16,15],[12,17,16,17],[12,19,16,19],[4,0,4,1],[4,2,4,5],[4,10,4,24],[10,0,10,24],[10,25,10,35],[40,25,44,25],[40,26,44,32],[40,34,44,34],[12,25,16,25],[12,26,16,32],[12,34,16,34],[18,25,22,25],[18,26,22,32],[18,34,22,34],[23,25,28,25],[23,26,28,32],[23,34,28,34],[17,26,17,32],[11,0,11,2],[11,3,11,5],[11,13,11,14],[11,15,11,16],[11,17,11,18],[11,19,11,20],[0,0,0,24],[0,25,0,26],[0,27,0,32],[0,33,0,35],[29,25,33,25],[29,26,33,32],[29,34,33,34],[35,25,39,25],[35,26,39,32],[35,34,39,34],[1,0,1,1],[1,2,1,5],[1,10,1,24],[2,0,2,1],[2,2,2,5],[2,11,2,24],[6,0,6,1],[6,2,6,35],[7,0,7,1],[7,2,7,35],[8,0,8,1],[8,2,8,35],[3,0,3,1],[3,10,3,24],[13,3,13,5],[13,6,13,11],[14,3,14,5],[14,6,14,11],[15,3,15,5],[15,6,15,11],[20,3,20,5],[20,6,20,11],[24,3,24,5],[24,6,24,11]]}
["Personalien",null,null,null,null,null,null,null,null,null,null,null,null,null,null,null,null,null,null,null,null,null,null,null,null,"Predisposizione",null,"Valutazioni",null,null,null,null,null,"Rating"]
["COGNOME",null,{"$f":"IF(ISBLANK(VLOOKUP(17,Tabelle3[],3,0)),\"-\",VLOOKUP(17,Tabelle3[],3,0))","v":"-"},null,null,null,"POSIZIONE",null,null,"INDIRIZZO",{"$f":"IF(ISBLANK(VLOOKUP(17,Tabelle3[],5,0)),\"-\",VLOOKUP(17,Tabelle3[],5,0))","v":"-"},null,null,null,null,null,null,null,null,null,null,null,null,null,null,"Età\" (biologica/età relativa)",null,"Data 1",null,null,"cm",null,"Kg",null,"ECCELLENTE",5]
["NOME",null,{"$f":"IF(ISBLANK(VLOOKUP(17,Tabelle3[],2,0)),\"-\",VLOOKUP(17,Tabelle3[],2,0))","v":"-"},null,null,null,"BASTONE",null,null,"LUOGO",{"$f":"IF(ISBLANK(VLOOKUP(17,Tabelle3[],7,0)),\"-\",VLOOKUP(17,Tabelle3[],7,0))","v":"-"},{"$f":"IF(ISBLANK(VLOOKUP(17,Tabelle3[],6,0)),\"-\",VLOOKUP(17,Tabelle3[],6,0))","v":"-"},null,null,null,null,null,null,null,null,null,null,null,null,null,"Predisposizione",null,"Data 2",null,null,"cm",null,"Kg",null,"BUONO",4]
["DATA DI NASC.",null,{"$f":"IF(ISBLANK(VLOOKUP(17,Tabelle3[],14,0)),\"-\",VLOOKUP(17,Tabelle3[],14,0))","v":"-"},{"$f":"IF(ISBLANK(VLOOKUP(17,Tabelle3[],15,0)),\"-\",VLOOKUP(17,Tabelle3[],15,0))","v":"-"},{"$f":"IF(ISBLANK(VLOOKUP(17,Tabelle3[],16,0)),\"-\",VLOOKUP(17,Tabelle3[],16,0))","v":"-"},null,"ALTEZZA",null,"cm (Finale)","TELEFONO",{"$f":"IF(ISBLANK(VLOOKUP(17,Tabelle3[],8,0)),\"-\",VLOOKUP(17,Tabelle3[],8,0))","v":"-"},null,null,null,null,null,null,null,null,null,null,null,null,null,null,"Ambiente di vita",null,"Data 3",null,null,"cm",null,"Kg",null,"MEDIO/DISCRETO",3]
["SESSO",null,{"$f":"IF(ISBLANK(VLOOKUP(17,Tabelle3[],13,0)),\"-\",VLOOKUP(17,Tabelle3[],13,0))","v":"-"},null,null,null,"PESO",null,"Kg (Finale)","E-Mail",{"$f":"IF(ISBLANK(VLOOKUP(17,Tabelle3[],9,0)),\"-\",VLOOKUP(17,Tabelle3[],9,0))","v":"-"},null,null,null,null,null,null,null,null,null,null,null,null,null,null,null,null,"Data 4",null,null,"cm",null,"Kg",null,"CON LACUNE",2]
[null,null,null,null,null,null,null,null,null,null,null,null,null,null,null,null,null,null,null,null,null,null,null,null,null,null,null,"Data 5",null,null,"cm",null,"Kg",null,"INSUFFICIENTE",1]
["Visione",null,"xxx"]
["Prossimo passo",null,"xxx"]
["Proflio giocatore",null,"xxx"]
[]
["VALUTAZIONI (COACH / GIOCATORE)",null,null,null,null,null,null,null,null,null,null,null,null,null,null,null,null,null,null,null,null,null,null,null,null,"Obiettivi SMART"]
[{"$f":"'Spiegazioni Skills FTEM'!A3","v":"TEAM"},null,null,{"$f":"'Spiegazioni Skills FTEM'!B3","v":"CAPACITÀ"},null,null,{"$f":"'Spiegazioni Skills FTEM'!C3","v":"CRITERIO D'OSSERVAZIONE"},null,null,{"$f":"'Spiegazioni Skills FTEM'!H3","v":0},null,null,"Final","Data1",null,"Data2",null,"Data3",null,"Data4",null,"Data5",null,"Player",null,"OBIETTIVO","PROVVEDIMENTI:\n(SPECIFICI, MISURABILI, REALISTICI)",null,null,null,null,null,null,"TERMINE","COTROLLO DELL'OBIETTIVO","Data"]
[{"$f":"'Spiegazioni Skills FTEM'!A4","v":"SQUADRA"},null,null,{"$f":"IF($H$2=\"G\",'Spiegazioni Skills FTEM'!F4,'Spiegazioni Skills FTEM'!B4)","v":"Comunicazione"},null,null,{"$f":"IF($H$2=\"G\",'Spiegazioni Skills FTEM'!G4,'Spiegazioni Skills FTEM'!C4)","v":"Cura relazioni aperte e rispettose, fiducia quale base comportamentale, affronta i conflitti senza ledere la stabilità del gruppo, comunica con i compagni, gli allenatori e\nfunzionari con i medesimi valori"},null,null,{"$f":"IF($H$2=\"G\",'Spiegazioni Skills FTEM'!#REF!,'Spiegazioni Skills FTEM'!#REF!)","v":{"$error":"#REF!"}},null,null,null,{"$f":"IFERROR(AVERAGE(O13:O17),\"-\")","v":"-"},null,{"$f":"IFERROR(AVERAGE(Q13:Q17),\"-\")","v":"-"},null,{"$f":"IFERROR(AVERAGE(S13:S17),\"-\")","v":"-"},null,{"$f":"IFERROR(AVERAGE(U13:U17),\"-\")","v":"-"},null,{"$f":"IFERROR(AVERAGE(W13:W17),\"-\")","v":"-"},null,{"$f":"IFERROR(AVERAGE(Y13:Y17),\"-\")","v":"-"}]
[{"$f":"'Spiegazioni Skills FTEM'!A5","v":0},null,null,{"$f":"IF($H$2=\"G\",'Spiegazioni Skills FTEM'!F5,'Spiegazioni Skills FTEM'!B5)","v":"Capacità nella squadra"},null,null,{"$f":"IF($H$2=\"G\",'Spiegazioni Skills FTEM'!G5,'Spiegazioni Skills FTEM'!C5)","v":"Integrazione nel gruppo, definisce e realizza obiettivi comuni, NOI prima dell'IO, contribuisce a creare un buon spirito di squadra e clima di lavoro"},null,null,{"$f":"IF($H$2=\"G\",'Spiegazioni Skills FTEM'!#REF!,'Spiegazioni Skills FTEM'!#REF!)","v":{"$error":"#REF!"}}]
[{"$f":"'Spiegazioni Skills FTEM'!A6","v":0},null,null,{"$f":"IF($H$2=\"G\",'Spiegazioni Skills FTEM'!F6,'Spiegazioni Skills FTEM'!B6)","v":"Leadership"},null,null,{"$f":"IF($H$2=\"G\",'Spiegazioni Skills FTEM'!G6,'Spiegazioni Skills FTEM'!C6)","v":"Assume responsabilità nell'ambito del gruppo, cerca di migliorare la squadra e i compagni, influenza positivamente la dinamica di gruppo"},null,null,{"$f":"IF($H$2=\"G\",'Spiegazioni Skills FTEM'!#REF!,'Spiegazioni Skills FTEM'!#REF!)","v":{"$error":"#REF!"}}]
[{"$f":"'Spiegazioni Skills FTEM'!A7","v":0},null,null,{"$f":"IF($H$2=\"G\",'Spiegazioni Skills FTEM'!F7,'Spiegazioni Skills FTEM'!B7)","v":"Ripartizione dei ruoli"},null,null,{"$f":"IF($H$2=\"G\",'Spiegazioni Skills FTEM'!G7,'Spiegazioni Skills FTEM'!C7)","v":"Riconosce e adempie il suo ruolo, è cosciente della sua posizione nel sistema e nella squadra, mette a disposizione della squadra le sue competenze"},null,null,{"$f":"IF($H$2=\"G\",'Spiegazioni Skills FTEM'!#REF!,'Spiegazioni Skills FTEM'!#REF!)","v":{"$error":"#REF!"}}]
[{"$f":"'Spiegazioni Skills FTEM'!A8","v":0},null,null,{"$f":"IF($H$2=\"G\",'Spiegazioni Skills FTEM'!F8,'Spiegazioni Skills FTEM'!B8)","v":"Rispetto"},null,null,{"$f":"IF($H$2=\"G\",'Spiegazioni Skills FTEM'!G8,'Spiegazioni Skills FTEM'!C8)","v":"Relazioni rispettose con i compagni, allenatori, avversari, arbitri e staff; rispetta le regole i pricipi del fairplay (compreso la lotta al doping)"},null,null,{"$f":"IF($H$2=\"G\",'Spiegazioni Skills FTEM'!#REF!,'Spiegazioni Skills FTEM'!#REF!)","v":{"$error":"#REF!"}}]
[{"$f":"'Spiegazioni Skills FTEM'!A9","v":"ON ICE"},null,null,{"$f":"'Spiegazioni Skills FTEM'!B9","v":"CAPACITÀ"},null,null,{"$f":"'Spiegazioni Skills FTEM'!C9","v":"CRITERIO D'OSSERVAZIONE"},null,null,{"$f":"'Spiegazioni Skills FTEM'!H9","v":0},null,null,null,"Data1",null,"Data2",null,"Data3",null,"Data4",null,"Data5",null,"Player",null,"OBIETTIVO","PROVVEDIMENTI:\n(SPECIFICI, MISURABILI, REALISTICI)",null,null,null,null,null,null,"TERMINE","COTROLLO DELL'OBIETTIVO","Date"]
[{"$f":"'Spiegazioni Skills FTEM'!A10","v":"PATTINAGGIO"},null,null,{"$f":"IF($H$2=\"G\",'Spiegazioni Skills FTEM'!F10,'Spiegazioni Skills FTEM'!B10)","v":"Velocità dei piedi"},null,null,{"$f":"IF($H$2=\"G\",'Spiegazioni Skills FTEM'!G10,'Spiegazioni Skills FTEM'!C10)","v":"Accelerazione, partenza, esplosività dei primi 3 passi, frequenza"},null,null,{"$f":"IF($H$2=\"G\",'Spiegazioni Skills FTEM'!#REF!,'Spiegazioni Skills FTEM'!#REF!)","v":{"$error":"#REF!"}},null,null,null,{"$f":"IFERROR(AVERAGE(O19:O23),\"-\")","v":"-"},null,{"$f":"IFERROR(AVERAGE(Q19:Q23),\"-\")","v":"-"},null,{"$f":"IFERROR(AVERAGE(S19:S23),\"-\")","v":"-"},null,{"$f":"IFERROR(AVERAGE(U19:U23),\"-\")","v":"-"},null,{"$f":"IFERROR(AVERAGE(W19:W23),\"-\")","v":"-"},null,{"$f":"IFERROR(AVERAGE(Y19:Y23),\"-\")","v":"-"}]
[{"$f":"'Spiegazioni Skills FTEM'!A11:A11","v":0},null,null,{"$f":"IF($H$2=\"G\",'Spiegazioni Skills FTEM'!F11,'Spiegazioni Skills FTEM'!B11)","v":"Velocità/rapidità"},null,null,{"$f":"IF($H$2=\"G\",'Spiegazioni Skills FTEM'!G11,'Spiegazioni Skills FTEM'!C11)","v":"Velocità, facoltà di scivolare, avanti / indietro, economia dello sforzo"},null,null,{"$f":"IF($H$2=\"G\",'Spiegazioni Skills FTEM'!#REF!,'Spiegazioni Skills FTEM'!#REF!)","v":{"$error":"#REF!"}}]
[null,null,null,{"$f":"IF($H$2=\"G\",'Spiegazioni Skills FTEM'!F12,'Spiegazioni Skills FTEM'!B12)","v":"Agilità"},null,null,{"$f":"IF($H$2=\"G\",'Spiegazioni Skills FTEM'!G12,'Spiegazioni Skills FTEM'!C12)","v":"Cambiamento di direzione, girarsi, stop e ripartenza, \"Nummelin\""},null,null,{"$f":"IF($H$2=\"G\",'Spiegazioni Skills FTEM'!#REF!,'Spiegazioni Skills FTEM'!#REF!)","v":{"$error":"#REF!"}}]
[{"$f":"'Spiegazioni Skills FTEM'!A12:A12","v":0},null,null,{"$f":"IF($H$2=\"G\",'Spiegazioni Skills FTEM'!F13,'Spiegazioni Skills FTEM'!B13)","v":"Equilibrio"},null,null,{"$f":"IF($H$2=\"G\",'Spiegazioni Skills FTEM'!G13,'Spiegazioni Skills FTEM'!C13)","v":"Equilibrio, stabilità, posizione bassa, su una gamba, su entrambe"},null,null,{"$f":"IF($H$2=\"G\",'Spiegazioni Skills FTEM'!#REF!,'Spiegazioni Skills FTEM'!#REF!)","v":{"$error":"#REF!"}},null,null,null,{"$f":"IFERROR(AVERAGE(O22:O23),\"-\")","v":"-"},null,{"$f":"IFERROR(AVERAGE(Q22:Q23),\"-\")","v":"-"},null,{"$f":"IFERROR(AVERAGE(S22:S23),\"-\")","v":"-"},null,{"$f":"IFERROR(AVERAGE(U22:U23),\"-\")","v":"-"},null,{"$f":"IFERROR(AVERAGE(W22:W23),\"-\")","v":"-"},null,"-"]
[{"$f":"'Spiegazioni Skills FTEM'!A14:A14","v":0},null,null,{"$f":"IF($H$2=\"G\",'Spiegazioni Skills FTEM'!F14,'Spiegazioni Skills FTEM'!B14)","v":"Pattinaggio indietro"},null,null,{"$f":"IF($H$2=\"G\",'Spiegazioni Skills FTEM'!G14,'Spiegazioni Skills FTEM'!C14)","v":"Accelerazione, velocità, equilibrio"},null,null,{"$f":"IF($H$2=\"G\",'Spiegazioni Skills FTEM'!#REF!,'Spiegazioni Skills FTEM'!#REF!)","v":{"$error":"#REF!"}}]
[{"$f":"'Spiegazioni Skills FTEM'!A15","v":"ABILITÀ"},null,null,{"$f":"IF($H$2=\"G\",'Spiegazioni Skills FTEM'!F15,'Spiegazioni Skills FTEM'!B15)","v":"Tirare"},null,null,{"$f":"IF($H$2=\"G\",'Spiegazioni Skills FTEM'!G15,'Spiegazioni Skills FTEM'!C15)","v":"Efficienza (poco spazio, poco tempo), ricchezza di varianti, grado di sorpresa (Quick Release), precisione, potenza (conclusioni tattiche)"},null,null,{"$f":"IF($H$2=\"G\",'Spiegazioni Skills FTEM'!#REF!,'Spiegazioni Skills FTEM'!#REF!)","v":{"$error":"#REF!"}},null,null,null,{"$f":"IFERROR(AVERAGE(O24:O29),\"-\")","v":"-"},null,{"$f":"IFERROR(AVERAGE(Q24:Q29),\"-\")","v":"-"},null,{"$f":"IFERROR(AVERAGE(S24:S29),\"-\")","v":"-"},null,{"$f":"IFERROR(AVERAGE(U24:U29),\"-\")","v":"-"},null,{"$f":"IFERROR(AVERAGE(W24:W29),\"-\")","v":"-"},null,{"$f":"IFERROR(AVERAGE(Y24:Y29),\"-\")","v":"-"}]
[null,null,null,{"$f":"IF($H$2=\"G\",'Spiegazioni Skills FTEM'!F16,'Spiegazioni Skills FTEM'!B16)","v":"Passare"},null,null,{"$f":"IF($H$2=\"G\",'Spiegazioni Skills FTEM'!G16,'Spiegazioni Skills FTEM'!C16)","v":"Passaggio (distanza, flipp, rovescio), ricezione del passaggio (precisione, timing, diritto, rovescio, sul pattino), velocità del disco"},null,null,{"$f":"IF($H$2=\"G\",'Spiegazioni Skills FTEM'!#REF!,'Spiegazioni Skills FTEM'!#REF!)","v":{"$error":"#REF!"}}]
[null,null,null,{"$f":"IF($H$2=\"G\",'Spiegazioni Skills FTEM'!F17,'Spiegazioni Skills FTEM'!B17)","v":"Lavoro col bastone - condotta del disco"},null,null,{"$f":"IF($H$2=\"G\",'Spiegazioni Skills FTEM'!G17,'Spiegazioni Skills FTEM'!C17)","v":"Bastone sul disco, intercettare le linee di passaggio, deviare, controllo del bastone avversario"},null,null,{"$f":"IF($H$2=\"G\",'Spiegazioni Skills FTEM'!#REF!,'Spiegazioni Skills FTEM'!#REF!)","v":{"$error":"#REF!"}}]
[{"$f":"'Spiegazioni Skills FTEM'!A16:A16","v":0},null,null,{"$f":"IF($H$2=\"G\",'Spiegazioni Skills FTEM'!F18,'Spiegazioni Skills FTEM'!B18)","v":"Possedere/proteggere il disco"},null,null,{"$f":"IF($H$2=\"G\",'Spiegazioni Skills FTEM'!G18,'Spiegazioni Skills FTEM'!C18)","v":"Controllo del disco, dribbling, protezione del disco, finte (varianti col pattino, con o senza la balaustra), ingaggi (face-off)"},null,null,{"$f":"IF($H$2=\"G\",'Spiegazioni Skills FTEM'!#REF!,'Spiegazioni Skills FTEM'!#REF!)","v":{"$error":"#REF!"}}]
[{"$f":"'Spiegazioni Skills FTEM'!A17:A17","v":0},null,null,{"$f":"IF($H$2=\"G\",'Spiegazioni Skills FTEM'!F19,'Spiegazioni Skills FTEM'!B19)","v":"Gioco del corpo"},null,null,{"$f":"IF($H$2=\"G\",'Spiegazioni Skills FTEM'!G19,'Spiegazioni Skills FTEM'!C19)","v":"Facoltà di imporsi fisicamente, duelli (ghiaccio aperto, balaustra), subire dei checks/testa alta, livello di lotta, duro ma corretto, blocco dei tiri con il corpo"},null,null,{"$f":"IF($H$2=\"G\",'Spiegazioni Skills FTEM'!#REF!,'Spiegazioni Skills FTEM'!#REF!)","v":{"$error":"#REF!"}}]
[{"$f":"'Spiegazioni Skills FTEM'!A20:A20","v":0},null,null,{"$f":"IF($H$2=\"G\",'Spiegazioni Skills FTEM'!F20,'Spiegazioni Skills FTEM'!B20)","v":"-"},null,null,{"$f":"IF($H$2=\"G\",'Spiegazioni Skills FTEM'!G20,'Spiegazioni Skills FTEM'!C20)","v":"-"},null,null,{"$f":"IF($H$2=\"G\",'Spiegazioni Skills FTEM'!#REF!,'Spiegazioni Skills FTEM'!#REF!)","v":{"$error":"#REF!"}}]
[{"$f":"'Spiegazioni Skills FTEM'!A21","v":"SENSO DELL'HOCKEY"},null,null,{"$f":"IF($H$2=\"G\",'Spiegazioni Skills FTEM'!F21,'Spiegazioni Skills FTEM'!B21)","v":"Intelligenza nel gioco"},null,null,{"$f":"IF($H$2=\"G\",'Spiegazioni Skills FTEM'!G21,'Spiegazioni Skills FTEM'!C21)","v":"Vedere spazi e giocatori liberi, creare situazioni di superiorità numerica, agire cercando soluzioni in tutte le situazioni, velocità di visualizzazione"},null,null,{"$f":"IF($H$2=\"G\",'Spiegazioni Skills FTEM'!#REF!,'Spiegazioni Skills FTEM'!#REF!)","v":{"$error":"#REF!"}},null,null,null,{"$f":"IFERROR(AVERAGE(O30:O34),\"-\")","v":"-"},null,{"$f":"IFERROR(AVERAGE(Q30:Q34),\"-\")","v":"-"},null,{"$f":"IFERROR(AVERAGE(S30:S34),\"-\")","v":"-"},null,{"$f":"IFERROR(AVERAGE(U30:U34),\"-\")","v":"-"},null,{"$f":"IFERROR(AVERAGE(W30:W34),\"-\")","v":"-"},null,{"$f":"IFERROR(AVERAGE(Y30:Y34),\"-\")","v":"-"}]
[{"$f":"'Spiegazioni Skills FTEM'!A22:A22","v":0},null,null,{"$f":"IF($H$2=\"G\",'Spiegazioni Skills FTEM'!F22,'Spiegazioni Skills FTEM'!B22)","v":"Sensibilità offensiva"},null,null,{"$f":"IF($H$2=\"G\",'Spiegazioni Skills FTEM'!G22,'Spiegazioni Skills FTEM'!C22)","v":"Smarcarsi, anticipare le situazioni di gioco, aprire spazi liberi per i compagni, piazzarsi per le conclusioni, velocità nel chiudere gli spazi (pressione), comunicazione"},null,null,{"$f":"IF($H$2=\"G\",'Spiegazioni Skills FTEM'!#REF!,'Spiegazioni Skills FTEM'!#REF!)","v":{"$error":"#REF!"}}]
[null,null,null,{"$f":"IF($H$2=\"G\",'Spiegazioni Skills FTEM'!F23,'Spiegazioni Skills FTEM'!B23)","v":"Sensibilità difensiva"},null,null,{"$f":"IF($H$2=\"G\",'Spiegazioni Skills FTEM'!G23,'Spiegazioni Skills FTEM'!C23)","v":"Mantenere la posizione difensiva, protezione dello slot, assicurare i compagni / supporto, individuare le linee di passaggio, bloccare i tiri, ridurre velocemente gli spazi, comunicazione"},null,null,{"$f":"IF($H$2=\"G\",'Spiegazioni Skills FTEM'!#REF!,'Spiegazioni Skills FTEM'!#REF!)","v":{"$error":"#REF!"}}]
[{"$f":"'Spiegazioni Skills FTEM'!A24:A24","v":0},null,null,{"$f":"IF($H$2=\"G\",'Spiegazioni Skills FTEM'!F24,'Spiegazioni Skills FTEM'!B24)","v":"Gestione del disco"},null,null,{"$f":"IF($H$2=\"G\",'Spiegazioni Skills FTEM'!G24,'Spiegazioni Skills FTEM'!C24)","v":"Prendere decisioni adeguate nelle situazioni di gioco, supporto, creare superiorità numerica"},null,null,{"$f":"IF($H$2=\"G\",'Spiegazioni Skills FTEM'!#REF!,'Spiegazioni Skills FTEM'!#REF!)","v":{"$error":"#REF!"}}]
[{"$f":"'Spiegazioni Skills FTEM'!A25:A25","v":0},null,null,{"$f":"IF($H$2=\"G\",'Spiegazioni Skills FTEM'!F25,'Spiegazioni Skills FTEM'!B25)","v":"Creatività"},null,null,{"$f":"IF($H$2=\"G\",'Spiegazioni Skills FTEM'!G25,'Spiegazioni Skills FTEM'!C25)","v":"Creare situazioni a sorpresa, fiuto del gol"},null,null,{"$f":"IF($H$2=\"G\",'Spiegazioni Skills FTEM'!#REF!,'Spiegazioni Skills FTEM'!#REF!)","v":{"$error":"#REF!"}}]
[{"$f":"'Spiegazioni Skills FTEM'!A26","v":"PERSONALITY"},null,null,{"$f":"'Spiegazioni Skills FTEM'!B26","v":"CAPACITÀ"},null,null,{"$f":"'Spiegazioni Skills FTEM'!C26","v":"CRITERIO D'OSSERVAZIONE"},null,null,{"$f":"'Spiegazioni Skills FTEM'!H26","v":0},null,null,null,"Data1",null,"Data2",null,"Data3",null,"Data4",null,"Data5",null,"Player",null,"OBIETTIVO","PROVVEDIMENTI:\n(SPECIFICI, MISURABILI, REALISTICI)",null,null,null,null,null,null,"TERMINE","COTROLLO DELL'OBIETTIVO","Date"]
[{"$f":"'Spiegazioni Skills FTEM'!A27","v":"PERSONALITÀ"},null,null,{"$f":"IF($H$2=\"G\",'Spiegazioni Skills FTEM'!F27,'Spiegazioni Skills FTEM'!B27)","v":"Fiducia in se stesso"},null,null,{"$f":"IF($H$2=\"G\",'Spiegazioni Skills FTEM'!G27,'Spiegazioni Skills FTEM'!C27)","v":"Possiede la necessaria fiducia in se stesso, «I can do it»-attitudine, sa valutare le proprie capacità (conosce i propri punti forti e deboli), può realizzare le proprie qualità con\ncostanza, è coraggioso e sa prendere dei rischi calcolati"},null,null,{"$f":"IF($H$2=\"G\",'Spiegazioni Skills FTEM'!#REF!,'Spiegazioni Skills FTEM'!#REF!)","v":{"$error":"#REF!"}},null,null,null,{"$f":"IFERROR(AVERAGE(O36:O40),\"-\")","v":"-"},null,{"$f":"IFERROR(AVERAGE(Q36:Q40),\"-\")","v":"-"},null,{"$f":"IFERROR(AVERAGE(S36:S40),\"-\")","v":"-"},null,{"$f":"IFERROR(AVERAGE(U36:U40),\"-\")","v":"-"},null,{"$f":"IFERROR(AVERAGE(W36:W40),\"-\")","v":"-"},null,{"$f":"IFERROR(AVERAGE(Y36:Y40),\"-\")","v":"-"}]
[{"$f":"'Spiegazioni Skills FTEM'!A28:A28","v":0},null,null,{"$f":"IF($H$2=\"G\",'Spiegazioni Skills FTEM'!F28,'Spiegazioni Skills FTEM'!B28)","v":"Capacità d'apprendimento"},null,null,{"$f":"IF($H$2=\"G\",'Spiegazioni Skills FTEM'!G28,'Spiegazioni Skills FTEM'!C28)","v":"Ha una buona capacità d'apprendimento (sa recepire e realizzare), possiede una personalità, cerca di imparare dai propri errori derivandone delle misure"},null,null,{"$f":"IF($H$2=\"G\",'Spiegazioni Skills FTEM'!#REF!,'Spiegazioni Skills FTEM'!#REF!)","v":{"$error":"#REF!"}}]
[null,null,null,{"$f":"IF($H$2=\"G\",'Spiegazioni Skills FTEM'!F29,'Spiegazioni Skills FTEM'!B29)","v":"Senso di responsabilità"},null,null,{"$f":"IF($H$2=\"G\",'Spiegazioni Skills FTEM'!G29,'Spiegazioni Skills FTEM'!C29)","v":"Assume responsabiltà per le proprie prestazioni e sviluppo, agisce autonomamente, cura i dettagli, mostra un grande impegno in tutti i settori"},null,null,{"$f":"IF($H$2=\"G\",'Spiegazioni Skills FTEM'!#REF!,'Spiegazioni Skills FTEM'!#REF!)","v":{"$error":"#REF!"}}]
[{"$f":"'Spiegazioni Skills FTEM'!A30:A30","v":0},null,null,{"$f":"IF($H$2=\"G\",'Spiegazioni Skills FTEM'!F30,'Spiegazioni Skills FTEM'!B30)","v":"Motivazione"},null,null,{"$f":"IF($H$2=\"G\",'Spiegazioni Skills FTEM'!G30,'Spiegazioni Skills FTEM'!C30)","v":"È sempre motivato, vuole sempre svilupparsi e imparare, vuol essere il primo e avere successo, non rinuncia mai e non si lascia influenzare dagli insuccessi"},null,null,{"$f":"IF($H$2=\"G\",'Spiegazioni Skills FTEM'!#REF!,'Spiegazioni Skills FTEM'!#REF!)","v":{"$error":"#REF!"}}]
[{"$f":"'Spiegazioni Skills FTEM'!A31:A31","v":0},null,null,{"$f":"IF($H$2=\"G\",'Spiegazioni Skills FTEM'!F31,'Spiegazioni Skills FTEM'!B31)","v":"Prestazione Stile di vita"},null,null,{"$f":"IF($H$2=\"G\",'Spiegazioni Skills FTEM'!G31,'Spiegazioni Skills FTEM'!C31)","v":"Gestisce bene la quotidianità il suo ambiente seguendo i principi della prestazione, caparbio, perseverante e finalizzato sugli obiettivi, focus sulla propria prestazione, coraggioso e grintoso, sa imporsi nei confronti delle resistenze, le sfide lo motivano"},null,null,{"$f":"IF($H$2=\"G\",'Spiegazioni Skills FTEM'!#REF!,'Spiegazioni Skills FTEM'!#REF!)","v":{"$error":"#REF!"}}]
[{"$f":"'Spiegazioni Skills FTEM'!A32","v":"FORZA MENTALE"},null,null,{"$f":"IF($H$2=\"G\",'Spiegazioni Skills FTEM'!F32,'Spiegazioni Skills FTEM'!B32)","v":"Impegno"},null,null,{"$f":"IF($H$2=\"G\",'Spiegazioni Skills FTEM'!G32,'Spiegazioni Skills FTEM'!C32)","v":"Mostra molta intensità negli allenamenti e nelle partite, dà sempre il massimo e vuole sempre spronare i propri limiti, mostra passione, si sforza ad alzare la qualità negli allenamenti"},null,null,{"$f":"IF($H$2=\"G\",'Spiegazioni Skills FTEM'!#REF!,'Spiegazioni Skills FTEM'!#REF!)","v":{"$error":"#REF!"}},null,null,null,{"$f":"IFERROR(AVERAGE(O41:O45),\"-\")","v":"-"},null,{"$f":"IFERROR(AVERAGE(Q41:Q45),\"-\")","v":"-"},null,{"$f":"IFERROR(AVERAGE(S41:S45),\"-\")","v":"-"},null,{"$f":"IFERROR(AVERAGE(U41:U45),\"-\")","v":"-"},null,{"$f":"IFERROR(AVERAGE(W41:W45),\"-\")","v":"-"},null,{"$f":"IFERROR(AVERAGE(Y41:Y45),\"-\")","v":"-"}]
[null,null,null,{"$f":"IF($H$2=\"G\",'Spiegazioni Skills FTEM'!F33,'Spiegazioni Skills FTEM'!B33)","v":"Preparazione"},null,null,{"$f":"IF($H$2=\"G\",'Spiegazioni Skills FTEM'!G33,'Spiegazioni Skills FTEM'!C33)","v":"Preparazione consapevole e finalizzata, mentalmente e fisicamente, possiede un efficiente approccio per l'ottenimento dell'ideale stato di prestazione (ILZ/ISP)"},null,null,{"$f":"IF($H$2=\"G\",'Spiegazioni Skills FTEM'!#REF!,'Spiegazioni Skills FTEM'!#REF!)","v":{"$error":"#REF!"}}]
[{"$f":"'Spiegazioni Skills FTEM'!A34:A34","v":0},null,null,{"$f":"IF($H$2=\"G\",'Spiegazioni Skills FTEM'!F34,'Spiegazioni Skills FTEM'!B34)","v":"Coaching individuale"},null,null,{"$f":"IF($H$2=\"G\",'Spiegazioni Skills FTEM'!G34,'Spiegazioni Skills FTEM'!C34)","v":"Possiede una buona capacità di concentrazione, può mantenere il suo ILZ/ISP durante la partita e l'allenamento, può utilizzare tecniche di base per rafforzare il mentale, resistenti contro pensieri e influenze negative, è consapevole del proprio linguaggio del corpo che è in grado di padroneggiare"},null,null,{"$f":"IF($H$2=\"G\",'Spiegazioni Skills FTEM'!#REF!,'Spiegazioni Skills FTEM'!#REF!)","v":{"$error":"#REF!"}}]
[{"$f":"'Spiegazioni Skills FTEM'!A35:A35","v":0},null,null,{"$f":"IF($H$2=\"G\",'Spiegazioni Skills FTEM'!F35,'Spiegazioni Skills FTEM'!B35)","v":"Gestione delle energie"},null,null,{"$f":"IF($H$2=\"G\",'Spiegazioni Skills FTEM'!G35,'Spiegazioni Skills FTEM'!C35)","v":"Può gestire le proprie energie, cura la rigenerazione, può gestire i momenti in cui si deve andare al massimo oppure risparmiarsi, interruttore on/off"},null,null,{"$f":"IF($H$2=\"G\",'Spiegazioni Skills FTEM'!#REF!,'Spiegazioni Skills FTEM'!#REF!)","v":{"$error":"#REF!"}}]
[{"$f":"'Spiegazioni Skills FTEM'!A36:A36","v":0},null,null,{"$f":"IF($H$2=\"G\",'Spiegazioni Skills FTEM'!F36,'Spiegazioni Skills FTEM'!B36)","v":"Controllo delle emozioni"},null,null,{"$f":"IF($H$2=\"G\",'Spiegazioni Skills FTEM'!G36,'Spiegazioni Skills FTEM'!C36)","v":"Può regolare le proprie emozioni e impulsi, mantiene il controllo quando si trova sotto pressione, sa anche agire adeguatamente in situazioni emotive o frustranti"},null,null,{"$f":"IF($H$2=\"G\",'Spiegazioni Skills FTEM'!#REF!,'Spiegazioni Skills FTEM'!#REF!)","v":{"$error":"#REF!"}}]
[{"$f":"'Spiegazioni Skills FTEM'!A37","v":"FISICO"},null,null,{"$f":"IF($H$2=\"G\",'Spiegazioni Skills FTEM'!F37,'Spiegazioni Skills FTEM'!B37)","v":"Produzione di prestazione"},null,null,{"$f":"IF($H$2=\"G\",'Spiegazioni Skills FTEM'!G37,'Spiegazioni Skills FTEM'!C37)","v":"Possiede nelle gambe e nella parte alta del corpo la necessaria potenza/forza/velocità (fattori neuromuscolari)"},null,null,{"$f":"IF($H$2=\"G\",'Spiegazioni Skills FTEM'!#REF!,'Spiegazioni Skills FTEM'!#REF!)","v":{"$error":"#REF!"}},null,null,null,{"$f":"IFERROR(AVERAGE(O46:O50),\"-\")","v":"-"},null,{"$f":"IFERROR(AVERAGE(Q46:Q50),\"-\")","v":"-"},null,{"$f":"IFERROR(AVERAGE(S46:S50),\"-\")","v":"-"},null,{"$f":"IFERROR(AVERAGE(U46:U50),\"-\")","v":"-"},null,{"$f":"IFERROR(AVERAGE(W46:W50),\"-\")","v":"-"},null,{"$f":"IFERROR(AVERAGE(Y46:Y50),\"-\")","v":"-"}]
[null,null,null,{"$f":"IF($H$2=\"G\",'Spiegazioni Skills FTEM'!F38,'Spiegazioni Skills FTEM'!B38)","v":"Resistenza specifica alla fatica"},null,null,{"$f":"IF($H$2=\"G\",'Spiegazioni Skills FTEM'!G38,'Spiegazioni Skills FTEM'!C38)","v":"È capace di mantenere a lungo nell'ambito di un impiego la potenza/forza/velocità ed è capace di recuperare completamente attraverso i vari impieghi sul ghiaccio (fattori metabolici e cardiovascolari)"},null,null,{"$f":"IF($H$2=\"G\",'Spiegazioni Skills FTEM'!#REF!,'Spiegazioni Skills FTEM'!#REF!)","v":{"$error":"#REF!"}}]
[{"$f":"'Spiegazioni Skills FTEM'!A39:A39","v":0},null,null,{"$f":"IF($H$2=\"G\",'Spiegazioni Skills FTEM'!F39,'Spiegazioni Skills FTEM'!B39)","v":"Salute / prevenzione"},null,null,{"$f":"IF($H$2=\"G\",'Spiegazioni Skills FTEM'!G39,'Spiegazioni Skills FTEM'!C39)","v":"Possiede la necessaria stabilità (stabilità delle gambe) e mobilità delle articolazioni centrali"},null,null,{"$f":"IF($H$2=\"G\",'Spiegazioni Skills FTEM'!#REF!,'Spiegazioni Skills FTEM'!#REF!)","v":{"$error":"#REF!"}}]
[{"$f":"'Spiegazioni Skills FTEM'!A40:A40","v":0},null,null,{"$f":"IF($H$2=\"G\",'Spiegazioni Skills FTEM'!F40,'Spiegazioni Skills FTEM'!B40)","v":"Competenze della mobilità"},null,null,{"$f":"IF($H$2=\"G\",'Spiegazioni Skills FTEM'!G40,'Spiegazioni Skills FTEM'!C40)","v":"Padroneggia le basilari capacità di movimento che garantiscono in modo determinante le abilità specifiche \"skills\", come pure l'efficacia dei movimenti"},null,null,{"$f":"IF($H$2=\"G\",'Spiegazioni Skills FTEM'!#REF!,'Spiegazioni Skills FTEM'!#REF!)","v":{"$error":"#REF!"}}]
[{"$f":"'Spiegazioni Skills FTEM'!A41:A41","v":0},null,null,{"$f":"IF($H$2=\"G\",'Spiegazioni Skills FTEM'!F41,'Spiegazioni Skills FTEM'!B41)","v":"Robustezza"},null,null,{"$f":"IF($H$2=\"G\",'Spiegazioni Skills FTEM'!G41,'Spiegazioni Skills FTEM'!C41)","v":"Possiede la necessaria forza di base (tensione del corpo) per vincere i duelli e resistere alle cariche"},null,null,{"$f":"IF($H$2=\"G\",'Spiegazioni Skills FTEM'!#REF!,'Spiegazioni Skills FTEM'!#REF!)","v":{"$error":"#REF!"}}]

{"sheet":"18","index":21,"n_rows":50,"n_cols":36,"rows_kept":50,"cut":false,"hidden":false,"merged":[[45,34,49,34],[45,12,49,12],[45,13,49,13],[45,15,49,15],[45,17,49,17],[45,19,49,19],[45,21,49,21],[45,23,49,23],[45,25,49,25],[45,26,49,32],[45,0,49,2],[45,3,45,5],[45,6,45,11],[46,3,46,5],[46,6,46,11],[48,3,48,5],[48,6,48,11],[49,3,49,5],[49,6,49,11],[47,3,47,5],[47,6,47,11],[40,23,44,23],[42,3,42,5],[42,6,42,11],[44,3,44,5],[44,6,44,11],[40,0,44,2],[40,3,40,5],[40,6,40,11],[40,12,44,12],[40,13,44,13],[40,15,44,15],[43,3,43,5],[43,6,43,11],[34,21,34,22],[35,17,39,17],[35,19,39,19],[35,21,39,21],[37,3,37,5],[37,6,37,11],[38,3,38,5],[38,6,38,11],[40,17,44,17],[40,19,44,19],[40,21,44,21],[36,3,36,5],[36,6,36,11],[41,3,41,5],[41,6,41,11],[29,0,33,2],[29,3,29,5],[29,6,29,11],[29,12,33,12],[29,13,33,13],[29,15,33,15],[34,23,34,24],[34,26,34,32],[35,0,39,2],[35,3,35,5],[35,6,35,11],[35,12,39,12],[35,13,39,13],[35,15,39,15],[39,3,39,5],[39,6,39,11],[35,23,39,23],[34,0,34,2],[34,3,34,5],[34,6,34,11],[34,13,34,14],[34,15,34,16],[34,17,34,18],[34,19,34,20],[23,19,28,19],[23,21,28,21],[23,23,28,23],[26,3,26,5],[26,6,26,11],[28,3,28,5],[28,6,28,11],[33,3,33,5],[33,6,33,11],[29,23,33,23],[29,17,33,17],[29,19,33,19],[29,21,33,21],[31,3,31,5],[31,6,31,11],[32,3,32,5],[32,6,32,11],[27,3,27,5],[27,6,27,11],[25,3,25,5],[25,6,25,11],[30,3,30,5],[30,6,30,11],[12,21,16,21],[18,15,22,15],[18,17,22,17],[18,19,22,19],[18,21,22,21],[18,23,22,23],[22,3,22,5],[22,6,22,11],[23,0,28,2],[23,3,23,5],[23,6,23,11],[23,12,28,12],[23,13,28,13],[23,15,28,15],[23,17,28,17],[18,0,22,2],[18,3,18,5],[18,6,18,11],[18,12,22,12],[18,13,22,13],[19,3,19,5],[19,6,19,11],[21,3,21,5],[21,6,21,11],[11,21,11,22],[11,23,11,24],[11,26,11,32],[11,6,11,11],[12,23,16,23],[16,3,16,5],[16,6,16,11],[17,0,17,2],[17,3,17,5],[17,6,17,11],[17,13,17,14],[17,15,17,16],[17,17,17,18],[17,19,17,20],[17,21,17,22],[17,23,17,24],[12,0,16,2],[12,3,12,5],[12,6,12,11],[12,12,16,12],[12,13,16,13],[12,15,16,15],[12,17,16,17],[12,19,16,19],[4,0,4,1],[4,2,4,5],[4,10,4,24],[10,0,10,24],[10,25,10,35],[40,25,44,25],[40,26,44,32],[40,34,44,34],[12,25,16,25],[12,26,16,32],[12,34,16,34],[18,25,22,25],[18,26,22,32],[18,34,22,34],[23,25,28,25],[23,26,28,32],[23,34,28,34],[17,26,17,32],[11,0,11,2],[11,3,11,5],[11,13,11,14],[11,15,11,16],[11,17,11,18],[11,19,11,20],[0,0,0,24],[0,25,0,26],[0,27,0,32],[0,33,0,35],[29,25,33,25],[29,26,33,32],[29,34,33,34],[35,25,39,25],[35,26,39,32],[35,34,39,34],[1,0,1,1],[1,2,1,5],[1,10,1,24],[2,0,2,1],[2,2,2,5],[2,11,2,24],[6,0,6,1],[6,2,6,35],[7,0,7,1],[7,2,7,35],[8,0,8,1],[8,2,8,35],[3,0,3,1],[3,10,3,24],[13,3,13,5],[13,6,13,11],[14,3,14,5],[14,6,14,11],[15,3,15,5],[15,6,15,11],[20,3,20,5],[20,6,20,11],[24,3,24,5],[24,6,24,11]]}
["Personalien",null,null,null,null,null,null,null,null,null,null,null,null,null,null,null,null,null,null,null,null,null,null,null,null,"Predisposizione",null,"Valutazioni",null,null,null,null,null,"Rating"]
["COGNOME",null,{"$f":"IF(ISBLANK(VLOOKUP(18,Tabelle3[],3,0)),\"-\",VLOOKUP(18,Tabelle3[],3,0))","v":"-"},null,null,null,"POSIZIONE",null,null,"INDIRIZZO",{"$f":"IF(ISBLANK(VLOOKUP(18,Tabelle3[],5,0)),\"-\",VLOOKUP(18,Tabelle3[],5,0))","v":"-"},null,null,null,null,null,null,null,null,null,null,null,null,null,null,"Età\" (biologica/età relativa)",null,"Data 1",null,null,"cm",null,"Kg",null,"ECCELLENTE",5]
["NOME",null,{"$f":"IF(ISBLANK(VLOOKUP(18,Tabelle3[],2,0)),\"-\",VLOOKUP(18,Tabelle3[],2,0))","v":"-"},null,null,null,"BASTONE",null,null,"LUOGO",{"$f":"IF(ISBLANK(VLOOKUP(18,Tabelle3[],7,0)),\"-\",VLOOKUP(18,Tabelle3[],7,0))","v":"-"},{"$f":"IF(ISBLANK(VLOOKUP(18,Tabelle3[],6,0)),\"-\",VLOOKUP(18,Tabelle3[],6,0))","v":"-"},null,null,null,null,null,null,null,null,null,null,null,null,null,"Predisposizione",null,"Data 2",null,null,"cm",null,"Kg",null,"BUONO",4]
["DATA DI NASC.",null,{"$f":"IF(ISBLANK(VLOOKUP(18,Tabelle3[],14,0)),\"-\",VLOOKUP(18,Tabelle3[],14,0))","v":"-"},{"$f":"IF(ISBLANK(VLOOKUP(18,Tabelle3[],15,0)),\"-\",VLOOKUP(18,Tabelle3[],15,0))","v":"-"},{"$f":"IF(ISBLANK(VLOOKUP(18,Tabelle3[],16,0)),\"-\",VLOOKUP(18,Tabelle3[],16,0))","v":"-"},null,"ALTEZZA",null,"cm (Finale)","TELEFONO",{"$f":"IF(ISBLANK(VLOOKUP(18,Tabelle3[],8,0)),\"-\",VLOOKUP(18,Tabelle3[],8,0))","v":"-"},null,null,null,null,null,null,null,null,null,null,null,null,null,null,"Ambiente di vita",null,"Data 3",null,null,"cm",null,"Kg",null,"MEDIO/DISCRETO",3]
["SESSO",null,{"$f":"IF(ISBLANK(VLOOKUP(18,Tabelle3[],13,0)),\"-\",VLOOKUP(18,Tabelle3[],13,0))","v":"-"},null,null,null,"PESO",null,"Kg (Finale)","E-Mail",{"$f":"IF(ISBLANK(VLOOKUP(18,Tabelle3[],9,0)),\"-\",VLOOKUP(18,Tabelle3[],9,0))","v":"-"},null,null,null,null,null,null,null,null,null,null,null,null,null,null,null,null,"Data 4",null,null,"cm",null,"Kg",null,"CON LACUNE",2]
[null,null,null,null,null,null,null,null,null,null,null,null,null,null,null,null,null,null,null,null,null,null,null,null,null,null,null,"Data 5",null,null,"cm",null,"Kg",null,"INSUFFICIENTE",1]
["Visione",null,"xxx"]
["Prossimo passo",null,"xxx"]
["Proflio giocatore",null,"xxx"]
[]
["VALUTAZIONI (COACH / GIOCATORE)",null,null,null,null,null,null,null,null,null,null,null,null,null,null,null,null,null,null,null,null,null,null,null,null,"Obiettivi SMART"]
[{"$f":"'Spiegazioni Skills FTEM'!A3","v":"TEAM"},null,null,{"$f":"'Spiegazioni Skills FTEM'!B3","v":"CAPACITÀ"},null,null,{"$f":"'Spiegazioni Skills FTEM'!C3","v":"CRITERIO D'OSSERVAZIONE"},null,null,{"$f":"'Spiegazioni Skills FTEM'!H3","v":0},null,null,"Final","Data1",null,"Data2",null,"Data3",null,"Data4",null,"Data5",null,"Player",null,"OBIETTIVO","PROVVEDIMENTI:\n(SPECIFICI, MISURABILI, REALISTICI)",null,null,null,null,null,null,"TERMINE","COTROLLO DELL'OBIETTIVO","Data"]
[{"$f":"'Spiegazioni Skills FTEM'!A4","v":"SQUADRA"},null,null,{"$f":"IF($H$2=\"G\",'Spiegazioni Skills FTEM'!F4,'Spiegazioni Skills FTEM'!B4)","v":"Comunicazione"},null,null,{"$f":"IF($H$2=\"G\",'Spiegazioni Skills FTEM'!G4,'Spiegazioni Skills FTEM'!C4)","v":"Cura relazioni aperte e rispettose, fiducia quale base comportamentale, affronta i conflitti senza ledere la stabilità del gruppo, comunica con i compagni, gli allenatori e\nfunzionari con i medesimi valori"},null,null,{"$f":"IF($H$2=\"G\",'Spiegazioni Skills FTEM'!#REF!,'Spiegazioni Skills FTEM'!#REF!)","v":{"$error":"#REF!"}},null,null,null,{"$f":"IFERROR(AVERAGE(O13:O17),\"-\")","v":"-"},null,{"$f":"IFERROR(AVERAGE(Q13:Q17),\"-\")","v":"-"},null,{"$f":"IFERROR(AVERAGE(S13:S17),\"-\")","v":"-"},null,{"$f":"IFERROR(AVERAGE(U13:U17),\"-\")","v":"-"},null,{"$f":"IFERROR(AVERAGE(W13:W17),\"-\")","v":"-"},null,{"$f":"IFERROR(AVERAGE(Y13:Y17),\"-\")","v":"-"}]
[{"$f":"'Spiegazioni Skills FTEM'!A5","v":0},null,null,{"$f":"IF($H$2=\"G\",'Spiegazioni Skills FTEM'!F5,'Spiegazioni Skills FTEM'!B5)","v":"Capacità nella squadra"},null,null,{"$f":"IF($H$2=\"G\",'Spiegazioni Skills FTEM'!G5,'Spiegazioni Skills FTEM'!C5)","v":"Integrazione nel gruppo, definisce e realizza obiettivi comuni, NOI prima dell'IO, contribuisce a creare un buon spirito di squadra e clima di lavoro"},null,null,{"$f":"IF($H$2=\"G\",'Spiegazioni Skills FTEM'!#REF!,'Spiegazioni Skills FTEM'!#REF!)","v":{"$error":"#REF!"}}]
[{"$f":"'Spiegazioni Skills FTEM'!A6","v":0},null,null,{"$f":"IF($H$2=\"G\",'Spiegazioni Skills FTEM'!F6,'Spiegazioni Skills FTEM'!B6)","v":"Leadership"},null,null,{"$f":"IF($H$2=\"G\",'Spiegazioni Skills FTEM'!G6,'Spiegazioni Skills FTEM'!C6)","v":"Assume responsabilità nell'ambito del gruppo, cerca di migliorare la squadra e i compagni, influenza positivamente la dinamica di gruppo"},null,null,{"$f":"IF($H$2=\"G\",'Spiegazioni Skills FTEM'!#REF!,'Spiegazioni Skills FTEM'!#REF!)","v":{"$error":"#REF!"}}]
[{"$f":"'Spiegazioni Skills FTEM'!A7","v":0},null,null,{"$f":"IF($H$2=\"G\",'Spiegazioni Skills FTEM'!F7,'Spiegazioni Skills FTEM'!B7)","v":"Ripartizione dei ruoli"},null,null,{"$f":"IF($H$2=\"G\",'Spiegazioni Skills FTEM'!G7,'Spiegazioni Skills FTEM'!C7)","v":"Riconosce e adempie il suo ruolo, è cosciente della sua posizione nel sistema e nella squadra, mette a disposizione della squadra le sue competenze"},null,null,{"$f":"IF($H$2=\"G\",'Spiegazioni Skills FTEM'!#REF!,'Spiegazioni Skills FTEM'!#REF!)","v":{"$error":"#REF!"}}]
[{"$f":"'Spiegazioni Skills FTEM'!A8","v":0},null,null,{"$f":"IF($H$2=\"G\",'Spiegazioni Skills FTEM'!F8,'Spiegazioni Skills FTEM'!B8)","v":"Rispetto"},null,null,{"$f":"IF($H$2=\"G\",'Spiegazioni Skills FTEM'!G8,'Spiegazioni Skills FTEM'!C8)","v":"Relazioni rispettose con i compagni, allenatori, avversari, arbitri e staff; rispetta le regole i pricipi del fairplay (compreso la lotta al doping)"},null,null,{"$f":"IF($H$2=\"G\",'Spiegazioni Skills FTEM'!#REF!,'Spiegazioni Skills FTEM'!#REF!)","v":{"$error":"#REF!"}}]
[{"$f":"'Spiegazioni Skills FTEM'!A9","v":"ON ICE"},null,null,{"$f":"'Spiegazioni Skills FTEM'!B9","v":"CAPACITÀ"},null,null,{"$f":"'Spiegazioni Skills FTEM'!C9","v":"CRITERIO D'OSSERVAZIONE"},null,null,{"$f":"'Spiegazioni Skills FTEM'!H9","v":0},null,null,null,"Data1",null,"Data2",null,"Data3",null,"Data4",null,"Data5",null,"Player",null,"OBIETTIVO","PROVVEDIMENTI:\n(SPECIFICI, MISURABILI, REALISTICI)",null,null,null,null,null,null,"TERMINE","COTROLLO DELL'OBIETTIVO","Date"]
[{"$f":"'Spiegazioni Skills FTEM'!A10","v":"PATTINAGGIO"},null,null,{"$f":"IF($H$2=\"G\",'Spiegazioni Skills FTEM'!F10,'Spiegazioni Skills FTEM'!B10)","v":"Velocità dei piedi"},null,null,{"$f":"IF($H$2=\"G\",'Spiegazioni Skills FTEM'!G10,'Spiegazioni Skills FTEM'!C10)","v":"Accelerazione, partenza, esplosività dei primi 3 passi, frequenza"},null,null,{"$f":"IF($H$2=\"G\",'Spiegazioni Skills FTEM'!#REF!,'Spiegazioni Skills FTEM'!#REF!)","v":{"$error":"#REF!"}},null,null,null,{"$f":"IFERROR(AVERAGE(O19:O23),\"-\")","v":"-"},null,{"$f":"IFERROR(AVERAGE(Q19:Q23),\"-\")","v":"-"},null,{"$f":"IFERROR(AVERAGE(S19:S23),\"-\")","v":"-"},null,{"$f":"IFERROR(AVERAGE(U19:U23),\"-\")","v":"-"},null,{"$f":"IFERROR(AVERAGE(W19:W23),\"-\")","v":"-"},null,{"$f":"IFERROR(AVERAGE(Y19:Y23),\"-\")","v":"-"}]
[{"$f":"'Spiegazioni Skills FTEM'!A11:A11","v":0},null,null,{"$f":"IF($H$2=\"G\",'Spiegazioni Skills FTEM'!F11,'Spiegazioni Skills FTEM'!B11)","v":"Velocità/rapidità"},null,null,{"$f":"IF($H$2=\"G\",'Spiegazioni Skills FTEM'!G11,'Spiegazioni Skills FTEM'!C11)","v":"Velocità, facoltà di scivolare, avanti / indietro, economia dello sforzo"},null,null,{"$f":"IF($H$2=\"G\",'Spiegazioni Skills FTEM'!#REF!,'Spiegazioni Skills FTEM'!#REF!)","v":{"$error":"#REF!"}}]
[null,null,null,{"$f":"IF($H$2=\"G\",'Spiegazioni Skills FTEM'!F12,'Spiegazioni Skills FTEM'!B12)","v":"Agilità"},null,null,{"$f":"IF($H$2=\"G\",'Spiegazioni Skills FTEM'!G12,'Spiegazioni Skills FTEM'!C12)","v":"Cambiamento di direzione, girarsi, stop e ripartenza, \"Nummelin\""},null,null,{"$f":"IF($H$2=\"G\",'Spiegazioni Skills FTEM'!#REF!,'Spiegazioni Skills FTEM'!#REF!)","v":{"$error":"#REF!"}}]
[{"$f":"'Spiegazioni Skills FTEM'!A12:A12","v":0},null,null,{"$f":"IF($H$2=\"G\",'Spiegazioni Skills FTEM'!F13,'Spiegazioni Skills FTEM'!B13)","v":"Equilibrio"},null,null,{"$f":"IF($H$2=\"G\",'Spiegazioni Skills FTEM'!G13,'Spiegazioni Skills FTEM'!C13)","v":"Equilibrio, stabilità, posizione bassa, su una gamba, su entrambe"},null,null,{"$f":"IF($H$2=\"G\",'Spiegazioni Skills FTEM'!#REF!,'Spiegazioni Skills FTEM'!#REF!)","v":{"$error":"#REF!"}},null,null,null,{"$f":"IFERROR(AVERAGE(O22:O23),\"-\")","v":"-"},null,{"$f":"IFERROR(AVERAGE(Q22:Q23),\"-\")","v":"-"},null,{"$f":"IFERROR(AVERAGE(S22:S23),\"-\")","v":"-"},null,{"$f":"IFERROR(AVERAGE(U22:U23),\"-\")","v":"-"},null,{"$f":"IFERROR(AVERAGE(W22:W23),\"-\")","v":"-"},null,"-"]
[{"$f":"'Spiegazioni Skills FTEM'!A14:A14","v":0},null,null,{"$f":"IF($H$2=\"G\",'Spiegazioni Skills FTEM'!F14,'Spiegazioni Skills FTEM'!B14)","v":"Pattinaggio indietro"},null,null,{"$f":"IF($H$2=\"G\",'Spiegazioni Skills FTEM'!G14,'Spiegazioni Skills FTEM'!C14)","v":"Accelerazione, velocità, equilibrio"},null,null,{"$f":"IF($H$2=\"G\",'Spiegazioni Skills FTEM'!#REF!,'Spiegazioni Skills FTEM'!#REF!)","v":{"$error":"#REF!"}}]
[{"$f":"'Spiegazioni Skills FTEM'!A15","v":"ABILITÀ"},null,null,{"$f":"IF($H$2=\"G\",'Spiegazioni Skills FTEM'!F15,'Spiegazioni Skills FTEM'!B15)","v":"Tirare"},null,null,{"$f":"IF($H$2=\"G\",'Spiegazioni Skills FTEM'!G15,'Spiegazioni Skills FTEM'!C15)","v":"Efficienza (poco spazio, poco tempo), ricchezza di varianti, grado di sorpresa (Quick Release), precisione, potenza (conclusioni tattiche)"},null,null,{"$f":"IF($H$2=\"G\",'Spiegazioni Skills FTEM'!#REF!,'Spiegazioni Skills FTEM'!#REF!)","v":{"$error":"#REF!"}},null,null,null,{"$f":"IFERROR(AVERAGE(O24:O29),\"-\")","v":"-"},null,{"$f":"IFERROR(AVERAGE(Q24:Q29),\"-\")","v":"-"},null,{"$f":"IFERROR(AVERAGE(S24:S29),\"-\")","v":"-"},null,{"$f":"IFERROR(AVERAGE(U24:U29),\"-\")","v":"-"},null,{"$f":"IFERROR(AVERAGE(W24:W29),\"-\")","v":"-"},null,{"$f":"IFERROR(AVERAGE(Y24:Y29),\"-\")","v":"-"}]
[null,null,null,{"$f":"IF($H$2=\"G\",'Spiegazioni Skills FTEM'!F16,'Spiegazioni Skills FTEM'!B16)","v":"Passare"},null,null,{"$f":"IF($H$2=\"G\",'Spiegazioni Skills FTEM'!G16,'Spiegazioni Skills FTEM'!C16)","v":"Passaggio (distanza, flipp, rovescio), ricezione del passaggio (precisione, timing, diritto, rovescio, sul pattino), velocità del disco"},null,null,{"$f":"IF($H$2=\"G\",'Spiegazioni Skills FTEM'!#REF!,'Spiegazioni Skills FTEM'!#REF!)","v":{"$error":"#REF!"}}]
[null,null,null,{"$f":"IF($H$2=\"G\",'Spiegazioni Skills FTEM'!F17,'Spiegazioni Skills FTEM'!B17)","v":"Lavoro col bastone - condotta del disco"},null,null,{"$f":"IF($H$2=\"G\",'Spiegazioni Skills FTEM'!G17,'Spiegazioni Skills FTEM'!C17)","v":"Bastone sul disco, intercettare le linee di passaggio, deviare, controllo del bastone avversario"},null,null,{"$f":"IF($H$2=\"G\",'Spiegazioni Skills FTEM'!#REF!,'Spiegazioni Skills FTEM'!#REF!)","v":{"$error":"#REF!"}}]
[{"$f":"'Spiegazioni Skills FTEM'!A16:A16","v":0},null,null,{"$f":"IF($H$2=\"G\",'Spiegazioni Skills FTEM'!F18,'Spiegazioni Skills FTEM'!B18)","v":"Possedere/proteggere il disco"},null,null,{"$f":"IF($H$2=\"G\",'Spiegazioni Skills FTEM'!G18,'Spiegazioni Skills FTEM'!C18)","v":"Controllo del disco, dribbling, protezione del disco, finte (varianti col pattino, con o senza la balaustra), ingaggi (face-off)"},null,null,{"$f":"IF($H$2=\"G\",'Spiegazioni Skills FTEM'!#REF!,'Spiegazioni Skills FTEM'!#REF!)","v":{"$error":"#REF!"}}]
[{"$f":"'Spiegazioni Skills FTEM'!A17:A17","v":0},null,null,{"$f":"IF($H$2=\"G\",'Spiegazioni Skills FTEM'!F19,'Spiegazioni Skills FTEM'!B19)","v":"Gioco del corpo"},null,null,{"$f":"IF($H$2=\"G\",'Spiegazioni Skills FTEM'!G19,'Spiegazioni Skills FTEM'!C19)","v":"Facoltà di imporsi fisicamente, duelli (ghiaccio aperto, balaustra), subire dei checks/testa alta, livello di lotta, duro ma corretto, blocco dei tiri con il corpo"},null,null,{"$f":"IF($H$2=\"G\",'Spiegazioni Skills FTEM'!#REF!,'Spiegazioni Skills FTEM'!#REF!)","v":{"$error":"#REF!"}}]
[{"$f":"'Spiegazioni Skills FTEM'!A20:A20","v":0},null,null,{"$f":"IF($H$2=\"G\",'Spiegazioni Skills FTEM'!F20,'Spiegazioni Skills FTEM'!B20)","v":"-"},null,null,{"$f":"IF($H$2=\"G\",'Spiegazioni Skills FTEM'!G20,'Spiegazioni Skills FTEM'!C20)","v":"-"},null,null,{"$f":"IF($H$2=\"G\",'Spiegazioni Skills FTEM'!#REF!,'Spiegazioni Skills FTEM'!#REF!)","v":{"$error":"#REF!"}}]
[{"$f":"'Spiegazioni Skills FTEM'!A21","v":"SENSO DELL'HOCKEY"},null,null,{"$f":"IF($H$2=\"G\",'Spiegazioni Skills FTEM'!F21,'Spiegazioni Skills FTEM'!B21)","v":"Intelligenza nel gioco"},null,null,{"$f":"IF($H$2=\"G\",'Spiegazioni Skills FTEM'!G21,'Spiegazioni Skills FTEM'!C21)","v":"Vedere spazi e giocatori liberi, creare situazioni di superiorità numerica, agire cercando soluzioni in tutte le situazioni, velocità di visualizzazione"},null,null,{"$f":"IF($H$2=\"G\",'Spiegazioni Skills FTEM'!#REF!,'Spiegazioni Skills FTEM'!#REF!)","v":{"$error":"#REF!"}},null,null,null,{"$f":"IFERROR(AVERAGE(O30:O34),\"-\")","v":"-"},null,{"$f":"IFERROR(AVERAGE(Q30:Q34),\"-\")","v":"-"},null,{"$f":"IFERROR(AVERAGE(S30:S34),\"-\")","v":"-"},null,{"$f":"IFERROR(AVERAGE(U30:U34),\"-\")","v":"-"},null,{"$f":"IFERROR(AVERAGE(W30:W34),\"-\")","v":"-"},null,{"$f":"IFERROR(AVERAGE(Y30:Y34),\"-\")","v":"-"}]
[{"$f":"'Spiegazioni Skills FTEM'!A22:A22","v":0},null,null,{"$f":"IF($H$2=\"G\",'Spiegazioni Skills FTEM'!F22,'Spiegazioni Skills FTEM'!B22)","v":"Sensibilità offensiva"},null,null,{"$f":"IF($H$2=\"G\",'Spiegazioni Skills FTEM'!G22,'Spiegazioni Skills FTEM'!C22)","v":"Smarcarsi, anticipare le situazioni di gioco, aprire spazi liberi per i compagni, piazzarsi per le conclusioni, velocità nel chiudere gli spazi (pressione), comunicazione"},null,null,{"$f":"IF($H$2=\"G\",'Spiegazioni Skills FTEM'!#REF!,'Spiegazioni Skills FTEM'!#REF!)","v":{"$error":"#REF!"}}]
[null,null,null,{"$f":"IF($H$2=\"G\",'Spiegazioni Skills FTEM'!F23,'Spiegazioni Skills FTEM'!B23)","v":"Sensibilità difensiva"},null,null,{"$f":"IF($H$2=\"G\",'Spiegazioni Skills FTEM'!G23,'Spiegazioni Skills FTEM'!C23)","v":"Mantenere la posizione difensiva, protezione dello slot, assicurare i compagni / supporto, individuare le linee di passaggio, bloccare i tiri, ridurre velocemente gli spazi, comunicazione"},null,null,{"$f":"IF($H$2=\"G\",'Spiegazioni Skills FTEM'!#REF!,'Spiegazioni Skills FTEM'!#REF!)","v":{"$error":"#REF!"}}]
[{"$f":"'Spiegazioni Skills FTEM'!A24:A24","v":0},null,null,{"$f":"IF($H$2=\"G\",'Spiegazioni Skills FTEM'!F24,'Spiegazioni Skills FTEM'!B24)","v":"Gestione del disco"},null,null,{"$f":"IF($H$2=\"G\",'Spiegazioni Skills FTEM'!G24,'Spiegazioni Skills FTEM'!C24)","v":"Prendere decisioni adeguate nelle situazioni di gioco, supporto, creare superiorità numerica"},null,null,{"$f":"IF($H$2=\"G\",'Spiegazioni Skills FTEM'!#REF!,'Spiegazioni Skills FTEM'!#REF!)","v":{"$error":"#REF!"}}]
[{"$f":"'Spiegazioni Skills FTEM'!A25:A25","v":0},null,null,{"$f":"IF($H$2=\"G\",'Spiegazioni Skills FTEM'!F25,'Spiegazioni Skills FTEM'!B25)","v":"Creatività"},null,null,{"$f":"IF($H$2=\"G\",'Spiegazioni Skills FTEM'!G25,'Spiegazioni Skills FTEM'!C25)","v":"Creare situazioni a sorpresa, fiuto del gol"},null,null,{"$f":"IF($H$2=\"G\",'Spiegazioni Skills FTEM'!#REF!,'Spiegazioni Skills FTEM'!#REF!)","v":{"$error":"#REF!"}}]
[{"$f":"'Spiegazioni Skills FTEM'!A26","v":"PERSONALITY"},null,null,{"$f":"'Spiegazioni Skills FTEM'!B26","v":"CAPACITÀ"},null,null,{"$f":"'Spiegazioni Skills FTEM'!C26","v":"CRITERIO D'OSSERVAZIONE"},null,null,{"$f":"'Spiegazioni Skills FTEM'!H26","v":0},null,null,null,"Data1",null,"Data2",null,"Data3",null,"Data4",null,"Data5",null,"Player",null,"OBIETTIVO","PROVVEDIMENTI:\n(SPECIFICI, MISURABILI, REALISTICI)",null,null,null,null,null,null,"TERMINE","COTROLLO DELL'OBIETTIVO","Date"]
[{"$f":"'Spiegazioni Skills FTEM'!A27","v":"PERSONALITÀ"},null,null,{"$f":"IF($H$2=\"G\",'Spiegazioni Skills FTEM'!F27,'Spiegazioni Skills FTEM'!B27)","v":"Fiducia in se stesso"},null,null,{"$f":"IF($H$2=\"G\",'Spiegazioni Skills FTEM'!G27,'Spiegazioni Skills FTEM'!C27)","v":"Possiede la necessaria fiducia in se stesso, «I can do it»-attitudine, sa valutare le proprie capacità (conosce i propri punti forti e deboli), può realizzare le proprie qualità con\ncostanza, è coraggioso e sa prendere dei rischi calcolati"},null,null,{"$f":"IF($H$2=\"G\",'Spiegazioni Skills FTEM'!#REF!,'Spiegazioni Skills FTEM'!#REF!)","v":{"$error":"#REF!"}},null,null,null,{"$f":"IFERROR(AVERAGE(O36:O40),\"-\")","v":"-"},null,{"$f":"IFERROR(AVERAGE(Q36:Q40),\"-\")","v":"-"},null,{"$f":"IFERROR(AVERAGE(S36:S40),\"-\")","v":"-"},null,{"$f":"IFERROR(AVERAGE(U36:U40),\"-\")","v":"-"},null,{"$f":"IFERROR(AVERAGE(W36:W40),\"-\")","v":"-"},null,{"$f":"IFERROR(AVERAGE(Y36:Y40),\"-\")","v":"-"}]
[{"$f":"'Spiegazioni Skills FTEM'!A28:A28","v":0},null,null,{"$f":"IF($H$2=\"G\",'Spiegazioni Skills FTEM'!F28,'Spiegazioni Skills FTEM'!B28)","v":"Capacità d'apprendimento"},null,null,{"$f":"IF($H$2=\"G\",'Spiegazioni Skills FTEM'!G28,'Spiegazioni Skills FTEM'!C28)","v":"Ha una buona capacità d'apprendimento (sa recepire e realizzare), possiede una personalità, cerca di imparare dai propri errori derivandone delle misure"},null,null,{"$f":"IF($H$2=\"G\",'Spiegazioni Skills FTEM'!#REF!,'Spiegazioni Skills FTEM'!#REF!)","v":{"$error":"#REF!"}}]
[null,null,null,{"$f":"IF($H$2=\"G\",'Spiegazioni Skills FTEM'!F29,'Spiegazioni Skills FTEM'!B29)","v":"Senso di responsabilità"},null,null,{"$f":"IF($H$2=\"G\",'Spiegazioni Skills FTEM'!G29,'Spiegazioni Skills FTEM'!C29)","v":"Assume responsabiltà per le proprie prestazioni e sviluppo, agisce autonomamente, cura i dettagli, mostra un grande impegno in tutti i settori"},null,null,{"$f":"IF($H$2=\"G\",'Spiegazioni Skills FTEM'!#REF!,'Spiegazioni Skills FTEM'!#REF!)","v":{"$error":"#REF!"}}]
[{"$f":"'Spiegazioni Skills FTEM'!A30:A30","v":0},null,null,{"$f":"IF($H$2=\"G\",'Spiegazioni Skills FTEM'!F30,'Spiegazioni Skills FTEM'!B30)","v":"Motivazione"},null,null,{"$f":"IF($H$2=\"G\",'Spiegazioni Skills FTEM'!G30,'Spiegazioni Skills FTEM'!C30)","v":"È sempre motivato, vuole sempre svilupparsi e imparare, vuol essere il primo e avere successo, non rinuncia mai e non si lascia influenzare dagli insuccessi"},null,null,{"$f":"IF($H$2=\"G\",'Spiegazioni Skills FTEM'!#REF!,'Spiegazioni Skills FTEM'!#REF!)","v":{"$error":"#REF!"}}]
[{"$f":"'Spiegazioni Skills FTEM'!A31:A31","v":0},null,null,{"$f":"IF($H$2=\"G\",'Spiegazioni Skills FTEM'!F31,'Spiegazioni Skills FTEM'!B31)","v":"Prestazione Stile di vita"},null,null,{"$f":"IF($H$2=\"G\",'Spiegazioni Skills FTEM'!G31,'Spiegazioni Skills FTEM'!C31)","v":"Gestisce bene la quotidianità il suo ambiente seguendo i principi della prestazione, caparbio, perseverante e finalizzato sugli obiettivi, focus sulla propria prestazione, coraggioso e grintoso, sa imporsi nei confronti delle resistenze, le sfide lo motivano"},null,null,{"$f":"IF($H$2=\"G\",'Spiegazioni Skills FTEM'!#REF!,'Spiegazioni Skills FTEM'!#REF!)","v":{"$error":"#REF!"}}]
[{"$f":"'Spiegazioni Skills FTEM'!A32","v":"FORZA MENTALE"},null,null,{"$f":"IF($H$2=\"G\",'Spiegazioni Skills FTEM'!F32,'Spiegazioni Skills FTEM'!B32)","v":"Impegno"},null,null,{"$f":"IF($H$2=\"G\",'Spiegazioni Skills FTEM'!G32,'Spiegazioni Skills FTEM'!C32)","v":"Mostra molta intensità negli allenamenti e nelle partite, dà sempre il massimo e vuole sempre spronare i propri limiti, mostra passione, si sforza ad alzare la qualità negli allenamenti"},null,null,{"$f":"IF($H$2=\"G\",'Spiegazioni Skills FTEM'!#REF!,'Spiegazioni Skills FTEM'!#REF!)","v":{"$error":"#REF!"}},null,null,null,{"$f":"IFERROR(AVERAGE(O41:O45),\"-\")","v":"-"},null,{"$f":"IFERROR(AVERAGE(Q41:Q45),\"-\")","v":"-"},null,{"$f":"IFERROR(AVERAGE(S41:S45),\"-\")","v":"-"},null,{"$f":"IFERROR(AVERAGE(U41:U45),\"-\")","v":"-"},null,{"$f":"IFERROR(AVERAGE(W41:W45),\"-\")","v":"-"},null,{"$f":"IFERROR(AVERAGE(Y41:Y45),\"-\")","v":"-"}]
[null,null,null,{"$f":"IF($H$2=\"G\",'Spiegazioni Skills FTEM'!F33,'Spiegazioni Skills FTEM'!B33)","v":"Preparazione"},null,null,{"$f":"IF($H$2=\"G\",'Spiegazioni Skills FTEM'!G33,'Spiegazioni Skills FTEM'!C33)","v":"Preparazione consapevole e finalizzata, mentalmente e fisicamente, possiede un efficiente approccio per l'ottenimento dell'ideale stato di prestazione (ILZ/ISP)"},null,null,{"$f":"IF($H$2=\"G\",'Spiegazioni Skills FTEM'!#REF!,'Spiegazioni Skills FTEM'!#REF!)","v":{"$error":"#REF!"}}]
[{"$f":"'Spiegazioni Skills FTEM'!A34:A34","v":0},null,null,{"$f":"IF($H$2=\"G\",'Spiegazioni Skills FTEM'!F34,'Spiegazioni Skills FTEM'!B34)","v":"Coaching individuale"},null,null,{"$f":"IF($H$2=\"G\",'Spiegazioni Skills FTEM'!G34,'Spiegazioni Skills FTEM'!C34)","v":"Possiede una buona capacità di concentrazione, può mantenere il suo ILZ/ISP durante la partita e l'allenamento, può utilizzare tecniche di base per rafforzare il mentale, resistenti contro pensieri e influenze negative, è consapevole del proprio linguaggio del corpo che è in grado di padroneggiare"},null,null,{"$f":"IF($H$2=\"G\",'Spiegazioni Skills FTEM'!#REF!,'Spiegazioni Skills FTEM'!#REF!)","v":{"$error":"#REF!"}}]
[{"$f":"'Spiegazioni Skills FTEM'!A35:A35","v":0},null,null,{"$f":"IF($H$2=\"G\",'Spiegazioni Skills FTEM'!F35,'Spiegazioni Skills FTEM'!B35)","v":"Gestione delle energie"},null,null,{"$f":"IF($H$2=\"G\",'Spiegazioni Skills FTEM'!G35,'Spiegazioni Skills FTEM'!C35)","v":"Può gestire le proprie energie, cura la rigenerazione, può gestire i momenti in cui si deve andare al massimo oppure risparmiarsi, interruttore on/off"},null,null,{"$f":"IF($H$2=\"G\",'Spiegazioni Skills FTEM'!#REF!,'Spiegazioni Skills FTEM'!#REF!)","v":{"$error":"#REF!"}}]
[{"$f":"'Spiegazioni Skills FTEM'!A36:A36","v":0},null,null,{"$f":"IF($H$2=\"G\",'Spiegazioni Skills FTEM'!F36,'Spiegazioni Skills FTEM'!B36)","v":"Controllo delle emozioni"},null,null,{"$f":"IF($H$2=\"G\",'Spiegazioni Skills FTEM'!G36,'Spiegazioni Skills FTEM'!C36)","v":"Può regolare le proprie emozioni e impulsi, mantiene il controllo quando si trova sotto pressione, sa anche agire adeguatamente in situazioni emotive o frustranti"},null,null,{"$f":"IF($H$2=\"G\",'Spiegazioni Skills FTEM'!#REF!,'Spiegazioni Skills FTEM'!#REF!)","v":{"$error":"#REF!"}}]
[{"$f":"'Spiegazioni Skills FTEM'!A37","v":"FISICO"},null,null,{"$f":"IF($H$2=\"G\",'Spiegazioni Skills FTEM'!F37,'Spiegazioni Skills FTEM'!B37)","v":"Produzione di prestazione"},null,null,{"$f":"IF($H$2=\"G\",'Spiegazioni Skills FTEM'!G37,'Spiegazioni Skills FTEM'!C37)","v":"Possiede nelle gambe e nella parte alta del corpo la necessaria potenza/forza/velocità (fattori neuromuscolari)"},null,null,{"$f":"IF($H$2=\"G\",'Spiegazioni Skills FTEM'!#REF!,'Spiegazioni Skills FTEM'!#REF!)","v":{"$error":"#REF!"}},null,null,null,{"$f":"IFERROR(AVERAGE(O46:O50),\"-\")","v":"-"},null,{"$f":"IFERROR(AVERAGE(Q46:Q50),\"-\")","v":"-"},null,{"$f":"IFERROR(AVERAGE(S46:S50),\"-\")","v":"-"},null,{"$f":"IFERROR(AVERAGE(U46:U50),\"-\")","v":"-"},null,{"$f":"IFERROR(AVERAGE(W46:W50),\"-\")","v":"-"},null,{"$f":"IFERROR(AVERAGE(Y46:Y50),\"-\")","v":"-"}]
[null,null,null,{"$f":"IF($H$2=\"G\",'Spiegazioni Skills FTEM'!F38,'Spiegazioni Skills FTEM'!B38)","v":"Resistenza specifica alla fatica"},null,null,{"$f":"IF($H$2=\"G\",'Spiegazioni Skills FTEM'!G38,'Spiegazioni Skills FTEM'!C38)","v":"È capace di mantenere a lungo nell'ambito di un impiego la potenza/forza/velocità ed è capace di recuperare completamente attraverso i vari impieghi sul ghiaccio (fattori metabolici e cardiovascolari)"},null,null,{"$f":"IF($H$2=\"G\",'Spiegazioni Skills FTEM'!#REF!,'Spiegazioni Skills FTEM'!#REF!)","v":{"$error":"#REF!"}}]
[{"$f":"'Spiegazioni Skills FTEM'!A39:A39","v":0},null,null,{"$f":"IF($H$2=\"G\",'Spiegazioni Skills FTEM'!F39,'Spiegazioni Skills FTEM'!B39)","v":"Salute / prevenzione"},null,null,{"$f":"IF($H$2=\"G\",'Spiegazioni Skills FTEM'!G39,'Spiegazioni Skills FTEM'!C39)","v":"Possiede la necessaria stabilità (stabilità delle gambe) e mobilità delle articolazioni centrali"},null,null,{"$f":"IF($H$2=\"G\",'Spiegazioni Skills FTEM'!#REF!,'Spiegazioni Skills FTEM'!#REF!)","v":{"$error":"#REF!"}}]
[{"$f":"'Spiegazioni Skills FTEM'!A40:A40","v":0},null,null,{"$f":"IF($H$2=\"G\",'Spiegazioni Skills FTEM'!F40,'Spiegazioni Skills FTEM'!B40)","v":"Competenze della mobilità"},null,null,{"$f":"IF($H$2=\"G\",'Spiegazioni Skills FTEM'!G40,'Spiegazioni Skills FTEM'!C40)","v":"Padroneggia le basilari capacità di movimento che garantiscono in modo determinante le abilità specifiche \"skills\", come pure l'efficacia dei movimenti"},null,null,{"$f":"IF($H$2=\"G\",'Spiegazioni Skills FTEM'!#REF!,'Spiegazioni Skills FTEM'!#REF!)","v":{"$error":"#REF!"}}]
[{"$f":"'Spiegazioni Skills FTEM'!A41:A41","v":0},null,null,{"$f":"IF($H$2=\"G\",'Spiegazioni Skills FTEM'!F41,'Spiegazioni Skills FTEM'!B41)","v":"Robustezza"},null,null,{"$f":"IF($H$2=\"G\",'Spiegazioni Skills FTEM'!G41,'Spiegazioni Skills FTEM'!C41)","v":"Possiede la necessaria forza di base (tensione del corpo) per vincere i duelli e resistere alle cariche"},null,null,{"$f":"IF($H$2=\"G\",'Spiegazioni Skills FTEM'!#REF!,'Spiegazioni Skills FTEM'!#REF!)","v":{"$error":"#REF!"}}]

{"sheet":"19","index":22,"n_rows":50,"n_cols":36,"rows_kept":50,"cut":false,"hidden":false,"merged":[[45,34,49,34],[45,12,49,12],[45,13,49,13],[45,15,49,15],[45,17,49,17],[45,19,49,19],[45,21,49,21],[45,23,49,23],[45,25,49,25],[45,26,49,32],[45,0,49,2],[45,3,45,5],[45,6,45,11],[46,3,46,5],[46,6,46,11],[48,3,48,5],[48,6,48,11],[49,3,49,5],[49,6,49,11],[47,3,47,5],[47,6,47,11],[40,23,44,23],[42,3,42,5],[42,6,42,11],[44,3,44,5],[44,6,44,11],[40,0,44,2],[40,3,40,5],[40,6,40,11],[40,12,44,12],[40,13,44,13],[40,15,44,15],[43,3,43,5],[43,6,43,11],[34,21,34,22],[35,17,39,17],[35,19,39,19],[35,21,39,21],[37,3,37,5],[37,6,37,11],[38,3,38,5],[38,6,38,11],[40,17,44,17],[40,19,44,19],[40,21,44,21],[36,3,36,5],[36,6,36,11],[41,3,41,5],[41,6,41,11],[29,0,33,2],[29,3,29,5],[29,6,29,11],[29,12,33,12],[29,13,33,13],[29,15,33,15],[34,23,34,24],[34,26,34,32],[35,0,39,2],[35,3,35,5],[35,6,35,11],[35,12,39,12],[35,13,39,13],[35,15,39,15],[39,3,39,5],[39,6,39,11],[35,23,39,23],[34,0,34,2],[34,3,34,5],[34,6,34,11],[34,13,34,14],[34,15,34,16],[34,17,34,18],[34,19,34,20],[23,19,28,19],[23,21,28,21],[23,23,28,23],[26,3,26,5],[26,6,26,11],[28,3,28,5],[28,6,28,11],[33,3,33,5],[33,6,33,11],[29,23,33,23],[29,17,33,17],[29,19,33,19],[29,21,33,21],[31,3,31,5],[31,6,31,11],[32,3,32,5],[32,6,32,11],[27,3,27,5],[27,6,27,11],[25,3,25,5],[25,6,25,11],[30,3,30,5],[30,6,30,11],[12,21,16,21],[18,15,22,15],[18,17,22,17],[18,19,22,19],[18,21,22,21],[18,23,22,23],[22,3,22,5],[22,6,22,11],[23,0,28,2],[23,3,23,5],[23,6,23,11],[23,12,28,12],[23,13,28,13],[23,15,28,15],[23,17,28,17],[18,0,22,2],[18,3,18,5],[18,6,18,11],[18,12,22,12],[18,13,22,13],[19,3,19,5],[19,6,19,11],[21,3,21,5],[21,6,21,11],[11,21,11,22],[11,23,11,24],[11,26,11,32],[11,6,11,11],[12,23,16,23],[16,3,16,5],[16,6,16,11],[17,0,17,2],[17,3,17,5],[17,6,17,11],[17,13,17,14],[17,15,17,16],[17,17,17,18],[17,19,17,20],[17,21,17,22],[17,23,17,24],[12,0,16,2],[12,3,12,5],[12,6,12,11],[12,12,16,12],[12,13,16,13],[12,15,16,15],[12,17,16,17],[12,19,16,19],[4,0,4,1],[4,2,4,5],[4,10,4,24],[10,0,10,24],[10,25,10,35],[40,25,44,25],[40,26,44,32],[40,34,44,34],[12,25,16,25],[12,26,16,32],[12,34,16,34],[18,25,22,25],[18,26,22,32],[18,34,22,34],[23,25,28,25],[23,26,28,32],[23,34,28,34],[17,26,17,32],[11,0,11,2],[11,3,11,5],[11,13,11,14],[11,15,11,16],[11,17,11,18],[11,19,11,20],[0,0,0,24],[0,25,0,26],[0,27,0,32],[0,33,0,35],[29,25,33,25],[29,26,33,32],[29,34,33,34],[35,25,39,25],[35,26,39,32],[35,34,39,34],[1,0,1,1],[1,2,1,5],[1,10,1,24],[2,0,2,1],[2,2,2,5],[2,11,2,24],[6,0,6,1],[6,2,6,35],[7,0,7,1],[7,2,7,35],[8,0,8,1],[8,2,8,35],[3,0,3,1],[3,10,3,24],[13,3,13,5],[13,6,13,11],[14,3,14,5],[14,6,14,11],[15,3,15,5],[15,6,15,11],[20,3,20,5],[20,6,20,11],[24,3,24,5],[24,6,24,11]]}
["Personalien",null,null,null,null,null,null,null,null,null,null,null,null,null,null,null,null,null,null,null,null,null,null,null,null,"Predisposizione",null,"Valutazioni",null,null,null,null,null,"Rating"]
["COGNOME",null,{"$f":"IF(ISBLANK(VLOOKUP(19,Tabelle3[],3,0)),\"-\",VLOOKUP(19,Tabelle3[],3,0))","v":"-"},null,null,null,"POSIZIONE",null,null,"INDIRIZZO",{"$f":"IF(ISBLANK(VLOOKUP(19,Tabelle3[],5,0)),\"-\",VLOOKUP(19,Tabelle3[],5,0))","v":"-"},null,null,null,null,null,null,null,null,null,null,null,null,null,null,"Età\" (biologica/età relativa)",null,"Data 1",null,null,"cm",null,"Kg",null,"ECCELLENTE",5]
["NOME",null,{"$f":"IF(ISBLANK(VLOOKUP(19,Tabelle3[],2,0)),\"-\",VLOOKUP(19,Tabelle3[],2,0))","v":"-"},null,null,null,"BASTONE",null,null,"LUOGO",{"$f":"IF(ISBLANK(VLOOKUP(19,Tabelle3[],7,0)),\"-\",VLOOKUP(19,Tabelle3[],7,0))","v":"-"},{"$f":"IF(ISBLANK(VLOOKUP(19,Tabelle3[],6,0)),\"-\",VLOOKUP(19,Tabelle3[],6,0))","v":"-"},null,null,null,null,null,null,null,null,null,null,null,null,null,"Predisposizione",null,"Data 2",null,null,"cm",null,"Kg",null,"BUONO",4]
["DATA DI NASC.",null,{"$f":"IF(ISBLANK(VLOOKUP(19,Tabelle3[],14,0)),\"-\",VLOOKUP(19,Tabelle3[],14,0))","v":"-"},{"$f":"IF(ISBLANK(VLOOKUP(19,Tabelle3[],15,0)),\"-\",VLOOKUP(19,Tabelle3[],15,0))","v":"-"},{"$f":"IF(ISBLANK(VLOOKUP(19,Tabelle3[],16,0)),\"-\",VLOOKUP(19,Tabelle3[],16,0))","v":"-"},null,"ALTEZZA",null,"cm (Finale)","TELEFONO",{"$f":"IF(ISBLANK(VLOOKUP(19,Tabelle3[],8,0)),\"-\",VLOOKUP(19,Tabelle3[],8,0))","v":"-"},null,null,null,null,null,null,null,null,null,null,null,null,null,null,"Ambiente di vita",null,"Data 3",null,null,"cm",null,"Kg",null,"MEDIO/DISCRETO",3]
["SESSO",null,{"$f":"IF(ISBLANK(VLOOKUP(19,Tabelle3[],13,0)),\"-\",VLOOKUP(19,Tabelle3[],13,0))","v":"-"},null,null,null,"PESO",null,"Kg (Finale)","E-Mail",{"$f":"IF(ISBLANK(VLOOKUP(19,Tabelle3[],9,0)),\"-\",VLOOKUP(19,Tabelle3[],9,0))","v":"-"},null,null,null,null,null,null,null,null,null,null,null,null,null,null,null,null,"Data 4",null,null,"cm",null,"Kg",null,"CON LACUNE",2]
[null,null,null,null,null,null,null,null,null,null,null,null,null,null,null,null,null,null,null,null,null,null,null,null,null,null,null,"Data 5",null,null,"cm",null,"Kg",null,"INSUFFICIENTE",1]
["Visione",null,"xxx"]
["Prossimo passo",null,"xxx"]
["Proflio giocatore",null,"xxx"]
[]
["VALUTAZIONI (COACH / GIOCATORE)",null,null,null,null,null,null,null,null,null,null,null,null,null,null,null,null,null,null,null,null,null,null,null,null,"Obiettivi SMART"]
[{"$f":"'Spiegazioni Skills FTEM'!A3","v":"TEAM"},null,null,{"$f":"'Spiegazioni Skills FTEM'!B3","v":"CAPACITÀ"},null,null,{"$f":"'Spiegazioni Skills FTEM'!C3","v":"CRITERIO D'OSSERVAZIONE"},null,null,{"$f":"'Spiegazioni Skills FTEM'!H3","v":0},null,null,"Final","Data1",null,"Data2",null,"Data3",null,"Data4",null,"Data5",null,"Player",null,"OBIETTIVO","PROVVEDIMENTI:\n(SPECIFICI, MISURABILI, REALISTICI)",null,null,null,null,null,null,"TERMINE","COTROLLO DELL'OBIETTIVO","Data"]
[{"$f":"'Spiegazioni Skills FTEM'!A4","v":"SQUADRA"},null,null,{"$f":"IF($H$2=\"G\",'Spiegazioni Skills FTEM'!F4,'Spiegazioni Skills FTEM'!B4)","v":"Comunicazione"},null,null,{"$f":"IF($H$2=\"G\",'Spiegazioni Skills FTEM'!G4,'Spiegazioni Skills FTEM'!C4)","v":"Cura relazioni aperte e rispettose, fiducia quale base comportamentale, affronta i conflitti senza ledere la stabilità del gruppo, comunica con i compagni, gli allenatori e\nfunzionari con i medesimi valori"},null,null,{"$f":"IF($H$2=\"G\",'Spiegazioni Skills FTEM'!#REF!,'Spiegazioni Skills FTEM'!#REF!)","v":{"$error":"#REF!"}},null,null,null,{"$f":"IFERROR(AVERAGE(O13:O17),\"-\")","v":"-"},null,{"$f":"IFERROR(AVERAGE(Q13:Q17),\"-\")","v":"-"},null,{"$f":"IFERROR(AVERAGE(S13:S17),\"-\")","v":"-"},null,{"$f":"IFERROR(AVERAGE(U13:U17),\"-\")","v":"-"},null,{"$f":"IFERROR(AVERAGE(W13:W17),\"-\")","v":"-"},null,{"$f":"IFERROR(AVERAGE(Y13:Y17),\"-\")","v":"-"}]
[{"$f":"'Spiegazioni Skills FTEM'!A5","v":0},null,null,{"$f":"IF($H$2=\"G\",'Spiegazioni Skills FTEM'!F5,'Spiegazioni Skills FTEM'!B5)","v":"Capacità nella squadra"},null,null,{"$f":"IF($H$2=\"G\",'Spiegazioni Skills FTEM'!G5,'Spiegazioni Skills FTEM'!C5)","v":"Integrazione nel gruppo, definisce e realizza obiettivi comuni, NOI prima dell'IO, contribuisce a creare un buon spirito di squadra e clima di lavoro"},null,null,{"$f":"IF($H$2=\"G\",'Spiegazioni Skills FTEM'!#REF!,'Spiegazioni Skills FTEM'!#REF!)","v":{"$error":"#REF!"}}]
[{"$f":"'Spiegazioni Skills FTEM'!A6","v":0},null,null,{"$f":"IF($H$2=\"G\",'Spiegazioni Skills FTEM'!F6,'Spiegazioni Skills FTEM'!B6)","v":"Leadership"},null,null,{"$f":"IF($H$2=\"G\",'Spiegazioni Skills FTEM'!G6,'Spiegazioni Skills FTEM'!C6)","v":"Assume responsabilità nell'ambito del gruppo, cerca di migliorare la squadra e i compagni, influenza positivamente la dinamica di gruppo"},null,null,{"$f":"IF($H$2=\"G\",'Spiegazioni Skills FTEM'!#REF!,'Spiegazioni Skills FTEM'!#REF!)","v":{"$error":"#REF!"}}]
[{"$f":"'Spiegazioni Skills FTEM'!A7","v":0},null,null,{"$f":"IF($H$2=\"G\",'Spiegazioni Skills FTEM'!F7,'Spiegazioni Skills FTEM'!B7)","v":"Ripartizione dei ruoli"},null,null,{"$f":"IF($H$2=\"G\",'Spiegazioni Skills FTEM'!G7,'Spiegazioni Skills FTEM'!C7)","v":"Riconosce e adempie il suo ruolo, è cosciente della sua posizione nel sistema e nella squadra, mette a disposizione della squadra le sue competenze"},null,null,{"$f":"IF($H$2=\"G\",'Spiegazioni Skills FTEM'!#REF!,'Spiegazioni Skills FTEM'!#REF!)","v":{"$error":"#REF!"}}]
[{"$f":"'Spiegazioni Skills FTEM'!A8","v":0},null,null,{"$f":"IF($H$2=\"G\",'Spiegazioni Skills FTEM'!F8,'Spiegazioni Skills FTEM'!B8)","v":"Rispetto"},null,null,{"$f":"IF($H$2=\"G\",'Spiegazioni Skills FTEM'!G8,'Spiegazioni Skills FTEM'!C8)","v":"Relazioni rispettose con i compagni, allenatori, avversari, arbitri e staff; rispetta le regole i pricipi del fairplay (compreso la lotta al doping)"},null,null,{"$f":"IF($H$2=\"G\",'Spiegazioni Skills FTEM'!#REF!,'Spiegazioni Skills FTEM'!#REF!)","v":{"$error":"#REF!"}}]
[{"$f":"'Spiegazioni Skills FTEM'!A9","v":"ON ICE"},null,null,{"$f":"'Spiegazioni Skills FTEM'!B9","v":"CAPACITÀ"},null,null,{"$f":"'Spiegazioni Skills FTEM'!C9","v":"CRITERIO D'OSSERVAZIONE"},null,null,{"$f":"'Spiegazioni Skills FTEM'!H9","v":0},null,null,null,"Data1",null,"Data2",null,"Data3",null,"Data4",null,"Data5",null,"Player",null,"OBIETTIVO","PROVVEDIMENTI:\n(SPECIFICI, MISURABILI, REALISTICI)",null,null,null,null,null,null,"TERMINE","COTROLLO DELL'OBIETTIVO","Date"]
[{"$f":"'Spiegazioni Skills FTEM'!A10","v":"PATTINAGGIO"},null,null,{"$f":"IF($H$2=\"G\",'Spiegazioni Skills FTEM'!F10,'Spiegazioni Skills FTEM'!B10)","v":"Velocità dei piedi"},null,null,{"$f":"IF($H$2=\"G\",'Spiegazioni Skills FTEM'!G10,'Spiegazioni Skills FTEM'!C10)","v":"Accelerazione, partenza, esplosività dei primi 3 passi, frequenza"},null,null,{"$f":"IF($H$2=\"G\",'Spiegazioni Skills FTEM'!#REF!,'Spiegazioni Skills FTEM'!#REF!)","v":{"$error":"#REF!"}},null,null,null,{"$f":"IFERROR(AVERAGE(O19:O23),\"-\")","v":"-"},null,{"$f":"IFERROR(AVERAGE(Q19:Q23),\"-\")","v":"-"},null,{"$f":"IFERROR(AVERAGE(S19:S23),\"-\")","v":"-"},null,{"$f":"IFERROR(AVERAGE(U19:U23),\"-\")","v":"-"},null,{"$f":"IFERROR(AVERAGE(W19:W23),\"-\")","v":"-"},null,{"$f":"IFERROR(AVERAGE(Y19:Y23),\"-\")","v":"-"}]
[{"$f":"'Spiegazioni Skills FTEM'!A11:A11","v":0},null,null,{"$f":"IF($H$2=\"G\",'Spiegazioni Skills FTEM'!F11,'Spiegazioni Skills FTEM'!B11)","v":"Velocità/rapidità"},null,null,{"$f":"IF($H$2=\"G\",'Spiegazioni Skills FTEM'!G11,'Spiegazioni Skills FTEM'!C11)","v":"Velocità, facoltà di scivolare, avanti / indietro, economia dello sforzo"},null,null,{"$f":"IF($H$2=\"G\",'Spiegazioni Skills FTEM'!#REF!,'Spiegazioni Skills FTEM'!#REF!)","v":{"$error":"#REF!"}}]
[null,null,null,{"$f":"IF($H$2=\"G\",'Spiegazioni Skills FTEM'!F12,'Spiegazioni Skills FTEM'!B12)","v":"Agilità"},null,null,{"$f":"IF($H$2=\"G\",'Spiegazioni Skills FTEM'!G12,'Spiegazioni Skills FTEM'!C12)","v":"Cambiamento di direzione, girarsi, stop e ripartenza, \"Nummelin\""},null,null,{"$f":"IF($H$2=\"G\",'Spiegazioni Skills FTEM'!#REF!,'Spiegazioni Skills FTEM'!#REF!)","v":{"$error":"#REF!"}}]
[{"$f":"'Spiegazioni Skills FTEM'!A12:A12","v":0},null,null,{"$f":"IF($H$2=\"G\",'Spiegazioni Skills FTEM'!F13,'Spiegazioni Skills FTEM'!B13)","v":"Equilibrio"},null,null,{"$f":"IF($H$2=\"G\",'Spiegazioni Skills FTEM'!G13,'Spiegazioni Skills FTEM'!C13)","v":"Equilibrio, stabilità, posizione bassa, su una gamba, su entrambe"},null,null,{"$f":"IF($H$2=\"G\",'Spiegazioni Skills FTEM'!#REF!,'Spiegazioni Skills FTEM'!#REF!)","v":{"$error":"#REF!"}},null,null,null,{"$f":"IFERROR(AVERAGE(O22:O23),\"-\")","v":"-"},null,{"$f":"IFERROR(AVERAGE(Q22:Q23),\"-\")","v":"-"},null,{"$f":"IFERROR(AVERAGE(S22:S23),\"-\")","v":"-"},null,{"$f":"IFERROR(AVERAGE(U22:U23),\"-\")","v":"-"},null,{"$f":"IFERROR(AVERAGE(W22:W23),\"-\")","v":"-"},null,"-"]
[{"$f":"'Spiegazioni Skills FTEM'!A14:A14","v":0},null,null,{"$f":"IF($H$2=\"G\",'Spiegazioni Skills FTEM'!F14,'Spiegazioni Skills FTEM'!B14)","v":"Pattinaggio indietro"},null,null,{"$f":"IF($H$2=\"G\",'Spiegazioni Skills FTEM'!G14,'Spiegazioni Skills FTEM'!C14)","v":"Accelerazione, velocità, equilibrio"},null,null,{"$f":"IF($H$2=\"G\",'Spiegazioni Skills FTEM'!#REF!,'Spiegazioni Skills FTEM'!#REF!)","v":{"$error":"#REF!"}}]
[{"$f":"'Spiegazioni Skills FTEM'!A15","v":"ABILITÀ"},null,null,{"$f":"IF($H$2=\"G\",'Spiegazioni Skills FTEM'!F15,'Spiegazioni Skills FTEM'!B15)","v":"Tirare"},null,null,{"$f":"IF($H$2=\"G\",'Spiegazioni Skills FTEM'!G15,'Spiegazioni Skills FTEM'!C15)","v":"Efficienza (poco spazio, poco tempo), ricchezza di varianti, grado di sorpresa (Quick Release), precisione, potenza (conclusioni tattiche)"},null,null,{"$f":"IF($H$2=\"G\",'Spiegazioni Skills FTEM'!#REF!,'Spiegazioni Skills FTEM'!#REF!)","v":{"$error":"#REF!"}},null,null,null,{"$f":"IFERROR(AVERAGE(O24:O29),\"-\")","v":"-"},null,{"$f":"IFERROR(AVERAGE(Q24:Q29),\"-\")","v":"-"},null,{"$f":"IFERROR(AVERAGE(S24:S29),\"-\")","v":"-"},null,{"$f":"IFERROR(AVERAGE(U24:U29),\"-\")","v":"-"},null,{"$f":"IFERROR(AVERAGE(W24:W29),\"-\")","v":"-"},null,{"$f":"IFERROR(AVERAGE(Y24:Y29),\"-\")","v":"-"}]
[null,null,null,{"$f":"IF($H$2=\"G\",'Spiegazioni Skills FTEM'!F16,'Spiegazioni Skills FTEM'!B16)","v":"Passare"},null,null,{"$f":"IF($H$2=\"G\",'Spiegazioni Skills FTEM'!G16,'Spiegazioni Skills FTEM'!C16)","v":"Passaggio (distanza, flipp, rovescio), ricezione del passaggio (precisione, timing, diritto, rovescio, sul pattino), velocità del disco"},null,null,{"$f":"IF($H$2=\"G\",'Spiegazioni Skills FTEM'!#REF!,'Spiegazioni Skills FTEM'!#REF!)","v":{"$error":"#REF!"}}]
[null,null,null,{"$f":"IF($H$2=\"G\",'Spiegazioni Skills FTEM'!F17,'Spiegazioni Skills FTEM'!B17)","v":"Lavoro col bastone - condotta del disco"},null,null,{"$f":"IF($H$2=\"G\",'Spiegazioni Skills FTEM'!G17,'Spiegazioni Skills FTEM'!C17)","v":"Bastone sul disco, intercettare le linee di passaggio, deviare, controllo del bastone avversario"},null,null,{"$f":"IF($H$2=\"G\",'Spiegazioni Skills FTEM'!#REF!,'Spiegazioni Skills FTEM'!#REF!)","v":{"$error":"#REF!"}}]
[{"$f":"'Spiegazioni Skills FTEM'!A16:A16","v":0},null,null,{"$f":"IF($H$2=\"G\",'Spiegazioni Skills FTEM'!F18,'Spiegazioni Skills FTEM'!B18)","v":"Possedere/proteggere il disco"},null,null,{"$f":"IF($H$2=\"G\",'Spiegazioni Skills FTEM'!G18,'Spiegazioni Skills FTEM'!C18)","v":"Controllo del disco, dribbling, protezione del disco, finte (varianti col pattino, con o senza la balaustra), ingaggi (face-off)"},null,null,{"$f":"IF($H$2=\"G\",'Spiegazioni Skills FTEM'!#REF!,'Spiegazioni Skills FTEM'!#REF!)","v":{"$error":"#REF!"}}]
[{"$f":"'Spiegazioni Skills FTEM'!A17:A17","v":0},null,null,{"$f":"IF($H$2=\"G\",'Spiegazioni Skills FTEM'!F19,'Spiegazioni Skills FTEM'!B19)","v":"Gioco del corpo"},null,null,{"$f":"IF($H$2=\"G\",'Spiegazioni Skills FTEM'!G19,'Spiegazioni Skills FTEM'!C19)","v":"Facoltà di imporsi fisicamente, duelli (ghiaccio aperto, balaustra), subire dei checks/testa alta, livello di lotta, duro ma corretto, blocco dei tiri con il corpo"},null,null,{"$f":"IF($H$2=\"G\",'Spiegazioni Skills FTEM'!#REF!,'Spiegazioni Skills FTEM'!#REF!)","v":{"$error":"#REF!"}}]
[{"$f":"'Spiegazioni Skills FTEM'!A20:A20","v":0},null,null,{"$f":"IF($H$2=\"G\",'Spiegazioni Skills FTEM'!F20,'Spiegazioni Skills FTEM'!B20)","v":"-"},null,null,{"$f":"IF($H$2=\"G\",'Spiegazioni Skills FTEM'!G20,'Spiegazioni Skills FTEM'!C20)","v":"-"},null,null,{"$f":"IF($H$2=\"G\",'Spiegazioni Skills FTEM'!#REF!,'Spiegazioni Skills FTEM'!#REF!)","v":{"$error":"#REF!"}}]
[{"$f":"'Spiegazioni Skills FTEM'!A21","v":"SENSO DELL'HOCKEY"},null,null,{"$f":"IF($H$2=\"G\",'Spiegazioni Skills FTEM'!F21,'Spiegazioni Skills FTEM'!B21)","v":"Intelligenza nel gioco"},null,null,{"$f":"IF($H$2=\"G\",'Spiegazioni Skills FTEM'!G21,'Spiegazioni Skills FTEM'!C21)","v":"Vedere spazi e giocatori liberi, creare situazioni di superiorità numerica, agire cercando soluzioni in tutte le situazioni, velocità di visualizzazione"},null,null,{"$f":"IF($H$2=\"G\",'Spiegazioni Skills FTEM'!#REF!,'Spiegazioni Skills FTEM'!#REF!)","v":{"$error":"#REF!"}},null,null,null,{"$f":"IFERROR(AVERAGE(O30:O34),\"-\")","v":"-"},null,{"$f":"IFERROR(AVERAGE(Q30:Q34),\"-\")","v":"-"},null,{"$f":"IFERROR(AVERAGE(S30:S34),\"-\")","v":"-"},null,{"$f":"IFERROR(AVERAGE(U30:U34),\"-\")","v":"-"},null,{"$f":"IFERROR(AVERAGE(W30:W34),\"-\")","v":"-"},null,{"$f":"IFERROR(AVERAGE(Y30:Y34),\"-\")","v":"-"}]
[{"$f":"'Spiegazioni Skills FTEM'!A22:A22","v":0},null,null,{"$f":"IF($H$2=\"G\",'Spiegazioni Skills FTEM'!F22,'Spiegazioni Skills FTEM'!B22)","v":"Sensibilità offensiva"},null,null,{"$f":"IF($H$2=\"G\",'Spiegazioni Skills FTEM'!G22,'Spiegazioni Skills FTEM'!C22)","v":"Smarcarsi, anticipare le situazioni di gioco, aprire spazi liberi per i compagni, piazzarsi per le conclusioni, velocità nel chiudere gli spazi (pressione), comunicazione"},null,null,{"$f":"IF($H$2=\"G\",'Spiegazioni Skills FTEM'!#REF!,'Spiegazioni Skills FTEM'!#REF!)","v":{"$error":"#REF!"}}]
[null,null,null,{"$f":"IF($H$2=\"G\",'Spiegazioni Skills FTEM'!F23,'Spiegazioni Skills FTEM'!B23)","v":"Sensibilità difensiva"},null,null,{"$f":"IF($H$2=\"G\",'Spiegazioni Skills FTEM'!G23,'Spiegazioni Skills FTEM'!C23)","v":"Mantenere la posizione difensiva, protezione dello slot, assicurare i compagni / supporto, individuare le linee di passaggio, bloccare i tiri, ridurre velocemente gli spazi, comunicazione"},null,null,{"$f":"IF($H$2=\"G\",'Spiegazioni Skills FTEM'!#REF!,'Spiegazioni Skills FTEM'!#REF!)","v":{"$error":"#REF!"}}]
[{"$f":"'Spiegazioni Skills FTEM'!A24:A24","v":0},null,null,{"$f":"IF($H$2=\"G\",'Spiegazioni Skills FTEM'!F24,'Spiegazioni Skills FTEM'!B24)","v":"Gestione del disco"},null,null,{"$f":"IF($H$2=\"G\",'Spiegazioni Skills FTEM'!G24,'Spiegazioni Skills FTEM'!C24)","v":"Prendere decisioni adeguate nelle situazioni di gioco, supporto, creare superiorità numerica"},null,null,{"$f":"IF($H$2=\"G\",'Spiegazioni Skills FTEM'!#REF!,'Spiegazioni Skills FTEM'!#REF!)","v":{"$error":"#REF!"}}]
[{"$f":"'Spiegazioni Skills FTEM'!A25:A25","v":0},null,null,{"$f":"IF($H$2=\"G\",'Spiegazioni Skills FTEM'!F25,'Spiegazioni Skills FTEM'!B25)","v":"Creatività"},null,null,{"$f":"IF($H$2=\"G\",'Spiegazioni Skills FTEM'!G25,'Spiegazioni Skills FTEM'!C25)","v":"Creare situazioni a sorpresa, fiuto del gol"},null,null,{"$f":"IF($H$2=\"G\",'Spiegazioni Skills FTEM'!#REF!,'Spiegazioni Skills FTEM'!#REF!)","v":{"$error":"#REF!"}}]
[{"$f":"'Spiegazioni Skills FTEM'!A26","v":"PERSONALITY"},null,null,{"$f":"'Spiegazioni Skills FTEM'!B26","v":"CAPACITÀ"},null,null,{"$f":"'Spiegazioni Skills FTEM'!C26","v":"CRITERIO D'OSSERVAZIONE"},null,null,{"$f":"'Spiegazioni Skills FTEM'!H26","v":0},null,null,null,"Data1",null,"Data2",null,"Data3",null,"Data4",null,"Data5",null,"Player",null,"OBIETTIVO","PROVVEDIMENTI:\n(SPECIFICI, MISURABILI, REALISTICI)",null,null,null,null,null,null,"TERMINE","COTROLLO DELL'OBIETTIVO","Date"]
[{"$f":"'Spiegazioni Skills FTEM'!A27","v":"PERSONALITÀ"},null,null,{"$f":"IF($H$2=\"G\",'Spiegazioni Skills FTEM'!F27,'Spiegazioni Skills FTEM'!B27)","v":"Fiducia in se stesso"},null,null,{"$f":"IF($H$2=\"G\",'Spiegazioni Skills FTEM'!G27,'Spiegazioni Skills FTEM'!C27)","v":"Possiede la necessaria fiducia in se stesso, «I can do it»-attitudine, sa valutare le proprie capacità (conosce i propri punti forti e deboli), può realizzare le proprie qualità con\ncostanza, è coraggioso e sa prendere dei rischi calcolati"},null,null,{"$f":"IF($H$2=\"G\",'Spiegazioni Skills FTEM'!#REF!,'Spiegazioni Skills FTEM'!#REF!)","v":{"$error":"#REF!"}},null,null,null,{"$f":"IFERROR(AVERAGE(O36:O40),\"-\")","v":"-"},null,{"$f":"IFERROR(AVERAGE(Q36:Q40),\"-\")","v":"-"},null,{"$f":"IFERROR(AVERAGE(S36:S40),\"-\")","v":"-"},null,{"$f":"IFERROR(AVERAGE(U36:U40),\"-\")","v":"-"},null,{"$f":"IFERROR(AVERAGE(W36:W40),\"-\")","v":"-"},null,{"$f":"IFERROR(AVERAGE(Y36:Y40),\"-\")","v":"-"}]
[{"$f":"'Spiegazioni Skills FTEM'!A28:A28","v":0},null,null,{"$f":"IF($H$2=\"G\",'Spiegazioni Skills FTEM'!F28,'Spiegazioni Skills FTEM'!B28)","v":"Capacità d'apprendimento"},null,null,{"$f":"IF($H$2=\"G\",'Spiegazioni Skills FTEM'!G28,'Spiegazioni Skills FTEM'!C28)","v":"Ha una buona capacità d'apprendimento (sa recepire e realizzare), possiede una personalità, cerca di imparare dai propri errori derivandone delle misure"},null,null,{"$f":"IF($H$2=\"G\",'Spiegazioni Skills FTEM'!#REF!,'Spiegazioni Skills FTEM'!#REF!)","v":{"$error":"#REF!"}}]
[null,null,null,{"$f":"IF($H$2=\"G\",'Spiegazioni Skills FTEM'!F29,'Spiegazioni Skills FTEM'!B29)","v":"Senso di responsabilità"},null,null,{"$f":"IF($H$2=\"G\",'Spiegazioni Skills FTEM'!G29,'Spiegazioni Skills FTEM'!C29)","v":"Assume responsabiltà per le proprie prestazioni e sviluppo, agisce autonomamente, cura i dettagli, mostra un grande impegno in tutti i settori"},null,null,{"$f":"IF($H$2=\"G\",'Spiegazioni Skills FTEM'!#REF!,'Spiegazioni Skills FTEM'!#REF!)","v":{"$error":"#REF!"}}]
[{"$f":"'Spiegazioni Skills FTEM'!A30:A30","v":0},null,null,{"$f":"IF($H$2=\"G\",'Spiegazioni Skills FTEM'!F30,'Spiegazioni Skills FTEM'!B30)","v":"Motivazione"},null,null,{"$f":"IF($H$2=\"G\",'Spiegazioni Skills FTEM'!G30,'Spiegazioni Skills FTEM'!C30)","v":"È sempre motivato, vuole sempre svilupparsi e imparare, vuol essere il primo e avere successo, non rinuncia mai e non si lascia influenzare dagli insuccessi"},null,null,{"$f":"IF($H$2=\"G\",'Spiegazioni Skills FTEM'!#REF!,'Spiegazioni Skills FTEM'!#REF!)","v":{"$error":"#REF!"}}]
[{"$f":"'Spiegazioni Skills FTEM'!A31:A31","v":0},null,null,{"$f":"IF($H$2=\"G\",'Spiegazioni Skills FTEM'!F31,'Spiegazioni Skills FTEM'!B31)","v":"Prestazione Stile di vita"},null,null,{"$f":"IF($H$2=\"G\",'Spiegazioni Skills FTEM'!G31,'Spiegazioni Skills FTEM'!C31)","v":"Gestisce bene la quotidianità il suo ambiente seguendo i principi della prestazione, caparbio, perseverante e finalizzato sugli obiettivi, focus sulla propria prestazione, coraggioso e grintoso, sa imporsi nei confronti delle resistenze, le sfide lo motivano"},null,null,{"$f":"IF($H$2=\"G\",'Spiegazioni Skills FTEM'!#REF!,'Spiegazioni Skills FTEM'!#REF!)","v":{"$error":"#REF!"}}]
[{"$f":"'Spiegazioni Skills FTEM'!A32","v":"FORZA MENTALE"},null,null,{"$f":"IF($H$2=\"G\",'Spiegazioni Skills FTEM'!F32,'Spiegazioni Skills FTEM'!B32)","v":"Impegno"},null,null,{"$f":"IF($H$2=\"G\",'Spiegazioni Skills FTEM'!G32,'Spiegazioni Skills FTEM'!C32)","v":"Mostra molta intensità negli allenamenti e nelle partite, dà sempre il massimo e vuole sempre spronare i propri limiti, mostra passione, si sforza ad alzare la qualità negli allenamenti"},null,null,{"$f":"IF($H$2=\"G\",'Spiegazioni Skills FTEM'!#REF!,'Spiegazioni Skills FTEM'!#REF!)","v":{"$error":"#REF!"}},null,null,null,{"$f":"IFERROR(AVERAGE(O41:O45),\"-\")","v":"-"},null,{"$f":"IFERROR(AVERAGE(Q41:Q45),\"-\")","v":"-"},null,{"$f":"IFERROR(AVERAGE(S41:S45),\"-\")","v":"-"},null,{"$f":"IFERROR(AVERAGE(U41:U45),\"-\")","v":"-"},null,{"$f":"IFERROR(AVERAGE(W41:W45),\"-\")","v":"-"},null,{"$f":"IFERROR(AVERAGE(Y41:Y45),\"-\")","v":"-"}]
[null,null,null,{"$f":"IF($H$2=\"G\",'Spiegazioni Skills FTEM'!F33,'Spiegazioni Skills FTEM'!B33)","v":"Preparazione"},null,null,{"$f":"IF($H$2=\"G\",'Spiegazioni Skills FTEM'!G33,'Spiegazioni Skills FTEM'!C33)","v":"Preparazione consapevole e finalizzata, mentalmente e fisicamente, possiede un efficiente approccio per l'ottenimento dell'ideale stato di prestazione (ILZ/ISP)"},null,null,{"$f":"IF($H$2=\"G\",'Spiegazioni Skills FTEM'!#REF!,'Spiegazioni Skills FTEM'!#REF!)","v":{"$error":"#REF!"}}]
[{"$f":"'Spiegazioni Skills FTEM'!A34:A34","v":0},null,null,{"$f":"IF($H$2=\"G\",'Spiegazioni Skills FTEM'!F34,'Spiegazioni Skills FTEM'!B34)","v":"Coaching individuale"},null,null,{"$f":"IF($H$2=\"G\",'Spiegazioni Skills FTEM'!G34,'Spiegazioni Skills FTEM'!C34)","v":"Possiede una buona capacità di concentrazione, può mantenere il suo ILZ/ISP durante la partita e l'allenamento, può utilizzare tecniche di base per rafforzare il mentale, resistenti contro pensieri e influenze negative, è consapevole del proprio linguaggio del corpo che è in grado di padroneggiare"},null,null,{"$f":"IF($H$2=\"G\",'Spiegazioni Skills FTEM'!#REF!,'Spiegazioni Skills FTEM'!#REF!)","v":{"$error":"#REF!"}}]
[{"$f":"'Spiegazioni Skills FTEM'!A35:A35","v":0},null,null,{"$f":"IF($H$2=\"G\",'Spiegazioni Skills FTEM'!F35,'Spiegazioni Skills FTEM'!B35)","v":"Gestione delle energie"},null,null,{"$f":"IF($H$2=\"G\",'Spiegazioni Skills FTEM'!G35,'Spiegazioni Skills FTEM'!C35)","v":"Può gestire le proprie energie, cura la rigenerazione, può gestire i momenti in cui si deve andare al massimo oppure risparmiarsi, interruttore on/off"},null,null,{"$f":"IF($H$2=\"G\",'Spiegazioni Skills FTEM'!#REF!,'Spiegazioni Skills FTEM'!#REF!)","v":{"$error":"#REF!"}}]
[{"$f":"'Spiegazioni Skills FTEM'!A36:A36","v":0},null,null,{"$f":"IF($H$2=\"G\",'Spiegazioni Skills FTEM'!F36,'Spiegazioni Skills FTEM'!B36)","v":"Controllo delle emozioni"},null,null,{"$f":"IF($H$2=\"G\",'Spiegazioni Skills FTEM'!G36,'Spiegazioni Skills FTEM'!C36)","v":"Può regolare le proprie emozioni e impulsi, mantiene il controllo quando si trova sotto pressione, sa anche agire adeguatamente in situazioni emotive o frustranti"},null,null,{"$f":"IF($H$2=\"G\",'Spiegazioni Skills FTEM'!#REF!,'Spiegazioni Skills FTEM'!#REF!)","v":{"$error":"#REF!"}}]
[{"$f":"'Spiegazioni Skills FTEM'!A37","v":"FISICO"},null,null,{"$f":"IF($H$2=\"G\",'Spiegazioni Skills FTEM'!F37,'Spiegazioni Skills FTEM'!B37)","v":"Produzione di prestazione"},null,null,{"$f":"IF($H$2=\"G\",'Spiegazioni Skills FTEM'!G37,'Spiegazioni Skills FTEM'!C37)","v":"Possiede nelle gambe e nella parte alta del corpo la necessaria potenza/forza/velocità (fattori neuromuscolari)"},null,null,{"$f":"IF($H$2=\"G\",'Spiegazioni Skills FTEM'!#REF!,'Spiegazioni Skills FTEM'!#REF!)","v":{"$error":"#REF!"}},null,null,null,{"$f":"IFERROR(AVERAGE(O46:O50),\"-\")","v":"-"},null,{"$f":"IFERROR(AVERAGE(Q46:Q50),\"-\")","v":"-"},null,{"$f":"IFERROR(AVERAGE(S46:S50),\"-\")","v":"-"},null,{"$f":"IFERROR(AVERAGE(U46:U50),\"-\")","v":"-"},null,{"$f":"IFERROR(AVERAGE(W46:W50),\"-\")","v":"-"},null,{"$f":"IFERROR(AVERAGE(Y46:Y50),\"-\")","v":"-"}]
[null,null,null,{"$f":"IF($H$2=\"G\",'Spiegazioni Skills FTEM'!F38,'Spiegazioni Skills FTEM'!B38)","v":"Resistenza specifica alla fatica"},null,null,{"$f":"IF($H$2=\"G\",'Spiegazioni Skills FTEM'!G38,'Spiegazioni Skills FTEM'!C38)","v":"È capace di mantenere a lungo nell'ambito di un impiego la potenza/forza/velocità ed è capace di recuperare completamente attraverso i vari impieghi sul ghiaccio (fattori metabolici e cardiovascolari)"},null,null,{"$f":"IF($H$2=\"G\",'Spiegazioni Skills FTEM'!#REF!,'Spiegazioni Skills FTEM'!#REF!)","v":{"$error":"#REF!"}}]
[{"$f":"'Spiegazioni Skills FTEM'!A39:A39","v":0},null,null,{"$f":"IF($H$2=\"G\",'Spiegazioni Skills FTEM'!F39,'Spiegazioni Skills FTEM'!B39)","v":"Salute / prevenzione"},null,null,{"$f":"IF($H$2=\"G\",'Spiegazioni Skills FTEM'!G39,'Spiegazioni Skills FTEM'!C39)","v":"Possiede la necessaria stabilità (stabilità delle gambe) e mobilità delle articolazioni centrali"},null,null,{"$f":"IF($H$2=\"G\",'Spiegazioni Skills FTEM'!#REF!,'Spiegazioni Skills FTEM'!#REF!)","v":{"$error":"#REF!"}}]
[{"$f":"'Spiegazioni Skills FTEM'!A40:A40","v":0},null,null,{"$f":"IF($H$2=\"G\",'Spiegazioni Skills FTEM'!F40,'Spiegazioni Skills FTEM'!B40)","v":"Competenze della mobilità"},null,null,{"$f":"IF($H$2=\"G\",'Spiegazioni Skills FTEM'!G40,'Spiegazioni Skills FTEM'!C40)","v":"Padroneggia le basilari capacità di movimento che garantiscono in modo determinante le abilità specifiche \"skills\", come pure l'efficacia dei movimenti"},null,null,{"$f":"IF($H$2=\"G\",'Spiegazioni Skills FTEM'!#REF!,'Spiegazioni Skills FTEM'!#REF!)","v":{"$error":"#REF!"}}]
[{"$f":"'Spiegazioni Skills FTEM'!A41:A41","v":0},null,null,{"$f":"IF($H$2=\"G\",'Spiegazioni Skills FTEM'!F41,'Spiegazioni Skills FTEM'!B41)","v":"Robustezza"},null,null,{"$f":"IF($H$2=\"G\",'Spiegazioni Skills FTEM'!G41,'Spiegazioni Skills FTEM'!C41)","v":"Possiede la necessaria forza di base (tensione del corpo) per vincere i duelli e resistere alle cariche"},null,null,{"$f":"IF($H$2=\"G\",'Spiegazioni Skills FTEM'!#REF!,'Spiegazioni Skills FTEM'!#REF!)","v":{"$error":"#REF!"}}]

{"sheet":"20","index":23,"n_rows":50,"n_cols":36,"rows_kept":50,"cut":false,"hidden":false,"merged":[[45,34,49,34],[45,12,49,12],[45,13,49,13],[45,15,49,15],[45,17,49,17],[45,19,49,19],[45,21,49,21],[45,23,49,23],[45,25,49,25],[45,26,49,32],[45,0,49,2],[45,3,45,5],[45,6,45,11],[46,3,46,5],[46,6,46,11],[48,3,48,5],[48,6,48,11],[49,3,49,5],[49,6,49,11],[47,3,47,5],[47,6,47,11],[40,23,44,23],[42,3,42,5],[42,6,42,11],[44,3,44,5],[44,6,44,11],[40,0,44,2],[40,3,40,5],[40,6,40,11],[40,12,44,12],[40,13,44,13],[40,15,44,15],[43,3,43,5],[43,6,43,11],[34,21,34,22],[35,17,39,17],[35,19,39,19],[35,21,39,21],[37,3,37,5],[37,6,37,11],[38,3,38,5],[38,6,38,11],[40,17,44,17],[40,19,44,19],[40,21,44,21],[36,3,36,5],[36,6,36,11],[41,3,41,5],[41,6,41,11],[29,0,33,2],[29,3,29,5],[29,6,29,11],[29,12,33,12],[29,13,33,13],[29,15,33,15],[34,23,34,24],[34,26,34,32],[35,0,39,2],[35,3,35,5],[35,6,35,11],[35,12,39,12],[35,13,39,13],[35,15,39,15],[39,3,39,5],[39,6,39,11],[35,23,39,23],[34,0,34,2],[34,3,34,5],[34,6,34,11],[34,13,34,14],[34,15,34,16],[34,17,34,18],[34,19,34,20],[23,19,28,19],[23,21,28,21],[23,23,28,23],[26,3,26,5],[26,6,26,11],[28,3,28,5],[28,6,28,11],[33,3,33,5],[33,6,33,11],[29,23,33,23],[29,17,33,17],[29,19,33,19],[29,21,33,21],[31,3,31,5],[31,6,31,11],[32,3,32,5],[32,6,32,11],[27,3,27,5],[27,6,27,11],[25,3,25,5],[25,6,25,11],[30,3,30,5],[30,6,30,11],[12,21,16,21],[18,15,22,15],[18,17,22,17],[18,19,22,19],[18,21,22,21],[18,23,22,23],[22,3,22,5],[22,6,22,11],[23,0,28,2],[23,3,23,5],[23,6,23,11],[23,12,28,12],[23,13,28,13],[23,15,28,15],[23,17,28,17],[18,0,22,2],[18,3,18,5],[18,6,18,11],[18,12,22,12],[18,13,22,13],[19,3,19,5],[19,6,19,11],[21,3,21,5],[21,6,21,11],[11,21,11,22],[11,23,11,24],[11,26,11,32],[11,6,11,11],[12,23,16,23],[16,3,16,5],[16,6,16,11],[17,0,17,2],[17,3,17,5],[17,6,17,11],[17,13,17,14],[17,15,17,16],[17,17,17,18],[17,19,17,20],[17,21,17,22],[17,23,17,24],[12,0,16,2],[12,3,12,5],[12,6,12,11],[12,12,16,12],[12,13,16,13],[12,15,16,15],[12,17,16,17],[12,19,16,19],[4,0,4,1],[4,2,4,5],[4,10,4,24],[10,0,10,24],[10,25,10,35],[40,25,44,25],[40,26,44,32],[40,34,44,34],[12,25,16,25],[12,26,16,32],[12,34,16,34],[18,25,22,25],[18,26,22,32],[18,34,22,34],[23,25,28,25],[23,26,28,32],[23,34,28,34],[17,26,17,32],[11,0,11,2],[11,3,11,5],[11,13,11,14],[11,15,11,16],[11,17,11,18],[11,19,11,20],[0,0,0,24],[0,25,0,26],[0,27,0,32],[0,33,0,35],[29,25,33,25],[29,26,33,32],[29,34,33,34],[35,25,39,25],[35,26,39,32],[35,34,39,34],[1,0,1,1],[1,2,1,5],[1,10,1,24],[2,0,2,1],[2,2,2,5],[2,11,2,24],[6,0,6,1],[6,2,6,35],[7,0,7,1],[7,2,7,35],[8,0,8,1],[8,2,8,35],[3,0,3,1],[3,10,3,24],[13,3,13,5],[13,6,13,11],[14,3,14,5],[14,6,14,11],[15,3,15,5],[15,6,15,11],[20,3,20,5],[20,6,20,11],[24,3,24,5],[24,6,24,11]]}
["Personalien",null,null,null,null,null,null,null,null,null,null,null,null,null,null,null,null,null,null,null,null,null,null,null,null,"Predisposizione",null,"Valutazioni",null,null,null,null,null,"Rating"]
["COGNOME",null,{"$f":"IF(ISBLANK(VLOOKUP(20,Tabelle3[],3,0)),\"-\",VLOOKUP(20,Tabelle3[],3,0))","v":"-"},null,null,null,"POSIZIONE",null,null,"INDIRIZZO",{"$f":"IF(ISBLANK(VLOOKUP(20,Tabelle3[],5,0)),\"-\",VLOOKUP(20,Tabelle3[],5,0))","v":"-"},null,null,null,null,null,null,null,null,null,null,null,null,null,null,"Età\" (biologica/età relativa)",null,"Data 1",null,null,"cm",null,"Kg",null,"ECCELLENTE",5]
["NOME",null,{"$f":"IF(ISBLANK(VLOOKUP(20,Tabelle3[],2,0)),\"-\",VLOOKUP(20,Tabelle3[],2,0))","v":"-"},null,null,null,"BASTONE",null,null,"LUOGO",{"$f":"IF(ISBLANK(VLOOKUP(20,Tabelle3[],7,0)),\"-\",VLOOKUP(20,Tabelle3[],7,0))","v":"-"},{"$f":"IF(ISBLANK(VLOOKUP(20,Tabelle3[],6,0)),\"-\",VLOOKUP(20,Tabelle3[],6,0))","v":"-"},null,null,null,null,null,null,null,null,null,null,null,null,null,"Predisposizione",null,"Data 2",null,null,"cm",null,"Kg",null,"BUONO",4]
["DATA DI NASC.",null,{"$f":"IF(ISBLANK(VLOOKUP(20,Tabelle3[],14,0)),\"-\",VLOOKUP(20,Tabelle3[],14,0))","v":"-"},{"$f":"IF(ISBLANK(VLOOKUP(20,Tabelle3[],15,0)),\"-\",VLOOKUP(20,Tabelle3[],15,0))","v":"-"},{"$f":"IF(ISBLANK(VLOOKUP(20,Tabelle3[],16,0)),\"-\",VLOOKUP(20,Tabelle3[],16,0))","v":"-"},null,"ALTEZZA",null,"cm (Finale)","TELEFONO",{"$f":"IF(ISBLANK(VLOOKUP(20,Tabelle3[],8,0)),\"-\",VLOOKUP(20,Tabelle3[],8,0))","v":"-"},null,null,null,null,null,null,null,null,null,null,null,null,null,null,"Ambiente di vita",null,"Data 3",null,null,"cm",null,"Kg",null,"MEDIO/DISCRETO",3]
["SESSO",null,{"$f":"IF(ISBLANK(VLOOKUP(20,Tabelle3[],13,0)),\"-\",VLOOKUP(20,Tabelle3[],13,0))","v":"-"},null,null,null,"PESO",null,"Kg (Finale)","E-Mail",{"$f":"IF(ISBLANK(VLOOKUP(20,Tabelle3[],9,0)),\"-\",VLOOKUP(20,Tabelle3[],9,0))","v":"-"},null,null,null,null,null,null,null,null,null,null,null,null,null,null,null,null,"Data 4",null,null,"cm",null,"Kg",null,"CON LACUNE",2]
[null,null,null,null,null,null,null,null,null,null,null,null,null,null,null,null,null,null,null,null,null,null,null,null,null,null,null,"Data 5",null,null,"cm",null,"Kg",null,"INSUFFICIENTE",1]
["Visione",null,"xxx"]
["Prossimo passo",null,"xxx"]
["Proflio giocatore",null,"xxx"]
[]
["VALUTAZIONI (COACH / GIOCATORE)",null,null,null,null,null,null,null,null,null,null,null,null,null,null,null,null,null,null,null,null,null,null,null,null,"Obiettivi SMART"]
[{"$f":"'Spiegazioni Skills FTEM'!A3","v":"TEAM"},null,null,{"$f":"'Spiegazioni Skills FTEM'!B3","v":"CAPACITÀ"},null,null,{"$f":"'Spiegazioni Skills FTEM'!C3","v":"CRITERIO D'OSSERVAZIONE"},null,null,{"$f":"'Spiegazioni Skills FTEM'!H3","v":0},null,null,"Final","Data1",null,"Data2",null,"Data3",null,"Data4",null,"Data5",null,"Player",null,"OBIETTIVO","PROVVEDIMENTI:\n(SPECIFICI, MISURABILI, REALISTICI)",null,null,null,null,null,null,"TERMINE","COTROLLO DELL'OBIETTIVO","Data"]
[{"$f":"'Spiegazioni Skills FTEM'!A4","v":"SQUADRA"},null,null,{"$f":"IF($H$2=\"G\",'Spiegazioni Skills FTEM'!F4,'Spiegazioni Skills FTEM'!B4)","v":"Comunicazione"},null,null,{"$f":"IF($H$2=\"G\",'Spiegazioni Skills FTEM'!G4,'Spiegazioni Skills FTEM'!C4)","v":"Cura relazioni aperte e rispettose, fiducia quale base comportamentale, affronta i conflitti senza ledere la stabilità del gruppo, comunica con i compagni, gli allenatori e\nfunzionari con i medesimi valori"},null,null,{"$f":"IF($H$2=\"G\",'Spiegazioni Skills FTEM'!#REF!,'Spiegazioni Skills FTEM'!#REF!)","v":{"$error":"#REF!"}},null,null,null,{"$f":"IFERROR(AVERAGE(O13:O17),\"-\")","v":"-"},null,{"$f":"IFERROR(AVERAGE(Q13:Q17),\"-\")","v":"-"},null,{"$f":"IFERROR(AVERAGE(S13:S17),\"-\")","v":"-"},null,{"$f":"IFERROR(AVERAGE(U13:U17),\"-\")","v":"-"},null,{"$f":"IFERROR(AVERAGE(W13:W17),\"-\")","v":"-"},null,{"$f":"IFERROR(AVERAGE(Y13:Y17),\"-\")","v":"-"}]
[{"$f":"'Spiegazioni Skills FTEM'!A5","v":0},null,null,{"$f":"IF($H$2=\"G\",'Spiegazioni Skills FTEM'!F5,'Spiegazioni Skills FTEM'!B5)","v":"Capacità nella squadra"},null,null,{"$f":"IF($H$2=\"G\",'Spiegazioni Skills FTEM'!G5,'Spiegazioni Skills FTEM'!C5)","v":"Integrazione nel gruppo, definisce e realizza obiettivi comuni, NOI prima dell'IO, contribuisce a creare un buon spirito di squadra e clima di lavoro"},null,null,{"$f":"IF($H$2=\"G\",'Spiegazioni Skills FTEM'!#REF!,'Spiegazioni Skills FTEM'!#REF!)","v":{"$error":"#REF!"}}]
[{"$f":"'Spiegazioni Skills FTEM'!A6","v":0},null,null,{"$f":"IF($H$2=\"G\",'Spiegazioni Skills FTEM'!F6,'Spiegazioni Skills FTEM'!B6)","v":"Leadership"},null,null,{"$f":"IF($H$2=\"G\",'Spiegazioni Skills FTEM'!G6,'Spiegazioni Skills FTEM'!C6)","v":"Assume responsabilità nell'ambito del gruppo, cerca di migliorare la squadra e i compagni, influenza positivamente la dinamica di gruppo"},null,null,{"$f":"IF($H$2=\"G\",'Spiegazioni Skills FTEM'!#REF!,'Spiegazioni Skills FTEM'!#REF!)","v":{"$error":"#REF!"}}]
[{"$f":"'Spiegazioni Skills FTEM'!A7","v":0},null,null,{"$f":"IF($H$2=\"G\",'Spiegazioni Skills FTEM'!F7,'Spiegazioni Skills FTEM'!B7)","v":"Ripartizione dei ruoli"},null,null,{"$f":"IF($H$2=\"G\",'Spiegazioni Skills FTEM'!G7,'Spiegazioni Skills FTEM'!C7)","v":"Riconosce e adempie il suo ruolo, è cosciente della sua posizione nel sistema e nella squadra, mette a disposizione della squadra le sue competenze"},null,null,{"$f":"IF($H$2=\"G\",'Spiegazioni Skills FTEM'!#REF!,'Spiegazioni Skills FTEM'!#REF!)","v":{"$error":"#REF!"}}]
[{"$f":"'Spiegazioni Skills FTEM'!A8","v":0},null,null,{"$f":"IF($H$2=\"G\",'Spiegazioni Skills FTEM'!F8,'Spiegazioni Skills FTEM'!B8)","v":"Rispetto"},null,null,{"$f":"IF($H$2=\"G\",'Spiegazioni Skills FTEM'!G8,'Spiegazioni Skills FTEM'!C8)","v":"Relazioni rispettose con i compagni, allenatori, avversari, arbitri e staff; rispetta le regole i pricipi del fairplay (compreso la lotta al doping)"},null,null,{"$f":"IF($H$2=\"G\",'Spiegazioni Skills FTEM'!#REF!,'Spiegazioni Skills FTEM'!#REF!)","v":{"$error":"#REF!"}}]
[{"$f":"'Spiegazioni Skills FTEM'!A9","v":"ON ICE"},null,null,{"$f":"'Spiegazioni Skills FTEM'!B9","v":"CAPACITÀ"},null,null,{"$f":"'Spiegazioni Skills FTEM'!C9","v":"CRITERIO D'OSSERVAZIONE"},null,null,{"$f":"'Spiegazioni Skills FTEM'!H9","v":0},null,null,null,"Data1",null,"Data2",null,"Data3",null,"Data4",null,"Data5",null,"Player",null,"OBIETTIVO","PROVVEDIMENTI:\n(SPECIFICI, MISURABILI, REALISTICI)",null,null,null,null,null,null,"TERMINE","COTROLLO DELL'OBIETTIVO","Date"]
[{"$f":"'Spiegazioni Skills FTEM'!A10","v":"PATTINAGGIO"},null,null,{"$f":"IF($H$2=\"G\",'Spiegazioni Skills FTEM'!F10,'Spiegazioni Skills FTEM'!B10)","v":"Velocità dei piedi"},null,null,{"$f":"IF($H$2=\"G\",'Spiegazioni Skills FTEM'!G10,'Spiegazioni Skills FTEM'!C10)","v":"Accelerazione, partenza, esplosività dei primi 3 passi, frequenza"},null,null,{"$f":"IF($H$2=\"G\",'Spiegazioni Skills FTEM'!#REF!,'Spiegazioni Skills FTEM'!#REF!)","v":{"$error":"#REF!"}},null,null,null,{"$f":"IFERROR(AVERAGE(O19:O23),\"-\")","v":"-"},null,{"$f":"IFERROR(AVERAGE(Q19:Q23),\"-\")","v":"-"},null,{"$f":"IFERROR(AVERAGE(S19:S23),\"-\")","v":"-"},null,{"$f":"IFERROR(AVERAGE(U19:U23),\"-\")","v":"-"},null,{"$f":"IFERROR(AVERAGE(W19:W23),\"-\")","v":"-"},null,{"$f":"IFERROR(AVERAGE(Y19:Y23),\"-\")","v":"-"}]
[{"$f":"'Spiegazioni Skills FTEM'!A11:A11","v":0},null,null,{"$f":"IF($H$2=\"G\",'Spiegazioni Skills FTEM'!F11,'Spiegazioni Skills FTEM'!B11)","v":"Velocità/rapidità"},null,null,{"$f":"IF($H$2=\"G\",'Spiegazioni Skills FTEM'!G11,'Spiegazioni Skills FTEM'!C11)","v":"Velocità, facoltà di scivolare, avanti / indietro, economia dello sforzo"},null,null,{"$f":"IF($H$2=\"G\",'Spiegazioni Skills FTEM'!#REF!,'Spiegazioni Skills FTEM'!#REF!)","v":{"$error":"#REF!"}}]
[null,null,null,{"$f":"IF($H$2=\"G\",'Spiegazioni Skills FTEM'!F12,'Spiegazioni Skills FTEM'!B12)","v":"Agilità"},null,null,{"$f":"IF($H$2=\"G\",'Spiegazioni Skills FTEM'!G12,'Spiegazioni Skills FTEM'!C12)","v":"Cambiamento di direzione, girarsi, stop e ripartenza, \"Nummelin\""},null,null,{"$f":"IF($H$2=\"G\",'Spiegazioni Skills FTEM'!#REF!,'Spiegazioni Skills FTEM'!#REF!)","v":{"$error":"#REF!"}}]
[{"$f":"'Spiegazioni Skills FTEM'!A12:A12","v":0},null,null,{"$f":"IF($H$2=\"G\",'Spiegazioni Skills FTEM'!F13,'Spiegazioni Skills FTEM'!B13)","v":"Equilibrio"},null,null,{"$f":"IF($H$2=\"G\",'Spiegazioni Skills FTEM'!G13,'Spiegazioni Skills FTEM'!C13)","v":"Equilibrio, stabilità, posizione bassa, su una gamba, su entrambe"},null,null,{"$f":"IF($H$2=\"G\",'Spiegazioni Skills FTEM'!#REF!,'Spiegazioni Skills FTEM'!#REF!)","v":{"$error":"#REF!"}},null,null,null,{"$f":"IFERROR(AVERAGE(O22:O23),\"-\")","v":"-"},null,{"$f":"IFERROR(AVERAGE(Q22:Q23),\"-\")","v":"-"},null,{"$f":"IFERROR(AVERAGE(S22:S23),\"-\")","v":"-"},null,{"$f":"IFERROR(AVERAGE(U22:U23),\"-\")","v":"-"},null,{"$f":"IFERROR(AVERAGE(W22:W23),\"-\")","v":"-"},null,"-"]
[{"$f":"'Spiegazioni Skills FTEM'!A14:A14","v":0},null,null,{"$f":"IF($H$2=\"G\",'Spiegazioni Skills FTEM'!F14,'Spiegazioni Skills FTEM'!B14)","v":"Pattinaggio indietro"},null,null,{"$f":"IF($H$2=\"G\",'Spiegazioni Skills FTEM'!G14,'Spiegazioni Skills FTEM'!C14)","v":"Accelerazione, velocità, equilibrio"},null,null,{"$f":"IF($H$2=\"G\",'Spiegazioni Skills FTEM'!#REF!,'Spiegazioni Skills FTEM'!#REF!)","v":{"$error":"#REF!"}}]
[{"$f":"'Spiegazioni Skills FTEM'!A15","v":"ABILITÀ"},null,null,{"$f":"IF($H$2=\"G\",'Spiegazioni Skills FTEM'!F15,'Spiegazioni Skills FTEM'!B15)","v":"Tirare"},null,null,{"$f":"IF($H$2=\"G\",'Spiegazioni Skills FTEM'!G15,'Spiegazioni Skills FTEM'!C15)","v":"Efficienza (poco spazio, poco tempo), ricchezza di varianti, grado di sorpresa (Quick Release), precisione, potenza (conclusioni tattiche)"},null,null,{"$f":"IF($H$2=\"G\",'Spiegazioni Skills FTEM'!#REF!,'Spiegazioni Skills FTEM'!#REF!)","v":{"$error":"#REF!"}},null,null,null,{"$f":"IFERROR(AVERAGE(O24:O29),\"-\")","v":"-"},null,{"$f":"IFERROR(AVERAGE(Q24:Q29),\"-\")","v":"-"},null,{"$f":"IFERROR(AVERAGE(S24:S29),\"-\")","v":"-"},null,{"$f":"IFERROR(AVERAGE(U24:U29),\"-\")","v":"-"},null,{"$f":"IFERROR(AVERAGE(W24:W29),\"-\")","v":"-"},null,{"$f":"IFERROR(AVERAGE(Y24:Y29),\"-\")","v":"-"}]
[null,null,null,{"$f":"IF($H$2=\"G\",'Spiegazioni Skills FTEM'!F16,'Spiegazioni Skills FTEM'!B16)","v":"Passare"},null,null,{"$f":"IF($H$2=\"G\",'Spiegazioni Skills FTEM'!G16,'Spiegazioni Skills FTEM'!C16)","v":"Passaggio (distanza, flipp, rovescio), ricezione del passaggio (precisione, timing, diritto, rovescio, sul pattino), velocità del disco"},null,null,{"$f":"IF($H$2=\"G\",'Spiegazioni Skills FTEM'!#REF!,'Spiegazioni Skills FTEM'!#REF!)","v":{"$error":"#REF!"}}]
[null,null,null,{"$f":"IF($H$2=\"G\",'Spiegazioni Skills FTEM'!F17,'Spiegazioni Skills FTEM'!B17)","v":"Lavoro col bastone - condotta del disco"},null,null,{"$f":"IF($H$2=\"G\",'Spiegazioni Skills FTEM'!G17,'Spiegazioni Skills FTEM'!C17)","v":"Bastone sul disco, intercettare le linee di passaggio, deviare, controllo del bastone avversario"},null,null,{"$f":"IF($H$2=\"G\",'Spiegazioni Skills FTEM'!#REF!,'Spiegazioni Skills FTEM'!#REF!)","v":{"$error":"#REF!"}}]
[{"$f":"'Spiegazioni Skills FTEM'!A16:A16","v":0},null,null,{"$f":"IF($H$2=\"G\",'Spiegazioni Skills FTEM'!F18,'Spiegazioni Skills FTEM'!B18)","v":"Possedere/proteggere il disco"},null,null,{"$f":"IF($H$2=\"G\",'Spiegazioni Skills FTEM'!G18,'Spiegazioni Skills FTEM'!C18)","v":"Controllo del disco, dribbling, protezione del disco, finte (varianti col pattino, con o senza la balaustra), ingaggi (face-off)"},null,null,{"$f":"IF($H$2=\"G\",'Spiegazioni Skills FTEM'!#REF!,'Spiegazioni Skills FTEM'!#REF!)","v":{"$error":"#REF!"}}]
[{"$f":"'Spiegazioni Skills FTEM'!A17:A17","v":0},null,null,{"$f":"IF($H$2=\"G\",'Spiegazioni Skills FTEM'!F19,'Spiegazioni Skills FTEM'!B19)","v":"Gioco del corpo"},null,null,{"$f":"IF($H$2=\"G\",'Spiegazioni Skills FTEM'!G19,'Spiegazioni Skills FTEM'!C19)","v":"Facoltà di imporsi fisicamente, duelli (ghiaccio aperto, balaustra), subire dei checks/testa alta, livello di lotta, duro ma corretto, blocco dei tiri con il corpo"},null,null,{"$f":"IF($H$2=\"G\",'Spiegazioni Skills FTEM'!#REF!,'Spiegazioni Skills FTEM'!#REF!)","v":{"$error":"#REF!"}}]
[{"$f":"'Spiegazioni Skills FTEM'!A20:A20","v":0},null,null,{"$f":"IF($H$2=\"G\",'Spiegazioni Skills FTEM'!F20,'Spiegazioni Skills FTEM'!B20)","v":"-"},null,null,{"$f":"IF($H$2=\"G\",'Spiegazioni Skills FTEM'!G20,'Spiegazioni Skills FTEM'!C20)","v":"-"},null,null,{"$f":"IF($H$2=\"G\",'Spiegazioni Skills FTEM'!#REF!,'Spiegazioni Skills FTEM'!#REF!)","v":{"$error":"#REF!"}}]
[{"$f":"'Spiegazioni Skills FTEM'!A21","v":"SENSO DELL'HOCKEY"},null,null,{"$f":"IF($H$2=\"G\",'Spiegazioni Skills FTEM'!F21,'Spiegazioni Skills FTEM'!B21)","v":"Intelligenza nel gioco"},null,null,{"$f":"IF($H$2=\"G\",'Spiegazioni Skills FTEM'!G21,'Spiegazioni Skills FTEM'!C21)","v":"Vedere spazi e giocatori liberi, creare situazioni di superiorità numerica, agire cercando soluzioni in tutte le situazioni, velocità di visualizzazione"},null,null,{"$f":"IF($H$2=\"G\",'Spiegazioni Skills FTEM'!#REF!,'Spiegazioni Skills FTEM'!#REF!)","v":{"$error":"#REF!"}},null,null,null,{"$f":"IFERROR(AVERAGE(O30:O34),\"-\")","v":"-"},null,{"$f":"IFERROR(AVERAGE(Q30:Q34),\"-\")","v":"-"},null,{"$f":"IFERROR(AVERAGE(S30:S34),\"-\")","v":"-"},null,{"$f":"IFERROR(AVERAGE(U30:U34),\"-\")","v":"-"},null,{"$f":"IFERROR(AVERAGE(W30:W34),\"-\")","v":"-"},null,{"$f":"IFERROR(AVERAGE(Y30:Y34),\"-\")","v":"-"}]
[{"$f":"'Spiegazioni Skills FTEM'!A22:A22","v":0},null,null,{"$f":"IF($H$2=\"G\",'Spiegazioni Skills FTEM'!F22,'Spiegazioni Skills FTEM'!B22)","v":"Sensibilità offensiva"},null,null,{"$f":"IF($H$2=\"G\",'Spiegazioni Skills FTEM'!G22,'Spiegazioni Skills FTEM'!C22)","v":"Smarcarsi, anticipare le situazioni di gioco, aprire spazi liberi per i compagni, piazzarsi per le conclusioni, velocità nel chiudere gli spazi (pressione), comunicazione"},null,null,{"$f":"IF($H$2=\"G\",'Spiegazioni Skills FTEM'!#REF!,'Spiegazioni Skills FTEM'!#REF!)","v":{"$error":"#REF!"}}]
[null,null,null,{"$f":"IF($H$2=\"G\",'Spiegazioni Skills FTEM'!F23,'Spiegazioni Skills FTEM'!B23)","v":"Sensibilità difensiva"},null,null,{"$f":"IF($H$2=\"G\",'Spiegazioni Skills FTEM'!G23,'Spiegazioni Skills FTEM'!C23)","v":"Mantenere la posizione difensiva, protezione dello slot, assicurare i compagni / supporto, individuare le linee di passaggio, bloccare i tiri, ridurre velocemente gli spazi, comunicazione"},null,null,{"$f":"IF($H$2=\"G\",'Spiegazioni Skills FTEM'!#REF!,'Spiegazioni Skills FTEM'!#REF!)","v":{"$error":"#REF!"}}]
[{"$f":"'Spiegazioni Skills FTEM'!A24:A24","v":0},null,null,{"$f":"IF($H$2=\"G\",'Spiegazioni Skills FTEM'!F24,'Spiegazioni Skills FTEM'!B24)","v":"Gestione del disco"},null,null,{"$f":"IF($H$2=\"G\",'Spiegazioni Skills FTEM'!G24,'Spiegazioni Skills FTEM'!C24)","v":"Prendere decisioni adeguate nelle situazioni di gioco, supporto, creare superiorità numerica"},null,null,{"$f":"IF($H$2=\"G\",'Spiegazioni Skills FTEM'!#REF!,'Spiegazioni Skills FTEM'!#REF!)","v":{"$error":"#REF!"}}]
[{"$f":"'Spiegazioni Skills FTEM'!A25:A25","v":0},null,null,{"$f":"IF($H$2=\"G\",'Spiegazioni Skills FTEM'!F25,'Spiegazioni Skills FTEM'!B25)","v":"Creatività"},null,null,{"$f":"IF($H$2=\"G\",'Spiegazioni Skills FTEM'!G25,'Spiegazioni Skills FTEM'!C25)","v":"Creare situazioni a sorpresa, fiuto del gol"},null,null,{"$f":"IF($H$2=\"G\",'Spiegazioni Skills FTEM'!#REF!,'Spiegazioni Skills FTEM'!#REF!)","v":{"$error":"#REF!"}}]
[{"$f":"'Spiegazioni Skills FTEM'!A26","v":"PERSONALITY"},null,null,{"$f":"'Spiegazioni Skills FTEM'!B26","v":"CAPACITÀ"},null,null,{"$f":"'Spiegazioni Skills FTEM'!C26","v":"CRITERIO D'OSSERVAZIONE"},null,null,{"$f":"'Spiegazioni Skills FTEM'!H26","v":0},null,null,null,"Data1",null,"Data2",null,"Data3",null,"Data4",null,"Data5",null,"Player",null,"OBIETTIVO","PROVVEDIMENTI:\n(SPECIFICI, MISURABILI, REALISTICI)",null,null,null,null,null,null,"TERMINE","COTROLLO DELL'OBIETTIVO","Date"]
[{"$f":"'Spiegazioni Skills FTEM'!A27","v":"PERSONALITÀ"},null,null,{"$f":"IF($H$2=\"G\",'Spiegazioni Skills FTEM'!F27,'Spiegazioni Skills FTEM'!B27)","v":"Fiducia in se stesso"},null,null,{"$f":"IF($H$2=\"G\",'Spiegazioni Skills FTEM'!G27,'Spiegazioni Skills FTEM'!C27)","v":"Possiede la necessaria fiducia in se stesso, «I can do it»-attitudine, sa valutare le proprie capacità (conosce i propri punti forti e deboli), può realizzare le proprie qualità con\ncostanza, è coraggioso e sa prendere dei rischi calcolati"},null,null,{"$f":"IF($H$2=\"G\",'Spiegazioni Skills FTEM'!#REF!,'Spiegazioni Skills FTEM'!#REF!)","v":{"$error":"#REF!"}},null,null,null,{"$f":"IFERROR(AVERAGE(O36:O40),\"-\")","v":"-"},null,{"$f":"IFERROR(AVERAGE(Q36:Q40),\"-\")","v":"-"},null,{"$f":"IFERROR(AVERAGE(S36:S40),\"-\")","v":"-"},null,{"$f":"IFERROR(AVERAGE(U36:U40),\"-\")","v":"-"},null,{"$f":"IFERROR(AVERAGE(W36:W40),\"-\")","v":"-"},null,{"$f":"IFERROR(AVERAGE(Y36:Y40),\"-\")","v":"-"}]
[{"$f":"'Spiegazioni Skills FTEM'!A28:A28","v":0},null,null,{"$f":"IF($H$2=\"G\",'Spiegazioni Skills FTEM'!F28,'Spiegazioni Skills FTEM'!B28)","v":"Capacità d'apprendimento"},null,null,{"$f":"IF($H$2=\"G\",'Spiegazioni Skills FTEM'!G28,'Spiegazioni Skills FTEM'!C28)","v":"Ha una buona capacità d'apprendimento (sa recepire e realizzare), possiede una personalità, cerca di imparare dai propri errori derivandone delle misure"},null,null,{"$f":"IF($H$2=\"G\",'Spiegazioni Skills FTEM'!#REF!,'Spiegazioni Skills FTEM'!#REF!)","v":{"$error":"#REF!"}}]
[null,null,null,{"$f":"IF($H$2=\"G\",'Spiegazioni Skills FTEM'!F29,'Spiegazioni Skills FTEM'!B29)","v":"Senso di responsabilità"},null,null,{"$f":"IF($H$2=\"G\",'Spiegazioni Skills FTEM'!G29,'Spiegazioni Skills FTEM'!C29)","v":"Assume responsabiltà per le proprie prestazioni e sviluppo, agisce autonomamente, cura i dettagli, mostra un grande impegno in tutti i settori"},null,null,{"$f":"IF($H$2=\"G\",'Spiegazioni Skills FTEM'!#REF!,'Spiegazioni Skills FTEM'!#REF!)","v":{"$error":"#REF!"}}]
[{"$f":"'Spiegazioni Skills FTEM'!A30:A30","v":0},null,null,{"$f":"IF($H$2=\"G\",'Spiegazioni Skills FTEM'!F30,'Spiegazioni Skills FTEM'!B30)","v":"Motivazione"},null,null,{"$f":"IF($H$2=\"G\",'Spiegazioni Skills FTEM'!G30,'Spiegazioni Skills FTEM'!C30)","v":"È sempre motivato, vuole sempre svilupparsi e imparare, vuol essere il primo e avere successo, non rinuncia mai e non si lascia influenzare dagli insuccessi"},null,null,{"$f":"IF($H$2=\"G\",'Spiegazioni Skills FTEM'!#REF!,'Spiegazioni Skills FTEM'!#REF!)","v":{"$error":"#REF!"}}]
[{"$f":"'Spiegazioni Skills FTEM'!A31:A31","v":0},null,null,{"$f":"IF($H$2=\"G\",'Spiegazioni Skills FTEM'!F31,'Spiegazioni Skills FTEM'!B31)","v":"Prestazione Stile di vita"},null,null,{"$f":"IF($H$2=\"G\",'Spiegazioni Skills FTEM'!G31,'Spiegazioni Skills FTEM'!C31)","v":"Gestisce bene la quotidianità il suo ambiente seguendo i principi della prestazione, caparbio, perseverante e finalizzato sugli obiettivi, focus sulla propria prestazione, coraggioso e grintoso, sa imporsi nei confronti delle resistenze, le sfide lo motivano"},null,null,{"$f":"IF($H$2=\"G\",'Spiegazioni Skills FTEM'!#REF!,'Spiegazioni Skills FTEM'!#REF!)","v":{"$error":"#REF!"}}]
[{"$f":"'Spiegazioni Skills FTEM'!A32","v":"FORZA MENTALE"},null,null,{"$f":"IF($H$2=\"G\",'Spiegazioni Skills FTEM'!F32,'Spiegazioni Skills FTEM'!B32)","v":"Impegno"},null,null,{"$f":"IF($H$2=\"G\",'Spiegazioni Skills FTEM'!G32,'Spiegazioni Skills FTEM'!C32)","v":"Mostra molta intensità negli allenamenti e nelle partite, dà sempre il massimo e vuole sempre spronare i propri limiti, mostra passione, si sforza ad alzare la qualità negli allenamenti"},null,null,{"$f":"IF($H$2=\"G\",'Spiegazioni Skills FTEM'!#REF!,'Spiegazioni Skills FTEM'!#REF!)","v":{"$error":"#REF!"}},null,null,null,{"$f":"IFERROR(AVERAGE(O41:O45),\"-\")","v":"-"},null,{"$f":"IFERROR(AVERAGE(Q41:Q45),\"-\")","v":"-"},null,{"$f":"IFERROR(AVERAGE(S41:S45),\"-\")","v":"-"},null,{"$f":"IFERROR(AVERAGE(U41:U45),\"-\")","v":"-"},null,{"$f":"IFERROR(AVERAGE(W41:W45),\"-\")","v":"-"},null,{"$f":"IFERROR(AVERAGE(Y41:Y45),\"-\")","v":"-"}]
[null,null,null,{"$f":"IF($H$2=\"G\",'Spiegazioni Skills FTEM'!F33,'Spiegazioni Skills FTEM'!B33)","v":"Preparazione"},null,null,{"$f":"IF($H$2=\"G\",'Spiegazioni Skills FTEM'!G33,'Spiegazioni Skills FTEM'!C33)","v":"Preparazione consapevole e finalizzata, mentalmente e fisicamente, possiede un efficiente approccio per l'ottenimento dell'ideale stato di prestazione (ILZ/ISP)"},null,null,{"$f":"IF($H$2=\"G\",'Spiegazioni Skills FTEM'!#REF!,'Spiegazioni Skills FTEM'!#REF!)","v":{"$error":"#REF!"}}]
[{"$f":"'Spiegazioni Skills FTEM'!A34:A34","v":0},null,null,{"$f":"IF($H$2=\"G\",'Spiegazioni Skills FTEM'!F34,'Spiegazioni Skills FTEM'!B34)","v":"Coaching individuale"},null,null,{"$f":"IF($H$2=\"G\",'Spiegazioni Skills FTEM'!G34,'Spiegazioni Skills FTEM'!C34)","v":"Possiede una buona capacità di concentrazione, può mantenere il suo ILZ/ISP durante la partita e l'allenamento, può utilizzare tecniche di base per rafforzare il mentale, resistenti contro pensieri e influenze negative, è consapevole del proprio linguaggio del corpo che è in grado di padroneggiare"},null,null,{"$f":"IF($H$2=\"G\",'Spiegazioni Skills FTEM'!#REF!,'Spiegazioni Skills FTEM'!#REF!)","v":{"$error":"#REF!"}}]
[{"$f":"'Spiegazioni Skills FTEM'!A35:A35","v":0},null,null,{"$f":"IF($H$2=\"G\",'Spiegazioni Skills FTEM'!F35,'Spiegazioni Skills FTEM'!B35)","v":"Gestione delle energie"},null,null,{"$f":"IF($H$2=\"G\",'Spiegazioni Skills FTEM'!G35,'Spiegazioni Skills FTEM'!C35)","v":"Può gestire le proprie energie, cura la rigenerazione, può gestire i momenti in cui si deve andare al massimo oppure risparmiarsi, interruttore on/off"},null,null,{"$f":"IF($H$2=\"G\",'Spiegazioni Skills FTEM'!#REF!,'Spiegazioni Skills FTEM'!#REF!)","v":{"$error":"#REF!"}}]
[{"$f":"'Spiegazioni Skills FTEM'!A36:A36","v":0},null,null,{"$f":"IF($H$2=\"G\",'Spiegazioni Skills FTEM'!F36,'Spiegazioni Skills FTEM'!B36)","v":"Controllo delle emozioni"},null,null,{"$f":"IF($H$2=\"G\",'Spiegazioni Skills FTEM'!G36,'Spiegazioni Skills FTEM'!C36)","v":"Può regolare le proprie emozioni e impulsi, mantiene il controllo quando si trova sotto pressione, sa anche agire adeguatamente in situazioni emotive o frustranti"},null,null,{"$f":"IF($H$2=\"G\",'Spiegazioni Skills FTEM'!#REF!,'Spiegazioni Skills FTEM'!#REF!)","v":{"$error":"#REF!"}}]
[{"$f":"'Spiegazioni Skills FTEM'!A37","v":"FISICO"},null,null,{"$f":"IF($H$2=\"G\",'Spiegazioni Skills FTEM'!F37,'Spiegazioni Skills FTEM'!B37)","v":"Produzione di prestazione"},null,null,{"$f":"IF($H$2=\"G\",'Spiegazioni Skills FTEM'!G37,'Spiegazioni Skills FTEM'!C37)","v":"Possiede nelle gambe e nella parte alta del corpo la necessaria potenza/forza/velocità (fattori neuromuscolari)"},null,null,{"$f":"IF($H$2=\"G\",'Spiegazioni Skills FTEM'!#REF!,'Spiegazioni Skills FTEM'!#REF!)","v":{"$error":"#REF!"}},null,null,null,{"$f":"IFERROR(AVERAGE(O46:O50),\"-\")","v":"-"},null,{"$f":"IFERROR(AVERAGE(Q46:Q50),\"-\")","v":"-"},null,{"$f":"IFERROR(AVERAGE(S46:S50),\"-\")","v":"-"},null,{"$f":"IFERROR(AVERAGE(U46:U50),\"-\")","v":"-"},null,{"$f":"IFERROR(AVERAGE(W46:W50),\"-\")","v":"-"},null,{"$f":"IFERROR(AVERAGE(Y46:Y50),\"-\")","v":"-"}]
[null,null,null,{"$f":"IF($H$2=\"G\",'Spiegazioni Skills FTEM'!F38,'Spiegazioni Skills FTEM'!B38)","v":"Resistenza specifica alla fatica"},null,null,{"$f":"IF($H$2=\"G\",'Spiegazioni Skills FTEM'!G38,'Spiegazioni Skills FTEM'!C38)","v":"È capace di mantenere a lungo nell'ambito di un impiego la potenza/forza/velocità ed è capace di recuperare completamente attraverso i vari impieghi sul ghiaccio (fattori metabolici e cardiovascolari)"},null,null,{"$f":"IF($H$2=\"G\",'Spiegazioni Skills FTEM'!#REF!,'Spiegazioni Skills FTEM'!#REF!)","v":{"$error":"#REF!"}}]
[{"$f":"'Spiegazioni Skills FTEM'!A39:A39","v":0},null,null,{"$f":"IF($H$2=\"G\",'Spiegazioni Skills FTEM'!F39,'Spiegazioni Skills FTEM'!B39)","v":"Salute / prevenzione"},null,null,{"$f":"IF($H$2=\"G\",'Spiegazioni Skills FTEM'!G39,'Spiegazioni Skills FTEM'!C39)","v":"Possiede la necessaria stabilità (stabilità delle gambe) e mobilità delle articolazioni centrali"},null,null,{"$f":"IF($H$2=\"G\",'Spiegazioni Skills FTEM'!#REF!,'Spiegazioni Skills FTEM'!#REF!)","v":{"$error":"#REF!"}}]
[{"$f":"'Spiegazioni Skills FTEM'!A40:A40","v":0},null,null,{"$f":"IF($H$2=\"G\",'Spiegazioni Skills FTEM'!F40,'Spiegazioni Skills FTEM'!B40)","v":"Competenze della mobilità"},null,null,{"$f":"IF($H$2=\"G\",'Spiegazioni Skills FTEM'!G40,'Spiegazioni Skills FTEM'!C40)","v":"Padroneggia le basilari capacità di movimento che garantiscono in modo determinante le abilità specifiche \"skills\", come pure l'efficacia dei movimenti"},null,null,{"$f":"IF($H$2=\"G\",'Spiegazioni Skills FTEM'!#REF!,'Spiegazioni Skills FTEM'!#REF!)","v":{"$error":"#REF!"}}]
[{"$f":"'Spiegazioni Skills FTEM'!A41:A41","v":0},null,null,{"$f":"IF($H$2=\"G\",'Spiegazioni Skills FTEM'!F41,'Spiegazioni Skills FTEM'!B41)","v":"Robustezza"},null,null,{"$f":"IF($H$2=\"G\",'Spiegazioni Skills FTEM'!G41,'Spiegazioni Skills FTEM'!C41)","v":"Possiede la necessaria forza di base (tensione del corpo) per vincere i duelli e resistere alle cariche"},null,null,{"$f":"IF($H$2=\"G\",'Spiegazioni Skills FTEM'!#REF!,'Spiegazioni Skills FTEM'!#REF!)","v":{"$error":"#REF!"}}]

{"sheet":"21","index":24,"n_rows":50,"n_cols":36,"rows_kept":50,"cut":false,"hidden":false,"merged":[[45,34,49,34],[45,12,49,12],[45,13,49,13],[45,15,49,15],[45,17,49,17],[45,19,49,19],[45,21,49,21],[45,23,49,23],[45,25,49,25],[45,26,49,32],[45,0,49,2],[45,3,45,5],[45,6,45,11],[46,3,46,5],[46,6,46,11],[48,3,48,5],[48,6,48,11],[49,3,49,5],[49,6,49,11],[47,3,47,5],[47,6,47,11],[40,23,44,23],[42,3,42,5],[42,6,42,11],[44,3,44,5],[44,6,44,11],[40,0,44,2],[40,3,40,5],[40,6,40,11],[40,12,44,12],[40,13,44,13],[40,15,44,15],[43,3,43,5],[43,6,43,11],[34,21,34,22],[35,17,39,17],[35,19,39,19],[35,21,39,21],[37,3,37,5],[37,6,37,11],[38,3,38,5],[38,6,38,11],[40,17,44,17],[40,19,44,19],[40,21,44,21],[36,3,36,5],[36,6,36,11],[41,3,41,5],[41,6,41,11],[29,0,33,2],[29,3,29,5],[29,6,29,11],[29,12,33,12],[29,13,33,13],[29,15,33,15],[34,23,34,24],[34,26,34,32],[35,0,39,2],[35,3,35,5],[35,6,35,11],[35,12,39,12],[35,13,39,13],[35,15,39,15],[39,3,39,5],[39,6,39,11],[35,23,39,23],[34,0,34,2],[34,3,34,5],[34,6,34,11],[34,13,34,14],[34,15,34,16],[34,17,34,18],[34,19,34,20],[23,19,28,19],[23,21,28,21],[23,23,28,23],[26,3,26,5],[26,6,26,11],[28,3,28,5],[28,6,28,11],[33,3,33,5],[33,6,33,11],[29,23,33,23],[29,17,33,17],[29,19,33,19],[29,21,33,21],[31,3,31,5],[31,6,31,11],[32,3,32,5],[32,6,32,11],[27,3,27,5],[27,6,27,11],[25,3,25,5],[25,6,25,11],[30,3,30,5],[30,6,30,11],[12,21,16,21],[18,15,22,15],[18,17,22,17],[18,19,22,19],[18,21,22,21],[18,23,22,23],[22,3,22,5],[22,6,22,11],[23,0,28,2],[23,3,23,5],[23,6,23,11],[23,12,28,12],[23,13,28,13],[23,15,28,15],[23,17,28,17],[18,0,22,2],[18,3,18,5],[18,6,18,11],[18,12,22,12],[18,13,22,13],[19,3,19,5],[19,6,19,11],[21,3,21,5],[21,6,21,11],[11,21,11,22],[11,23,11,24],[11,26,11,32],[11,6,11,11],[12,23,16,23],[16,3,16,5],[16,6,16,11],[17,0,17,2],[17,3,17,5],[17,6,17,11],[17,13,17,14],[17,15,17,16],[17,17,17,18],[17,19,17,20],[17,21,17,22],[17,23,17,24],[12,0,16,2],[12,3,12,5],[12,6,12,11],[12,12,16,12],[12,13,16,13],[12,15,16,15],[12,17,16,17],[12,19,16,19],[4,0,4,1],[4,2,4,5],[4,10,4,24],[10,0,10,24],[10,25,10,35],[40,25,44,25],[40,26,44,32],[40,34,44,34],[12,25,16,25],[12,26,16,32],[12,34,16,34],[18,25,22,25],[18,26,22,32],[18,34,22,34],[23,25,28,25],[23,26,28,32],[23,34,28,34],[17,26,17,32],[11,0,11,2],[11,3,11,5],[11,13,11,14],[11,15,11,16],[11,17,11,18],[11,19,11,20],[0,0,0,24],[0,25,0,26],[0,27,0,32],[0,33,0,35],[29,25,33,25],[29,26,33,32],[29,34,33,34],[35,25,39,25],[35,26,39,32],[35,34,39,34],[1,0,1,1],[1,2,1,5],[1,10,1,24],[2,0,2,1],[2,2,2,5],[2,11,2,24],[6,0,6,1],[6,2,6,35],[7,0,7,1],[7,2,7,35],[8,0,8,1],[8,2,8,35],[3,0,3,1],[3,10,3,24],[13,3,13,5],[13,6,13,11],[14,3,14,5],[14,6,14,11],[15,3,15,5],[15,6,15,11],[20,3,20,5],[20,6,20,11],[24,3,24,5],[24,6,24,11]]}
["Personalien",null,null,null,null,null,null,null,null,null,null,null,null,null,null,null,null,null,null,null,null,null,null,null,null,"Predisposizione",null,"Valutazioni",null,null,null,null,null,"Rating"]
["COGNOME",null,{"$f":"IF(ISBLANK(VLOOKUP(21,Tabelle3[],3,0)),\"-\",VLOOKUP(21,Tabelle3[],3,0))","v":"-"},null,null,null,"POSIZIONE",null,null,"INDIRIZZO",{"$f":"IF(ISBLANK(VLOOKUP(21,Tabelle3[],5,0)),\"-\",VLOOKUP(21,Tabelle3[],5,0))","v":"-"},null,null,null,null,null,null,null,null,null,null,null,null,null,null,"Età\" (biologica/età relativa)",null,"Data 1",null,null,"cm",null,"Kg",null,"ECCELLENTE",5]
["NOME",null,{"$f":"IF(ISBLANK(VLOOKUP(21,Tabelle3[],2,0)),\"-\",VLOOKUP(21,Tabelle3[],2,0))","v":"-"},null,null,null,"BASTONE",null,null,"LUOGO",{"$f":"IF(ISBLANK(VLOOKUP(21,Tabelle3[],7,0)),\"-\",VLOOKUP(21,Tabelle3[],7,0))","v":"-"},{"$f":"IF(ISBLANK(VLOOKUP(21,Tabelle3[],6,0)),\"-\",VLOOKUP(21,Tabelle3[],6,0))","v":"-"},null,null,null,null,null,null,null,null,null,null,null,null,null,"Predisposizione",null,"Data 2",null,null,"cm",null,"Kg",null,"BUONO",4]
["DATA DI NASC.",null,{"$f":"IF(ISBLANK(VLOOKUP(21,Tabelle3[],14,0)),\"-\",VLOOKUP(21,Tabelle3[],14,0))","v":"-"},{"$f":"IF(ISBLANK(VLOOKUP(21,Tabelle3[],15,0)),\"-\",VLOOKUP(21,Tabelle3[],15,0))","v":"-"},{"$f":"IF(ISBLANK(VLOOKUP(21,Tabelle3[],16,0)),\"-\",VLOOKUP(21,Tabelle3[],16,0))","v":"-"},null,"ALTEZZA",null,"cm (Finale)","TELEFONO",{"$f":"IF(ISBLANK(VLOOKUP(21,Tabelle3[],8,0)),\"-\",VLOOKUP(21,Tabelle3[],8,0))","v":"-"},null,null,null,null,null,null,null,null,null,null,null,null,null,null,"Ambiente di vita",null,"Data 3",null,null,"cm",null,"Kg",null,"MEDIO/DISCRETO",3]
["SESSO",null,{"$f":"IF(ISBLANK(VLOOKUP(21,Tabelle3[],13,0)),\"-\",VLOOKUP(21,Tabelle3[],13,0))","v":"-"},null,null,null,"PESO",null,"Kg (Finale)","E-Mail",{"$f":"IF(ISBLANK(VLOOKUP(21,Tabelle3[],9,0)),\"-\",VLOOKUP(21,Tabelle3[],9,0))","v":"-"},null,null,null,null,null,null,null,null,null,null,null,null,null,null,null,null,"Data 4",null,null,"cm",null,"Kg",null,"CON LACUNE",2]
[null,null,null,null,null,null,null,null,null,null,null,null,null,null,null,null,null,null,null,null,null,null,null,null,null,null,null,"Data 5",null,null,"cm",null,"Kg",null,"INSUFFICIENTE",1]
["Visione",null,"xxx"]
["Prossimo passo",null,"xxx"]
["Proflio giocatore",null,"xxx"]
[]
["VALUTAZIONI (COACH / GIOCATORE)",null,null,null,null,null,null,null,null,null,null,null,null,null,null,null,null,null,null,null,null,null,null,null,null,"Obiettivi SMART"]
[{"$f":"'Spiegazioni Skills FTEM'!A3","v":"TEAM"},null,null,{"$f":"'Spiegazioni Skills FTEM'!B3","v":"CAPACITÀ"},null,null,{"$f":"'Spiegazioni Skills FTEM'!C3","v":"CRITERIO D'OSSERVAZIONE"},null,null,{"$f":"'Spiegazioni Skills FTEM'!H3","v":0},null,null,"Final","Data1",null,"Data2",null,"Data3",null,"Data4",null,"Data5",null,"Player",null,"OBIETTIVO","PROVVEDIMENTI:\n(SPECIFICI, MISURABILI, REALISTICI)",null,null,null,null,null,null,"TERMINE","COTROLLO DELL'OBIETTIVO","Data"]
[{"$f":"'Spiegazioni Skills FTEM'!A4","v":"SQUADRA"},null,null,{"$f":"IF($H$2=\"G\",'Spiegazioni Skills FTEM'!F4,'Spiegazioni Skills FTEM'!B4)","v":"Comunicazione"},null,null,{"$f":"IF($H$2=\"G\",'Spiegazioni Skills FTEM'!G4,'Spiegazioni Skills FTEM'!C4)","v":"Cura relazioni aperte e rispettose, fiducia quale base comportamentale, affronta i conflitti senza ledere la stabilità del gruppo, comunica con i compagni, gli allenatori e\nfunzionari con i medesimi valori"},null,null,{"$f":"IF($H$2=\"G\",'Spiegazioni Skills FTEM'!#REF!,'Spiegazioni Skills FTEM'!#REF!)","v":{"$error":"#REF!"}},null,null,null,{"$f":"IFERROR(AVERAGE(O13:O17),\"-\")","v":"-"},null,{"$f":"IFERROR(AVERAGE(Q13:Q17),\"-\")","v":"-"},null,{"$f":"IFERROR(AVERAGE(S13:S17),\"-\")","v":"-"},null,{"$f":"IFERROR(AVERAGE(U13:U17),\"-\")","v":"-"},null,{"$f":"IFERROR(AVERAGE(W13:W17),\"-\")","v":"-"},null,{"$f":"IFERROR(AVERAGE(Y13:Y17),\"-\")","v":"-"}]
[{"$f":"'Spiegazioni Skills FTEM'!A5","v":0},null,null,{"$f":"IF($H$2=\"G\",'Spiegazioni Skills FTEM'!F5,'Spiegazioni Skills FTEM'!B5)","v":"Capacità nella squadra"},null,null,{"$f":"IF($H$2=\"G\",'Spiegazioni Skills FTEM'!G5,'Spiegazioni Skills FTEM'!C5)","v":"Integrazione nel gruppo, definisce e realizza obiettivi comuni, NOI prima dell'IO, contribuisce a creare un buon spirito di squadra e clima di lavoro"},null,null,{"$f":"IF($H$2=\"G\",'Spiegazioni Skills FTEM'!#REF!,'Spiegazioni Skills FTEM'!#REF!)","v":{"$error":"#REF!"}}]
[{"$f":"'Spiegazioni Skills FTEM'!A6","v":0},null,null,{"$f":"IF($H$2=\"G\",'Spiegazioni Skills FTEM'!F6,'Spiegazioni Skills FTEM'!B6)","v":"Leadership"},null,null,{"$f":"IF($H$2=\"G\",'Spiegazioni Skills FTEM'!G6,'Spiegazioni Skills FTEM'!C6)","v":"Assume responsabilità nell'ambito del gruppo, cerca di migliorare la squadra e i compagni, influenza positivamente la dinamica di gruppo"},null,null,{"$f":"IF($H$2=\"G\",'Spiegazioni Skills FTEM'!#REF!,'Spiegazioni Skills FTEM'!#REF!)","v":{"$error":"#REF!"}}]
[{"$f":"'Spiegazioni Skills FTEM'!A7","v":0},null,null,{"$f":"IF($H$2=\"G\",'Spiegazioni Skills FTEM'!F7,'Spiegazioni Skills FTEM'!B7)","v":"Ripartizione dei ruoli"},null,null,{"$f":"IF($H$2=\"G\",'Spiegazioni Skills FTEM'!G7,'Spiegazioni Skills FTEM'!C7)","v":"Riconosce e adempie il suo ruolo, è cosciente della sua posizione nel sistema e nella squadra, mette a disposizione della squadra le sue competenze"},null,null,{"$f":"IF($H$2=\"G\",'Spiegazioni Skills FTEM'!#REF!,'Spiegazioni Skills FTEM'!#REF!)","v":{"$error":"#REF!"}}]
[{"$f":"'Spiegazioni Skills FTEM'!A8","v":0},null,null,{"$f":"IF($H$2=\"G\",'Spiegazioni Skills FTEM'!F8,'Spiegazioni Skills FTEM'!B8)","v":"Rispetto"},null,null,{"$f":"IF($H$2=\"G\",'Spiegazioni Skills FTEM'!G8,'Spiegazioni Skills FTEM'!C8)","v":"Relazioni rispettose con i compagni, allenatori, avversari, arbitri e staff; rispetta le regole i pricipi del fairplay (compreso la lotta al doping)"},null,null,{"$f":"IF($H$2=\"G\",'Spiegazioni Skills FTEM'!#REF!,'Spiegazioni Skills FTEM'!#REF!)","v":{"$error":"#REF!"}}]
[{"$f":"'Spiegazioni Skills FTEM'!A9","v":"ON ICE"},null,null,{"$f":"'Spiegazioni Skills FTEM'!B9","v":"CAPACITÀ"},null,null,{"$f":"'Spiegazioni Skills FTEM'!C9","v":"CRITERIO D'OSSERVAZIONE"},null,null,{"$f":"'Spiegazioni Skills FTEM'!H9","v":0},null,null,null,"Data1",null,"Data2",null,"Data3",null,"Data4",null,"Data5",null,"Player",null,"OBIETTIVO","PROVVEDIMENTI:\n(SPECIFICI, MISURABILI, REALISTICI)",null,null,null,null,null,null,"TERMINE","COTROLLO DELL'OBIETTIVO","Date"]
[{"$f":"'Spiegazioni Skills FTEM'!A10","v":"PATTINAGGIO"},null,null,{"$f":"IF($H$2=\"G\",'Spiegazioni Skills FTEM'!F10,'Spiegazioni Skills FTEM'!B10)","v":"Velocità dei piedi"},null,null,{"$f":"IF($H$2=\"G\",'Spiegazioni Skills FTEM'!G10,'Spiegazioni Skills FTEM'!C10)","v":"Accelerazione, partenza, esplosività dei primi 3 passi, frequenza"},null,null,{"$f":"IF($H$2=\"G\",'Spiegazioni Skills FTEM'!#REF!,'Spiegazioni Skills FTEM'!#REF!)","v":{"$error":"#REF!"}},null,null,null,{"$f":"IFERROR(AVERAGE(O19:O23),\"-\")","v":"-"},null,{"$f":"IFERROR(AVERAGE(Q19:Q23),\"-\")","v":"-"},null,{"$f":"IFERROR(AVERAGE(S19:S23),\"-\")","v":"-"},null,{"$f":"IFERROR(AVERAGE(U19:U23),\"-\")","v":"-"},null,{"$f":"IFERROR(AVERAGE(W19:W23),\"-\")","v":"-"},null,{"$f":"IFERROR(AVERAGE(Y19:Y23),\"-\")","v":"-"}]
[{"$f":"'Spiegazioni Skills FTEM'!A11:A11","v":0},null,null,{"$f":"IF($H$2=\"G\",'Spiegazioni Skills FTEM'!F11,'Spiegazioni Skills FTEM'!B11)","v":"Velocità/rapidità"},null,null,{"$f":"IF($H$2=\"G\",'Spiegazioni Skills FTEM'!G11,'Spiegazioni Skills FTEM'!C11)","v":"Velocità, facoltà di scivolare, avanti / indietro, economia dello sforzo"},null,null,{"$f":"IF($H$2=\"G\",'Spiegazioni Skills FTEM'!#REF!,'Spiegazioni Skills FTEM'!#REF!)","v":{"$error":"#REF!"}}]
[null,null,null,{"$f":"IF($H$2=\"G\",'Spiegazioni Skills FTEM'!F12,'Spiegazioni Skills FTEM'!B12)","v":"Agilità"},null,null,{"$f":"IF($H$2=\"G\",'Spiegazioni Skills FTEM'!G12,'Spiegazioni Skills FTEM'!C12)","v":"Cambiamento di direzione, girarsi, stop e ripartenza, \"Nummelin\""},null,null,{"$f":"IF($H$2=\"G\",'Spiegazioni Skills FTEM'!#REF!,'Spiegazioni Skills FTEM'!#REF!)","v":{"$error":"#REF!"}}]
[{"$f":"'Spiegazioni Skills FTEM'!A12:A12","v":0},null,null,{"$f":"IF($H$2=\"G\",'Spiegazioni Skills FTEM'!F13,'Spiegazioni Skills FTEM'!B13)","v":"Equilibrio"},null,null,{"$f":"IF($H$2=\"G\",'Spiegazioni Skills FTEM'!G13,'Spiegazioni Skills FTEM'!C13)","v":"Equilibrio, stabilità, posizione bassa, su una gamba, su entrambe"},null,null,{"$f":"IF($H$2=\"G\",'Spiegazioni Skills FTEM'!#REF!,'Spiegazioni Skills FTEM'!#REF!)","v":{"$error":"#REF!"}},null,null,null,{"$f":"IFERROR(AVERAGE(O22:O23),\"-\")","v":"-"},null,{"$f":"IFERROR(AVERAGE(Q22:Q23),\"-\")","v":"-"},null,{"$f":"IFERROR(AVERAGE(S22:S23),\"-\")","v":"-"},null,{"$f":"IFERROR(AVERAGE(U22:U23),\"-\")","v":"-"},null,{"$f":"IFERROR(AVERAGE(W22:W23),\"-\")","v":"-"},null,"-"]
[{"$f":"'Spiegazioni Skills FTEM'!A14:A14","v":0},null,null,{"$f":"IF($H$2=\"G\",'Spiegazioni Skills FTEM'!F14,'Spiegazioni Skills FTEM'!B14)","v":"Pattinaggio indietro"},null,null,{"$f":"IF($H$2=\"G\",'Spiegazioni Skills FTEM'!G14,'Spiegazioni Skills FTEM'!C14)","v":"Accelerazione, velocità, equilibrio"},null,null,{"$f":"IF($H$2=\"G\",'Spiegazioni Skills FTEM'!#REF!,'Spiegazioni Skills FTEM'!#REF!)","v":{"$error":"#REF!"}}]
[{"$f":"'Spiegazioni Skills FTEM'!A15","v":"ABILITÀ"},null,null,{"$f":"IF($H$2=\"G\",'Spiegazioni Skills FTEM'!F15,'Spiegazioni Skills FTEM'!B15)","v":"Tirare"},null,null,{"$f":"IF($H$2=\"G\",'Spiegazioni Skills FTEM'!G15,'Spiegazioni Skills FTEM'!C15)","v":"Efficienza (poco spazio, poco tempo), ricchezza di varianti, grado di sorpresa (Quick Release), precisione, potenza (conclusioni tattiche)"},null,null,{"$f":"IF($H$2=\"G\",'Spiegazioni Skills FTEM'!#REF!,'Spiegazioni Skills FTEM'!#REF!)","v":{"$error":"#REF!"}},null,null,null,{"$f":"IFERROR(AVERAGE(O24:O29),\"-\")","v":"-"},null,{"$f":"IFERROR(AVERAGE(Q24:Q29),\"-\")","v":"-"},null,{"$f":"IFERROR(AVERAGE(S24:S29),\"-\")","v":"-"},null,{"$f":"IFERROR(AVERAGE(U24:U29),\"-\")","v":"-"},null,{"$f":"IFERROR(AVERAGE(W24:W29),\"-\")","v":"-"},null,{"$f":"IFERROR(AVERAGE(Y24:Y29),\"-\")","v":"-"}]
[null,null,null,{"$f":"IF($H$2=\"G\",'Spiegazioni Skills FTEM'!F16,'Spiegazioni Skills FTEM'!B16)","v":"Passare"},null,null,{"$f":"IF($H$2=\"G\",'Spiegazioni Skills FTEM'!G16,'Spiegazioni Skills FTEM'!C16)","v":"Passaggio (distanza, flipp, rovescio), ricezione del passaggio (precisione, timing, diritto, rovescio, sul pattino), velocità del disco"},null,null,{"$f":"IF($H$2=\"G\",'Spiegazioni Skills FTEM'!#REF!,'Spiegazioni Skills FTEM'!#REF!)","v":{"$error":"#REF!"}}]
[null,null,null,{"$f":"IF($H$2=\"G\",'Spiegazioni Skills FTEM'!F17,'Spiegazioni Skills FTEM'!B17)","v":"Lavoro col bastone - condotta del disco"},null,null,{"$f":"IF($H$2=\"G\",'Spiegazioni Skills FTEM'!G17,'Spiegazioni Skills FTEM'!C17)","v":"Bastone sul disco, intercettare le linee di passaggio, deviare, controllo del bastone avversario"},null,null,{"$f":"IF($H$2=\"G\",'Spiegazioni Skills FTEM'!#REF!,'Spiegazioni Skills FTEM'!#REF!)","v":{"$error":"#REF!"}}]
[{"$f":"'Spiegazioni Skills FTEM'!A16:A16","v":0},null,null,{"$f":"IF($H$2=\"G\",'Spiegazioni Skills FTEM'!F18,'Spiegazioni Skills FTEM'!B18)","v":"Possedere/proteggere il disco"},null,null,{"$f":"IF($H$2=\"G\",'Spiegazioni Skills FTEM'!G18,'Spiegazioni Skills FTEM'!C18)","v":"Controllo del disco, dribbling, protezione del disco, finte (varianti col pattino, con o senza la balaustra), ingaggi (face-off)"},null,null,{"$f":"IF($H$2=\"G\",'Spiegazioni Skills FTEM'!#REF!,'Spiegazioni Skills FTEM'!#REF!)","v":{"$error":"#REF!"}}]
[{"$f":"'Spiegazioni Skills FTEM'!A17:A17","v":0},null,null,{"$f":"IF($H$2=\"G\",'Spiegazioni Skills FTEM'!F19,'Spiegazioni Skills FTEM'!B19)","v":"Gioco del corpo"},null,null,{"$f":"IF($H$2=\"G\",'Spiegazioni Skills FTEM'!G19,'Spiegazioni Skills FTEM'!C19)","v":"Facoltà di imporsi fisicamente, duelli (ghiaccio aperto, balaustra), subire dei checks/testa alta, livello di lotta, duro ma corretto, blocco dei tiri con il corpo"},null,null,{"$f":"IF($H$2=\"G\",'Spiegazioni Skills FTEM'!#REF!,'Spiegazioni Skills FTEM'!#REF!)","v":{"$error":"#REF!"}}]
[{"$f":"'Spiegazioni Skills FTEM'!A20:A20","v":0},null,null,{"$f":"IF($H$2=\"G\",'Spiegazioni Skills FTEM'!F20,'Spiegazioni Skills FTEM'!B20)","v":"-"},null,null,{"$f":"IF($H$2=\"G\",'Spiegazioni Skills FTEM'!G20,'Spiegazioni Skills FTEM'!C20)","v":"-"},null,null,{"$f":"IF($H$2=\"G\",'Spiegazioni Skills FTEM'!#REF!,'Spiegazioni Skills FTEM'!#REF!)","v":{"$error":"#REF!"}}]
[{"$f":"'Spiegazioni Skills FTEM'!A21","v":"SENSO DELL'HOCKEY"},null,null,{"$f":"IF($H$2=\"G\",'Spiegazioni Skills FTEM'!F21,'Spiegazioni Skills FTEM'!B21)","v":"Intelligenza nel gioco"},null,null,{"$f":"IF($H$2=\"G\",'Spiegazioni Skills FTEM'!G21,'Spiegazioni Skills FTEM'!C21)","v":"Vedere spazi e giocatori liberi, creare situazioni di superiorità numerica, agire cercando soluzioni in tutte le situazioni, velocità di visualizzazione"},null,null,{"$f":"IF($H$2=\"G\",'Spiegazioni Skills FTEM'!#REF!,'Spiegazioni Skills FTEM'!#REF!)","v":{"$error":"#REF!"}},null,null,null,{"$f":"IFERROR(AVERAGE(O30:O34),\"-\")","v":"-"},null,{"$f":"IFERROR(AVERAGE(Q30:Q34),\"-\")","v":"-"},null,{"$f":"IFERROR(AVERAGE(S30:S34),\"-\")","v":"-"},null,{"$f":"IFERROR(AVERAGE(U30:U34),\"-\")","v":"-"},null,{"$f":"IFERROR(AVERAGE(W30:W34),\"-\")","v":"-"},null,{"$f":"IFERROR(AVERAGE(Y30:Y34),\"-\")","v":"-"}]
[{"$f":"'Spiegazioni Skills FTEM'!A22:A22","v":0},null,null,{"$f":"IF($H$2=\"G\",'Spiegazioni Skills FTEM'!F22,'Spiegazioni Skills FTEM'!B22)","v":"Sensibilità offensiva"},null,null,{"$f":"IF($H$2=\"G\",'Spiegazioni Skills FTEM'!G22,'Spiegazioni Skills FTEM'!C22)","v":"Smarcarsi, anticipare le situazioni di gioco, aprire spazi liberi per i compagni, piazzarsi per le conclusioni, velocità nel chiudere gli spazi (pressione), comunicazione"},null,null,{"$f":"IF($H$2=\"G\",'Spiegazioni Skills FTEM'!#REF!,'Spiegazioni Skills FTEM'!#REF!)","v":{"$error":"#REF!"}}]
[null,null,null,{"$f":"IF($H$2=\"G\",'Spiegazioni Skills FTEM'!F23,'Spiegazioni Skills FTEM'!B23)","v":"Sensibilità difensiva"},null,null,{"$f":"IF($H$2=\"G\",'Spiegazioni Skills FTEM'!G23,'Spiegazioni Skills FTEM'!C23)","v":"Mantenere la posizione difensiva, protezione dello slot, assicurare i compagni / supporto, individuare le linee di passaggio, bloccare i tiri, ridurre velocemente gli spazi, comunicazione"},null,null,{"$f":"IF($H$2=\"G\",'Spiegazioni Skills FTEM'!#REF!,'Spiegazioni Skills FTEM'!#REF!)","v":{"$error":"#REF!"}}]
[{"$f":"'Spiegazioni Skills FTEM'!A24:A24","v":0},null,null,{"$f":"IF($H$2=\"G\",'Spiegazioni Skills FTEM'!F24,'Spiegazioni Skills FTEM'!B24)","v":"Gestione del disco"},null,null,{"$f":"IF($H$2=\"G\",'Spiegazioni Skills FTEM'!G24,'Spiegazioni Skills FTEM'!C24)","v":"Prendere decisioni adeguate nelle situazioni di gioco, supporto, creare superiorità numerica"},null,null,{"$f":"IF($H$2=\"G\",'Spiegazioni Skills FTEM'!#REF!,'Spiegazioni Skills FTEM'!#REF!)","v":{"$error":"#REF!"}}]
[{"$f":"'Spiegazioni Skills FTEM'!A25:A25","v":0},null,null,{"$f":"IF($H$2=\"G\",'Spiegazioni Skills FTEM'!F25,'Spiegazioni Skills FTEM'!B25)","v":"Creatività"},null,null,{"$f":"IF($H$2=\"G\",'Spiegazioni Skills FTEM'!G25,'Spiegazioni Skills FTEM'!C25)","v":"Creare situazioni a sorpresa, fiuto del gol"},null,null,{"$f":"IF($H$2=\"G\",'Spiegazioni Skills FTEM'!#REF!,'Spiegazioni Skills FTEM'!#REF!)","v":{"$error":"#REF!"}}]
[{"$f":"'Spiegazioni Skills FTEM'!A26","v":"PERSONALITY"},null,null,{"$f":"'Spiegazioni Skills FTEM'!B26","v":"CAPACITÀ"},null,null,{"$f":"'Spiegazioni Skills FTEM'!C26","v":"CRITERIO D'OSSERVAZIONE"},null,null,{"$f":"'Spiegazioni Skills FTEM'!H26","v":0},null,null,null,"Data1",null,"Data2",null,"Data3",null,"Data4",null,"Data5",null,"Player",null,"OBIETTIVO","PROVVEDIMENTI:\n(SPECIFICI, MISURABILI, REALISTICI)",null,null,null,null,null,null,"TERMINE","COTROLLO DELL'OBIETTIVO","Date"]
[{"$f":"'Spiegazioni Skills FTEM'!A27","v":"PERSONALITÀ"},null,null,{"$f":"IF($H$2=\"G\",'Spiegazioni Skills FTEM'!F27,'Spiegazioni Skills FTEM'!B27)","v":"Fiducia in se stesso"},null,null,{"$f":"IF($H$2=\"G\",'Spiegazioni Skills FTEM'!G27,'Spiegazioni Skills FTEM'!C27)","v":"Possiede la necessaria fiducia in se stesso, «I can do it»-attitudine, sa valutare le proprie capacità (conosce i propri punti forti e deboli), può realizzare le proprie qualità con\ncostanza, è coraggioso e sa prendere dei rischi calcolati"},null,null,{"$f":"IF($H$2=\"G\",'Spiegazioni Skills FTEM'!#REF!,'Spiegazioni Skills FTEM'!#REF!)","v":{"$error":"#REF!"}},null,null,null,{"$f":"IFERROR(AVERAGE(O36:O40),\"-\")","v":"-"},null,{"$f":"IFERROR(AVERAGE(Q36:Q40),\"-\")","v":"-"},null,{"$f":"IFERROR(AVERAGE(S36:S40),\"-\")","v":"-"},null,{"$f":"IFERROR(AVERAGE(U36:U40),\"-\")","v":"-"},null,{"$f":"IFERROR(AVERAGE(W36:W40),\"-\")","v":"-"},null,{"$f":"IFERROR(AVERAGE(Y36:Y40),\"-\")","v":"-"}]
[{"$f":"'Spiegazioni Skills FTEM'!A28:A28","v":0},null,null,{"$f":"IF($H$2=\"G\",'Spiegazioni Skills FTEM'!F28,'Spiegazioni Skills FTEM'!B28)","v":"Capacità d'apprendimento"},null,null,{"$f":"IF($H$2=\"G\",'Spiegazioni Skills FTEM'!G28,'Spiegazioni Skills FTEM'!C28)","v":"Ha una buona capacità d'apprendimento (sa recepire e realizzare), possiede una personalità, cerca di imparare dai propri errori derivandone delle misure"},null,null,{"$f":"IF($H$2=\"G\",'Spiegazioni Skills FTEM'!#REF!,'Spiegazioni Skills FTEM'!#REF!)","v":{"$error":"#REF!"}}]
[null,null,null,{"$f":"IF($H$2=\"G\",'Spiegazioni Skills FTEM'!F29,'Spiegazioni Skills FTEM'!B29)","v":"Senso di responsabilità"},null,null,{"$f":"IF($H$2=\"G\",'Spiegazioni Skills FTEM'!G29,'Spiegazioni Skills FTEM'!C29)","v":"Assume responsabiltà per le proprie prestazioni e sviluppo, agisce autonomamente, cura i dettagli, mostra un grande impegno in tutti i settori"},null,null,{"$f":"IF($H$2=\"G\",'Spiegazioni Skills FTEM'!#REF!,'Spiegazioni Skills FTEM'!#REF!)","v":{"$error":"#REF!"}}]
[{"$f":"'Spiegazioni Skills FTEM'!A30:A30","v":0},null,null,{"$f":"IF($H$2=\"G\",'Spiegazioni Skills FTEM'!F30,'Spiegazioni Skills FTEM'!B30)","v":"Motivazione"},null,null,{"$f":"IF($H$2=\"G\",'Spiegazioni Skills FTEM'!G30,'Spiegazioni Skills FTEM'!C30)","v":"È sempre motivato, vuole sempre svilupparsi e imparare, vuol essere il primo e avere successo, non rinuncia mai e non si lascia influenzare dagli insuccessi"},null,null,{"$f":"IF($H$2=\"G\",'Spiegazioni Skills FTEM'!#REF!,'Spiegazioni Skills FTEM'!#REF!)","v":{"$error":"#REF!"}}]
[{"$f":"'Spiegazioni Skills FTEM'!A31:A31","v":0},null,null,{"$f":"IF($H$2=\"G\",'Spiegazioni Skills FTEM'!F31,'Spiegazioni Skills FTEM'!B31)","v":"Prestazione Stile di vita"},null,null,{"$f":"IF($H$2=\"G\",'Spiegazioni Skills FTEM'!G31,'Spiegazioni Skills FTEM'!C31)","v":"Gestisce bene la quotidianità il suo ambiente seguendo i principi della prestazione, caparbio, perseverante e finalizzato sugli obiettivi, focus sulla propria prestazione, coraggioso e grintoso, sa imporsi nei confronti delle resistenze, le sfide lo motivano"},null,null,{"$f":"IF($H$2=\"G\",'Spiegazioni Skills FTEM'!#REF!,'Spiegazioni Skills FTEM'!#REF!)","v":{"$error":"#REF!"}}]
[{"$f":"'Spiegazioni Skills FTEM'!A32","v":"FORZA MENTALE"},null,null,{"$f":"IF($H$2=\"G\",'Spiegazioni Skills FTEM'!F32,'Spiegazioni Skills FTEM'!B32)","v":"Impegno"},null,null,{"$f":"IF($H$2=\"G\",'Spiegazioni Skills FTEM'!G32,'Spiegazioni Skills FTEM'!C32)","v":"Mostra molta intensità negli allenamenti e nelle partite, dà sempre il massimo e vuole sempre spronare i propri limiti, mostra passione, si sforza ad alzare la qualità negli allenamenti"},null,null,{"$f":"IF($H$2=\"G\",'Spiegazioni Skills FTEM'!#REF!,'Spiegazioni Skills FTEM'!#REF!)","v":{"$error":"#REF!"}},null,null,null,{"$f":"IFERROR(AVERAGE(O41:O45),\"-\")","v":"-"},null,{"$f":"IFERROR(AVERAGE(Q41:Q45),\"-\")","v":"-"},null,{"$f":"IFERROR(AVERAGE(S41:S45),\"-\")","v":"-"},null,{"$f":"IFERROR(AVERAGE(U41:U45),\"-\")","v":"-"},null,{"$f":"IFERROR(AVERAGE(W41:W45),\"-\")","v":"-"},null,{"$f":"IFERROR(AVERAGE(Y41:Y45),\"-\")","v":"-"}]
[null,null,null,{"$f":"IF($H$2=\"G\",'Spiegazioni Skills FTEM'!F33,'Spiegazioni Skills FTEM'!B33)","v":"Preparazione"},null,null,{"$f":"IF($H$2=\"G\",'Spiegazioni Skills FTEM'!G33,'Spiegazioni Skills FTEM'!C33)","v":"Preparazione consapevole e finalizzata, mentalmente e fisicamente, possiede un efficiente approccio per l'ottenimento dell'ideale stato di prestazione (ILZ/ISP)"},null,null,{"$f":"IF($H$2=\"G\",'Spiegazioni Skills FTEM'!#REF!,'Spiegazioni Skills FTEM'!#REF!)","v":{"$error":"#REF!"}}]
[{"$f":"'Spiegazioni Skills FTEM'!A34:A34","v":0},null,null,{"$f":"IF($H$2=\"G\",'Spiegazioni Skills FTEM'!F34,'Spiegazioni Skills FTEM'!B34)","v":"Coaching individuale"},null,null,{"$f":"IF($H$2=\"G\",'Spiegazioni Skills FTEM'!G34,'Spiegazioni Skills FTEM'!C34)","v":"Possiede una buona capacità di concentrazione, può mantenere il suo ILZ/ISP durante la partita e l'allenamento, può utilizzare tecniche di base per rafforzare il mentale, resistenti contro pensieri e influenze negative, è consapevole del proprio linguaggio del corpo che è in grado di padroneggiare"},null,null,{"$f":"IF($H$2=\"G\",'Spiegazioni Skills FTEM'!#REF!,'Spiegazioni Skills FTEM'!#REF!)","v":{"$error":"#REF!"}}]
[{"$f":"'Spiegazioni Skills FTEM'!A35:A35","v":0},null,null,{"$f":"IF($H$2=\"G\",'Spiegazioni Skills FTEM'!F35,'Spiegazioni Skills FTEM'!B35)","v":"Gestione delle energie"},null,null,{"$f":"IF($H$2=\"G\",'Spiegazioni Skills FTEM'!G35,'Spiegazioni Skills FTEM'!C35)","v":"Può gestire le proprie energie, cura la rigenerazione, può gestire i momenti in cui si deve andare al massimo oppure risparmiarsi, interruttore on/off"},null,null,{"$f":"IF($H$2=\"G\",'Spiegazioni Skills FTEM'!#REF!,'Spiegazioni Skills FTEM'!#REF!)","v":{"$error":"#REF!"}}]
[{"$f":"'Spiegazioni Skills FTEM'!A36:A36","v":0},null,null,{"$f":"IF($H$2=\"G\",'Spiegazioni Skills FTEM'!F36,'Spiegazioni Skills FTEM'!B36)","v":"Controllo delle emozioni"},null,null,{"$f":"IF($H$2=\"G\",'Spiegazioni Skills FTEM'!G36,'Spiegazioni Skills FTEM'!C36)","v":"Può regolare le proprie emozioni e impulsi, mantiene il controllo quando si trova sotto pressione, sa anche agire adeguatamente in situazioni emotive o frustranti"},null,null,{"$f":"IF($H$2=\"G\",'Spiegazioni Skills FTEM'!#REF!,'Spiegazioni Skills FTEM'!#REF!)","v":{"$error":"#REF!"}}]
[{"$f":"'Spiegazioni Skills FTEM'!A37","v":"FISICO"},null,null,{"$f":"IF($H$2=\"G\",'Spiegazioni Skills FTEM'!F37,'Spiegazioni Skills FTEM'!B37)","v":"Produzione di prestazione"},null,null,{"$f":"IF($H$2=\"G\",'Spiegazioni Skills FTEM'!G37,'Spiegazioni Skills FTEM'!C37)","v":"Possiede nelle gambe e nella parte alta del corpo la necessaria potenza/forza/velocità (fattori neuromuscolari)"},null,null,{"$f":"IF($H$2=\"G\",'Spiegazioni Skills FTEM'!#REF!,'Spiegazioni Skills FTEM'!#REF!)","v":{"$error":"#REF!"}},null,null,null,{"$f":"IFERROR(AVERAGE(O46:O50),\"-\")","v":"-"},null,{"$f":"IFERROR(AVERAGE(Q46:Q50),\"-\")","v":"-"},null,{"$f":"IFERROR(AVERAGE(S46:S50),\"-\")","v":"-"},null,{"$f":"IFERROR(AVERAGE(U46:U50),\"-\")","v":"-"},null,{"$f":"IFERROR(AVERAGE(W46:W50),\"-\")","v":"-"},null,{"$f":"IFERROR(AVERAGE(Y46:Y50),\"-\")","v":"-"}]
[null,null,null,{"$f":"IF($H$2=\"G\",'Spiegazioni Skills FTEM'!F38,'Spiegazioni Skills FTEM'!B38)","v":"Resistenza specifica alla fatica"},null,null,{"$f":"IF($H$2=\"G\",'Spiegazioni Skills FTEM'!G38,'Spiegazioni Skills FTEM'!C38)","v":"È capace di mantenere a lungo nell'ambito di un impiego la potenza/forza/velocità ed è capace di recuperare completamente attraverso i vari impieghi sul ghiaccio (fattori metabolici e cardiovascolari)"},null,null,{"$f":"IF($H$2=\"G\",'Spiegazioni Skills FTEM'!#REF!,'Spiegazioni Skills FTEM'!#REF!)","v":{"$error":"#REF!"}}]
[{"$f":"'Spiegazioni Skills FTEM'!A39:A39","v":0},null,null,{"$f":"IF($H$2=\"G\",'Spiegazioni Skills FTEM'!F39,'Spiegazioni Skills FTEM'!B39)","v":"Salute / prevenzione"},null,null,{"$f":"IF($H$2=\"G\",'Spiegazioni Skills FTEM'!G39,'Spiegazioni Skills FTEM'!C39)","v":"Possiede la necessaria stabilità (stabilità delle gambe) e mobilità delle articolazioni centrali"},null,null,{"$f":"IF($H$2=\"G\",'Spiegazioni Skills FTEM'!#REF!,'Spiegazioni Skills FTEM'!#REF!)","v":{"$error":"#REF!"}}]
[{"$f":"'Spiegazioni Skills FTEM'!A40:A40","v":0},null,null,{"$f":"IF($H$2=\"G\",'Spiegazioni Skills FTEM'!F40,'Spiegazioni Skills FTEM'!B40)","v":"Competenze della mobilità"},null,null,{"$f":"IF($H$2=\"G\",'Spiegazioni Skills FTEM'!G40,'Spiegazioni Skills FTEM'!C40)","v":"Padroneggia le basilari capacità di movimento che garantiscono in modo determinante le abilità specifiche \"skills\", come pure l'efficacia dei movimenti"},null,null,{"$f":"IF($H$2=\"G\",'Spiegazioni Skills FTEM'!#REF!,'Spiegazioni Skills FTEM'!#REF!)","v":{"$error":"#REF!"}}]
[{"$f":"'Spiegazioni Skills FTEM'!A41:A41","v":0},null,null,{"$f":"IF($H$2=\"G\",'Spiegazioni Skills FTEM'!F41,'Spiegazioni Skills FTEM'!B41)","v":"Robustezza"},null,null,{"$f":"IF($H$2=\"G\",'Spiegazioni Skills FTEM'!G41,'Spiegazioni Skills FTEM'!C41)","v":"Possiede la necessaria forza di base (tensione del corpo) per vincere i duelli e resistere alle cariche"},null,null,{"$f":"IF($H$2=\"G\",'Spiegazioni Skills FTEM'!#REF!,'Spiegazioni Skills FTEM'!#REF!)","v":{"$error":"#REF!"}}]

{"sheet":"22","index":25,"n_rows":50,"n_cols":36,"rows_kept":50,"cut":false,"hidden":false,"merged":[[45,34,49,34],[45,12,49,12],[45,13,49,13],[45,15,49,15],[45,17,49,17],[45,19,49,19],[45,21,49,21],[45,23,49,23],[45,25,49,25],[45,26,49,32],[45,0,49,2],[45,3,45,5],[45,6,45,11],[46,3,46,5],[46,6,46,11],[48,3,48,5],[48,6,48,11],[49,3,49,5],[49,6,49,11],[47,3,47,5],[47,6,47,11],[40,23,44,23],[42,3,42,5],[42,6,42,11],[44,3,44,5],[44,6,44,11],[40,0,44,2],[40,3,40,5],[40,6,40,11],[40,12,44,12],[40,13,44,13],[40,15,44,15],[43,3,43,5],[43,6,43,11],[34,21,34,22],[35,17,39,17],[35,19,39,19],[35,21,39,21],[37,3,37,5],[37,6,37,11],[38,3,38,5],[38,6,38,11],[40,17,44,17],[40,19,44,19],[40,21,44,21],[36,3,36,5],[36,6,36,11],[41,3,41,5],[41,6,41,11],[29,0,33,2],[29,3,29,5],[29,6,29,11],[29,12,33,12],[29,13,33,13],[29,15,33,15],[34,23,34,24],[34,26,34,32],[35,0,39,2],[35,3,35,5],[35,6,35,11],[35,12,39,12],[35,13,39,13],[35,15,39,15],[39,3,39,5],[39,6,39,11],[35,23,39,23],[34,0,34,2],[34,3,34,5],[34,6,34,11],[34,13,34,14],[34,15,34,16],[34,17,34,18],[34,19,34,20],[23,19,28,19],[23,21,28,21],[23,23,28,23],[26,3,26,5],[26,6,26,11],[28,3,28,5],[28,6,28,11],[33,3,33,5],[33,6,33,11],[29,23,33,23],[29,17,33,17],[29,19,33,19],[29,21,33,21],[31,3,31,5],[31,6,31,11],[32,3,32,5],[32,6,32,11],[27,3,27,5],[27,6,27,11],[25,3,25,5],[25,6,25,11],[30,3,30,5],[30,6,30,11],[12,21,16,21],[18,15,22,15],[18,17,22,17],[18,19,22,19],[18,21,22,21],[18,23,22,23],[22,3,22,5],[22,6,22,11],[23,0,28,2],[23,3,23,5],[23,6,23,11],[23,12,28,12],[23,13,28,13],[23,15,28,15],[23,17,28,17],[18,0,22,2],[18,3,18,5],[18,6,18,11],[18,12,22,12],[18,13,22,13],[19,3,19,5],[19,6,19,11],[21,3,21,5],[21,6,21,11],[11,21,11,22],[11,23,11,24],[11,26,11,32],[11,6,11,11],[12,23,16,23],[16,3,16,5],[16,6,16,11],[17,0,17,2],[17,3,17,5],[17,6,17,11],[17,13,17,14],[17,15,17,16],[17,17,17,18],[17,19,17,20],[17,21,17,22],[17,23,17,24],[12,0,16,2],[12,3,12,5],[12,6,12,11],[12,12,16,12],[12,13,16,13],[12,15,16,15],[12,17,16,17],[12,19,16,19],[4,0,4,1],[4,2,4,5],[4,10,4,24],[10,0,10,24],[10,25,10,35],[40,25,44,25],[40,26,44,32],[40,34,44,34],[12,25,16,25],[12,26,16,32],[12,34,16,34],[18,25,22,25],[18,26,22,32],[18,34,22,34],[23,25,28,25],[23,26,28,32],[23,34,28,34],[17,26,17,32],[11,0,11,2],[11,3,11,5],[11,13,11,14],[11,15,11,16],[11,17,11,18],[11,19,11,20],[0,0,0,24],[0,25,0,26],[0,27,0,32],[0,33,0,35],[29,25,33,25],[29,26,33,32],[29,34,33,34],[35,25,39,25],[35,26,39,32],[35,34,39,34],[1,0,1,1],[1,2,1,5],[1,10,1,24],[2,0,2,1],[2,2,2,5],[2,11,2,24],[6,0,6,1],[6,2,6,35],[7,0,7,1],[7,2,7,35],[8,0,8,1],[8,2,8,35],[3,0,3,1],[3,10,3,24],[13,3,13,5],[13,6,13,11],[14,3,14,5],[14,6,14,11],[15,3,15,5],[15,6,15,11],[20,3,20,5],[20,6,20,11],[24,3,24,5],[24,6,24,11]]}
["Personalien",null,null,null,null,null,null,null,null,null,null,null,null,null,null,null,null,null,null,null,null,null,null,null,null,"Predisposizione",null,"Valutazioni",null,null,null,null,null,"Rating"]
["COGNOME",null,{"$f":"IF(ISBLANK(VLOOKUP(22,Tabelle3[],3,0)),\"-\",VLOOKUP(22,Tabelle3[],3,0))","v":"-"},null,null,null,"POSIZIONE",null,null,"INDIRIZZO",{"$f":"IF(ISBLANK(VLOOKUP(22,Tabelle3[],5,0)),\"-\",VLOOKUP(22,Tabelle3[],5,0))","v":"-"},null,null,null,null,null,null,null,null,null,null,null,null,null,null,"Età\" (biologica/età relativa)",null,"Data 1",null,null,"cm",null,"Kg",null,"ECCELLENTE",5]
["NOME",null,{"$f":"IF(ISBLANK(VLOOKUP(22,Tabelle3[],2,0)),\"-\",VLOOKUP(22,Tabelle3[],2,0))","v":"-"},null,null,null,"BASTONE",null,null,"LUOGO",{"$f":"IF(ISBLANK(VLOOKUP(22,Tabelle3[],7,0)),\"-\",VLOOKUP(22,Tabelle3[],7,0))","v":"-"},{"$f":"IF(ISBLANK(VLOOKUP(22,Tabelle3[],6,0)),\"-\",VLOOKUP(22,Tabelle3[],6,0))","v":"-"},null,null,null,null,null,null,null,null,null,null,null,null,null,"Predisposizione",null,"Data 2",null,null,"cm",null,"Kg",null,"BUONO",4]
["DATA DI NASC.",null,{"$f":"IF(ISBLANK(VLOOKUP(22,Tabelle3[],14,0)),\"-\",VLOOKUP(22,Tabelle3[],14,0))","v":"-"},{"$f":"IF(ISBLANK(VLOOKUP(22,Tabelle3[],15,0)),\"-\",VLOOKUP(22,Tabelle3[],15,0))","v":"-"},{"$f":"IF(ISBLANK(VLOOKUP(22,Tabelle3[],16,0)),\"-\",VLOOKUP(22,Tabelle3[],16,0))","v":"-"},null,"ALTEZZA",null,"cm (Finale)","TELEFONO",{"$f":"IF(ISBLANK(VLOOKUP(22,Tabelle3[],8,0)),\"-\",VLOOKUP(22,Tabelle3[],8,0))","v":"-"},null,null,null,null,null,null,null,null,null,null,null,null,null,null,"Ambiente di vita",null,"Data 3",null,null,"cm",null,"Kg",null,"MEDIO/DISCRETO",3]
["SESSO",null,{"$f":"IF(ISBLANK(VLOOKUP(22,Tabelle3[],13,0)),\"-\",VLOOKUP(22,Tabelle3[],13,0))","v":"-"},null,null,null,"PESO",null,"Kg (Finale)","E-Mail",{"$f":"IF(ISBLANK(VLOOKUP(22,Tabelle3[],9,0)),\"-\",VLOOKUP(22,Tabelle3[],9,0))","v":"-"},null,null,null,null,null,null,null,null,null,null,null,null,null,null,null,null,"Data 4",null,null,"cm",null,"Kg",null,"CON LACUNE",2]
[null,null,null,null,null,null,null,null,null,null,null,null,null,null,null,null,null,null,null,null,null,null,null,null,null,null,null,"Data 5",null,null,"cm",null,"Kg",null,"INSUFFICIENTE",1]
["Visione",null,"xxx"]
["Prossimo passo",null,"xxx"]
["Proflio giocatore",null,"xxx"]
[]
["VALUTAZIONI (COACH / GIOCATORE)",null,null,null,null,null,null,null,null,null,null,null,null,null,null,null,null,null,null,null,null,null,null,null,null,"Obiettivi SMART"]
[{"$f":"'Spiegazioni Skills FTEM'!A3","v":"TEAM"},null,null,{"$f":"'Spiegazioni Skills FTEM'!B3","v":"CAPACITÀ"},null,null,{"$f":"'Spiegazioni Skills FTEM'!C3","v":"CRITERIO D'OSSERVAZIONE"},null,null,{"$f":"'Spiegazioni Skills FTEM'!H3","v":0},null,null,"Final","Data1",null,"Data2",null,"Data3",null,"Data4",null,"Data5",null,"Player",null,"OBIETTIVO","PROVVEDIMENTI:\n(SPECIFICI, MISURABILI, REALISTICI)",null,null,null,null,null,null,"TERMINE","COTROLLO DELL'OBIETTIVO","Data"]
[{"$f":"'Spiegazioni Skills FTEM'!A4","v":"SQUADRA"},null,null,{"$f":"IF($H$2=\"G\",'Spiegazioni Skills FTEM'!F4,'Spiegazioni Skills FTEM'!B4)","v":"Comunicazione"},null,null,{"$f":"IF($H$2=\"G\",'Spiegazioni Skills FTEM'!G4,'Spiegazioni Skills FTEM'!C4)","v":"Cura relazioni aperte e rispettose, fiducia quale base comportamentale, affronta i conflitti senza ledere la stabilità del gruppo, comunica con i compagni, gli allenatori e\nfunzionari con i medesimi valori"},null,null,{"$f":"IF($H$2=\"G\",'Spiegazioni Skills FTEM'!#REF!,'Spiegazioni Skills FTEM'!#REF!)","v":{"$error":"#REF!"}},null,null,null,{"$f":"IFERROR(AVERAGE(O13:O17),\"-\")","v":"-"},null,{"$f":"IFERROR(AVERAGE(Q13:Q17),\"-\")","v":"-"},null,{"$f":"IFERROR(AVERAGE(S13:S17),\"-\")","v":"-"},null,{"$f":"IFERROR(AVERAGE(U13:U17),\"-\")","v":"-"},null,{"$f":"IFERROR(AVERAGE(W13:W17),\"-\")","v":"-"},null,{"$f":"IFERROR(AVERAGE(Y13:Y17),\"-\")","v":"-"}]
[{"$f":"'Spiegazioni Skills FTEM'!A5","v":0},null,null,{"$f":"IF($H$2=\"G\",'Spiegazioni Skills FTEM'!F5,'Spiegazioni Skills FTEM'!B5)","v":"Capacità nella squadra"},null,null,{"$f":"IF($H$2=\"G\",'Spiegazioni Skills FTEM'!G5,'Spiegazioni Skills FTEM'!C5)","v":"Integrazione nel gruppo, definisce e realizza obiettivi comuni, NOI prima dell'IO, contribuisce a creare un buon spirito di squadra e clima di lavoro"},null,null,{"$f":"IF($H$2=\"G\",'Spiegazioni Skills FTEM'!#REF!,'Spiegazioni Skills FTEM'!#REF!)","v":{"$error":"#REF!"}}]
[{"$f":"'Spiegazioni Skills FTEM'!A6","v":0},null,null,{"$f":"IF($H$2=\"G\",'Spiegazioni Skills FTEM'!F6,'Spiegazioni Skills FTEM'!B6)","v":"Leadership"},null,null,{"$f":"IF($H$2=\"G\",'Spiegazioni Skills FTEM'!G6,'Spiegazioni Skills FTEM'!C6)","v":"Assume responsabilità nell'ambito del gruppo, cerca di migliorare la squadra e i compagni, influenza positivamente la dinamica di gruppo"},null,null,{"$f":"IF($H$2=\"G\",'Spiegazioni Skills FTEM'!#REF!,'Spiegazioni Skills FTEM'!#REF!)","v":{"$error":"#REF!"}}]
[{"$f":"'Spiegazioni Skills FTEM'!A7","v":0},null,null,{"$f":"IF($H$2=\"G\",'Spiegazioni Skills FTEM'!F7,'Spiegazioni Skills FTEM'!B7)","v":"Ripartizione dei ruoli"},null,null,{"$f":"IF($H$2=\"G\",'Spiegazioni Skills FTEM'!G7,'Spiegazioni Skills FTEM'!C7)","v":"Riconosce e adempie il suo ruolo, è cosciente della sua posizione nel sistema e nella squadra, mette a disposizione della squadra le sue competenze"},null,null,{"$f":"IF($H$2=\"G\",'Spiegazioni Skills FTEM'!#REF!,'Spiegazioni Skills FTEM'!#REF!)","v":{"$error":"#REF!"}}]
[{"$f":"'Spiegazioni Skills FTEM'!A8","v":0},null,null,{"$f":"IF($H$2=\"G\",'Spiegazioni Skills FTEM'!F8,'Spiegazioni Skills FTEM'!B8)","v":"Rispetto"},null,null,{"$f":"IF($H$2=\"G\",'Spiegazioni Skills FTEM'!G8,'Spiegazioni Skills FTEM'!C8)","v":"Relazioni rispettose con i compagni, allenatori, avversari, arbitri e staff; rispetta le regole i pricipi del fairplay (compreso la lotta al doping)"},null,null,{"$f":"IF($H$2=\"G\",'Spiegazioni Skills FTEM'!#REF!,'Spiegazioni Skills FTEM'!#REF!)","v":{"$error":"#REF!"}}]
[{"$f":"'Spiegazioni Skills FTEM'!A9","v":"ON ICE"},null,null,{"$f":"'Spiegazioni Skills FTEM'!B9","v":"CAPACITÀ"},null,null,{"$f":"'Spiegazioni Skills FTEM'!C9","v":"CRITERIO D'OSSERVAZIONE"},null,null,{"$f":"'Spiegazioni Skills FTEM'!H9","v":0},null,null,null,"Data1",null,"Data2",null,"Data3",null,"Data4",null,"Data5",null,"Player",null,"OBIETTIVO","PROVVEDIMENTI:\n(SPECIFICI, MISURABILI, REALISTICI)",null,null,null,null,null,null,"TERMINE","COTROLLO DELL'OBIETTIVO","Date"]
[{"$f":"'Spiegazioni Skills FTEM'!A10","v":"PATTINAGGIO"},null,null,{"$f":"IF($H$2=\"G\",'Spiegazioni Skills FTEM'!F10,'Spiegazioni Skills FTEM'!B10)","v":"Velocità dei piedi"},null,null,{"$f":"IF($H$2=\"G\",'Spiegazioni Skills FTEM'!G10,'Spiegazioni Skills FTEM'!C10)","v":"Accelerazione, partenza, esplosività dei primi 3 passi, frequenza"},null,null,{"$f":"IF($H$2=\"G\",'Spiegazioni Skills FTEM'!#REF!,'Spiegazioni Skills FTEM'!#REF!)","v":{"$error":"#REF!"}},null,null,null,{"$f":"IFERROR(AVERAGE(O19:O23),\"-\")","v":"-"},null,{"$f":"IFERROR(AVERAGE(Q19:Q23),\"-\")","v":"-"},null,{"$f":"IFERROR(AVERAGE(S19:S23),\"-\")","v":"-"},null,{"$f":"IFERROR(AVERAGE(U19:U23),\"-\")","v":"-"},null,{"$f":"IFERROR(AVERAGE(W19:W23),\"-\")","v":"-"},null,{"$f":"IFERROR(AVERAGE(Y19:Y23),\"-\")","v":"-"}]
[{"$f":"'Spiegazioni Skills FTEM'!A11:A11","v":0},null,null,{"$f":"IF($H$2=\"G\",'Spiegazioni Skills FTEM'!F11,'Spiegazioni Skills FTEM'!B11)","v":"Velocità/rapidità"},null,null,{"$f":"IF($H$2=\"G\",'Spiegazioni Skills FTEM'!G11,'Spiegazioni Skills FTEM'!C11)","v":"Velocità, facoltà di scivolare, avanti / indietro, economia dello sforzo"},null,null,{"$f":"IF($H$2=\"G\",'Spiegazioni Skills FTEM'!#REF!,'Spiegazioni Skills FTEM'!#REF!)","v":{"$error":"#REF!"}}]
[null,null,null,{"$f":"IF($H$2=\"G\",'Spiegazioni Skills FTEM'!F12,'Spiegazioni Skills FTEM'!B12)","v":"Agilità"},null,null,{"$f":"IF($H$2=\"G\",'Spiegazioni Skills FTEM'!G12,'Spiegazioni Skills FTEM'!C12)","v":"Cambiamento di direzione, girarsi, stop e ripartenza, \"Nummelin\""},null,null,{"$f":"IF($H$2=\"G\",'Spiegazioni Skills FTEM'!#REF!,'Spiegazioni Skills FTEM'!#REF!)","v":{"$error":"#REF!"}}]
[{"$f":"'Spiegazioni Skills FTEM'!A12:A12","v":0},null,null,{"$f":"IF($H$2=\"G\",'Spiegazioni Skills FTEM'!F13,'Spiegazioni Skills FTEM'!B13)","v":"Equilibrio"},null,null,{"$f":"IF($H$2=\"G\",'Spiegazioni Skills FTEM'!G13,'Spiegazioni Skills FTEM'!C13)","v":"Equilibrio, stabilità, posizione bassa, su una gamba, su entrambe"},null,null,{"$f":"IF($H$2=\"G\",'Spiegazioni Skills FTEM'!#REF!,'Spiegazioni Skills FTEM'!#REF!)","v":{"$error":"#REF!"}},null,null,null,{"$f":"IFERROR(AVERAGE(O22:O23),\"-\")","v":"-"},null,{"$f":"IFERROR(AVERAGE(Q22:Q23),\"-\")","v":"-"},null,{"$f":"IFERROR(AVERAGE(S22:S23),\"-\")","v":"-"},null,{"$f":"IFERROR(AVERAGE(U22:U23),\"-\")","v":"-"},null,{"$f":"IFERROR(AVERAGE(W22:W23),\"-\")","v":"-"},null,"-"]
[{"$f":"'Spiegazioni Skills FTEM'!A14:A14","v":0},null,null,{"$f":"IF($H$2=\"G\",'Spiegazioni Skills FTEM'!F14,'Spiegazioni Skills FTEM'!B14)","v":"Pattinaggio indietro"},null,null,{"$f":"IF($H$2=\"G\",'Spiegazioni Skills FTEM'!G14,'Spiegazioni Skills FTEM'!C14)","v":"Accelerazione, velocità, equilibrio"},null,null,{"$f":"IF($H$2=\"G\",'Spiegazioni Skills FTEM'!#REF!,'Spiegazioni Skills FTEM'!#REF!)","v":{"$error":"#REF!"}}]
[{"$f":"'Spiegazioni Skills FTEM'!A15","v":"ABILITÀ"},null,null,{"$f":"IF($H$2=\"G\",'Spiegazioni Skills FTEM'!F15,'Spiegazioni Skills FTEM'!B15)","v":"Tirare"},null,null,{"$f":"IF($H$2=\"G\",'Spiegazioni Skills FTEM'!G15,'Spiegazioni Skills FTEM'!C15)","v":"Efficienza (poco spazio, poco tempo), ricchezza di varianti, grado di sorpresa (Quick Release), precisione, potenza (conclusioni tattiche)"},null,null,{"$f":"IF($H$2=\"G\",'Spiegazioni Skills FTEM'!#REF!,'Spiegazioni Skills FTEM'!#REF!)","v":{"$error":"#REF!"}},null,null,null,{"$f":"IFERROR(AVERAGE(O24:O29),\"-\")","v":"-"},null,{"$f":"IFERROR(AVERAGE(Q24:Q29),\"-\")","v":"-"},null,{"$f":"IFERROR(AVERAGE(S24:S29),\"-\")","v":"-"},null,{"$f":"IFERROR(AVERAGE(U24:U29),\"-\")","v":"-"},null,{"$f":"IFERROR(AVERAGE(W24:W29),\"-\")","v":"-"},null,{"$f":"IFERROR(AVERAGE(Y24:Y29),\"-\")","v":"-"}]
[null,null,null,{"$f":"IF($H$2=\"G\",'Spiegazioni Skills FTEM'!F16,'Spiegazioni Skills FTEM'!B16)","v":"Passare"},null,null,{"$f":"IF($H$2=\"G\",'Spiegazioni Skills FTEM'!G16,'Spiegazioni Skills FTEM'!C16)","v":"Passaggio (distanza, flipp, rovescio), ricezione del passaggio (precisione, timing, diritto, rovescio, sul pattino), velocità del disco"},null,null,{"$f":"IF($H$2=\"G\",'Spiegazioni Skills FTEM'!#REF!,'Spiegazioni Skills FTEM'!#REF!)","v":{"$error":"#REF!"}}]
[null,null,null,{"$f":"IF($H$2=\"G\",'Spiegazioni Skills FTEM'!F17,'Spiegazioni Skills FTEM'!B17)","v":"Lavoro col bastone - condotta del disco"},null,null,{"$f":"IF($H$2=\"G\",'Spiegazioni Skills FTEM'!G17,'Spiegazioni Skills FTEM'!C17)","v":"Bastone sul disco, intercettare le linee di passaggio, deviare, controllo del bastone avversario"},null,null,{"$f":"IF($H$2=\"G\",'Spiegazioni Skills FTEM'!#REF!,'Spiegazioni Skills FTEM'!#REF!)","v":{"$error":"#REF!"}}]
[{"$f":"'Spiegazioni Skills FTEM'!A16:A16","v":0},null,null,{"$f":"IF($H$2=\"G\",'Spiegazioni Skills FTEM'!F18,'Spiegazioni Skills FTEM'!B18)","v":"Possedere/proteggere il disco"},null,null,{"$f":"IF($H$2=\"G\",'Spiegazioni Skills FTEM'!G18,'Spiegazioni Skills FTEM'!C18)","v":"Controllo del disco, dribbling, protezione del disco, finte (varianti col pattino, con o senza la balaustra), ingaggi (face-off)"},null,null,{"$f":"IF($H$2=\"G\",'Spiegazioni Skills FTEM'!#REF!,'Spiegazioni Skills FTEM'!#REF!)","v":{"$error":"#REF!"}}]
[{"$f":"'Spiegazioni Skills FTEM'!A17:A17","v":0},null,null,{"$f":"IF($H$2=\"G\",'Spiegazioni Skills FTEM'!F19,'Spiegazioni Skills FTEM'!B19)","v":"Gioco del corpo"},null,null,{"$f":"IF($H$2=\"G\",'Spiegazioni Skills FTEM'!G19,'Spiegazioni Skills FTEM'!C19)","v":"Facoltà di imporsi fisicamente, duelli (ghiaccio aperto, balaustra), subire dei checks/testa alta, livello di lotta, duro ma corretto, blocco dei tiri con il corpo"},null,null,{"$f":"IF($H$2=\"G\",'Spiegazioni Skills FTEM'!#REF!,'Spiegazioni Skills FTEM'!#REF!)","v":{"$error":"#REF!"}}]
[{"$f":"'Spiegazioni Skills FTEM'!A20:A20","v":0},null,null,{"$f":"IF($H$2=\"G\",'Spiegazioni Skills FTEM'!F20,'Spiegazioni Skills FTEM'!B20)","v":"-"},null,null,{"$f":"IF($H$2=\"G\",'Spiegazioni Skills FTEM'!G20,'Spiegazioni Skills FTEM'!C20)","v":"-"},null,null,{"$f":"IF($H$2=\"G\",'Spiegazioni Skills FTEM'!#REF!,'Spiegazioni Skills FTEM'!#REF!)","v":{"$error":"#REF!"}}]
[{"$f":"'Spiegazioni Skills FTEM'!A21","v":"SENSO DELL'HOCKEY"},null,null,{"$f":"IF($H$2=\"G\",'Spiegazioni Skills FTEM'!F21,'Spiegazioni Skills FTEM'!B21)","v":"Intelligenza nel gioco"},null,null,{"$f":"IF($H$2=\"G\",'Spiegazioni Skills FTEM'!G21,'Spiegazioni Skills FTEM'!C21)","v":"Vedere spazi e giocatori liberi, creare situazioni di superiorità numerica, agire cercando soluzioni in tutte le situazioni, velocità di visualizzazione"},null,null,{"$f":"IF($H$2=\"G\",'Spiegazioni Skills FTEM'!#REF!,'Spiegazioni Skills FTEM'!#REF!)","v":{"$error":"#REF!"}},null,null,null,{"$f":"IFERROR(AVERAGE(O30:O34),\"-\")","v":"-"},null,{"$f":"IFERROR(AVERAGE(Q30:Q34),\"-\")","v":"-"},null,{"$f":"IFERROR(AVERAGE(S30:S34),\"-\")","v":"-"},null,{"$f":"IFERROR(AVERAGE(U30:U34),\"-\")","v":"-"},null,{"$f":"IFERROR(AVERAGE(W30:W34),\"-\")","v":"-"},null,{"$f":"IFERROR(AVERAGE(Y30:Y34),\"-\")","v":"-"}]
[{"$f":"'Spiegazioni Skills FTEM'!A22:A22","v":0},null,null,{"$f":"IF($H$2=\"G\",'Spiegazioni Skills FTEM'!F22,'Spiegazioni Skills FTEM'!B22)","v":"Sensibilità offensiva"},null,null,{"$f":"IF($H$2=\"G\",'Spiegazioni Skills FTEM'!G22,'Spiegazioni Skills FTEM'!C22)","v":"Smarcarsi, anticipare le situazioni di gioco, aprire spazi liberi per i compagni, piazzarsi per le conclusioni, velocità nel chiudere gli spazi (pressione), comunicazione"},null,null,{"$f":"IF($H$2=\"G\",'Spiegazioni Skills FTEM'!#REF!,'Spiegazioni Skills FTEM'!#REF!)","v":{"$error":"#REF!"}}]
[null,null,null,{"$f":"IF($H$2=\"G\",'Spiegazioni Skills FTEM'!F23,'Spiegazioni Skills FTEM'!B23)","v":"Sensibilità difensiva"},null,null,{"$f":"IF($H$2=\"G\",'Spiegazioni Skills FTEM'!G23,'Spiegazioni Skills FTEM'!C23)","v":"Mantenere la posizione difensiva, protezione dello slot, assicurare i compagni / supporto, individuare le linee di passaggio, bloccare i tiri, ridurre velocemente gli spazi, comunicazione"},null,null,{"$f":"IF($H$2=\"G\",'Spiegazioni Skills FTEM'!#REF!,'Spiegazioni Skills FTEM'!#REF!)","v":{"$error":"#REF!"}}]
[{"$f":"'Spiegazioni Skills FTEM'!A24:A24","v":0},null,null,{"$f":"IF($H$2=\"G\",'Spiegazioni Skills FTEM'!F24,'Spiegazioni Skills FTEM'!B24)","v":"Gestione del disco"},null,null,{"$f":"IF($H$2=\"G\",'Spiegazioni Skills FTEM'!G24,'Spiegazioni Skills FTEM'!C24)","v":"Prendere decisioni adeguate nelle situazioni di gioco, supporto, creare superiorità numerica"},null,null,{"$f":"IF($H$2=\"G\",'Spiegazioni Skills FTEM'!#REF!,'Spiegazioni Skills FTEM'!#REF!)","v":{"$error":"#REF!"}}]
[{"$f":"'Spiegazioni Skills FTEM'!A25:A25","v":0},null,null,{"$f":"IF($H$2=\"G\",'Spiegazioni Skills FTEM'!F25,'Spiegazioni Skills FTEM'!B25)","v":"Creatività"},null,null,{"$f":"IF($H$2=\"G\",'Spiegazioni Skills FTEM'!G25,'Spiegazioni Skills FTEM'!C25)","v":"Creare situazioni a sorpresa, fiuto del gol"},null,null,{"$f":"IF($H$2=\"G\",'Spiegazioni Skills FTEM'!#REF!,'Spiegazioni Skills FTEM'!#REF!)","v":{"$error":"#REF!"}}]
[{"$f":"'Spiegazioni Skills FTEM'!A26","v":"PERSONALITY"},null,null,{"$f":"'Spiegazioni Skills FTEM'!B26","v":"CAPACITÀ"},null,null,{"$f":"'Spiegazioni Skills FTEM'!C26","v":"CRITERIO D'OSSERVAZIONE"},null,null,{"$f":"'Spiegazioni Skills FTEM'!H26","v":0},null,null,null,"Data1",null,"Data2",null,"Data3",null,"Data4",null,"Data5",null,"Player",null,"OBIETTIVO","PROVVEDIMENTI:\n(SPECIFICI, MISURABILI, REALISTICI)",null,null,null,null,null,null,"TERMINE","COTROLLO DELL'OBIETTIVO","Date"]
[{"$f":"'Spiegazioni Skills FTEM'!A27","v":"PERSONALITÀ"},null,null,{"$f":"IF($H$2=\"G\",'Spiegazioni Skills FTEM'!F27,'Spiegazioni Skills FTEM'!B27)","v":"Fiducia in se stesso"},null,null,{"$f":"IF($H$2=\"G\",'Spiegazioni Skills FTEM'!G27,'Spiegazioni Skills FTEM'!C27)","v":"Possiede la necessaria fiducia in se stesso, «I can do it»-attitudine, sa valutare le proprie capacità (conosce i propri punti forti e deboli), può realizzare le proprie qualità con\ncostanza, è coraggioso e sa prendere dei rischi calcolati"},null,null,{"$f":"IF($H$2=\"G\",'Spiegazioni Skills FTEM'!#REF!,'Spiegazioni Skills FTEM'!#REF!)","v":{"$error":"#REF!"}},null,null,null,{"$f":"IFERROR(AVERAGE(O36:O40),\"-\")","v":"-"},null,{"$f":"IFERROR(AVERAGE(Q36:Q40),\"-\")","v":"-"},null,{"$f":"IFERROR(AVERAGE(S36:S40),\"-\")","v":"-"},null,{"$f":"IFERROR(AVERAGE(U36:U40),\"-\")","v":"-"},null,{"$f":"IFERROR(AVERAGE(W36:W40),\"-\")","v":"-"},null,{"$f":"IFERROR(AVERAGE(Y36:Y40),\"-\")","v":"-"}]
[{"$f":"'Spiegazioni Skills FTEM'!A28:A28","v":0},null,null,{"$f":"IF($H$2=\"G\",'Spiegazioni Skills FTEM'!F28,'Spiegazioni Skills FTEM'!B28)","v":"Capacità d'apprendimento"},null,null,{"$f":"IF($H$2=\"G\",'Spiegazioni Skills FTEM'!G28,'Spiegazioni Skills FTEM'!C28)","v":"Ha una buona capacità d'apprendimento (sa recepire e realizzare), possiede una personalità, cerca di imparare dai propri errori derivandone delle misure"},null,null,{"$f":"IF($H$2=\"G\",'Spiegazioni Skills FTEM'!#REF!,'Spiegazioni Skills FTEM'!#REF!)","v":{"$error":"#REF!"}}]
[null,null,null,{"$f":"IF($H$2=\"G\",'Spiegazioni Skills FTEM'!F29,'Spiegazioni Skills FTEM'!B29)","v":"Senso di responsabilità"},null,null,{"$f":"IF($H$2=\"G\",'Spiegazioni Skills FTEM'!G29,'Spiegazioni Skills FTEM'!C29)","v":"Assume responsabiltà per le proprie prestazioni e sviluppo, agisce autonomamente, cura i dettagli, mostra un grande impegno in tutti i settori"},null,null,{"$f":"IF($H$2=\"G\",'Spiegazioni Skills FTEM'!#REF!,'Spiegazioni Skills FTEM'!#REF!)","v":{"$error":"#REF!"}}]
[{"$f":"'Spiegazioni Skills FTEM'!A30:A30","v":0},null,null,{"$f":"IF($H$2=\"G\",'Spiegazioni Skills FTEM'!F30,'Spiegazioni Skills FTEM'!B30)","v":"Motivazione"},null,null,{"$f":"IF($H$2=\"G\",'Spiegazioni Skills FTEM'!G30,'Spiegazioni Skills FTEM'!C30)","v":"È sempre motivato, vuole sempre svilupparsi e imparare, vuol essere il primo e avere successo, non rinuncia mai e non si lascia influenzare dagli insuccessi"},null,null,{"$f":"IF($H$2=\"G\",'Spiegazioni Skills FTEM'!#REF!,'Spiegazioni Skills FTEM'!#REF!)","v":{"$error":"#REF!"}}]
[{"$f":"'Spiegazioni Skills FTEM'!A31:A31","v":0},null,null,{"$f":"IF($H$2=\"G\",'Spiegazioni Skills FTEM'!F31,'Spiegazioni Skills FTEM'!B31)","v":"Prestazione Stile di vita"},null,null,{"$f":"IF($H$2=\"G\",'Spiegazioni Skills FTEM'!G31,'Spiegazioni Skills FTEM'!C31)","v":"Gestisce bene la quotidianità il suo ambiente seguendo i principi della prestazione, caparbio, perseverante e finalizzato sugli obiettivi, focus sulla propria prestazione, coraggioso e grintoso, sa imporsi nei confronti delle resistenze, le sfide lo motivano"},null,null,{"$f":"IF($H$2=\"G\",'Spiegazioni Skills FTEM'!#REF!,'Spiegazioni Skills FTEM'!#REF!)","v":{"$error":"#REF!"}}]
[{"$f":"'Spiegazioni Skills FTEM'!A32","v":"FORZA MENTALE"},null,null,{"$f":"IF($H$2=\"G\",'Spiegazioni Skills FTEM'!F32,'Spiegazioni Skills FTEM'!B32)","v":"Impegno"},null,null,{"$f":"IF($H$2=\"G\",'Spiegazioni Skills FTEM'!G32,'Spiegazioni Skills FTEM'!C32)","v":"Mostra molta intensità negli allenamenti e nelle partite, dà sempre il massimo e vuole sempre spronare i propri limiti, mostra passione, si sforza ad alzare la qualità negli allenamenti"},null,null,{"$f":"IF($H$2=\"G\",'Spiegazioni Skills FTEM'!#REF!,'Spiegazioni Skills FTEM'!#REF!)","v":{"$error":"#REF!"}},null,null,null,{"$f":"IFERROR(AVERAGE(O41:O45),\"-\")","v":"-"},null,{"$f":"IFERROR(AVERAGE(Q41:Q45),\"-\")","v":"-"},null,{"$f":"IFERROR(AVERAGE(S41:S45),\"-\")","v":"-"},null,{"$f":"IFERROR(AVERAGE(U41:U45),\"-\")","v":"-"},null,{"$f":"IFERROR(AVERAGE(W41:W45),\"-\")","v":"-"},null,{"$f":"IFERROR(AVERAGE(Y41:Y45),\"-\")","v":"-"}]
[null,null,null,{"$f":"IF($H$2=\"G\",'Spiegazioni Skills FTEM'!F33,'Spiegazioni Skills FTEM'!B33)","v":"Preparazione"},null,null,{"$f":"IF($H$2=\"G\",'Spiegazioni Skills FTEM'!G33,'Spiegazioni Skills FTEM'!C33)","v":"Preparazione consapevole e finalizzata, mentalmente e fisicamente, possiede un efficiente approccio per l'ottenimento dell'ideale stato di prestazione (ILZ/ISP)"},null,null,{"$f":"IF($H$2=\"G\",'Spiegazioni Skills FTEM'!#REF!,'Spiegazioni Skills FTEM'!#REF!)","v":{"$error":"#REF!"}}]
[{"$f":"'Spiegazioni Skills FTEM'!A34:A34","v":0},null,null,{"$f":"IF($H$2=\"G\",'Spiegazioni Skills FTEM'!F34,'Spiegazioni Skills FTEM'!B34)","v":"Coaching individuale"},null,null,{"$f":"IF($H$2=\"G\",'Spiegazioni Skills FTEM'!G34,'Spiegazioni Skills FTEM'!C34)","v":"Possiede una buona capacità di concentrazione, può mantenere il suo ILZ/ISP durante la partita e l'allenamento, può utilizzare tecniche di base per rafforzare il mentale, resistenti contro pensieri e influenze negative, è consapevole del proprio linguaggio del corpo che è in grado di padroneggiare"},null,null,{"$f":"IF($H$2=\"G\",'Spiegazioni Skills FTEM'!#REF!,'Spiegazioni Skills FTEM'!#REF!)","v":{"$error":"#REF!"}}]
[{"$f":"'Spiegazioni Skills FTEM'!A35:A35","v":0},null,null,{"$f":"IF($H$2=\"G\",'Spiegazioni Skills FTEM'!F35,'Spiegazioni Skills FTEM'!B35)","v":"Gestione delle energie"},null,null,{"$f":"IF($H$2=\"G\",'Spiegazioni Skills FTEM'!G35,'Spiegazioni Skills FTEM'!C35)","v":"Può gestire le proprie energie, cura la rigenerazione, può gestire i momenti in cui si deve andare al massimo oppure risparmiarsi, interruttore on/off"},null,null,{"$f":"IF($H$2=\"G\",'Spiegazioni Skills FTEM'!#REF!,'Spiegazioni Skills FTEM'!#REF!)","v":{"$error":"#REF!"}}]
[{"$f":"'Spiegazioni Skills FTEM'!A36:A36","v":0},null,null,{"$f":"IF($H$2=\"G\",'Spiegazioni Skills FTEM'!F36,'Spiegazioni Skills FTEM'!B36)","v":"Controllo delle emozioni"},null,null,{"$f":"IF($H$2=\"G\",'Spiegazioni Skills FTEM'!G36,'Spiegazioni Skills FTEM'!C36)","v":"Può regolare le proprie emozioni e impulsi, mantiene il controllo quando si trova sotto pressione, sa anche agire adeguatamente in situazioni emotive o frustranti"},null,null,{"$f":"IF($H$2=\"G\",'Spiegazioni Skills FTEM'!#REF!,'Spiegazioni Skills FTEM'!#REF!)","v":{"$error":"#REF!"}}]
[{"$f":"'Spiegazioni Skills FTEM'!A37","v":"FISICO"},null,null,{"$f":"IF($H$2=\"G\",'Spiegazioni Skills FTEM'!F37,'Spiegazioni Skills FTEM'!B37)","v":"Produzione di prestazione"},null,null,{"$f":"IF($H$2=\"G\",'Spiegazioni Skills FTEM'!G37,'Spiegazioni Skills FTEM'!C37)","v":"Possiede nelle gambe e nella parte alta del corpo la necessaria potenza/forza/velocità (fattori neuromuscolari)"},null,null,{"$f":"IF($H$2=\"G\",'Spiegazioni Skills FTEM'!#REF!,'Spiegazioni Skills FTEM'!#REF!)","v":{"$error":"#REF!"}},null,null,null,{"$f":"IFERROR(AVERAGE(O46:O50),\"-\")","v":"-"},null,{"$f":"IFERROR(AVERAGE(Q46:Q50),\"-\")","v":"-"},null,{"$f":"IFERROR(AVERAGE(S46:S50),\"-\")","v":"-"},null,{"$f":"IFERROR(AVERAGE(U46:U50),\"-\")","v":"-"},null,{"$f":"IFERROR(AVERAGE(W46:W50),\"-\")","v":"-"},null,{"$f":"IFERROR(AVERAGE(Y46:Y50),\"-\")","v":"-"}]
[null,null,null,{"$f":"IF($H$2=\"G\",'Spiegazioni Skills FTEM'!F38,'Spiegazioni Skills FTEM'!B38)","v":"Resistenza specifica alla fatica"},null,null,{"$f":"IF($H$2=\"G\",'Spiegazioni Skills FTEM'!G38,'Spiegazioni Skills FTEM'!C38)","v":"È capace di mantenere a lungo nell'ambito di un impiego la potenza/forza/velocità ed è capace di recuperare completamente attraverso i vari impieghi sul ghiaccio (fattori metabolici e cardiovascolari)"},null,null,{"$f":"IF($H$2=\"G\",'Spiegazioni Skills FTEM'!#REF!,'Spiegazioni Skills FTEM'!#REF!)","v":{"$error":"#REF!"}}]
[{"$f":"'Spiegazioni Skills FTEM'!A39:A39","v":0},null,null,{"$f":"IF($H$2=\"G\",'Spiegazioni Skills FTEM'!F39,'Spiegazioni Skills FTEM'!B39)","v":"Salute / prevenzione"},null,null,{"$f":"IF($H$2=\"G\",'Spiegazioni Skills FTEM'!G39,'Spiegazioni Skills FTEM'!C39)","v":"Possiede la necessaria stabilità (stabilità delle gambe) e mobilità delle articolazioni centrali"},null,null,{"$f":"IF($H$2=\"G\",'Spiegazioni Skills FTEM'!#REF!,'Spiegazioni Skills FTEM'!#REF!)","v":{"$error":"#REF!"}}]
[{"$f":"'Spiegazioni Skills FTEM'!A40:A40","v":0},null,null,{"$f":"IF($H$2=\"G\",'Spiegazioni Skills FTEM'!F40,'Spiegazioni Skills FTEM'!B40)","v":"Competenze della mobilità"},null,null,{"$f":"IF($H$2=\"G\",'Spiegazioni Skills FTEM'!G40,'Spiegazioni Skills FTEM'!C40)","v":"Padroneggia le basilari capacità di movimento che garantiscono in modo determinante le abilità specifiche \"skills\", come pure l'efficacia dei movimenti"},null,null,{"$f":"IF($H$2=\"G\",'Spiegazioni Skills FTEM'!#REF!,'Spiegazioni Skills FTEM'!#REF!)","v":{"$error":"#REF!"}}]
[{"$f":"'Spiegazioni Skills FTEM'!A41:A41","v":0},null,null,{"$f":"IF($H$2=\"G\",'Spiegazioni Skills FTEM'!F41,'Spiegazioni Skills FTEM'!B41)","v":"Robustezza"},null,null,{"$f":"IF($H$2=\"G\",'Spiegazioni Skills FTEM'!G41,'Spiegazioni Skills FTEM'!C41)","v":"Possiede la necessaria forza di base (tensione del corpo) per vincere i duelli e resistere alle cariche"},null,null,{"$f":"IF($H$2=\"G\",'Spiegazioni Skills FTEM'!#REF!,'Spiegazioni Skills FTEM'!#REF!)","v":{"$error":"#REF!"}}]

{"sheet":"23","index":26,"n_rows":50,"n_cols":36,"rows_kept":50,"cut":false,"hidden":false,"merged":[[45,34,49,34],[45,12,49,12],[45,13,49,13],[45,15,49,15],[45,17,49,17],[45,19,49,19],[45,21,49,21],[45,23,49,23],[45,25,49,25],[45,26,49,32],[45,0,49,2],[45,3,45,5],[45,6,45,11],[46,3,46,5],[46,6,46,11],[48,3,48,5],[48,6,48,11],[49,3,49,5],[49,6,49,11],[47,3,47,5],[47,6,47,11],[40,23,44,23],[42,3,42,5],[42,6,42,11],[44,3,44,5],[44,6,44,11],[40,0,44,2],[40,3,40,5],[40,6,40,11],[40,12,44,12],[40,13,44,13],[40,15,44,15],[43,3,43,5],[43,6,43,11],[34,21,34,22],[35,17,39,17],[35,19,39,19],[35,21,39,21],[37,3,37,5],[37,6,37,11],[38,3,38,5],[38,6,38,11],[40,17,44,17],[40,19,44,19],[40,21,44,21],[36,3,36,5],[36,6,36,11],[41,3,41,5],[41,6,41,11],[29,0,33,2],[29,3,29,5],[29,6,29,11],[29,12,33,12],[29,13,33,13],[29,15,33,15],[34,23,34,24],[34,26,34,32],[35,0,39,2],[35,3,35,5],[35,6,35,11],[35,12,39,12],[35,13,39,13],[35,15,39,15],[39,3,39,5],[39,6,39,11],[35,23,39,23],[34,0,34,2],[34,3,34,5],[34,6,34,11],[34,13,34,14],[34,15,34,16],[34,17,34,18],[34,19,34,20],[23,19,28,19],[23,21,28,21],[23,23,28,23],[26,3,26,5],[26,6,26,11],[28,3,28,5],[28,6,28,11],[33,3,33,5],[33,6,33,11],[29,23,33,23],[29,17,33,17],[29,19,33,19],[29,21,33,21],[31,3,31,5],[31,6,31,11],[32,3,32,5],[32,6,32,11],[27,3,27,5],[27,6,27,11],[25,3,25,5],[25,6,25,11],[30,3,30,5],[30,6,30,11],[12,21,16,21],[18,15,22,15],[18,17,22,17],[18,19,22,19],[18,21,22,21],[18,23,22,23],[22,3,22,5],[22,6,22,11],[23,0,28,2],[23,3,23,5],[23,6,23,11],[23,12,28,12],[23,13,28,13],[23,15,28,15],[23,17,28,17],[18,0,22,2],[18,3,18,5],[18,6,18,11],[18,12,22,12],[18,13,22,13],[19,3,19,5],[19,6,19,11],[21,3,21,5],[21,6,21,11],[11,21,11,22],[11,23,11,24],[11,26,11,32],[11,6,11,11],[12,23,16,23],[16,3,16,5],[16,6,16,11],[17,0,17,2],[17,3,17,5],[17,6,17,11],[17,13,17,14],[17,15,17,16],[17,17,17,18],[17,19,17,20],[17,21,17,22],[17,23,17,24],[12,0,16,2],[12,3,12,5],[12,6,12,11],[12,12,16,12],[12,13,16,13],[12,15,16,15],[12,17,16,17],[12,19,16,19],[4,0,4,1],[4,2,4,5],[4,10,4,24],[10,0,10,24],[10,25,10,35],[40,25,44,25],[40,26,44,32],[40,34,44,34],[12,25,16,25],[12,26,16,32],[12,34,16,34],[18,25,22,25],[18,26,22,32],[18,34,22,34],[23,25,28,25],[23,26,28,32],[23,34,28,34],[17,26,17,32],[11,0,11,2],[11,3,11,5],[11,13,11,14],[11,15,11,16],[11,17,11,18],[11,19,11,20],[0,0,0,24],[0,25,0,26],[0,27,0,32],[0,33,0,35],[29,25,33,25],[29,26,33,32],[29,34,33,34],[35,25,39,25],[35,26,39,32],[35,34,39,34],[1,0,1,1],[1,2,1,5],[1,10,1,24],[2,0,2,1],[2,2,2,5],[2,11,2,24],[6,0,6,1],[6,2,6,35],[7,0,7,1],[7,2,7,35],[8,0,8,1],[8,2,8,35],[3,0,3,1],[3,10,3,24],[13,3,13,5],[13,6,13,11],[14,3,14,5],[14,6,14,11],[15,3,15,5],[15,6,15,11],[20,3,20,5],[20,6,20,11],[24,3,24,5],[24,6,24,11]]}
["Personalien",null,null,null,null,null,null,null,null,null,null,null,null,null,null,null,null,null,null,null,null,null,null,null,null,"Predisposizione",null,"Valutazioni",null,null,null,null,null,"Rating"]
["COGNOME",null,{"$f":"IF(ISBLANK(VLOOKUP(23,Tabelle3[],3,0)),\"-\",VLOOKUP(23,Tabelle3[],3,0))","v":"-"},null,null,null,"POSIZIONE",null,null,"INDIRIZZO",{"$f":"IF(ISBLANK(VLOOKUP(23,Tabelle3[],5,0)),\"-\",VLOOKUP(23,Tabelle3[],5,0))","v":"-"},null,null,null,null,null,null,null,null,null,null,null,null,null,null,"Età\" (biologica/età relativa)",null,"Data 1",null,null,"cm",null,"Kg",null,"ECCELLENTE",5]
["NOME",null,{"$f":"IF(ISBLANK(VLOOKUP(23,Tabelle3[],2,0)),\"-\",VLOOKUP(23,Tabelle3[],2,0))","v":"-"},null,null,null,"BASTONE",null,null,"LUOGO",{"$f":"IF(ISBLANK(VLOOKUP(23,Tabelle3[],7,0)),\"-\",VLOOKUP(23,Tabelle3[],7,0))","v":"-"},{"$f":"IF(ISBLANK(VLOOKUP(23,Tabelle3[],6,0)),\"-\",VLOOKUP(23,Tabelle3[],6,0))","v":"-"},null,null,null,null,null,null,null,null,null,null,null,null,null,"Predisposizione",null,"Data 2",null,null,"cm",null,"Kg",null,"BUONO",4]
["DATA DI NASC.",null,{"$f":"IF(ISBLANK(VLOOKUP(23,Tabelle3[],14,0)),\"-\",VLOOKUP(23,Tabelle3[],14,0))","v":"-"},{"$f":"IF(ISBLANK(VLOOKUP(23,Tabelle3[],15,0)),\"-\",VLOOKUP(23,Tabelle3[],15,0))","v":"-"},{"$f":"IF(ISBLANK(VLOOKUP(23,Tabelle3[],16,0)),\"-\",VLOOKUP(23,Tabelle3[],16,0))","v":"-"},null,"ALTEZZA",null,"cm (Finale)","TELEFONO",{"$f":"IF(ISBLANK(VLOOKUP(23,Tabelle3[],8,0)),\"-\",VLOOKUP(23,Tabelle3[],8,0))","v":"-"},null,null,null,null,null,null,null,null,null,null,null,null,null,null,"Ambiente di vita",null,"Data 3",null,null,"cm",null,"Kg",null,"MEDIO/DISCRETO",3]
["SESSO",null,{"$f":"IF(ISBLANK(VLOOKUP(23,Tabelle3[],13,0)),\"-\",VLOOKUP(23,Tabelle3[],13,0))","v":"-"},null,null,null,"PESO",null,"Kg (Finale)","E-Mail",{"$f":"IF(ISBLANK(VLOOKUP(23,Tabelle3[],9,0)),\"-\",VLOOKUP(23,Tabelle3[],9,0))","v":"-"},null,null,null,null,null,null,null,null,null,null,null,null,null,null,null,null,"Data 4",null,null,"cm",null,"Kg",null,"CON LACUNE",2]
[null,null,null,null,null,null,null,null,null,null,null,null,null,null,null,null,null,null,null,null,null,null,null,null,null,null,null,"Data 5",null,null,"cm",null,"Kg",null,"INSUFFICIENTE",1]
["Visione",null,"xxx"]
["Prossimo passo",null,"xxx"]
["Proflio giocatore",null,"xxx"]
[]
["VALUTAZIONI (COACH / GIOCATORE)",null,null,null,null,null,null,null,null,null,null,null,null,null,null,null,null,null,null,null,null,null,null,null,null,"Obiettivi SMART"]
[{"$f":"'Spiegazioni Skills FTEM'!A3","v":"TEAM"},null,null,{"$f":"'Spiegazioni Skills FTEM'!B3","v":"CAPACITÀ"},null,null,{"$f":"'Spiegazioni Skills FTEM'!C3","v":"CRITERIO D'OSSERVAZIONE"},null,null,{"$f":"'Spiegazioni Skills FTEM'!H3","v":0},null,null,"Final","Data1",null,"Data2",null,"Data3",null,"Data4",null,"Data5",null,"Player",null,"OBIETTIVO","PROVVEDIMENTI:\n(SPECIFICI, MISURABILI, REALISTICI)",null,null,null,null,null,null,"TERMINE","COTROLLO DELL'OBIETTIVO","Data"]
[{"$f":"'Spiegazioni Skills FTEM'!A4","v":"SQUADRA"},null,null,{"$f":"IF($H$2=\"G\",'Spiegazioni Skills FTEM'!F4,'Spiegazioni Skills FTEM'!B4)","v":"Comunicazione"},null,null,{"$f":"IF($H$2=\"G\",'Spiegazioni Skills FTEM'!G4,'Spiegazioni Skills FTEM'!C4)","v":"Cura relazioni aperte e rispettose, fiducia quale base comportamentale, affronta i conflitti senza ledere la stabilità del gruppo, comunica con i compagni, gli allenatori e\nfunzionari con i medesimi valori"},null,null,{"$f":"IF($H$2=\"G\",'Spiegazioni Skills FTEM'!#REF!,'Spiegazioni Skills FTEM'!#REF!)","v":{"$error":"#REF!"}},null,null,null,{"$f":"IFERROR(AVERAGE(O13:O17),\"-\")","v":"-"},null,{"$f":"IFERROR(AVERAGE(Q13:Q17),\"-\")","v":"-"},null,{"$f":"IFERROR(AVERAGE(S13:S17),\"-\")","v":"-"},null,{"$f":"IFERROR(AVERAGE(U13:U17),\"-\")","v":"-"},null,{"$f":"IFERROR(AVERAGE(W13:W17),\"-\")","v":"-"},null,{"$f":"IFERROR(AVERAGE(Y13:Y17),\"-\")","v":"-"}]
[{"$f":"'Spiegazioni Skills FTEM'!A5","v":0},null,null,{"$f":"IF($H$2=\"G\",'Spiegazioni Skills FTEM'!F5,'Spiegazioni Skills FTEM'!B5)","v":"Capacità nella squadra"},null,null,{"$f":"IF($H$2=\"G\",'Spiegazioni Skills FTEM'!G5,'Spiegazioni Skills FTEM'!C5)","v":"Integrazione nel gruppo, definisce e realizza obiettivi comuni, NOI prima dell'IO, contribuisce a creare un buon spirito di squadra e clima di lavoro"},null,null,{"$f":"IF($H$2=\"G\",'Spiegazioni Skills FTEM'!#REF!,'Spiegazioni Skills FTEM'!#REF!)","v":{"$error":"#REF!"}}]
[{"$f":"'Spiegazioni Skills FTEM'!A6","v":0},null,null,{"$f":"IF($H$2=\"G\",'Spiegazioni Skills FTEM'!F6,'Spiegazioni Skills FTEM'!B6)","v":"Leadership"},null,null,{"$f":"IF($H$2=\"G\",'Spiegazioni Skills FTEM'!G6,'Spiegazioni Skills FTEM'!C6)","v":"Assume responsabilità nell'ambito del gruppo, cerca di migliorare la squadra e i compagni, influenza positivamente la dinamica di gruppo"},null,null,{"$f":"IF($H$2=\"G\",'Spiegazioni Skills FTEM'!#REF!,'Spiegazioni Skills FTEM'!#REF!)","v":{"$error":"#REF!"}}]
[{"$f":"'Spiegazioni Skills FTEM'!A7","v":0},null,null,{"$f":"IF($H$2=\"G\",'Spiegazioni Skills FTEM'!F7,'Spiegazioni Skills FTEM'!B7)","v":"Ripartizione dei ruoli"},null,null,{"$f":"IF($H$2=\"G\",'Spiegazioni Skills FTEM'!G7,'Spiegazioni Skills FTEM'!C7)","v":"Riconosce e adempie il suo ruolo, è cosciente della sua posizione nel sistema e nella squadra, mette a disposizione della squadra le sue competenze"},null,null,{"$f":"IF($H$2=\"G\",'Spiegazioni Skills FTEM'!#REF!,'Spiegazioni Skills FTEM'!#REF!)","v":{"$error":"#REF!"}}]
[{"$f":"'Spiegazioni Skills FTEM'!A8","v":0},null,null,{"$f":"IF($H$2=\"G\",'Spiegazioni Skills FTEM'!F8,'Spiegazioni Skills FTEM'!B8)","v":"Rispetto"},null,null,{"$f":"IF($H$2=\"G\",'Spiegazioni Skills FTEM'!G8,'Spiegazioni Skills FTEM'!C8)","v":"Relazioni rispettose con i compagni, allenatori, avversari, arbitri e staff; rispetta le regole i pricipi del fairplay (compreso la lotta al doping)"},null,null,{"$f":"IF($H$2=\"G\",'Spiegazioni Skills FTEM'!#REF!,'Spiegazioni Skills FTEM'!#REF!)","v":{"$error":"#REF!"}}]
[{"$f":"'Spiegazioni Skills FTEM'!A9","v":"ON ICE"},null,null,{"$f":"'Spiegazioni Skills FTEM'!B9","v":"CAPACITÀ"},null,null,{"$f":"'Spiegazioni Skills FTEM'!C9","v":"CRITERIO D'OSSERVAZIONE"},null,null,{"$f":"'Spiegazioni Skills FTEM'!H9","v":0},null,null,null,"Data1",null,"Data2",null,"Data3",null,"Data4",null,"Data5",null,"Player",null,"OBIETTIVO","PROVVEDIMENTI:\n(SPECIFICI, MISURABILI, REALISTICI)",null,null,null,null,null,null,"TERMINE","COTROLLO DELL'OBIETTIVO","Date"]
[{"$f":"'Spiegazioni Skills FTEM'!A10","v":"PATTINAGGIO"},null,null,{"$f":"IF($H$2=\"G\",'Spiegazioni Skills FTEM'!F10,'Spiegazioni Skills FTEM'!B10)","v":"Velocità dei piedi"},null,null,{"$f":"IF($H$2=\"G\",'Spiegazioni Skills FTEM'!G10,'Spiegazioni Skills FTEM'!C10)","v":"Accelerazione, partenza, esplosività dei primi 3 passi, frequenza"},null,null,{"$f":"IF($H$2=\"G\",'Spiegazioni Skills FTEM'!#REF!,'Spiegazioni Skills FTEM'!#REF!)","v":{"$error":"#REF!"}},null,null,null,{"$f":"IFERROR(AVERAGE(O19:O23),\"-\")","v":"-"},null,{"$f":"IFERROR(AVERAGE(Q19:Q23),\"-\")","v":"-"},null,{"$f":"IFERROR(AVERAGE(S19:S23),\"-\")","v":"-"},null,{"$f":"IFERROR(AVERAGE(U19:U23),\"-\")","v":"-"},null,{"$f":"IFERROR(AVERAGE(W19:W23),\"-\")","v":"-"},null,{"$f":"IFERROR(AVERAGE(Y19:Y23),\"-\")","v":"-"}]
[{"$f":"'Spiegazioni Skills FTEM'!A11:A11","v":0},null,null,{"$f":"IF($H$2=\"G\",'Spiegazioni Skills FTEM'!F11,'Spiegazioni Skills FTEM'!B11)","v":"Velocità/rapidità"},null,null,{"$f":"IF($H$2=\"G\",'Spiegazioni Skills FTEM'!G11,'Spiegazioni Skills FTEM'!C11)","v":"Velocità, facoltà di scivolare, avanti / indietro, economia dello sforzo"},null,null,{"$f":"IF($H$2=\"G\",'Spiegazioni Skills FTEM'!#REF!,'Spiegazioni Skills FTEM'!#REF!)","v":{"$error":"#REF!"}}]
[null,null,null,{"$f":"IF($H$2=\"G\",'Spiegazioni Skills FTEM'!F12,'Spiegazioni Skills FTEM'!B12)","v":"Agilità"},null,null,{"$f":"IF($H$2=\"G\",'Spiegazioni Skills FTEM'!G12,'Spiegazioni Skills FTEM'!C12)","v":"Cambiamento di direzione, girarsi, stop e ripartenza, \"Nummelin\""},null,null,{"$f":"IF($H$2=\"G\",'Spiegazioni Skills FTEM'!#REF!,'Spiegazioni Skills FTEM'!#REF!)","v":{"$error":"#REF!"}}]
[{"$f":"'Spiegazioni Skills FTEM'!A12:A12","v":0},null,null,{"$f":"IF($H$2=\"G\",'Spiegazioni Skills FTEM'!F13,'Spiegazioni Skills FTEM'!B13)","v":"Equilibrio"},null,null,{"$f":"IF($H$2=\"G\",'Spiegazioni Skills FTEM'!G13,'Spiegazioni Skills FTEM'!C13)","v":"Equilibrio, stabilità, posizione bassa, su una gamba, su entrambe"},null,null,{"$f":"IF($H$2=\"G\",'Spiegazioni Skills FTEM'!#REF!,'Spiegazioni Skills FTEM'!#REF!)","v":{"$error":"#REF!"}},null,null,null,{"$f":"IFERROR(AVERAGE(O22:O23),\"-\")","v":"-"},null,{"$f":"IFERROR(AVERAGE(Q22:Q23),\"-\")","v":"-"},null,{"$f":"IFERROR(AVERAGE(S22:S23),\"-\")","v":"-"},null,{"$f":"IFERROR(AVERAGE(U22:U23),\"-\")","v":"-"},null,{"$f":"IFERROR(AVERAGE(W22:W23),\"-\")","v":"-"},null,"-"]
[{"$f":"'Spiegazioni Skills FTEM'!A14:A14","v":0},null,null,{"$f":"IF($H$2=\"G\",'Spiegazioni Skills FTEM'!F14,'Spiegazioni Skills FTEM'!B14)","v":"Pattinaggio indietro"},null,null,{"$f":"IF($H$2=\"G\",'Spiegazioni Skills FTEM'!G14,'Spiegazioni Skills FTEM'!C14)","v":"Accelerazione, velocità, equilibrio"},null,null,{"$f":"IF($H$2=\"G\",'Spiegazioni Skills FTEM'!#REF!,'Spiegazioni Skills FTEM'!#REF!)","v":{"$error":"#REF!"}}]
[{"$f":"'Spiegazioni Skills FTEM'!A15","v":"ABILITÀ"},null,null,{"$f":"IF($H$2=\"G\",'Spiegazioni Skills FTEM'!F15,'Spiegazioni Skills FTEM'!B15)","v":"Tirare"},null,null,{"$f":"IF($H$2=\"G\",'Spiegazioni Skills FTEM'!G15,'Spiegazioni Skills FTEM'!C15)","v":"Efficienza (poco spazio, poco tempo), ricchezza di varianti, grado di sorpresa (Quick Release), precisione, potenza (conclusioni tattiche)"},null,null,{"$f":"IF($H$2=\"G\",'Spiegazioni Skills FTEM'!#REF!,'Spiegazioni Skills FTEM'!#REF!)","v":{"$error":"#REF!"}},null,null,null,{"$f":"IFERROR(AVERAGE(O24:O29),\"-\")","v":"-"},null,{"$f":"IFERROR(AVERAGE(Q24:Q29),\"-\")","v":"-"},null,{"$f":"IFERROR(AVERAGE(S24:S29),\"-\")","v":"-"},null,{"$f":"IFERROR(AVERAGE(U24:U29),\"-\")","v":"-"},null,{"$f":"IFERROR(AVERAGE(W24:W29),\"-\")","v":"-"},null,{"$f":"IFERROR(AVERAGE(Y24:Y29),\"-\")","v":"-"}]
[null,null,null,{"$f":"IF($H$2=\"G\",'Spiegazioni Skills FTEM'!F16,'Spiegazioni Skills FTEM'!B16)","v":"Passare"},null,null,{"$f":"IF($H$2=\"G\",'Spiegazioni Skills FTEM'!G16,'Spiegazioni Skills FTEM'!C16)","v":"Passaggio (distanza, flipp, rovescio), ricezione del passaggio (precisione, timing, diritto, rovescio, sul pattino), velocità del disco"},null,null,{"$f":"IF($H$2=\"G\",'Spiegazioni Skills FTEM'!#REF!,'Spiegazioni Skills FTEM'!#REF!)","v":{"$error":"#REF!"}}]
[null,null,null,{"$f":"IF($H$2=\"G\",'Spiegazioni Skills FTEM'!F17,'Spiegazioni Skills FTEM'!B17)","v":"Lavoro col bastone - condotta del disco"},null,null,{"$f":"IF($H$2=\"G\",'Spiegazioni Skills FTEM'!G17,'Spiegazioni Skills FTEM'!C17)","v":"Bastone sul disco, intercettare le linee di passaggio, deviare, controllo del bastone avversario"},null,null,{"$f":"IF($H$2=\"G\",'Spiegazioni Skills FTEM'!#REF!,'Spiegazioni Skills FTEM'!#REF!)","v":{"$error":"#REF!"}}]
[{"$f":"'Spiegazioni Skills FTEM'!A16:A16","v":0},null,null,{"$f":"IF($H$2=\"G\",'Spiegazioni Skills FTEM'!F18,'Spiegazioni Skills FTEM'!B18)","v":"Possedere/proteggere il disco"},null,null,{"$f":"IF($H$2=\"G\",'Spiegazioni Skills FTEM'!G18,'Spiegazioni Skills FTEM'!C18)","v":"Controllo del disco, dribbling, protezione del disco, finte (varianti col pattino, con o senza la balaustra), ingaggi (face-off)"},null,null,{"$f":"IF($H$2=\"G\",'Spiegazioni Skills FTEM'!#REF!,'Spiegazioni Skills FTEM'!#REF!)","v":{"$error":"#REF!"}}]
[{"$f":"'Spiegazioni Skills FTEM'!A17:A17","v":0},null,null,{"$f":"IF($H$2=\"G\",'Spiegazioni Skills FTEM'!F19,'Spiegazioni Skills FTEM'!B19)","v":"Gioco del corpo"},null,null,{"$f":"IF($H$2=\"G\",'Spiegazioni Skills FTEM'!G19,'Spiegazioni Skills FTEM'!C19)","v":"Facoltà di imporsi fisicamente, duelli (ghiaccio aperto, balaustra), subire dei checks/testa alta, livello di lotta, duro ma corretto, blocco dei tiri con il corpo"},null,null,{"$f":"IF($H$2=\"G\",'Spiegazioni Skills FTEM'!#REF!,'Spiegazioni Skills FTEM'!#REF!)","v":{"$error":"#REF!"}}]
[{"$f":"'Spiegazioni Skills FTEM'!A20:A20","v":0},null,null,{"$f":"IF($H$2=\"G\",'Spiegazioni Skills FTEM'!F20,'Spiegazioni Skills FTEM'!B20)","v":"-"},null,null,{"$f":"IF($H$2=\"G\",'Spiegazioni Skills FTEM'!G20,'Spiegazioni Skills FTEM'!C20)","v":"-"},null,null,{"$f":"IF($H$2=\"G\",'Spiegazioni Skills FTEM'!#REF!,'Spiegazioni Skills FTEM'!#REF!)","v":{"$error":"#REF!"}}]
[{"$f":"'Spiegazioni Skills FTEM'!A21","v":"SENSO DELL'HOCKEY"},null,null,{"$f":"IF($H$2=\"G\",'Spiegazioni Skills FTEM'!F21,'Spiegazioni Skills FTEM'!B21)","v":"Intelligenza nel gioco"},null,null,{"$f":"IF($H$2=\"G\",'Spiegazioni Skills FTEM'!G21,'Spiegazioni Skills FTEM'!C21)","v":"Vedere spazi e giocatori liberi, creare situazioni di superiorità numerica, agire cercando soluzioni in tutte le situazioni, velocità di visualizzazione"},null,null,{"$f":"IF($H$2=\"G\",'Spiegazioni Skills FTEM'!#REF!,'Spiegazioni Skills FTEM'!#REF!)","v":{"$error":"#REF!"}},null,null,null,{"$f":"IFERROR(AVERAGE(O30:O34),\"-\")","v":"-"},null,{"$f":"IFERROR(AVERAGE(Q30:Q34),\"-\")","v":"-"},null,{"$f":"IFERROR(AVERAGE(S30:S34),\"-\")","v":"-"},null,{"$f":"IFERROR(AVERAGE(U30:U34),\"-\")","v":"-"},null,{"$f":"IFERROR(AVERAGE(W30:W34),\"-\")","v":"-"},null,{"$f":"IFERROR(AVERAGE(Y30:Y34),\"-\")","v":"-"}]
[{"$f":"'Spiegazioni Skills FTEM'!A22:A22","v":0},null,null,{"$f":"IF($H$2=\"G\",'Spiegazioni Skills FTEM'!F22,'Spiegazioni Skills FTEM'!B22)","v":"Sensibilità offensiva"},null,null,{"$f":"IF($H$2=\"G\",'Spiegazioni Skills FTEM'!G22,'Spiegazioni Skills FTEM'!C22)","v":"Smarcarsi, anticipare le situazioni di gioco, aprire spazi liberi per i compagni, piazzarsi per le conclusioni, velocità nel chiudere gli spazi (pressione), comunicazione"},null,null,{"$f":"IF($H$2=\"G\",'Spiegazioni Skills FTEM'!#REF!,'Spiegazioni Skills FTEM'!#REF!)","v":{"$error":"#REF!"}}]
[null,null,null,{"$f":"IF($H$2=\"G\",'Spiegazioni Skills FTEM'!F23,'Spiegazioni Skills FTEM'!B23)","v":"Sensibilità difensiva"},null,null,{"$f":"IF($H$2=\"G\",'Spiegazioni Skills FTEM'!G23,'Spiegazioni Skills FTEM'!C23)","v":"Mantenere la posizione difensiva, protezione dello slot, assicurare i compagni / supporto, individuare le linee di passaggio, bloccare i tiri, ridurre velocemente gli spazi, comunicazione"},null,null,{"$f":"IF($H$2=\"G\",'Spiegazioni Skills FTEM'!#REF!,'Spiegazioni Skills FTEM'!#REF!)","v":{"$error":"#REF!"}}]
[{"$f":"'Spiegazioni Skills FTEM'!A24:A24","v":0},null,null,{"$f":"IF($H$2=\"G\",'Spiegazioni Skills FTEM'!F24,'Spiegazioni Skills FTEM'!B24)","v":"Gestione del disco"},null,null,{"$f":"IF($H$2=\"G\",'Spiegazioni Skills FTEM'!G24,'Spiegazioni Skills FTEM'!C24)","v":"Prendere decisioni adeguate nelle situazioni di gioco, supporto, creare superiorità numerica"},null,null,{"$f":"IF($H$2=\"G\",'Spiegazioni Skills FTEM'!#REF!,'Spiegazioni Skills FTEM'!#REF!)","v":{"$error":"#REF!"}}]
[{"$f":"'Spiegazioni Skills FTEM'!A25:A25","v":0},null,null,{"$f":"IF($H$2=\"G\",'Spiegazioni Skills FTEM'!F25,'Spiegazioni Skills FTEM'!B25)","v":"Creatività"},null,null,{"$f":"IF($H$2=\"G\",'Spiegazioni Skills FTEM'!G25,'Spiegazioni Skills FTEM'!C25)","v":"Creare situazioni a sorpresa, fiuto del gol"},null,null,{"$f":"IF($H$2=\"G\",'Spiegazioni Skills FTEM'!#REF!,'Spiegazioni Skills FTEM'!#REF!)","v":{"$error":"#REF!"}}]
[{"$f":"'Spiegazioni Skills FTEM'!A26","v":"PERSONALITY"},null,null,{"$f":"'Spiegazioni Skills FTEM'!B26","v":"CAPACITÀ"},null,null,{"$f":"'Spiegazioni Skills FTEM'!C26","v":"CRITERIO D'OSSERVAZIONE"},null,null,{"$f":"'Spiegazioni Skills FTEM'!H26","v":0},null,null,null,"Data1",null,"Data2",null,"Data3",null,"Data4",null,"Data5",null,"Player",null,"OBIETTIVO","PROVVEDIMENTI:\n(SPECIFICI, MISURABILI, REALISTICI)",null,null,null,null,null,null,"TERMINE","COTROLLO DELL'OBIETTIVO","Date"]
[{"$f":"'Spiegazioni Skills FTEM'!A27","v":"PERSONALITÀ"},null,null,{"$f":"IF($H$2=\"G\",'Spiegazioni Skills FTEM'!F27,'Spiegazioni Skills FTEM'!B27)","v":"Fiducia in se stesso"},null,null,{"$f":"IF($H$2=\"G\",'Spiegazioni Skills FTEM'!G27,'Spiegazioni Skills FTEM'!C27)","v":"Possiede la necessaria fiducia in se stesso, «I can do it»-attitudine, sa valutare le proprie capacità (conosce i propri punti forti e deboli), può realizzare le proprie qualità con\ncostanza, è coraggioso e sa prendere dei rischi calcolati"},null,null,{"$f":"IF($H$2=\"G\",'Spiegazioni Skills FTEM'!#REF!,'Spiegazioni Skills FTEM'!#REF!)","v":{"$error":"#REF!"}},null,null,null,{"$f":"IFERROR(AVERAGE(O36:O40),\"-\")","v":"-"},null,{"$f":"IFERROR(AVERAGE(Q36:Q40),\"-\")","v":"-"},null,{"$f":"IFERROR(AVERAGE(S36:S40),\"-\")","v":"-"},null,{"$f":"IFERROR(AVERAGE(U36:U40),\"-\")","v":"-"},null,{"$f":"IFERROR(AVERAGE(W36:W40),\"-\")","v":"-"},null,{"$f":"IFERROR(AVERAGE(Y36:Y40),\"-\")","v":"-"}]
[{"$f":"'Spiegazioni Skills FTEM'!A28:A28","v":0},null,null,{"$f":"IF($H$2=\"G\",'Spiegazioni Skills FTEM'!F28,'Spiegazioni Skills FTEM'!B28)","v":"Capacità d'apprendimento"},null,null,{"$f":"IF($H$2=\"G\",'Spiegazioni Skills FTEM'!G28,'Spiegazioni Skills FTEM'!C28)","v":"Ha una buona capacità d'apprendimento (sa recepire e realizzare), possiede una personalità, cerca di imparare dai propri errori derivandone delle misure"},null,null,{"$f":"IF($H$2=\"G\",'Spiegazioni Skills FTEM'!#REF!,'Spiegazioni Skills FTEM'!#REF!)","v":{"$error":"#REF!"}}]
[null,null,null,{"$f":"IF($H$2=\"G\",'Spiegazioni Skills FTEM'!F29,'Spiegazioni Skills FTEM'!B29)","v":"Senso di responsabilità"},null,null,{"$f":"IF($H$2=\"G\",'Spiegazioni Skills FTEM'!G29,'Spiegazioni Skills FTEM'!C29)","v":"Assume responsabiltà per le proprie prestazioni e sviluppo, agisce autonomamente, cura i dettagli, mostra un grande impegno in tutti i settori"},null,null,{"$f":"IF($H$2=\"G\",'Spiegazioni Skills FTEM'!#REF!,'Spiegazioni Skills FTEM'!#REF!)","v":{"$error":"#REF!"}}]
[{"$f":"'Spiegazioni Skills FTEM'!A30:A30","v":0},null,null,{"$f":"IF($H$2=\"G\",'Spiegazioni Skills FTEM'!F30,'Spiegazioni Skills FTEM'!B30)","v":"Motivazione"},null,null,{"$f":"IF($H$2=\"G\",'Spiegazioni Skills FTEM'!G30,'Spiegazioni Skills FTEM'!C30)","v":"È sempre motivato, vuole sempre svilupparsi e imparare, vuol essere il primo e avere successo, non rinuncia mai e non si lascia influenzare dagli insuccessi"},null,null,{"$f":"IF($H$2=\"G\",'Spiegazioni Skills FTEM'!#REF!,'Spiegazioni Skills FTEM'!#REF!)","v":{"$error":"#REF!"}}]
[{"$f":"'Spiegazioni Skills FTEM'!A31:A31","v":0},null,null,{"$f":"IF($H$2=\"G\",'Spiegazioni Skills FTEM'!F31,'Spiegazioni Skills FTEM'!B31)","v":"Prestazione Stile di vita"},null,null,{"$f":"IF($H$2=\"G\",'Spiegazioni Skills FTEM'!G31,'Spiegazioni Skills FTEM'!C31)","v":"Gestisce bene la quotidianità il suo ambiente seguendo i principi della prestazione, caparbio, perseverante e finalizzato sugli obiettivi, focus sulla propria prestazione, coraggioso e grintoso, sa imporsi nei confronti delle resistenze, le sfide lo motivano"},null,null,{"$f":"IF($H$2=\"G\",'Spiegazioni Skills FTEM'!#REF!,'Spiegazioni Skills FTEM'!#REF!)","v":{"$error":"#REF!"}}]
[{"$f":"'Spiegazioni Skills FTEM'!A32","v":"FORZA MENTALE"},null,null,{"$f":"IF($H$2=\"G\",'Spiegazioni Skills FTEM'!F32,'Spiegazioni Skills FTEM'!B32)","v":"Impegno"},null,null,{"$f":"IF($H$2=\"G\",'Spiegazioni Skills FTEM'!G32,'Spiegazioni Skills FTEM'!C32)","v":"Mostra molta intensità negli allenamenti e nelle partite, dà sempre il massimo e vuole sempre spronare i propri limiti, mostra passione, si sforza ad alzare la qualità negli allenamenti"},null,null,{"$f":"IF($H$2=\"G\",'Spiegazioni Skills FTEM'!#REF!,'Spiegazioni Skills FTEM'!#REF!)","v":{"$error":"#REF!"}},null,null,null,{"$f":"IFERROR(AVERAGE(O41:O45),\"-\")","v":"-"},null,{"$f":"IFERROR(AVERAGE(Q41:Q45),\"-\")","v":"-"},null,{"$f":"IFERROR(AVERAGE(S41:S45),\"-\")","v":"-"},null,{"$f":"IFERROR(AVERAGE(U41:U45),\"-\")","v":"-"},null,{"$f":"IFERROR(AVERAGE(W41:W45),\"-\")","v":"-"},null,{"$f":"IFERROR(AVERAGE(Y41:Y45),\"-\")","v":"-"}]
[null,null,null,{"$f":"IF($H$2=\"G\",'Spiegazioni Skills FTEM'!F33,'Spiegazioni Skills FTEM'!B33)","v":"Preparazione"},null,null,{"$f":"IF($H$2=\"G\",'Spiegazioni Skills FTEM'!G33,'Spiegazioni Skills FTEM'!C33)","v":"Preparazione consapevole e finalizzata, mentalmente e fisicamente, possiede un efficiente approccio per l'ottenimento dell'ideale stato di prestazione (ILZ/ISP)"},null,null,{"$f":"IF($H$2=\"G\",'Spiegazioni Skills FTEM'!#REF!,'Spiegazioni Skills FTEM'!#REF!)","v":{"$error":"#REF!"}}]
[{"$f":"'Spiegazioni Skills FTEM'!A34:A34","v":0},null,null,{"$f":"IF($H$2=\"G\",'Spiegazioni Skills FTEM'!F34,'Spiegazioni Skills FTEM'!B34)","v":"Coaching individuale"},null,null,{"$f":"IF($H$2=\"G\",'Spiegazioni Skills FTEM'!G34,'Spiegazioni Skills FTEM'!C34)","v":"Possiede una buona capacità di concentrazione, può mantenere il suo ILZ/ISP durante la partita e l'allenamento, può utilizzare tecniche di base per rafforzare il mentale, resistenti contro pensieri e influenze negative, è consapevole del proprio linguaggio del corpo che è in grado di padroneggiare"},null,null,{"$f":"IF($H$2=\"G\",'Spiegazioni Skills FTEM'!#REF!,'Spiegazioni Skills FTEM'!#REF!)","v":{"$error":"#REF!"}}]
[{"$f":"'Spiegazioni Skills FTEM'!A35:A35","v":0},null,null,{"$f":"IF($H$2=\"G\",'Spiegazioni Skills FTEM'!F35,'Spiegazioni Skills FTEM'!B35)","v":"Gestione delle energie"},null,null,{"$f":"IF($H$2=\"G\",'Spiegazioni Skills FTEM'!G35,'Spiegazioni Skills FTEM'!C35)","v":"Può gestire le proprie energie, cura la rigenerazione, può gestire i momenti in cui si deve andare al massimo oppure risparmiarsi, interruttore on/off"},null,null,{"$f":"IF($H$2=\"G\",'Spiegazioni Skills FTEM'!#REF!,'Spiegazioni Skills FTEM'!#REF!)","v":{"$error":"#REF!"}}]
[{"$f":"'Spiegazioni Skills FTEM'!A36:A36","v":0},null,null,{"$f":"IF($H$2=\"G\",'Spiegazioni Skills FTEM'!F36,'Spiegazioni Skills FTEM'!B36)","v":"Controllo delle emozioni"},null,null,{"$f":"IF($H$2=\"G\",'Spiegazioni Skills FTEM'!G36,'Spiegazioni Skills FTEM'!C36)","v":"Può regolare le proprie emozioni e impulsi, mantiene il controllo quando si trova sotto pressione, sa anche agire adeguatamente in situazioni emotive o frustranti"},null,null,{"$f":"IF($H$2=\"G\",'Spiegazioni Skills FTEM'!#REF!,'Spiegazioni Skills FTEM'!#REF!)","v":{"$error":"#REF!"}}]
[{"$f":"'Spiegazioni Skills FTEM'!A37","v":"FISICO"},null,null,{"$f":"IF($H$2=\"G\",'Spiegazioni Skills FTEM'!F37,'Spiegazioni Skills FTEM'!B37)","v":"Produzione di prestazione"},null,null,{"$f":"IF($H$2=\"G\",'Spiegazioni Skills FTEM'!G37,'Spiegazioni Skills FTEM'!C37)","v":"Possiede nelle gambe e nella parte alta del corpo la necessaria potenza/forza/velocità (fattori neuromuscolari)"},null,null,{"$f":"IF($H$2=\"G\",'Spiegazioni Skills FTEM'!#REF!,'Spiegazioni Skills FTEM'!#REF!)","v":{"$error":"#REF!"}},null,null,null,{"$f":"IFERROR(AVERAGE(O46:O50),\"-\")","v":"-"},null,{"$f":"IFERROR(AVERAGE(Q46:Q50),\"-\")","v":"-"},null,{"$f":"IFERROR(AVERAGE(S46:S50),\"-\")","v":"-"},null,{"$f":"IFERROR(AVERAGE(U46:U50),\"-\")","v":"-"},null,{"$f":"IFERROR(AVERAGE(W46:W50),\"-\")","v":"-"},null,{"$f":"IFERROR(AVERAGE(Y46:Y50),\"-\")","v":"-"}]
[null,null,null,{"$f":"IF($H$2=\"G\",'Spiegazioni Skills FTEM'!F38,'Spiegazioni Skills FTEM'!B38)","v":"Resistenza specifica alla fatica"},null,null,{"$f":"IF($H$2=\"G\",'Spiegazioni Skills FTEM'!G38,'Spiegazioni Skills FTEM'!C38)","v":"È capace di mantenere a lungo nell'ambito di un impiego la potenza/forza/velocità ed è capace di recuperare completamente attraverso i vari impieghi sul ghiaccio (fattori metabolici e cardiovascolari)"},null,null,{"$f":"IF($H$2=\"G\",'Spiegazioni Skills FTEM'!#REF!,'Spiegazioni Skills FTEM'!#REF!)","v":{"$error":"#REF!"}}]
[{"$f":"'Spiegazioni Skills FTEM'!A39:A39","v":0},null,null,{"$f":"IF($H$2=\"G\",'Spiegazioni Skills FTEM'!F39,'Spiegazioni Skills FTEM'!B39)","v":"Salute / prevenzione"},null,null,{"$f":"IF($H$2=\"G\",'Spiegazioni Skills FTEM'!G39,'Spiegazioni Skills FTEM'!C39)","v":"Possiede la necessaria stabilità (stabilità delle gambe) e mobilità delle articolazioni centrali"},null,null,{"$f":"IF($H$2=\"G\",'Spiegazioni Skills FTEM'!#REF!,'Spiegazioni Skills FTEM'!#REF!)","v":{"$error":"#REF!"}}]
[{"$f":"'Spiegazioni Skills FTEM'!A40:A40","v":0},null,null,{"$f":"IF($H$2=\"G\",'Spiegazioni Skills FTEM'!F40,'Spiegazioni Skills FTEM'!B40)","v":"Competenze della mobilità"},null,null,{"$f":"IF($H$2=\"G\",'Spiegazioni Skills FTEM'!G40,'Spiegazioni Skills FTEM'!C40)","v":"Padroneggia le basilari capacità di movimento che garantiscono in modo determinante le abilità specifiche \"skills\", come pure l'efficacia dei movimenti"},null,null,{"$f":"IF($H$2=\"G\",'Spiegazioni Skills FTEM'!#REF!,'Spiegazioni Skills FTEM'!#REF!)","v":{"$error":"#REF!"}}]
[{"$f":"'Spiegazioni Skills FTEM'!A41:A41","v":0},null,null,{"$f":"IF($H$2=\"G\",'Spiegazioni Skills FTEM'!F41,'Spiegazioni Skills FTEM'!B41)","v":"Robustezza"},null,null,{"$f":"IF($H$2=\"G\",'Spiegazioni Skills FTEM'!G41,'Spiegazioni Skills FTEM'!C41)","v":"Possiede la necessaria forza di base (tensione del corpo) per vincere i duelli e resistere alle cariche"},null,null,{"$f":"IF($H$2=\"G\",'Spiegazioni Skills FTEM'!#REF!,'Spiegazioni Skills FTEM'!#REF!)","v":{"$error":"#REF!"}}]

{"sheet":"24","index":27,"n_rows":50,"n_cols":36,"rows_kept":50,"cut":false,"hidden":false,"merged":[[45,34,49,34],[45,12,49,12],[45,13,49,13],[45,15,49,15],[45,17,49,17],[45,19,49,19],[45,21,49,21],[45,23,49,23],[45,25,49,25],[45,26,49,32],[45,0,49,2],[45,3,45,5],[45,6,45,11],[46,3,46,5],[46,6,46,11],[48,3,48,5],[48,6,48,11],[49,3,49,5],[49,6,49,11],[47,3,47,5],[47,6,47,11],[40,23,44,23],[42,3,42,5],[42,6,42,11],[44,3,44,5],[44,6,44,11],[40,0,44,2],[40,3,40,5],[40,6,40,11],[40,12,44,12],[40,13,44,13],[40,15,44,15],[43,3,43,5],[43,6,43,11],[34,21,34,22],[35,17,39,17],[35,19,39,19],[35,21,39,21],[37,3,37,5],[37,6,37,11],[38,3,38,5],[38,6,38,11],[40,17,44,17],[40,19,44,19],[40,21,44,21],[36,3,36,5],[36,6,36,11],[41,3,41,5],[41,6,41,11],[29,0,33,2],[29,3,29,5],[29,6,29,11],[29,12,33,12],[29,13,33,13],[29,15,33,15],[34,23,34,24],[34,26,34,32],[35,0,39,2],[35,3,35,5],[35,6,35,11],[35,12,39,12],[35,13,39,13],[35,15,39,15],[39,3,39,5],[39,6,39,11],[35,23,39,23],[34,0,34,2],[34,3,34,5],[34,6,34,11],[34,13,34,14],[34,15,34,16],[34,17,34,18],[34,19,34,20],[23,19,28,19],[23,21,28,21],[23,23,28,23],[26,3,26,5],[26,6,26,11],[28,3,28,5],[28,6,28,11],[33,3,33,5],[33,6,33,11],[29,23,33,23],[29,17,33,17],[29,19,33,19],[29,21,33,21],[31,3,31,5],[31,6,31,11],[32,3,32,5],[32,6,32,11],[27,3,27,5],[27,6,27,11],[25,3,25,5],[25,6,25,11],[30,3,30,5],[30,6,30,11],[12,21,16,21],[18,15,22,15],[18,17,22,17],[18,19,22,19],[18,21,22,21],[18,23,22,23],[22,3,22,5],[22,6,22,11],[23,0,28,2],[23,3,23,5],[23,6,23,11],[23,12,28,12],[23,13,28,13],[23,15,28,15],[23,17,28,17],[18,0,22,2],[18,3,18,5],[18,6,18,11],[18,12,22,12],[18,13,22,13],[19,3,19,5],[19,6,19,11],[21,3,21,5],[21,6,21,11],[11,21,11,22],[11,23,11,24],[11,26,11,32],[11,6,11,11],[12,23,16,23],[16,3,16,5],[16,6,16,11],[17,0,17,2],[17,3,17,5],[17,6,17,11],[17,13,17,14],[17,15,17,16],[17,17,17,18],[17,19,17,20],[17,21,17,22],[17,23,17,24],[12,0,16,2],[12,3,12,5],[12,6,12,11],[12,12,16,12],[12,13,16,13],[12,15,16,15],[12,17,16,17],[12,19,16,19],[4,0,4,1],[4,2,4,5],[4,10,4,24],[10,0,10,24],[10,25,10,35],[40,25,44,25],[40,26,44,32],[40,34,44,34],[12,25,16,25],[12,26,16,32],[12,34,16,34],[18,25,22,25],[18,26,22,32],[18,34,22,34],[23,25,28,25],[23,26,28,32],[23,34,28,34],[17,26,17,32],[11,0,11,2],[11,3,11,5],[11,13,11,14],[11,15,11,16],[11,17,11,18],[11,19,11,20],[0,0,0,24],[0,25,0,26],[0,27,0,32],[0,33,0,35],[29,25,33,25],[29,26,33,32],[29,34,33,34],[35,25,39,25],[35,26,39,32],[35,34,39,34],[1,0,1,1],[1,2,1,5],[1,10,1,24],[2,0,2,1],[2,2,2,5],[2,11,2,24],[6,0,6,1],[6,2,6,35],[7,0,7,1],[7,2,7,35],[8,0,8,1],[8,2,8,35],[3,0,3,1],[3,10,3,24],[13,3,13,5],[13,6,13,11],[14,3,14,5],[14,6,14,11],[15,3,15,5],[15,6,15,11],[20,3,20,5],[20,6,20,11],[24,3,24,5],[24,6,24,11]]}
["Personalien",null,null,null,null,null,null,null,null,null,null,null,null,null,null,null,null,null,null,null,null,null,null,null,null,"Predisposizione",null,"Valutazioni",null,null,null,null,null,"Rating"]
["COGNOME",null,{"$f":"IF(ISBLANK(VLOOKUP(24,Tabelle3[],3,0)),\"-\",VLOOKUP(24,Tabelle3[],3,0))","v":"-"},null,null,null,"POSIZIONE",null,null,"INDIRIZZO",{"$f":"IF(ISBLANK(VLOOKUP(24,Tabelle3[],5,0)),\"-\",VLOOKUP(24,Tabelle3[],5,0))","v":"-"},null,null,null,null,null,null,null,null,null,null,null,null,null,null,"Età\" (biologica/età relativa)",null,"Data 1",null,null,"cm",null,"Kg",null,"ECCELLENTE",5]
["NOME",null,{"$f":"IF(ISBLANK(VLOOKUP(24,Tabelle3[],2,0)),\"-\",VLOOKUP(24,Tabelle3[],2,0))","v":"-"},null,null,null,"BASTONE",null,null,"LUOGO",{"$f":"IF(ISBLANK(VLOOKUP(24,Tabelle3[],7,0)),\"-\",VLOOKUP(24,Tabelle3[],7,0))","v":"-"},{"$f":"IF(ISBLANK(VLOOKUP(24,Tabelle3[],6,0)),\"-\",VLOOKUP(24,Tabelle3[],6,0))","v":"-"},null,null,null,null,null,null,null,null,null,null,null,null,null,"Predisposizione",null,"Data 2",null,null,"cm",null,"Kg",null,"BUONO",4]
["DATA DI NASC.",null,{"$f":"IF(ISBLANK(VLOOKUP(24,Tabelle3[],14,0)),\"-\",VLOOKUP(24,Tabelle3[],14,0))","v":"-"},{"$f":"IF(ISBLANK(VLOOKUP(24,Tabelle3[],15,0)),\"-\",VLOOKUP(24,Tabelle3[],15,0))","v":"-"},{"$f":"IF(ISBLANK(VLOOKUP(24,Tabelle3[],16,0)),\"-\",VLOOKUP(24,Tabelle3[],16,0))","v":"-"},null,"ALTEZZA",null,"cm (Finale)","TELEFONO",{"$f":"IF(ISBLANK(VLOOKUP(24,Tabelle3[],8,0)),\"-\",VLOOKUP(24,Tabelle3[],8,0))","v":"-"},null,null,null,null,null,null,null,null,null,null,null,null,null,null,"Ambiente di vita",null,"Data 3",null,null,"cm",null,"Kg",null,"MEDIO/DISCRETO",3]
["SESSO",null,{"$f":"IF(ISBLANK(VLOOKUP(24,Tabelle3[],13,0)),\"-\",VLOOKUP(24,Tabelle3[],13,0))","v":"-"},null,null,null,"PESO",null,"Kg (Finale)","E-Mail",{"$f":"IF(ISBLANK(VLOOKUP(24,Tabelle3[],9,0)),\"-\",VLOOKUP(24,Tabelle3[],9,0))","v":"-"},null,null,null,null,null,null,null,null,null,null,null,null,null,null,null,null,"Data 4",null,null,"cm",null,"Kg",null,"CON LACUNE",2]
[null,null,null,null,null,null,null,null,null,null,null,null,null,null,null,null,null,null,null,null,null,null,null,null,null,null,null,"Data 5",null,null,"cm",null,"Kg",null,"INSUFFICIENTE",1]
["Visione",null,"xxx"]
["Prossimo passo",null,"xxx"]
["Proflio giocatore",null,"xxx"]
[]
["VALUTAZIONI (COACH / GIOCATORE)",null,null,null,null,null,null,null,null,null,null,null,null,null,null,null,null,null,null,null,null,null,null,null,null,"Obiettivi SMART"]
[{"$f":"'Spiegazioni Skills FTEM'!A3","v":"TEAM"},null,null,{"$f":"'Spiegazioni Skills FTEM'!B3","v":"CAPACITÀ"},null,null,{"$f":"'Spiegazioni Skills FTEM'!C3","v":"CRITERIO D'OSSERVAZIONE"},null,null,{"$f":"'Spiegazioni Skills FTEM'!H3","v":0},null,null,"Final","Data1",null,"Data2",null,"Data3",null,"Data4",null,"Data5",null,"Player",null,"OBIETTIVO","PROVVEDIMENTI:\n(SPECIFICI, MISURABILI, REALISTICI)",null,null,null,null,null,null,"TERMINE","COTROLLO DELL'OBIETTIVO","Data"]
[{"$f":"'Spiegazioni Skills FTEM'!A4","v":"SQUADRA"},null,null,{"$f":"IF($H$2=\"G\",'Spiegazioni Skills FTEM'!F4,'Spiegazioni Skills FTEM'!B4)","v":"Comunicazione"},null,null,{"$f":"IF($H$2=\"G\",'Spiegazioni Skills FTEM'!G4,'Spiegazioni Skills FTEM'!C4)","v":"Cura relazioni aperte e rispettose, fiducia quale base comportamentale, affronta i conflitti senza ledere la stabilità del gruppo, comunica con i compagni, gli allenatori e\nfunzionari con i medesimi valori"},null,null,{"$f":"IF($H$2=\"G\",'Spiegazioni Skills FTEM'!#REF!,'Spiegazioni Skills FTEM'!#REF!)","v":{"$error":"#REF!"}},null,null,null,{"$f":"IFERROR(AVERAGE(O13:O17),\"-\")","v":"-"},null,{"$f":"IFERROR(AVERAGE(Q13:Q17),\"-\")","v":"-"},null,{"$f":"IFERROR(AVERAGE(S13:S17),\"-\")","v":"-"},null,{"$f":"IFERROR(AVERAGE(U13:U17),\"-\")","v":"-"},null,{"$f":"IFERROR(AVERAGE(W13:W17),\"-\")","v":"-"},null,{"$f":"IFERROR(AVERAGE(Y13:Y17),\"-\")","v":"-"}]
[{"$f":"'Spiegazioni Skills FTEM'!A5","v":0},null,null,{"$f":"IF($H$2=\"G\",'Spiegazioni Skills FTEM'!F5,'Spiegazioni Skills FTEM'!B5)","v":"Capacità nella squadra"},null,null,{"$f":"IF($H$2=\"G\",'Spiegazioni Skills FTEM'!G5,'Spiegazioni Skills FTEM'!C5)","v":"Integrazione nel gruppo, definisce e realizza obiettivi comuni, NOI prima dell'IO, contribuisce a creare un buon spirito di squadra e clima di lavoro"},null,null,{"$f":"IF($H$2=\"G\",'Spiegazioni Skills FTEM'!#REF!,'Spiegazioni Skills FTEM'!#REF!)","v":{"$error":"#REF!"}}]
[{"$f":"'Spiegazioni Skills FTEM'!A6","v":0},null,null,{"$f":"IF($H$2=\"G\",'Spiegazioni Skills FTEM'!F6,'Spiegazioni Skills FTEM'!B6)","v":"Leadership"},null,null,{"$f":"IF($H$2=\"G\",'Spiegazioni Skills FTEM'!G6,'Spiegazioni Skills FTEM'!C6)","v":"Assume responsabilità nell'ambito del gruppo, cerca di migliorare la squadra e i compagni, influenza positivamente la dinamica di gruppo"},null,null,{"$f":"IF($H$2=\"G\",'Spiegazioni Skills FTEM'!#REF!,'Spiegazioni Skills FTEM'!#REF!)","v":{"$error":"#REF!"}}]
[{"$f":"'Spiegazioni Skills FTEM'!A7","v":0},null,null,{"$f":"IF($H$2=\"G\",'Spiegazioni Skills FTEM'!F7,'Spiegazioni Skills FTEM'!B7)","v":"Ripartizione dei ruoli"},null,null,{"$f":"IF($H$2=\"G\",'Spiegazioni Skills FTEM'!G7,'Spiegazioni Skills FTEM'!C7)","v":"Riconosce e adempie il suo ruolo, è cosciente della sua posizione nel sistema e nella squadra, mette a disposizione della squadra le sue competenze"},null,null,{"$f":"IF($H$2=\"G\",'Spiegazioni Skills FTEM'!#REF!,'Spiegazioni Skills FTEM'!#REF!)","v":{"$error":"#REF!"}}]
[{"$f":"'Spiegazioni Skills FTEM'!A8","v":0},null,null,{"$f":"IF($H$2=\"G\",'Spiegazioni Skills FTEM'!F8,'Spiegazioni Skills FTEM'!B8)","v":"Rispetto"},null,null,{"$f":"IF($H$2=\"G\",'Spiegazioni Skills FTEM'!G8,'Spiegazioni Skills FTEM'!C8)","v":"Relazioni rispettose con i compagni, allenatori, avversari, arbitri e staff; rispetta le regole i pricipi del fairplay (compreso la lotta al doping)"},null,null,{"$f":"IF($H$2=\"G\",'Spiegazioni Skills FTEM'!#REF!,'Spiegazioni Skills FTEM'!#REF!)","v":{"$error":"#REF!"}}]
[{"$f":"'Spiegazioni Skills FTEM'!A9","v":"ON ICE"},null,null,{"$f":"'Spiegazioni Skills FTEM'!B9","v":"CAPACITÀ"},null,null,{"$f":"'Spiegazioni Skills FTEM'!C9","v":"CRITERIO D'OSSERVAZIONE"},null,null,{"$f":"'Spiegazioni Skills FTEM'!H9","v":0},null,null,null,"Data1",null,"Data2",null,"Data3",null,"Data4",null,"Data5",null,"Player",null,"OBIETTIVO","PROVVEDIMENTI:\n(SPECIFICI, MISURABILI, REALISTICI)",null,null,null,null,null,null,"TERMINE","COTROLLO DELL'OBIETTIVO","Date"]
[{"$f":"'Spiegazioni Skills FTEM'!A10","v":"PATTINAGGIO"},null,null,{"$f":"IF($H$2=\"G\",'Spiegazioni Skills FTEM'!F10,'Spiegazioni Skills FTEM'!B10)","v":"Velocità dei piedi"},null,null,{"$f":"IF($H$2=\"G\",'Spiegazioni Skills FTEM'!G10,'Spiegazioni Skills FTEM'!C10)","v":"Accelerazione, partenza, esplosività dei primi 3 passi, frequenza"},null,null,{"$f":"IF($H$2=\"G\",'Spiegazioni Skills FTEM'!#REF!,'Spiegazioni Skills FTEM'!#REF!)","v":{"$error":"#REF!"}},null,null,null,{"$f":"IFERROR(AVERAGE(O19:O23),\"-\")","v":"-"},null,{"$f":"IFERROR(AVERAGE(Q19:Q23),\"-\")","v":"-"},null,{"$f":"IFERROR(AVERAGE(S19:S23),\"-\")","v":"-"},null,{"$f":"IFERROR(AVERAGE(U19:U23),\"-\")","v":"-"},null,{"$f":"IFERROR(AVERAGE(W19:W23),\"-\")","v":"-"},null,{"$f":"IFERROR(AVERAGE(Y19:Y23),\"-\")","v":"-"}]
[{"$f":"'Spiegazioni Skills FTEM'!A11:A11","v":0},null,null,{"$f":"IF($H$2=\"G\",'Spiegazioni Skills FTEM'!F11,'Spiegazioni Skills FTEM'!B11)","v":"Velocità/rapidità"},null,null,{"$f":"IF($H$2=\"G\",'Spiegazioni Skills FTEM'!G11,'Spiegazioni Skills FTEM'!C11)","v":"Velocità, facoltà di scivolare, avanti / indietro, economia dello sforzo"},null,null,{"$f":"IF($H$2=\"G\",'Spiegazioni Skills FTEM'!#REF!,'Spiegazioni Skills FTEM'!#REF!)","v":{"$error":"#REF!"}}]
[null,null,null,{"$f":"IF($H$2=\"G\",'Spiegazioni Skills FTEM'!F12,'Spiegazioni Skills FTEM'!B12)","v":"Agilità"},null,null,{"$f":"IF($H$2=\"G\",'Spiegazioni Skills FTEM'!G12,'Spiegazioni Skills FTEM'!C12)","v":"Cambiamento di direzione, girarsi, stop e ripartenza, \"Nummelin\""},null,null,{"$f":"IF($H$2=\"G\",'Spiegazioni Skills FTEM'!#REF!,'Spiegazioni Skills FTEM'!#REF!)","v":{"$error":"#REF!"}}]
[{"$f":"'Spiegazioni Skills FTEM'!A12:A12","v":0},null,null,{"$f":"IF($H$2=\"G\",'Spiegazioni Skills FTEM'!F13,'Spiegazioni Skills FTEM'!B13)","v":"Equilibrio"},null,null,{"$f":"IF($H$2=\"G\",'Spiegazioni Skills FTEM'!G13,'Spiegazioni Skills FTEM'!C13)","v":"Equilibrio, stabilità, posizione bassa, su una gamba, su entrambe"},null,null,{"$f":"IF($H$2=\"G\",'Spiegazioni Skills FTEM'!#REF!,'Spiegazioni Skills FTEM'!#REF!)","v":{"$error":"#REF!"}},null,null,null,{"$f":"IFERROR(AVERAGE(O22:O23),\"-\")","v":"-"},null,{"$f":"IFERROR(AVERAGE(Q22:Q23),\"-\")","v":"-"},null,{"$f":"IFERROR(AVERAGE(S22:S23),\"-\")","v":"-"},null,{"$f":"IFERROR(AVERAGE(U22:U23),\"-\")","v":"-"},null,{"$f":"IFERROR(AVERAGE(W22:W23),\"-\")","v":"-"},null,"-"]
[{"$f":"'Spiegazioni Skills FTEM'!A14:A14","v":0},null,null,{"$f":"IF($H$2=\"G\",'Spiegazioni Skills FTEM'!F14,'Spiegazioni Skills FTEM'!B14)","v":"Pattinaggio indietro"},null,null,{"$f":"IF($H$2=\"G\",'Spiegazioni Skills FTEM'!G14,'Spiegazioni Skills FTEM'!C14)","v":"Accelerazione, velocità, equilibrio"},null,null,{"$f":"IF($H$2=\"G\",'Spiegazioni Skills FTEM'!#REF!,'Spiegazioni Skills FTEM'!#REF!)","v":{"$error":"#REF!"}}]
[{"$f":"'Spiegazioni Skills FTEM'!A15","v":"ABILITÀ"},null,null,{"$f":"IF($H$2=\"G\",'Spiegazioni Skills FTEM'!F15,'Spiegazioni Skills FTEM'!B15)","v":"Tirare"},null,null,{"$f":"IF($H$2=\"G\",'Spiegazioni Skills FTEM'!G15,'Spiegazioni Skills FTEM'!C15)","v":"Efficienza (poco spazio, poco tempo), ricchezza di varianti, grado di sorpresa (Quick Release), precisione, potenza (conclusioni tattiche)"},null,null,{"$f":"IF($H$2=\"G\",'Spiegazioni Skills FTEM'!#REF!,'Spiegazioni Skills FTEM'!#REF!)","v":{"$error":"#REF!"}},null,null,null,{"$f":"IFERROR(AVERAGE(O24:O29),\"-\")","v":"-"},null,{"$f":"IFERROR(AVERAGE(Q24:Q29),\"-\")","v":"-"},null,{"$f":"IFERROR(AVERAGE(S24:S29),\"-\")","v":"-"},null,{"$f":"IFERROR(AVERAGE(U24:U29),\"-\")","v":"-"},null,{"$f":"IFERROR(AVERAGE(W24:W29),\"-\")","v":"-"},null,{"$f":"IFERROR(AVERAGE(Y24:Y29),\"-\")","v":"-"}]
[null,null,null,{"$f":"IF($H$2=\"G\",'Spiegazioni Skills FTEM'!F16,'Spiegazioni Skills FTEM'!B16)","v":"Passare"},null,null,{"$f":"IF($H$2=\"G\",'Spiegazioni Skills FTEM'!G16,'Spiegazioni Skills FTEM'!C16)","v":"Passaggio (distanza, flipp, rovescio), ricezione del passaggio (precisione, timing, diritto, rovescio, sul pattino), velocità del disco"},null,null,{"$f":"IF($H$2=\"G\",'Spiegazioni Skills FTEM'!#REF!,'Spiegazioni Skills FTEM'!#REF!)","v":{"$error":"#REF!"}}]
[null,null,null,{"$f":"IF($H$2=\"G\",'Spiegazioni Skills FTEM'!F17,'Spiegazioni Skills FTEM'!B17)","v":"Lavoro col bastone - condotta del disco"},null,null,{"$f":"IF($H$2=\"G\",'Spiegazioni Skills FTEM'!G17,'Spiegazioni Skills FTEM'!C17)","v":"Bastone sul disco, intercettare le linee di passaggio, deviare, controllo del bastone avversario"},null,null,{"$f":"IF($H$2=\"G\",'Spiegazioni Skills FTEM'!#REF!,'Spiegazioni Skills FTEM'!#REF!)","v":{"$error":"#REF!"}}]
[{"$f":"'Spiegazioni Skills FTEM'!A16:A16","v":0},null,null,{"$f":"IF($H$2=\"G\",'Spiegazioni Skills FTEM'!F18,'Spiegazioni Skills FTEM'!B18)","v":"Possedere/proteggere il disco"},null,null,{"$f":"IF($H$2=\"G\",'Spiegazioni Skills FTEM'!G18,'Spiegazioni Skills FTEM'!C18)","v":"Controllo del disco, dribbling, protezione del disco, finte (varianti col pattino, con o senza la balaustra), ingaggi (face-off)"},null,null,{"$f":"IF($H$2=\"G\",'Spiegazioni Skills FTEM'!#REF!,'Spiegazioni Skills FTEM'!#REF!)","v":{"$error":"#REF!"}}]
[{"$f":"'Spiegazioni Skills FTEM'!A17:A17","v":0},null,null,{"$f":"IF($H$2=\"G\",'Spiegazioni Skills FTEM'!F19,'Spiegazioni Skills FTEM'!B19)","v":"Gioco del corpo"},null,null,{"$f":"IF($H$2=\"G\",'Spiegazioni Skills FTEM'!G19,'Spiegazioni Skills FTEM'!C19)","v":"Facoltà di imporsi fisicamente, duelli (ghiaccio aperto, balaustra), subire dei checks/testa alta, livello di lotta, duro ma corretto, blocco dei tiri con il corpo"},null,null,{"$f":"IF($H$2=\"G\",'Spiegazioni Skills FTEM'!#REF!,'Spiegazioni Skills FTEM'!#REF!)","v":{"$error":"#REF!"}}]
[{"$f":"'Spiegazioni Skills FTEM'!A20:A20","v":0},null,null,{"$f":"IF($H$2=\"G\",'Spiegazioni Skills FTEM'!F20,'Spiegazioni Skills FTEM'!B20)","v":"-"},null,null,{"$f":"IF($H$2=\"G\",'Spiegazioni Skills FTEM'!G20,'Spiegazioni Skills FTEM'!C20)","v":"-"},null,null,{"$f":"IF($H$2=\"G\",'Spiegazioni Skills FTEM'!#REF!,'Spiegazioni Skills FTEM'!#REF!)","v":{"$error":"#REF!"}}]
[{"$f":"'Spiegazioni Skills FTEM'!A21","v":"SENSO DELL'HOCKEY"},null,null,{"$f":"IF($H$2=\"G\",'Spiegazioni Skills FTEM'!F21,'Spiegazioni Skills FTEM'!B21)","v":"Intelligenza nel gioco"},null,null,{"$f":"IF($H$2=\"G\",'Spiegazioni Skills FTEM'!G21,'Spiegazioni Skills FTEM'!C21)","v":"Vedere spazi e giocatori liberi, creare situazioni di superiorità numerica, agire cercando soluzioni in tutte le situazioni, velocità di visualizzazione"},null,null,{"$f":"IF($H$2=\"G\",'Spiegazioni Skills FTEM'!#REF!,'Spiegazioni Skills FTEM'!#REF!)","v":{"$error":"#REF!"}},null,null,null,{"$f":"IFERROR(AVERAGE(O30:O34),\"-\")","v":"-"},null,{"$f":"IFERROR(AVERAGE(Q30:Q34),\"-\")","v":"-"},null,{"$f":"IFERROR(AVERAGE(S30:S34),\"-\")","v":"-"},null,{"$f":"IFERROR(AVERAGE(U30:U34),\"-\")","v":"-"},null,{"$f":"IFERROR(AVERAGE(W30:W34),\"-\")","v":"-"},null,{"$f":"IFERROR(AVERAGE(Y30:Y34),\"-\")","v":"-"}]
[{"$f":"'Spiegazioni Skills FTEM'!A22:A22","v":0},null,null,{"$f":"IF($H$2=\"G\",'Spiegazioni Skills FTEM'!F22,'Spiegazioni Skills FTEM'!B22)","v":"Sensibilità offensiva"},null,null,{"$f":"IF($H$2=\"G\",'Spiegazioni Skills FTEM'!G22,'Spiegazioni Skills FTEM'!C22)","v":"Smarcarsi, anticipare le situazioni di gioco, aprire spazi liberi per i compagni, piazzarsi per le conclusioni, velocità nel chiudere gli spazi (pressione), comunicazione"},null,null,{"$f":"IF($H$2=\"G\",'Spiegazioni Skills FTEM'!#REF!,'Spiegazioni Skills FTEM'!#REF!)","v":{"$error":"#REF!"}}]
[null,null,null,{"$f":"IF($H$2=\"G\",'Spiegazioni Skills FTEM'!F23,'Spiegazioni Skills FTEM'!B23)","v":"Sensibilità difensiva"},null,null,{"$f":"IF($H$2=\"G\",'Spiegazioni Skills FTEM'!G23,'Spiegazioni Skills FTEM'!C23)","v":"Mantenere la posizione difensiva, protezione dello slot, assicurare i compagni / supporto, individuare le linee di passaggio, bloccare i tiri, ridurre velocemente gli spazi, comunicazione"},null,null,{"$f":"IF($H$2=\"G\",'Spiegazioni Skills FTEM'!#REF!,'Spiegazioni Skills FTEM'!#REF!)","v":{"$error":"#REF!"}}]
[{"$f":"'Spiegazioni Skills FTEM'!A24:A24","v":0},null,null,{"$f":"IF($H$2=\"G\",'Spiegazioni Skills FTEM'!F24,'Spiegazioni Skills FTEM'!B24)","v":"Gestione del disco"},null,null,{"$f":"IF($H$2=\"G\",'Spiegazioni Skills FTEM'!G24,'Spiegazioni Skills FTEM'!C24)","v":"Prendere decisioni adeguate nelle situazioni di gioco, supporto, creare superiorità numerica"},null,null,{"$f":"IF($H$2=\"G\",'Spiegazioni Skills FTEM'!#REF!,'Spiegazioni Skills FTEM'!#REF!)","v":{"$error":"#REF!"}}]
[{"$f":"'Spiegazioni Skills FTEM'!A25:A25","v":0},null,null,{"$f":"IF($H$2=\"G\",'Spiegazioni Skills FTEM'!F25,'Spiegazioni Skills FTEM'!B25)","v":"Creatività"},null,null,{"$f":"IF($H$2=\"G\",'Spiegazioni Skills FTEM'!G25,'Spiegazioni Skills FTEM'!C25)","v":"Creare situazioni a sorpresa, fiuto del gol"},null,null,{"$f":"IF($H$2=\"G\",'Spiegazioni Skills FTEM'!#REF!,'Spiegazioni Skills FTEM'!#REF!)","v":{"$error":"#REF!"}}]
[{"$f":"'Spiegazioni Skills FTEM'!A26","v":"PERSONALITY"},null,null,{"$f":"'Spiegazioni Skills FTEM'!B26","v":"CAPACITÀ"},null,null,{"$f":"'Spiegazioni Skills FTEM'!C26","v":"CRITERIO D'OSSERVAZIONE"},null,null,{"$f":"'Spiegazioni Skills FTEM'!H26","v":0},null,null,null,"Data1",null,"Data2",null,"Data3",null,"Data4",null,"Data5",null,"Player",null,"OBIETTIVO","PROVVEDIMENTI:\n(SPECIFICI, MISURABILI, REALISTICI)",null,null,null,null,null,null,"TERMINE","COTROLLO DELL'OBIETTIVO","Date"]
[{"$f":"'Spiegazioni Skills FTEM'!A27","v":"PERSONALITÀ"},null,null,{"$f":"IF($H$2=\"G\",'Spiegazioni Skills FTEM'!F27,'Spiegazioni Skills FTEM'!B27)","v":"Fiducia in se stesso"},null,null,{"$f":"IF($H$2=\"G\",'Spiegazioni Skills FTEM'!G27,'Spiegazioni Skills FTEM'!C27)","v":"Possiede la necessaria fiducia in se stesso, «I can do it»-attitudine, sa valutare le proprie capacità (conosce i propri punti forti e deboli), può realizzare le proprie qualità con\ncostanza, è coraggioso e sa prendere dei rischi calcolati"},null,null,{"$f":"IF($H$2=\"G\",'Spiegazioni Skills FTEM'!#REF!,'Spiegazioni Skills FTEM'!#REF!)","v":{"$error":"#REF!"}},null,null,null,{"$f":"IFERROR(AVERAGE(O36:O40),\"-\")","v":"-"},null,{"$f":"IFERROR(AVERAGE(Q36:Q40),\"-\")","v":"-"},null,{"$f":"IFERROR(AVERAGE(S36:S40),\"-\")","v":"-"},null,{"$f":"IFERROR(AVERAGE(U36:U40),\"-\")","v":"-"},null,{"$f":"IFERROR(AVERAGE(W36:W40),\"-\")","v":"-"},null,{"$f":"IFERROR(AVERAGE(Y36:Y40),\"-\")","v":"-"}]
[{"$f":"'Spiegazioni Skills FTEM'!A28:A28","v":0},null,null,{"$f":"IF($H$2=\"G\",'Spiegazioni Skills FTEM'!F28,'Spiegazioni Skills FTEM'!B28)","v":"Capacità d'apprendimento"},null,null,{"$f":"IF($H$2=\"G\",'Spiegazioni Skills FTEM'!G28,'Spiegazioni Skills FTEM'!C28)","v":"Ha una buona capacità d'apprendimento (sa recepire e realizzare), possiede una personalità, cerca di imparare dai propri errori derivandone delle misure"},null,null,{"$f":"IF($H$2=\"G\",'Spiegazioni Skills FTEM'!#REF!,'Spiegazioni Skills FTEM'!#REF!)","v":{"$error":"#REF!"}}]
[null,null,null,{"$f":"IF($H$2=\"G\",'Spiegazioni Skills FTEM'!F29,'Spiegazioni Skills FTEM'!B29)","v":"Senso di responsabilità"},null,null,{"$f":"IF($H$2=\"G\",'Spiegazioni Skills FTEM'!G29,'Spiegazioni Skills FTEM'!C29)","v":"Assume responsabiltà per le proprie prestazioni e sviluppo, agisce autonomamente, cura i dettagli, mostra un grande impegno in tutti i settori"},null,null,{"$f":"IF($H$2=\"G\",'Spiegazioni Skills FTEM'!#REF!,'Spiegazioni Skills FTEM'!#REF!)","v":{"$error":"#REF!"}}]
[{"$f":"'Spiegazioni Skills FTEM'!A30:A30","v":0},null,null,{"$f":"IF($H$2=\"G\",'Spiegazioni Skills FTEM'!F30,'Spiegazioni Skills FTEM'!B30)","v":"Motivazione"},null,null,{"$f":"IF($H$2=\"G\",'Spiegazioni Skills FTEM'!G30,'Spiegazioni Skills FTEM'!C30)","v":"È sempre motivato, vuole sempre svilupparsi e imparare, vuol essere il primo e avere successo, non rinuncia mai e non si lascia influenzare dagli insuccessi"},null,null,{"$f":"IF($H$2=\"G\",'Spiegazioni Skills FTEM'!#REF!,'Spiegazioni Skills FTEM'!#REF!)","v":{"$error":"#REF!"}}]
[{"$f":"'Spiegazioni Skills FTEM'!A31:A31","v":0},null,null,{"$f":"IF($H$2=\"G\",'Spiegazioni Skills FTEM'!F31,'Spiegazioni Skills FTEM'!B31)","v":"Prestazione Stile di vita"},null,null,{"$f":"IF($H$2=\"G\",'Spiegazioni Skills FTEM'!G31,'Spiegazioni Skills FTEM'!C31)","v":"Gestisce bene la quotidianità il suo ambiente seguendo i principi della prestazione, caparbio, perseverante e finalizzato sugli obiettivi, focus sulla propria prestazione, coraggioso e grintoso, sa imporsi nei confronti delle resistenze, le sfide lo motivano"},null,null,{"$f":"IF($H$2=\"G\",'Spiegazioni Skills FTEM'!#REF!,'Spiegazioni Skills FTEM'!#REF!)","v":{"$error":"#REF!"}}]
[{"$f":"'Spiegazioni Skills FTEM'!A32","v":"FORZA MENTALE"},null,null,{"$f":"IF($H$2=\"G\",'Spiegazioni Skills FTEM'!F32,'Spiegazioni Skills FTEM'!B32)","v":"Impegno"},null,null,{"$f":"IF($H$2=\"G\",'Spiegazioni Skills FTEM'!G32,'Spiegazioni Skills FTEM'!C32)","v":"Mostra molta intensità negli allenamenti e nelle partite, dà sempre il massimo e vuole sempre spronare i propri limiti, mostra passione, si sforza ad alzare la qualità negli allenamenti"},null,null,{"$f":"IF($H$2=\"G\",'Spiegazioni Skills FTEM'!#REF!,'Spiegazioni Skills FTEM'!#REF!)","v":{"$error":"#REF!"}},null,null,null,{"$f":"IFERROR(AVERAGE(O41:O45),\"-\")","v":"-"},null,{"$f":"IFERROR(AVERAGE(Q41:Q45),\"-\")","v":"-"},null,{"$f":"IFERROR(AVERAGE(S41:S45),\"-\")","v":"-"},null,{"$f":"IFERROR(AVERAGE(U41:U45),\"-\")","v":"-"},null,{"$f":"IFERROR(AVERAGE(W41:W45),\"-\")","v":"-"},null,{"$f":"IFERROR(AVERAGE(Y41:Y45),\"-\")","v":"-"}]
[null,null,null,{"$f":"IF($H$2=\"G\",'Spiegazioni Skills FTEM'!F33,'Spiegazioni Skills FTEM'!B33)","v":"Preparazione"},null,null,{"$f":"IF($H$2=\"G\",'Spiegazioni Skills FTEM'!G33,'Spiegazioni Skills FTEM'!C33)","v":"Preparazione consapevole e finalizzata, mentalmente e fisicamente, possiede un efficiente approccio per l'ottenimento dell'ideale stato di prestazione (ILZ/ISP)"},null,null,{"$f":"IF($H$2=\"G\",'Spiegazioni Skills FTEM'!#REF!,'Spiegazioni Skills FTEM'!#REF!)","v":{"$error":"#REF!"}}]
[{"$f":"'Spiegazioni Skills FTEM'!A34:A34","v":0},null,null,{"$f":"IF($H$2=\"G\",'Spiegazioni Skills FTEM'!F34,'Spiegazioni Skills FTEM'!B34)","v":"Coaching individuale"},null,null,{"$f":"IF($H$2=\"G\",'Spiegazioni Skills FTEM'!G34,'Spiegazioni Skills FTEM'!C34)","v":"Possiede una buona capacità di concentrazione, può mantenere il suo ILZ/ISP durante la partita e l'allenamento, può utilizzare tecniche di base per rafforzare il mentale, resistenti contro pensieri e influenze negative, è consapevole del proprio linguaggio del corpo che è in grado di padroneggiare"},null,null,{"$f":"IF($H$2=\"G\",'Spiegazioni Skills FTEM'!#REF!,'Spiegazioni Skills FTEM'!#REF!)","v":{"$error":"#REF!"}}]
[{"$f":"'Spiegazioni Skills FTEM'!A35:A35","v":0},null,null,{"$f":"IF($H$2=\"G\",'Spiegazioni Skills FTEM'!F35,'Spiegazioni Skills FTEM'!B35)","v":"Gestione delle energie"},null,null,{"$f":"IF($H$2=\"G\",'Spiegazioni Skills FTEM'!G35,'Spiegazioni Skills FTEM'!C35)","v":"Può gestire le proprie energie, cura la rigenerazione, può gestire i momenti in cui si deve andare al massimo oppure risparmiarsi, interruttore on/off"},null,null,{"$f":"IF($H$2=\"G\",'Spiegazioni Skills FTEM'!#REF!,'Spiegazioni Skills FTEM'!#REF!)","v":{"$error":"#REF!"}}]
[{"$f":"'Spiegazioni Skills FTEM'!A36:A36","v":0},null,null,{"$f":"IF($H$2=\"G\",'Spiegazioni Skills FTEM'!F36,'Spiegazioni Skills FTEM'!B36)","v":"Controllo delle emozioni"},null,null,{"$f":"IF($H$2=\"G\",'Spiegazioni Skills FTEM'!G36,'Spiegazioni Skills FTEM'!C36)","v":"Può regolare le proprie emozioni e impulsi, mantiene il controllo quando si trova sotto pressione, sa anche agire adeguatamente in situazioni emotive o frustranti"},null,null,{"$f":"IF($H$2=\"G\",'Spiegazioni Skills FTEM'!#REF!,'Spiegazioni Skills FTEM'!#REF!)","v":{"$error":"#REF!"}}]
[{"$f":"'Spiegazioni Skills FTEM'!A37","v":"FISICO"},null,null,{"$f":"IF($H$2=\"G\",'Spiegazioni Skills FTEM'!F37,'Spiegazioni Skills FTEM'!B37)","v":"Produzione di prestazione"},null,null,{"$f":"IF($H$2=\"G\",'Spiegazioni Skills FTEM'!G37,'Spiegazioni Skills FTEM'!C37)","v":"Possiede nelle gambe e nella parte alta del corpo la necessaria potenza/forza/velocità (fattori neuromuscolari)"},null,null,{"$f":"IF($H$2=\"G\",'Spiegazioni Skills FTEM'!#REF!,'Spiegazioni Skills FTEM'!#REF!)","v":{"$error":"#REF!"}},null,null,null,{"$f":"IFERROR(AVERAGE(O46:O50),\"-\")","v":"-"},null,{"$f":"IFERROR(AVERAGE(Q46:Q50),\"-\")","v":"-"},null,{"$f":"IFERROR(AVERAGE(S46:S50),\"-\")","v":"-"},null,{"$f":"IFERROR(AVERAGE(U46:U50),\"-\")","v":"-"},null,{"$f":"IFERROR(AVERAGE(W46:W50),\"-\")","v":"-"},null,{"$f":"IFERROR(AVERAGE(Y46:Y50),\"-\")","v":"-"}]
[null,null,null,{"$f":"IF($H$2=\"G\",'Spiegazioni Skills FTEM'!F38,'Spiegazioni Skills FTEM'!B38)","v":"Resistenza specifica alla fatica"},null,null,{"$f":"IF($H$2=\"G\",'Spiegazioni Skills FTEM'!G38,'Spiegazioni Skills FTEM'!C38)","v":"È capace di mantenere a lungo nell'ambito di un impiego la potenza/forza/velocità ed è capace di recuperare completamente attraverso i vari impieghi sul ghiaccio (fattori metabolici e cardiovascolari)"},null,null,{"$f":"IF($H$2=\"G\",'Spiegazioni Skills FTEM'!#REF!,'Spiegazioni Skills FTEM'!#REF!)","v":{"$error":"#REF!"}}]
[{"$f":"'Spiegazioni Skills FTEM'!A39:A39","v":0},null,null,{"$f":"IF($H$2=\"G\",'Spiegazioni Skills FTEM'!F39,'Spiegazioni Skills FTEM'!B39)","v":"Salute / prevenzione"},null,null,{"$f":"IF($H$2=\"G\",'Spiegazioni Skills FTEM'!G39,'Spiegazioni Skills FTEM'!C39)","v":"Possiede la necessaria stabilità (stabilità delle gambe) e mobilità delle articolazioni centrali"},null,null,{"$f":"IF($H$2=\"G\",'Spiegazioni Skills FTEM'!#REF!,'Spiegazioni Skills FTEM'!#REF!)","v":{"$error":"#REF!"}}]
[{"$f":"'Spiegazioni Skills FTEM'!A40:A40","v":0},null,null,{"$f":"IF($H$2=\"G\",'Spiegazioni Skills FTEM'!F40,'Spiegazioni Skills FTEM'!B40)","v":"Competenze della mobilità"},null,null,{"$f":"IF($H$2=\"G\",'Spiegazioni Skills FTEM'!G40,'Spiegazioni Skills FTEM'!C40)","v":"Padroneggia le basilari capacità di movimento che garantiscono in modo determinante le abilità specifiche \"skills\", come pure l'efficacia dei movimenti"},null,null,{"$f":"IF($H$2=\"G\",'Spiegazioni Skills FTEM'!#REF!,'Spiegazioni Skills FTEM'!#REF!)","v":{"$error":"#REF!"}}]
[{"$f":"'Spiegazioni Skills FTEM'!A41:A41","v":0},null,null,{"$f":"IF($H$2=\"G\",'Spiegazioni Skills FTEM'!F41,'Spiegazioni Skills FTEM'!B41)","v":"Robustezza"},null,null,{"$f":"IF($H$2=\"G\",'Spiegazioni Skills FTEM'!G41,'Spiegazioni Skills FTEM'!C41)","v":"Possiede la necessaria forza di base (tensione del corpo) per vincere i duelli e resistere alle cariche"},null,null,{"$f":"IF($H$2=\"G\",'Spiegazioni Skills FTEM'!#REF!,'Spiegazioni Skills FTEM'!#REF!)","v":{"$error":"#REF!"}}]

{"sheet":"25","index":28,"n_rows":50,"n_cols":36,"rows_kept":50,"cut":false,"hidden":false,"merged":[[45,34,49,34],[45,12,49,12],[45,13,49,13],[45,15,49,15],[45,17,49,17],[45,19,49,19],[45,21,49,21],[45,23,49,23],[45,25,49,25],[45,26,49,32],[45,0,49,2],[45,3,45,5],[45,6,45,11],[46,3,46,5],[46,6,46,11],[48,3,48,5],[48,6,48,11],[49,3,49,5],[49,6,49,11],[47,3,47,5],[47,6,47,11],[40,23,44,23],[42,3,42,5],[42,6,42,11],[44,3,44,5],[44,6,44,11],[40,0,44,2],[40,3,40,5],[40,6,40,11],[40,12,44,12],[40,13,44,13],[40,15,44,15],[43,3,43,5],[43,6,43,11],[34,21,34,22],[35,17,39,17],[35,19,39,19],[35,21,39,21],[37,3,37,5],[37,6,37,11],[38,3,38,5],[38,6,38,11],[40,17,44,17],[40,19,44,19],[40,21,44,21],[36,3,36,5],[36,6,36,11],[41,3,41,5],[41,6,41,11],[29,0,33,2],[29,3,29,5],[29,6,29,11],[29,12,33,12],[29,13,33,13],[29,15,33,15],[34,23,34,24],[34,26,34,32],[35,0,39,2],[35,3,35,5],[35,6,35,11],[35,12,39,12],[35,13,39,13],[35,15,39,15],[39,3,39,5],[39,6,39,11],[35,23,39,23],[34,0,34,2],[34,3,34,5],[34,6,34,11],[34,13,34,14],[34,15,34,16],[34,17,34,18],[34,19,34,20],[23,19,28,19],[23,21,28,21],[23,23,28,23],[26,3,26,5],[26,6,26,11],[28,3,28,5],[28,6,28,11],[33,3,33,5],[33,6,33,11],[29,23,33,23],[29,17,33,17],[29,19,33,19],[29,21,33,21],[31,3,31,5],[31,6,31,11],[32,3,32,5],[32,6,32,11],[27,3,27,5],[27,6,27,11],[25,3,25,5],[25,6,25,11],[30,3,30,5],[30,6,30,11],[12,21,16,21],[18,15,22,15],[18,17,22,17],[18,19,22,19],[18,21,22,21],[18,23,22,23],[22,3,22,5],[22,6,22,11],[23,0,28,2],[23,3,23,5],[23,6,23,11],[23,12,28,12],[23,13,28,13],[23,15,28,15],[23,17,28,17],[18,0,22,2],[18,3,18,5],[18,6,18,11],[18,12,22,12],[18,13,22,13],[19,3,19,5],[19,6,19,11],[21,3,21,5],[21,6,21,11],[11,21,11,22],[11,23,11,24],[11,26,11,32],[11,6,11,11],[12,23,16,23],[16,3,16,5],[16,6,16,11],[17,0,17,2],[17,3,17,5],[17,6,17,11],[17,13,17,14],[17,15,17,16],[17,17,17,18],[17,19,17,20],[17,21,17,22],[17,23,17,24],[12,0,16,2],[12,3,12,5],[12,6,12,11],[12,12,16,12],[12,13,16,13],[12,15,16,15],[12,17,16,17],[12,19,16,19],[4,0,4,1],[4,2,4,5],[4,10,4,24],[10,0,10,24],[10,25,10,35],[40,25,44,25],[40,26,44,32],[40,34,44,34],[12,25,16,25],[12,26,16,32],[12,34,16,34],[18,25,22,25],[18,26,22,32],[18,34,22,34],[23,25,28,25],[23,26,28,32],[23,34,28,34],[17,26,17,32],[11,0,11,2],[11,3,11,5],[11,13,11,14],[11,15,11,16],[11,17,11,18],[11,19,11,20],[0,0,0,24],[0,25,0,26],[0,27,0,32],[0,33,0,35],[29,25,33,25],[29,26,33,32],[29,34,33,34],[35,25,39,25],[35,26,39,32],[35,34,39,34],[1,0,1,1],[1,2,1,5],[1,10,1,24],[2,0,2,1],[2,2,2,5],[2,11,2,24],[6,0,6,1],[6,2,6,35],[7,0,7,1],[7,2,7,35],[8,0,8,1],[8,2,8,35],[3,0,3,1],[3,10,3,24],[13,3,13,5],[13,6,13,11],[14,3,14,5],[14,6,14,11],[15,3,15,5],[15,6,15,11],[20,3,20,5],[20,6,20,11],[24,3,24,5],[24,6,24,11]]}
["Personalien",null,null,null,null,null,null,null,null,null,null,null,null,null,null,null,null,null,null,null,null,null,null,null,null,"Predisposizione",null,"Valutazioni",null,null,null,null,null,"Rating"]
["COGNOME",null,{"$f":"IF(ISBLANK(VLOOKUP(25,Tabelle3[],3,0)),\"-\",VLOOKUP(25,Tabelle3[],3,0))","v":"-"},null,null,null,"POSIZIONE",null,null,"INDIRIZZO",{"$f":"IF(ISBLANK(VLOOKUP(25,Tabelle3[],5,0)),\"-\",VLOOKUP(25,Tabelle3[],5,0))","v":"-"},null,null,null,null,null,null,null,null,null,null,null,null,null,null,"Età\" (biologica/età relativa)",null,"Data 1",null,null,"cm",null,"Kg",null,"ECCELLENTE",5]
["NOME",null,{"$f":"IF(ISBLANK(VLOOKUP(25,Tabelle3[],2,0)),\"-\",VLOOKUP(25,Tabelle3[],2,0))","v":"-"},null,null,null,"BASTONE",null,null,"LUOGO",{"$f":"IF(ISBLANK(VLOOKUP(25,Tabelle3[],7,0)),\"-\",VLOOKUP(25,Tabelle3[],7,0))","v":"-"},{"$f":"IF(ISBLANK(VLOOKUP(25,Tabelle3[],6,0)),\"-\",VLOOKUP(25,Tabelle3[],6,0))","v":"-"},null,null,null,null,null,null,null,null,null,null,null,null,null,"Predisposizione",null,"Data 2",null,null,"cm",null,"Kg",null,"BUONO",4]
["DATA DI NASC.",null,{"$f":"IF(ISBLANK(VLOOKUP(25,Tabelle3[],14,0)),\"-\",VLOOKUP(25,Tabelle3[],14,0))","v":"-"},{"$f":"IF(ISBLANK(VLOOKUP(25,Tabelle3[],15,0)),\"-\",VLOOKUP(25,Tabelle3[],15,0))","v":"-"},{"$f":"IF(ISBLANK(VLOOKUP(25,Tabelle3[],16,0)),\"-\",VLOOKUP(25,Tabelle3[],16,0))","v":"-"},null,"ALTEZZA",null,"cm (Finale)","TELEFONO",{"$f":"IF(ISBLANK(VLOOKUP(25,Tabelle3[],8,0)),\"-\",VLOOKUP(25,Tabelle3[],8,0))","v":"-"},null,null,null,null,null,null,null,null,null,null,null,null,null,null,"Ambiente di vita",null,"Data 3",null,null,"cm",null,"Kg",null,"MEDIO/DISCRETO",3]
["SESSO",null,{"$f":"IF(ISBLANK(VLOOKUP(25,Tabelle3[],13,0)),\"-\",VLOOKUP(25,Tabelle3[],13,0))","v":"-"},null,null,null,"PESO",null,"Kg (Finale)","E-Mail",{"$f":"IF(ISBLANK(VLOOKUP(25,Tabelle3[],9,0)),\"-\",VLOOKUP(25,Tabelle3[],9,0))","v":"-"},null,null,null,null,null,null,null,null,null,null,null,null,null,null,null,null,"Data 4",null,null,"cm",null,"Kg",null,"CON LACUNE",2]
[null,null,null,null,null,null,null,null,null,null,null,null,null,null,null,null,null,null,null,null,null,null,null,null,null,null,null,"Data 5",null,null,"cm",null,"Kg",null,"INSUFFICIENTE",1]
["Visione",null,"xxx"]
["Prossimo passo",null,"xxx"]
["Proflio giocatore",null,"xxx"]
[]
["VALUTAZIONI (COACH / GIOCATORE)",null,null,null,null,null,null,null,null,null,null,null,null,null,null,null,null,null,null,null,null,null,null,null,null,"Obiettivi SMART"]
[{"$f":"'Spiegazioni Skills FTEM'!A3","v":"TEAM"},null,null,{"$f":"'Spiegazioni Skills FTEM'!B3","v":"CAPACITÀ"},null,null,{"$f":"'Spiegazioni Skills FTEM'!C3","v":"CRITERIO D'OSSERVAZIONE"},null,null,{"$f":"'Spiegazioni Skills FTEM'!H3","v":0},null,null,"Final","Data1",null,"Data2",null,"Data3",null,"Data4",null,"Data5",null,"Player",null,"OBIETTIVO","PROVVEDIMENTI:\n(SPECIFICI, MISURABILI, REALISTICI)",null,null,null,null,null,null,"TERMINE","COTROLLO DELL'OBIETTIVO","Data"]
[{"$f":"'Spiegazioni Skills FTEM'!A4","v":"SQUADRA"},null,null,{"$f":"IF($H$2=\"G\",'Spiegazioni Skills FTEM'!F4,'Spiegazioni Skills FTEM'!B4)","v":"Comunicazione"},null,null,{"$f":"IF($H$2=\"G\",'Spiegazioni Skills FTEM'!G4,'Spiegazioni Skills FTEM'!C4)","v":"Cura relazioni aperte e rispettose, fiducia quale base comportamentale, affronta i conflitti senza ledere la stabilità del gruppo, comunica con i compagni, gli allenatori e\nfunzionari con i medesimi valori"},null,null,{"$f":"IF($H$2=\"G\",'Spiegazioni Skills FTEM'!#REF!,'Spiegazioni Skills FTEM'!#REF!)","v":{"$error":"#REF!"}},null,null,null,{"$f":"IFERROR(AVERAGE(O13:O17),\"-\")","v":"-"},null,{"$f":"IFERROR(AVERAGE(Q13:Q17),\"-\")","v":"-"},null,{"$f":"IFERROR(AVERAGE(S13:S17),\"-\")","v":"-"},null,{"$f":"IFERROR(AVERAGE(U13:U17),\"-\")","v":"-"},null,{"$f":"IFERROR(AVERAGE(W13:W17),\"-\")","v":"-"},null,{"$f":"IFERROR(AVERAGE(Y13:Y17),\"-\")","v":"-"}]
[{"$f":"'Spiegazioni Skills FTEM'!A5","v":0},null,null,{"$f":"IF($H$2=\"G\",'Spiegazioni Skills FTEM'!F5,'Spiegazioni Skills FTEM'!B5)","v":"Capacità nella squadra"},null,null,{"$f":"IF($H$2=\"G\",'Spiegazioni Skills FTEM'!G5,'Spiegazioni Skills FTEM'!C5)","v":"Integrazione nel gruppo, definisce e realizza obiettivi comuni, NOI prima dell'IO, contribuisce a creare un buon spirito di squadra e clima di lavoro"},null,null,{"$f":"IF($H$2=\"G\",'Spiegazioni Skills FTEM'!#REF!,'Spiegazioni Skills FTEM'!#REF!)","v":{"$error":"#REF!"}}]
[{"$f":"'Spiegazioni Skills FTEM'!A6","v":0},null,null,{"$f":"IF($H$2=\"G\",'Spiegazioni Skills FTEM'!F6,'Spiegazioni Skills FTEM'!B6)","v":"Leadership"},null,null,{"$f":"IF($H$2=\"G\",'Spiegazioni Skills FTEM'!G6,'Spiegazioni Skills FTEM'!C6)","v":"Assume responsabilità nell'ambito del gruppo, cerca di migliorare la squadra e i compagni, influenza positivamente la dinamica di gruppo"},null,null,{"$f":"IF($H$2=\"G\",'Spiegazioni Skills FTEM'!#REF!,'Spiegazioni Skills FTEM'!#REF!)","v":{"$error":"#REF!"}}]
[{"$f":"'Spiegazioni Skills FTEM'!A7","v":0},null,null,{"$f":"IF($H$2=\"G\",'Spiegazioni Skills FTEM'!F7,'Spiegazioni Skills FTEM'!B7)","v":"Ripartizione dei ruoli"},null,null,{"$f":"IF($H$2=\"G\",'Spiegazioni Skills FTEM'!G7,'Spiegazioni Skills FTEM'!C7)","v":"Riconosce e adempie il suo ruolo, è cosciente della sua posizione nel sistema e nella squadra, mette a disposizione della squadra le sue competenze"},null,null,{"$f":"IF($H$2=\"G\",'Spiegazioni Skills FTEM'!#REF!,'Spiegazioni Skills FTEM'!#REF!)","v":{"$error":"#REF!"}}]
[{"$f":"'Spiegazioni Skills FTEM'!A8","v":0},null,null,{"$f":"IF($H$2=\"G\",'Spiegazioni Skills FTEM'!F8,'Spiegazioni Skills FTEM'!B8)","v":"Rispetto"},null,null,{"$f":"IF($H$2=\"G\",'Spiegazioni Skills FTEM'!G8,'Spiegazioni Skills FTEM'!C8)","v":"Relazioni rispettose con i compagni, allenatori, avversari, arbitri e staff; rispetta le regole i pricipi del fairplay (compreso la lotta al doping)"},null,null,{"$f":"IF($H$2=\"G\",'Spiegazioni Skills FTEM'!#REF!,'Spiegazioni Skills FTEM'!#REF!)","v":{"$error":"#REF!"}}]
[{"$f":"'Spiegazioni Skills FTEM'!A9","v":"ON ICE"},null,null,{"$f":"'Spiegazioni Skills FTEM'!B9","v":"CAPACITÀ"},null,null,{"$f":"'Spiegazioni Skills FTEM'!C9","v":"CRITERIO D'OSSERVAZIONE"},null,null,{"$f":"'Spiegazioni Skills FTEM'!H9","v":0},null,null,null,"Data1",null,"Data2",null,"Data3",null,"Data4",null,"Data5",null,"Player",null,"OBIETTIVO","PROVVEDIMENTI:\n(SPECIFICI, MISURABILI, REALISTICI)",null,null,null,null,null,null,"TERMINE","COTROLLO DELL'OBIETTIVO","Date"]
[{"$f":"'Spiegazioni Skills FTEM'!A10","v":"PATTINAGGIO"},null,null,{"$f":"IF($H$2=\"G\",'Spiegazioni Skills FTEM'!F10,'Spiegazioni Skills FTEM'!B10)","v":"Velocità dei piedi"},null,null,{"$f":"IF($H$2=\"G\",'Spiegazioni Skills FTEM'!G10,'Spiegazioni Skills FTEM'!C10)","v":"Accelerazione, partenza, esplosività dei primi 3 passi, frequenza"},null,null,{"$f":"IF($H$2=\"G\",'Spiegazioni Skills FTEM'!#REF!,'Spiegazioni Skills FTEM'!#REF!)","v":{"$error":"#REF!"}},null,null,null,{"$f":"IFERROR(AVERAGE(O19:O23),\"-\")","v":"-"},null,{"$f":"IFERROR(AVERAGE(Q19:Q23),\"-\")","v":"-"},null,{"$f":"IFERROR(AVERAGE(S19:S23),\"-\")","v":"-"},null,{"$f":"IFERROR(AVERAGE(U19:U23),\"-\")","v":"-"},null,{"$f":"IFERROR(AVERAGE(W19:W23),\"-\")","v":"-"},null,{"$f":"IFERROR(AVERAGE(Y19:Y23),\"-\")","v":"-"}]
[{"$f":"'Spiegazioni Skills FTEM'!A11:A11","v":0},null,null,{"$f":"IF($H$2=\"G\",'Spiegazioni Skills FTEM'!F11,'Spiegazioni Skills FTEM'!B11)","v":"Velocità/rapidità"},null,null,{"$f":"IF($H$2=\"G\",'Spiegazioni Skills FTEM'!G11,'Spiegazioni Skills FTEM'!C11)","v":"Velocità, facoltà di scivolare, avanti / indietro, economia dello sforzo"},null,null,{"$f":"IF($H$2=\"G\",'Spiegazioni Skills FTEM'!#REF!,'Spiegazioni Skills FTEM'!#REF!)","v":{"$error":"#REF!"}}]
[null,null,null,{"$f":"IF($H$2=\"G\",'Spiegazioni Skills FTEM'!F12,'Spiegazioni Skills FTEM'!B12)","v":"Agilità"},null,null,{"$f":"IF($H$2=\"G\",'Spiegazioni Skills FTEM'!G12,'Spiegazioni Skills FTEM'!C12)","v":"Cambiamento di direzione, girarsi, stop e ripartenza, \"Nummelin\""},null,null,{"$f":"IF($H$2=\"G\",'Spiegazioni Skills FTEM'!#REF!,'Spiegazioni Skills FTEM'!#REF!)","v":{"$error":"#REF!"}}]
[{"$f":"'Spiegazioni Skills FTEM'!A12:A12","v":0},null,null,{"$f":"IF($H$2=\"G\",'Spiegazioni Skills FTEM'!F13,'Spiegazioni Skills FTEM'!B13)","v":"Equilibrio"},null,null,{"$f":"IF($H$2=\"G\",'Spiegazioni Skills FTEM'!G13,'Spiegazioni Skills FTEM'!C13)","v":"Equilibrio, stabilità, posizione bassa, su una gamba, su entrambe"},null,null,{"$f":"IF($H$2=\"G\",'Spiegazioni Skills FTEM'!#REF!,'Spiegazioni Skills FTEM'!#REF!)","v":{"$error":"#REF!"}},null,null,null,{"$f":"IFERROR(AVERAGE(O22:O23),\"-\")","v":"-"},null,{"$f":"IFERROR(AVERAGE(Q22:Q23),\"-\")","v":"-"},null,{"$f":"IFERROR(AVERAGE(S22:S23),\"-\")","v":"-"},null,{"$f":"IFERROR(AVERAGE(U22:U23),\"-\")","v":"-"},null,{"$f":"IFERROR(AVERAGE(W22:W23),\"-\")","v":"-"},null,"-"]
[{"$f":"'Spiegazioni Skills FTEM'!A14:A14","v":0},null,null,{"$f":"IF($H$2=\"G\",'Spiegazioni Skills FTEM'!F14,'Spiegazioni Skills FTEM'!B14)","v":"Pattinaggio indietro"},null,null,{"$f":"IF($H$2=\"G\",'Spiegazioni Skills FTEM'!G14,'Spiegazioni Skills FTEM'!C14)","v":"Accelerazione, velocità, equilibrio"},null,null,{"$f":"IF($H$2=\"G\",'Spiegazioni Skills FTEM'!#REF!,'Spiegazioni Skills FTEM'!#REF!)","v":{"$error":"#REF!"}}]
[{"$f":"'Spiegazioni Skills FTEM'!A15","v":"ABILITÀ"},null,null,{"$f":"IF($H$2=\"G\",'Spiegazioni Skills FTEM'!F15,'Spiegazioni Skills FTEM'!B15)","v":"Tirare"},null,null,{"$f":"IF($H$2=\"G\",'Spiegazioni Skills FTEM'!G15,'Spiegazioni Skills FTEM'!C15)","v":"Efficienza (poco spazio, poco tempo), ricchezza di varianti, grado di sorpresa (Quick Release), precisione, potenza (conclusioni tattiche)"},null,null,{"$f":"IF($H$2=\"G\",'Spiegazioni Skills FTEM'!#REF!,'Spiegazioni Skills FTEM'!#REF!)","v":{"$error":"#REF!"}},null,null,null,{"$f":"IFERROR(AVERAGE(O24:O29),\"-\")","v":"-"},null,{"$f":"IFERROR(AVERAGE(Q24:Q29),\"-\")","v":"-"},null,{"$f":"IFERROR(AVERAGE(S24:S29),\"-\")","v":"-"},null,{"$f":"IFERROR(AVERAGE(U24:U29),\"-\")","v":"-"},null,{"$f":"IFERROR(AVERAGE(W24:W29),\"-\")","v":"-"},null,{"$f":"IFERROR(AVERAGE(Y24:Y29),\"-\")","v":"-"}]
[null,null,null,{"$f":"IF($H$2=\"G\",'Spiegazioni Skills FTEM'!F16,'Spiegazioni Skills FTEM'!B16)","v":"Passare"},null,null,{"$f":"IF($H$2=\"G\",'Spiegazioni Skills FTEM'!G16,'Spiegazioni Skills FTEM'!C16)","v":"Passaggio (distanza, flipp, rovescio), ricezione del passaggio (precisione, timing, diritto, rovescio, sul pattino), velocità del disco"},null,null,{"$f":"IF($H$2=\"G\",'Spiegazioni Skills FTEM'!#REF!,'Spiegazioni Skills FTEM'!#REF!)","v":{"$error":"#REF!"}}]
[null,null,null,{"$f":"IF($H$2=\"G\",'Spiegazioni Skills FTEM'!F17,'Spiegazioni Skills FTEM'!B17)","v":"Lavoro col bastone - condotta del disco"},null,null,{"$f":"IF($H$2=\"G\",'Spiegazioni Skills FTEM'!G17,'Spiegazioni Skills FTEM'!C17)","v":"Bastone sul disco, intercettare le linee di passaggio, deviare, controllo del bastone avversario"},null,null,{"$f":"IF($H$2=\"G\",'Spiegazioni Skills FTEM'!#REF!,'Spiegazioni Skills FTEM'!#REF!)","v":{"$error":"#REF!"}}]
[{"$f":"'Spiegazioni Skills FTEM'!A16:A16","v":0},null,null,{"$f":"IF($H$2=\"G\",'Spiegazioni Skills FTEM'!F18,'Spiegazioni Skills FTEM'!B18)","v":"Possedere/proteggere il disco"},null,null,{"$f":"IF($H$2=\"G\",'Spiegazioni Skills FTEM'!G18,'Spiegazioni Skills FTEM'!C18)","v":"Controllo del disco, dribbling, protezione del disco, finte (varianti col pattino, con o senza la balaustra), ingaggi (face-off)"},null,null,{"$f":"IF($H$2=\"G\",'Spiegazioni Skills FTEM'!#REF!,'Spiegazioni Skills FTEM'!#REF!)","v":{"$error":"#REF!"}}]
[{"$f":"'Spiegazioni Skills FTEM'!A17:A17","v":0},null,null,{"$f":"IF($H$2=\"G\",'Spiegazioni Skills FTEM'!F19,'Spiegazioni Skills FTEM'!B19)","v":"Gioco del corpo"},null,null,{"$f":"IF($H$2=\"G\",'Spiegazioni Skills FTEM'!G19,'Spiegazioni Skills FTEM'!C19)","v":"Facoltà di imporsi fisicamente, duelli (ghiaccio aperto, balaustra), subire dei checks/testa alta, livello di lotta, duro ma corretto, blocco dei tiri con il corpo"},null,null,{"$f":"IF($H$2=\"G\",'Spiegazioni Skills FTEM'!#REF!,'Spiegazioni Skills FTEM'!#REF!)","v":{"$error":"#REF!"}}]
[{"$f":"'Spiegazioni Skills FTEM'!A20:A20","v":0},null,null,{"$f":"IF($H$2=\"G\",'Spiegazioni Skills FTEM'!F20,'Spiegazioni Skills FTEM'!B20)","v":"-"},null,null,{"$f":"IF($H$2=\"G\",'Spiegazioni Skills FTEM'!G20,'Spiegazioni Skills FTEM'!C20)","v":"-"},null,null,{"$f":"IF($H$2=\"G\",'Spiegazioni Skills FTEM'!#REF!,'Spiegazioni Skills FTEM'!#REF!)","v":{"$error":"#REF!"}}]
[{"$f":"'Spiegazioni Skills FTEM'!A21","v":"SENSO DELL'HOCKEY"},null,null,{"$f":"IF($H$2=\"G\",'Spiegazioni Skills FTEM'!F21,'Spiegazioni Skills FTEM'!B21)","v":"Intelligenza nel gioco"},null,null,{"$f":"IF($H$2=\"G\",'Spiegazioni Skills FTEM'!G21,'Spiegazioni Skills FTEM'!C21)","v":"Vedere spazi e giocatori liberi, creare situazioni di superiorità numerica, agire cercando soluzioni in tutte le situazioni, velocità di visualizzazione"},null,null,{"$f":"IF($H$2=\"G\",'Spiegazioni Skills FTEM'!#REF!,'Spiegazioni Skills FTEM'!#REF!)","v":{"$error":"#REF!"}},null,null,null,{"$f":"IFERROR(AVERAGE(O30:O34),\"-\")","v":"-"},null,{"$f":"IFERROR(AVERAGE(Q30:Q34),\"-\")","v":"-"},null,{"$f":"IFERROR(AVERAGE(S30:S34),\"-\")","v":"-"},null,{"$f":"IFERROR(AVERAGE(U30:U34),\"-\")","v":"-"},null,{"$f":"IFERROR(AVERAGE(W30:W34),\"-\")","v":"-"},null,{"$f":"IFERROR(AVERAGE(Y30:Y34),\"-\")","v":"-"}]
[{"$f":"'Spiegazioni Skills FTEM'!A22:A22","v":0},null,null,{"$f":"IF($H$2=\"G\",'Spiegazioni Skills FTEM'!F22,'Spiegazioni Skills FTEM'!B22)","v":"Sensibilità offensiva"},null,null,{"$f":"IF($H$2=\"G\",'Spiegazioni Skills FTEM'!G22,'Spiegazioni Skills FTEM'!C22)","v":"Smarcarsi, anticipare le situazioni di gioco, aprire spazi liberi per i compagni, piazzarsi per le conclusioni, velocità nel chiudere gli spazi (pressione), comunicazione"},null,null,{"$f":"IF($H$2=\"G\",'Spiegazioni Skills FTEM'!#REF!,'Spiegazioni Skills FTEM'!#REF!)","v":{"$error":"#REF!"}}]
[null,null,null,{"$f":"IF($H$2=\"G\",'Spiegazioni Skills FTEM'!F23,'Spiegazioni Skills FTEM'!B23)","v":"Sensibilità difensiva"},null,null,{"$f":"IF($H$2=\"G\",'Spiegazioni Skills FTEM'!G23,'Spiegazioni Skills FTEM'!C23)","v":"Mantenere la posizione difensiva, protezione dello slot, assicurare i compagni / supporto, individuare le linee di passaggio, bloccare i tiri, ridurre velocemente gli spazi, comunicazione"},null,null,{"$f":"IF($H$2=\"G\",'Spiegazioni Skills FTEM'!#REF!,'Spiegazioni Skills FTEM'!#REF!)","v":{"$error":"#REF!"}}]
[{"$f":"'Spiegazioni Skills FTEM'!A24:A24","v":0},null,null,{"$f":"IF($H$2=\"G\",'Spiegazioni Skills FTEM'!F24,'Spiegazioni Skills FTEM'!B24)","v":"Gestione del disco"},null,null,{"$f":"IF($H$2=\"G\",'Spiegazioni Skills FTEM'!G24,'Spiegazioni Skills FTEM'!C24)","v":"Prendere decisioni adeguate nelle situazioni di gioco, supporto, creare superiorità numerica"},null,null,{"$f":"IF($H$2=\"G\",'Spiegazioni Skills FTEM'!#REF!,'Spiegazioni Skills FTEM'!#REF!)","v":{"$error":"#REF!"}}]
[{"$f":"'Spiegazioni Skills FTEM'!A25:A25","v":0},null,null,{"$f":"IF($H$2=\"G\",'Spiegazioni Skills FTEM'!F25,'Spiegazioni Skills FTEM'!B25)","v":"Creatività"},null,null,{"$f":"IF($H$2=\"G\",'Spiegazioni Skills FTEM'!G25,'Spiegazioni Skills FTEM'!C25)","v":"Creare situazioni a sorpresa, fiuto del gol"},null,null,{"$f":"IF($H$2=\"G\",'Spiegazioni Skills FTEM'!#REF!,'Spiegazioni Skills FTEM'!#REF!)","v":{"$error":"#REF!"}}]
[{"$f":"'Spiegazioni Skills FTEM'!A26","v":"PERSONALITY"},null,null,{"$f":"'Spiegazioni Skills FTEM'!B26","v":"CAPACITÀ"},null,null,{"$f":"'Spiegazioni Skills FTEM'!C26","v":"CRITERIO D'OSSERVAZIONE"},null,null,{"$f":"'Spiegazioni Skills FTEM'!H26","v":0},null,null,null,"Data1",null,"Data2",null,"Data3",null,"Data4",null,"Data5",null,"Player",null,"OBIETTIVO","PROVVEDIMENTI:\n(SPECIFICI, MISURABILI, REALISTICI)",null,null,null,null,null,null,"TERMINE","COTROLLO DELL'OBIETTIVO","Date"]
[{"$f":"'Spiegazioni Skills FTEM'!A27","v":"PERSONALITÀ"},null,null,{"$f":"IF($H$2=\"G\",'Spiegazioni Skills FTEM'!F27,'Spiegazioni Skills FTEM'!B27)","v":"Fiducia in se stesso"},null,null,{"$f":"IF($H$2=\"G\",'Spiegazioni Skills FTEM'!G27,'Spiegazioni Skills FTEM'!C27)","v":"Possiede la necessaria fiducia in se stesso, «I can do it»-attitudine, sa valutare le proprie capacità (conosce i propri punti forti e deboli), può realizzare le proprie qualità con\ncostanza, è coraggioso e sa prendere dei rischi calcolati"},null,null,{"$f":"IF($H$2=\"G\",'Spiegazioni Skills FTEM'!#REF!,'Spiegazioni Skills FTEM'!#REF!)","v":{"$error":"#REF!"}},null,null,null,{"$f":"IFERROR(AVERAGE(O36:O40),\"-\")","v":"-"},null,{"$f":"IFERROR(AVERAGE(Q36:Q40),\"-\")","v":"-"},null,{"$f":"IFERROR(AVERAGE(S36:S40),\"-\")","v":"-"},null,{"$f":"IFERROR(AVERAGE(U36:U40),\"-\")","v":"-"},null,{"$f":"IFERROR(AVERAGE(W36:W40),\"-\")","v":"-"},null,{"$f":"IFERROR(AVERAGE(Y36:Y40),\"-\")","v":"-"}]
[{"$f":"'Spiegazioni Skills FTEM'!A28:A28","v":0},null,null,{"$f":"IF($H$2=\"G\",'Spiegazioni Skills FTEM'!F28,'Spiegazioni Skills FTEM'!B28)","v":"Capacità d'apprendimento"},null,null,{"$f":"IF($H$2=\"G\",'Spiegazioni Skills FTEM'!G28,'Spiegazioni Skills FTEM'!C28)","v":"Ha una buona capacità d'apprendimento (sa recepire e realizzare), possiede una personalità, cerca di imparare dai propri errori derivandone delle misure"},null,null,{"$f":"IF($H$2=\"G\",'Spiegazioni Skills FTEM'!#REF!,'Spiegazioni Skills FTEM'!#REF!)","v":{"$error":"#REF!"}}]
[null,null,null,{"$f":"IF($H$2=\"G\",'Spiegazioni Skills FTEM'!F29,'Spiegazioni Skills FTEM'!B29)","v":"Senso di responsabilità"},null,null,{"$f":"IF($H$2=\"G\",'Spiegazioni Skills FTEM'!G29,'Spiegazioni Skills FTEM'!C29)","v":"Assume responsabiltà per le proprie prestazioni e sviluppo, agisce autonomamente, cura i dettagli, mostra un grande impegno in tutti i settori"},null,null,{"$f":"IF($H$2=\"G\",'Spiegazioni Skills FTEM'!#REF!,'Spiegazioni Skills FTEM'!#REF!)","v":{"$error":"#REF!"}}]
[{"$f":"'Spiegazioni Skills FTEM'!A30:A30","v":0},null,null,{"$f":"IF($H$2=\"G\",'Spiegazioni Skills FTEM'!F30,'Spiegazioni Skills FTEM'!B30)","v":"Motivazione"},null,null,{"$f":"IF($H$2=\"G\",'Spiegazioni Skills FTEM'!G30,'Spiegazioni Skills FTEM'!C30)","v":"È sempre motivato, vuole sempre svilupparsi e imparare, vuol essere il primo e avere successo, non rinuncia mai e non si lascia influenzare dagli insuccessi"},null,null,{"$f":"IF($H$2=\"G\",'Spiegazioni Skills FTEM'!#REF!,'Spiegazioni Skills FTEM'!#REF!)","v":{"$error":"#REF!"}}]
[{"$f":"'Spiegazioni Skills FTEM'!A31:A31","v":0},null,null,{"$f":"IF($H$2=\"G\",'Spiegazioni Skills FTEM'!F31,'Spiegazioni Skills FTEM'!B31)","v":"Prestazione Stile di vita"},null,null,{"$f":"IF($H$2=\"G\",'Spiegazioni Skills FTEM'!G31,'Spiegazioni Skills FTEM'!C31)","v":"Gestisce bene la quotidianità il suo ambiente seguendo i principi della prestazione, caparbio, perseverante e finalizzato sugli obiettivi, focus sulla propria prestazione, coraggioso e grintoso, sa imporsi nei confronti delle resistenze, le sfide lo motivano"},null,null,{"$f":"IF($H$2=\"G\",'Spiegazioni Skills FTEM'!#REF!,'Spiegazioni Skills FTEM'!#REF!)","v":{"$error":"#REF!"}}]
[{"$f":"'Spiegazioni Skills FTEM'!A32","v":"FORZA MENTALE"},null,null,{"$f":"IF($H$2=\"G\",'Spiegazioni Skills FTEM'!F32,'Spiegazioni Skills FTEM'!B32)","v":"Impegno"},null,null,{"$f":"IF($H$2=\"G\",'Spiegazioni Skills FTEM'!G32,'Spiegazioni Skills FTEM'!C32)","v":"Mostra molta intensità negli allenamenti e nelle partite, dà sempre il massimo e vuole sempre spronare i propri limiti, mostra passione, si sforza ad alzare la qualità negli allenamenti"},null,null,{"$f":"IF($H$2=\"G\",'Spiegazioni Skills FTEM'!#REF!,'Spiegazioni Skills FTEM'!#REF!)","v":{"$error":"#REF!"}},null,null,null,{"$f":"IFERROR(AVERAGE(O41:O45),\"-\")","v":"-"},null,{"$f":"IFERROR(AVERAGE(Q41:Q45),\"-\")","v":"-"},null,{"$f":"IFERROR(AVERAGE(S41:S45),\"-\")","v":"-"},null,{"$f":"IFERROR(AVERAGE(U41:U45),\"-\")","v":"-"},null,{"$f":"IFERROR(AVERAGE(W41:W45),\"-\")","v":"-"},null,{"$f":"IFERROR(AVERAGE(Y41:Y45),\"-\")","v":"-"}]
[null,null,null,{"$f":"IF($H$2=\"G\",'Spiegazioni Skills FTEM'!F33,'Spiegazioni Skills FTEM'!B33)","v":"Preparazione"},null,null,{"$f":"IF($H$2=\"G\",'Spiegazioni Skills FTEM'!G33,'Spiegazioni Skills FTEM'!C33)","v":"Preparazione consapevole e finalizzata, mentalmente e fisicamente, possiede un efficiente approccio per l'ottenimento dell'ideale stato di prestazione (ILZ/ISP)"},null,null,{"$f":"IF($H$2=\"G\",'Spiegazioni Skills FTEM'!#REF!,'Spiegazioni Skills FTEM'!#REF!)","v":{"$error":"#REF!"}}]
[{"$f":"'Spiegazioni Skills FTEM'!A34:A34","v":0},null,null,{"$f":"IF($H$2=\"G\",'Spiegazioni Skills FTEM'!F34,'Spiegazioni Skills FTEM'!B34)","v":"Coaching individuale"},null,null,{"$f":"IF($H$2=\"G\",'Spiegazioni Skills FTEM'!G34,'Spiegazioni Skills FTEM'!C34)","v":"Possiede una buona capacità di concentrazione, può mantenere il suo ILZ/ISP durante la partita e l'allenamento, può utilizzare tecniche di base per rafforzare il mentale, resistenti contro pensieri e influenze negative, è consapevole del proprio linguaggio del corpo che è in grado di padroneggiare"},null,null,{"$f":"IF($H$2=\"G\",'Spiegazioni Skills FTEM'!#REF!,'Spiegazioni Skills FTEM'!#REF!)","v":{"$error":"#REF!"}}]
[{"$f":"'Spiegazioni Skills FTEM'!A35:A35","v":0},null,null,{"$f":"IF($H$2=\"G\",'Spiegazioni Skills FTEM'!F35,'Spiegazioni Skills FTEM'!B35)","v":"Gestione delle energie"},null,null,{"$f":"IF($H$2=\"G\",'Spiegazioni Skills FTEM'!G35,'Spiegazioni Skills FTEM'!C35)","v":"Può gestire le proprie energie, cura la rigenerazione, può gestire i momenti in cui si deve andare al massimo oppure risparmiarsi, interruttore on/off"},null,null,{"$f":"IF($H$2=\"G\",'Spiegazioni Skills FTEM'!#REF!,'Spiegazioni Skills FTEM'!#REF!)","v":{"$error":"#REF!"}}]
[{"$f":"'Spiegazioni Skills FTEM'!A36:A36","v":0},null,null,{"$f":"IF($H$2=\"G\",'Spiegazioni Skills FTEM'!F36,'Spiegazioni Skills FTEM'!B36)","v":"Controllo delle emozioni"},null,null,{"$f":"IF($H$2=\"G\",'Spiegazioni Skills FTEM'!G36,'Spiegazioni Skills FTEM'!C36)","v":"Può regolare le proprie emozioni e impulsi, mantiene il controllo quando si trova sotto pressione, sa anche agire adeguatamente in situazioni emotive o frustranti"},null,null,{"$f":"IF($H$2=\"G\",'Spiegazioni Skills FTEM'!#REF!,'Spiegazioni Skills FTEM'!#REF!)","v":{"$error":"#REF!"}}]
[{"$f":"'Spiegazioni Skills FTEM'!A37","v":"FISICO"},null,null,{"$f":"IF($H$2=\"G\",'Spiegazioni Skills FTEM'!F37,'Spiegazioni Skills FTEM'!B37)","v":"Produzione di prestazione"},null,null,{"$f":"IF($H$2=\"G\",'Spiegazioni Skills FTEM'!G37,'Spiegazioni Skills FTEM'!C37)","v":"Possiede nelle gambe e nella parte alta del corpo la necessaria potenza/forza/velocità (fattori neuromuscolari)"},null,null,{"$f":"IF($H$2=\"G\",'Spiegazioni Skills FTEM'!#REF!,'Spiegazioni Skills FTEM'!#REF!)","v":{"$error":"#REF!"}},null,null,null,{"$f":"IFERROR(AVERAGE(O46:O50),\"-\")","v":"-"},null,{"$f":"IFERROR(AVERAGE(Q46:Q50),\"-\")","v":"-"},null,{"$f":"IFERROR(AVERAGE(S46:S50),\"-\")","v":"-"},null,{"$f":"IFERROR(AVERAGE(U46:U50),\"-\")","v":"-"},null,{"$f":"IFERROR(AVERAGE(W46:W50),\"-\")","v":"-"},null,{"$f":"IFERROR(AVERAGE(Y46:Y50),\"-\")","v":"-"}]
[null,null,null,{"$f":"IF($H$2=\"G\",'Spiegazioni Skills FTEM'!F38,'Spiegazioni Skills FTEM'!B38)","v":"Resistenza specifica alla fatica"},null,null,{"$f":"IF($H$2=\"G\",'Spiegazioni Skills FTEM'!G38,'Spiegazioni Skills FTEM'!C38)","v":"È capace di mantenere a lungo nell'ambito di un impiego la potenza/forza/velocità ed è capace di recuperare completamente attraverso i vari impieghi sul ghiaccio (fattori metabolici e cardiovascolari)"},null,null,{"$f":"IF($H$2=\"G\",'Spiegazioni Skills FTEM'!#REF!,'Spiegazioni Skills FTEM'!#REF!)","v":{"$error":"#REF!"}}]
[{"$f":"'Spiegazioni Skills FTEM'!A39:A39","v":0},null,null,{"$f":"IF($H$2=\"G\",'Spiegazioni Skills FTEM'!F39,'Spiegazioni Skills FTEM'!B39)","v":"Salute / prevenzione"},null,null,{"$f":"IF($H$2=\"G\",'Spiegazioni Skills FTEM'!G39,'Spiegazioni Skills FTEM'!C39)","v":"Possiede la necessaria stabilità (stabilità delle gambe) e mobilità delle articolazioni centrali"},null,null,{"$f":"IF($H$2=\"G\",'Spiegazioni Skills FTEM'!#REF!,'Spiegazioni Skills FTEM'!#REF!)","v":{"$error":"#REF!"}}]
[{"$f":"'Spiegazioni Skills FTEM'!A40:A40","v":0},null,null,{"$f":"IF($H$2=\"G\",'Spiegazioni Skills FTEM'!F40,'Spiegazioni Skills FTEM'!B40)","v":"Competenze della mobilità"},null,null,{"$f":"IF($H$2=\"G\",'Spiegazioni Skills FTEM'!G40,'Spiegazioni Skills FTEM'!C40)","v":"Padroneggia le basilari capacità di movimento che garantiscono in modo determinante le abilità specifiche \"skills\", come pure l'efficacia dei movimenti"},null,null,{"$f":"IF($H$2=\"G\",'Spiegazioni Skills FTEM'!#REF!,'Spiegazioni Skills FTEM'!#REF!)","v":{"$error":"#REF!"}}]
[{"$f":"'Spiegazioni Skills FTEM'!A41:A41","v":0},null,null,{"$f":"IF($H$2=\"G\",'Spiegazioni Skills FTEM'!F41,'Spiegazioni Skills FTEM'!B41)","v":"Robustezza"},null,null,{"$f":"IF($H$2=\"G\",'Spiegazioni Skills FTEM'!G41,'Spiegazioni Skills FTEM'!C41)","v":"Possiede la necessaria forza di base (tensione del corpo) per vincere i duelli e resistere alle cariche"},null,null,{"$f":"IF($H$2=\"G\",'Spiegazioni Skills FTEM'!#REF!,'Spiegazioni Skills FTEM'!#REF!)","v":{"$error":"#REF!"}}]

{"sheet":"26","index":29,"n_rows":50,"n_cols":36,"rows_kept":50,"cut":false,"hidden":false,"merged":[[45,34,49,34],[45,12,49,12],[45,13,49,13],[45,15,49,15],[45,17,49,17],[45,19,49,19],[45,21,49,21],[45,23,49,23],[45,25,49,25],[45,26,49,32],[45,0,49,2],[45,3,45,5],[45,6,45,11],[46,3,46,5],[46,6,46,11],[48,3,48,5],[48,6,48,11],[49,3,49,5],[49,6,49,11],[47,3,47,5],[47,6,47,11],[40,23,44,23],[42,3,42,5],[42,6,42,11],[44,3,44,5],[44,6,44,11],[40,0,44,2],[40,3,40,5],[40,6,40,11],[40,12,44,12],[40,13,44,13],[40,15,44,15],[43,3,43,5],[43,6,43,11],[34,21,34,22],[35,17,39,17],[35,19,39,19],[35,21,39,21],[37,3,37,5],[37,6,37,11],[38,3,38,5],[38,6,38,11],[40,17,44,17],[40,19,44,19],[40,21,44,21],[36,3,36,5],[36,6,36,11],[41,3,41,5],[41,6,41,11],[29,0,33,2],[29,3,29,5],[29,6,29,11],[29,12,33,12],[29,13,33,13],[29,15,33,15],[34,23,34,24],[34,26,34,32],[35,0,39,2],[35,3,35,5],[35,6,35,11],[35,12,39,12],[35,13,39,13],[35,15,39,15],[39,3,39,5],[39,6,39,11],[35,23,39,23],[34,0,34,2],[34,3,34,5],[34,6,34,11],[34,13,34,14],[34,15,34,16],[34,17,34,18],[34,19,34,20],[23,19,28,19],[23,21,28,21],[23,23,28,23],[26,3,26,5],[26,6,26,11],[28,3,28,5],[28,6,28,11],[33,3,33,5],[33,6,33,11],[29,23,33,23],[29,17,33,17],[29,19,33,19],[29,21,33,21],[31,3,31,5],[31,6,31,11],[32,3,32,5],[32,6,32,11],[27,3,27,5],[27,6,27,11],[25,3,25,5],[25,6,25,11],[30,3,30,5],[30,6,30,11],[12,21,16,21],[18,15,22,15],[18,17,22,17],[18,19,22,19],[18,21,22,21],[18,23,22,23],[22,3,22,5],[22,6,22,11],[23,0,28,2],[23,3,23,5],[23,6,23,11],[23,12,28,12],[23,13,28,13],[23,15,28,15],[23,17,28,17],[18,0,22,2],[18,3,18,5],[18,6,18,11],[18,12,22,12],[18,13,22,13],[19,3,19,5],[19,6,19,11],[21,3,21,5],[21,6,21,11],[11,21,11,22],[11,23,11,24],[11,26,11,32],[11,6,11,11],[12,23,16,23],[16,3,16,5],[16,6,16,11],[17,0,17,2],[17,3,17,5],[17,6,17,11],[17,13,17,14],[17,15,17,16],[17,17,17,18],[17,19,17,20],[17,21,17,22],[17,23,17,24],[12,0,16,2],[12,3,12,5],[12,6,12,11],[12,12,16,12],[12,13,16,13],[12,15,16,15],[12,17,16,17],[12,19,16,19],[4,0,4,1],[4,2,4,5],[4,10,4,24],[10,0,10,24],[10,25,10,35],[40,25,44,25],[40,26,44,32],[40,34,44,34],[12,25,16,25],[12,26,16,32],[12,34,16,34],[18,25,22,25],[18,26,22,32],[18,34,22,34],[23,25,28,25],[23,26,28,32],[23,34,28,34],[17,26,17,32],[11,0,11,2],[11,3,11,5],[11,13,11,14],[11,15,11,16],[11,17,11,18],[11,19,11,20],[0,0,0,24],[0,25,0,26],[0,27,0,32],[0,33,0,35],[29,25,33,25],[29,26,33,32],[29,34,33,34],[35,25,39,25],[35,26,39,32],[35,34,39,34],[1,0,1,1],[1,2,1,5],[1,10,1,24],[2,0,2,1],[2,2,2,5],[2,11,2,24],[6,0,6,1],[6,2,6,35],[7,0,7,1],[7,2,7,35],[8,0,8,1],[8,2,8,35],[3,0,3,1],[3,10,3,24],[13,3,13,5],[13,6,13,11],[14,3,14,5],[14,6,14,11],[15,3,15,5],[15,6,15,11],[20,3,20,5],[20,6,20,11],[24,3,24,5],[24,6,24,11]]}
["Personalien",null,null,null,null,null,null,null,null,null,null,null,null,null,null,null,null,null,null,null,null,null,null,null,null,"Predisposizione",null,"Valutazioni",null,null,null,null,null,"Rating"]
["COGNOME",null,{"$f":"IF(ISBLANK(VLOOKUP(26,Tabelle3[],3,0)),\"-\",VLOOKUP(26,Tabelle3[],3,0))","v":"-"},null,null,null,"POSIZIONE",null,null,"INDIRIZZO",{"$f":"IF(ISBLANK(VLOOKUP(26,Tabelle3[],5,0)),\"-\",VLOOKUP(26,Tabelle3[],5,0))","v":"-"},null,null,null,null,null,null,null,null,null,null,null,null,null,null,"Età\" (biologica/età relativa)",null,"Data 1",null,null,"cm",null,"Kg",null,"ECCELLENTE",5]
["NOME",null,{"$f":"IF(ISBLANK(VLOOKUP(26,Tabelle3[],2,0)),\"-\",VLOOKUP(26,Tabelle3[],2,0))","v":"-"},null,null,null,"BASTONE",null,null,"LUOGO",{"$f":"IF(ISBLANK(VLOOKUP(26,Tabelle3[],7,0)),\"-\",VLOOKUP(26,Tabelle3[],7,0))","v":"-"},{"$f":"IF(ISBLANK(VLOOKUP(26,Tabelle3[],6,0)),\"-\",VLOOKUP(26,Tabelle3[],6,0))","v":"-"},null,null,null,null,null,null,null,null,null,null,null,null,null,"Predisposizione",null,"Data 2",null,null,"cm",null,"Kg",null,"BUONO",4]
["DATA DI NASC.",null,{"$f":"IF(ISBLANK(VLOOKUP(26,Tabelle3[],14,0)),\"-\",VLOOKUP(26,Tabelle3[],14,0))","v":"-"},{"$f":"IF(ISBLANK(VLOOKUP(26,Tabelle3[],15,0)),\"-\",VLOOKUP(26,Tabelle3[],15,0))","v":"-"},{"$f":"IF(ISBLANK(VLOOKUP(26,Tabelle3[],16,0)),\"-\",VLOOKUP(26,Tabelle3[],16,0))","v":"-"},null,"ALTEZZA",null,"cm (Finale)","TELEFONO",{"$f":"IF(ISBLANK(VLOOKUP(26,Tabelle3[],8,0)),\"-\",VLOOKUP(26,Tabelle3[],8,0))","v":"-"},null,null,null,null,null,null,null,null,null,null,null,null,null,null,"Ambiente di vita",null,"Data 3",null,null,"cm",null,"Kg",null,"MEDIO/DISCRETO",3]
["SESSO",null,{"$f":"IF(ISBLANK(VLOOKUP(26,Tabelle3[],13,0)),\"-\",VLOOKUP(26,Tabelle3[],13,0))","v":"-"},null,null,null,"PESO",null,"Kg (Finale)","E-Mail",{"$f":"IF(ISBLANK(VLOOKUP(26,Tabelle3[],9,0)),\"-\",VLOOKUP(26,Tabelle3[],9,0))","v":"-"},null,null,null,null,null,null,null,null,null,null,null,null,null,null,null,null,"Data 4",null,null,"cm",null,"Kg",null,"CON LACUNE",2]
[null,null,null,null,null,null,null,null,null,null,null,null,null,null,null,null,null,null,null,null,null,null,null,null,null,null,null,"Data 5",null,null,"cm",null,"Kg",null,"INSUFFICIENTE",1]
["Visione",null,"xxx"]
["Prossimo passo",null,"xxx"]
["Proflio giocatore",null,"xxx"]
[]
["VALUTAZIONI (COACH / GIOCATORE)",null,null,null,null,null,null,null,null,null,null,null,null,null,null,null,null,null,null,null,null,null,null,null,null,"Obiettivi SMART"]
[{"$f":"'Spiegazioni Skills FTEM'!A3","v":"TEAM"},null,null,{"$f":"'Spiegazioni Skills FTEM'!B3","v":"CAPACITÀ"},null,null,{"$f":"'Spiegazioni Skills FTEM'!C3","v":"CRITERIO D'OSSERVAZIONE"},null,null,{"$f":"'Spiegazioni Skills FTEM'!H3","v":0},null,null,"Final","Data1",null,"Data2",null,"Data3",null,"Data4",null,"Data5",null,"Player",null,"OBIETTIVO","PROVVEDIMENTI:\n(SPECIFICI, MISURABILI, REALISTICI)",null,null,null,null,null,null,"TERMINE","COTROLLO DELL'OBIETTIVO","Data"]
[{"$f":"'Spiegazioni Skills FTEM'!A4","v":"SQUADRA"},null,null,{"$f":"IF($H$2=\"G\",'Spiegazioni Skills FTEM'!F4,'Spiegazioni Skills FTEM'!B4)","v":"Comunicazione"},null,null,{"$f":"IF($H$2=\"G\",'Spiegazioni Skills FTEM'!G4,'Spiegazioni Skills FTEM'!C4)","v":"Cura relazioni aperte e rispettose, fiducia quale base comportamentale, affronta i conflitti senza ledere la stabilità del gruppo, comunica con i compagni, gli allenatori e\nfunzionari con i medesimi valori"},null,null,{"$f":"IF($H$2=\"G\",'Spiegazioni Skills FTEM'!#REF!,'Spiegazioni Skills FTEM'!#REF!)","v":{"$error":"#REF!"}},null,null,null,{"$f":"IFERROR(AVERAGE(O13:O17),\"-\")","v":"-"},null,{"$f":"IFERROR(AVERAGE(Q13:Q17),\"-\")","v":"-"},null,{"$f":"IFERROR(AVERAGE(S13:S17),\"-\")","v":"-"},null,{"$f":"IFERROR(AVERAGE(U13:U17),\"-\")","v":"-"},null,{"$f":"IFERROR(AVERAGE(W13:W17),\"-\")","v":"-"},null,{"$f":"IFERROR(AVERAGE(Y13:Y17),\"-\")","v":"-"}]
[{"$f":"'Spiegazioni Skills FTEM'!A5","v":0},null,null,{"$f":"IF($H$2=\"G\",'Spiegazioni Skills FTEM'!F5,'Spiegazioni Skills FTEM'!B5)","v":"Capacità nella squadra"},null,null,{"$f":"IF($H$2=\"G\",'Spiegazioni Skills FTEM'!G5,'Spiegazioni Skills FTEM'!C5)","v":"Integrazione nel gruppo, definisce e realizza obiettivi comuni, NOI prima dell'IO, contribuisce a creare un buon spirito di squadra e clima di lavoro"},null,null,{"$f":"IF($H$2=\"G\",'Spiegazioni Skills FTEM'!#REF!,'Spiegazioni Skills FTEM'!#REF!)","v":{"$error":"#REF!"}}]
[{"$f":"'Spiegazioni Skills FTEM'!A6","v":0},null,null,{"$f":"IF($H$2=\"G\",'Spiegazioni Skills FTEM'!F6,'Spiegazioni Skills FTEM'!B6)","v":"Leadership"},null,null,{"$f":"IF($H$2=\"G\",'Spiegazioni Skills FTEM'!G6,'Spiegazioni Skills FTEM'!C6)","v":"Assume responsabilità nell'ambito del gruppo, cerca di migliorare la squadra e i compagni, influenza positivamente la dinamica di gruppo"},null,null,{"$f":"IF($H$2=\"G\",'Spiegazioni Skills FTEM'!#REF!,'Spiegazioni Skills FTEM'!#REF!)","v":{"$error":"#REF!"}}]
[{"$f":"'Spiegazioni Skills FTEM'!A7","v":0},null,null,{"$f":"IF($H$2=\"G\",'Spiegazioni Skills FTEM'!F7,'Spiegazioni Skills FTEM'!B7)","v":"Ripartizione dei ruoli"},null,null,{"$f":"IF($H$2=\"G\",'Spiegazioni Skills FTEM'!G7,'Spiegazioni Skills FTEM'!C7)","v":"Riconosce e adempie il suo ruolo, è cosciente della sua posizione nel sistema e nella squadra, mette a disposizione della squadra le sue competenze"},null,null,{"$f":"IF($H$2=\"G\",'Spiegazioni Skills FTEM'!#REF!,'Spiegazioni Skills FTEM'!#REF!)","v":{"$error":"#REF!"}}]
[{"$f":"'Spiegazioni Skills FTEM'!A8","v":0},null,null,{"$f":"IF($H$2=\"G\",'Spiegazioni Skills FTEM'!F8,'Spiegazioni Skills FTEM'!B8)","v":"Rispetto"},null,null,{"$f":"IF($H$2=\"G\",'Spiegazioni Skills FTEM'!G8,'Spiegazioni Skills FTEM'!C8)","v":"Relazioni rispettose con i compagni, allenatori, avversari, arbitri e staff; rispetta le regole i pricipi del fairplay (compreso la lotta al doping)"},null,null,{"$f":"IF($H$2=\"G\",'Spiegazioni Skills FTEM'!#REF!,'Spiegazioni Skills FTEM'!#REF!)","v":{"$error":"#REF!"}}]
[{"$f":"'Spiegazioni Skills FTEM'!A9","v":"ON ICE"},null,null,{"$f":"'Spiegazioni Skills FTEM'!B9","v":"CAPACITÀ"},null,null,{"$f":"'Spiegazioni Skills FTEM'!C9","v":"CRITERIO D'OSSERVAZIONE"},null,null,{"$f":"'Spiegazioni Skills FTEM'!H9","v":0},null,null,null,"Data1",null,"Data2",null,"Data3",null,"Data4",null,"Data5",null,"Player",null,"OBIETTIVO","PROVVEDIMENTI:\n(SPECIFICI, MISURABILI, REALISTICI)",null,null,null,null,null,null,"TERMINE","COTROLLO DELL'OBIETTIVO","Date"]
[{"$f":"'Spiegazioni Skills FTEM'!A10","v":"PATTINAGGIO"},null,null,{"$f":"IF($H$2=\"G\",'Spiegazioni Skills FTEM'!F10,'Spiegazioni Skills FTEM'!B10)","v":"Velocità dei piedi"},null,null,{"$f":"IF($H$2=\"G\",'Spiegazioni Skills FTEM'!G10,'Spiegazioni Skills FTEM'!C10)","v":"Accelerazione, partenza, esplosività dei primi 3 passi, frequenza"},null,null,{"$f":"IF($H$2=\"G\",'Spiegazioni Skills FTEM'!#REF!,'Spiegazioni Skills FTEM'!#REF!)","v":{"$error":"#REF!"}},null,null,null,{"$f":"IFERROR(AVERAGE(O19:O23),\"-\")","v":"-"},null,{"$f":"IFERROR(AVERAGE(Q19:Q23),\"-\")","v":"-"},null,{"$f":"IFERROR(AVERAGE(S19:S23),\"-\")","v":"-"},null,{"$f":"IFERROR(AVERAGE(U19:U23),\"-\")","v":"-"},null,{"$f":"IFERROR(AVERAGE(W19:W23),\"-\")","v":"-"},null,{"$f":"IFERROR(AVERAGE(Y19:Y23),\"-\")","v":"-"}]
[{"$f":"'Spiegazioni Skills FTEM'!A11:A11","v":0},null,null,{"$f":"IF($H$2=\"G\",'Spiegazioni Skills FTEM'!F11,'Spiegazioni Skills FTEM'!B11)","v":"Velocità/rapidità"},null,null,{"$f":"IF($H$2=\"G\",'Spiegazioni Skills FTEM'!G11,'Spiegazioni Skills FTEM'!C11)","v":"Velocità, facoltà di scivolare, avanti / indietro, economia dello sforzo"},null,null,{"$f":"IF($H$2=\"G\",'Spiegazioni Skills FTEM'!#REF!,'Spiegazioni Skills FTEM'!#REF!)","v":{"$error":"#REF!"}}]
[null,null,null,{"$f":"IF($H$2=\"G\",'Spiegazioni Skills FTEM'!F12,'Spiegazioni Skills FTEM'!B12)","v":"Agilità"},null,null,{"$f":"IF($H$2=\"G\",'Spiegazioni Skills FTEM'!G12,'Spiegazioni Skills FTEM'!C12)","v":"Cambiamento di direzione, girarsi, stop e ripartenza, \"Nummelin\""},null,null,{"$f":"IF($H$2=\"G\",'Spiegazioni Skills FTEM'!#REF!,'Spiegazioni Skills FTEM'!#REF!)","v":{"$error":"#REF!"}}]
[{"$f":"'Spiegazioni Skills FTEM'!A12:A12","v":0},null,null,{"$f":"IF($H$2=\"G\",'Spiegazioni Skills FTEM'!F13,'Spiegazioni Skills FTEM'!B13)","v":"Equilibrio"},null,null,{"$f":"IF($H$2=\"G\",'Spiegazioni Skills FTEM'!G13,'Spiegazioni Skills FTEM'!C13)","v":"Equilibrio, stabilità, posizione bassa, su una gamba, su entrambe"},null,null,{"$f":"IF($H$2=\"G\",'Spiegazioni Skills FTEM'!#REF!,'Spiegazioni Skills FTEM'!#REF!)","v":{"$error":"#REF!"}},null,null,null,{"$f":"IFERROR(AVERAGE(O22:O23),\"-\")","v":"-"},null,{"$f":"IFERROR(AVERAGE(Q22:Q23),\"-\")","v":"-"},null,{"$f":"IFERROR(AVERAGE(S22:S23),\"-\")","v":"-"},null,{"$f":"IFERROR(AVERAGE(U22:U23),\"-\")","v":"-"},null,{"$f":"IFERROR(AVERAGE(W22:W23),\"-\")","v":"-"},null,"-"]
[{"$f":"'Spiegazioni Skills FTEM'!A14:A14","v":0},null,null,{"$f":"IF($H$2=\"G\",'Spiegazioni Skills FTEM'!F14,'Spiegazioni Skills FTEM'!B14)","v":"Pattinaggio indietro"},null,null,{"$f":"IF($H$2=\"G\",'Spiegazioni Skills FTEM'!G14,'Spiegazioni Skills FTEM'!C14)","v":"Accelerazione, velocità, equilibrio"},null,null,{"$f":"IF($H$2=\"G\",'Spiegazioni Skills FTEM'!#REF!,'Spiegazioni Skills FTEM'!#REF!)","v":{"$error":"#REF!"}}]
[{"$f":"'Spiegazioni Skills FTEM'!A15","v":"ABILITÀ"},null,null,{"$f":"IF($H$2=\"G\",'Spiegazioni Skills FTEM'!F15,'Spiegazioni Skills FTEM'!B15)","v":"Tirare"},null,null,{"$f":"IF($H$2=\"G\",'Spiegazioni Skills FTEM'!G15,'Spiegazioni Skills FTEM'!C15)","v":"Efficienza (poco spazio, poco tempo), ricchezza di varianti, grado di sorpresa (Quick Release), precisione, potenza (conclusioni tattiche)"},null,null,{"$f":"IF($H$2=\"G\",'Spiegazioni Skills FTEM'!#REF!,'Spiegazioni Skills FTEM'!#REF!)","v":{"$error":"#REF!"}},null,null,null,{"$f":"IFERROR(AVERAGE(O24:O29),\"-\")","v":"-"},null,{"$f":"IFERROR(AVERAGE(Q24:Q29),\"-\")","v":"-"},null,{"$f":"IFERROR(AVERAGE(S24:S29),\"-\")","v":"-"},null,{"$f":"IFERROR(AVERAGE(U24:U29),\"-\")","v":"-"},null,{"$f":"IFERROR(AVERAGE(W24:W29),\"-\")","v":"-"},null,{"$f":"IFERROR(AVERAGE(Y24:Y29),\"-\")","v":"-"}]
[null,null,null,{"$f":"IF($H$2=\"G\",'Spiegazioni Skills FTEM'!F16,'Spiegazioni Skills FTEM'!B16)","v":"Passare"},null,null,{"$f":"IF($H$2=\"G\",'Spiegazioni Skills FTEM'!G16,'Spiegazioni Skills FTEM'!C16)","v":"Passaggio (distanza, flipp, rovescio), ricezione del passaggio (precisione, timing, diritto, rovescio, sul pattino), velocità del disco"},null,null,{"$f":"IF($H$2=\"G\",'Spiegazioni Skills FTEM'!#REF!,'Spiegazioni Skills FTEM'!#REF!)","v":{"$error":"#REF!"}}]
[null,null,null,{"$f":"IF($H$2=\"G\",'Spiegazioni Skills FTEM'!F17,'Spiegazioni Skills FTEM'!B17)","v":"Lavoro col bastone - condotta del disco"},null,null,{"$f":"IF($H$2=\"G\",'Spiegazioni Skills FTEM'!G17,'Spiegazioni Skills FTEM'!C17)","v":"Bastone sul disco, intercettare le linee di passaggio, deviare, controllo del bastone avversario"},null,null,{"$f":"IF($H$2=\"G\",'Spiegazioni Skills FTEM'!#REF!,'Spiegazioni Skills FTEM'!#REF!)","v":{"$error":"#REF!"}}]
[{"$f":"'Spiegazioni Skills FTEM'!A16:A16","v":0},null,null,{"$f":"IF($H$2=\"G\",'Spiegazioni Skills FTEM'!F18,'Spiegazioni Skills FTEM'!B18)","v":"Possedere/proteggere il disco"},null,null,{"$f":"IF($H$2=\"G\",'Spiegazioni Skills FTEM'!G18,'Spiegazioni Skills FTEM'!C18)","v":"Controllo del disco, dribbling, protezione del disco, finte (varianti col pattino, con o senza la balaustra), ingaggi (face-off)"},null,null,{"$f":"IF($H$2=\"G\",'Spiegazioni Skills FTEM'!#REF!,'Spiegazioni Skills FTEM'!#REF!)","v":{"$error":"#REF!"}}]
[{"$f":"'Spiegazioni Skills FTEM'!A17:A17","v":0},null,null,{"$f":"IF($H$2=\"G\",'Spiegazioni Skills FTEM'!F19,'Spiegazioni Skills FTEM'!B19)","v":"Gioco del corpo"},null,null,{"$f":"IF($H$2=\"G\",'Spiegazioni Skills FTEM'!G19,'Spiegazioni Skills FTEM'!C19)","v":"Facoltà di imporsi fisicamente, duelli (ghiaccio aperto, balaustra), subire dei checks/testa alta, livello di lotta, duro ma corretto, blocco dei tiri con il corpo"},null,null,{"$f":"IF($H$2=\"G\",'Spiegazioni Skills FTEM'!#REF!,'Spiegazioni Skills FTEM'!#REF!)","v":{"$error":"#REF!"}}]
[{"$f":"'Spiegazioni Skills FTEM'!A20:A20","v":0},null,null,{"$f":"IF($H$2=\"G\",'Spiegazioni Skills FTEM'!F20,'Spiegazioni Skills FTEM'!B20)","v":"-"},null,null,{"$f":"IF($H$2=\"G\",'Spiegazioni Skills FTEM'!G20,'Spiegazioni Skills FTEM'!C20)","v":"-"},null,null,{"$f":"IF($H$2=\"G\",'Spiegazioni Skills FTEM'!#REF!,'Spiegazioni Skills FTEM'!#REF!)","v":{"$error":"#REF!"}}]
[{"$f":"'Spiegazioni Skills FTEM'!A21","v":"SENSO DELL'HOCKEY"},null,null,{"$f":"IF($H$2=\"G\",'Spiegazioni Skills FTEM'!F21,'Spiegazioni Skills FTEM'!B21)","v":"Intelligenza nel gioco"},null,null,{"$f":"IF($H$2=\"G\",'Spiegazioni Skills FTEM'!G21,'Spiegazioni Skills FTEM'!C21)","v":"Vedere spazi e giocatori liberi, creare situazioni di superiorità numerica, agire cercando soluzioni in tutte le situazioni, velocità di visualizzazione"},null,null,{"$f":"IF($H$2=\"G\",'Spiegazioni Skills FTEM'!#REF!,'Spiegazioni Skills FTEM'!#REF!)","v":{"$error":"#REF!"}},null,null,null,{"$f":"IFERROR(AVERAGE(O30:O34),\"-\")","v":"-"},null,{"$f":"IFERROR(AVERAGE(Q30:Q34),\"-\")","v":"-"},null,{"$f":"IFERROR(AVERAGE(S30:S34),\"-\")","v":"-"},null,{"$f":"IFERROR(AVERAGE(U30:U34),\"-\")","v":"-"},null,{"$f":"IFERROR(AVERAGE(W30:W34),\"-\")","v":"-"},null,{"$f":"IFERROR(AVERAGE(Y30:Y34),\"-\")","v":"-"}]
[{"$f":"'Spiegazioni Skills FTEM'!A22:A22","v":0},null,null,{"$f":"IF($H$2=\"G\",'Spiegazioni Skills FTEM'!F22,'Spiegazioni Skills FTEM'!B22)","v":"Sensibilità offensiva"},null,null,{"$f":"IF($H$2=\"G\",'Spiegazioni Skills FTEM'!G22,'Spiegazioni Skills FTEM'!C22)","v":"Smarcarsi, anticipare le situazioni di gioco, aprire spazi liberi per i compagni, piazzarsi per le conclusioni, velocità nel chiudere gli spazi (pressione), comunicazione"},null,null,{"$f":"IF($H$2=\"G\",'Spiegazioni Skills FTEM'!#REF!,'Spiegazioni Skills FTEM'!#REF!)","v":{"$error":"#REF!"}}]
[null,null,null,{"$f":"IF($H$2=\"G\",'Spiegazioni Skills FTEM'!F23,'Spiegazioni Skills FTEM'!B23)","v":"Sensibilità difensiva"},null,null,{"$f":"IF($H$2=\"G\",'Spiegazioni Skills FTEM'!G23,'Spiegazioni Skills FTEM'!C23)","v":"Mantenere la posizione difensiva, protezione dello slot, assicurare i compagni / supporto, individuare le linee di passaggio, bloccare i tiri, ridurre velocemente gli spazi, comunicazione"},null,null,{"$f":"IF($H$2=\"G\",'Spiegazioni Skills FTEM'!#REF!,'Spiegazioni Skills FTEM'!#REF!)","v":{"$error":"#REF!"}}]
[{"$f":"'Spiegazioni Skills FTEM'!A24:A24","v":0},null,null,{"$f":"IF($H$2=\"G\",'Spiegazioni Skills FTEM'!F24,'Spiegazioni Skills FTEM'!B24)","v":"Gestione del disco"},null,null,{"$f":"IF($H$2=\"G\",'Spiegazioni Skills FTEM'!G24,'Spiegazioni Skills FTEM'!C24)","v":"Prendere decisioni adeguate nelle situazioni di gioco, supporto, creare superiorità numerica"},null,null,{"$f":"IF($H$2=\"G\",'Spiegazioni Skills FTEM'!#REF!,'Spiegazioni Skills FTEM'!#REF!)","v":{"$error":"#REF!"}}]
[{"$f":"'Spiegazioni Skills FTEM'!A25:A25","v":0},null,null,{"$f":"IF($H$2=\"G\",'Spiegazioni Skills FTEM'!F25,'Spiegazioni Skills FTEM'!B25)","v":"Creatività"},null,null,{"$f":"IF($H$2=\"G\",'Spiegazioni Skills FTEM'!G25,'Spiegazioni Skills FTEM'!C25)","v":"Creare situazioni a sorpresa, fiuto del gol"},null,null,{"$f":"IF($H$2=\"G\",'Spiegazioni Skills FTEM'!#REF!,'Spiegazioni Skills FTEM'!#REF!)","v":{"$error":"#REF!"}}]
[{"$f":"'Spiegazioni Skills FTEM'!A26","v":"PERSONALITY"},null,null,{"$f":"'Spiegazioni Skills FTEM'!B26","v":"CAPACITÀ"},null,null,{"$f":"'Spiegazioni Skills FTEM'!C26","v":"CRITERIO D'OSSERVAZIONE"},null,null,{"$f":"'Spiegazioni Skills FTEM'!H26","v":0},null,null,null,"Data1",null,"Data2",null,"Data3",null,"Data4",null,"Data5",null,"Player",null,"OBIETTIVO","PROVVEDIMENTI:\n(SPECIFICI, MISURABILI, REALISTICI)",null,null,null,null,null,null,"TERMINE","COTROLLO DELL'OBIETTIVO","Date"]
[{"$f":"'Spiegazioni Skills FTEM'!A27","v":"PERSONALITÀ"},null,null,{"$f":"IF($H$2=\"G\",'Spiegazioni Skills FTEM'!F27,'Spiegazioni Skills FTEM'!B27)","v":"Fiducia in se stesso"},null,null,{"$f":"IF($H$2=\"G\",'Spiegazioni Skills FTEM'!G27,'Spiegazioni Skills FTEM'!C27)","v":"Possiede la necessaria fiducia in se stesso, «I can do it»-attitudine, sa valutare le proprie capacità (conosce i propri punti forti e deboli), può realizzare le proprie qualità con\ncostanza, è coraggioso e sa prendere dei rischi calcolati"},null,null,{"$f":"IF($H$2=\"G\",'Spiegazioni Skills FTEM'!#REF!,'Spiegazioni Skills FTEM'!#REF!)","v":{"$error":"#REF!"}},null,null,null,{"$f":"IFERROR(AVERAGE(O36:O40),\"-\")","v":"-"},null,{"$f":"IFERROR(AVERAGE(Q36:Q40),\"-\")","v":"-"},null,{"$f":"IFERROR(AVERAGE(S36:S40),\"-\")","v":"-"},null,{"$f":"IFERROR(AVERAGE(U36:U40),\"-\")","v":"-"},null,{"$f":"IFERROR(AVERAGE(W36:W40),\"-\")","v":"-"},null,{"$f":"IFERROR(AVERAGE(Y36:Y40),\"-\")","v":"-"}]
[{"$f":"'Spiegazioni Skills FTEM'!A28:A28","v":0},null,null,{"$f":"IF($H$2=\"G\",'Spiegazioni Skills FTEM'!F28,'Spiegazioni Skills FTEM'!B28)","v":"Capacità d'apprendimento"},null,null,{"$f":"IF($H$2=\"G\",'Spiegazioni Skills FTEM'!G28,'Spiegazioni Skills FTEM'!C28)","v":"Ha una buona capacità d'apprendimento (sa recepire e realizzare), possiede una personalità, cerca di imparare dai propri errori derivandone delle misure"},null,null,{"$f":"IF($H$2=\"G\",'Spiegazioni Skills FTEM'!#REF!,'Spiegazioni Skills FTEM'!#REF!)","v":{"$error":"#REF!"}}]
[null,null,null,{"$f":"IF($H$2=\"G\",'Spiegazioni Skills FTEM'!F29,'Spiegazioni Skills FTEM'!B29)","v":"Senso di responsabilità"},null,null,{"$f":"IF($H$2=\"G\",'Spiegazioni Skills FTEM'!G29,'Spiegazioni Skills FTEM'!C29)","v":"Assume responsabiltà per le proprie prestazioni e sviluppo, agisce autonomamente, cura i dettagli, mostra un grande impegno in tutti i settori"},null,null,{"$f":"IF($H$2=\"G\",'Spiegazioni Skills FTEM'!#REF!,'Spiegazioni Skills FTEM'!#REF!)","v":{"$error":"#REF!"}}]
[{"$f":"'Spiegazioni Skills FTEM'!A30:A30","v":0},null,null,{"$f":"IF($H$2=\"G\",'Spiegazioni Skills FTEM'!F30,'Spiegazioni Skills FTEM'!B30)","v":"Motivazione"},null,null,{"$f":"IF($H$2=\"G\",'Spiegazioni Skills FTEM'!G30,'Spiegazioni Skills FTEM'!C30)","v":"È sempre motivato, vuole sempre svilupparsi e imparare, vuol essere il primo e avere successo, non rinuncia mai e non si lascia influenzare dagli insuccessi"},null,null,{"$f":"IF($H$2=\"G\",'Spiegazioni Skills FTEM'!#REF!,'Spiegazioni Skills FTEM'!#REF!)","v":{"$error":"#REF!"}}]
[{"$f":"'Spiegazioni Skills FTEM'!A31:A31","v":0},null,null,{"$f":"IF($H$2=\"G\",'Spiegazioni Skills FTEM'!F31,'Spiegazioni Skills FTEM'!B31)","v":"Prestazione Stile di vita"},null,null,{"$f":"IF($H$2=\"G\",'Spiegazioni Skills FTEM'!G31,'Spiegazioni Skills FTEM'!C31)","v":"Gestisce bene la quotidianità il suo ambiente seguendo i principi della prestazione, caparbio, perseverante e finalizzato sugli obiettivi, focus sulla propria prestazione, coraggioso e grintoso, sa imporsi nei confronti delle resistenze, le sfide lo motivano"},null,null,{"$f":"IF($H$2=\"G\",'Spiegazioni Skills FTEM'!#REF!,'Spiegazioni Skills FTEM'!#REF!)","v":{"$error":"#REF!"}}]
[{"$f":"'Spiegazioni Skills FTEM'!A32","v":"FORZA MENTALE"},null,null,{"$f":"IF($H$2=\"G\",'Spiegazioni Skills FTEM'!F32,'Spiegazioni Skills FTEM'!B32)","v":"Impegno"},null,null,{"$f":"IF($H$2=\"G\",'Spiegazioni Skills FTEM'!G32,'Spiegazioni Skills FTEM'!C32)","v":"Mostra molta intensità negli allenamenti e nelle partite, dà sempre il massimo e vuole sempre spronare i propri limiti, mostra passione, si sforza ad alzare la qualità negli allenamenti"},null,null,{"$f":"IF($H$2=\"G\",'Spiegazioni Skills FTEM'!#REF!,'Spiegazioni Skills FTEM'!#REF!)","v":{"$error":"#REF!"}},null,null,null,{"$f":"IFERROR(AVERAGE(O41:O45),\"-\")","v":"-"},null,{"$f":"IFERROR(AVERAGE(Q41:Q45),\"-\")","v":"-"},null,{"$f":"IFERROR(AVERAGE(S41:S45),\"-\")","v":"-"},null,{"$f":"IFERROR(AVERAGE(U41:U45),\"-\")","v":"-"},null,{"$f":"IFERROR(AVERAGE(W41:W45),\"-\")","v":"-"},null,{"$f":"IFERROR(AVERAGE(Y41:Y45),\"-\")","v":"-"}]
[null,null,null,{"$f":"IF($H$2=\"G\",'Spiegazioni Skills FTEM'!F33,'Spiegazioni Skills FTEM'!B33)","v":"Preparazione"},null,null,{"$f":"IF($H$2=\"G\",'Spiegazioni Skills FTEM'!G33,'Spiegazioni Skills FTEM'!C33)","v":"Preparazione consapevole e finalizzata, mentalmente e fisicamente, possiede un efficiente approccio per l'ottenimento dell'ideale stato di prestazione (ILZ/ISP)"},null,null,{"$f":"IF($H$2=\"G\",'Spiegazioni Skills FTEM'!#REF!,'Spiegazioni Skills FTEM'!#REF!)","v":{"$error":"#REF!"}}]
[{"$f":"'Spiegazioni Skills FTEM'!A34:A34","v":0},null,null,{"$f":"IF($H$2=\"G\",'Spiegazioni Skills FTEM'!F34,'Spiegazioni Skills FTEM'!B34)","v":"Coaching individuale"},null,null,{"$f":"IF($H$2=\"G\",'Spiegazioni Skills FTEM'!G34,'Spiegazioni Skills FTEM'!C34)","v":"Possiede una buona capacità di concentrazione, può mantenere il suo ILZ/ISP durante la partita e l'allenamento, può utilizzare tecniche di base per rafforzare il mentale, resistenti contro pensieri e influenze negative, è consapevole del proprio linguaggio del corpo che è in grado di padroneggiare"},null,null,{"$f":"IF($H$2=\"G\",'Spiegazioni Skills FTEM'!#REF!,'Spiegazioni Skills FTEM'!#REF!)","v":{"$error":"#REF!"}}]
[{"$f":"'Spiegazioni Skills FTEM'!A35:A35","v":0},null,null,{"$f":"IF($H$2=\"G\",'Spiegazioni Skills FTEM'!F35,'Spiegazioni Skills FTEM'!B35)","v":"Gestione delle energie"},null,null,{"$f":"IF($H$2=\"G\",'Spiegazioni Skills FTEM'!G35,'Spiegazioni Skills FTEM'!C35)","v":"Può gestire le proprie energie, cura la rigenerazione, può gestire i momenti in cui si deve andare al massimo oppure risparmiarsi, interruttore on/off"},null,null,{"$f":"IF($H$2=\"G\",'Spiegazioni Skills FTEM'!#REF!,'Spiegazioni Skills FTEM'!#REF!)","v":{"$error":"#REF!"}}]
[{"$f":"'Spiegazioni Skills FTEM'!A36:A36","v":0},null,null,{"$f":"IF($H$2=\"G\",'Spiegazioni Skills FTEM'!F36,'Spiegazioni Skills FTEM'!B36)","v":"Controllo delle emozioni"},null,null,{"$f":"IF($H$2=\"G\",'Spiegazioni Skills FTEM'!G36,'Spiegazioni Skills FTEM'!C36)","v":"Può regolare le proprie emozioni e impulsi, mantiene il controllo quando si trova sotto pressione, sa anche agire adeguatamente in situazioni emotive o frustranti"},null,null,{"$f":"IF($H$2=\"G\",'Spiegazioni Skills FTEM'!#REF!,'Spiegazioni Skills FTEM'!#REF!)","v":{"$error":"#REF!"}}]
[{"$f":"'Spiegazioni Skills FTEM'!A37","v":"FISICO"},null,null,{"$f":"IF($H$2=\"G\",'Spiegazioni Skills FTEM'!F37,'Spiegazioni Skills FTEM'!B37)","v":"Produzione di prestazione"},null,null,{"$f":"IF($H$2=\"G\",'Spiegazioni Skills FTEM'!G37,'Spiegazioni Skills FTEM'!C37)","v":"Possiede nelle gambe e nella parte alta del corpo la necessaria potenza/forza/velocità (fattori neuromuscolari)"},null,null,{"$f":"IF($H$2=\"G\",'Spiegazioni Skills FTEM'!#REF!,'Spiegazioni Skills FTEM'!#REF!)","v":{"$error":"#REF!"}},null,null,null,{"$f":"IFERROR(AVERAGE(O46:O50),\"-\")","v":"-"},null,{"$f":"IFERROR(AVERAGE(Q46:Q50),\"-\")","v":"-"},null,{"$f":"IFERROR(AVERAGE(S46:S50),\"-\")","v":"-"},null,{"$f":"IFERROR(AVERAGE(U46:U50),\"-\")","v":"-"},null,{"$f":"IFERROR(AVERAGE(W46:W50),\"-\")","v":"-"},null,{"$f":"IFERROR(AVERAGE(Y46:Y50),\"-\")","v":"-"}]
[null,null,null,{"$f":"IF($H$2=\"G\",'Spiegazioni Skills FTEM'!F38,'Spiegazioni Skills FTEM'!B38)","v":"Resistenza specifica alla fatica"},null,null,{"$f":"IF($H$2=\"G\",'Spiegazioni Skills FTEM'!G38,'Spiegazioni Skills FTEM'!C38)","v":"È capace di mantenere a lungo nell'ambito di un impiego la potenza/forza/velocità ed è capace di recuperare completamente attraverso i vari impieghi sul ghiaccio (fattori metabolici e cardiovascolari)"},null,null,{"$f":"IF($H$2=\"G\",'Spiegazioni Skills FTEM'!#REF!,'Spiegazioni Skills FTEM'!#REF!)","v":{"$error":"#REF!"}}]
[{"$f":"'Spiegazioni Skills FTEM'!A39:A39","v":0},null,null,{"$f":"IF($H$2=\"G\",'Spiegazioni Skills FTEM'!F39,'Spiegazioni Skills FTEM'!B39)","v":"Salute / prevenzione"},null,null,{"$f":"IF($H$2=\"G\",'Spiegazioni Skills FTEM'!G39,'Spiegazioni Skills FTEM'!C39)","v":"Possiede la necessaria stabilità (stabilità delle gambe) e mobilità delle articolazioni centrali"},null,null,{"$f":"IF($H$2=\"G\",'Spiegazioni Skills FTEM'!#REF!,'Spiegazioni Skills FTEM'!#REF!)","v":{"$error":"#REF!"}}]
[{"$f":"'Spiegazioni Skills FTEM'!A40:A40","v":0},null,null,{"$f":"IF($H$2=\"G\",'Spiegazioni Skills FTEM'!F40,'Spiegazioni Skills FTEM'!B40)","v":"Competenze della mobilità"},null,null,{"$f":"IF($H$2=\"G\",'Spiegazioni Skills FTEM'!G40,'Spiegazioni Skills FTEM'!C40)","v":"Padroneggia le basilari capacità di movimento che garantiscono in modo determinante le abilità specifiche \"skills\", come pure l'efficacia dei movimenti"},null,null,{"$f":"IF($H$2=\"G\",'Spiegazioni Skills FTEM'!#REF!,'Spiegazioni Skills FTEM'!#REF!)","v":{"$error":"#REF!"}}]
[{"$f":"'Spiegazioni Skills FTEM'!A41:A41","v":0},null,null,{"$f":"IF($H$2=\"G\",'Spiegazioni Skills FTEM'!F41,'Spiegazioni Skills FTEM'!B41)","v":"Robustezza"},null,null,{"$f":"IF($H$2=\"G\",'Spiegazioni Skills FTEM'!G41,'Spiegazioni Skills FTEM'!C41)","v":"Possiede la necessaria forza di base (tensione del corpo) per vincere i duelli e resistere alle cariche"},null,null,{"$f":"IF($H$2=\"G\",'Spiegazioni Skills FTEM'!#REF!,'Spiegazioni Skills FTEM'!#REF!)","v":{"$error":"#REF!"}}]

{"sheet":"27","index":30,"n_rows":50,"n_cols":36,"rows_kept":50,"cut":false,"hidden":false,"merged":[[45,34,49,34],[45,12,49,12],[45,13,49,13],[45,15,49,15],[45,17,49,17],[45,19,49,19],[45,21,49,21],[45,23,49,23],[45,25,49,25],[45,26,49,32],[45,0,49,2],[45,3,45,5],[45,6,45,11],[46,3,46,5],[46,6,46,11],[48,3,48,5],[48,6,48,11],[49,3,49,5],[49,6,49,11],[47,3,47,5],[47,6,47,11],[40,23,44,23],[42,3,42,5],[42,6,42,11],[44,3,44,5],[44,6,44,11],[40,0,44,2],[40,3,40,5],[40,6,40,11],[40,12,44,12],[40,13,44,13],[40,15,44,15],[43,3,43,5],[43,6,43,11],[34,21,34,22],[35,17,39,17],[35,19,39,19],[35,21,39,21],[37,3,37,5],[37,6,37,11],[38,3,38,5],[38,6,38,11],[40,17,44,17],[40,19,44,19],[40,21,44,21],[36,3,36,5],[36,6,36,11],[41,3,41,5],[41,6,41,11],[29,0,33,2],[29,3,29,5],[29,6,29,11],[29,12,33,12],[29,13,33,13],[29,15,33,15],[34,23,34,24],[34,26,34,32],[35,0,39,2],[35,3,35,5],[35,6,35,11],[35,12,39,12],[35,13,39,13],[35,15,39,15],[39,3,39,5],[39,6,39,11],[35,23,39,23],[34,0,34,2],[34,3,34,5],[34,6,34,11],[34,13,34,14],[34,15,34,16],[34,17,34,18],[34,19,34,20],[23,19,28,19],[23,21,28,21],[23,23,28,23],[26,3,26,5],[26,6,26,11],[28,3,28,5],[28,6,28,11],[33,3,33,5],[33,6,33,11],[29,23,33,23],[29,17,33,17],[29,19,33,19],[29,21,33,21],[31,3,31,5],[31,6,31,11],[32,3,32,5],[32,6,32,11],[27,3,27,5],[27,6,27,11],[25,3,25,5],[25,6,25,11],[30,3,30,5],[30,6,30,11],[12,21,16,21],[18,15,22,15],[18,17,22,17],[18,19,22,19],[18,21,22,21],[18,23,22,23],[22,3,22,5],[22,6,22,11],[23,0,28,2],[23,3,23,5],[23,6,23,11],[23,12,28,12],[23,13,28,13],[23,15,28,15],[23,17,28,17],[18,0,22,2],[18,3,18,5],[18,6,18,11],[18,12,22,12],[18,13,22,13],[19,3,19,5],[19,6,19,11],[21,3,21,5],[21,6,21,11],[11,21,11,22],[11,23,11,24],[11,26,11,32],[11,6,11,11],[12,23,16,23],[16,3,16,5],[16,6,16,11],[17,0,17,2],[17,3,17,5],[17,6,17,11],[17,13,17,14],[17,15,17,16],[17,17,17,18],[17,19,17,20],[17,21,17,22],[17,23,17,24],[12,0,16,2],[12,3,12,5],[12,6,12,11],[12,12,16,12],[12,13,16,13],[12,15,16,15],[12,17,16,17],[12,19,16,19],[4,0,4,1],[4,2,4,5],[4,10,4,24],[10,0,10,24],[10,25,10,35],[40,25,44,25],[40,26,44,32],[40,34,44,34],[12,25,16,25],[12,26,16,32],[12,34,16,34],[18,25,22,25],[18,26,22,32],[18,34,22,34],[23,25,28,25],[23,26,28,32],[23,34,28,34],[17,26,17,32],[11,0,11,2],[11,3,11,5],[11,13,11,14],[11,15,11,16],[11,17,11,18],[11,19,11,20],[0,0,0,24],[0,25,0,26],[0,27,0,32],[0,33,0,35],[29,25,33,25],[29,26,33,32],[29,34,33,34],[35,25,39,25],[35,26,39,32],[35,34,39,34],[1,0,1,1],[1,2,1,5],[1,10,1,24],[2,0,2,1],[2,2,2,5],[2,11,2,24],[6,0,6,1],[6,2,6,35],[7,0,7,1],[7,2,7,35],[8,0,8,1],[8,2,8,35],[3,0,3,1],[3,10,3,24],[13,3,13,5],[13,6,13,11],[14,3,14,5],[14,6,14,11],[15,3,15,5],[15,6,15,11],[20,3,20,5],[20,6,20,11],[24,3,24,5],[24,6,24,11]]}
["Personalien",null,null,null,null,null,null,null,null,null,null,null,null,null,null,null,null,null,null,null,null,null,null,null,null,"Predisposizione",null,"Valutazioni",null,null,null,null,null,"Rating"]
["COGNOME",null,{"$f":"IF(ISBLANK(VLOOKUP(27,Tabelle3[],3,0)),\"-\",VLOOKUP(27,Tabelle3[],3,0))","v":"-"},null,null,null,"POSIZIONE",null,null,"INDIRIZZO",{"$f":"IF(ISBLANK(VLOOKUP(27,Tabelle3[],5,0)),\"-\",VLOOKUP(27,Tabelle3[],5,0))","v":"-"},null,null,null,null,null,null,null,null,null,null,null,null,null,null,"Età\" (biologica/età relativa)",null,"Data 1",null,null,"cm",null,"Kg",null,"ECCELLENTE",5]
["NOME",null,{"$f":"IF(ISBLANK(VLOOKUP(27,Tabelle3[],2,0)),\"-\",VLOOKUP(27,Tabelle3[],2,0))","v":"-"},null,null,null,"BASTONE",null,null,"LUOGO",{"$f":"IF(ISBLANK(VLOOKUP(27,Tabelle3[],7,0)),\"-\",VLOOKUP(27,Tabelle3[],7,0))","v":"-"},{"$f":"IF(ISBLANK(VLOOKUP(27,Tabelle3[],6,0)),\"-\",VLOOKUP(27,Tabelle3[],6,0))","v":"-"},null,null,null,null,null,null,null,null,null,null,null,null,null,"Predisposizione",null,"Data 2",null,null,"cm",null,"Kg",null,"BUONO",4]
["DATA DI NASC.",null,{"$f":"IF(ISBLANK(VLOOKUP(27,Tabelle3[],14,0)),\"-\",VLOOKUP(27,Tabelle3[],14,0))","v":"-"},{"$f":"IF(ISBLANK(VLOOKUP(27,Tabelle3[],15,0)),\"-\",VLOOKUP(27,Tabelle3[],15,0))","v":"-"},{"$f":"IF(ISBLANK(VLOOKUP(27,Tabelle3[],16,0)),\"-\",VLOOKUP(27,Tabelle3[],16,0))","v":"-"},null,"ALTEZZA",null,"cm (Finale)","TELEFONO",{"$f":"IF(ISBLANK(VLOOKUP(27,Tabelle3[],8,0)),\"-\",VLOOKUP(27,Tabelle3[],8,0))","v":"-"},null,null,null,null,null,null,null,null,null,null,null,null,null,null,"Ambiente di vita",null,"Data 3",null,null,"cm",null,"Kg",null,"MEDIO/DISCRETO",3]
["SESSO",null,{"$f":"IF(ISBLANK(VLOOKUP(27,Tabelle3[],13,0)),\"-\",VLOOKUP(27,Tabelle3[],13,0))","v":"-"},null,null,null,"PESO",null,"Kg (Finale)","E-Mail",{"$f":"IF(ISBLANK(VLOOKUP(27,Tabelle3[],9,0)),\"-\",VLOOKUP(27,Tabelle3[],9,0))","v":"-"},null,null,null,null,null,null,null,null,null,null,null,null,null,null,null,null,"Data 4",null,null,"cm",null,"Kg",null,"CON LACUNE",2]
[null,null,null,null,null,null,null,null,null,null,null,null,null,null,null,null,null,null,null,null,null,null,null,null,null,null,null,"Data 5",null,null,"cm",null,"Kg",null,"INSUFFICIENTE",1]
["Visione",null,"xxx"]
["Prossimo passo",null,"xxx"]
["Proflio giocatore",null,"xxx"]
[]
["VALUTAZIONI (COACH / GIOCATORE)",null,null,null,null,null,null,null,null,null,null,null,null,null,null,null,null,null,null,null,null,null,null,null,null,"Obiettivi SMART"]
[{"$f":"'Spiegazioni Skills FTEM'!A3","v":"TEAM"},null,null,{"$f":"'Spiegazioni Skills FTEM'!B3","v":"CAPACITÀ"},null,null,{"$f":"'Spiegazioni Skills FTEM'!C3","v":"CRITERIO D'OSSERVAZIONE"},null,null,{"$f":"'Spiegazioni Skills FTEM'!H3","v":0},null,null,"Final","Data1",null,"Data2",null,"Data3",null,"Data4",null,"Data5",null,"Player",null,"OBIETTIVO","PROVVEDIMENTI:\n(SPECIFICI, MISURABILI, REALISTICI)",null,null,null,null,null,null,"TERMINE","COTROLLO DELL'OBIETTIVO","Data"]
[{"$f":"'Spiegazioni Skills FTEM'!A4","v":"SQUADRA"},null,null,{"$f":"IF($H$2=\"G\",'Spiegazioni Skills FTEM'!F4,'Spiegazioni Skills FTEM'!B4)","v":"Comunicazione"},null,null,{"$f":"IF($H$2=\"G\",'Spiegazioni Skills FTEM'!G4,'Spiegazioni Skills FTEM'!C4)","v":"Cura relazioni aperte e rispettose, fiducia quale base comportamentale, affronta i conflitti senza ledere la stabilità del gruppo, comunica con i compagni, gli allenatori e\nfunzionari con i medesimi valori"},null,null,{"$f":"IF($H$2=\"G\",'Spiegazioni Skills FTEM'!#REF!,'Spiegazioni Skills FTEM'!#REF!)","v":{"$error":"#REF!"}},null,null,null,{"$f":"IFERROR(AVERAGE(O13:O17),\"-\")","v":"-"},null,{"$f":"IFERROR(AVERAGE(Q13:Q17),\"-\")","v":"-"},null,{"$f":"IFERROR(AVERAGE(S13:S17),\"-\")","v":"-"},null,{"$f":"IFERROR(AVERAGE(U13:U17),\"-\")","v":"-"},null,{"$f":"IFERROR(AVERAGE(W13:W17),\"-\")","v":"-"},null,{"$f":"IFERROR(AVERAGE(Y13:Y17),\"-\")","v":"-"}]
[{"$f":"'Spiegazioni Skills FTEM'!A5","v":0},null,null,{"$f":"IF($H$2=\"G\",'Spiegazioni Skills FTEM'!F5,'Spiegazioni Skills FTEM'!B5)","v":"Capacità nella squadra"},null,null,{"$f":"IF($H$2=\"G\",'Spiegazioni Skills FTEM'!G5,'Spiegazioni Skills FTEM'!C5)","v":"Integrazione nel gruppo, definisce e realizza obiettivi comuni, NOI prima dell'IO, contribuisce a creare un buon spirito di squadra e clima di lavoro"},null,null,{"$f":"IF($H$2=\"G\",'Spiegazioni Skills FTEM'!#REF!,'Spiegazioni Skills FTEM'!#REF!)","v":{"$error":"#REF!"}}]
[{"$f":"'Spiegazioni Skills FTEM'!A6","v":0},null,null,{"$f":"IF($H$2=\"G\",'Spiegazioni Skills FTEM'!F6,'Spiegazioni Skills FTEM'!B6)","v":"Leadership"},null,null,{"$f":"IF($H$2=\"G\",'Spiegazioni Skills FTEM'!G6,'Spiegazioni Skills FTEM'!C6)","v":"Assume responsabilità nell'ambito del gruppo, cerca di migliorare la squadra e i compagni, influenza positivamente la dinamica di gruppo"},null,null,{"$f":"IF($H$2=\"G\",'Spiegazioni Skills FTEM'!#REF!,'Spiegazioni Skills FTEM'!#REF!)","v":{"$error":"#REF!"}}]
[{"$f":"'Spiegazioni Skills FTEM'!A7","v":0},null,null,{"$f":"IF($H$2=\"G\",'Spiegazioni Skills FTEM'!F7,'Spiegazioni Skills FTEM'!B7)","v":"Ripartizione dei ruoli"},null,null,{"$f":"IF($H$2=\"G\",'Spiegazioni Skills FTEM'!G7,'Spiegazioni Skills FTEM'!C7)","v":"Riconosce e adempie il suo ruolo, è cosciente della sua posizione nel sistema e nella squadra, mette a disposizione della squadra le sue competenze"},null,null,{"$f":"IF($H$2=\"G\",'Spiegazioni Skills FTEM'!#REF!,'Spiegazioni Skills FTEM'!#REF!)","v":{"$error":"#REF!"}}]
[{"$f":"'Spiegazioni Skills FTEM'!A8","v":0},null,null,{"$f":"IF($H$2=\"G\",'Spiegazioni Skills FTEM'!F8,'Spiegazioni Skills FTEM'!B8)","v":"Rispetto"},null,null,{"$f":"IF($H$2=\"G\",'Spiegazioni Skills FTEM'!G8,'Spiegazioni Skills FTEM'!C8)","v":"Relazioni rispettose con i compagni, allenatori, avversari, arbitri e staff; rispetta le regole i pricipi del fairplay (compreso la lotta al doping)"},null,null,{"$f":"IF($H$2=\"G\",'Spiegazioni Skills FTEM'!#REF!,'Spiegazioni Skills FTEM'!#REF!)","v":{"$error":"#REF!"}}]
[{"$f":"'Spiegazioni Skills FTEM'!A9","v":"ON ICE"},null,null,{"$f":"'Spiegazioni Skills FTEM'!B9","v":"CAPACITÀ"},null,null,{"$f":"'Spiegazioni Skills FTEM'!C9","v":"CRITERIO D'OSSERVAZIONE"},null,null,{"$f":"'Spiegazioni Skills FTEM'!H9","v":0},null,null,null,"Data1",null,"Data2",null,"Data3",null,"Data4",null,"Data5",null,"Player",null,"OBIETTIVO","PROVVEDIMENTI:\n(SPECIFICI, MISURABILI, REALISTICI)",null,null,null,null,null,null,"TERMINE","COTROLLO DELL'OBIETTIVO","Date"]
[{"$f":"'Spiegazioni Skills FTEM'!A10","v":"PATTINAGGIO"},null,null,{"$f":"IF($H$2=\"G\",'Spiegazioni Skills FTEM'!F10,'Spiegazioni Skills FTEM'!B10)","v":"Velocità dei piedi"},null,null,{"$f":"IF($H$2=\"G\",'Spiegazioni Skills FTEM'!G10,'Spiegazioni Skills FTEM'!C10)","v":"Accelerazione, partenza, esplosività dei primi 3 passi, frequenza"},null,null,{"$f":"IF($H$2=\"G\",'Spiegazioni Skills FTEM'!#REF!,'Spiegazioni Skills FTEM'!#REF!)","v":{"$error":"#REF!"}},null,null,null,{"$f":"IFERROR(AVERAGE(O19:O23),\"-\")","v":"-"},null,{"$f":"IFERROR(AVERAGE(Q19:Q23),\"-\")","v":"-"},null,{"$f":"IFERROR(AVERAGE(S19:S23),\"-\")","v":"-"},null,{"$f":"IFERROR(AVERAGE(U19:U23),\"-\")","v":"-"},null,{"$f":"IFERROR(AVERAGE(W19:W23),\"-\")","v":"-"},null,{"$f":"IFERROR(AVERAGE(Y19:Y23),\"-\")","v":"-"}]
[{"$f":"'Spiegazioni Skills FTEM'!A11:A11","v":0},null,null,{"$f":"IF($H$2=\"G\",'Spiegazioni Skills FTEM'!F11,'Spiegazioni Skills FTEM'!B11)","v":"Velocità/rapidità"},null,null,{"$f":"IF($H$2=\"G\",'Spiegazioni Skills FTEM'!G11,'Spiegazioni Skills FTEM'!C11)","v":"Velocità, facoltà di scivolare, avanti / indietro, economia dello sforzo"},null,null,{"$f":"IF($H$2=\"G\",'Spiegazioni Skills FTEM'!#REF!,'Spiegazioni Skills FTEM'!#REF!)","v":{"$error":"#REF!"}}]
[null,null,null,{"$f":"IF($H$2=\"G\",'Spiegazioni Skills FTEM'!F12,'Spiegazioni Skills FTEM'!B12)","v":"Agilità"},null,null,{"$f":"IF($H$2=\"G\",'Spiegazioni Skills FTEM'!G12,'Spiegazioni Skills FTEM'!C12)","v":"Cambiamento di direzione, girarsi, stop e ripartenza, \"Nummelin\""},null,null,{"$f":"IF($H$2=\"G\",'Spiegazioni Skills FTEM'!#REF!,'Spiegazioni Skills FTEM'!#REF!)","v":{"$error":"#REF!"}}]
[{"$f":"'Spiegazioni Skills FTEM'!A12:A12","v":0},null,null,{"$f":"IF($H$2=\"G\",'Spiegazioni Skills FTEM'!F13,'Spiegazioni Skills FTEM'!B13)","v":"Equilibrio"},null,null,{"$f":"IF($H$2=\"G\",'Spiegazioni Skills FTEM'!G13,'Spiegazioni Skills FTEM'!C13)","v":"Equilibrio, stabilità, posizione bassa, su una gamba, su entrambe"},null,null,{"$f":"IF($H$2=\"G\",'Spiegazioni Skills FTEM'!#REF!,'Spiegazioni Skills FTEM'!#REF!)","v":{"$error":"#REF!"}},null,null,null,{"$f":"IFERROR(AVERAGE(O22:O23),\"-\")","v":"-"},null,{"$f":"IFERROR(AVERAGE(Q22:Q23),\"-\")","v":"-"},null,{"$f":"IFERROR(AVERAGE(S22:S23),\"-\")","v":"-"},null,{"$f":"IFERROR(AVERAGE(U22:U23),\"-\")","v":"-"},null,{"$f":"IFERROR(AVERAGE(W22:W23),\"-\")","v":"-"},null,"-"]
[{"$f":"'Spiegazioni Skills FTEM'!A14:A14","v":0},null,null,{"$f":"IF($H$2=\"G\",'Spiegazioni Skills FTEM'!F14,'Spiegazioni Skills FTEM'!B14)","v":"Pattinaggio indietro"},null,null,{"$f":"IF($H$2=\"G\",'Spiegazioni Skills FTEM'!G14,'Spiegazioni Skills FTEM'!C14)","v":"Accelerazione, velocità, equilibrio"},null,null,{"$f":"IF($H$2=\"G\",'Spiegazioni Skills FTEM'!#REF!,'Spiegazioni Skills FTEM'!#REF!)","v":{"$error":"#REF!"}}]
[{"$f":"'Spiegazioni Skills FTEM'!A15","v":"ABILITÀ"},null,null,{"$f":"IF($H$2=\"G\",'Spiegazioni Skills FTEM'!F15,'Spiegazioni Skills FTEM'!B15)","v":"Tirare"},null,null,{"$f":"IF($H$2=\"G\",'Spiegazioni Skills FTEM'!G15,'Spiegazioni Skills FTEM'!C15)","v":"Efficienza (poco spazio, poco tempo), ricchezza di varianti, grado di sorpresa (Quick Release), precisione, potenza (conclusioni tattiche)"},null,null,{"$f":"IF($H$2=\"G\",'Spiegazioni Skills FTEM'!#REF!,'Spiegazioni Skills FTEM'!#REF!)","v":{"$error":"#REF!"}},null,null,null,{"$f":"IFERROR(AVERAGE(O24:O29),\"-\")","v":"-"},null,{"$f":"IFERROR(AVERAGE(Q24:Q29),\"-\")","v":"-"},null,{"$f":"IFERROR(AVERAGE(S24:S29),\"-\")","v":"-"},null,{"$f":"IFERROR(AVERAGE(U24:U29),\"-\")","v":"-"},null,{"$f":"IFERROR(AVERAGE(W24:W29),\"-\")","v":"-"},null,{"$f":"IFERROR(AVERAGE(Y24:Y29),\"-\")","v":"-"}]
[null,null,null,{"$f":"IF($H$2=\"G\",'Spiegazioni Skills FTEM'!F16,'Spiegazioni Skills FTEM'!B16)","v":"Passare"},null,null,{"$f":"IF($H$2=\"G\",'Spiegazioni Skills FTEM'!G16,'Spiegazioni Skills FTEM'!C16)","v":"Passaggio (distanza, flipp, rovescio), ricezione del passaggio (precisione, timing, diritto, rovescio, sul pattino), velocità del disco"},null,null,{"$f":"IF($H$2=\"G\",'Spiegazioni Skills FTEM'!#REF!,'Spiegazioni Skills FTEM'!#REF!)","v":{"$error":"#REF!"}}]
[null,null,null,{"$f":"IF($H$2=\"G\",'Spiegazioni Skills FTEM'!F17,'Spiegazioni Skills FTEM'!B17)","v":"Lavoro col bastone - condotta del disco"},null,null,{"$f":"IF($H$2=\"G\",'Spiegazioni Skills FTEM'!G17,'Spiegazioni Skills FTEM'!C17)","v":"Bastone sul disco, intercettare le linee di passaggio, deviare, controllo del bastone avversario"},null,null,{"$f":"IF($H$2=\"G\",'Spiegazioni Skills FTEM'!#REF!,'Spiegazioni Skills FTEM'!#REF!)","v":{"$error":"#REF!"}}]
[{"$f":"'Spiegazioni Skills FTEM'!A16:A16","v":0},null,null,{"$f":"IF($H$2=\"G\",'Spiegazioni Skills FTEM'!F18,'Spiegazioni Skills FTEM'!B18)","v":"Possedere/proteggere il disco"},null,null,{"$f":"IF($H$2=\"G\",'Spiegazioni Skills FTEM'!G18,'Spiegazioni Skills FTEM'!C18)","v":"Controllo del disco, dribbling, protezione del disco, finte (varianti col pattino, con o senza la balaustra), ingaggi (face-off)"},null,null,{"$f":"IF($H$2=\"G\",'Spiegazioni Skills FTEM'!#REF!,'Spiegazioni Skills FTEM'!#REF!)","v":{"$error":"#REF!"}}]
[{"$f":"'Spiegazioni Skills FTEM'!A17:A17","v":0},null,null,{"$f":"IF($H$2=\"G\",'Spiegazioni Skills FTEM'!F19,'Spiegazioni Skills FTEM'!B19)","v":"Gioco del corpo"},null,null,{"$f":"IF($H$2=\"G\",'Spiegazioni Skills FTEM'!G19,'Spiegazioni Skills FTEM'!C19)","v":"Facoltà di imporsi fisicamente, duelli (ghiaccio aperto, balaustra), subire dei checks/testa alta, livello di lotta, duro ma corretto, blocco dei tiri con il corpo"},null,null,{"$f":"IF($H$2=\"G\",'Spiegazioni Skills FTEM'!#REF!,'Spiegazioni Skills FTEM'!#REF!)","v":{"$error":"#REF!"}}]
[{"$f":"'Spiegazioni Skills FTEM'!A20:A20","v":0},null,null,{"$f":"IF($H$2=\"G\",'Spiegazioni Skills FTEM'!F20,'Spiegazioni Skills FTEM'!B20)","v":"-"},null,null,{"$f":"IF($H$2=\"G\",'Spiegazioni Skills FTEM'!G20,'Spiegazioni Skills FTEM'!C20)","v":"-"},null,null,{"$f":"IF($H$2=\"G\",'Spiegazioni Skills FTEM'!#REF!,'Spiegazioni Skills FTEM'!#REF!)","v":{"$error":"#REF!"}}]
[{"$f":"'Spiegazioni Skills FTEM'!A21","v":"SENSO DELL'HOCKEY"},null,null,{"$f":"IF($H$2=\"G\",'Spiegazioni Skills FTEM'!F21,'Spiegazioni Skills FTEM'!B21)","v":"Intelligenza nel gioco"},null,null,{"$f":"IF($H$2=\"G\",'Spiegazioni Skills FTEM'!G21,'Spiegazioni Skills FTEM'!C21)","v":"Vedere spazi e giocatori liberi, creare situazioni di superiorità numerica, agire cercando soluzioni in tutte le situazioni, velocità di visualizzazione"},null,null,{"$f":"IF($H$2=\"G\",'Spiegazioni Skills FTEM'!#REF!,'Spiegazioni Skills FTEM'!#REF!)","v":{"$error":"#REF!"}},null,null,null,{"$f":"IFERROR(AVERAGE(O30:O34),\"-\")","v":"-"},null,{"$f":"IFERROR(AVERAGE(Q30:Q34),\"-\")","v":"-"},null,{"$f":"IFERROR(AVERAGE(S30:S34),\"-\")","v":"-"},null,{"$f":"IFERROR(AVERAGE(U30:U34),\"-\")","v":"-"},null,{"$f":"IFERROR(AVERAGE(W30:W34),\"-\")","v":"-"},null,{"$f":"IFERROR(AVERAGE(Y30:Y34),\"-\")","v":"-"}]
[{"$f":"'Spiegazioni Skills FTEM'!A22:A22","v":0},null,null,{"$f":"IF($H$2=\"G\",'Spiegazioni Skills FTEM'!F22,'Spiegazioni Skills FTEM'!B22)","v":"Sensibilità offensiva"},null,null,{"$f":"IF($H$2=\"G\",'Spiegazioni Skills FTEM'!G22,'Spiegazioni Skills FTEM'!C22)","v":"Smarcarsi, anticipare le situazioni di gioco, aprire spazi liberi per i compagni, piazzarsi per le conclusioni, velocità nel chiudere gli spazi (pressione), comunicazione"},null,null,{"$f":"IF($H$2=\"G\",'Spiegazioni Skills FTEM'!#REF!,'Spiegazioni Skills FTEM'!#REF!)","v":{"$error":"#REF!"}}]
[null,null,null,{"$f":"IF($H$2=\"G\",'Spiegazioni Skills FTEM'!F23,'Spiegazioni Skills FTEM'!B23)","v":"Sensibilità difensiva"},null,null,{"$f":"IF($H$2=\"G\",'Spiegazioni Skills FTEM'!G23,'Spiegazioni Skills FTEM'!C23)","v":"Mantenere la posizione difensiva, protezione dello slot, assicurare i compagni / supporto, individuare le linee di passaggio, bloccare i tiri, ridurre velocemente gli spazi, comunicazione"},null,null,{"$f":"IF($H$2=\"G\",'Spiegazioni Skills FTEM'!#REF!,'Spiegazioni Skills FTEM'!#REF!)","v":{"$error":"#REF!"}}]
[{"$f":"'Spiegazioni Skills FTEM'!A24:A24","v":0},null,null,{"$f":"IF($H$2=\"G\",'Spiegazioni Skills FTEM'!F24,'Spiegazioni Skills FTEM'!B24)","v":"Gestione del disco"},null,null,{"$f":"IF($H$2=\"G\",'Spiegazioni Skills FTEM'!G24,'Spiegazioni Skills FTEM'!C24)","v":"Prendere decisioni adeguate nelle situazioni di gioco, supporto, creare superiorità numerica"},null,null,{"$f":"IF($H$2=\"G\",'Spiegazioni Skills FTEM'!#REF!,'Spiegazioni Skills FTEM'!#REF!)","v":{"$error":"#REF!"}}]
[{"$f":"'Spiegazioni Skills FTEM'!A25:A25","v":0},null,null,{"$f":"IF($H$2=\"G\",'Spiegazioni Skills FTEM'!F25,'Spiegazioni Skills FTEM'!B25)","v":"Creatività"},null,null,{"$f":"IF($H$2=\"G\",'Spiegazioni Skills FTEM'!G25,'Spiegazioni Skills FTEM'!C25)","v":"Creare situazioni a sorpresa, fiuto del gol"},null,null,{"$f":"IF($H$2=\"G\",'Spiegazioni Skills FTEM'!#REF!,'Spiegazioni Skills FTEM'!#REF!)","v":{"$error":"#REF!"}}]
[{"$f":"'Spiegazioni Skills FTEM'!A26","v":"PERSONALITY"},null,null,{"$f":"'Spiegazioni Skills FTEM'!B26","v":"CAPACITÀ"},null,null,{"$f":"'Spiegazioni Skills FTEM'!C26","v":"CRITERIO D'OSSERVAZIONE"},null,null,{"$f":"'Spiegazioni Skills FTEM'!H26","v":0},null,null,null,"Data1",null,"Data2",null,"Data3",null,"Data4",null,"Data5",null,"Player",null,"OBIETTIVO","PROVVEDIMENTI:\n(SPECIFICI, MISURABILI, REALISTICI)",null,null,null,null,null,null,"TERMINE","COTROLLO DELL'OBIETTIVO","Date"]
[{"$f":"'Spiegazioni Skills FTEM'!A27","v":"PERSONALITÀ"},null,null,{"$f":"IF($H$2=\"G\",'Spiegazioni Skills FTEM'!F27,'Spiegazioni Skills FTEM'!B27)","v":"Fiducia in se stesso"},null,null,{"$f":"IF($H$2=\"G\",'Spiegazioni Skills FTEM'!G27,'Spiegazioni Skills FTEM'!C27)","v":"Possiede la necessaria fiducia in se stesso, «I can do it»-attitudine, sa valutare le proprie capacità (conosce i propri punti forti e deboli), può realizzare le proprie qualità con\ncostanza, è coraggioso e sa prendere dei rischi calcolati"},null,null,{"$f":"IF($H$2=\"G\",'Spiegazioni Skills FTEM'!#REF!,'Spiegazioni Skills FTEM'!#REF!)","v":{"$error":"#REF!"}},null,null,null,{"$f":"IFERROR(AVERAGE(O36:O40),\"-\")","v":"-"},null,{"$f":"IFERROR(AVERAGE(Q36:Q40),\"-\")","v":"-"},null,{"$f":"IFERROR(AVERAGE(S36:S40),\"-\")","v":"-"},null,{"$f":"IFERROR(AVERAGE(U36:U40),\"-\")","v":"-"},null,{"$f":"IFERROR(AVERAGE(W36:W40),\"-\")","v":"-"},null,{"$f":"IFERROR(AVERAGE(Y36:Y40),\"-\")","v":"-"}]
[{"$f":"'Spiegazioni Skills FTEM'!A28:A28","v":0},null,null,{"$f":"IF($H$2=\"G\",'Spiegazioni Skills FTEM'!F28,'Spiegazioni Skills FTEM'!B28)","v":"Capacità d'apprendimento"},null,null,{"$f":"IF($H$2=\"G\",'Spiegazioni Skills FTEM'!G28,'Spiegazioni Skills FTEM'!C28)","v":"Ha una buona capacità d'apprendimento (sa recepire e realizzare), possiede una personalità, cerca di imparare dai propri errori derivandone delle misure"},null,null,{"$f":"IF($H$2=\"G\",'Spiegazioni Skills FTEM'!#REF!,'Spiegazioni Skills FTEM'!#REF!)","v":{"$error":"#REF!"}}]
[null,null,null,{"$f":"IF($H$2=\"G\",'Spiegazioni Skills FTEM'!F29,'Spiegazioni Skills FTEM'!B29)","v":"Senso di responsabilità"},null,null,{"$f":"IF($H$2=\"G\",'Spiegazioni Skills FTEM'!G29,'Spiegazioni Skills FTEM'!C29)","v":"Assume responsabiltà per le proprie prestazioni e sviluppo, agisce autonomamente, cura i dettagli, mostra un grande impegno in tutti i settori"},null,null,{"$f":"IF($H$2=\"G\",'Spiegazioni Skills FTEM'!#REF!,'Spiegazioni Skills FTEM'!#REF!)","v":{"$error":"#REF!"}}]
[{"$f":"'Spiegazioni Skills FTEM'!A30:A30","v":0},null,null,{"$f":"IF($H$2=\"G\",'Spiegazioni Skills FTEM'!F30,'Spiegazioni Skills FTEM'!B30)","v":"Motivazione"},null,null,{"$f":"IF($H$2=\"G\",'Spiegazioni Skills FTEM'!G30,'Spiegazioni Skills FTEM'!C30)","v":"È sempre motivato, vuole sempre svilupparsi e imparare, vuol essere il primo e avere successo, non rinuncia mai e non si lascia influenzare dagli insuccessi"},null,null,{"$f":"IF($H$2=\"G\",'Spiegazioni Skills FTEM'!#REF!,'Spiegazioni Skills FTEM'!#REF!)","v":{"$error":"#REF!"}}]
[{"$f":"'Spiegazioni Skills FTEM'!A31:A31","v":0},null,null,{"$f":"IF($H$2=\"G\",'Spiegazioni Skills FTEM'!F31,'Spiegazioni Skills FTEM'!B31)","v":"Prestazione Stile di vita"},null,null,{"$f":"IF($H$2=\"G\",'Spiegazioni Skills FTEM'!G31,'Spiegazioni Skills FTEM'!C31)","v":"Gestisce bene la quotidianità il suo ambiente seguendo i principi della prestazione, caparbio, perseverante e finalizzato sugli obiettivi, focus sulla propria prestazione, coraggioso e grintoso, sa imporsi nei confronti delle resistenze, le sfide lo motivano"},null,null,{"$f":"IF($H$2=\"G\",'Spiegazioni Skills FTEM'!#REF!,'Spiegazioni Skills FTEM'!#REF!)","v":{"$error":"#REF!"}}]
[{"$f":"'Spiegazioni Skills FTEM'!A32","v":"FORZA MENTALE"},null,null,{"$f":"IF($H$2=\"G\",'Spiegazioni Skills FTEM'!F32,'Spiegazioni Skills FTEM'!B32)","v":"Impegno"},null,null,{"$f":"IF($H$2=\"G\",'Spiegazioni Skills FTEM'!G32,'Spiegazioni Skills FTEM'!C32)","v":"Mostra molta intensità negli allenamenti e nelle partite, dà sempre il massimo e vuole sempre spronare i propri limiti, mostra passione, si sforza ad alzare la qualità negli allenamenti"},null,null,{"$f":"IF($H$2=\"G\",'Spiegazioni Skills FTEM'!#REF!,'Spiegazioni Skills FTEM'!#REF!)","v":{"$error":"#REF!"}},null,null,null,{"$f":"IFERROR(AVERAGE(O41:O45),\"-\")","v":"-"},null,{"$f":"IFERROR(AVERAGE(Q41:Q45),\"-\")","v":"-"},null,{"$f":"IFERROR(AVERAGE(S41:S45),\"-\")","v":"-"},null,{"$f":"IFERROR(AVERAGE(U41:U45),\"-\")","v":"-"},null,{"$f":"IFERROR(AVERAGE(W41:W45),\"-\")","v":"-"},null,{"$f":"IFERROR(AVERAGE(Y41:Y45),\"-\")","v":"-"}]
[null,null,null,{"$f":"IF($H$2=\"G\",'Spiegazioni Skills FTEM'!F33,'Spiegazioni Skills FTEM'!B33)","v":"Preparazione"},null,null,{"$f":"IF($H$2=\"G\",'Spiegazioni Skills FTEM'!G33,'Spiegazioni Skills FTEM'!C33)","v":"Preparazione consapevole e finalizzata, mentalmente e fisicamente, possiede un efficiente approccio per l'ottenimento dell'ideale stato di prestazione (ILZ/ISP)"},null,null,{"$f":"IF($H$2=\"G\",'Spiegazioni Skills FTEM'!#REF!,'Spiegazioni Skills FTEM'!#REF!)","v":{"$error":"#REF!"}}]
[{"$f":"'Spiegazioni Skills FTEM'!A34:A34","v":0},null,null,{"$f":"IF($H$2=\"G\",'Spiegazioni Skills FTEM'!F34,'Spiegazioni Skills FTEM'!B34)","v":"Coaching individuale"},null,null,{"$f":"IF($H$2=\"G\",'Spiegazioni Skills FTEM'!G34,'Spiegazioni Skills FTEM'!C34)","v":"Possiede una buona capacità di concentrazione, può mantenere il suo ILZ/ISP durante la partita e l'allenamento, può utilizzare tecniche di base per rafforzare il mentale, resistenti contro pensieri e influenze negative, è consapevole del proprio linguaggio del corpo che è in grado di padroneggiare"},null,null,{"$f":"IF($H$2=\"G\",'Spiegazioni Skills FTEM'!#REF!,'Spiegazioni Skills FTEM'!#REF!)","v":{"$error":"#REF!"}}]
[{"$f":"'Spiegazioni Skills FTEM'!A35:A35","v":0},null,null,{"$f":"IF($H$2=\"G\",'Spiegazioni Skills FTEM'!F35,'Spiegazioni Skills FTEM'!B35)","v":"Gestione delle energie"},null,null,{"$f":"IF($H$2=\"G\",'Spiegazioni Skills FTEM'!G35,'Spiegazioni Skills FTEM'!C35)","v":"Può gestire le proprie energie, cura la rigenerazione, può gestire i momenti in cui si deve andare al massimo oppure risparmiarsi, interruttore on/off"},null,null,{"$f":"IF($H$2=\"G\",'Spiegazioni Skills FTEM'!#REF!,'Spiegazioni Skills FTEM'!#REF!)","v":{"$error":"#REF!"}}]
[{"$f":"'Spiegazioni Skills FTEM'!A36:A36","v":0},null,null,{"$f":"IF($H$2=\"G\",'Spiegazioni Skills FTEM'!F36,'Spiegazioni Skills FTEM'!B36)","v":"Controllo delle emozioni"},null,null,{"$f":"IF($H$2=\"G\",'Spiegazioni Skills FTEM'!G36,'Spiegazioni Skills FTEM'!C36)","v":"Può regolare le proprie emozioni e impulsi, mantiene il controllo quando si trova sotto pressione, sa anche agire adeguatamente in situazioni emotive o frustranti"},null,null,{"$f":"IF($H$2=\"G\",'Spiegazioni Skills FTEM'!#REF!,'Spiegazioni Skills FTEM'!#REF!)","v":{"$error":"#REF!"}}]
[{"$f":"'Spiegazioni Skills FTEM'!A37","v":"FISICO"},null,null,{"$f":"IF($H$2=\"G\",'Spiegazioni Skills FTEM'!F37,'Spiegazioni Skills FTEM'!B37)","v":"Produzione di prestazione"},null,null,{"$f":"IF($H$2=\"G\",'Spiegazioni Skills FTEM'!G37,'Spiegazioni Skills FTEM'!C37)","v":"Possiede nelle gambe e nella parte alta del corpo la necessaria potenza/forza/velocità (fattori neuromuscolari)"},null,null,{"$f":"IF($H$2=\"G\",'Spiegazioni Skills FTEM'!#REF!,'Spiegazioni Skills FTEM'!#REF!)","v":{"$error":"#REF!"}},null,null,null,{"$f":"IFERROR(AVERAGE(O46:O50),\"-\")","v":"-"},null,{"$f":"IFERROR(AVERAGE(Q46:Q50),\"-\")","v":"-"},null,{"$f":"IFERROR(AVERAGE(S46:S50),\"-\")","v":"-"},null,{"$f":"IFERROR(AVERAGE(U46:U50),\"-\")","v":"-"},null,{"$f":"IFERROR(AVERAGE(W46:W50),\"-\")","v":"-"},null,{"$f":"IFERROR(AVERAGE(Y46:Y50),\"-\")","v":"-"}]
[null,null,null,{"$f":"IF($H$2=\"G\",'Spiegazioni Skills FTEM'!F38,'Spiegazioni Skills FTEM'!B38)","v":"Resistenza specifica alla fatica"},null,null,{"$f":"IF($H$2=\"G\",'Spiegazioni Skills FTEM'!G38,'Spiegazioni Skills FTEM'!C38)","v":"È capace di mantenere a lungo nell'ambito di un impiego la potenza/forza/velocità ed è capace di recuperare completamente attraverso i vari impieghi sul ghiaccio (fattori metabolici e cardiovascolari)"},null,null,{"$f":"IF($H$2=\"G\",'Spiegazioni Skills FTEM'!#REF!,'Spiegazioni Skills FTEM'!#REF!)","v":{"$error":"#REF!"}}]
[{"$f":"'Spiegazioni Skills FTEM'!A39:A39","v":0},null,null,{"$f":"IF($H$2=\"G\",'Spiegazioni Skills FTEM'!F39,'Spiegazioni Skills FTEM'!B39)","v":"Salute / prevenzione"},null,null,{"$f":"IF($H$2=\"G\",'Spiegazioni Skills FTEM'!G39,'Spiegazioni Skills FTEM'!C39)","v":"Possiede la necessaria stabilità (stabilità delle gambe) e mobilità delle articolazioni centrali"},null,null,{"$f":"IF($H$2=\"G\",'Spiegazioni Skills FTEM'!#REF!,'Spiegazioni Skills FTEM'!#REF!)","v":{"$error":"#REF!"}}]
[{"$f":"'Spiegazioni Skills FTEM'!A40:A40","v":0},null,null,{"$f":"IF($H$2=\"G\",'Spiegazioni Skills FTEM'!F40,'Spiegazioni Skills FTEM'!B40)","v":"Competenze della mobilità"},null,null,{"$f":"IF($H$2=\"G\",'Spiegazioni Skills FTEM'!G40,'Spiegazioni Skills FTEM'!C40)","v":"Padroneggia le basilari capacità di movimento che garantiscono in modo determinante le abilità specifiche \"skills\", come pure l'efficacia dei movimenti"},null,null,{"$f":"IF($H$2=\"G\",'Spiegazioni Skills FTEM'!#REF!,'Spiegazioni Skills FTEM'!#REF!)","v":{"$error":"#REF!"}}]
[{"$f":"'Spiegazioni Skills FTEM'!A41:A41","v":0},null,null,{"$f":"IF($H$2=\"G\",'Spiegazioni Skills FTEM'!F41,'Spiegazioni Skills FTEM'!B41)","v":"Robustezza"},null,null,{"$f":"IF($H$2=\"G\",'Spiegazioni Skills FTEM'!G41,'Spiegazioni Skills FTEM'!C41)","v":"Possiede la necessaria forza di base (tensione del corpo) per vincere i duelli e resistere alle cariche"},null,null,{"$f":"IF($H$2=\"G\",'Spiegazioni Skills FTEM'!#REF!,'Spiegazioni Skills FTEM'!#REF!)","v":{"$error":"#REF!"}}]

{"sheet":"28","index":31,"n_rows":50,"n_cols":36,"rows_kept":50,"cut":false,"hidden":false,"merged":[[45,34,49,34],[45,12,49,12],[45,13,49,13],[45,15,49,15],[45,17,49,17],[45,19,49,19],[45,21,49,21],[45,23,49,23],[45,25,49,25],[45,26,49,32],[45,0,49,2],[45,3,45,5],[45,6,45,11],[46,3,46,5],[46,6,46,11],[48,3,48,5],[48,6,48,11],[49,3,49,5],[49,6,49,11],[47,3,47,5],[47,6,47,11],[40,23,44,23],[42,3,42,5],[42,6,42,11],[44,3,44,5],[44,6,44,11],[40,0,44,2],[40,3,40,5],[40,6,40,11],[40,12,44,12],[40,13,44,13],[40,15,44,15],[43,3,43,5],[43,6,43,11],[34,21,34,22],[35,17,39,17],[35,19,39,19],[35,21,39,21],[37,3,37,5],[37,6,37,11],[38,3,38,5],[38,6,38,11],[40,17,44,17],[40,19,44,19],[40,21,44,21],[36,3,36,5],[36,6,36,11],[41,3,41,5],[41,6,41,11],[29,0,33,2],[29,3,29,5],[29,6,29,11],[29,12,33,12],[29,13,33,13],[29,15,33,15],[34,23,34,24],[34,26,34,32],[35,0,39,2],[35,3,35,5],[35,6,35,11],[35,12,39,12],[35,13,39,13],[35,15,39,15],[39,3,39,5],[39,6,39,11],[35,23,39,23],[34,0,34,2],[34,3,34,5],[34,6,34,11],[34,13,34,14],[34,15,34,16],[34,17,34,18],[34,19,34,20],[23,19,28,19],[23,21,28,21],[23,23,28,23],[26,3,26,5],[26,6,26,11],[28,3,28,5],[28,6,28,11],[33,3,33,5],[33,6,33,11],[29,23,33,23],[29,17,33,17],[29,19,33,19],[29,21,33,21],[31,3,31,5],[31,6,31,11],[32,3,32,5],[32,6,32,11],[27,3,27,5],[27,6,27,11],[25,3,25,5],[25,6,25,11],[30,3,30,5],[30,6,30,11],[12,21,16,21],[18,15,22,15],[18,17,22,17],[18,19,22,19],[18,21,22,21],[18,23,22,23],[22,3,22,5],[22,6,22,11],[23,0,28,2],[23,3,23,5],[23,6,23,11],[23,12,28,12],[23,13,28,13],[23,15,28,15],[23,17,28,17],[18,0,22,2],[18,3,18,5],[18,6,18,11],[18,12,22,12],[18,13,22,13],[19,3,19,5],[19,6,19,11],[21,3,21,5],[21,6,21,11],[11,21,11,22],[11,23,11,24],[11,26,11,32],[11,6,11,11],[12,23,16,23],[16,3,16,5],[16,6,16,11],[17,0,17,2],[17,3,17,5],[17,6,17,11],[17,13,17,14],[17,15,17,16],[17,17,17,18],[17,19,17,20],[17,21,17,22],[17,23,17,24],[12,0,16,2],[12,3,12,5],[12,6,12,11],[12,12,16,12],[12,13,16,13],[12,15,16,15],[12,17,16,17],[12,19,16,19],[4,0,4,1],[4,2,4,5],[4,10,4,24],[10,0,10,24],[10,25,10,35],[40,25,44,25],[40,26,44,32],[40,34,44,34],[12,25,16,25],[12,26,16,32],[12,34,16,34],[18,25,22,25],[18,26,22,32],[18,34,22,34],[23,25,28,25],[23,26,28,32],[23,34,28,34],[17,26,17,32],[11,0,11,2],[11,3,11,5],[11,13,11,14],[11,15,11,16],[11,17,11,18],[11,19,11,20],[0,0,0,24],[0,25,0,26],[0,27,0,32],[0,33,0,35],[29,25,33,25],[29,26,33,32],[29,34,33,34],[35,25,39,25],[35,26,39,32],[35,34,39,34],[1,0,1,1],[1,2,1,5],[1,10,1,24],[2,0,2,1],[2,2,2,5],[2,11,2,24],[6,0,6,1],[6,2,6,35],[7,0,7,1],[7,2,7,35],[8,0,8,1],[8,2,8,35],[3,0,3,1],[3,10,3,24],[13,3,13,5],[13,6,13,11],[14,3,14,5],[14,6,14,11],[15,3,15,5],[15,6,15,11],[20,3,20,5],[20,6,20,11],[24,3,24,5],[24,6,24,11]]}
["Personalien",null,null,null,null,null,null,null,null,null,null,null,null,null,null,null,null,null,null,null,null,null,null,null,null,"Predisposizione",null,"Valutazioni",null,null,null,null,null,"Rating"]
["COGNOME",null,{"$f":"IF(ISBLANK(VLOOKUP(28,Tabelle3[],3,0)),\"-\",VLOOKUP(28,Tabelle3[],3,0))","v":"-"},null,null,null,"POSIZIONE",null,null,"INDIRIZZO",{"$f":"IF(ISBLANK(VLOOKUP(28,Tabelle3[],5,0)),\"-\",VLOOKUP(28,Tabelle3[],5,0))","v":"-"},null,null,null,null,null,null,null,null,null,null,null,null,null,null,"Età\" (biologica/età relativa)",null,"Data 1",null,null,"cm",null,"Kg",null,"ECCELLENTE",5]
["NOME",null,{"$f":"IF(ISBLANK(VLOOKUP(28,Tabelle3[],2,0)),\"-\",VLOOKUP(28,Tabelle3[],2,0))","v":"-"},null,null,null,"BASTONE",null,null,"LUOGO",{"$f":"IF(ISBLANK(VLOOKUP(28,Tabelle3[],7,0)),\"-\",VLOOKUP(28,Tabelle3[],7,0))","v":"-"},{"$f":"IF(ISBLANK(VLOOKUP(28,Tabelle3[],6,0)),\"-\",VLOOKUP(28,Tabelle3[],6,0))","v":"-"},null,null,null,null,null,null,null,null,null,null,null,null,null,"Predisposizione",null,"Data 2",null,null,"cm",null,"Kg",null,"BUONO",4]
["DATA DI NASC.",null,{"$f":"IF(ISBLANK(VLOOKUP(28,Tabelle3[],14,0)),\"-\",VLOOKUP(28,Tabelle3[],14,0))","v":"-"},{"$f":"IF(ISBLANK(VLOOKUP(28,Tabelle3[],15,0)),\"-\",VLOOKUP(28,Tabelle3[],15,0))","v":"-"},{"$f":"IF(ISBLANK(VLOOKUP(28,Tabelle3[],16,0)),\"-\",VLOOKUP(28,Tabelle3[],16,0))","v":"-"},null,"ALTEZZA",null,"cm (Finale)","TELEFONO",{"$f":"IF(ISBLANK(VLOOKUP(28,Tabelle3[],8,0)),\"-\",VLOOKUP(28,Tabelle3[],8,0))","v":"-"},null,null,null,null,null,null,null,null,null,null,null,null,null,null,"Ambiente di vita",null,"Data 3",null,null,"cm",null,"Kg",null,"MEDIO/DISCRETO",3]
["SESSO",null,{"$f":"IF(ISBLANK(VLOOKUP(28,Tabelle3[],13,0)),\"-\",VLOOKUP(28,Tabelle3[],13,0))","v":"-"},null,null,null,"PESO",null,"Kg (Finale)","E-Mail",{"$f":"IF(ISBLANK(VLOOKUP(28,Tabelle3[],9,0)),\"-\",VLOOKUP(28,Tabelle3[],9,0))","v":"-"},null,null,null,null,null,null,null,null,null,null,null,null,null,null,null,null,"Data 4",null,null,"cm",null,"Kg",null,"CON LACUNE",2]
[null,null,null,null,null,null,null,null,null,null,null,null,null,null,null,null,null,null,null,null,null,null,null,null,null,null,null,"Data 5",null,null,"cm",null,"Kg",null,"INSUFFICIENTE",1]
["Visione",null,"xxx"]
["Prossimo passo",null,"xxx"]
["Proflio giocatore",null,"xxx"]
[]
["VALUTAZIONI (COACH / GIOCATORE)",null,null,null,null,null,null,null,null,null,null,null,null,null,null,null,null,null,null,null,null,null,null,null,null,"Obiettivi SMART"]
[{"$f":"'Spiegazioni Skills FTEM'!A3","v":"TEAM"},null,null,{"$f":"'Spiegazioni Skills FTEM'!B3","v":"CAPACITÀ"},null,null,{"$f":"'Spiegazioni Skills FTEM'!C3","v":"CRITERIO D'OSSERVAZIONE"},null,null,{"$f":"'Spiegazioni Skills FTEM'!H3","v":0},null,null,"Final","Data1",null,"Data2",null,"Data3",null,"Data4",null,"Data5",null,"Player",null,"OBIETTIVO","PROVVEDIMENTI:\n(SPECIFICI, MISURABILI, REALISTICI)",null,null,null,null,null,null,"TERMINE","COTROLLO DELL'OBIETTIVO","Data"]
[{"$f":"'Spiegazioni Skills FTEM'!A4","v":"SQUADRA"},null,null,{"$f":"IF($H$2=\"G\",'Spiegazioni Skills FTEM'!F4,'Spiegazioni Skills FTEM'!B4)","v":"Comunicazione"},null,null,{"$f":"IF($H$2=\"G\",'Spiegazioni Skills FTEM'!G4,'Spiegazioni Skills FTEM'!C4)","v":"Cura relazioni aperte e rispettose, fiducia quale base comportamentale, affronta i conflitti senza ledere la stabilità del gruppo, comunica con i compagni, gli allenatori e\nfunzionari con i medesimi valori"},null,null,{"$f":"IF($H$2=\"G\",'Spiegazioni Skills FTEM'!#REF!,'Spiegazioni Skills FTEM'!#REF!)","v":{"$error":"#REF!"}},null,null,null,{"$f":"IFERROR(AVERAGE(O13:O17),\"-\")","v":"-"},null,{"$f":"IFERROR(AVERAGE(Q13:Q17),\"-\")","v":"-"},null,{"$f":"IFERROR(AVERAGE(S13:S17),\"-\")","v":"-"},null,{"$f":"IFERROR(AVERAGE(U13:U17),\"-\")","v":"-"},null,{"$f":"IFERROR(AVERAGE(W13:W17),\"-\")","v":"-"},null,{"$f":"IFERROR(AVERAGE(Y13:Y17),\"-\")","v":"-"}]
[{"$f":"'Spiegazioni Skills FTEM'!A5","v":0},null,null,{"$f":"IF($H$2=\"G\",'Spiegazioni Skills FTEM'!F5,'Spiegazioni Skills FTEM'!B5)","v":"Capacità nella squadra"},null,null,{"$f":"IF($H$2=\"G\",'Spiegazioni Skills FTEM'!G5,'Spiegazioni Skills FTEM'!C5)","v":"Integrazione nel gruppo, definisce e realizza obiettivi comuni, NOI prima dell'IO, contribuisce a creare un buon spirito di squadra e clima di lavoro"},null,null,{"$f":"IF($H$2=\"G\",'Spiegazioni Skills FTEM'!#REF!,'Spiegazioni Skills FTEM'!#REF!)","v":{"$error":"#REF!"}}]
[{"$f":"'Spiegazioni Skills FTEM'!A6","v":0},null,null,{"$f":"IF($H$2=\"G\",'Spiegazioni Skills FTEM'!F6,'Spiegazioni Skills FTEM'!B6)","v":"Leadership"},null,null,{"$f":"IF($H$2=\"G\",'Spiegazioni Skills FTEM'!G6,'Spiegazioni Skills FTEM'!C6)","v":"Assume responsabilità nell'ambito del gruppo, cerca di migliorare la squadra e i compagni, influenza positivamente la dinamica di gruppo"},null,null,{"$f":"IF($H$2=\"G\",'Spiegazioni Skills FTEM'!#REF!,'Spiegazioni Skills FTEM'!#REF!)","v":{"$error":"#REF!"}}]
[{"$f":"'Spiegazioni Skills FTEM'!A7","v":0},null,null,{"$f":"IF($H$2=\"G\",'Spiegazioni Skills FTEM'!F7,'Spiegazioni Skills FTEM'!B7)","v":"Ripartizione dei ruoli"},null,null,{"$f":"IF($H$2=\"G\",'Spiegazioni Skills FTEM'!G7,'Spiegazioni Skills FTEM'!C7)","v":"Riconosce e adempie il suo ruolo, è cosciente della sua posizione nel sistema e nella squadra, mette a disposizione della squadra le sue competenze"},null,null,{"$f":"IF($H$2=\"G\",'Spiegazioni Skills FTEM'!#REF!,'Spiegazioni Skills FTEM'!#REF!)","v":{"$error":"#REF!"}}]
[{"$f":"'Spiegazioni Skills FTEM'!A8","v":0},null,null,{"$f":"IF($H$2=\"G\",'Spiegazioni Skills FTEM'!F8,'Spiegazioni Skills FTEM'!B8)","v":"Rispetto"},null,null,{"$f":"IF($H$2=\"G\",'Spiegazioni Skills FTEM'!G8,'Spiegazioni Skills FTEM'!C8)","v":"Relazioni rispettose con i compagni, allenatori, avversari, arbitri e staff; rispetta le regole i pricipi del fairplay (compreso la lotta al doping)"},null,null,{"$f":"IF($H$2=\"G\",'Spiegazioni Skills FTEM'!#REF!,'Spiegazioni Skills FTEM'!#REF!)","v":{"$error":"#REF!"}}]
[{"$f":"'Spiegazioni Skills FTEM'!A9","v":"ON ICE"},null,null,{"$f":"'Spiegazioni Skills FTEM'!B9","v":"CAPACITÀ"},null,null,{"$f":"'Spiegazioni Skills FTEM'!C9","v":"CRITERIO D'OSSERVAZIONE"},null,null,{"$f":"'Spiegazioni Skills FTEM'!H9","v":0},null,null,null,"Data1",null,"Data2",null,"Data3",null,"Data4",null,"Data5",null,"Player",null,"OBIETTIVO","PROVVEDIMENTI:\n(SPECIFICI, MISURABILI, REALISTICI)",null,null,null,null,null,null,"TERMINE","COTROLLO DELL'OBIETTIVO","Date"]
[{"$f":"'Spiegazioni Skills FTEM'!A10","v":"PATTINAGGIO"},null,null,{"$f":"IF($H$2=\"G\",'Spiegazioni Skills FTEM'!F10,'Spiegazioni Skills FTEM'!B10)","v":"Velocità dei piedi"},null,null,{"$f":"IF($H$2=\"G\",'Spiegazioni Skills FTEM'!G10,'Spiegazioni Skills FTEM'!C10)","v":"Accelerazione, partenza, esplosività dei primi 3 passi, frequenza"},null,null,{"$f":"IF($H$2=\"G\",'Spiegazioni Skills FTEM'!#REF!,'Spiegazioni Skills FTEM'!#REF!)","v":{"$error":"#REF!"}},null,null,null,{"$f":"IFERROR(AVERAGE(O19:O23),\"-\")","v":"-"},null,{"$f":"IFERROR(AVERAGE(Q19:Q23),\"-\")","v":"-"},null,{"$f":"IFERROR(AVERAGE(S19:S23),\"-\")","v":"-"},null,{"$f":"IFERROR(AVERAGE(U19:U23),\"-\")","v":"-"},null,{"$f":"IFERROR(AVERAGE(W19:W23),\"-\")","v":"-"},null,{"$f":"IFERROR(AVERAGE(Y19:Y23),\"-\")","v":"-"}]
[{"$f":"'Spiegazioni Skills FTEM'!A11:A11","v":0},null,null,{"$f":"IF($H$2=\"G\",'Spiegazioni Skills FTEM'!F11,'Spiegazioni Skills FTEM'!B11)","v":"Velocità/rapidità"},null,null,{"$f":"IF($H$2=\"G\",'Spiegazioni Skills FTEM'!G11,'Spiegazioni Skills FTEM'!C11)","v":"Velocità, facoltà di scivolare, avanti / indietro, economia dello sforzo"},null,null,{"$f":"IF($H$2=\"G\",'Spiegazioni Skills FTEM'!#REF!,'Spiegazioni Skills FTEM'!#REF!)","v":{"$error":"#REF!"}}]
[null,null,null,{"$f":"IF($H$2=\"G\",'Spiegazioni Skills FTEM'!F12,'Spiegazioni Skills FTEM'!B12)","v":"Agilità"},null,null,{"$f":"IF($H$2=\"G\",'Spiegazioni Skills FTEM'!G12,'Spiegazioni Skills FTEM'!C12)","v":"Cambiamento di direzione, girarsi, stop e ripartenza, \"Nummelin\""},null,null,{"$f":"IF($H$2=\"G\",'Spiegazioni Skills FTEM'!#REF!,'Spiegazioni Skills FTEM'!#REF!)","v":{"$error":"#REF!"}}]
[{"$f":"'Spiegazioni Skills FTEM'!A12:A12","v":0},null,null,{"$f":"IF($H$2=\"G\",'Spiegazioni Skills FTEM'!F13,'Spiegazioni Skills FTEM'!B13)","v":"Equilibrio"},null,null,{"$f":"IF($H$2=\"G\",'Spiegazioni Skills FTEM'!G13,'Spiegazioni Skills FTEM'!C13)","v":"Equilibrio, stabilità, posizione bassa, su una gamba, su entrambe"},null,null,{"$f":"IF($H$2=\"G\",'Spiegazioni Skills FTEM'!#REF!,'Spiegazioni Skills FTEM'!#REF!)","v":{"$error":"#REF!"}},null,null,null,{"$f":"IFERROR(AVERAGE(O22:O23),\"-\")","v":"-"},null,{"$f":"IFERROR(AVERAGE(Q22:Q23),\"-\")","v":"-"},null,{"$f":"IFERROR(AVERAGE(S22:S23),\"-\")","v":"-"},null,{"$f":"IFERROR(AVERAGE(U22:U23),\"-\")","v":"-"},null,{"$f":"IFERROR(AVERAGE(W22:W23),\"-\")","v":"-"},null,"-"]
[{"$f":"'Spiegazioni Skills FTEM'!A14:A14","v":0},null,null,{"$f":"IF($H$2=\"G\",'Spiegazioni Skills FTEM'!F14,'Spiegazioni Skills FTEM'!B14)","v":"Pattinaggio indietro"},null,null,{"$f":"IF($H$2=\"G\",'Spiegazioni Skills FTEM'!G14,'Spiegazioni Skills FTEM'!C14)","v":"Accelerazione, velocità, equilibrio"},null,null,{"$f":"IF($H$2=\"G\",'Spiegazioni Skills FTEM'!#REF!,'Spiegazioni Skills FTEM'!#REF!)","v":{"$error":"#REF!"}}]
[{"$f":"'Spiegazioni Skills FTEM'!A15","v":"ABILITÀ"},null,null,{"$f":"IF($H$2=\"G\",'Spiegazioni Skills FTEM'!F15,'Spiegazioni Skills FTEM'!B15)","v":"Tirare"},null,null,{"$f":"IF($H$2=\"G\",'Spiegazioni Skills FTEM'!G15,'Spiegazioni Skills FTEM'!C15)","v":"Efficienza (poco spazio, poco tempo), ricchezza di varianti, grado di sorpresa (Quick Release), precisione, potenza (conclusioni tattiche)"},null,null,{"$f":"IF($H$2=\"G\",'Spiegazioni Skills FTEM'!#REF!,'Spiegazioni Skills FTEM'!#REF!)","v":{"$error":"#REF!"}},null,null,null,{"$f":"IFERROR(AVERAGE(O24:O29),\"-\")","v":"-"},null,{"$f":"IFERROR(AVERAGE(Q24:Q29),\"-\")","v":"-"},null,{"$f":"IFERROR(AVERAGE(S24:S29),\"-\")","v":"-"},null,{"$f":"IFERROR(AVERAGE(U24:U29),\"-\")","v":"-"},null,{"$f":"IFERROR(AVERAGE(W24:W29),\"-\")","v":"-"},null,{"$f":"IFERROR(AVERAGE(Y24:Y29),\"-\")","v":"-"}]
[null,null,null,{"$f":"IF($H$2=\"G\",'Spiegazioni Skills FTEM'!F16,'Spiegazioni Skills FTEM'!B16)","v":"Passare"},null,null,{"$f":"IF($H$2=\"G\",'Spiegazioni Skills FTEM'!G16,'Spiegazioni Skills FTEM'!C16)","v":"Passaggio (distanza, flipp, rovescio), ricezione del passaggio (precisione, timing, diritto, rovescio, sul pattino), velocità del disco"},null,null,{"$f":"IF($H$2=\"G\",'Spiegazioni Skills FTEM'!#REF!,'Spiegazioni Skills FTEM'!#REF!)","v":{"$error":"#REF!"}}]
[null,null,null,{"$f":"IF($H$2=\"G\",'Spiegazioni Skills FTEM'!F17,'Spiegazioni Skills FTEM'!B17)","v":"Lavoro col bastone - condotta del disco"},null,null,{"$f":"IF($H$2=\"G\",'Spiegazioni Skills FTEM'!G17,'Spiegazioni Skills FTEM'!C17)","v":"Bastone sul disco, intercettare le linee di passaggio, deviare, controllo del bastone avversario"},null,null,{"$f":"IF($H$2=\"G\",'Spiegazioni Skills FTEM'!#REF!,'Spiegazioni Skills FTEM'!#REF!)","v":{"$error":"#REF!"}}]
[{"$f":"'Spiegazioni Skills FTEM'!A16:A16","v":0},null,null,{"$f":"IF($H$2=\"G\",'Spiegazioni Skills FTEM'!F18,'Spiegazioni Skills FTEM'!B18)","v":"Possedere/proteggere il disco"},null,null,{"$f":"IF($H$2=\"G\",'Spiegazioni Skills FTEM'!G18,'Spiegazioni Skills FTEM'!C18)","v":"Controllo del disco, dribbling, protezione del disco, finte (varianti col pattino, con o senza la balaustra), ingaggi (face-off)"},null,null,{"$f":"IF($H$2=\"G\",'Spiegazioni Skills FTEM'!#REF!,'Spiegazioni Skills FTEM'!#REF!)","v":{"$error":"#REF!"}}]
[{"$f":"'Spiegazioni Skills FTEM'!A17:A17","v":0},null,null,{"$f":"IF($H$2=\"G\",'Spiegazioni Skills FTEM'!F19,'Spiegazioni Skills FTEM'!B19)","v":"Gioco del corpo"},null,null,{"$f":"IF($H$2=\"G\",'Spiegazioni Skills FTEM'!G19,'Spiegazioni Skills FTEM'!C19)","v":"Facoltà di imporsi fisicamente, duelli (ghiaccio aperto, balaustra), subire dei checks/testa alta, livello di lotta, duro ma corretto, blocco dei tiri con il corpo"},null,null,{"$f":"IF($H$2=\"G\",'Spiegazioni Skills FTEM'!#REF!,'Spiegazioni Skills FTEM'!#REF!)","v":{"$error":"#REF!"}}]
[{"$f":"'Spiegazioni Skills FTEM'!A20:A20","v":0},null,null,{"$f":"IF($H$2=\"G\",'Spiegazioni Skills FTEM'!F20,'Spiegazioni Skills FTEM'!B20)","v":"-"},null,null,{"$f":"IF($H$2=\"G\",'Spiegazioni Skills FTEM'!G20,'Spiegazioni Skills FTEM'!C20)","v":"-"},null,null,{"$f":"IF($H$2=\"G\",'Spiegazioni Skills FTEM'!#REF!,'Spiegazioni Skills FTEM'!#REF!)","v":{"$error":"#REF!"}}]
[{"$f":"'Spiegazioni Skills FTEM'!A21","v":"SENSO DELL'HOCKEY"},null,null,{"$f":"IF($H$2=\"G\",'Spiegazioni Skills FTEM'!F21,'Spiegazioni Skills FTEM'!B21)","v":"Intelligenza nel gioco"},null,null,{"$f":"IF($H$2=\"G\",'Spiegazioni Skills FTEM'!G21,'Spiegazioni Skills FTEM'!C21)","v":"Vedere spazi e giocatori liberi, creare situazioni di superiorità numerica, agire cercando soluzioni in tutte le situazioni, velocità di visualizzazione"},null,null,{"$f":"IF($H$2=\"G\",'Spiegazioni Skills FTEM'!#REF!,'Spiegazioni Skills FTEM'!#REF!)","v":{"$error":"#REF!"}},null,null,null,{"$f":"IFERROR(AVERAGE(O30:O34),\"-\")","v":"-"},null,{"$f":"IFERROR(AVERAGE(Q30:Q34),\"-\")","v":"-"},null,{"$f":"IFERROR(AVERAGE(S30:S34),\"-\")","v":"-"},null,{"$f":"IFERROR(AVERAGE(U30:U34),\"-\")","v":"-"},null,{"$f":"IFERROR(AVERAGE(W30:W34),\"-\")","v":"-"},null,{"$f":"IFERROR(AVERAGE(Y30:Y34),\"-\")","v":"-"}]
[{"$f":"'Spiegazioni Skills FTEM'!A22:A22","v":0},null,null,{"$f":"IF($H$2=\"G\",'Spiegazioni Skills FTEM'!F22,'Spiegazioni Skills FTEM'!B22)","v":"Sensibilità offensiva"},null,null,{"$f":"IF($H$2=\"G\",'Spiegazioni Skills FTEM'!G22,'Spiegazioni Skills FTEM'!C22)","v":"Smarcarsi, anticipare le situazioni di gioco, aprire spazi liberi per i compagni, piazzarsi per le conclusioni, velocità nel chiudere gli spazi (pressione), comunicazione"},null,null,{"$f":"IF($H$2=\"G\",'Spiegazioni Skills FTEM'!#REF!,'Spiegazioni Skills FTEM'!#REF!)","v":{"$error":"#REF!"}}]
[null,null,null,{"$f":"IF($H$2=\"G\",'Spiegazioni Skills FTEM'!F23,'Spiegazioni Skills FTEM'!B23)","v":"Sensibilità difensiva"},null,null,{"$f":"IF($H$2=\"G\",'Spiegazioni Skills FTEM'!G23,'Spiegazioni Skills FTEM'!C23)","v":"Mantenere la posizione difensiva, protezione dello slot, assicurare i compagni / supporto, individuare le linee di passaggio, bloccare i tiri, ridurre velocemente gli spazi, comunicazione"},null,null,{"$f":"IF($H$2=\"G\",'Spiegazioni Skills FTEM'!#REF!,'Spiegazioni Skills FTEM'!#REF!)","v":{"$error":"#REF!"}}]
[{"$f":"'Spiegazioni Skills FTEM'!A24:A24","v":0},null,null,{"$f":"IF($H$2=\"G\",'Spiegazioni Skills FTEM'!F24,'Spiegazioni Skills FTEM'!B24)","v":"Gestione del disco"},null,null,{"$f":"IF($H$2=\"G\",'Spiegazioni Skills FTEM'!G24,'Spiegazioni Skills FTEM'!C24)","v":"Prendere decisioni adeguate nelle situazioni di gioco, supporto, creare superiorità numerica"},null,null,{"$f":"IF($H$2=\"G\",'Spiegazioni Skills FTEM'!#REF!,'Spiegazioni Skills FTEM'!#REF!)","v":{"$error":"#REF!"}}]
[{"$f":"'Spiegazioni Skills FTEM'!A25:A25","v":0},null,null,{"$f":"IF($H$2=\"G\",'Spiegazioni Skills FTEM'!F25,'Spiegazioni Skills FTEM'!B25)","v":"Creatività"},null,null,{"$f":"IF($H$2=\"G\",'Spiegazioni Skills FTEM'!G25,'Spiegazioni Skills FTEM'!C25)","v":"Creare situazioni a sorpresa, fiuto del gol"},null,null,{"$f":"IF($H$2=\"G\",'Spiegazioni Skills FTEM'!#REF!,'Spiegazioni Skills FTEM'!#REF!)","v":{"$error":"#REF!"}}]
[{"$f":"'Spiegazioni Skills FTEM'!A26","v":"PERSONALITY"},null,null,{"$f":"'Spiegazioni Skills FTEM'!B26","v":"CAPACITÀ"},null,null,{"$f":"'Spiegazioni Skills FTEM'!C26","v":"CRITERIO D'OSSERVAZIONE"},null,null,{"$f":"'Spiegazioni Skills FTEM'!H26","v":0},null,null,null,"Data1",null,"Data2",null,"Data3",null,"Data4",null,"Data5",null,"Player",null,"OBIETTIVO","PROVVEDIMENTI:\n(SPECIFICI, MISURABILI, REALISTICI)",null,null,null,null,null,null,"TERMINE","COTROLLO DELL'OBIETTIVO","Date"]
[{"$f":"'Spiegazioni Skills FTEM'!A27","v":"PERSONALITÀ"},null,null,{"$f":"IF($H$2=\"G\",'Spiegazioni Skills FTEM'!F27,'Spiegazioni Skills FTEM'!B27)","v":"Fiducia in se stesso"},null,null,{"$f":"IF($H$2=\"G\",'Spiegazioni Skills FTEM'!G27,'Spiegazioni Skills FTEM'!C27)","v":"Possiede la necessaria fiducia in se stesso, «I can do it»-attitudine, sa valutare le proprie capacità (conosce i propri punti forti e deboli), può realizzare le proprie qualità con\ncostanza, è coraggioso e sa prendere dei rischi calcolati"},null,null,{"$f":"IF($H$2=\"G\",'Spiegazioni Skills FTEM'!#REF!,'Spiegazioni Skills FTEM'!#REF!)","v":{"$error":"#REF!"}},null,null,null,{"$f":"IFERROR(AVERAGE(O36:O40),\"-\")","v":"-"},null,{"$f":"IFERROR(AVERAGE(Q36:Q40),\"-\")","v":"-"},null,{"$f":"IFERROR(AVERAGE(S36:S40),\"-\")","v":"-"},null,{"$f":"IFERROR(AVERAGE(U36:U40),\"-\")","v":"-"},null,{"$f":"IFERROR(AVERAGE(W36:W40),\"-\")","v":"-"},null,{"$f":"IFERROR(AVERAGE(Y36:Y40),\"-\")","v":"-"}]
[{"$f":"'Spiegazioni Skills FTEM'!A28:A28","v":0},null,null,{"$f":"IF($H$2=\"G\",'Spiegazioni Skills FTEM'!F28,'Spiegazioni Skills FTEM'!B28)","v":"Capacità d'apprendimento"},null,null,{"$f":"IF($H$2=\"G\",'Spiegazioni Skills FTEM'!G28,'Spiegazioni Skills FTEM'!C28)","v":"Ha una buona capacità d'apprendimento (sa recepire e realizzare), possiede una personalità, cerca di imparare dai propri errori derivandone delle misure"},null,null,{"$f":"IF($H$2=\"G\",'Spiegazioni Skills FTEM'!#REF!,'Spiegazioni Skills FTEM'!#REF!)","v":{"$error":"#REF!"}}]
[null,null,null,{"$f":"IF($H$2=\"G\",'Spiegazioni Skills FTEM'!F29,'Spiegazioni Skills FTEM'!B29)","v":"Senso di responsabilità"},null,null,{"$f":"IF($H$2=\"G\",'Spiegazioni Skills FTEM'!G29,'Spiegazioni Skills FTEM'!C29)","v":"Assume responsabiltà per le proprie prestazioni e sviluppo, agisce autonomamente, cura i dettagli, mostra un grande impegno in tutti i settori"},null,null,{"$f":"IF($H$2=\"G\",'Spiegazioni Skills FTEM'!#REF!,'Spiegazioni Skills FTEM'!#REF!)","v":{"$error":"#REF!"}}]
[{"$f":"'Spiegazioni Skills FTEM'!A30:A30","v":0},null,null,{"$f":"IF($H$2=\"G\",'Spiegazioni Skills FTEM'!F30,'Spiegazioni Skills FTEM'!B30)","v":"Motivazione"},null,null,{"$f":"IF($H$2=\"G\",'Spiegazioni Skills FTEM'!G30,'Spiegazioni Skills FTEM'!C30)","v":"È sempre motivato, vuole sempre svilupparsi e imparare, vuol essere il primo e avere successo, non rinuncia mai e non si lascia influenzare dagli insuccessi"},null,null,{"$f":"IF($H$2=\"G\",'Spiegazioni Skills FTEM'!#REF!,'Spiegazioni Skills FTEM'!#REF!)","v":{"$error":"#REF!"}}]
[{"$f":"'Spiegazioni Skills FTEM'!A31:A31","v":0},null,null,{"$f":"IF($H$2=\"G\",'Spiegazioni Skills FTEM'!F31,'Spiegazioni Skills FTEM'!B31)","v":"Prestazione Stile di vita"},null,null,{"$f":"IF($H$2=\"G\",'Spiegazioni Skills FTEM'!G31,'Spiegazioni Skills FTEM'!C31)","v":"Gestisce bene la quotidianità il suo ambiente seguendo i principi della prestazione, caparbio, perseverante e finalizzato sugli obiettivi, focus sulla propria prestazione, coraggioso e grintoso, sa imporsi nei confronti delle resistenze, le sfide lo motivano"},null,null,{"$f":"IF($H$2=\"G\",'Spiegazioni Skills FTEM'!#REF!,'Spiegazioni Skills FTEM'!#REF!)","v":{"$error":"#REF!"}}]
[{"$f":"'Spiegazioni Skills FTEM'!A32","v":"FORZA MENTALE"},null,null,{"$f":"IF($H$2=\"G\",'Spiegazioni Skills FTEM'!F32,'Spiegazioni Skills FTEM'!B32)","v":"Impegno"},null,null,{"$f":"IF($H$2=\"G\",'Spiegazioni Skills FTEM'!G32,'Spiegazioni Skills FTEM'!C32)","v":"Mostra molta intensità negli allenamenti e nelle partite, dà sempre il massimo e vuole sempre spronare i propri limiti, mostra passione, si sforza ad alzare la qualità negli allenamenti"},null,null,{"$f":"IF($H$2=\"G\",'Spiegazioni Skills FTEM'!#REF!,'Spiegazioni Skills FTEM'!#REF!)","v":{"$error":"#REF!"}},null,null,null,{"$f":"IFERROR(AVERAGE(O41:O45),\"-\")","v":"-"},null,{"$f":"IFERROR(AVERAGE(Q41:Q45),\"-\")","v":"-"},null,{"$f":"IFERROR(AVERAGE(S41:S45),\"-\")","v":"-"},null,{"$f":"IFERROR(AVERAGE(U41:U45),\"-\")","v":"-"},null,{"$f":"IFERROR(AVERAGE(W41:W45),\"-\")","v":"-"},null,{"$f":"IFERROR(AVERAGE(Y41:Y45),\"-\")","v":"-"}]
[null,null,null,{"$f":"IF($H$2=\"G\",'Spiegazioni Skills FTEM'!F33,'Spiegazioni Skills FTEM'!B33)","v":"Preparazione"},null,null,{"$f":"IF($H$2=\"G\",'Spiegazioni Skills FTEM'!G33,'Spiegazioni Skills FTEM'!C33)","v":"Preparazione consapevole e finalizzata, mentalmente e fisicamente, possiede un efficiente approccio per l'ottenimento dell'ideale stato di prestazione (ILZ/ISP)"},null,null,{"$f":"IF($H$2=\"G\",'Spiegazioni Skills FTEM'!#REF!,'Spiegazioni Skills FTEM'!#REF!)","v":{"$error":"#REF!"}}]
[{"$f":"'Spiegazioni Skills FTEM'!A34:A34","v":0},null,null,{"$f":"IF($H$2=\"G\",'Spiegazioni Skills FTEM'!F34,'Spiegazioni Skills FTEM'!B34)","v":"Coaching individuale"},null,null,{"$f":"IF($H$2=\"G\",'Spiegazioni Skills FTEM'!G34,'Spiegazioni Skills FTEM'!C34)","v":"Possiede una buona capacità di concentrazione, può mantenere il suo ILZ/ISP durante la partita e l'allenamento, può utilizzare tecniche di base per rafforzare il mentale, resistenti contro pensieri e influenze negative, è consapevole del proprio linguaggio del corpo che è in grado di padroneggiare"},null,null,{"$f":"IF($H$2=\"G\",'Spiegazioni Skills FTEM'!#REF!,'Spiegazioni Skills FTEM'!#REF!)","v":{"$error":"#REF!"}}]
[{"$f":"'Spiegazioni Skills FTEM'!A35:A35","v":0},null,null,{"$f":"IF($H$2=\"G\",'Spiegazioni Skills FTEM'!F35,'Spiegazioni Skills FTEM'!B35)","v":"Gestione delle energie"},null,null,{"$f":"IF($H$2=\"G\",'Spiegazioni Skills FTEM'!G35,'Spiegazioni Skills FTEM'!C35)","v":"Può gestire le proprie energie, cura la rigenerazione, può gestire i momenti in cui si deve andare al massimo oppure risparmiarsi, interruttore on/off"},null,null,{"$f":"IF($H$2=\"G\",'Spiegazioni Skills FTEM'!#REF!,'Spiegazioni Skills FTEM'!#REF!)","v":{"$error":"#REF!"}}]
[{"$f":"'Spiegazioni Skills FTEM'!A36:A36","v":0},null,null,{"$f":"IF($H$2=\"G\",'Spiegazioni Skills FTEM'!F36,'Spiegazioni Skills FTEM'!B36)","v":"Controllo delle emozioni"},null,null,{"$f":"IF($H$2=\"G\",'Spiegazioni Skills FTEM'!G36,'Spiegazioni Skills FTEM'!C36)","v":"Può regolare le proprie emozioni e impulsi, mantiene il controllo quando si trova sotto pressione, sa anche agire adeguatamente in situazioni emotive o frustranti"},null,null,{"$f":"IF($H$2=\"G\",'Spiegazioni Skills FTEM'!#REF!,'Spiegazioni Skills FTEM'!#REF!)","v":{"$error":"#REF!"}}]
[{"$f":"'Spiegazioni Skills FTEM'!A37","v":"FISICO"},null,null,{"$f":"IF($H$2=\"G\",'Spiegazioni Skills FTEM'!F37,'Spiegazioni Skills FTEM'!B37)","v":"Produzione di prestazione"},null,null,{"$f":"IF($H$2=\"G\",'Spiegazioni Skills FTEM'!G37,'Spiegazioni Skills FTEM'!C37)","v":"Possiede nelle gambe e nella parte alta del corpo la necessaria potenza/forza/velocità (fattori neuromuscolari)"},null,null,{"$f":"IF($H$2=\"G\",'Spiegazioni Skills FTEM'!#REF!,'Spiegazioni Skills FTEM'!#REF!)","v":{"$error":"#REF!"}},null,null,null,{"$f":"IFERROR(AVERAGE(O46:O50),\"-\")","v":"-"},null,{"$f":"IFERROR(AVERAGE(Q46:Q50),\"-\")","v":"-"},null,{"$f":"IFERROR(AVERAGE(S46:S50),\"-\")","v":"-"},null,{"$f":"IFERROR(AVERAGE(U46:U50),\"-\")","v":"-"},null,{"$f":"IFERROR(AVERAGE(W46:W50),\"-\")","v":"-"},null,{"$f":"IFERROR(AVERAGE(Y46:Y50),\"-\")","v":"-"}]
[null,null,null,{"$f":"IF($H$2=\"G\",'Spiegazioni Skills FTEM'!F38,'Spiegazioni Skills FTEM'!B38)","v":"Resistenza specifica alla fatica"},null,null,{"$f":"IF($H$2=\"G\",'Spiegazioni Skills FTEM'!G38,'Spiegazioni Skills FTEM'!C38)","v":"È capace di mantenere a lungo nell'ambito di un impiego la potenza/forza/velocità ed è capace di recuperare completamente attraverso i vari impieghi sul ghiaccio (fattori metabolici e cardiovascolari)"},null,null,{"$f":"IF($H$2=\"G\",'Spiegazioni Skills FTEM'!#REF!,'Spiegazioni Skills FTEM'!#REF!)","v":{"$error":"#REF!"}}]
[{"$f":"'Spiegazioni Skills FTEM'!A39:A39","v":0},null,null,{"$f":"IF($H$2=\"G\",'Spiegazioni Skills FTEM'!F39,'Spiegazioni Skills FTEM'!B39)","v":"Salute / prevenzione"},null,null,{"$f":"IF($H$2=\"G\",'Spiegazioni Skills FTEM'!G39,'Spiegazioni Skills FTEM'!C39)","v":"Possiede la necessaria stabilità (stabilità delle gambe) e mobilità delle articolazioni centrali"},null,null,{"$f":"IF($H$2=\"G\",'Spiegazioni Skills FTEM'!#REF!,'Spiegazioni Skills FTEM'!#REF!)","v":{"$error":"#REF!"}}]
[{"$f":"'Spiegazioni Skills FTEM'!A40:A40","v":0},null,null,{"$f":"IF($H$2=\"G\",'Spiegazioni Skills FTEM'!F40,'Spiegazioni Skills FTEM'!B40)","v":"Competenze della mobilità"},null,null,{"$f":"IF($H$2=\"G\",'Spiegazioni Skills FTEM'!G40,'Spiegazioni Skills FTEM'!C40)","v":"Padroneggia le basilari capacità di movimento che garantiscono in modo determinante le abilità specifiche \"skills\", come pure l'efficacia dei movimenti"},null,null,{"$f":"IF($H$2=\"G\",'Spiegazioni Skills FTEM'!#REF!,'Spiegazioni Skills FTEM'!#REF!)","v":{"$error":"#REF!"}}]
[{"$f":"'Spiegazioni Skills FTEM'!A41:A41","v":0},null,null,{"$f":"IF($H$2=\"G\",'Spiegazioni Skills FTEM'!F41,'Spiegazioni Skills FTEM'!B41)","v":"Robustezza"},null,null,{"$f":"IF($H$2=\"G\",'Spiegazioni Skills FTEM'!G41,'Spiegazioni Skills FTEM'!C41)","v":"Possiede la necessaria forza di base (tensione del corpo) per vincere i duelli e resistere alle cariche"},null,null,{"$f":"IF($H$2=\"G\",'Spiegazioni Skills FTEM'!#REF!,'Spiegazioni Skills FTEM'!#REF!)","v":{"$error":"#REF!"}}]

{"sheet":"29","index":32,"n_rows":50,"n_cols":36,"rows_kept":50,"cut":false,"hidden":false,"merged":[[45,34,49,34],[45,12,49,12],[45,13,49,13],[45,15,49,15],[45,17,49,17],[45,19,49,19],[45,21,49,21],[45,23,49,23],[45,25,49,25],[45,26,49,32],[45,0,49,2],[45,3,45,5],[45,6,45,11],[46,3,46,5],[46,6,46,11],[48,3,48,5],[48,6,48,11],[49,3,49,5],[49,6,49,11],[47,3,47,5],[47,6,47,11],[40,23,44,23],[42,3,42,5],[42,6,42,11],[44,3,44,5],[44,6,44,11],[40,0,44,2],[40,3,40,5],[40,6,40,11],[40,12,44,12],[40,13,44,13],[40,15,44,15],[43,3,43,5],[43,6,43,11],[34,21,34,22],[35,17,39,17],[35,19,39,19],[35,21,39,21],[37,3,37,5],[37,6,37,11],[38,3,38,5],[38,6,38,11],[40,17,44,17],[40,19,44,19],[40,21,44,21],[36,3,36,5],[36,6,36,11],[41,3,41,5],[41,6,41,11],[29,0,33,2],[29,3,29,5],[29,6,29,11],[29,12,33,12],[29,13,33,13],[29,15,33,15],[34,23,34,24],[34,26,34,32],[35,0,39,2],[35,3,35,5],[35,6,35,11],[35,12,39,12],[35,13,39,13],[35,15,39,15],[39,3,39,5],[39,6,39,11],[35,23,39,23],[34,0,34,2],[34,3,34,5],[34,6,34,11],[34,13,34,14],[34,15,34,16],[34,17,34,18],[34,19,34,20],[23,19,28,19],[23,21,28,21],[23,23,28,23],[26,3,26,5],[26,6,26,11],[28,3,28,5],[28,6,28,11],[33,3,33,5],[33,6,33,11],[29,23,33,23],[29,17,33,17],[29,19,33,19],[29,21,33,21],[31,3,31,5],[31,6,31,11],[32,3,32,5],[32,6,32,11],[27,3,27,5],[27,6,27,11],[25,3,25,5],[25,6,25,11],[30,3,30,5],[30,6,30,11],[12,21,16,21],[18,15,22,15],[18,17,22,17],[18,19,22,19],[18,21,22,21],[18,23,22,23],[22,3,22,5],[22,6,22,11],[23,0,28,2],[23,3,23,5],[23,6,23,11],[23,12,28,12],[23,13,28,13],[23,15,28,15],[23,17,28,17],[18,0,22,2],[18,3,18,5],[18,6,18,11],[18,12,22,12],[18,13,22,13],[19,3,19,5],[19,6,19,11],[21,3,21,5],[21,6,21,11],[11,21,11,22],[11,23,11,24],[11,26,11,32],[11,6,11,11],[12,23,16,23],[16,3,16,5],[16,6,16,11],[17,0,17,2],[17,3,17,5],[17,6,17,11],[17,13,17,14],[17,15,17,16],[17,17,17,18],[17,19,17,20],[17,21,17,22],[17,23,17,24],[12,0,16,2],[12,3,12,5],[12,6,12,11],[12,12,16,12],[12,13,16,13],[12,15,16,15],[12,17,16,17],[12,19,16,19],[4,0,4,1],[4,2,4,5],[4,10,4,24],[10,0,10,24],[10,25,10,35],[40,25,44,25],[40,26,44,32],[40,34,44,34],[12,25,16,25],[12,26,16,32],[12,34,16,34],[18,25,22,25],[18,26,22,32],[18,34,22,34],[23,25,28,25],[23,26,28,32],[23,34,28,34],[17,26,17,32],[11,0,11,2],[11,3,11,5],[11,13,11,14],[11,15,11,16],[11,17,11,18],[11,19,11,20],[0,0,0,24],[0,25,0,26],[0,27,0,32],[0,33,0,35],[29,25,33,25],[29,26,33,32],[29,34,33,34],[35,25,39,25],[35,26,39,32],[35,34,39,34],[1,0,1,1],[1,2,1,5],[1,10,1,24],[2,0,2,1],[2,2,2,5],[2,11,2,24],[6,0,6,1],[6,2,6,35],[7,0,7,1],[7,2,7,35],[8,0,8,1],[8,2,8,35],[3,0,3,1],[3,10,3,24],[13,3,13,5],[13,6,13,11],[14,3,14,5],[14,6,14,11],[15,3,15,5],[15,6,15,11],[20,3,20,5],[20,6,20,11],[24,3,24,5],[24,6,24,11]]}
["Personalien",null,null,null,null,null,null,null,null,null,null,null,null,null,null,null,null,null,null,null,null,null,null,null,null,"Predisposizione",null,"Valutazioni",null,null,null,null,null,"Rating"]
["COGNOME",null,{"$f":"IF(ISBLANK(VLOOKUP(29,Tabelle3[],3,0)),\"-\",VLOOKUP(29,Tabelle3[],3,0))","v":"-"},null,null,null,"POSIZIONE",null,null,"INDIRIZZO",{"$f":"IF(ISBLANK(VLOOKUP(29,Tabelle3[],5,0)),\"-\",VLOOKUP(29,Tabelle3[],5,0))","v":"-"},null,null,null,null,null,null,null,null,null,null,null,null,null,null,"Età\" (biologica/età relativa)",null,"Data 1",null,null,"cm",null,"Kg",null,"ECCELLENTE",5]
["NOME",null,{"$f":"IF(ISBLANK(VLOOKUP(29,Tabelle3[],2,0)),\"-\",VLOOKUP(29,Tabelle3[],2,0))","v":"-"},null,null,null,"BASTONE",null,null,"LUOGO",{"$f":"IF(ISBLANK(VLOOKUP(29,Tabelle3[],7,0)),\"-\",VLOOKUP(29,Tabelle3[],7,0))","v":"-"},{"$f":"IF(ISBLANK(VLOOKUP(29,Tabelle3[],6,0)),\"-\",VLOOKUP(29,Tabelle3[],6,0))","v":"-"},null,null,null,null,null,null,null,null,null,null,null,null,null,"Predisposizione",null,"Data 2",null,null,"cm",null,"Kg",null,"BUONO",4]
["DATA DI NASC.",null,{"$f":"IF(ISBLANK(VLOOKUP(29,Tabelle3[],14,0)),\"-\",VLOOKUP(29,Tabelle3[],14,0))","v":"-"},{"$f":"IF(ISBLANK(VLOOKUP(29,Tabelle3[],15,0)),\"-\",VLOOKUP(29,Tabelle3[],15,0))","v":"-"},{"$f":"IF(ISBLANK(VLOOKUP(29,Tabelle3[],16,0)),\"-\",VLOOKUP(29,Tabelle3[],16,0))","v":"-"},null,"ALTEZZA",null,"cm (Finale)","TELEFONO",{"$f":"IF(ISBLANK(VLOOKUP(29,Tabelle3[],8,0)),\"-\",VLOOKUP(29,Tabelle3[],8,0))","v":"-"},null,null,null,null,null,null,null,null,null,null,null,null,null,null,"Ambiente di vita",null,"Data 3",null,null,"cm",null,"Kg",null,"MEDIO/DISCRETO",3]
["SESSO",null,{"$f":"IF(ISBLANK(VLOOKUP(29,Tabelle3[],13,0)),\"-\",VLOOKUP(29,Tabelle3[],13,0))","v":"-"},null,null,null,"PESO",null,"Kg (Finale)","E-Mail",{"$f":"IF(ISBLANK(VLOOKUP(29,Tabelle3[],9,0)),\"-\",VLOOKUP(29,Tabelle3[],9,0))","v":"-"},null,null,null,null,null,null,null,null,null,null,null,null,null,null,null,null,"Data 4",null,null,"cm",null,"Kg",null,"CON LACUNE",2]
[null,null,null,null,null,null,null,null,null,null,null,null,null,null,null,null,null,null,null,null,null,null,null,null,null,null,null,"Data 5",null,null,"cm",null,"Kg",null,"INSUFFICIENTE",1]
["Visione",null,"xxx"]
["Prossimo passo",null,"xxx"]
["Proflio giocatore",null,"xxx"]
[]
["VALUTAZIONI (COACH / GIOCATORE)",null,null,null,null,null,null,null,null,null,null,null,null,null,null,null,null,null,null,null,null,null,null,null,null,"Obiettivi SMART"]
[{"$f":"'Spiegazioni Skills FTEM'!A3","v":"TEAM"},null,null,{"$f":"'Spiegazioni Skills FTEM'!B3","v":"CAPACITÀ"},null,null,{"$f":"'Spiegazioni Skills FTEM'!C3","v":"CRITERIO D'OSSERVAZIONE"},null,null,{"$f":"'Spiegazioni Skills FTEM'!H3","v":0},null,null,"Final","Data1",null,"Data2",null,"Data3",null,"Data4",null,"Data5",null,"Player",null,"OBIETTIVO","PROVVEDIMENTI:\n(SPECIFICI, MISURABILI, REALISTICI)",null,null,null,null,null,null,"TERMINE","COTROLLO DELL'OBIETTIVO","Data"]
[{"$f":"'Spiegazioni Skills FTEM'!A4","v":"SQUADRA"},null,null,{"$f":"IF($H$2=\"G\",'Spiegazioni Skills FTEM'!F4,'Spiegazioni Skills FTEM'!B4)","v":"Comunicazione"},null,null,{"$f":"IF($H$2=\"G\",'Spiegazioni Skills FTEM'!G4,'Spiegazioni Skills FTEM'!C4)","v":"Cura relazioni aperte e rispettose, fiducia quale base comportamentale, affronta i conflitti senza ledere la stabilità del gruppo, comunica con i compagni, gli allenatori e\nfunzionari con i medesimi valori"},null,null,{"$f":"IF($H$2=\"G\",'Spiegazioni Skills FTEM'!#REF!,'Spiegazioni Skills FTEM'!#REF!)","v":{"$error":"#REF!"}},null,null,null,{"$f":"IFERROR(AVERAGE(O13:O17),\"-\")","v":"-"},null,{"$f":"IFERROR(AVERAGE(Q13:Q17),\"-\")","v":"-"},null,{"$f":"IFERROR(AVERAGE(S13:S17),\"-\")","v":"-"},null,{"$f":"IFERROR(AVERAGE(U13:U17),\"-\")","v":"-"},null,{"$f":"IFERROR(AVERAGE(W13:W17),\"-\")","v":"-"},null,{"$f":"IFERROR(AVERAGE(Y13:Y17),\"-\")","v":"-"}]
[{"$f":"'Spiegazioni Skills FTEM'!A5","v":0},null,null,{"$f":"IF($H$2=\"G\",'Spiegazioni Skills FTEM'!F5,'Spiegazioni Skills FTEM'!B5)","v":"Capacità nella squadra"},null,null,{"$f":"IF($H$2=\"G\",'Spiegazioni Skills FTEM'!G5,'Spiegazioni Skills FTEM'!C5)","v":"Integrazione nel gruppo, definisce e realizza obiettivi comuni, NOI prima dell'IO, contribuisce a creare un buon spirito di squadra e clima di lavoro"},null,null,{"$f":"IF($H$2=\"G\",'Spiegazioni Skills FTEM'!#REF!,'Spiegazioni Skills FTEM'!#REF!)","v":{"$error":"#REF!"}}]
[{"$f":"'Spiegazioni Skills FTEM'!A6","v":0},null,null,{"$f":"IF($H$2=\"G\",'Spiegazioni Skills FTEM'!F6,'Spiegazioni Skills FTEM'!B6)","v":"Leadership"},null,null,{"$f":"IF($H$2=\"G\",'Spiegazioni Skills FTEM'!G6,'Spiegazioni Skills FTEM'!C6)","v":"Assume responsabilità nell'ambito del gruppo, cerca di migliorare la squadra e i compagni, influenza positivamente la dinamica di gruppo"},null,null,{"$f":"IF($H$2=\"G\",'Spiegazioni Skills FTEM'!#REF!,'Spiegazioni Skills FTEM'!#REF!)","v":{"$error":"#REF!"}}]
[{"$f":"'Spiegazioni Skills FTEM'!A7","v":0},null,null,{"$f":"IF($H$2=\"G\",'Spiegazioni Skills FTEM'!F7,'Spiegazioni Skills FTEM'!B7)","v":"Ripartizione dei ruoli"},null,null,{"$f":"IF($H$2=\"G\",'Spiegazioni Skills FTEM'!G7,'Spiegazioni Skills FTEM'!C7)","v":"Riconosce e adempie il suo ruolo, è cosciente della sua posizione nel sistema e nella squadra, mette a disposizione della squadra le sue competenze"},null,null,{"$f":"IF($H$2=\"G\",'Spiegazioni Skills FTEM'!#REF!,'Spiegazioni Skills FTEM'!#REF!)","v":{"$error":"#REF!"}}]
[{"$f":"'Spiegazioni Skills FTEM'!A8","v":0},null,null,{"$f":"IF($H$2=\"G\",'Spiegazioni Skills FTEM'!F8,'Spiegazioni Skills FTEM'!B8)","v":"Rispetto"},null,null,{"$f":"IF($H$2=\"G\",'Spiegazioni Skills FTEM'!G8,'Spiegazioni Skills FTEM'!C8)","v":"Relazioni rispettose con i compagni, allenatori, avversari, arbitri e staff; rispetta le regole i pricipi del fairplay (compreso la lotta al doping)"},null,null,{"$f":"IF($H$2=\"G\",'Spiegazioni Skills FTEM'!#REF!,'Spiegazioni Skills FTEM'!#REF!)","v":{"$error":"#REF!"}}]
[{"$f":"'Spiegazioni Skills FTEM'!A9","v":"ON ICE"},null,null,{"$f":"'Spiegazioni Skills FTEM'!B9","v":"CAPACITÀ"},null,null,{"$f":"'Spiegazioni Skills FTEM'!C9","v":"CRITERIO D'OSSERVAZIONE"},null,null,{"$f":"'Spiegazioni Skills FTEM'!H9","v":0},null,null,null,"Data1",null,"Data2",null,"Data3",null,"Data4",null,"Data5",null,"Player",null,"OBIETTIVO","PROVVEDIMENTI:\n(SPECIFICI, MISURABILI, REALISTICI)",null,null,null,null,null,null,"TERMINE","COTROLLO DELL'OBIETTIVO","Date"]
[{"$f":"'Spiegazioni Skills FTEM'!A10","v":"PATTINAGGIO"},null,null,{"$f":"IF($H$2=\"G\",'Spiegazioni Skills FTEM'!F10,'Spiegazioni Skills FTEM'!B10)","v":"Velocità dei piedi"},null,null,{"$f":"IF($H$2=\"G\",'Spiegazioni Skills FTEM'!G10,'Spiegazioni Skills FTEM'!C10)","v":"Accelerazione, partenza, esplosività dei primi 3 passi, frequenza"},null,null,{"$f":"IF($H$2=\"G\",'Spiegazioni Skills FTEM'!#REF!,'Spiegazioni Skills FTEM'!#REF!)","v":{"$error":"#REF!"}},null,null,null,{"$f":"IFERROR(AVERAGE(O19:O23),\"-\")","v":"-"},null,{"$f":"IFERROR(AVERAGE(Q19:Q23),\"-\")","v":"-"},null,{"$f":"IFERROR(AVERAGE(S19:S23),\"-\")","v":"-"},null,{"$f":"IFERROR(AVERAGE(U19:U23),\"-\")","v":"-"},null,{"$f":"IFERROR(AVERAGE(W19:W23),\"-\")","v":"-"},null,{"$f":"IFERROR(AVERAGE(Y19:Y23),\"-\")","v":"-"}]
[{"$f":"'Spiegazioni Skills FTEM'!A11:A11","v":0},null,null,{"$f":"IF($H$2=\"G\",'Spiegazioni Skills FTEM'!F11,'Spiegazioni Skills FTEM'!B11)","v":"Velocità/rapidità"},null,null,{"$f":"IF($H$2=\"G\",'Spiegazioni Skills FTEM'!G11,'Spiegazioni Skills FTEM'!C11)","v":"Velocità, facoltà di scivolare, avanti / indietro, economia dello sforzo"},null,null,{"$f":"IF($H$2=\"G\",'Spiegazioni Skills FTEM'!#REF!,'Spiegazioni Skills FTEM'!#REF!)","v":{"$error":"#REF!"}}]
[null,null,null,{"$f":"IF($H$2=\"G\",'Spiegazioni Skills FTEM'!F12,'Spiegazioni Skills FTEM'!B12)","v":"Agilità"},null,null,{"$f":"IF($H$2=\"G\",'Spiegazioni Skills FTEM'!G12,'Spiegazioni Skills FTEM'!C12)","v":"Cambiamento di direzione, girarsi, stop e ripartenza, \"Nummelin\""},null,null,{"$f":"IF($H$2=\"G\",'Spiegazioni Skills FTEM'!#REF!,'Spiegazioni Skills FTEM'!#REF!)","v":{"$error":"#REF!"}}]
[{"$f":"'Spiegazioni Skills FTEM'!A12:A12","v":0},null,null,{"$f":"IF($H$2=\"G\",'Spiegazioni Skills FTEM'!F13,'Spiegazioni Skills FTEM'!B13)","v":"Equilibrio"},null,null,{"$f":"IF($H$2=\"G\",'Spiegazioni Skills FTEM'!G13,'Spiegazioni Skills FTEM'!C13)","v":"Equilibrio, stabilità, posizione bassa, su una gamba, su entrambe"},null,null,{"$f":"IF($H$2=\"G\",'Spiegazioni Skills FTEM'!#REF!,'Spiegazioni Skills FTEM'!#REF!)","v":{"$error":"#REF!"}},null,null,null,{"$f":"IFERROR(AVERAGE(O22:O23),\"-\")","v":"-"},null,{"$f":"IFERROR(AVERAGE(Q22:Q23),\"-\")","v":"-"},null,{"$f":"IFERROR(AVERAGE(S22:S23),\"-\")","v":"-"},null,{"$f":"IFERROR(AVERAGE(U22:U23),\"-\")","v":"-"},null,{"$f":"IFERROR(AVERAGE(W22:W23),\"-\")","v":"-"},null,"-"]
[{"$f":"'Spiegazioni Skills FTEM'!A14:A14","v":0},null,null,{"$f":"IF($H$2=\"G\",'Spiegazioni Skills FTEM'!F14,'Spiegazioni Skills FTEM'!B14)","v":"Pattinaggio indietro"},null,null,{"$f":"IF($H$2=\"G\",'Spiegazioni Skills FTEM'!G14,'Spiegazioni Skills FTEM'!C14)","v":"Accelerazione, velocità, equilibrio"},null,null,{"$f":"IF($H$2=\"G\",'Spiegazioni Skills FTEM'!#REF!,'Spiegazioni Skills FTEM'!#REF!)","v":{"$error":"#REF!"}}]
[{"$f":"'Spiegazioni Skills FTEM'!A15","v":"ABILITÀ"},null,null,{"$f":"IF($H$2=\"G\",'Spiegazioni Skills FTEM'!F15,'Spiegazioni Skills FTEM'!B15)","v":"Tirare"},null,null,{"$f":"IF($H$2=\"G\",'Spiegazioni Skills FTEM'!G15,'Spiegazioni Skills FTEM'!C15)","v":"Efficienza (poco spazio, poco tempo), ricchezza di varianti, grado di sorpresa (Quick Release), precisione, potenza (conclusioni tattiche)"},null,null,{"$f":"IF($H$2=\"G\",'Spiegazioni Skills FTEM'!#REF!,'Spiegazioni Skills FTEM'!#REF!)","v":{"$error":"#REF!"}},null,null,null,{"$f":"IFERROR(AVERAGE(O24:O29),\"-\")","v":"-"},null,{"$f":"IFERROR(AVERAGE(Q24:Q29),\"-\")","v":"-"},null,{"$f":"IFERROR(AVERAGE(S24:S29),\"-\")","v":"-"},null,{"$f":"IFERROR(AVERAGE(U24:U29),\"-\")","v":"-"},null,{"$f":"IFERROR(AVERAGE(W24:W29),\"-\")","v":"-"},null,{"$f":"IFERROR(AVERAGE(Y24:Y29),\"-\")","v":"-"}]
[null,null,null,{"$f":"IF($H$2=\"G\",'Spiegazioni Skills FTEM'!F16,'Spiegazioni Skills FTEM'!B16)","v":"Passare"},null,null,{"$f":"IF($H$2=\"G\",'Spiegazioni Skills FTEM'!G16,'Spiegazioni Skills FTEM'!C16)","v":"Passaggio (distanza, flipp, rovescio), ricezione del passaggio (precisione, timing, diritto, rovescio, sul pattino), velocità del disco"},null,null,{"$f":"IF($H$2=\"G\",'Spiegazioni Skills FTEM'!#REF!,'Spiegazioni Skills FTEM'!#REF!)","v":{"$error":"#REF!"}}]
[null,null,null,{"$f":"IF($H$2=\"G\",'Spiegazioni Skills FTEM'!F17,'Spiegazioni Skills FTEM'!B17)","v":"Lavoro col bastone - condotta del disco"},null,null,{"$f":"IF($H$2=\"G\",'Spiegazioni Skills FTEM'!G17,'Spiegazioni Skills FTEM'!C17)","v":"Bastone sul disco, intercettare le linee di passaggio, deviare, controllo del bastone avversario"},null,null,{"$f":"IF($H$2=\"G\",'Spiegazioni Skills FTEM'!#REF!,'Spiegazioni Skills FTEM'!#REF!)","v":{"$error":"#REF!"}}]
[{"$f":"'Spiegazioni Skills FTEM'!A16:A16","v":0},null,null,{"$f":"IF($H$2=\"G\",'Spiegazioni Skills FTEM'!F18,'Spiegazioni Skills FTEM'!B18)","v":"Possedere/proteggere il disco"},null,null,{"$f":"IF($H$2=\"G\",'Spiegazioni Skills FTEM'!G18,'Spiegazioni Skills FTEM'!C18)","v":"Controllo del disco, dribbling, protezione del disco, finte (varianti col pattino, con o senza la balaustra), ingaggi (face-off)"},null,null,{"$f":"IF($H$2=\"G\",'Spiegazioni Skills FTEM'!#REF!,'Spiegazioni Skills FTEM'!#REF!)","v":{"$error":"#REF!"}}]
[{"$f":"'Spiegazioni Skills FTEM'!A17:A17","v":0},null,null,{"$f":"IF($H$2=\"G\",'Spiegazioni Skills FTEM'!F19,'Spiegazioni Skills FTEM'!B19)","v":"Gioco del corpo"},null,null,{"$f":"IF($H$2=\"G\",'Spiegazioni Skills FTEM'!G19,'Spiegazioni Skills FTEM'!C19)","v":"Facoltà di imporsi fisicamente, duelli (ghiaccio aperto, balaustra), subire dei checks/testa alta, livello di lotta, duro ma corretto, blocco dei tiri con il corpo"},null,null,{"$f":"IF($H$2=\"G\",'Spiegazioni Skills FTEM'!#REF!,'Spiegazioni Skills FTEM'!#REF!)","v":{"$error":"#REF!"}}]
[{"$f":"'Spiegazioni Skills FTEM'!A20:A20","v":0},null,null,{"$f":"IF($H$2=\"G\",'Spiegazioni Skills FTEM'!F20,'Spiegazioni Skills FTEM'!B20)","v":"-"},null,null,{"$f":"IF($H$2=\"G\",'Spiegazioni Skills FTEM'!G20,'Spiegazioni Skills FTEM'!C20)","v":"-"},null,null,{"$f":"IF($H$2=\"G\",'Spiegazioni Skills FTEM'!#REF!,'Spiegazioni Skills FTEM'!#REF!)","v":{"$error":"#REF!"}}]
[{"$f":"'Spiegazioni Skills FTEM'!A21","v":"SENSO DELL'HOCKEY"},null,null,{"$f":"IF($H$2=\"G\",'Spiegazioni Skills FTEM'!F21,'Spiegazioni Skills FTEM'!B21)","v":"Intelligenza nel gioco"},null,null,{"$f":"IF($H$2=\"G\",'Spiegazioni Skills FTEM'!G21,'Spiegazioni Skills FTEM'!C21)","v":"Vedere spazi e giocatori liberi, creare situazioni di superiorità numerica, agire cercando soluzioni in tutte le situazioni, velocità di visualizzazione"},null,null,{"$f":"IF($H$2=\"G\",'Spiegazioni Skills FTEM'!#REF!,'Spiegazioni Skills FTEM'!#REF!)","v":{"$error":"#REF!"}},null,null,null,{"$f":"IFERROR(AVERAGE(O30:O34),\"-\")","v":"-"},null,{"$f":"IFERROR(AVERAGE(Q30:Q34),\"-\")","v":"-"},null,{"$f":"IFERROR(AVERAGE(S30:S34),\"-\")","v":"-"},null,{"$f":"IFERROR(AVERAGE(U30:U34),\"-\")","v":"-"},null,{"$f":"IFERROR(AVERAGE(W30:W34),\"-\")","v":"-"},null,{"$f":"IFERROR(AVERAGE(Y30:Y34),\"-\")","v":"-"}]
[{"$f":"'Spiegazioni Skills FTEM'!A22:A22","v":0},null,null,{"$f":"IF($H$2=\"G\",'Spiegazioni Skills FTEM'!F22,'Spiegazioni Skills FTEM'!B22)","v":"Sensibilità offensiva"},null,null,{"$f":"IF($H$2=\"G\",'Spiegazioni Skills FTEM'!G22,'Spiegazioni Skills FTEM'!C22)","v":"Smarcarsi, anticipare le situazioni di gioco, aprire spazi liberi per i compagni, piazzarsi per le conclusioni, velocità nel chiudere gli spazi (pressione), comunicazione"},null,null,{"$f":"IF($H$2=\"G\",'Spiegazioni Skills FTEM'!#REF!,'Spiegazioni Skills FTEM'!#REF!)","v":{"$error":"#REF!"}}]
[null,null,null,{"$f":"IF($H$2=\"G\",'Spiegazioni Skills FTEM'!F23,'Spiegazioni Skills FTEM'!B23)","v":"Sensibilità difensiva"},null,null,{"$f":"IF($H$2=\"G\",'Spiegazioni Skills FTEM'!G23,'Spiegazioni Skills FTEM'!C23)","v":"Mantenere la posizione difensiva, protezione dello slot, assicurare i compagni / supporto, individuare le linee di passaggio, bloccare i tiri, ridurre velocemente gli spazi, comunicazione"},null,null,{"$f":"IF($H$2=\"G\",'Spiegazioni Skills FTEM'!#REF!,'Spiegazioni Skills FTEM'!#REF!)","v":{"$error":"#REF!"}}]
[{"$f":"'Spiegazioni Skills FTEM'!A24:A24","v":0},null,null,{"$f":"IF($H$2=\"G\",'Spiegazioni Skills FTEM'!F24,'Spiegazioni Skills FTEM'!B24)","v":"Gestione del disco"},null,null,{"$f":"IF($H$2=\"G\",'Spiegazioni Skills FTEM'!G24,'Spiegazioni Skills FTEM'!C24)","v":"Prendere decisioni adeguate nelle situazioni di gioco, supporto, creare superiorità numerica"},null,null,{"$f":"IF($H$2=\"G\",'Spiegazioni Skills FTEM'!#REF!,'Spiegazioni Skills FTEM'!#REF!)","v":{"$error":"#REF!"}}]
[{"$f":"'Spiegazioni Skills FTEM'!A25:A25","v":0},null,null,{"$f":"IF($H$2=\"G\",'Spiegazioni Skills FTEM'!F25,'Spiegazioni Skills FTEM'!B25)","v":"Creatività"},null,null,{"$f":"IF($H$2=\"G\",'Spiegazioni Skills FTEM'!G25,'Spiegazioni Skills FTEM'!C25)","v":"Creare situazioni a sorpresa, fiuto del gol"},null,null,{"$f":"IF($H$2=\"G\",'Spiegazioni Skills FTEM'!#REF!,'Spiegazioni Skills FTEM'!#REF!)","v":{"$error":"#REF!"}}]
[{"$f":"'Spiegazioni Skills FTEM'!A26","v":"PERSONALITY"},null,null,{"$f":"'Spiegazioni Skills FTEM'!B26","v":"CAPACITÀ"},null,null,{"$f":"'Spiegazioni Skills FTEM'!C26","v":"CRITERIO D'OSSERVAZIONE"},null,null,{"$f":"'Spiegazioni Skills FTEM'!H26","v":0},null,null,null,"Data1",null,"Data2",null,"Data3",null,"Data4",null,"Data5",null,"Player",null,"OBIETTIVO","PROVVEDIMENTI:\n(SPECIFICI, MISURABILI, REALISTICI)",null,null,null,null,null,null,"TERMINE","COTROLLO DELL'OBIETTIVO","Date"]
[{"$f":"'Spiegazioni Skills FTEM'!A27","v":"PERSONALITÀ"},null,null,{"$f":"IF($H$2=\"G\",'Spiegazioni Skills FTEM'!F27,'Spiegazioni Skills FTEM'!B27)","v":"Fiducia in se stesso"},null,null,{"$f":"IF($H$2=\"G\",'Spiegazioni Skills FTEM'!G27,'Spiegazioni Skills FTEM'!C27)","v":"Possiede la necessaria fiducia in se stesso, «I can do it»-attitudine, sa valutare le proprie capacità (conosce i propri punti forti e deboli), può realizzare le proprie qualità con\ncostanza, è coraggioso e sa prendere dei rischi calcolati"},null,null,{"$f":"IF($H$2=\"G\",'Spiegazioni Skills FTEM'!#REF!,'Spiegazioni Skills FTEM'!#REF!)","v":{"$error":"#REF!"}},null,null,null,{"$f":"IFERROR(AVERAGE(O36:O40),\"-\")","v":"-"},null,{"$f":"IFERROR(AVERAGE(Q36:Q40),\"-\")","v":"-"},null,{"$f":"IFERROR(AVERAGE(S36:S40),\"-\")","v":"-"},null,{"$f":"IFERROR(AVERAGE(U36:U40),\"-\")","v":"-"},null,{"$f":"IFERROR(AVERAGE(W36:W40),\"-\")","v":"-"},null,{"$f":"IFERROR(AVERAGE(Y36:Y40),\"-\")","v":"-"}]
[{"$f":"'Spiegazioni Skills FTEM'!A28:A28","v":0},null,null,{"$f":"IF($H$2=\"G\",'Spiegazioni Skills FTEM'!F28,'Spiegazioni Skills FTEM'!B28)","v":"Capacità d'apprendimento"},null,null,{"$f":"IF($H$2=\"G\",'Spiegazioni Skills FTEM'!G28,'Spiegazioni Skills FTEM'!C28)","v":"Ha una buona capacità d'apprendimento (sa recepire e realizzare), possiede una personalità, cerca di imparare dai propri errori derivandone delle misure"},null,null,{"$f":"IF($H$2=\"G\",'Spiegazioni Skills FTEM'!#REF!,'Spiegazioni Skills FTEM'!#REF!)","v":{"$error":"#REF!"}}]
[null,null,null,{"$f":"IF($H$2=\"G\",'Spiegazioni Skills FTEM'!F29,'Spiegazioni Skills FTEM'!B29)","v":"Senso di responsabilità"},null,null,{"$f":"IF($H$2=\"G\",'Spiegazioni Skills FTEM'!G29,'Spiegazioni Skills FTEM'!C29)","v":"Assume responsabiltà per le proprie prestazioni e sviluppo, agisce autonomamente, cura i dettagli, mostra un grande impegno in tutti i settori"},null,null,{"$f":"IF($H$2=\"G\",'Spiegazioni Skills FTEM'!#REF!,'Spiegazioni Skills FTEM'!#REF!)","v":{"$error":"#REF!"}}]
[{"$f":"'Spiegazioni Skills FTEM'!A30:A30","v":0},null,null,{"$f":"IF($H$2=\"G\",'Spiegazioni Skills FTEM'!F30,'Spiegazioni Skills FTEM'!B30)","v":"Motivazione"},null,null,{"$f":"IF($H$2=\"G\",'Spiegazioni Skills FTEM'!G30,'Spiegazioni Skills FTEM'!C30)","v":"È sempre motivato, vuole sempre svilupparsi e imparare, vuol essere il primo e avere successo, non rinuncia mai e non si lascia influenzare dagli insuccessi"},null,null,{"$f":"IF($H$2=\"G\",'Spiegazioni Skills FTEM'!#REF!,'Spiegazioni Skills FTEM'!#REF!)","v":{"$error":"#REF!"}}]
[{"$f":"'Spiegazioni Skills FTEM'!A31:A31","v":0},null,null,{"$f":"IF($H$2=\"G\",'Spiegazioni Skills FTEM'!F31,'Spiegazioni Skills FTEM'!B31)","v":"Prestazione Stile di vita"},null,null,{"$f":"IF($H$2=\"G\",'Spiegazioni Skills FTEM'!G31,'Spiegazioni Skills FTEM'!C31)","v":"Gestisce bene la quotidianità il suo ambiente seguendo i principi della prestazione, caparbio, perseverante e finalizzato sugli obiettivi, focus sulla propria prestazione, coraggioso e grintoso, sa imporsi nei confronti delle resistenze, le sfide lo motivano"},null,null,{"$f":"IF($H$2=\"G\",'Spiegazioni Skills FTEM'!#REF!,'Spiegazioni Skills FTEM'!#REF!)","v":{"$error":"#REF!"}}]
[{"$f":"'Spiegazioni Skills FTEM'!A32","v":"FORZA MENTALE"},null,null,{"$f":"IF($H$2=\"G\",'Spiegazioni Skills FTEM'!F32,'Spiegazioni Skills FTEM'!B32)","v":"Impegno"},null,null,{"$f":"IF($H$2=\"G\",'Spiegazioni Skills FTEM'!G32,'Spiegazioni Skills FTEM'!C32)","v":"Mostra molta intensità negli allenamenti e nelle partite, dà sempre il massimo e vuole sempre spronare i propri limiti, mostra passione, si sforza ad alzare la qualità negli allenamenti"},null,null,{"$f":"IF($H$2=\"G\",'Spiegazioni Skills FTEM'!#REF!,'Spiegazioni Skills FTEM'!#REF!)","v":{"$error":"#REF!"}},null,null,null,{"$f":"IFERROR(AVERAGE(O41:O45),\"-\")","v":"-"},null,{"$f":"IFERROR(AVERAGE(Q41:Q45),\"-\")","v":"-"},null,{"$f":"IFERROR(AVERAGE(S41:S45),\"-\")","v":"-"},null,{"$f":"IFERROR(AVERAGE(U41:U45),\"-\")","v":"-"},null,{"$f":"IFERROR(AVERAGE(W41:W45),\"-\")","v":"-"},null,{"$f":"IFERROR(AVERAGE(Y41:Y45),\"-\")","v":"-"}]
[null,null,null,{"$f":"IF($H$2=\"G\",'Spiegazioni Skills FTEM'!F33,'Spiegazioni Skills FTEM'!B33)","v":"Preparazione"},null,null,{"$f":"IF($H$2=\"G\",'Spiegazioni Skills FTEM'!G33,'Spiegazioni Skills FTEM'!C33)","v":"Preparazione consapevole e finalizzata, mentalmente e fisicamente, possiede un efficiente approccio per l'ottenimento dell'ideale stato di prestazione (ILZ/ISP)"},null,null,{"$f":"IF($H$2=\"G\",'Spiegazioni Skills FTEM'!#REF!,'Spiegazioni Skills FTEM'!#REF!)","v":{"$error":"#REF!"}}]
[{"$f":"'Spiegazioni Skills FTEM'!A34:A34","v":0},null,null,{"$f":"IF($H$2=\"G\",'Spiegazioni Skills FTEM'!F34,'Spiegazioni Skills FTEM'!B34)","v":"Coaching individuale"},null,null,{"$f":"IF($H$2=\"G\",'Spiegazioni Skills FTEM'!G34,'Spiegazioni Skills FTEM'!C34)","v":"Possiede una buona capacità di concentrazione, può mantenere il suo ILZ/ISP durante la partita e l'allenamento, può utilizzare tecniche di base per rafforzare il mentale, resistenti contro pensieri e influenze negative, è consapevole del proprio linguaggio del corpo che è in grado di padroneggiare"},null,null,{"$f":"IF($H$2=\"G\",'Spiegazioni Skills FTEM'!#REF!,'Spiegazioni Skills FTEM'!#REF!)","v":{"$error":"#REF!"}}]
[{"$f":"'Spiegazioni Skills FTEM'!A35:A35","v":0},null,null,{"$f":"IF($H$2=\"G\",'Spiegazioni Skills FTEM'!F35,'Spiegazioni Skills FTEM'!B35)","v":"Gestione delle energie"},null,null,{"$f":"IF($H$2=\"G\",'Spiegazioni Skills FTEM'!G35,'Spiegazioni Skills FTEM'!C35)","v":"Può gestire le proprie energie, cura la rigenerazione, può gestire i momenti in cui si deve andare al massimo oppure risparmiarsi, interruttore on/off"},null,null,{"$f":"IF($H$2=\"G\",'Spiegazioni Skills FTEM'!#REF!,'Spiegazioni Skills FTEM'!#REF!)","v":{"$error":"#REF!"}}]
[{"$f":"'Spiegazioni Skills FTEM'!A36:A36","v":0},null,null,{"$f":"IF($H$2=\"G\",'Spiegazioni Skills FTEM'!F36,'Spiegazioni Skills FTEM'!B36)","v":"Controllo delle emozioni"},null,null,{"$f":"IF($H$2=\"G\",'Spiegazioni Skills FTEM'!G36,'Spiegazioni Skills FTEM'!C36)","v":"Può regolare le proprie emozioni e impulsi, mantiene il controllo quando si trova sotto pressione, sa anche agire adeguatamente in situazioni emotive o frustranti"},null,null,{"$f":"IF($H$2=\"G\",'Spiegazioni Skills FTEM'!#REF!,'Spiegazioni Skills FTEM'!#REF!)","v":{"$error":"#REF!"}}]
[{"$f":"'Spiegazioni Skills FTEM'!A37","v":"FISICO"},null,null,{"$f":"IF($H$2=\"G\",'Spiegazioni Skills FTEM'!F37,'Spiegazioni Skills FTEM'!B37)","v":"Produzione di prestazione"},null,null,{"$f":"IF($H$2=\"G\",'Spiegazioni Skills FTEM'!G37,'Spiegazioni Skills FTEM'!C37)","v":"Possiede nelle gambe e nella parte alta del corpo la necessaria potenza/forza/velocità (fattori neuromuscolari)"},null,null,{"$f":"IF($H$2=\"G\",'Spiegazioni Skills FTEM'!#REF!,'Spiegazioni Skills FTEM'!#REF!)","v":{"$error":"#REF!"}},null,null,null,{"$f":"IFERROR(AVERAGE(O46:O50),\"-\")","v":"-"},null,{"$f":"IFERROR(AVERAGE(Q46:Q50),\"-\")","v":"-"},null,{"$f":"IFERROR(AVERAGE(S46:S50),\"-\")","v":"-"},null,{"$f":"IFERROR(AVERAGE(U46:U50),\"-\")","v":"-"},null,{"$f":"IFERROR(AVERAGE(W46:W50),\"-\")","v":"-"},null,{"$f":"IFERROR(AVERAGE(Y46:Y50),\"-\")","v":"-"}]
[null,null,null,{"$f":"IF($H$2=\"G\",'Spiegazioni Skills FTEM'!F38,'Spiegazioni Skills FTEM'!B38)","v":"Resistenza specifica alla fatica"},null,null,{"$f":"IF($H$2=\"G\",'Spiegazioni Skills FTEM'!G38,'Spiegazioni Skills FTEM'!C38)","v":"È capace di mantenere a lungo nell'ambito di un impiego la potenza/forza/velocità ed è capace di recuperare completamente attraverso i vari impieghi sul ghiaccio (fattori metabolici e cardiovascolari)"},null,null,{"$f":"IF($H$2=\"G\",'Spiegazioni Skills FTEM'!#REF!,'Spiegazioni Skills FTEM'!#REF!)","v":{"$error":"#REF!"}}]
[{"$f":"'Spiegazioni Skills FTEM'!A39:A39","v":0},null,null,{"$f":"IF($H$2=\"G\",'Spiegazioni Skills FTEM'!F39,'Spiegazioni Skills FTEM'!B39)","v":"Salute / prevenzione"},null,null,{"$f":"IF($H$2=\"G\",'Spiegazioni Skills FTEM'!G39,'Spiegazioni Skills FTEM'!C39)","v":"Possiede la necessaria stabilità (stabilità delle gambe) e mobilità delle articolazioni centrali"},null,null,{"$f":"IF($H$2=\"G\",'Spiegazioni Skills FTEM'!#REF!,'Spiegazioni Skills FTEM'!#REF!)","v":{"$error":"#REF!"}}]
[{"$f":"'Spiegazioni Skills FTEM'!A40:A40","v":0},null,null,{"$f":"IF($H$2=\"G\",'Spiegazioni Skills FTEM'!F40,'Spiegazioni Skills FTEM'!B40)","v":"Competenze della mobilità"},null,null,{"$f":"IF($H$2=\"G\",'Spiegazioni Skills FTEM'!G40,'Spiegazioni Skills FTEM'!C40)","v":"Padroneggia le basilari capacità di movimento che garantiscono in modo determinante le abilità specifiche \"skills\", come pure l'efficacia dei movimenti"},null,null,{"$f":"IF($H$2=\"G\",'Spiegazioni Skills FTEM'!#REF!,'Spiegazioni Skills FTEM'!#REF!)","v":{"$error":"#REF!"}}]
[{"$f":"'Spiegazioni Skills FTEM'!A41:A41","v":0},null,null,{"$f":"IF($H$2=\"G\",'Spiegazioni Skills FTEM'!F41,'Spiegazioni Skills FTEM'!B41)","v":"Robustezza"},null,null,{"$f":"IF($H$2=\"G\",'Spiegazioni Skills FTEM'!G41,'Spiegazioni Skills FTEM'!C41)","v":"Possiede la necessaria forza di base (tensione del corpo) per vincere i duelli e resistere alle cariche"},null,null,{"$f":"IF($H$2=\"G\",'Spiegazioni Skills FTEM'!#REF!,'Spiegazioni Skills FTEM'!#REF!)","v":{"$error":"#REF!"}}]

{"sheet":"30","index":33,"n_rows":50,"n_cols":36,"rows_kept":50,"cut":false,"hidden":false,"merged":[[45,34,49,34],[45,12,49,12],[45,13,49,13],[45,15,49,15],[45,17,49,17],[45,19,49,19],[45,21,49,21],[45,23,49,23],[45,25,49,25],[45,26,49,32],[45,0,49,2],[45,3,45,5],[45,6,45,11],[46,3,46,5],[46,6,46,11],[48,3,48,5],[48,6,48,11],[49,3,49,5],[49,6,49,11],[47,3,47,5],[47,6,47,11],[40,23,44,23],[42,3,42,5],[42,6,42,11],[44,3,44,5],[44,6,44,11],[40,0,44,2],[40,3,40,5],[40,6,40,11],[40,12,44,12],[40,13,44,13],[40,15,44,15],[43,3,43,5],[43,6,43,11],[34,21,34,22],[35,17,39,17],[35,19,39,19],[35,21,39,21],[37,3,37,5],[37,6,37,11],[38,3,38,5],[38,6,38,11],[40,17,44,17],[40,19,44,19],[40,21,44,21],[36,3,36,5],[36,6,36,11],[41,3,41,5],[41,6,41,11],[29,0,33,2],[29,3,29,5],[29,6,29,11],[29,12,33,12],[29,13,33,13],[29,15,33,15],[34,23,34,24],[34,26,34,32],[35,0,39,2],[35,3,35,5],[35,6,35,11],[35,12,39,12],[35,13,39,13],[35,15,39,15],[39,3,39,5],[39,6,39,11],[35,23,39,23],[34,0,34,2],[34,3,34,5],[34,6,34,11],[34,13,34,14],[34,15,34,16],[34,17,34,18],[34,19,34,20],[23,19,28,19],[23,21,28,21],[23,23,28,23],[26,3,26,5],[26,6,26,11],[28,3,28,5],[28,6,28,11],[33,3,33,5],[33,6,33,11],[29,23,33,23],[29,17,33,17],[29,19,33,19],[29,21,33,21],[31,3,31,5],[31,6,31,11],[32,3,32,5],[32,6,32,11],[27,3,27,5],[27,6,27,11],[25,3,25,5],[25,6,25,11],[30,3,30,5],[30,6,30,11],[12,21,16,21],[18,15,22,15],[18,17,22,17],[18,19,22,19],[18,21,22,21],[18,23,22,23],[22,3,22,5],[22,6,22,11],[23,0,28,2],[23,3,23,5],[23,6,23,11],[23,12,28,12],[23,13,28,13],[23,15,28,15],[23,17,28,17],[18,0,22,2],[18,3,18,5],[18,6,18,11],[18,12,22,12],[18,13,22,13],[19,3,19,5],[19,6,19,11],[21,3,21,5],[21,6,21,11],[11,21,11,22],[11,23,11,24],[11,26,11,32],[11,6,11,11],[12,23,16,23],[16,3,16,5],[16,6,16,11],[17,0,17,2],[17,3,17,5],[17,6,17,11],[17,13,17,14],[17,15,17,16],[17,17,17,18],[17,19,17,20],[17,21,17,22],[17,23,17,24],[12,0,16,2],[12,3,12,5],[12,6,12,11],[12,12,16,12],[12,13,16,13],[12,15,16,15],[12,17,16,17],[12,19,16,19],[4,0,4,1],[4,2,4,5],[4,10,4,24],[10,0,10,24],[10,25,10,35],[40,25,44,25],[40,26,44,32],[40,34,44,34],[12,25,16,25],[12,26,16,32],[12,34,16,34],[18,25,22,25],[18,26,22,32],[18,34,22,34],[23,25,28,25],[23,26,28,32],[23,34,28,34],[17,26,17,32],[11,0,11,2],[11,3,11,5],[11,13,11,14],[11,15,11,16],[11,17,11,18],[11,19,11,20],[0,0,0,24],[0,25,0,26],[0,27,0,32],[0,33,0,35],[29,25,33,25],[29,26,33,32],[29,34,33,34],[35,25,39,25],[35,26,39,32],[35,34,39,34],[1,0,1,1],[1,2,1,5],[1,10,1,24],[2,0,2,1],[2,2,2,5],[2,11,2,24],[6,0,6,1],[6,2,6,35],[7,0,7,1],[7,2,7,35],[8,0,8,1],[8,2,8,35],[3,0,3,1],[3,10,3,24],[13,3,13,5],[13,6,13,11],[14,3,14,5],[14,6,14,11],[15,3,15,5],[15,6,15,11],[20,3,20,5],[20,6,20,11],[24,3,24,5],[24,6,24,11]]}
["Personalien",null,null,null,null,null,null,null,null,null,null,null,null,null,null,null,null,null,null,null,null,null,null,null,null,"Predisposizione",null,"Valutazioni",null,null,null,null,null,"Rating"]
["COGNOME",null,{"$f":"IF(ISBLANK(VLOOKUP(30,Tabelle3[],3,0)),\"-\",VLOOKUP(30,Tabelle3[],3,0))","v":"-"},null,null,null,"POSIZIONE",null,null,"INDIRIZZO",{"$f":"IF(ISBLANK(VLOOKUP(30,Tabelle3[],5,0)),\"-\",VLOOKUP(30,Tabelle3[],5,0))","v":"-"},null,null,null,null,null,null,null,null,null,null,null,null,null,null,"Età\" (biologica/età relativa)",null,"Data 1",null,null,"cm",null,"Kg",null,"ECCELLENTE",5]
["NOME",null,{"$f":"IF(ISBLANK(VLOOKUP(30,Tabelle3[],2,0)),\"-\",VLOOKUP(30,Tabelle3[],2,0))","v":"-"},null,null,null,"BASTONE",null,null,"LUOGO",{"$f":"IF(ISBLANK(VLOOKUP(30,Tabelle3[],7,0)),\"-\",VLOOKUP(30,Tabelle3[],7,0))","v":"-"},{"$f":"IF(ISBLANK(VLOOKUP(30,Tabelle3[],6,0)),\"-\",VLOOKUP(30,Tabelle3[],6,0))","v":"-"},null,null,null,null,null,null,null,null,null,null,null,null,null,"Predisposizione",null,"Data 2",null,null,"cm",null,"Kg",null,"BUONO",4]
["DATA DI NASC.",null,{"$f":"IF(ISBLANK(VLOOKUP(30,Tabelle3[],14,0)),\"-\",VLOOKUP(30,Tabelle3[],14,0))","v":"-"},{"$f":"IF(ISBLANK(VLOOKUP(30,Tabelle3[],15,0)),\"-\",VLOOKUP(30,Tabelle3[],15,0))","v":"-"},{"$f":"IF(ISBLANK(VLOOKUP(30,Tabelle3[],16,0)),\"-\",VLOOKUP(30,Tabelle3[],16,0))","v":"-"},null,"ALTEZZA",null,"cm (Finale)","TELEFONO",{"$f":"IF(ISBLANK(VLOOKUP(30,Tabelle3[],8,0)),\"-\",VLOOKUP(30,Tabelle3[],8,0))","v":"-"},null,null,null,null,null,null,null,null,null,null,null,null,null,null,"Ambiente di vita",null,"Data 3",null,null,"cm",null,"Kg",null,"MEDIO/DISCRETO",3]
["SESSO",null,{"$f":"IF(ISBLANK(VLOOKUP(30,Tabelle3[],13,0)),\"-\",VLOOKUP(30,Tabelle3[],13,0))","v":"-"},null,null,null,"PESO",null,"Kg (Finale)","E-Mail",{"$f":"IF(ISBLANK(VLOOKUP(30,Tabelle3[],9,0)),\"-\",VLOOKUP(30,Tabelle3[],9,0))","v":"-"},null,null,null,null,null,null,null,null,null,null,null,null,null,null,null,null,"Data 4",null,null,"cm",null,"Kg",null,"CON LACUNE",2]
[null,null,null,null,null,null,null,null,null,null,null,null,null,null,null,null,null,null,null,null,null,null,null,null,null,null,null,"Data 5",null,null,"cm",null,"Kg",null,"INSUFFICIENTE",1]
["Visione",null,"xxx"]
["Prossimo passo",null,"xxx"]
["Proflio giocatore",null,"xxx"]
[]
["VALUTAZIONI (COACH / GIOCATORE)",null,null,null,null,null,null,null,null,null,null,null,null,null,null,null,null,null,null,null,null,null,null,null,null,"Obiettivi SMART"]
[{"$f":"'Spiegazioni Skills FTEM'!A3","v":"TEAM"},null,null,{"$f":"'Spiegazioni Skills FTEM'!B3","v":"CAPACITÀ"},null,null,{"$f":"'Spiegazioni Skills FTEM'!C3","v":"CRITERIO D'OSSERVAZIONE"},null,null,{"$f":"'Spiegazioni Skills FTEM'!H3","v":0},null,null,"Final","Data1",null,"Data2",null,"Data3",null,"Data4",null,"Data5",null,"Player",null,"OBIETTIVO","PROVVEDIMENTI:\n(SPECIFICI, MISURABILI, REALISTICI)",null,null,null,null,null,null,"TERMINE","COTROLLO DELL'OBIETTIVO","Data"]
[{"$f":"'Spiegazioni Skills FTEM'!A4","v":"SQUADRA"},null,null,{"$f":"IF($H$2=\"G\",'Spiegazioni Skills FTEM'!F4,'Spiegazioni Skills FTEM'!B4)","v":"Comunicazione"},null,null,{"$f":"IF($H$2=\"G\",'Spiegazioni Skills FTEM'!G4,'Spiegazioni Skills FTEM'!C4)","v":"Cura relazioni aperte e rispettose, fiducia quale base comportamentale, affronta i conflitti senza ledere la stabilità del gruppo, comunica con i compagni, gli allenatori e\nfunzionari con i medesimi valori"},null,null,{"$f":"IF($H$2=\"G\",'Spiegazioni Skills FTEM'!#REF!,'Spiegazioni Skills FTEM'!#REF!)","v":{"$error":"#REF!"}},null,null,null,{"$f":"IFERROR(AVERAGE(O13:O17),\"-\")","v":"-"},null,{"$f":"IFERROR(AVERAGE(Q13:Q17),\"-\")","v":"-"},null,{"$f":"IFERROR(AVERAGE(S13:S17),\"-\")","v":"-"},null,{"$f":"IFERROR(AVERAGE(U13:U17),\"-\")","v":"-"},null,{"$f":"IFERROR(AVERAGE(W13:W17),\"-\")","v":"-"},null,{"$f":"IFERROR(AVERAGE(Y13:Y17),\"-\")","v":"-"}]
[{"$f":"'Spiegazioni Skills FTEM'!A5","v":0},null,null,{"$f":"IF($H$2=\"G\",'Spiegazioni Skills FTEM'!F5,'Spiegazioni Skills FTEM'!B5)","v":"Capacità nella squadra"},null,null,{"$f":"IF($H$2=\"G\",'Spiegazioni Skills FTEM'!G5,'Spiegazioni Skills FTEM'!C5)","v":"Integrazione nel gruppo, definisce e realizza obiettivi comuni, NOI prima dell'IO, contribuisce a creare un buon spirito di squadra e clima di lavoro"},null,null,{"$f":"IF($H$2=\"G\",'Spiegazioni Skills FTEM'!#REF!,'Spiegazioni Skills FTEM'!#REF!)","v":{"$error":"#REF!"}}]
[{"$f":"'Spiegazioni Skills FTEM'!A6","v":0},null,null,{"$f":"IF($H$2=\"G\",'Spiegazioni Skills FTEM'!F6,'Spiegazioni Skills FTEM'!B6)","v":"Leadership"},null,null,{"$f":"IF($H$2=\"G\",'Spiegazioni Skills FTEM'!G6,'Spiegazioni Skills FTEM'!C6)","v":"Assume responsabilità nell'ambito del gruppo, cerca di migliorare la squadra e i compagni, influenza positivamente la dinamica di gruppo"},null,null,{"$f":"IF($H$2=\"G\",'Spiegazioni Skills FTEM'!#REF!,'Spiegazioni Skills FTEM'!#REF!)","v":{"$error":"#REF!"}}]
[{"$f":"'Spiegazioni Skills FTEM'!A7","v":0},null,null,{"$f":"IF($H$2=\"G\",'Spiegazioni Skills FTEM'!F7,'Spiegazioni Skills FTEM'!B7)","v":"Ripartizione dei ruoli"},null,null,{"$f":"IF($H$2=\"G\",'Spiegazioni Skills FTEM'!G7,'Spiegazioni Skills FTEM'!C7)","v":"Riconosce e adempie il suo ruolo, è cosciente della sua posizione nel sistema e nella squadra, mette a disposizione della squadra le sue competenze"},null,null,{"$f":"IF($H$2=\"G\",'Spiegazioni Skills FTEM'!#REF!,'Spiegazioni Skills FTEM'!#REF!)","v":{"$error":"#REF!"}}]
[{"$f":"'Spiegazioni Skills FTEM'!A8","v":0},null,null,{"$f":"IF($H$2=\"G\",'Spiegazioni Skills FTEM'!F8,'Spiegazioni Skills FTEM'!B8)","v":"Rispetto"},null,null,{"$f":"IF($H$2=\"G\",'Spiegazioni Skills FTEM'!G8,'Spiegazioni Skills FTEM'!C8)","v":"Relazioni rispettose con i compagni, allenatori, avversari, arbitri e staff; rispetta le regole i pricipi del fairplay (compreso la lotta al doping)"},null,null,{"$f":"IF($H$2=\"G\",'Spiegazioni Skills FTEM'!#REF!,'Spiegazioni Skills FTEM'!#REF!)","v":{"$error":"#REF!"}}]
[{"$f":"'Spiegazioni Skills FTEM'!A9","v":"ON ICE"},null,null,{"$f":"'Spiegazioni Skills FTEM'!B9","v":"CAPACITÀ"},null,null,{"$f":"'Spiegazioni Skills FTEM'!C9","v":"CRITERIO D'OSSERVAZIONE"},null,null,{"$f":"'Spiegazioni Skills FTEM'!H9","v":0},null,null,null,"Data1",null,"Data2",null,"Data3",null,"Data4",null,"Data5",null,"Player",null,"OBIETTIVO","PROVVEDIMENTI:\n(SPECIFICI, MISURABILI, REALISTICI)",null,null,null,null,null,null,"TERMINE","COTROLLO DELL'OBIETTIVO","Date"]
[{"$f":"'Spiegazioni Skills FTEM'!A10","v":"PATTINAGGIO"},null,null,{"$f":"IF($H$2=\"G\",'Spiegazioni Skills FTEM'!F10,'Spiegazioni Skills FTEM'!B10)","v":"Velocità dei piedi"},null,null,{"$f":"IF($H$2=\"G\",'Spiegazioni Skills FTEM'!G10,'Spiegazioni Skills FTEM'!C10)","v":"Accelerazione, partenza, esplosività dei primi 3 passi, frequenza"},null,null,{"$f":"IF($H$2=\"G\",'Spiegazioni Skills FTEM'!#REF!,'Spiegazioni Skills FTEM'!#REF!)","v":{"$error":"#REF!"}},null,null,null,{"$f":"IFERROR(AVERAGE(O19:O23),\"-\")","v":"-"},null,{"$f":"IFERROR(AVERAGE(Q19:Q23),\"-\")","v":"-"},null,{"$f":"IFERROR(AVERAGE(S19:S23),\"-\")","v":"-"},null,{"$f":"IFERROR(AVERAGE(U19:U23),\"-\")","v":"-"},null,{"$f":"IFERROR(AVERAGE(W19:W23),\"-\")","v":"-"},null,{"$f":"IFERROR(AVERAGE(Y19:Y23),\"-\")","v":"-"}]
[{"$f":"'Spiegazioni Skills FTEM'!A11:A11","v":0},null,null,{"$f":"IF($H$2=\"G\",'Spiegazioni Skills FTEM'!F11,'Spiegazioni Skills FTEM'!B11)","v":"Velocità/rapidità"},null,null,{"$f":"IF($H$2=\"G\",'Spiegazioni Skills FTEM'!G11,'Spiegazioni Skills FTEM'!C11)","v":"Velocità, facoltà di scivolare, avanti / indietro, economia dello sforzo"},null,null,{"$f":"IF($H$2=\"G\",'Spiegazioni Skills FTEM'!#REF!,'Spiegazioni Skills FTEM'!#REF!)","v":{"$error":"#REF!"}}]
[null,null,null,{"$f":"IF($H$2=\"G\",'Spiegazioni Skills FTEM'!F12,'Spiegazioni Skills FTEM'!B12)","v":"Agilità"},null,null,{"$f":"IF($H$2=\"G\",'Spiegazioni Skills FTEM'!G12,'Spiegazioni Skills FTEM'!C12)","v":"Cambiamento di direzione, girarsi, stop e ripartenza, \"Nummelin\""},null,null,{"$f":"IF($H$2=\"G\",'Spiegazioni Skills FTEM'!#REF!,'Spiegazioni Skills FTEM'!#REF!)","v":{"$error":"#REF!"}}]
[{"$f":"'Spiegazioni Skills FTEM'!A12:A12","v":0},null,null,{"$f":"IF($H$2=\"G\",'Spiegazioni Skills FTEM'!F13,'Spiegazioni Skills FTEM'!B13)","v":"Equilibrio"},null,null,{"$f":"IF($H$2=\"G\",'Spiegazioni Skills FTEM'!G13,'Spiegazioni Skills FTEM'!C13)","v":"Equilibrio, stabilità, posizione bassa, su una gamba, su entrambe"},null,null,{"$f":"IF($H$2=\"G\",'Spiegazioni Skills FTEM'!#REF!,'Spiegazioni Skills FTEM'!#REF!)","v":{"$error":"#REF!"}},null,null,null,{"$f":"IFERROR(AVERAGE(O22:O23),\"-\")","v":"-"},null,{"$f":"IFERROR(AVERAGE(Q22:Q23),\"-\")","v":"-"},null,{"$f":"IFERROR(AVERAGE(S22:S23),\"-\")","v":"-"},null,{"$f":"IFERROR(AVERAGE(U22:U23),\"-\")","v":"-"},null,{"$f":"IFERROR(AVERAGE(W22:W23),\"-\")","v":"-"},null,"-"]
[{"$f":"'Spiegazioni Skills FTEM'!A14:A14","v":0},null,null,{"$f":"IF($H$2=\"G\",'Spiegazioni Skills FTEM'!F14,'Spiegazioni Skills FTEM'!B14)","v":"Pattinaggio indietro"},null,null,{"$f":"IF($H$2=\"G\",'Spiegazioni Skills FTEM'!G14,'Spiegazioni Skills FTEM'!C14)","v":"Accelerazione, velocità, equilibrio"},null,null,{"$f":"IF($H$2=\"G\",'Spiegazioni Skills FTEM'!#REF!,'Spiegazioni Skills FTEM'!#REF!)","v":{"$error":"#REF!"}}]
[{"$f":"'Spiegazioni Skills FTEM'!A15","v":"ABILITÀ"},null,null,{"$f":"IF($H$2=\"G\",'Spiegazioni Skills FTEM'!F15,'Spiegazioni Skills FTEM'!B15)","v":"Tirare"},null,null,{"$f":"IF($H$2=\"G\",'Spiegazioni Skills FTEM'!G15,'Spiegazioni Skills FTEM'!C15)","v":"Efficienza (poco spazio, poco tempo), ricchezza di varianti, grado di sorpresa (Quick Release), precisione, potenza (conclusioni tattiche)"},null,null,{"$f":"IF($H$2=\"G\",'Spiegazioni Skills FTEM'!#REF!,'Spiegazioni Skills FTEM'!#REF!)","v":{"$error":"#REF!"}},null,null,null,{"$f":"IFERROR(AVERAGE(O24:O29),\"-\")","v":"-"},null,{"$f":"IFERROR(AVERAGE(Q24:Q29),\"-\")","v":"-"},null,{"$f":"IFERROR(AVERAGE(S24:S29),\"-\")","v":"-"},null,{"$f":"IFERROR(AVERAGE(U24:U29),\"-\")","v":"-"},null,{"$f":"IFERROR(AVERAGE(W24:W29),\"-\")","v":"-"},null,{"$f":"IFERROR(AVERAGE(Y24:Y29),\"-\")","v":"-"}]
[null,null,null,{"$f":"IF($H$2=\"G\",'Spiegazioni Skills FTEM'!F16,'Spiegazioni Skills FTEM'!B16)","v":"Passare"},null,null,{"$f":"IF($H$2=\"G\",'Spiegazioni Skills FTEM'!G16,'Spiegazioni Skills FTEM'!C16)","v":"Passaggio (distanza, flipp, rovescio), ricezione del passaggio (precisione, timing, diritto, rovescio, sul pattino), velocità del disco"},null,null,{"$f":"IF($H$2=\"G\",'Spiegazioni Skills FTEM'!#REF!,'Spiegazioni Skills FTEM'!#REF!)","v":{"$error":"#REF!"}}]
[null,null,null,{"$f":"IF($H$2=\"G\",'Spiegazioni Skills FTEM'!F17,'Spiegazioni Skills FTEM'!B17)","v":"Lavoro col bastone - condotta del disco"},null,null,{"$f":"IF($H$2=\"G\",'Spiegazioni Skills FTEM'!G17,'Spiegazioni Skills FTEM'!C17)","v":"Bastone sul disco, intercettare le linee di passaggio, deviare, controllo del bastone avversario"},null,null,{"$f":"IF($H$2=\"G\",'Spiegazioni Skills FTEM'!#REF!,'Spiegazioni Skills FTEM'!#REF!)","v":{"$error":"#REF!"}}]
[{"$f":"'Spiegazioni Skills FTEM'!A16:A16","v":0},null,null,{"$f":"IF($H$2=\"G\",'Spiegazioni Skills FTEM'!F18,'Spiegazioni Skills FTEM'!B18)","v":"Possedere/proteggere il disco"},null,null,{"$f":"IF($H$2=\"G\",'Spiegazioni Skills FTEM'!G18,'Spiegazioni Skills FTEM'!C18)","v":"Controllo del disco, dribbling, protezione del disco, finte (varianti col pattino, con o senza la balaustra), ingaggi (face-off)"},null,null,{"$f":"IF($H$2=\"G\",'Spiegazioni Skills FTEM'!#REF!,'Spiegazioni Skills FTEM'!#REF!)","v":{"$error":"#REF!"}}]
[{"$f":"'Spiegazioni Skills FTEM'!A17:A17","v":0},null,null,{"$f":"IF($H$2=\"G\",'Spiegazioni Skills FTEM'!F19,'Spiegazioni Skills FTEM'!B19)","v":"Gioco del corpo"},null,null,{"$f":"IF($H$2=\"G\",'Spiegazioni Skills FTEM'!G19,'Spiegazioni Skills FTEM'!C19)","v":"Facoltà di imporsi fisicamente, duelli (ghiaccio aperto, balaustra), subire dei checks/testa alta, livello di lotta, duro ma corretto, blocco dei tiri con il corpo"},null,null,{"$f":"IF($H$2=\"G\",'Spiegazioni Skills FTEM'!#REF!,'Spiegazioni Skills FTEM'!#REF!)","v":{"$error":"#REF!"}}]
[{"$f":"'Spiegazioni Skills FTEM'!A20:A20","v":0},null,null,{"$f":"IF($H$2=\"G\",'Spiegazioni Skills FTEM'!F20,'Spiegazioni Skills FTEM'!B20)","v":"-"},null,null,{"$f":"IF($H$2=\"G\",'Spiegazioni Skills FTEM'!G20,'Spiegazioni Skills FTEM'!C20)","v":"-"},null,null,{"$f":"IF($H$2=\"G\",'Spiegazioni Skills FTEM'!#REF!,'Spiegazioni Skills FTEM'!#REF!)","v":{"$error":"#REF!"}}]
[{"$f":"'Spiegazioni Skills FTEM'!A21","v":"SENSO DELL'HOCKEY"},null,null,{"$f":"IF($H$2=\"G\",'Spiegazioni Skills FTEM'!F21,'Spiegazioni Skills FTEM'!B21)","v":"Intelligenza nel gioco"},null,null,{"$f":"IF($H$2=\"G\",'Spiegazioni Skills FTEM'!G21,'Spiegazioni Skills FTEM'!C21)","v":"Vedere spazi e giocatori liberi, creare situazioni di superiorità numerica, agire cercando soluzioni in tutte le situazioni, velocità di visualizzazione"},null,null,{"$f":"IF($H$2=\"G\",'Spiegazioni Skills FTEM'!#REF!,'Spiegazioni Skills FTEM'!#REF!)","v":{"$error":"#REF!"}},null,null,null,{"$f":"IFERROR(AVERAGE(O30:O34),\"-\")","v":"-"},null,{"$f":"IFERROR(AVERAGE(Q30:Q34),\"-\")","v":"-"},null,{"$f":"IFERROR(AVERAGE(S30:S34),\"-\")","v":"-"},null,{"$f":"IFERROR(AVERAGE(U30:U34),\"-\")","v":"-"},null,{"$f":"IFERROR(AVERAGE(W30:W34),\"-\")","v":"-"},null,{"$f":"IFERROR(AVERAGE(Y30:Y34),\"-\")","v":"-"}]
[{"$f":"'Spiegazioni Skills FTEM'!A22:A22","v":0},null,null,{"$f":"IF($H$2=\"G\",'Spiegazioni Skills FTEM'!F22,'Spiegazioni Skills FTEM'!B22)","v":"Sensibilità offensiva"},null,null,{"$f":"IF($H$2=\"G\",'Spiegazioni Skills FTEM'!G22,'Spiegazioni Skills FTEM'!C22)","v":"Smarcarsi, anticipare le situazioni di gioco, aprire spazi liberi per i compagni, piazzarsi per le conclusioni, velocità nel chiudere gli spazi (pressione), comunicazione"},null,null,{"$f":"IF($H$2=\"G\",'Spiegazioni Skills FTEM'!#REF!,'Spiegazioni Skills FTEM'!#REF!)","v":{"$error":"#REF!"}}]
[null,null,null,{"$f":"IF($H$2=\"G\",'Spiegazioni Skills FTEM'!F23,'Spiegazioni Skills FTEM'!B23)","v":"Sensibilità difensiva"},null,null,{"$f":"IF($H$2=\"G\",'Spiegazioni Skills FTEM'!G23,'Spiegazioni Skills FTEM'!C23)","v":"Mantenere la posizione difensiva, protezione dello slot, assicurare i compagni / supporto, individuare le linee di passaggio, bloccare i tiri, ridurre velocemente gli spazi, comunicazione"},null,null,{"$f":"IF($H$2=\"G\",'Spiegazioni Skills FTEM'!#REF!,'Spiegazioni Skills FTEM'!#REF!)","v":{"$error":"#REF!"}}]
[{"$f":"'Spiegazioni Skills FTEM'!A24:A24","v":0},null,null,{"$f":"IF($H$2=\"G\",'Spiegazioni Skills FTEM'!F24,'Spiegazioni Skills FTEM'!B24)","v":"Gestione del disco"},null,null,{"$f":"IF($H$2=\"G\",'Spiegazioni Skills FTEM'!G24,'Spiegazioni Skills FTEM'!C24)","v":"Prendere decisioni adeguate nelle situazioni di gioco, supporto, creare superiorità numerica"},null,null,{"$f":"IF($H$2=\"G\",'Spiegazioni Skills FTEM'!#REF!,'Spiegazioni Skills FTEM'!#REF!)","v":{"$error":"#REF!"}}]
[{"$f":"'Spiegazioni Skills FTEM'!A25:A25","v":0},null,null,{"$f":"IF($H$2=\"G\",'Spiegazioni Skills FTEM'!F25,'Spiegazioni Skills FTEM'!B25)","v":"Creatività"},null,null,{"$f":"IF($H$2=\"G\",'Spiegazioni Skills FTEM'!G25,'Spiegazioni Skills FTEM'!C25)","v":"Creare situazioni a sorpresa, fiuto del gol"},null,null,{"$f":"IF($H$2=\"G\",'Spiegazioni Skills FTEM'!#REF!,'Spiegazioni Skills FTEM'!#REF!)","v":{"$error":"#REF!"}}]
[{"$f":"'Spiegazioni Skills FTEM'!A26","v":"PERSONALITY"},null,null,{"$f":"'Spiegazioni Skills FTEM'!B26","v":"CAPACITÀ"},null,null,{"$f":"'Spiegazioni Skills FTEM'!C26","v":"CRITERIO D'OSSERVAZIONE"},null,null,{"$f":"'Spiegazioni Skills FTEM'!H26","v":0},null,null,null,"Data1",null,"Data2",null,"Data3",null,"Data4",null,"Data5",null,"Player",null,"OBIETTIVO","PROVVEDIMENTI:\n(SPECIFICI, MISURABILI, REALISTICI)",null,null,null,null,null,null,"TERMINE","COTROLLO DELL'OBIETTIVO","Date"]
[{"$f":"'Spiegazioni Skills FTEM'!A27","v":"PERSONALITÀ"},null,null,{"$f":"IF($H$2=\"G\",'Spiegazioni Skills FTEM'!F27,'Spiegazioni Skills FTEM'!B27)","v":"Fiducia in se stesso"},null,null,{"$f":"IF($H$2=\"G\",'Spiegazioni Skills FTEM'!G27,'Spiegazioni Skills FTEM'!C27)","v":"Possiede la necessaria fiducia in se stesso, «I can do it»-attitudine, sa valutare le proprie capacità (conosce i propri punti forti e deboli), può realizzare le proprie qualità con\ncostanza, è coraggioso e sa prendere dei rischi calcolati"},null,null,{"$f":"IF($H$2=\"G\",'Spiegazioni Skills FTEM'!#REF!,'Spiegazioni Skills FTEM'!#REF!)","v":{"$error":"#REF!"}},null,null,null,{"$f":"IFERROR(AVERAGE(O36:O40),\"-\")","v":"-"},null,{"$f":"IFERROR(AVERAGE(Q36:Q40),\"-\")","v":"-"},null,{"$f":"IFERROR(AVERAGE(S36:S40),\"-\")","v":"-"},null,{"$f":"IFERROR(AVERAGE(U36:U40),\"-\")","v":"-"},null,{"$f":"IFERROR(AVERAGE(W36:W40),\"-\")","v":"-"},null,{"$f":"IFERROR(AVERAGE(Y36:Y40),\"-\")","v":"-"}]
[{"$f":"'Spiegazioni Skills FTEM'!A28:A28","v":0},null,null,{"$f":"IF($H$2=\"G\",'Spiegazioni Skills FTEM'!F28,'Spiegazioni Skills FTEM'!B28)","v":"Capacità d'apprendimento"},null,null,{"$f":"IF($H$2=\"G\",'Spiegazioni Skills FTEM'!G28,'Spiegazioni Skills FTEM'!C28)","v":"Ha una buona capacità d'apprendimento (sa recepire e realizzare), possiede una personalità, cerca di imparare dai propri errori derivandone delle misure"},null,null,{"$f":"IF($H$2=\"G\",'Spiegazioni Skills FTEM'!#REF!,'Spiegazioni Skills FTEM'!#REF!)","v":{"$error":"#REF!"}}]
[null,null,null,{"$f":"IF($H$2=\"G\",'Spiegazioni Skills FTEM'!F29,'Spiegazioni Skills FTEM'!B29)","v":"Senso di responsabilità"},null,null,{"$f":"IF($H$2=\"G\",'Spiegazioni Skills FTEM'!G29,'Spiegazioni Skills FTEM'!C29)","v":"Assume responsabiltà per le proprie prestazioni e sviluppo, agisce autonomamente, cura i dettagli, mostra un grande impegno in tutti i settori"},null,null,{"$f":"IF($H$2=\"G\",'Spiegazioni Skills FTEM'!#REF!,'Spiegazioni Skills FTEM'!#REF!)","v":{"$error":"#REF!"}}]
[{"$f":"'Spiegazioni Skills FTEM'!A30:A30","v":0},null,null,{"$f":"IF($H$2=\"G\",'Spiegazioni Skills FTEM'!F30,'Spiegazioni Skills FTEM'!B30)","v":"Motivazione"},null,null,{"$f":"IF($H$2=\"G\",'Spiegazioni Skills FTEM'!G30,'Spiegazioni Skills FTEM'!C30)","v":"È sempre motivato, vuole sempre svilupparsi e imparare, vuol essere il primo e avere successo, non rinuncia mai e non si lascia influenzare dagli insuccessi"},null,null,{"$f":"IF($H$2=\"G\",'Spiegazioni Skills FTEM'!#REF!,'Spiegazioni Skills FTEM'!#REF!)","v":{"$error":"#REF!"}}]
[{"$f":"'Spiegazioni Skills FTEM'!A31:A31","v":0},null,null,{"$f":"IF($H$2=\"G\",'Spiegazioni Skills FTEM'!F31,'Spiegazioni Skills FTEM'!B31)","v":"Prestazione Stile di vita"},null,null,{"$f":"IF($H$2=\"G\",'Spiegazioni Skills FTEM'!G31,'Spiegazioni Skills FTEM'!C31)","v":"Gestisce bene la quotidianità il suo ambiente seguendo i principi della prestazione, caparbio, perseverante e finalizzato sugli obiettivi, focus sulla propria prestazione, coraggioso e grintoso, sa imporsi nei confronti delle resistenze, le sfide lo motivano"},null,null,{"$f":"IF($H$2=\"G\",'Spiegazioni Skills FTEM'!#REF!,'Spiegazioni Skills FTEM'!#REF!)","v":{"$error":"#REF!"}}]
[{"$f":"'Spiegazioni Skills FTEM'!A32","v":"FORZA MENTALE"},null,null,{"$f":"IF($H$2=\"G\",'Spiegazioni Skills FTEM'!F32,'Spiegazioni Skills FTEM'!B32)","v":"Impegno"},null,null,{"$f":"IF($H$2=\"G\",'Spiegazioni Skills FTEM'!G32,'Spiegazioni Skills FTEM'!C32)","v":"Mostra molta intensità negli allenamenti e nelle partite, dà sempre il massimo e vuole sempre spronare i propri limiti, mostra passione, si sforza ad alzare la qualità negli allenamenti"},null,null,{"$f":"IF($H$2=\"G\",'Spiegazioni Skills FTEM'!#REF!,'Spiegazioni Skills FTEM'!#REF!)","v":{"$error":"#REF!"}},null,null,null,{"$f":"IFERROR(AVERAGE(O41:O45),\"-\")","v":"-"},null,{"$f":"IFERROR(AVERAGE(Q41:Q45),\"-\")","v":"-"},null,{"$f":"IFERROR(AVERAGE(S41:S45),\"-\")","v":"-"},null,{"$f":"IFERROR(AVERAGE(U41:U45),\"-\")","v":"-"},null,{"$f":"IFERROR(AVERAGE(W41:W45),\"-\")","v":"-"},null,{"$f":"IFERROR(AVERAGE(Y41:Y45),\"-\")","v":"-"}]
[null,null,null,{"$f":"IF($H$2=\"G\",'Spiegazioni Skills FTEM'!F33,'Spiegazioni Skills FTEM'!B33)","v":"Preparazione"},null,null,{"$f":"IF($H$2=\"G\",'Spiegazioni Skills FTEM'!G33,'Spiegazioni Skills FTEM'!C33)","v":"Preparazione consapevole e finalizzata, mentalmente e fisicamente, possiede un efficiente approccio per l'ottenimento dell'ideale stato di prestazione (ILZ/ISP)"},null,null,{"$f":"IF($H$2=\"G\",'Spiegazioni Skills FTEM'!#REF!,'Spiegazioni Skills FTEM'!#REF!)","v":{"$error":"#REF!"}}]
[{"$f":"'Spiegazioni Skills FTEM'!A34:A34","v":0},null,null,{"$f":"IF($H$2=\"G\",'Spiegazioni Skills FTEM'!F34,'Spiegazioni Skills FTEM'!B34)","v":"Coaching individuale"},null,null,{"$f":"IF($H$2=\"G\",'Spiegazioni Skills FTEM'!G34,'Spiegazioni Skills FTEM'!C34)","v":"Possiede una buona capacità di concentrazione, può mantenere il suo ILZ/ISP durante la partita e l'allenamento, può utilizzare tecniche di base per rafforzare il mentale, resistenti contro pensieri e influenze negative, è consapevole del proprio linguaggio del corpo che è in grado di padroneggiare"},null,null,{"$f":"IF($H$2=\"G\",'Spiegazioni Skills FTEM'!#REF!,'Spiegazioni Skills FTEM'!#REF!)","v":{"$error":"#REF!"}}]
[{"$f":"'Spiegazioni Skills FTEM'!A35:A35","v":0},null,null,{"$f":"IF($H$2=\"G\",'Spiegazioni Skills FTEM'!F35,'Spiegazioni Skills FTEM'!B35)","v":"Gestione delle energie"},null,null,{"$f":"IF($H$2=\"G\",'Spiegazioni Skills FTEM'!G35,'Spiegazioni Skills FTEM'!C35)","v":"Può gestire le proprie energie, cura la rigenerazione, può gestire i momenti in cui si deve andare al massimo oppure risparmiarsi, interruttore on/off"},null,null,{"$f":"IF($H$2=\"G\",'Spiegazioni Skills FTEM'!#REF!,'Spiegazioni Skills FTEM'!#REF!)","v":{"$error":"#REF!"}}]
[{"$f":"'Spiegazioni Skills FTEM'!A36:A36","v":0},null,null,{"$f":"IF($H$2=\"G\",'Spiegazioni Skills FTEM'!F36,'Spiegazioni Skills FTEM'!B36)","v":"Controllo delle emozioni"},null,null,{"$f":"IF($H$2=\"G\",'Spiegazioni Skills FTEM'!G36,'Spiegazioni Skills FTEM'!C36)","v":"Può regolare le proprie emozioni e impulsi, mantiene il controllo quando si trova sotto pressione, sa anche agire adeguatamente in situazioni emotive o frustranti"},null,null,{"$f":"IF($H$2=\"G\",'Spiegazioni Skills FTEM'!#REF!,'Spiegazioni Skills FTEM'!#REF!)","v":{"$error":"#REF!"}}]
[{"$f":"'Spiegazioni Skills FTEM'!A37","v":"FISICO"},null,null,{"$f":"IF($H$2=\"G\",'Spiegazioni Skills FTEM'!F37,'Spiegazioni Skills FTEM'!B37)","v":"Produzione di prestazione"},null,null,{"$f":"IF($H$2=\"G\",'Spiegazioni Skills FTEM'!G37,'Spiegazioni Skills FTEM'!C37)","v":"Possiede nelle gambe e nella parte alta del corpo la necessaria potenza/forza/velocità (fattori neuromuscolari)"},null,null,{"$f":"IF($H$2=\"G\",'Spiegazioni Skills FTEM'!#REF!,'Spiegazioni Skills FTEM'!#REF!)","v":{"$error":"#REF!"}},null,null,null,{"$f":"IFERROR(AVERAGE(O46:O50),\"-\")","v":"-"},null,{"$f":"IFERROR(AVERAGE(Q46:Q50),\"-\")","v":"-"},null,{"$f":"IFERROR(AVERAGE(S46:S50),\"-\")","v":"-"},null,{"$f":"IFERROR(AVERAGE(U46:U50),\"-\")","v":"-"},null,{"$f":"IFERROR(AVERAGE(W46:W50),\"-\")","v":"-"},null,{"$f":"IFERROR(AVERAGE(Y46:Y50),\"-\")","v":"-"}]
[null,null,null,{"$f":"IF($H$2=\"G\",'Spiegazioni Skills FTEM'!F38,'Spiegazioni Skills FTEM'!B38)","v":"Resistenza specifica alla fatica"},null,null,{"$f":"IF($H$2=\"G\",'Spiegazioni Skills FTEM'!G38,'Spiegazioni Skills FTEM'!C38)","v":"È capace di mantenere a lungo nell'ambito di un impiego la potenza/forza/velocità ed è capace di recuperare completamente attraverso i vari impieghi sul ghiaccio (fattori metabolici e cardiovascolari)"},null,null,{"$f":"IF($H$2=\"G\",'Spiegazioni Skills FTEM'!#REF!,'Spiegazioni Skills FTEM'!#REF!)","v":{"$error":"#REF!"}}]
[{"$f":"'Spiegazioni Skills FTEM'!A39:A39","v":0},null,null,{"$f":"IF($H$2=\"G\",'Spiegazioni Skills FTEM'!F39,'Spiegazioni Skills FTEM'!B39)","v":"Salute / prevenzione"},null,null,{"$f":"IF($H$2=\"G\",'Spiegazioni Skills FTEM'!G39,'Spiegazioni Skills FTEM'!C39)","v":"Possiede la necessaria stabilità (stabilità delle gambe) e mobilità delle articolazioni centrali"},null,null,{"$f":"IF($H$2=\"G\",'Spiegazioni Skills FTEM'!#REF!,'Spiegazioni Skills FTEM'!#REF!)","v":{"$error":"#REF!"}}]
[{"$f":"'Spiegazioni Skills FTEM'!A40:A40","v":0},null,null,{"$f":"IF($H$2=\"G\",'Spiegazioni Skills FTEM'!F40,'Spiegazioni Skills FTEM'!B40)","v":"Competenze della mobilità"},null,null,{"$f":"IF($H$2=\"G\",'Spiegazioni Skills FTEM'!G40,'Spiegazioni Skills FTEM'!C40)","v":"Padroneggia le basilari capacità di movimento che garantiscono in modo determinante le abilità specifiche \"skills\", come pure l'efficacia dei movimenti"},null,null,{"$f":"IF($H$2=\"G\",'Spiegazioni Skills FTEM'!#REF!,'Spiegazioni Skills FTEM'!#REF!)","v":{"$error":"#REF!"}}]
[{"$f":"'Spiegazioni Skills FTEM'!A41:A41","v":0},null,null,{"$f":"IF($H$2=\"G\",'Spiegazioni Skills FTEM'!F41,'Spiegazioni Skills FTEM'!B41)","v":"Robustezza"},null,null,{"$f":"IF($H$2=\"G\",'Spiegazioni Skills FTEM'!G41,'Spiegazioni Skills FTEM'!C41)","v":"Possiede la necessaria forza di base (tensione del corpo) per vincere i duelli e resistere alle cariche"},null,null,{"$f":"IF($H$2=\"G\",'Spiegazioni Skills FTEM'!#REF!,'Spiegazioni Skills FTEM'!#REF!)","v":{"$error":"#REF!"}}]