{"text_format":"1","workbook":"xlsx","n_sheets":34,"sheets":["INFO","Skills explications FTEM","Feuille du Joueur","Feuille de selection","1","2","3","4","5","6","7","8","9","10","11","12","13","14","15","16","17","18","19","20","21","22","23","24","25","26","27","28","29","30"],"not_rendered":{"charts":0,"images":1,"macros":1,"external_links":0,"defined_names":37,"comments":33,"pivot_tables":0},"unopened":[],"bounds":{"document_bytes":16777216,"sheet_cells":100000,"rows_first":2000,"rows_last":500,"rows_between":2000,"halvings":0,"cell_chars":16384,"cell_head_chars":4096},"cells_cut":0,"cells_raw":0,"read":"whole","date_system":"1900"}

{"sheet":"INFO","index":0,"n_rows":77,"n_cols":13,"rows_kept":77,"cut":false,"hidden":false,"merged":[[62,1,62,2],[62,3,62,11],[63,1,63,2],[63,3,63,11],[64,1,64,2],[64,3,64,11],[45,1,45,2],[45,3,45,11],[46,1,46,2],[46,3,46,11],[47,1,47,2],[47,3,47,11],[0,0,0,13],[1,7,1,13],[30,1,30,2],[30,3,30,11],[12,1,12,2],[12,3,12,11],[13,1,13,2],[13,3,13,11],[28,1,28,2],[28,3,28,11],[11,1,11,2],[11,3,11,11],[29,1,29,2],[29,3,29,11],[9,0,9,13],[8,0,8,13],[6,5,6,6],[7,5,7,6],[2,7,2,13],[3,7,3,13],[4,7,4,13],[5,7,5,13],[6,7,6,13],[7,7,7,13],[6,0,6,1],[7,0,7,1],[6,3,6,4],[7,3,7,4],[1,3,1,4],[1,0,1,1],[2,0,2,1],[3,0,3,1],[4,0,4,1],[5,0,5,1],[2,3,2,4],[3,3,3,4],[4,3,4,4],[5,3,5,4],[1,5,1,6],[2,5,2,6],[3,5,3,6],[4,5,4,6],[5,5,5,6]]}
["U12-U15 NOTES ENTIERES  DES LES U16, LES DEMI-NOTES SONT POSSIBLES "]
[null,null,null,null,null,null,null,"Comparaison des attentes de la classe d’âge selon la promotion des espoirs:\nTOP LEVEL = les meilleurs/ le mieux à ce niveau"]
["Rating",null,"Symbole","Prédicat",null,"Comparaison\n100% Niveau d’âge",null,"Attente=Situation de départ  du développement selon l’âge. Développement comme talent comme potentiel / point de vue d’un joueur de pointe -> joueur pro  (NLA/Nati)"]
[1,null,"--","Très insuffisant",null,"<30 %",null,"Ne correspond pas (à peine) au développement d’un tallent"]
[2,null,"-","insuffisant",null,"30-50 %",null,"Correspond juste au développement d’un talent, témoigne de certains manques dans des domaines, manques qui assombrissent le tableau général"]
[3,null,0,"moyen",null,"50-70 %",null,"Correspond à la moyenne des attentes, rempli les attentes sans aptitudes vraiment particulières"]
[4,null,"+","bon",null,"70-85 %",null,"Dépasse les attentes et montres des capacités qui sautent aux yeux dans certains domaines"]
[5,null,"++","exceptionnel",null,"85-100 %",null,"Dépasse les attentes avec des qualités exceptionnelles – appartient aux meilleurs par rapport aux attentes"]
["Les scouts/entraineur doivent avoir le courage d'utiliser toutes le valeurs !"]
["Ponderations selon Rôle / Age / Sex"]
[]
[null,"Discipline",null,"Hockey sûr glace"]
[null,"Kat.",null,"Joueur"]
[null,"Cadre",null,"U12-20"]
[]
[null,null,"SKATING","SKILL","hockey SENSE","PERSON","POWER","TEAM","AGE","PHYSE","ENTOURAGE","PREDISPOSITION"]
[null,"Age","Ponderation","Ponderation","Ponderation","Ponderation","Ponderation","Ponderation","Ponderation","Ponderation","Ponderation","Ponderation","Total"]
[null,12,16,15,20,17,10,0,12,0,5,5,{"$f":"SUM(C18:L18)","v":100}]
[null,13,16,15,20,17,10,0,12,0,5,5,100]
[null,14,12,12,20,17,10,5,10,4,5,5,100]
[null,15,12,12,20,17,10,5,10,4,5,5,100]
[null,16,10,10,20,15,10,8,4,8,5,10,100]
[null,17,10,10,20,15,10,8,4,8,5,10,100]
[null,18,10,10,20,15,10,10,0,15,0,10,100]
[null,19,10,10,20,15,10,10,0,15,0,10,100]
[null,20,10,10,20,15,10,10,0,15,0,10,100]
[]
[]
[null,"Discipline",null,"Hockey sûr glace"]
[null,"Kat.",null,"Gardiens"]
[null,"Cadre",null,"U12-20"]
[]
[null,null,"SKATING","SKILL","hockey SENSE","PERSON","POWER","TEAM","AGE","PHYSE","ENTOURAGE","PREDISPOSITION"]
[null,"Alter","Ponderation","Ponderation","Ponderation","Ponderation","Ponderation","Ponderation","Ponderation","Ponderation","Ponderation","Ponderation","Total"]
[null,12,18,15,13,15,10,3,9,5,5,7,{"$f":"SUM(C35:L35)","v":100}]
[null,13,18,15,13,15,10,3,9,5,5,7,100]
[null,14,18,15,13,15,10,3,9,5,5,7,100]
[null,15,18,15,13,15,10,3,9,5,5,7,100]
[null,16,15,17,14,15,12,5,3,8,6,5,100]
[null,17,15,17,14,15,12,5,3,8,6,5,100]
[null,18,14,14,14,16,10,8,0,12,7,5,100]
[null,19,14,14,14,16,10,8,0,12,7,5,100]
[null,20,14,14,14,16,10,8,0,12,7,5,100]
[]
[]
[null,"Discipline",null,"Hockey sûr glace féminin"]
[null,"Kat.",null,"Joueur"]
[null,"Cadre",null,"U12-20"]
[]
[null,null,"SKATING","SKILL","hockey SENSE","PERSON","POWER","TEAM","AGE","PHYSE","ENTOURAGE","PREDISPOSITION"]
[null,"Alter","Ponderation","Ponderation","Ponderation","Ponderation","Ponderation","Ponderation","Ponderation","Ponderation","Ponderation","Ponderation","Total"]
[null,12,16,15,20,17,10,null,12,null,5,5,{"$f":"SUM(C52:L52)","v":100}]
[null,13,16,15,20,17,10,null,12,null,5,5,100]
[null,14,12,12,20,17,10,5,10,4,5,5,100]
[null,15,12,12,20,17,10,5,10,4,5,5,100]
[null,16,10,10,20,15,10,8,4,8,5,10,100]
[null,17,10,10,20,15,10,8,4,8,5,10,100]
[null,18,10,10,20,15,10,10,null,15,null,10,100]
[null,19,10,10,20,15,10,10,null,15,null,10,100]
[null,20,10,10,20,15,10,10,null,15,null,10,100]
[]
[]
[null,"Discipline",null,"Hockey sûr glace féminin"]
[null,"Kat.",null,"Gardien"]
[null,"Cadre",null,"U12-20"]
[]
[null,null,"SKATING","SKILL","hockey SENSE","PERSON","POWER","TEAM","AGE","PHYSE","ENTOURAGE","PREDISPOSITION"]
[null,"Alter","Ponderation","Ponderation","Ponderation","Ponderation","Ponderation","Ponderation","Ponderation","Ponderation","Ponderation","Ponderation","Total"]
[null,12,18,16,16,18,10,null,10,null,6,6,{"$f":"SUM(C69:L69)","v":100}]
[null,13,18,16,16,18,10,null,10,null,6,6,100]
[null,14,15,15,16,17,9,3,10,4,5,6,100]
[null,15,15,15,16,17,9,3,10,4,5,6,100]
[null,16,13,13,17,17,9,7,4,8,5,7,100]
[null,17,13,13,17,17,9,7,4,8,5,7,100]
[null,18,12,12,18,17,9,9,null,15,null,8,100]
[null,19,12,12,18,17,9,9,null,15,null,8,100]
[null,20,12,12,18,17,9,9,null,15,null,8,100]

{"sheet":"Skills explications FTEM","index":1,"n_rows":56,"n_cols":7,"rows_kept":56,"cut":false,"hidden":false,"merged":[[0,0,0,2],[0,4,0,6],[3,4,7,4],[3,0,7,0],[31,0,35,0],[14,0,19,0],[26,0,30,0],[20,0,24,0],[9,0,13,0],[31,4,35,4],[26,4,30,4],[20,4,24,4],[9,4,13,4],[14,4,19,4],[36,0,40,0],[36,4,40,4],[46,0,50,0],[51,0,55,0],[46,4,50,4],[51,4,55,4],[41,0,45,0],[41,4,45,4]]}
["PLAYER",null,null,null,"GOALIE"]
[]
["TEAM","COMPÉTENCES","OBSERVATION",null,"TEAM","COMPÉTENCES","OBSERVATION"]
["ÉQUIPE","Communication","Respect et ouverture dans ses relations, confiance comme base, traite les conflits sans perturber la stabilité du groupe, communique avec ses coéquipiers, les entraîneurs et les fonctionnaires avec les mêmes valeurs",null,"TEAM","Communication","Soigne t-il son comportement d'ouverture, de respect qui est la base de la confiance, supporte t-il les conflits sans mettre la stabilité du groupe en danger, communication identiques avec les coéquipiers, les entraîneurs et les fonctionnaires"]
[null,"Capacité de jouer en équipe","Intégration dans le groupe, définit et réalise des objectifs communs, NOUS avant le MOI, participe au bon esprit d'équipe et à un bon climat de travail",null,null,"Capacité du team","Intégration dans le groupe, définir des objectifs communs et les réaliser, le nous avant le moi, participation à créer un bon esprit d'équipe et un bon climat de travail"]
[null,"Leadership","Prend des responsabilités dans le groupe, essaie de donner de la valeur à ses coéquipiers et au groupe, influence positivement la dynamique de groupe",null,null,"Leadership","Prend des responsabilités dans le groupe, essaie d'améliorer le team et ses coéquipiers, influence positivement la dynamique de groupe"]
[null,"Répartition des rôles","Connaît son rôle et le réalise, est conscient de sa position dans l'équipe et le système, met ses compétences à disposition de l'équipe",null,null,"Répartition des rôles","Connaît son rôle et sa réalisation, est il conscient de sa position par rapport à l'équipe et au système, mets ses compétences au service de l'équipe"]
[null,"Respect","Relations respectueuses avec les coéquipiers, les entraîneurs, les adversaires, les arbitres et le staff; respect des règles, des principes du fairplay (y compris antidopage)",null,null,"Respect","Respect total par rapport au coéquipier, entraîneurs, adversaires, arbitres et staff; respecte les règles, les principes du fairplay inclus le doping"]
["ON ICE","COMPÉTENCES","OBSERVATION",null,"ON ICE","COMPÉTENCES","OBSERVATION"]
["PATINAGE","Vitesse de patinage","Accélération, départ, explosivité des 3 premiers pas, fréquence",null,"PATINAGE","Avant - arrière - de côté","Avant et arrière (déplacement C-Cut), déplacement debout (parallèle, Shuffle, pas en T- Push, Jump), reste longtemps sur ses pieds et est-il capable de se repositionner correctement au puck ->Application en situation de match avec vitesse maximale "]
[null,"Vitesse, rapidité","Vitesse, faculté de glisse, avant et arrière, économie des forces",null,null,"Papillon","Maîtrise la glissade papillon et les diverses glissades en pleine vitesse, compact avec l'angle correct (90 degrés au puck) et est il capable de se positionner correctement et de faire pression sur le puck."]
[null,"Agilité","Changements de direction, pivots, stop et start «Nummelin»",null,null,"Précision / Timing ","Déplacement toujours précis par rapport à la ligne de puck (ligne imaginaire entre le puck et le milieu du but)"]
[null,"Balance","Equilibre, faculté d'être sur ses appuis, position basse, 1 ou 2 jambes",null,null,"Adaptation du patinage","A-t-il la capacité de la position à genoux de changer l'angle et la position avec les patins"]
[null,"Patinage arrière","Accélération, vitesse, équilibre ",null,null,"Vitesse","Peut-il contrôler ses déplacements à pleine vitesse"]
["SKILLS","Tirer","Efficience (pas d'espace et de temps), variantes, degré de surprise (déclenchement rapide), précision, puissance (conclusion tactique)",null,"SKILLS","Position de base","Position --> Pieds, genoux, épaules, poids légèrement sur l'avant des pieds, les mains devant le corps, position compact comme une paroi --> Contrôle de sa position debout et sur les genoux (réactif,bloc)"]
[null,"Passer","Donne la passe (distance, passe flipée en revers), réception de la passe (précision, timing, coup droit, revers, patins), vitesse du puck",null,null,"Position aux poteaux","Position --> Corps, patins, position de la canne et des bras --> Trouve sa position idéale au poteaux (Debout, Reverse, One pad down, Paddle down und Overlap)"]
[null,"Travail de canne, conduite du puck","Puck sur la palette, intercepte les lignes de passe, déviation, contrôle de la canne de l'adversaire",null,null,"Mouvement de base debout","A les capacités d'être actif et contrôlé, lorsqu'il travaille avec ses mains et sa canne"]
[null,"Protéger le puck","Contrôle du puck, dribbling, protection du puck, feintes (variantes: avec les patins ou avec et sans la bande), mise au jeu (bully)",null,null,"Mouvement de base en papillon","Dispose-t-il d'une position très compacte, a-t-il son poids devant sur les genoux et peut-il très bien travailler avec ses mains, ses jambières et sa canne"]
[null,"Jeu du corps (charges)","Faculté de s'imposer physiquement, duels (sur la surface de glace ou à la bande), prendre des checks, lever la tête, niveau de lutte, dur mais correct, bloquer les tirs avec le corps",null,null,"Management des rebonds","Contrôle à chaque instant des tirs, déviation au bon endroit des pucks avec sa canne et ses jambières --> réaction rapide et précise sur le deuxième et le troisième puck"]
[null,"-","-",null,null,"Travail de canne","Capacité de stopper des pucks à la bande et en zone (position de base comme un joueur de champ avec différentes manière de tenir sa canne), peut il faire des passes en coup droit et en revers et libérer son camp par un tir via plexiglas"]
["HOCKEY SENSE","Intelligence de jeu","Voit les zones libres avec joueurs et crée des situations de surnombre, trouve des solutions et agit en toute situation, vitesse de la visualisation",null,"HOCKEY SENSE","Travail des angles (Boxcontrol)","Capacité de trouver une position parfaite, dispose t-il de jambes et de mains très actives --> le GK dispose t-il de compréhension et de savoir lorsqu'il doit faire pression sur le puck et a-t-il la compréhension des avantages du jeu avec les angles"]
[null,"Sensibilisation offensive","Se démarque, anticipation des situations de jeu, ouvre des zones libres pour ses coéquipiers, se place pour marquer, vitesse de mise sous pression, communication",null,null,"Lecture du jeu","Connaît-il les différentes situations de conclusion d'attaque, voit-il ou se trouve les attaquants et de quel côté ils tiennent leur canne --> A-t-il la capacité de lire une situation de jeu et de réagir correctement "]
[null,"Sensibilisation défensive","Garde la position «inside», protège le slot, rassure les coéquipiers, support, anticipe les lignes de passe, bloque les tirs. Réduit rapidement la distance sur l'adversaire, communication",null,null,"Appliquer le plan de match","Dispose t-il de la compréhension de répartir la zone de défense en différents degrés et de les transférer dans la pratique, compréhension du principe 1,2,3,4 et a-t-il la capacité de s'adapter aux différentes techniques au bon moment et de les réaliser"]
[null,"Gestion du puck","Fait le bon choix en fonction de la situation, support, surnombre",null,null,"Participation active","Comment stop-t- il les pucks, a-t-il la capacité de donner des passes précises à ses coéquipiers peut-il couper des passes qui passent dans son territoire de gardien"]
[null,"Créativité","Prises de décision surprenantes, sens du but",null,null,"Tactique de l'équipe off. et def.","A-t-il le don de comprendre la tactique offensive et défensive de son équipe, réalise t-il sa tâche dans les situations de conclusions (1:1, 2:1, 2:2, 3:2, 3:1), quelle est sa faculté d'anticipation en situation de pression et fait-il le bon choix ?"]
["PERSONALITY","COMPÉTENCES","OBSERVATION",null,"PERSONALITY","COMPÉTENCES","OBSERVATION"]
["PERSONNALITÉ","Confiance en soi","Est en confiance,«I can do it», peut estimer ses capacités (connaît ses qualités et ses défauts), peut réaliser ses qualités avec constance, est courageux et prend des risques calculés",null,"PERSONNALITÉ","Confiance en soi","A-t-il beaucoup de confiance,\" je peux le faire-I can do it\", connaits ses capacités ses forces et faiblesses, peut constamment engager ses qualités, agit courageusement et prend des risques calculés"]
[null,"Facultés d'apprentissage","A une bonne perception (il peut mémoriser et peut réaliser), il a de la personnalité, essaie d'apprendre de ses erreurs et est entreprenant",null,null,"Facultés d'apprentissage","Il saisit bien les choses et peut les transposer, reflête ses choix, essaie d'apprendre de ses érreurs et peut influencer ses choix"]
[null,"Prise de responsabilités","Prend la responsabilité de ses performances et de son développement, est-il autonome, soigne-t-il les détails, a beaucoup d'engagement dans tous les domaines",null,null,"Prise de responsabilités","Prends la responsabilité de ses performances et les développe, agit indépendamment, soigne les détails, démontre beaucoup d'engagements dans tous les domaines"]
[null,"Motivation","Est toujours motivé, veut sans cesse se développer et apprendre, veut être le premier et avoir du succès, n'abandonne jamais et ne se laisse pas influencer par les échesc",null,null,"Motivation","Valeurs intrinsèques, veut sans cesse se développer et apprendre, veux- être le premier et avoir du succès, n'abandonne jamais et ne se laisse pas perturber par l'insuccès"]
[null,"Performance style de vie","Gère bien son environnement et son temps libre selon les principes de la performance, obstiné, tenace et axé sur l'objectif, accent sur sa propre performance, est courageux et peut s'imposer contre la résistance, les défis le motivent",null,null,"Performance style de vie","Gère la journée et l'environnement selon les principes de la performance, obstiné avec persévérance, focus sur les performances individuelles, montre de la passion et peut lutter contre de la résistance, les défis le motivent"]
["FORCE MENTALE","Engagement","Démontre beaucoup d'intensité dans les entraînements et les matchs, donne toujours son maximum et veut sans cesse repousser ses limites, a-t-il de la passion, s'efforce-t-il de s'entraîner avec une excellente qualité",null,"FORCE MENTALE","Engagement","Montre une haute intensité dans le jeu et à l'entraînement, donne toujours son maximum et veut repousser ses limites, montre de la passion et de l'envie de démontrer ses qualités lors de l'entraînement"]
[null,"Préparation","Se prépare-t-il toujours bien, mentalement et physiquement, se prépare-t-il toujours bien pour obtenir le niveau de performance idéal (ILZ)",null,null,"Préparation","Préparation consciente, mentale et physique, possède un déroulement efficient pour atteindre un niveau de performance idéal (ILZ)"]
[null,"Coaching personnel","A-t-il de bonnes facultés de concentration, peut-il maintenir son niveau de performance idéal (ILZ) dans les entraînements et les matchs, peut-il appliquer ses techniques de base, est-il résistant aux influences et pensées négatives, est-il conscient de son attitude corporelle et peut-il l'influencer",null,null,"Coaching personnel","Possède de bonnes capacités de concentration, peut durant le match/l'entraînement obtenir le niveau de performance idéal ILZ, peut appliquer des techniques de bases et être plus résistant contre des propos négatifs et influenssables, peut il influencer et réguler ses communications non verbales"]
[null,"Gestion des énergies","Peut-il gérer ses propres énergies, prend-il soin de sa récupération, peut-il gérer les moments où il faut se donner à fond ou quand il faut déconnecter, bouton On/Off",null,null,"Management des énergies","Peut réguler ses énergies, sa régénération, connaît-il quand il doit donner le maximum et quand il peut  se dire ok relax, bouton On/Off"]
[null,"Contrôle des émotions","Peut-il gérer ses propres émotions et impulsions, reste-t-il sous contrôle lorsqu'il y a une grande pression, peut-il rester calme lorsque le niveau émotionnel et de frustration est élevé",null,null,"Contrôle des émotions","Peut contrôler ses émotions et impulsions, garde le contrôle dans les phases de pression, peut aussi agir dans des situations émotionnelles et frustrantes"]
["PHYSIQUE","Production de la performance","A-t-il la puissance, la force, la vitesse nécessaires dans les jambes et le haut du corps (facteurs neuromusculaires)",null,"PHYSIQUE","Production de la performance","A-t-il la force, la puissance et la vitesse des jambes, du tronc (facteurs neuromusculaires)"]
[null,"Spécifique au sport, résistant à l'effort","Est-il capable de maintenir sa puissance, sa force, sa vitesse durant un long temps de glace et peut-il récupérer complètement entre ses engagements (facteurs du métabolisme et cardiovasculaire)",null,null,"Spécifique au sport. Résistant à l'effort","A-t-il la force, la puissance et la vitesse dans un long engagement de maintenir sa performance et peut il complètement récupérer entre les engagements,(facteurs métabolique et cardiovasculaire)"]
[null,"Santé / Prévention","A-t-il la stabilité nécessaire (p. ex. ses appuis) et la mobilité nécessaire au niveau des articulations centrales",null,null,"Santé / Prévention","Dispose-t-il de la force de base nécessaire (tension corporelle) ainsi que la stabilité et la mobilité (p.ex. la mobilité des hanches et de la colonne vertébrale) qui sont chez le gardien les parties les plus sollicitées"]
[null,"Mobilité / Coordination","Gère-t-il ses aptitudes de mouvements de base, qui sont un fournisseur important des fonctions spécifiques «Skills» pour être efficace",null,null,"Mobilité","Dispose-t-il de la mobilité spécifique nécessaire pour qu'il puisse réaliser sans limite les mouvements spécifiques du gardien "]
[null,"Robustesse","A-t-il la force de base nécessaire (tension corporelle) pour gagner des duels et résister aux charges",null,null,"Compétence des mouvements / Coordination","Posséde-t-il les aptitudes de mouvements qui sont indispensables pour ce sport spécifique \"Skills\" pour garantire une efficience de mouvements élevée"]
["APTITUDE","Capacité de charge","Âge relatif (développement avancé, performance élevée, sélection, meilleures stimulations / feed-back positif), âge relatif plus bas (moins de développement, performance moins élevée, pas de sélection --> Drop out, peu de stimulation, peu de performance)",null,"APTITUDE","Capacité de charge","Peut-il supporter, physiquement, mentalement, les entraînements et la pression des matches et se régénérer rapidement"]
[null,"Grandeur","Développement de l'âge biologique en comparaison avec la moyenne de la population (stade de développement réel)",null,null,"Grandeur","La grandeur défini le style de jeu; Grandeur des parents, estimation de la grandeur finale attendue et la grandeur actuelle"]
[null,"Poids","Âge biologique (AB) - âge chronologique (AC), développement avancé: AB > AC, développement tardif: AB < AC ",null,null,"Poids","Le poids défini le style de jeu; Valeurs NHL: 186+-/5.3 cm, 91.7 +/- 6.9kg (Sigmund, Kohn et Sigmundová, 2016)"]
[null,"Teneur corporelle en matières grasses","La répartition par année de naissance montre de grandes différences relatives au développement, mois de naissance",null,null,"Teneur corporelle en matières grasses","Equipe nationale, nationale ligue 8%, Elite-A 10%, Novizen Elite 10-12%, Mini Top / Moskito Top 12-15% (selon hockey sur glace Performance DEB)"]
[null,"Morphologie","Nombre d'années de pratique du hockey sur glace",null,null,"Morphologie","Ectomorph (athlète mince, peu de masse musculaire), mesomorph (corps athlètique), endomorph (corps solide et tendre)"]
["ÂGE","Âge relatif","Âge relatif (développement avancé, performance élevée, sélection, meilleures stimulations / feed-back positif), âge relatif plus bas (moins de développement, performance moins élevée, pas de sélection --> Drop out, peu de stimulation, peu de performance)",null,"ÂGE","Âge relatif","Âge relatif (développement avancé, performance élevée, selection, meilleurs stimmulation/Feedback positif), Âge relatif plus bas (moins de développement, performance moins élevée, pas de selection --> Drop out, peu de stimulation, peu de performance)"]
[null,"Âge biologique","Développement de l'âge biologique en comparaison avec la moyenne de la population (stade de développement réel)",null,null,"Âge biologique","Développement de l'âge biologique en comparaison avec la moyenne de la population (Stade de développement réelle)"]
[null,"Stade de développement","Âge biologique (AB) - âge chronologique (AC), développement avancé: AB > AC, développement tardif: AB < AC ",null,null,"Stade de développement","Âge biologique (AB) - Âge chronologique (AC), développement avancé: AB > AC, développement tardif: AB < AC "]
[null,"Effet de l'âge relatif","La répartition par année de naissance montre de grandes différences relatives au développement, mois de naissance",null,null,"Effet de l'âge relatif","Répartition par année de naissance montre de grandes différences relative au développement, mois de naissance"]
[null,"Âge de hockey","Nombre d'années de pratique du hockey sur glace",null,null,"Âge de hockey","Nombre d'année de la pratique du hockey sur glace"]
["ENVIRONNEMENT","Famille","Situation familiale stable; les parents, la parenté, les frères et sœurs soutiennent le joueur dans tous les domaines; l'engagement et l'influence des parents sont adéquats, les parents ne mettent pas trop de pression",null,"ENVIRONNEMENT","Famille","Situation familiale stable; parents, parenté, les frères et sœurs soutiennent le joueur dans tous domaines; L'engagement et l'influence des parents est adéquate, les parents ne mettent pas trop de pression"]
[null,"Ecoles / Formation","L'école/l'apprentissage et le sport sont convenus et coordonnés, les plages d'entraînement sont planifiées (équipe/individuel); la charge et la récupération sont équilibrées et supportables",null,null,"Ecoles / Formation","L'école/l'apprentissage et le sport sont convenus et coordonnés, les plages d'entraînement sont planifiées (Team/individuel); La charge et la récupération sont en équilibre et supportable"]
[null,"Situation géographique","Les lieux de l'entraînement, du logement et de l'apprentissage (étude) ne sont pas trop éloignés (petit triangle), distance; trajet de moins d'une heure par jour, famille ou famille d'accueil ",null,null,"Situation géographique","Le lieu d'entraînement, du logement et de l'apprentissage (étude) ne sont pas trop éloignés (petit triangle), Distances; trajet moins d'une heure par jour, famille ou famille d'accueil "]
[null,"Club","Nombre d'années de pratique du hockey sur glace",null,null,"Club","Nombre d'année de pratique du hockey sur glace"]
[null,"Finances","L'entourage peut supporter les frais occasionnés par ce sport ou il y a des possibilités d'arrangements financiers qui permettent le financement",null,null,"Finances","L'environnement peut supporter les frais occasionnés par ce sport ou il y a des possibilités d'arrangements financier qui soutiennent le financement"]

{"sheet":"Feuille du Joueur","index":2,"n_rows":50,"n_cols":25,"rows_kept":50,"cut":false,"hidden":false,"merged":[[40,23,44,23],[41,3,41,5],[41,6,41,11],[44,3,44,5],[44,6,44,11],[40,12,44,12],[40,14,44,14],[40,15,44,21],[40,0,44,2],[40,3,40,5],[40,6,40,11],[35,23,39,23],[36,3,36,5],[36,6,36,11],[37,3,37,5],[37,6,37,11],[39,3,39,5],[39,6,39,11],[35,12,39,12],[35,14,39,14],[35,15,39,21],[34,12,34,13],[34,15,34,21],[35,0,39,2],[35,3,35,5],[35,6,35,11],[34,0,34,2],[34,3,34,5],[34,6,34,11],[29,15,33,21],[23,23,28,23],[24,3,24,5],[24,6,24,11],[28,3,28,5],[28,6,28,11],[29,0,33,2],[29,3,29,5],[29,6,29,11],[23,12,28,12],[23,14,28,14],[23,15,28,21],[23,0,28,2],[23,3,23,5],[23,6,23,11],[29,23,33,23],[30,3,30,5],[30,6,30,11],[32,3,32,5],[32,6,32,11],[33,3,33,5],[33,6,33,11],[29,12,33,12],[29,14,33,14],[25,3,25,5],[18,23,22,23],[19,3,19,5],[19,6,19,11],[20,3,20,5],[20,6,20,11],[22,3,22,5],[22,6,22,11],[18,12,22,12],[18,14,22,14],[18,15,22,21],[17,12,17,13],[17,15,17,21],[18,0,22,2],[18,3,18,5],[18,6,18,11],[17,0,17,2],[17,3,17,5],[17,6,17,11],[12,12,16,12],[12,14,16,14],[12,15,16,21],[21,3,21,5],[21,6,21,11],[3,10,3,13],[4,0,4,1],[4,2,4,5],[4,10,4,13],[12,23,16,23],[16,3,16,5],[16,6,16,11],[11,12,11,13],[11,15,11,21],[12,0,16,2],[12,3,12,5],[12,6,12,11],[10,0,10,13],[10,14,10,24],[11,0,11,2],[11,3,11,5],[11,6,11,11],[13,3,13,5],[13,6,13,11],[14,3,14,5],[14,6,14,11],[15,3,15,5],[15,6,15,11],[45,0,49,2],[43,3,43,5],[43,6,43,11],[45,12,49,12],[45,14,49,14],[45,15,49,21],[45,23,49,23],[0,0,0,13],[0,14,0,15],[0,16,0,21],[0,22,0,24],[1,0,1,1],[1,2,1,5],[1,10,1,13],[6,0,6,1],[6,2,6,24],[7,0,7,1],[7,2,7,24],[8,0,8,1],[8,2,8,24],[2,0,2,1],[2,2,2,5],[2,11,2,13],[3,0,3,1],[25,6,25,11],[45,3,45,5],[45,6,45,11],[46,3,46,5],[46,6,46,11],[48,3,48,5],[48,6,48,11],[49,3,49,5],[49,6,49,11],[26,3,26,5],[26,6,26,11],[27,3,27,5],[27,6,27,11],[31,3,31,5],[31,6,31,11],[38,3,38,5],[38,6,38,11],[42,3,42,5],[42,6,42,11],[47,3,47,5],[47,6,47,11]]}
["Infos personelles",null,null,null,null,null,null,null,null,null,null,null,null,null,"Predispositions",null,"Evaluations",null,null,null,null,null,"Rating"]
["PRENOM",null,null,null,null,null,"POSITION",null,null,"ADRESSE",null,null,null,null,"\"àage\" (Biologique/age relatif)",null,"Date 1",null,null,"cm",null,"Kg",null,"EXCELLENT",5]
["NOM",null,null,null,null,null,"CANNE",null,null,"LIEU",null,null,null,null,"predispositions",null,"Date 2",null,null,"cm",null,"Kg",null,"BON",4]
["DATE NAISS.",null,null,null,null,null,"GRANDEUR",null,"cm (Final)","PHONE",null,null,null,null,"Entourage",null,"Date 3",null,null,"cm",null,"Kg",null,"MOYEN",3]
["SEXE",null,null,null,null,null,"POIDS",null,"Kg (Final)","E-Mail",null,null,null,null,null,null,"Date 4",null,null,"cm",null,"Kg",null,"MANQUES",2]
[null,null,null,null,null,null,null,null,null,null,null,null,null,null,null,null,"Date 5",null,null,"cm",null,"Kg",null,"INSUFFISANT",1]
["Vision",null,"xxx"]
["Next step",null,"xxx"]
["Profil du Joueur",null,"xxx"]
[]
["EVALUATION (COACH / JOUEUR)",null,null,null,null,null,null,null,null,null,null,null,null,null,"SMART"]
[{"$f":"'Skills explications FTEM'!A3:A3","v":"TEAM"},null,null,{"$f":"'Skills explications FTEM'!B3","v":"COMPÉTENCES"},null,null,{"$f":"'Skills explications FTEM'!C3","v":"OBSERVATION"},null,null,{"$f":"'Skills explications FTEM'!H3","v":0},null,null,"Player",null,"BUT","MESURES:\nSPECIFIQUE, MESURABLES, REALISTE",null,null,null,null,null,null,"DELAI","CONTRÔLE DU BUT","Date"]
[{"$f":"'Skills explications FTEM'!A4:A4","v":"ÉQUIPE"},null,null,{"$f":"IF($H$2=\"G\",'Skills explications FTEM'!F4,'Skills explications FTEM'!B4)","v":"Communication"},null,null,{"$f":"IF($H$2=\"G\",'Skills explications FTEM'!G4,'Skills explications FTEM'!C4)","v":"Respect et ouverture dans ses relations, confiance comme base, traite les conflits sans perturber la stabilité du groupe, communique avec ses coéquipiers, les entraîneurs et les fonctionnaires avec les mêmes valeurs"},null,null,{"$f":"IF($H$2=\"G\",'Skills explications FTEM'!#REF!,'Skills explications FTEM'!#REF!)","v":{"$error":"#REF!"}},null,null,{"$f":"IFERROR(AVERAGE(N13:N17),\"-\")","v":"-"}]
[null,null,null,{"$f":"IF($H$2=\"G\",'Skills explications FTEM'!F5,'Skills explications FTEM'!B5)","v":"Capacité de jouer en équipe"},null,null,{"$f":"IF($H$2=\"G\",'Skills explications FTEM'!G5,'Skills explications FTEM'!C5)","v":"Intégration dans le groupe, définit et réalise des objectifs communs, NOUS avant le MOI, participe au bon esprit d'équipe et à un bon climat de travail"},null,null,{"$f":"IF($H$2=\"G\",'Skills explications FTEM'!#REF!,'Skills explications FTEM'!#REF!)","v":{"$error":"#REF!"}}]
[null,null,null,{"$f":"IF($H$2=\"G\",'Skills explications FTEM'!F6,'Skills explications FTEM'!B6)","v":"Leadership"},null,null,{"$f":"IF($H$2=\"G\",'Skills explications FTEM'!G6,'Skills explications FTEM'!C6)","v":"Prend des responsabilités dans le groupe, essaie de donner de la valeur à ses coéquipiers et au groupe, influence positivement la dynamique de groupe"},null,null,{"$f":"IF($H$2=\"G\",'Skills explications FTEM'!#REF!,'Skills explications FTEM'!#REF!)","v":{"$error":"#REF!"}}]
[null,null,null,{"$f":"IF($H$2=\"G\",'Skills explications FTEM'!F7,'Skills explications FTEM'!B7)","v":"Répartition des rôles"},null,null,{"$f":"IF($H$2=\"G\",'Skills explications FTEM'!G7,'Skills explications FTEM'!C7)","v":"Connaît son rôle et le réalise, est conscient de sa position dans l'équipe et le système, met ses compétences à disposition de l'équipe"},null,null,{"$f":"IF($H$2=\"G\",'Skills explications FTEM'!#REF!,'Skills explications FTEM'!#REF!)","v":{"$error":"#REF!"}}]
[{"$f":"'Skills explications FTEM'!A8:A8","v":0},null,null,{"$f":"IF($H$2=\"G\",'Skills explications FTEM'!F8,'Skills explications FTEM'!B8)","v":"Respect"},null,null,{"$f":"IF($H$2=\"G\",'Skills explications FTEM'!G8,'Skills explications FTEM'!C8)","v":"Relations respectueuses avec les coéquipiers, les entraîneurs, les adversaires, les arbitres et le staff; respect des règles, des principes du fairplay (y compris antidopage)"},null,null,{"$f":"IF($H$2=\"G\",'Skills explications FTEM'!#REF!,'Skills explications FTEM'!#REF!)","v":{"$error":"#REF!"}}]
[{"$f":"'Skills explications FTEM'!A9:A9","v":"ON ICE"},null,null,{"$f":"'Skills explications FTEM'!B9","v":"COMPÉTENCES"},null,null,{"$f":"'Skills explications FTEM'!C9","v":"OBSERVATION"},null,null,{"$f":"'Skills explications FTEM'!H9","v":0},null,null,"Player",null,"BUT","MESURES:\nSPECIFIQUE, MESURABLES, REALISTE",null,null,null,null,null,null,"DELAI","CONTRÔLE DU BUT","Date"]
[{"$f":"'Skills explications FTEM'!A10:A10","v":"PATINAGE"},null,null,{"$f":"IF($H$2=\"G\",'Skills explications FTEM'!F10,'Skills explications FTEM'!B10)","v":"Vitesse de patinage"},null,null,{"$f":"IF($H$2=\"G\",'Skills explications FTEM'!G10,'Skills explications FTEM'!C10)","v":"Accélération, départ, explosivité des 3 premiers pas, fréquence"},null,null,{"$f":"IF($H$2=\"G\",'Skills explications FTEM'!#REF!,'Skills explications FTEM'!#REF!)","v":{"$error":"#REF!"}},null,null,{"$f":"IFERROR(AVERAGE(N19:N23),\"-\")","v":"-"}]
[{"$f":"'Skills explications FTEM'!A11:A11","v":0},null,null,{"$f":"IF($H$2=\"G\",'Skills explications FTEM'!F11,'Skills explications FTEM'!B11)","v":"Vitesse, rapidité"},null,null,{"$f":"IF($H$2=\"G\",'Skills explications FTEM'!G11,'Skills explications FTEM'!C11)","v":"Vitesse, faculté de glisse, avant et arrière, économie des forces"},null,null,{"$f":"IF($H$2=\"G\",'Skills explications FTEM'!#REF!,'Skills explications FTEM'!#REF!)","v":{"$error":"#REF!"}}]
[{"$f":"'Skills explications FTEM'!A12:A12","v":0},null,null,{"$f":"IF($H$2=\"G\",'Skills explications FTEM'!F12,'Skills explications FTEM'!B12)","v":"Agilité"},null,null,{"$f":"IF($H$2=\"G\",'Skills explications FTEM'!G12,'Skills explications FTEM'!C12)","v":"Changements de direction, pivots, stop et start «Nummelin»"},null,null,{"$f":"IF($H$2=\"G\",'Skills explications FTEM'!#REF!,'Skills explications FTEM'!#REF!)","v":{"$error":"#REF!"}},null,null,{"$f":"IFERROR(AVERAGE(N21:N23),\"-\")","v":"-"}]
[null,null,null,{"$f":"IF($H$2=\"G\",'Skills explications FTEM'!F13,'Skills explications FTEM'!B13)","v":"Balance"},null,null,{"$f":"IF($H$2=\"G\",'Skills explications FTEM'!G13,'Skills explications FTEM'!C13)","v":"Equilibre, faculté d'être sur ses appuis, position basse, 1 ou 2 jambes"},null,null,{"$f":"IF($H$2=\"G\",'Skills explications FTEM'!#REF!,'Skills explications FTEM'!#REF!)","v":{"$error":"#REF!"}}]
[{"$f":"'Skills explications FTEM'!#REF!","v":{"$error":"#REF!"}},null,null,{"$f":"IF($H$2=\"G\",'Skills explications FTEM'!F14,'Skills explications FTEM'!B14)","v":"Patinage arrière"},null,null,{"$f":"IF($H$2=\"G\",'Skills explications FTEM'!G14,'Skills explications FTEM'!C14)","v":"Accélération, vitesse, équilibre "},null,null,{"$f":"IF($H$2=\"G\",'Skills explications FTEM'!#REF!,'Skills explications FTEM'!#REF!)","v":{"$error":"#REF!"}}]
[{"$f":"'Skills explications FTEM'!A15:A15","v":"SKILLS"},null,null,{"$f":"IF($H$2=\"G\",'Skills explications FTEM'!F15,'Skills explications FTEM'!B15)","v":"Tirer"},null,null,{"$f":"IF($H$2=\"G\",'Skills explications FTEM'!G15,'Skills explications FTEM'!C15)","v":"Efficience (pas d'espace et de temps), variantes, degré de surprise (déclenchement rapide), précision, puissance (conclusion tactique)"},null,null,{"$f":"IF($H$2=\"G\",'Skills explications FTEM'!#REF!,'Skills explications FTEM'!#REF!)","v":{"$error":"#REF!"}},null,null,{"$f":"IFERROR(AVERAGE(N24:N29),\"-\")","v":"-"}]
[{"$f":"'Skills explications FTEM'!A16:A16","v":0},null,null,{"$f":"IF($H$2=\"G\",'Skills explications FTEM'!F16,'Skills explications FTEM'!B16)","v":"Passer"},null,null,{"$f":"IF($H$2=\"G\",'Skills explications FTEM'!G16,'Skills explications FTEM'!C16)","v":"Donne la passe (distance, passe flipée en revers), réception de la passe (précision, timing, coup droit, revers, patins), vitesse du puck"},null,null,{"$f":"IF($H$2=\"G\",'Skills explications FTEM'!#REF!,'Skills explications FTEM'!#REF!)","v":{"$error":"#REF!"}}]
[{"$f":"'Skills explications FTEM'!A17:A17","v":0},null,null,{"$f":"IF($H$2=\"G\",'Skills explications FTEM'!F17,'Skills explications FTEM'!B17)","v":"Travail de canne, conduite du puck"},null,null,{"$f":"IF($H$2=\"G\",'Skills explications FTEM'!G17,'Skills explications FTEM'!C17)","v":"Puck sur la palette, intercepte les lignes de passe, déviation, contrôle de la canne de l'adversaire"},null,null,{"$f":"IF($H$2=\"G\",'Skills explications FTEM'!#REF!,'Skills explications FTEM'!#REF!)","v":{"$error":"#REF!"}}]
[null,null,null,{"$f":"IF($H$2=\"G\",'Skills explications FTEM'!F18,'Skills explications FTEM'!B18)","v":"Protéger le puck"},null,null,{"$f":"IF($H$2=\"G\",'Skills explications FTEM'!G18,'Skills explications FTEM'!C18)","v":"Contrôle du puck, dribbling, protection du puck, feintes (variantes: avec les patins ou avec et sans la bande), mise au jeu (bully)"},null,null,{"$f":"IF($H$2=\"G\",'Skills explications FTEM'!#REF!,'Skills explications FTEM'!#REF!)","v":{"$error":"#REF!"}}]
[null,null,null,{"$f":"IF($H$2=\"G\",'Skills explications FTEM'!F19,'Skills explications FTEM'!B19)","v":"Jeu du corps (charges)"},null,null,{"$f":"IF($H$2=\"G\",'Skills explications FTEM'!G19,'Skills explications FTEM'!C19)","v":"Faculté de s'imposer physiquement, duels (sur la surface de glace ou à la bande), prendre des checks, lever la tête, niveau de lutte, dur mais correct, bloquer les tirs avec le corps"},null,null,{"$f":"IF($H$2=\"G\",'Skills explications FTEM'!#REF!,'Skills explications FTEM'!#REF!)","v":{"$error":"#REF!"}}]
[{"$f":"'Skills explications FTEM'!A20:A20","v":0},null,null,{"$f":"IF($H$2=\"G\",'Skills explications FTEM'!F20,'Skills explications FTEM'!B20)","v":"-"},null,null,{"$f":"IF($H$2=\"G\",'Skills explications FTEM'!G20,'Skills explications FTEM'!C20)","v":"-"},null,null,{"$f":"IF($H$2=\"G\",'Skills explications FTEM'!#REF!,'Skills explications FTEM'!#REF!)","v":{"$error":"#REF!"}}]
[{"$f":"'Skills explications FTEM'!A21:A21","v":"HOCKEY SENSE"},null,null,{"$f":"IF($H$2=\"G\",'Skills explications FTEM'!F21,'Skills explications FTEM'!B21)","v":"Intelligence de jeu"},null,null,{"$f":"IF($H$2=\"G\",'Skills explications FTEM'!G21,'Skills explications FTEM'!C21)","v":"Voit les zones libres avec joueurs et crée des situations de surnombre, trouve des solutions et agit en toute situation, vitesse de la visualisation"},null,null,{"$f":"IF($H$2=\"G\",'Skills explications FTEM'!#REF!,'Skills explications FTEM'!#REF!)","v":{"$error":"#REF!"}},null,null,{"$f":"IFERROR(AVERAGE(N30:N34),\"-\")","v":"-"}]
[{"$f":"'Skills explications FTEM'!A22:A22","v":0},null,null,{"$f":"IF($H$2=\"G\",'Skills explications FTEM'!F22,'Skills explications FTEM'!B22)","v":"Sensibilisation offensive"},null,null,{"$f":"IF($H$2=\"G\",'Skills explications FTEM'!G22,'Skills explications FTEM'!C22)","v":"Se démarque, anticipation des situations de jeu, ouvre des zones libres pour ses coéquipiers, se place pour marquer, vitesse de mise sous pression, communication"},null,null,{"$f":"IF($H$2=\"G\",'Skills explications FTEM'!#REF!,'Skills explications FTEM'!#REF!)","v":{"$error":"#REF!"}}]
[null,null,null,{"$f":"IF($H$2=\"G\",'Skills explications FTEM'!F23,'Skills explications FTEM'!B23)","v":"Sensibilisation défensive"},null,null,{"$f":"IF($H$2=\"G\",'Skills explications FTEM'!G23,'Skills explications FTEM'!C23)","v":"Garde la position «inside», protège le slot, rassure les coéquipiers, support, anticipe les lignes de passe, bloque les tirs. Réduit rapidement la distance sur l'adversaire, communication"},null,null,{"$f":"IF($H$2=\"G\",'Skills explications FTEM'!#REF!,'Skills explications FTEM'!#REF!)","v":{"$error":"#REF!"}}]
[{"$f":"'Skills explications FTEM'!A23:A23","v":0},null,null,{"$f":"IF($H$2=\"G\",'Skills explications FTEM'!F24,'Skills explications FTEM'!B24)","v":"Gestion du puck"},null,null,{"$f":"IF($H$2=\"G\",'Skills explications FTEM'!G24,'Skills explications FTEM'!C24)","v":"Fait le bon choix en fonction de la situation, support, surnombre"},null,null,{"$f":"IF($H$2=\"G\",'Skills explications FTEM'!#REF!,'Skills explications FTEM'!#REF!)","v":{"$error":"#REF!"}}]
[{"$f":"'Skills explications FTEM'!A25:A25","v":0},null,null,{"$f":"IF($H$2=\"G\",'Skills explications FTEM'!F25,'Skills explications FTEM'!B25)","v":"Créativité"},null,null,{"$f":"IF($H$2=\"G\",'Skills explications FTEM'!G25,'Skills explications FTEM'!C25)","v":"Prises de décision surprenantes, sens du but"},null,null,{"$f":"IF($H$2=\"G\",'Skills explications FTEM'!#REF!,'Skills explications FTEM'!#REF!)","v":{"$error":"#REF!"}}]
[{"$f":"'Skills explications FTEM'!A26:A26","v":"PERSONALITY"},null,null,{"$f":"'Skills explications FTEM'!B26","v":"COMPÉTENCES"},null,null,{"$f":"'Skills explications FTEM'!C26","v":"OBSERVATION"},null,null,{"$f":"'Skills explications FTEM'!H26","v":0},null,null,"Player",null,"BUT","MESURES:\nSPECIFIQUE, MESURABLES, REALISTE",null,null,null,null,null,null,"DELAI","CONTRÔLE DU BUT","Date"]
[{"$f":"'Skills explications FTEM'!A27:A27","v":"PERSONNALITÉ"},null,null,{"$f":"IF($H$2=\"G\",'Skills explications FTEM'!F27,'Skills explications FTEM'!B27)","v":"Confiance en soi"},null,null,{"$f":"IF($H$2=\"G\",'Skills explications FTEM'!G27,'Skills explications FTEM'!C27)","v":"Est en confiance,«I can do it», peut estimer ses capacités (connaît ses qualités et ses défauts), peut réaliser ses qualités avec constance, est courageux et prend des risques calculés"},null,null,{"$f":"IF($H$2=\"G\",'Skills explications FTEM'!#REF!,'Skills explications FTEM'!#REF!)","v":{"$error":"#REF!"}},null,null,{"$f":"IFERROR(AVERAGE(N36:N40),\"-\")","v":"-"}]
[{"$f":"'Skills explications FTEM'!A28:A28","v":0},null,null,{"$f":"IF($H$2=\"G\",'Skills explications FTEM'!F28,'Skills explications FTEM'!B28)","v":"Facultés d'apprentissage"},null,null,{"$f":"IF($H$2=\"G\",'Skills explications FTEM'!G28,'Skills explications FTEM'!C28)","v":"A une bonne perception (il peut mémoriser et peut réaliser), il a de la personnalité, essaie d'apprendre de ses erreurs et est entreprenant"},null,null,{"$f":"IF($H$2=\"G\",'Skills explications FTEM'!#REF!,'Skills explications FTEM'!#REF!)","v":{"$error":"#REF!"}}]
[{"$f":"'Skills explications FTEM'!A29:A29","v":0},null,null,{"$f":"IF($H$2=\"G\",'Skills explications FTEM'!F29,'Skills explications FTEM'!B29)","v":"Prise de responsabilités"},null,null,{"$f":"IF($H$2=\"G\",'Skills explications FTEM'!G29,'Skills explications FTEM'!C29)","v":"Prend la responsabilité de ses performances et de son développement, est-il autonome, soigne-t-il les détails, a beaucoup d'engagement dans tous les domaines"},null,null,{"$f":"IF($H$2=\"G\",'Skills explications FTEM'!#REF!,'Skills explications FTEM'!#REF!)","v":{"$error":"#REF!"}}]
[null,null,null,{"$f":"IF($H$2=\"G\",'Skills explications FTEM'!F30,'Skills explications FTEM'!B30)","v":"Motivation"},null,null,{"$f":"IF($H$2=\"G\",'Skills explications FTEM'!G30,'Skills explications FTEM'!C30)","v":"Est toujours motivé, veut sans cesse se développer et apprendre, veut être le premier et avoir du succès, n'abandonne jamais et ne se laisse pas influencer par les échesc"},null,null,{"$f":"IF($H$2=\"G\",'Skills explications FTEM'!#REF!,'Skills explications FTEM'!#REF!)","v":{"$error":"#REF!"}}]
[{"$f":"'Skills explications FTEM'!A31:A31","v":0},null,null,{"$f":"IF($H$2=\"G\",'Skills explications FTEM'!F31,'Skills explications FTEM'!B31)","v":"Performance style de vie"},null,null,{"$f":"IF($H$2=\"G\",'Skills explications FTEM'!G31,'Skills explications FTEM'!C31)","v":"Gère bien son environnement et son temps libre selon les principes de la performance, obstiné, tenace et axé sur l'objectif, accent sur sa propre performance, est courageux et peut s'imposer contre la résistance, les défis le motivent"},null,null,{"$f":"IF($H$2=\"G\",'Skills explications FTEM'!#REF!,'Skills explications FTEM'!#REF!)","v":{"$error":"#REF!"}}]
[{"$f":"'Skills explications FTEM'!A32:A32","v":"FORCE MENTALE"},null,null,{"$f":"IF($H$2=\"G\",'Skills explications FTEM'!F32,'Skills explications FTEM'!B32)","v":"Engagement"},null,null,{"$f":"IF($H$2=\"G\",'Skills explications FTEM'!G32,'Skills explications FTEM'!C32)","v":"Démontre beaucoup d'intensité dans les entraînements et les matchs, donne toujours son maximum et veut sans cesse repousser ses limites, a-t-il de la passion, s'efforce-t-il de s'entraîner avec une excellente qualité"},null,null,{"$f":"IF($H$2=\"G\",'Skills explications FTEM'!#REF!,'Skills explications FTEM'!#REF!)","v":{"$error":"#REF!"}},null,null,{"$f":"IFERROR(AVERAGE(N41:N45),\"-\")","v":"-"}]
[{"$f":"'Skills explications FTEM'!A33:A33","v":0},null,null,{"$f":"IF($H$2=\"G\",'Skills explications FTEM'!F33,'Skills explications FTEM'!B33)","v":"Préparation"},null,null,{"$f":"IF($H$2=\"G\",'Skills explications FTEM'!G33,'Skills explications FTEM'!C33)","v":"Se prépare-t-il toujours bien, mentalement et physiquement, se prépare-t-il toujours bien pour obtenir le niveau de performance idéal (ILZ)"},null,null,{"$f":"IF($H$2=\"G\",'Skills explications FTEM'!#REF!,'Skills explications FTEM'!#REF!)","v":{"$error":"#REF!"}}]
[null,null,null,{"$f":"IF($H$2=\"G\",'Skills explications FTEM'!F34,'Skills explications FTEM'!B34)","v":"Coaching personnel"},null,null,{"$f":"IF($H$2=\"G\",'Skills explications FTEM'!G34,'Skills explications FTEM'!C34)","v":"A-t-il de bonnes facultés de concentration, peut-il maintenir son niveau de performance idéal (ILZ) dans les entraînements et les matchs, peut-il appliquer ses techniques de base, est-il résistant aux influences et pensées négatives, est-il conscient de son attitude corporelle et peut-il l'influencer"},null,null,{"$f":"IF($H$2=\"G\",'Skills explications FTEM'!#REF!,'Skills explications FTEM'!#REF!)","v":{"$error":"#REF!"}}]
[{"$f":"'Skills explications FTEM'!A34:A34","v":0},null,null,{"$f":"IF($H$2=\"G\",'Skills explications FTEM'!F35,'Skills explications FTEM'!B35)","v":"Gestion des énergies"},null,null,{"$f":"IF($H$2=\"G\",'Skills explications FTEM'!G35,'Skills explications FTEM'!C35)","v":"Peut-il gérer ses propres énergies, prend-il soin de sa récupération, peut-il gérer les moments où il faut se donner à fond ou quand il faut déconnecter, bouton On/Off"},null,null,{"$f":"IF($H$2=\"G\",'Skills explications FTEM'!#REF!,'Skills explications FTEM'!#REF!)","v":{"$error":"#REF!"}}]
[{"$f":"'Skills explications FTEM'!A36:A36","v":0},null,null,{"$f":"IF($H$2=\"G\",'Skills explications FTEM'!F36,'Skills explications FTEM'!B36)","v":"Contrôle des émotions"},null,null,{"$f":"IF($H$2=\"G\",'Skills explications FTEM'!G36,'Skills explications FTEM'!C36)","v":"Peut-il gérer ses propres émotions et impulsions, reste-t-il sous contrôle lorsqu'il y a une grande pression, peut-il rester calme lorsque le niveau émotionnel et de frustration est élevé"},null,null,{"$f":"IF($H$2=\"G\",'Skills explications FTEM'!#REF!,'Skills explications FTEM'!#REF!)","v":{"$error":"#REF!"}}]
[{"$f":"'Skills explications FTEM'!A37:A37","v":"PHYSIQUE"},null,null,{"$f":"IF($H$2=\"G\",'Skills explications FTEM'!F37,'Skills explications FTEM'!B37)","v":"Production de la performance"},null,null,{"$f":"IF($H$2=\"G\",'Skills explications FTEM'!G37,'Skills explications FTEM'!C37)","v":"A-t-il la puissance, la force, la vitesse nécessaires dans les jambes et le haut du corps (facteurs neuromusculaires)"},null,null,{"$f":"IF($H$2=\"G\",'Skills explications FTEM'!#REF!,'Skills explications FTEM'!#REF!)","v":{"$error":"#REF!"}},null,null,{"$f":"IFERROR(AVERAGE(N46:N50),\"-\")","v":"-"}]
[{"$f":"'Skills explications FTEM'!A38:A38","v":0},null,null,{"$f":"IF($H$2=\"G\",'Skills explications FTEM'!F38,'Skills explications FTEM'!B38)","v":"Spécifique au sport, résistant à l'effort"},null,null,{"$f":"IF($H$2=\"G\",'Skills explications FTEM'!G38,'Skills explications FTEM'!C38)","v":"Est-il capable de maintenir sa puissance, sa force, sa vitesse durant un long temps de glace et peut-il récupérer complètement entre ses engagements (facteurs du métabolisme et cardiovasculaire)"},null,null,{"$f":"IF($H$2=\"G\",'Skills explications FTEM'!#REF!,'Skills explications FTEM'!#REF!)","v":{"$error":"#REF!"}}]
[null,null,null,{"$f":"IF($H$2=\"G\",'Skills explications FTEM'!F39,'Skills explications FTEM'!B39)","v":"Santé / Prévention"},null,null,{"$f":"IF($H$2=\"G\",'Skills explications FTEM'!G39,'Skills explications FTEM'!C39)","v":"A-t-il la stabilité nécessaire (p. ex. ses appuis) et la mobilité nécessaire au niveau des articulations centrales"},null,null,{"$f":"IF($H$2=\"G\",'Skills explications FTEM'!#REF!,'Skills explications FTEM'!#REF!)","v":{"$error":"#REF!"}}]
[{"$f":"'Skills explications FTEM'!A39:A39","v":0},null,null,{"$f":"IF($H$2=\"G\",'Skills explications FTEM'!F40,'Skills explications FTEM'!B40)","v":"Mobilité / Coordination"},null,null,{"$f":"IF($H$2=\"G\",'Skills explications FTEM'!G40,'Skills explications FTEM'!C40)","v":"Gère-t-il ses aptitudes de mouvements de base, qui sont un fournisseur important des fonctions spécifiques «Skills» pour être efficace"},null,null,{"$f":"IF($H$2=\"G\",'Skills explications FTEM'!#REF!,'Skills explications FTEM'!#REF!)","v":{"$error":"#REF!"}}]
[{"$f":"'Skills explications FTEM'!A41:A41","v":0},null,null,{"$f":"IF($H$2=\"G\",'Skills explications FTEM'!F41,'Skills explications FTEM'!B41)","v":"Robustesse"},null,null,{"$f":"IF($H$2=\"G\",'Skills explications FTEM'!G41,'Skills explications FTEM'!C41)","v":"A-t-il la force de base nécessaire (tension corporelle) pour gagner des duels et résister aux charges"},null,null,{"$f":"IF($H$2=\"G\",'Skills explications FTEM'!#REF!,'Skills explications FTEM'!#REF!)","v":{"$error":"#REF!"}}]

{"sheet":"Feuille de selection","index":3,"n_rows":40,"n_cols":55,"rows_kept":40,"cut":false,"hidden":false,"merged":[[2,10,2,13],[6,10,6,13],[0,0,0,34],[8,35,8,44],[4,12,4,13],[2,33,2,34],[4,33,4,34],[6,33,6,34],[8,0,8,34]]}
["SIHF STAR PROFILE"]
[null,null,null,null,null,null,"SEX",null,null,null,null,null,null,null,null,null,null,null,null,"G"]
[null,null,null,null,null,null,"M",null,null,"CLUB","HC Musterclub",null,null,null,null,null,null,null,null,null,null,null,null,null,null,null,null,null,null,null,null,null,"TEAM","U15"]
[]
[null,null,null,null,null,null,"W",null,null,"SAISON",2019,"-",2020,null,null,null,null,null,null,null,null,null,null,null,null,null,null,null,null,null,null,null,"CLASSE D'AGE",2005]
[]
[null,null,null,null,null,null,null,null,null,"ÉTAT","2019-06-26",null,null,null,null,null,null,null,null,null,null,null,null,null,null,null,null,null,null,null,null,null,"COACH","Daniele Celio"]
[]
["VALUTATIONS FINALE"]
["Spielre ID","Name\nNom","Vorname\nPrénom","Club","Strasse\nRue","Ort\nLieu","PLZ","Phone\n(Natel / Home)","EMAIL","Grösse\nGrandeur","Gewicht\nPoid","Position\nG / D / FC / FW","Sex","Geburtsdatum\nDate de naissance","Monat\nmois","Jahr\nannée","Testdatum\nDate du test","Monat","Jahr","SKATING","SKILLS","hockey SENSE","PERSON","POWER","PYHSE (Athletik)","TEAM","ALTER\nAGE","UMFELD\nENTOURAGE","VERANLAGUNG\nPREDISPOSITION","TOTAL ","RANG","Verletzt\nBlessé?","Selektionsentscheid\nDécision de sélection","Tendenz / Tendance:\nLEISTUNGSENTWICKLUNG\nDévelop. de la performance","Bemerkung\nRemarques","Gewichtung\nSKATING","Gewichtung\nSKILLS","Gewichtung\nHockey Sense","Gewichtung\nPerson","Gewichtung\nPower","Gewichtung\nTeam","Gewichtung\nPhyse","Gewichtung\nAlter","Gewichtung\nUmfeld","Gewichtung\nVeranlagung","Gewichtung\nSkating2","Gewichtung\nSkills2","Gewichtung\nHockey Sense4","Gewichtung\nPerson5","Gewichtung\nPower6","Gewichtung\nTeam7","Gewichtung\nTeam8","Gewichtung\nAlter8","Gewichtung\nUmfeld10","Gewichtung\nVeranlagung11"]
[1,"xxx","xxx",{"$f":"IF(ISBLANK(B11),\"-\",$K$3)","v":"HC Musterclub"},"xxx","xxx","xxxx","xxx xxx xx xx",null,{"$f":"IF(ISBLANK('1'!$H$4),\"-\",'1'!$H$4)","v":"-"},{"$f":"IF(ISBLANK('1'!$H$5),\"-\",'1'!$H$5)","v":"-"},{"$f":"IF(ISBLANK('1'!$H$2),\"-\",'1'!$H$2)","v":"-"},"M","xx","xx",null,null,null,null,{"$f":"'1'!$M$19","v":0},{"$f":"'1'!$M$24","v":0},{"$f":"'1'!$M$30","v":0},{"$f":"'1'!$M$36","v":0},{"$f":"'1'!$M$41","v":0},{"$f":"'1'!$M$46","v":0},{"$f":"'1'!$M$13","v":0},{"$f":"'1'!$AA$2","v":0},{"$f":"'1'!$AA$4","v":0},{"$f":"'1'!$AA$3","v":0},{"$f":"IF(Tabelle3[[#This Row],[SKATING]]=0,\"-\",IF(Tabelle3[[#This Row],[Sex]]=\"M\",SUMPRODUCT(Tabelle3[[#This Row],[SKATING]:[VERANLAGUNG\nPREDISPOSITION]],AJ11:AS11),SUMPRODUCT(Tabelle3[[#This Row],[SKATING]:[VERANLAGUNG\nPREDISPOSITION]],AT11:BC11)))","v":"-"},{"$f":"IFERROR(RANK(Tabelle3[[#This Row],[TOTAL ]],Tabelle3[[TOTAL ]],0),\"-\")","v":"-"},null,null,null,null,{"$f":"IF(Tabelle3[[#This Row],[Position\nG / D / FC / FW]]=\"G\",VLOOKUP($M$5-Tabelle3[[#This Row],[Jahr\nannée]],GOALI,2),VLOOKUP($M$5-Tabelle3[[#This Row],[Jahr\nannée]],SPIELER,2))","v":10},{"$f":"IF(Tabelle3[[#This Row],[Position\nG / D / FC / FW]]=\"G\",VLOOKUP($M$5-Tabelle3[[#This Row],[Jahr\nannée]],GOALI,3),VLOOKUP($M$5-Tabelle3[[#This Row],[Jahr\nannée]],SPIELER,3))","v":10},{"$f":"IF(Tabelle3[[#This Row],[Position\nG / D / FC / FW]]=\"G\",VLOOKUP($M$5-Tabelle3[[#This Row],[Jahr\nannée]],GOALI,4),VLOOKUP($M$5-Tabelle3[[#This Row],[Jahr\nannée]],SPIELER,4))","v":20},{"$f":"IF(Tabelle3[[#This Row],[Position\nG / D / FC / FW]]=\"G\",VLOOKUP($M$5-Tabelle3[[#This Row],[Jahr\nannée]],GOALI,5),VLOOKUP($M$5-Tabelle3[[#This Row],[Jahr\nannée]],SPIELER,5))","v":15},{"$f":"IF(Tabelle3[[#This Row],[Position\nG / D / FC / FW]]=\"G\",VLOOKUP($M$5-Tabelle3[[#This Row],[Jahr\nannée]],GOALI,6),VLOOKUP($M$5-Tabelle3[[#This Row],[Jahr\nannée]],SPIELER,6))","v":10},{"$f":"IF(Tabelle3[[#This Row],[Position\nG / D / FC / FW]]=\"G\",VLOOKUP($M$5-Tabelle3[[#This Row],[Jahr\nannée]],GOALI,7),VLOOKUP($M$5-Tabelle3[[#This Row],[Jahr\nannée]],SPIELER,7))","v":10},{"$f":"IF(Tabelle3[[#This Row],[Position\nG / D / FC / FW]]=\"G\",VLOOKUP($M$5-Tabelle3[[#This Row],[Jahr\nannée]],GOALI,9),VLOOKUP($M$5-Tabelle3[[#This Row],[Jahr\nannée]],SPIELER,9))","v":15},{"$f":"IF(Tabelle3[[#This Row],[Position\nG / D / FC / FW]]=\"G\",VLOOKUP($M$5-Tabelle3[[#This Row],[Jahr\nannée]],GOALI,8),VLOOKUP($M$5-Tabelle3[[#This Row],[Jahr\nannée]],SPIELER,8))","v":0},{"$f":"IF(Tabelle3[[#This Row],[Position\nG / D / FC / FW]]=\"G\",VLOOKUP($M$5-Tabelle3[[#This Row],[Jahr\nannée]],GOALI,10),VLOOKUP($M$5-Tabelle3[[#This Row],[Jahr\nannée]],SPIELER,10))","v":0},{"$f":"IF(Tabelle3[[#This Row],[Position\nG / D / FC / FW]]=\"G\",VLOOKUP($M$5-Tabelle3[[#This Row],[Jahr\nannée]],GOALI,11),VLOOKUP($M$5-Tabelle3[[#This Row],[Jahr\nannée]],SPIELER,11))","v":10},{"$f":"IF(Tabelle3[[#This Row],[Position\nG / D / FC / FW]]=\"G\",VLOOKUP($M$5-Tabelle3[[#This Row],[Jahr\nannée]],FGOALIE,2),VLOOKUP($M$5-Tabelle3[[#This Row],[Jahr\nannée]],FSPIELER,2))","v":10},{"$f":"IF(Tabelle3[[#This Row],[Position\nG / D / FC / FW]]=\"G\",VLOOKUP($M$5-Tabelle3[[#This Row],[Jahr\nannée]],FGOALIE,3),VLOOKUP($M$5-Tabelle3[[#This Row],[Jahr\nannée]],FSPIELER,3))","v":10},{"$f":"IF(Tabelle3[[#This Row],[Position\nG / D / FC / FW]]=\"G\",VLOOKUP($M$5-Tabelle3[[#This Row],[Jahr\nannée]],FGOALIE,4),VLOOKUP($M$5-Tabelle3[[#This Row],[Jahr\nannée]],FSPIELER,4))","v":20},{"$f":"IF(Tabelle3[[#This Row],[Position\nG / D / FC / FW]]=\"G\",VLOOKUP($M$5-Tabelle3[[#This Row],[Jahr\nannée]],FGOALIE,5),VLOOKUP($M$5-Tabelle3[[#This Row],[Jahr\nannée]],FSPIELER,5))","v":15},{"$f":"IF(Tabelle3[[#This Row],[Position\nG / D / FC / FW]]=\"G\",VLOOKUP($M$5-Tabelle3[[#This Row],[Jahr\nannée]],FGOALIE,6),VLOOKUP($M$5-Tabelle3[[#This Row],[Jahr\nannée]],FSPIELER,6))","v":10},{"$f":"IF(Tabelle3[[#This Row],[Position\nG / D / FC / FW]]=\"G\",VLOOKUP($M$5-Tabelle3[[#This Row],[Jahr\nannée]],FGOALIE,7),VLOOKUP($M$5-Tabelle3[[#This Row],[Jahr\nannée]],FSPIELER,7))","v":10},{"$f":"IF(Tabelle3[[#This Row],[Position\nG / D / FC / FW]]=\"G\",VLOOKUP($M$5-Tabelle3[[#This Row],[Jahr\nannée]],FGOALIE,9),VLOOKUP($M$5-Tabelle3[[#This Row],[Jahr\nannée]],FSPIELER,9))","v":15},{"$f":"IF(Tabelle3[[#This Row],[Position\nG / D / FC / FW]]=\"G\",VLOOKUP($M$5-Tabelle3[[#This Row],[Jahr\nannée]],FGOALIE,8),VLOOKUP($M$5-Tabelle3[[#This Row],[Jahr\nannée]],FSPIELER,8))","v":0},{"$f":"IF(Tabelle3[[#This Row],[Position\nG / D / FC / FW]]=\"G\",VLOOKUP($M$5-Tabelle3[[#This Row],[Jahr\nannée]],FGOALIE,10),VLOOKUP($M$5-Tabelle3[[#This Row],[Jahr\nannée]],FSPIELER,10))","v":0},{"$f":"IF(Tabelle3[[#This Row],[Position\nG / D / FC / FW]]=\"G\",VLOOKUP($M$5-Tabelle3[[#This Row],[Jahr\nannée]],FGOALIE,11),VLOOKUP($M$5-Tabelle3[[#This Row],[Jahr\nannée]],FSPIELER,11))","v":10}]
[2,null,null,"-",null,null,null,null,null,{"$f":"IF(ISBLANK('2'!$H$4),\"-\",'2'!$H$4)","v":"-"},{"$f":"IF(ISBLANK('2'!$H$5),\"-\",'2'!$H$5)","v":"-"},{"$f":"IF(ISBLANK('2'!$H$2),\"-\",'2'!$H$2)","v":"C"},null,null,null,null,null,null,null,{"$f":"'2'!$M$19","v":0},{"$f":"'2'!$M$24","v":0},{"$f":"'2'!$M$30","v":0},{"$f":"'2'!$M$36","v":0},{"$f":"'2'!$M$41","v":0},{"$f":"'2'!$M$46","v":0},{"$f":"'2'!$M$13","v":0},{"$f":"'2'!$AA$2","v":0},{"$f":"'2'!$AA$4","v":0},{"$f":"'2'!$AA$3","v":0},{"$f":"IF(Tabelle3[[#This Row],[SKATING]]=0,\"-\",IF(Tabelle3[[#This Row],[Sex]]=\"M\",SUMPRODUCT(Tabelle3[[#This Row],[SKATING]:[VERANLAGUNG\nPREDISPOSITION]],AJ12:AS12),SUMPRODUCT(Tabelle3[[#This Row],[SKATING]:[VERANLAGUNG\nPREDISPOSITION]],AT12:BC12)))","v":"-"},{"$f":"IFERROR(RANK(Tabelle3[[#This Row],[TOTAL ]],Tabelle3[[TOTAL ]],0),\"-\")","v":"-"},null,null,null,null,{"$f":"IF(Tabelle3[[#This Row],[Position\nG / D / FC / FW]]=\"G\",VLOOKUP($M$5-Tabelle3[[#This Row],[Jahr\nannée]],GOALI,2),VLOOKUP($M$5-Tabelle3[[#This Row],[Jahr\nannée]],SPIELER,2))","v":10},{"$f":"IF(Tabelle3[[#This Row],[Position\nG / D / FC / FW]]=\"G\",VLOOKUP($M$5-Tabelle3[[#This Row],[Jahr\nannée]],GOALI,3),VLOOKUP($M$5-Tabelle3[[#This Row],[Jahr\nannée]],SPIELER,3))","v":10},{"$f":"IF(Tabelle3[[#This Row],[Position\nG / D / FC / FW]]=\"G\",VLOOKUP($M$5-Tabelle3[[#This Row],[Jahr\nannée]],GOALI,4),VLOOKUP($M$5-Tabelle3[[#This Row],[Jahr\nannée]],SPIELER,4))","v":20},{"$f":"IF(Tabelle3[[#This Row],[Position\nG / D / FC / FW]]=\"G\",VLOOKUP($M$5-Tabelle3[[#This Row],[Jahr\nannée]],GOALI,5),VLOOKUP($M$5-Tabelle3[[#This Row],[Jahr\nannée]],SPIELER,5))","v":15},{"$f":"IF(Tabelle3[[#This Row],[Position\nG / D / FC / FW]]=\"G\",VLOOKUP($M$5-Tabelle3[[#This Row],[Jahr\nannée]],GOALI,6),VLOOKUP($M$5-Tabelle3[[#This Row],[Jahr\nannée]],SPIELER,6))","v":10},{"$f":"IF(Tabelle3[[#This Row],[Position\nG / D / FC / FW]]=\"G\",VLOOKUP($M$5-Tabelle3[[#This Row],[Jahr\nannée]],GOALI,7),VLOOKUP($M$5-Tabelle3[[#This Row],[Jahr\nannée]],SPIELER,7))","v":10},{"$f":"IF(Tabelle3[[#This Row],[Position\nG / D / FC / FW]]=\"G\",VLOOKUP($M$5-Tabelle3[[#This Row],[Jahr\nannée]],GOALI,9),VLOOKUP($M$5-Tabelle3[[#This Row],[Jahr\nannée]],SPIELER,9))","v":15},{"$f":"IF(Tabelle3[[#This Row],[Position\nG / D / FC / FW]]=\"G\",VLOOKUP($M$5-Tabelle3[[#This Row],[Jahr\nannée]],GOALI,8),VLOOKUP($M$5-Tabelle3[[#This Row],[Jahr\nannée]],SPIELER,8))","v":0},{"$f":"IF(Tabelle3[[#This Row],[Position\nG / D / FC / FW]]=\"G\",VLOOKUP($M$5-Tabelle3[[#This Row],[Jahr\nannée]],GOALI,10),VLOOKUP($M$5-Tabelle3[[#This Row],[Jahr\nannée]],SPIELER,10))","v":0},{"$f":"IF(Tabelle3[[#This Row],[Position\nG / D / FC / FW]]=\"G\",VLOOKUP($M$5-Tabelle3[[#This Row],[Jahr\nannée]],GOALI,11),VLOOKUP($M$5-Tabelle3[[#This Row],[Jahr\nannée]],SPIELER,11))","v":10},{"$f":"IF(Tabelle3[[#This Row],[Position\nG / D / FC / FW]]=\"G\",VLOOKUP($M$5-Tabelle3[[#This Row],[Jahr\nannée]],FGOALIE,2),VLOOKUP($M$5-Tabelle3[[#This Row],[Jahr\nannée]],FSPIELER,2))","v":10},{"$f":"IF(Tabelle3[[#This Row],[Position\nG / D / FC / FW]]=\"G\",VLOOKUP($M$5-Tabelle3[[#This Row],[Jahr\nannée]],FGOALIE,3),VLOOKUP($M$5-Tabelle3[[#This Row],[Jahr\nannée]],FSPIELER,3))","v":10},{"$f":"IF(Tabelle3[[#This Row],[Position\nG / D / FC / FW]]=\"G\",VLOOKUP($M$5-Tabelle3[[#This Row],[Jahr\nannée]],FGOALIE,4),VLOOKUP($M$5-Tabelle3[[#This Row],[Jahr\nannée]],FSPIELER,4))","v":20},{"$f":"IF(Tabelle3[[#This Row],[Position\nG / D / FC / FW]]=\"G\",VLOOKUP($M$5-Tabelle3[[#This Row],[Jahr\nannée]],FGOALIE,5),VLOOKUP($M$5-Tabelle3[[#This Row],[Jahr\nannée]],FSPIELER,5))","v":15},{"$f":"IF(Tabelle3[[#This Row],[Position\nG / D / FC / FW]]=\"G\",VLOOKUP($M$5-Tabelle3[[#This Row],[Jahr\nannée]],FGOALIE,6),VLOOKUP($M$5-Tabelle3[[#This Row],[Jahr\nannée]],FSPIELER,6))","v":10},{"$f":"IF(Tabelle3[[#This Row],[Position\nG / D / FC / FW]]=\"G\",VLOOKUP($M$5-Tabelle3[[#This Row],[Jahr\nannée]],FGOALIE,7),VLOOKUP($M$5-Tabelle3[[#This Row],[Jahr\nannée]],FSPIELER,7))","v":10},{"$f":"IF(Tabelle3[[#This Row],[Position\nG / D / FC / FW]]=\"G\",VLOOKUP($M$5-Tabelle3[[#This Row],[Jahr\nannée]],FGOALIE,9),VLOOKUP($M$5-Tabelle3[[#This Row],[Jahr\nannée]],FSPIELER,9))","v":15},{"$f":"IF(Tabelle3[[#This Row],[Position\nG / D / FC / FW]]=\"G\",VLOOKUP($M$5-Tabelle3[[#This Row],[Jahr\nannée]],FGOALIE,8),VLOOKUP($M$5-Tabelle3[[#This Row],[Jahr\nannée]],FSPIELER,8))","v":0},{"$f":"IF(Tabelle3[[#This Row],[Position\nG / D / FC / FW]]=\"G\",VLOOKUP($M$5-Tabelle3[[#This Row],[Jahr\nannée]],FGOALIE,10),VLOOKUP($M$5-Tabelle3[[#This Row],[Jahr\nannée]],FSPIELER,10))","v":0},{"$f":"IF(Tabelle3[[#This Row],[Position\nG / D / FC / FW]]=\"G\",VLOOKUP($M$5-Tabelle3[[#This Row],[Jahr\nannée]],FGOALIE,11),VLOOKUP($M$5-Tabelle3[[#This Row],[Jahr\nannée]],FSPIELER,11))","v":10}]
[3,null,null,"-",null,null,null,null,null,{"$f":"IF(ISBLANK('3'!$H$4),\"-\",'3'!$H$4)","v":"-"},{"$f":"IF(ISBLANK('3'!$H$5),\"-\",'3'!$H$5)","v":"-"},{"$f":"IF(ISBLANK('3'!$H$2),\"-\",'3'!$H$2)","v":"-"},null,null,null,null,null,null,null,{"$f":"'3'!$M$19","v":0},{"$f":"'3'!$M$24","v":0},{"$f":"'3'!$M$30","v":0},{"$f":"'3'!$M$36","v":0},{"$f":"'3'!$M$41","v":0},{"$f":"'3'!$M$46","v":0},{"$f":"'3'!$M$13","v":0},{"$f":"'3'!$AA$2","v":0},{"$f":"'3'!$AA$4","v":0},{"$f":"'3'!$AA$3","v":0},{"$f":"IF(Tabelle3[[#This Row],[SKATING]]=0,\"-\",IF(Tabelle3[[#This Row],[Sex]]=\"M\",SUMPRODUCT(Tabelle3[[#This Row],[SKATING]:[VERANLAGUNG\nPREDISPOSITION]],AJ13:AS13),SUMPRODUCT(Tabelle3[[#This Row],[SKATING]:[VERANLAGUNG\nPREDISPOSITION]],AT13:BC13)))","v":"-"},{"$f":"IFERROR(RANK(Tabelle3[[#This Row],[TOTAL ]],Tabelle3[[TOTAL ]],0),\"-\")","v":"-"},null,null,null,null,{"$f":"IF(Tabelle3[[#This Row],[Position\nG / D / FC / FW]]=\"G\",VLOOKUP($M$5-Tabelle3[[#This Row],[Jahr\nannée]],GOALI,2),VLOOKUP($M$5-Tabelle3[[#This Row],[Jahr\nannée]],SPIELER,2))","v":10},{"$f":"IF(Tabelle3[[#This Row],[Position\nG / D / FC / FW]]=\"G\",VLOOKUP($M$5-Tabelle3[[#This Row],[Jahr\nannée]],GOALI,3),VLOOKUP($M$5-Tabelle3[[#This Row],[Jahr\nannée]],SPIELER,3))","v":10},{"$f":"IF(Tabelle3[[#This Row],[Position\nG / D / FC / FW]]=\"G\",VLOOKUP($M$5-Tabelle3[[#This Row],[Jahr\nannée]],GOALI,4),VLOOKUP($M$5-Tabelle3[[#This Row],[Jahr\nannée]],SPIELER,4))","v":20},{"$f":"IF(Tabelle3[[#This Row],[Position\nG / D / FC / FW]]=\"G\",VLOOKUP($M$5-Tabelle3[[#This Row],[Jahr\nannée]],GOALI,5),VLOOKUP($M$5-Tabelle3[[#This Row],[Jahr\nannée]],SPIELER,5))","v":15},{"$f":"IF(Tabelle3[[#This Row],[Position\nG / D / FC / FW]]=\"G\",VLOOKUP($M$5-Tabelle3[[#This Row],[Jahr\nannée]],GOALI,6),VLOOKUP($M$5-Tabelle3[[#This Row],[Jahr\nannée]],SPIELER,6))","v":10},{"$f":"IF(Tabelle3[[#This Row],[Position\nG / D / FC / FW]]=\"G\",VLOOKUP($M$5-Tabelle3[[#This Row],[Jahr\nannée]],GOALI,7),VLOOKUP($M$5-Tabelle3[[#This Row],[Jahr\nannée]],SPIELER,7))","v":10},{"$f":"IF(Tabelle3[[#This Row],[Position\nG / D / FC / FW]]=\"G\",VLOOKUP($M$5-Tabelle3[[#This Row],[Jahr\nannée]],GOALI,9),VLOOKUP($M$5-Tabelle3[[#This Row],[Jahr\nannée]],SPIELER,9))","v":15},{"$f":"IF(Tabelle3[[#This Row],[Position\nG / D / FC / FW]]=\"G\",VLOOKUP($M$5-Tabelle3[[#This Row],[Jahr\nannée]],GOALI,8),VLOOKUP($M$5-Tabelle3[[#This Row],[Jahr\nannée]],SPIELER,8))","v":0},{"$f":"IF(Tabelle3[[#This Row],[Position\nG / D / FC / FW]]=\"G\",VLOOKUP($M$5-Tabelle3[[#This Row],[Jahr\nannée]],GOALI,10),VLOOKUP($M$5-Tabelle3[[#This Row],[Jahr\nannée]],SPIELER,10))","v":0},{"$f":"IF(Tabelle3[[#This Row],[Position\nG / D / FC / FW]]=\"G\",VLOOKUP($M$5-Tabelle3[[#This Row],[Jahr\nannée]],GOALI,11),VLOOKUP($M$5-Tabelle3[[#This Row],[Jahr\nannée]],SPIELER,11))","v":10},{"$f":"IF(Tabelle3[[#This Row],[Position\nG / D / FC / FW]]=\"G\",VLOOKUP($M$5-Tabelle3[[#This Row],[Jahr\nannée]],FGOALIE,2),VLOOKUP($M$5-Tabelle3[[#This Row],[Jahr\nannée]],FSPIELER,2))","v":10},{"$f":"IF(Tabelle3[[#This Row],[Position\nG / D / FC / FW]]=\"G\",VLOOKUP($M$5-Tabelle3[[#This Row],[Jahr\nannée]],FGOALIE,3),VLOOKUP($M$5-Tabelle3[[#This Row],[Jahr\nannée]],FSPIELER,3))","v":10},{"$f":"IF(Tabelle3[[#This Row],[Position\nG / D / FC / FW]]=\"G\",VLOOKUP($M$5-Tabelle3[[#This Row],[Jahr\nannée]],FGOALIE,4),VLOOKUP($M$5-Tabelle3[[#This Row],[Jahr\nannée]],FSPIELER,4))","v":20},{"$f":"IF(Tabelle3[[#This Row],[Position\nG / D / FC / FW]]=\"G\",VLOOKUP($M$5-Tabelle3[[#This Row],[Jahr\nannée]],FGOALIE,5),VLOOKUP($M$5-Tabelle3[[#This Row],[Jahr\nannée]],FSPIELER,5))","v":15},{"$f":"IF(Tabelle3[[#This Row],[Position\nG / D / FC / FW]]=\"G\",VLOOKUP($M$5-Tabelle3[[#This Row],[Jahr\nannée]],FGOALIE,6),VLOOKUP($M$5-Tabelle3[[#This Row],[Jahr\nannée]],FSPIELER,6))","v":10},{"$f":"IF(Tabelle3[[#This Row],[Position\nG / D / FC / FW]]=\"G\",VLOOKUP($M$5-Tabelle3[[#This Row],[Jahr\nannée]],FGOALIE,7),VLOOKUP($M$5-Tabelle3[[#This Row],[Jahr\nannée]],FSPIELER,7))","v":10},{"$f":"IF(Tabelle3[[#This Row],[Position\nG / D / FC / FW]]=\"G\",VLOOKUP($M$5-Tabelle3[[#This Row],[Jahr\nannée]],FGOALIE,9),VLOOKUP($M$5-Tabelle3[[#This Row],[Jahr\nannée]],FSPIELER,9))","v":15},{"$f":"IF(Tabelle3[[#This Row],[Position\nG / D / FC / FW]]=\"G\",VLOOKUP($M$5-Tabelle3[[#This Row],[Jahr\nannée]],FGOALIE,8),VLOOKUP($M$5-Tabelle3[[#This Row],[Jahr\nannée]],FSPIELER,8))","v":0},{"$f":"IF(Tabelle3[[#This Row],[Position\nG / D / FC / FW]]=\"G\",VLOOKUP($M$5-Tabelle3[[#This Row],[Jahr\nannée]],FGOALIE,10),VLOOKUP($M$5-Tabelle3[[#This Row],[Jahr\nannée]],FSPIELER,10))","v":0},{"$f":"IF(Tabelle3[[#This Row],[Position\nG / D / FC / FW]]=\"G\",VLOOKUP($M$5-Tabelle3[[#This Row],[Jahr\nannée]],FGOALIE,11),VLOOKUP($M$5-Tabelle3[[#This Row],[Jahr\nannée]],FSPIELER,11))","v":10}]
[4,null,null,"-",null,null,null,null,null,{"$f":"IF(ISBLANK('4'!$H$4),\"-\",'4'!$H$4)","v":"-"},{"$f":"IF(ISBLANK('4'!$H$5),\"-\",'4'!$H$5)","v":"-"},{"$f":"IF(ISBLANK('4'!$H$2),\"-\",'4'!$H$2)","v":"-"},null,null,null,null,null,null,null,{"$f":"'4'!$M$19","v":0},{"$f":"'4'!$M$24","v":0},{"$f":"'4'!$M$30","v":0},{"$f":"'4'!$M$36","v":0},{"$f":"'4'!$M$41","v":0},{"$f":"'4'!$M$46","v":0},{"$f":"'4'!$M$13","v":0},{"$f":"'4'!$AA$2","v":0},{"$f":"'4'!$AA$4","v":0},{"$f":"'4'!$AA$3","v":0},{"$f":"IF(Tabelle3[[#This Row],[SKATING]]=0,\"-\",IF(Tabelle3[[#This Row],[Sex]]=\"M\",SUMPRODUCT(Tabelle3[[#This Row],[SKATING]:[VERANLAGUNG\nPREDISPOSITION]],AJ14:AS14),SUMPRODUCT(Tabelle3[[#This Row],[SKATING]:[VERANLAGUNG\nPREDISPOSITION]],AT14:BC14)))","v":"-"},{"$f":"IFERROR(RANK(Tabelle3[[#This Row],[TOTAL ]],Tabelle3[[TOTAL ]],0),\"-\")","v":"-"},null,null,null,null,{"$f":"IF(Tabelle3[[#This Row],[Position\nG / D / FC / FW]]=\"G\",VLOOKUP($M$5-Tabelle3[[#This Row],[Jahr\nannée]],GOALI,2),VLOOKUP($M$5-Tabelle3[[#This Row],[Jahr\nannée]],SPIELER,2))","v":10},{"$f":"IF(Tabelle3[[#This Row],[Position\nG / D / FC / FW]]=\"G\",VLOOKUP($M$5-Tabelle3[[#This Row],[Jahr\nannée]],GOALI,3),VLOOKUP($M$5-Tabelle3[[#This Row],[Jahr\nannée]],SPIELER,3))","v":10},{"$f":"IF(Tabelle3[[#This Row],[Position\nG / D / FC / FW]]=\"G\",VLOOKUP($M$5-Tabelle3[[#This Row],[Jahr\nannée]],GOALI,4),VLOOKUP($M$5-Tabelle3[[#This Row],[Jahr\nannée]],SPIELER,4))","v":20},{"$f":"IF(Tabelle3[[#This Row],[Position\nG / D / FC / FW]]=\"G\",VLOOKUP($M$5-Tabelle3[[#This Row],[Jahr\nannée]],GOALI,5),VLOOKUP($M$5-Tabelle3[[#This Row],[Jahr\nannée]],SPIELER,5))","v":15},{"$f":"IF(Tabelle3[[#This Row],[Position\nG / D / FC / FW]]=\"G\",VLOOKUP($M$5-Tabelle3[[#This Row],[Jahr\nannée]],GOALI,6),VLOOKUP($M$5-Tabelle3[[#This Row],[Jahr\nannée]],SPIELER,6))","v":10},{"$f":"IF(Tabelle3[[#This Row],[Position\nG / D / FC / FW]]=\"G\",VLOOKUP($M$5-Tabelle3[[#This Row],[Jahr\nannée]],GOALI,7),VLOOKUP($M$5-Tabelle3[[#This Row],[Jahr\nannée]],SPIELER,7))","v":10},{"$f":"IF(Tabelle3[[#This Row],[Position\nG / D / FC / FW]]=\"G\",VLOOKUP($M$5-Tabelle3[[#This Row],[Jahr\nannée]],GOALI,9),VLOOKUP($M$5-Tabelle3[[#This Row],[Jahr\nannée]],SPIELER,9))","v":15},{"$f":"IF(Tabelle3[[#This Row],[Position\nG / D / FC / FW]]=\"G\",VLOOKUP($M$5-Tabelle3[[#This Row],[Jahr\nannée]],GOALI,8),VLOOKUP($M$5-Tabelle3[[#This Row],[Jahr\nannée]],SPIELER,8))","v":0},{"$f":"IF(Tabelle3[[#This Row],[Position\nG / D / FC / FW]]=\"G\",VLOOKUP($M$5-Tabelle3[[#This Row],[Jahr\nannée]],GOALI,10),VLOOKUP($M$5-Tabelle3[[#This Row],[Jahr\nannée]],SPIELER,10))","v":0},{"$f":"IF(Tabelle3[[#This Row],[Position\nG / D / FC / FW]]=\"G\",VLOOKUP($M$5-Tabelle3[[#This Row],[Jahr\nannée]],GOALI,11),VLOOKUP($M$5-Tabelle3[[#This Row],[Jahr\nannée]],SPIELER,11))","v":10},{"$f":"IF(Tabelle3[[#This Row],[Position\nG / D / FC / FW]]=\"G\",VLOOKUP($M$5-Tabelle3[[#This Row],[Jahr\nannée]],FGOALIE,2),VLOOKUP($M$5-Tabelle3[[#This Row],[Jahr\nannée]],FSPIELER,2))","v":10},{"$f":"IF(Tabelle3[[#This Row],[Position\nG / D / FC / FW]]=\"G\",VLOOKUP($M$5-Tabelle3[[#This Row],[Jahr\nannée]],FGOALIE,3),VLOOKUP($M$5-Tabelle3[[#This Row],[Jahr\nannée]],FSPIELER,3))","v":10},{"$f":"IF(Tabelle3[[#This Row],[Position\nG / D / FC / FW]]=\"G\",VLOOKUP($M$5-Tabelle3[[#This Row],[Jahr\nannée]],FGOALIE,4),VLOOKUP($M$5-Tabelle3[[#This Row],[Jahr\nannée]],FSPIELER,4))","v":20},{"$f":"IF(Tabelle3[[#This Row],[Position\nG / D / FC / FW]]=\"G\",VLOOKUP($M$5-Tabelle3[[#This Row],[Jahr\nannée]],FGOALIE,5),VLOOKUP($M$5-Tabelle3[[#This Row],[Jahr\nannée]],FSPIELER,5))","v":15},{"$f":"IF(Tabelle3[[#This Row],[Position\nG / D / FC / FW]]=\"G\",VLOOKUP($M$5-Tabelle3[[#This Row],[Jahr\nannée]],FGOALIE,6),VLOOKUP($M$5-Tabelle3[[#This Row],[Jahr\nannée]],FSPIELER,6))","v":10},{"$f":"IF(Tabelle3[[#This Row],[Position\nG / D / FC / FW]]=\"G\",VLOOKUP($M$5-Tabelle3[[#This Row],[Jahr\nannée]],FGOALIE,7),VLOOKUP($M$5-Tabelle3[[#This Row],[Jahr\nannée]],FSPIELER,7))","v":10},{"$f":"IF(Tabelle3[[#This Row],[Position\nG / D / FC / FW]]=\"G\",VLOOKUP($M$5-Tabelle3[[#This Row],[Jahr\nannée]],FGOALIE,9),VLOOKUP($M$5-Tabelle3[[#This Row],[Jahr\nannée]],FSPIELER,9))","v":15},{"$f":"IF(Tabelle3[[#This Row],[Position\nG / D / FC / FW]]=\"G\",VLOOKUP($M$5-Tabelle3[[#This Row],[Jahr\nannée]],FGOALIE,8),VLOOKUP($M$5-Tabelle3[[#This Row],[Jahr\nannée]],FSPIELER,8))","v":0},{"$f":"IF(Tabelle3[[#This Row],[Position\nG / D / FC / FW]]=\"G\",VLOOKUP($M$5-Tabelle3[[#This Row],[Jahr\nannée]],FGOALIE,10),VLOOKUP($M$5-Tabelle3[[#This Row],[Jahr\nannée]],FSPIELER,10))","v":0},{"$f":"IF(Tabelle3[[#This Row],[Position\nG / D / FC / FW]]=\"G\",VLOOKUP($M$5-Tabelle3[[#This Row],[Jahr\nannée]],FGOALIE,11),VLOOKUP($M$5-Tabelle3[[#This Row],[Jahr\nannée]],FSPIELER,11))","v":10}]
[5,null,null,"-",null,null,null,null,null,{"$f":"IF(ISBLANK('5'!$H$4),\"-\",'5'!$H$4)","v":"-"},{"$f":"IF(ISBLANK('5'!$H$5),\"-\",'5'!$H$5)","v":"-"},{"$f":"IF(ISBLANK('5'!$H$2),\"-\",'5'!$H$2)","v":"-"},null,null,null,null,null,null,null,{"$f":"'5'!$M$19","v":0},{"$f":"'5'!$M$24","v":0},{"$f":"'5'!$M$30","v":0},{"$f":"'5'!$M$36","v":0},{"$f":"'5'!$M$41","v":0},{"$f":"'5'!$M$46","v":0},{"$f":"'5'!$M$13","v":0},{"$f":"'5'!$AA$2","v":0},{"$f":"'5'!$AA$4","v":0},{"$f":"'5'!$AA$3","v":0},{"$f":"IF(Tabelle3[[#This Row],[SKATING]]=0,\"-\",IF(Tabelle3[[#This Row],[Sex]]=\"M\",SUMPRODUCT(Tabelle3[[#This Row],[SKATING]:[VERANLAGUNG\nPREDISPOSITION]],AJ15:AS15),SUMPRODUCT(Tabelle3[[#This Row],[SKATING]:[VERANLAGUNG\nPREDISPOSITION]],AT15:BC15)))","v":"-"},{"$f":"IFERROR(RANK(Tabelle3[[#This Row],[TOTAL ]],Tabelle3[[TOTAL ]],0),\"-\")","v":"-"},null,null,null,null,{"$f":"IF(Tabelle3[[#This Row],[Position\nG / D / FC / FW]]=\"G\",VLOOKUP($M$5-Tabelle3[[#This Row],[Jahr\nannée]],GOALI,2),VLOOKUP($M$5-Tabelle3[[#This Row],[Jahr\nannée]],SPIELER,2))","v":10},{"$f":"IF(Tabelle3[[#This Row],[Position\nG / D / FC / FW]]=\"G\",VLOOKUP($M$5-Tabelle3[[#This Row],[Jahr\nannée]],GOALI,3),VLOOKUP($M$5-Tabelle3[[#This Row],[Jahr\nannée]],SPIELER,3))","v":10},{"$f":"IF(Tabelle3[[#This Row],[Position\nG / D / FC / FW]]=\"G\",VLOOKUP($M$5-Tabelle3[[#This Row],[Jahr\nannée]],GOALI,4),VLOOKUP($M$5-Tabelle3[[#This Row],[Jahr\nannée]],SPIELER,4))","v":20},{"$f":"IF(Tabelle3[[#This Row],[Position\nG / D / FC / FW]]=\"G\",VLOOKUP($M$5-Tabelle3[[#This Row],[Jahr\nannée]],GOALI,5),VLOOKUP($M$5-Tabelle3[[#This Row],[Jahr\nannée]],SPIELER,5))","v":15},{"$f":"IF(Tabelle3[[#This Row],[Position\nG / D / FC / FW]]=\"G\",VLOOKUP($M$5-Tabelle3[[#This Row],[Jahr\nannée]],GOALI,6),VLOOKUP($M$5-Tabelle3[[#This Row],[Jahr\nannée]],SPIELER,6))","v":10},{"$f":"IF(Tabelle3[[#This Row],[Position\nG / D / FC / FW]]=\"G\",VLOOKUP($M$5-Tabelle3[[#This Row],[Jahr\nannée]],GOALI,7),VLOOKUP($M$5-Tabelle3[[#This Row],[Jahr\nannée]],SPIELER,7))","v":10},{"$f":"IF(Tabelle3[[#This Row],[Position\nG / D / FC / FW]]=\"G\",VLOOKUP($M$5-Tabelle3[[#This Row],[Jahr\nannée]],GOALI,9),VLOOKUP($M$5-Tabelle3[[#This Row],[Jahr\nannée]],SPIELER,9))","v":15},{"$f":"IF(Tabelle3[[#This Row],[Position\nG / D / FC / FW]]=\"G\",VLOOKUP($M$5-Tabelle3[[#This Row],[Jahr\nannée]],GOALI,8),VLOOKUP($M$5-Tabelle3[[#This Row],[Jahr\nannée]],SPIELER,8))","v":0},{"$f":"IF(Tabelle3[[#This Row],[Position\nG / D / FC / FW]]=\"G\",VLOOKUP($M$5-Tabelle3[[#This Row],[Jahr\nannée]],GOALI,10),VLOOKUP($M$5-Tabelle3[[#This Row],[Jahr\nannée]],SPIELER,10))","v":0},{"$f":"IF(Tabelle3[[#This Row],[Position\nG / D / FC / FW]]=\"G\",VLOOKUP($M$5-Tabelle3[[#This Row],[Jahr\nannée]],GOALI,11),VLOOKUP($M$5-Tabelle3[[#This Row],[Jahr\nannée]],SPIELER,11))","v":10},{"$f":"IF(Tabelle3[[#This Row],[Position\nG / D / FC / FW]]=\"G\",VLOOKUP($M$5-Tabelle3[[#This Row],[Jahr\nannée]],FGOALIE,2),VLOOKUP($M$5-Tabelle3[[#This Row],[Jahr\nannée]],FSPIELER,2))","v":10},{"$f":"IF(Tabelle3[[#This Row],[Position\nG / D / FC / FW]]=\"G\",VLOOKUP($M$5-Tabelle3[[#This Row],[Jahr\nannée]],FGOALIE,3),VLOOKUP($M$5-Tabelle3[[#This Row],[Jahr\nannée]],FSPIELER,3))","v":10},{"$f":"IF(Tabelle3[[#This Row],[Position\nG / D / FC / FW]]=\"G\",VLOOKUP($M$5-Tabelle3[[#This Row],[Jahr\nannée]],FGOALIE,4),VLOOKUP($M$5-Tabelle3[[#This Row],[Jahr\nannée]],FSPIELER,4))","v":20},{"$f":"IF(Tabelle3[[#This Row],[Position\nG / D / FC / FW]]=\"G\",VLOOKUP($M$5-Tabelle3[[#This Row],[Jahr\nannée]],FGOALIE,5),VLOOKUP($M$5-Tabelle3[[#This Row],[Jahr\nannée]],FSPIELER,5))","v":15},{"$f":"IF(Tabelle3[[#This Row],[Position\nG / D / FC / FW]]=\"G\",VLOOKUP($M$5-Tabelle3[[#This Row],[Jahr\nannée]],FGOALIE,6),VLOOKUP($M$5-Tabelle3[[#This Row],[Jahr\nannée]],FSPIELER,6))","v":10},{"$f":"IF(Tabelle3[[#This Row],[Position\nG / D / FC / FW]]=\"G\",VLOOKUP($M$5-Tabelle3[[#This Row],[Jahr\nannée]],FGOALIE,7),VLOOKUP($M$5-Tabelle3[[#This Row],[Jahr\nannée]],FSPIELER,7))","v":10},{"$f":"IF(Tabelle3[[#This Row],[Position\nG / D / FC / FW]]=\"G\",VLOOKUP($M$5-Tabelle3[[#This Row],[Jahr\nannée]],FGOALIE,9),VLOOKUP($M$5-Tabelle3[[#This Row],[Jahr\nannée]],FSPIELER,9))","v":15},{"$f":"IF(Tabelle3[[#This Row],[Position\nG / D / FC / FW]]=\"G\",VLOOKUP($M$5-Tabelle3[[#This Row],[Jahr\nannée]],FGOALIE,8),VLOOKUP($M$5-Tabelle3[[#This Row],[Jahr\nannée]],FSPIELER,8))","v":0},{"$f":"IF(Tabelle3[[#This Row],[Position\nG / D / FC / FW]]=\"G\",VLOOKUP($M$5-Tabelle3[[#This Row],[Jahr\nannée]],FGOALIE,10),VLOOKUP($M$5-Tabelle3[[#This Row],[Jahr\nannée]],FSPIELER,10))","v":0},{"$f":"IF(Tabelle3[[#This Row],[Position\nG / D / FC / FW]]=\"G\",VLOOKUP($M$5-Tabelle3[[#This Row],[Jahr\nannée]],FGOALIE,11),VLOOKUP($M$5-Tabelle3[[#This Row],[Jahr\nannée]],FSPIELER,11))","v":10}]
[6,null,null,"-",null,null,null,null,null,{"$f":"IF(ISBLANK('6'!$H$4),\"-\",'6'!$H$4)","v":"-"},{"$f":"IF(ISBLANK('6'!$H$5),\"-\",'6'!$H$5)","v":"-"},{"$f":"IF(ISBLANK('6'!$H$2),\"-\",'6'!$H$2)","v":"-"},null,null,null,null,null,null,null,{"$f":"'6'!$M$19","v":0},{"$f":"'6'!$M$24","v":0},{"$f":"'6'!$M$30","v":0},{"$f":"'6'!$M$36","v":0},{"$f":"'6'!$M$41","v":0},{"$f":"'6'!$M$46","v":0},{"$f":"'6'!$M$13","v":0},{"$f":"'6'!$AA$2","v":0},{"$f":"'6'!$AA$4","v":0},{"$f":"'6'!$AA$3","v":0},{"$f":"IF(Tabelle3[[#This Row],[SKATING]]=0,\"-\",IF(Tabelle3[[#This Row],[Sex]]=\"M\",SUMPRODUCT(Tabelle3[[#This Row],[SKATING]:[VERANLAGUNG\nPREDISPOSITION]],AJ16:AS16),SUMPRODUCT(Tabelle3[[#This Row],[SKATING]:[VERANLAGUNG\nPREDISPOSITION]],AT16:BC16)))","v":"-"},{"$f":"IFERROR(RANK(Tabelle3[[#This Row],[TOTAL ]],Tabelle3[[TOTAL ]],0),\"-\")","v":"-"},null,null,null,null,{"$f":"IF(Tabelle3[[#This Row],[Position\nG / D / FC / FW]]=\"G\",VLOOKUP($M$5-Tabelle3[[#This Row],[Jahr\nannée]],GOALI,2),VLOOKUP($M$5-Tabelle3[[#This Row],[Jahr\nannée]],SPIELER,2))","v":10},{"$f":"IF(Tabelle3[[#This Row],[Position\nG / D / FC / FW]]=\"G\",VLOOKUP($M$5-Tabelle3[[#This Row],[Jahr\nannée]],GOALI,3),VLOOKUP($M$5-Tabelle3[[#This Row],[Jahr\nannée]],SPIELER,3))","v":10},{"$f":"IF(Tabelle3[[#This Row],[Position\nG / D / FC / FW]]=\"G\",VLOOKUP($M$5-Tabelle3[[#This Row],[Jahr\nannée]],GOALI,4),VLOOKUP($M$5-Tabelle3[[#This Row],[Jahr\nannée]],SPIELER,4))","v":20},{"$f":"IF(Tabelle3[[#This Row],[Position\nG / D / FC / FW]]=\"G\",VLOOKUP($M$5-Tabelle3[[#This Row],[Jahr\nannée]],GOALI,5),VLOOKUP($M$5-Tabelle3[[#This Row],[Jahr\nannée]],SPIELER,5))","v":15},{"$f":"IF(Tabelle3[[#This Row],[Position\nG / D / FC / FW]]=\"G\",VLOOKUP($M$5-Tabelle3[[#This Row],[Jahr\nannée]],GOALI,6),VLOOKUP($M$5-Tabelle3[[#This Row],[Jahr\nannée]],SPIELER,6))","v":10},{"$f":"IF(Tabelle3[[#This Row],[Position\nG / D / FC / FW]]=\"G\",VLOOKUP($M$5-Tabelle3[[#This Row],[Jahr\nannée]],GOALI,7),VLOOKUP($M$5-Tabelle3[[#This Row],[Jahr\nannée]],SPIELER,7))","v":10},{"$f":"IF(Tabelle3[[#This Row],[Position\nG / D / FC / FW]]=\"G\",VLOOKUP($M$5-Tabelle3[[#This Row],[Jahr\nannée]],GOALI,9),VLOOKUP($M$5-Tabelle3[[#This Row],[Jahr\nannée]],SPIELER,9))","v":15},{"$f":"IF(Tabelle3[[#This Row],[Position\nG / D / FC / FW]]=\"G\",VLOOKUP($M$5-Tabelle3[[#This Row],[Jahr\nannée]],GOALI,8),VLOOKUP($M$5-Tabelle3[[#This Row],[Jahr\nannée]],SPIELER,8))","v":0},{"$f":"IF(Tabelle3[[#This Row],[Position\nG / D / FC / FW]]=\"G\",VLOOKUP($M$5-Tabelle3[[#This Row],[Jahr\nannée]],GOALI,10),VLOOKUP($M$5-Tabelle3[[#This Row],[Jahr\nannée]],SPIELER,10))","v":0},{"$f":"IF(Tabelle3[[#This Row],[Position\nG / D / FC / FW]]=\"G\",VLOOKUP($M$5-Tabelle3[[#This Row],[Jahr\nannée]],GOALI,11),VLOOKUP($M$5-Tabelle3[[#This Row],[Jahr\nannée]],SPIELER,11))","v":10},{"$f":"IF(Tabelle3[[#This Row],[Position\nG / D / FC / FW]]=\"G\",VLOOKUP($M$5-Tabelle3[[#This Row],[Jahr\nannée]],FGOALIE,2),VLOOKUP($M$5-Tabelle3[[#This Row],[Jahr\nannée]],FSPIELER,2))","v":10},{"$f":"IF(Tabelle3[[#This Row],[Position\nG / D / FC / FW]]=\"G\",VLOOKUP($M$5-Tabelle3[[#This Row],[Jahr\nannée]],FGOALIE,3),VLOOKUP($M$5-Tabelle3[[#This Row],[Jahr\nannée]],FSPIELER,3))","v":10},{"$f":"IF(Tabelle3[[#This Row],[Position\nG / D / FC / FW]]=\"G\",VLOOKUP($M$5-Tabelle3[[#This Row],[Jahr\nannée]],FGOALIE,4),VLOOKUP($M$5-Tabelle3[[#This Row],[Jahr\nannée]],FSPIELER,4))","v":20},{"$f":"IF(Tabelle3[[#This Row],[Position\nG / D / FC / FW]]=\"G\",VLOOKUP($M$5-Tabelle3[[#This Row],[Jahr\nannée]],FGOALIE,5),VLOOKUP($M$5-Tabelle3[[#This Row],[Jahr\nannée]],FSPIELER,5))","v":15},{"$f":"IF(Tabelle3[[#This Row],[Position\nG / D / FC / FW]]=\"G\",VLOOKUP($M$5-Tabelle3[[#This Row],[Jahr\nannée]],FGOALIE,6),VLOOKUP($M$5-Tabelle3[[#This Row],[Jahr\nannée]],FSPIELER,6))","v":10},{"$f":"IF(Tabelle3[[#This Row],[Position\nG / D / FC / FW]]=\"G\",VLOOKUP($M$5-Tabelle3[[#This Row],[Jahr\nannée]],FGOALIE,7),VLOOKUP($M$5-Tabelle3[[#This Row],[Jahr\nannée]],FSPIELER,7))","v":10},{"$f":"IF(Tabelle3[[#This Row],[Position\nG / D / FC / FW]]=\"G\",VLOOKUP($M$5-Tabelle3[[#This Row],[Jahr\nannée]],FGOALIE,9),VLOOKUP($M$5-Tabelle3[[#This Row],[Jahr\nannée]],FSPIELER,9))","v":15},{"$f":"IF(Tabelle3[[#This Row],[Position\nG / D / FC / FW]]=\"G\",VLOOKUP($M$5-Tabelle3[[#This Row],[Jahr\nannée]],FGOALIE,8),VLOOKUP($M$5-Tabelle3[[#This Row],[Jahr\nannée]],FSPIELER,8))","v":0},{"$f":"IF(Tabelle3[[#This Row],[Position\nG / D / FC / FW]]=\"G\",VLOOKUP($M$5-Tabelle3[[#This Row],[Jahr\nannée]],FGOALIE,10),VLOOKUP($M$5-Tabelle3[[#This Row],[Jahr\nannée]],FSPIELER,10))","v":0},{"$f":"IF(Tabelle3[[#This Row],[Position\nG / D / FC / FW]]=\"G\",VLOOKUP($M$5-Tabelle3[[#This Row],[Jahr\nannée]],FGOALIE,11),VLOOKUP($M$5-Tabelle3[[#This Row],[Jahr\nannée]],FSPIELER,11))","v":10}]
[7,null,null,"-",null,null,null,null,null,{"$f":"IF(ISBLANK('7'!$H$4),\"-\",'7'!$H$4)","v":"-"},{"$f":"IF(ISBLANK('7'!$H$5),\"-\",'7'!$H$5)","v":"-"},{"$f":"IF(ISBLANK('7'!$H$2),\"-\",'7'!$H$2)","v":"-"},null,null,null,null,null,null,null,{"$f":"'7'!$M$19","v":0},{"$f":"'7'!$M$24","v":0},{"$f":"'7'!$M$30","v":0},{"$f":"'7'!$M$36","v":0},{"$f":"'7'!$M$41","v":0},{"$f":"'7'!$M$46","v":0},{"$f":"'7'!$M$13","v":0},{"$f":"'7'!$AA$2","v":0},{"$f":"'7'!$AA$4","v":0},{"$f":"'7'!$AA$3","v":0},{"$f":"IF(Tabelle3[[#This Row],[SKATING]]=0,\"-\",IF(Tabelle3[[#This Row],[Sex]]=\"M\",SUMPRODUCT(Tabelle3[[#This Row],[SKATING]:[VERANLAGUNG\nPREDISPOSITION]],AJ17:AS17),SUMPRODUCT(Tabelle3[[#This Row],[SKATING]:[VERANLAGUNG\nPREDISPOSITION]],AT17:BC17)))","v":"-"},{"$f":"IFERROR(RANK(Tabelle3[[#This Row],[TOTAL ]],Tabelle3[[TOTAL ]],0),\"-\")","v":"-"},null,null,null,null,{"$f":"IF(Tabelle3[[#This Row],[Position\nG / D / FC / FW]]=\"G\",VLOOKUP($M$5-Tabelle3[[#This Row],[Jahr\nannée]],GOALI,2),VLOOKUP($M$5-Tabelle3[[#This Row],[Jahr\nannée]],SPIELER,2))","v":10},{"$f":"IF(Tabelle3[[#This Row],[Position\nG / D / FC / FW]]=\"G\",VLOOKUP($M$5-Tabelle3[[#This Row],[Jahr\nannée]],GOALI,3),VLOOKUP($M$5-Tabelle3[[#This Row],[Jahr\nannée]],SPIELER,3))","v":10},{"$f":"IF(Tabelle3[[#This Row],[Position\nG / D / FC / FW]]=\"G\",VLOOKUP($M$5-Tabelle3[[#This Row],[Jahr\nannée]],GOALI,4),VLOOKUP($M$5-Tabelle3[[#This Row],[Jahr\nannée]],SPIELER,4))","v":20},{"$f":"IF(Tabelle3[[#This Row],[Position\nG / D / FC / FW]]=\"G\",VLOOKUP($M$5-Tabelle3[[#This Row],[Jahr\nannée]],GOALI,5),VLOOKUP($M$5-Tabelle3[[#This Row],[Jahr\nannée]],SPIELER,5))","v":15},{"$f":"IF(Tabelle3[[#This Row],[Position\nG / D / FC / FW]]=\"G\",VLOOKUP($M$5-Tabelle3[[#This Row],[Jahr\nannée]],GOALI,6),VLOOKUP($M$5-Tabelle3[[#This Row],[Jahr\nannée]],SPIELER,6))","v":10},{"$f":"IF(Tabelle3[[#This Row],[Position\nG / D / FC / FW]]=\"G\",VLOOKUP($M$5-Tabelle3[[#This Row],[Jahr\nannée]],GOALI,7),VLOOKUP($M$5-Tabelle3[[#This Row],[Jahr\nannée]],SPIELER,7))","v":10},{"$f":"IF(Tabelle3[[#This Row],[Position\nG / D / FC / FW]]=\"G\",VLOOKUP($M$5-Tabelle3[[#This Row],[Jahr\nannée]],GOALI,9),VLOOKUP($M$5-Tabelle3[[#This Row],[Jahr\nannée]],SPIELER,9))","v":15},{"$f":"IF(Tabelle3[[#This Row],[Position\nG / D / FC / FW]]=\"G\",VLOOKUP($M$5-Tabelle3[[#This Row],[Jahr\nannée]],GOALI,8),VLOOKUP($M$5-Tabelle3[[#This Row],[Jahr\nannée]],SPIELER,8))","v":0},{"$f":"IF(Tabelle3[[#This Row],[Position\nG / D / FC / FW]]=\"G\",VLOOKUP($M$5-Tabelle3[[#This Row],[Jahr\nannée]],GOALI,10),VLOOKUP($M$5-Tabelle3[[#This Row],[Jahr\nannée]],SPIELER,10))","v":0},{"$f":"IF(Tabelle3[[#This Row],[Position\nG / D / FC / FW]]=\"G\",VLOOKUP($M$5-Tabelle3[[#This Row],[Jahr\nannée]],GOALI,11),VLOOKUP($M$5-Tabelle3[[#This Row],[Jahr\nannée]],SPIELER,11))","v":10},{"$f":"IF(Tabelle3[[#This Row],[Position\nG / D / FC / FW]]=\"G\",VLOOKUP($M$5-Tabelle3[[#This Row],[Jahr\nannée]],FGOALIE,2),VLOOKUP($M$5-Tabelle3[[#This Row],[Jahr\nannée]],FSPIELER,2))","v":10},{"$f":"IF(Tabelle3[[#This Row],[Position\nG / D / FC / FW]]=\"G\",VLOOKUP($M$5-Tabelle3[[#This Row],[Jahr\nannée]],FGOALIE,3),VLOOKUP($M$5-Tabelle3[[#This Row],[Jahr\nannée]],FSPIELER,3))","v":10},{"$f":"IF(Tabelle3[[#This Row],[Position\nG / D / FC / FW]]=\"G\",VLOOKUP($M$5-Tabelle3[[#This Row],[Jahr\nannée]],FGOALIE,4),VLOOKUP($M$5-Tabelle3[[#This Row],[Jahr\nannée]],FSPIELER,4))","v":20},{"$f":"IF(Tabelle3[[#This Row],[Position\nG / D / FC / FW]]=\"G\",VLOOKUP($M$5-Tabelle3[[#This Row],[Jahr\nannée]],FGOALIE,5),VLOOKUP($M$5-Tabelle3[[#This Row],[Jahr\nannée]],FSPIELER,5))","v":15},{"$f":"IF(Tabelle3[[#This Row],[Position\nG / D / FC / FW]]=\"G\",VLOOKUP($M$5-Tabelle3[[#This Row],[Jahr\nannée]],FGOALIE,6),VLOOKUP($M$5-Tabelle3[[#This Row],[Jahr\nannée]],FSPIELER,6))","v":10},{"$f":"IF(Tabelle3[[#This Row],[Position\nG / D / FC / FW]]=\"G\",VLOOKUP($M$5-Tabelle3[[#This Row],[Jahr\nannée]],FGOALIE,7),VLOOKUP($M$5-Tabelle3[[#This Row],[Jahr\nannée]],FSPIELER,7))","v":10},{"$f":"IF(Tabelle3[[#This Row],[Position\nG / D / FC / FW]]=\"G\",VLOOKUP($M$5-Tabelle3[[#This Row],[Jahr\nannée]],FGOALIE,9),VLOOKUP($M$5-Tabelle3[[#This Row],[Jahr\nannée]],FSPIELER,9))","v":15},{"$f":"IF(Tabelle3[[#This Row],[Position\nG / D / FC / FW]]=\"G\",VLOOKUP($M$5-Tabelle3[[#This Row],[Jahr\nannée]],FGOALIE,8),VLOOKUP($M$5-Tabelle3[[#This Row],[Jahr\nannée]],FSPIELER,8))","v":0},{"$f":"IF(Tabelle3[[#This Row],[Position\nG / D / FC / FW]]=\"G\",VLOOKUP($M$5-Tabelle3[[#This Row],[Jahr\nannée]],FGOALIE,10),VLOOKUP($M$5-Tabelle3[[#This Row],[Jahr\nannée]],FSPIELER,10))","v":0},{"$f":"IF(Tabelle3[[#This Row],[Position\nG / D / FC / FW]]=\"G\",VLOOKUP($M$5-Tabelle3[[#This Row],[Jahr\nannée]],FGOALIE,11),VLOOKUP($M$5-Tabelle3[[#This Row],[Jahr\nannée]],FSPIELER,11))","v":10}]
[8,null,null,"-",null,null,null,null,null,{"$f":"IF(ISBLANK('8'!$H$4),\"-\",'8'!$H$4)","v":"-"},{"$f":"IF(ISBLANK('8'!$H$5),\"-\",'8'!$H$5)","v":"-"},{"$f":"IF(ISBLANK('8'!$H$2),\"-\",'8'!$H$2)","v":"-"},null,null,null,null,null,null,null,{"$f":"'8'!$M$19","v":0},{"$f":"'8'!$M$24","v":0},{"$f":"'8'!$M$30","v":0},{"$f":"'8'!$M$36","v":0},{"$f":"'8'!$M$41","v":0},{"$f":"'8'!$M$46","v":0},{"$f":"'8'!$M$13","v":0},{"$f":"'8'!$AA$2","v":0},{"$f":"'8'!$AA$4","v":0},{"$f":"'8'!$AA$3","v":0},{"$f":"IF(Tabelle3[[#This Row],[SKATING]]=0,\"-\",IF(Tabelle3[[#This Row],[Sex]]=\"M\",SUMPRODUCT(Tabelle3[[#This Row],[SKATING]:[VERANLAGUNG\nPREDISPOSITION]],AJ18:AS18),SUMPRODUCT(Tabelle3[[#This Row],[SKATING]:[VERANLAGUNG\nPREDISPOSITION]],AT18:BC18)))","v":"-"},{"$f":"IFERROR(RANK(Tabelle3[[#This Row],[TOTAL ]],Tabelle3[[TOTAL ]],0),\"-\")","v":"-"},null,null,null,null,{"$f":"IF(Tabelle3[[#This Row],[Position\nG / D / FC / FW]]=\"G\",VLOOKUP($M$5-Tabelle3[[#This Row],[Jahr\nannée]],GOALI,2),VLOOKUP($M$5-Tabelle3[[#This Row],[Jahr\nannée]],SPIELER,2))","v":10},{"$f":"IF(Tabelle3[[#This Row],[Position\nG / D / FC / FW]]=\"G\",VLOOKUP($M$5-Tabelle3[[#This Row],[Jahr\nannée]],GOALI,3),VLOOKUP($M$5-Tabelle3[[#This Row],[Jahr\nannée]],SPIELER,3))","v":10},{"$f":"IF(Tabelle3[[#This Row],[Position\nG / D / FC / FW]]=\"G\",VLOOKUP($M$5-Tabelle3[[#This Row],[Jahr\nannée]],GOALI,4),VLOOKUP($M$5-Tabelle3[[#This Row],[Jahr\nannée]],SPIELER,4))","v":20},{"$f":"IF(Tabelle3[[#This Row],[Position\nG / D / FC / FW]]=\"G\",VLOOKUP($M$5-Tabelle3[[#This Row],[Jahr\nannée]],GOALI,5),VLOOKUP($M$5-Tabelle3[[#This Row],[Jahr\nannée]],SPIELER,5))","v":15},{"$f":"IF(Tabelle3[[#This Row],[Position\nG / D / FC / FW]]=\"G\",VLOOKUP($M$5-Tabelle3[[#This Row],[Jahr\nannée]],GOALI,6),VLOOKUP($M$5-Tabelle3[[#This Row],[Jahr\nannée]],SPIELER,6))","v":10},{"$f":"IF(Tabelle3[[#This Row],[Position\nG / D / FC / FW]]=\"G\",VLOOKUP($M$5-Tabelle3[[#This Row],[Jahr\nannée]],GOALI,7),VLOOKUP($M$5-Tabelle3[[#This Row],[Jahr\nannée]],SPIELER,7))","v":10},{"$f":"IF(Tabelle3[[#This Row],[Position\nG / D / FC / FW]]=\"G\",VLOOKUP($M$5-Tabelle3[[#This Row],[Jahr\nannée]],GOALI,9),VLOOKUP($M$5-Tabelle3[[#This Row],[Jahr\nannée]],SPIELER,9))","v":15},{"$f":"IF(Tabelle3[[#This Row],[Position\nG / D / FC / FW]]=\"G\",VLOOKUP($M$5-Tabelle3[[#This Row],[Jahr\nannée]],GOALI,8),VLOOKUP($M$5-Tabelle3[[#This Row],[Jahr\nannée]],SPIELER,8))","v":0},{"$f":"IF(Tabelle3[[#This Row],[Position\nG / D / FC / FW]]=\"G\",VLOOKUP($M$5-Tabelle3[[#This Row],[Jahr\nannée]],GOALI,10),VLOOKUP($M$5-Tabelle3[[#This Row],[Jahr\nannée]],SPIELER,10))","v":0},{"$f":"IF(Tabelle3[[#This Row],[Position\nG / D / FC / FW]]=\"G\",VLOOKUP($M$5-Tabelle3[[#This Row],[Jahr\nannée]],GOALI,11),VLOOKUP($M$5-Tabelle3[[#This Row],[Jahr\nannée]],SPIELER,11))","v":10},{"$f":"IF(Tabelle3[[#This Row],[Position\nG / D / FC / FW]]=\"G\",VLOOKUP($M$5-Tabelle3[[#This Row],[Jahr\nannée]],FGOALIE,2),VLOOKUP($M$5-Tabelle3[[#This Row],[Jahr\nannée]],FSPIELER,2))","v":10},{"$f":"IF(Tabelle3[[#This Row],[Position\nG / D / FC / FW]]=\"G\",VLOOKUP($M$5-Tabelle3[[#This Row],[Jahr\nannée]],FGOALIE,3),VLOOKUP($M$5-Tabelle3[[#This Row],[Jahr\nannée]],FSPIELER,3))","v":10},{"$f":"IF(Tabelle3[[#This Row],[Position\nG / D / FC / FW]]=\"G\",VLOOKUP($M$5-Tabelle3[[#This Row],[Jahr\nannée]],FGOALIE,4),VLOOKUP($M$5-Tabelle3[[#This Row],[Jahr\nannée]],FSPIELER,4))","v":20},{"$f":"IF(Tabelle3[[#This Row],[Position\nG / D / FC / FW]]=\"G\",VLOOKUP($M$5-Tabelle3[[#This Row],[Jahr\nannée]],FGOALIE,5),VLOOKUP($M$5-Tabelle3[[#This Row],[Jahr\nannée]],FSPIELER,5))","v":15},{"$f":"IF(Tabelle3[[#This Row],[Position\nG / D / FC / FW]]=\"G\",VLOOKUP($M$5-Tabelle3[[#This Row],[Jahr\nannée]],FGOALIE,6),VLOOKUP($M$5-Tabelle3[[#This Row],[Jahr\nannée]],FSPIELER,6))","v":10},{"$f":"IF(Tabelle3[[#This Row],[Position\nG / D / FC / FW]]=\"G\",VLOOKUP($M$5-Tabelle3[[#This Row],[Jahr\nannée]],FGOALIE,7),VLOOKUP($M$5-Tabelle3[[#This Row],[Jahr\nannée]],FSPIELER,7))","v":10},{"$f":"IF(Tabelle3[[#This Row],[Position\nG / D / FC / FW]]=\"G\",VLOOKUP($M$5-Tabelle3[[#This Row],[Jahr\nannée]],FGOALIE,9),VLOOKUP($M$5-Tabelle3[[#This Row],[Jahr\nannée]],FSPIELER,9))","v":15},{"$f":"IF(Tabelle3[[#This Row],[Position\nG / D / FC / FW]]=\"G\",VLOOKUP($M$5-Tabelle3[[#This Row],[Jahr\nannée]],FGOALIE,8),VLOOKUP($M$5-Tabelle3[[#This Row],[Jahr\nannée]],FSPIELER,8))","v":0},{"$f":"IF(Tabelle3[[#This Row],[Position\nG / D / FC / FW]]=\"G\",VLOOKUP($M$5-Tabelle3[[#This Row],[Jahr\nannée]],FGOALIE,10),VLOOKUP($M$5-Tabelle3[[#This Row],[Jahr\nannée]],FSPIELER,10))","v":0},{"$f":"IF(Tabelle3[[#This Row],[Position\nG / D / FC / FW]]=\"G\",VLOOKUP($M$5-Tabelle3[[#This Row],[Jahr\nannée]],FGOALIE,11),VLOOKUP($M$5-Tabelle3[[#This Row],[Jahr\nannée]],FSPIELER,11))","v":10}]
[9,null,null,"-",null,null,null,null,null,{"$f":"IF(ISBLANK('9'!$H$4),\"-\",'9'!$H$4)","v":"-"},{"$f":"IF(ISBLANK('9'!$H$5),\"-\",'9'!$H$5)","v":"-"},{"$f":"IF(ISBLANK('9'!$H$2),\"-\",'9'!$H$2)","v":"-"},null,null,null,null,null,null,null,{"$f":"'9'!$M$19","v":0},{"$f":"'9'!$M$24","v":0},{"$f":"'9'!$M$30","v":0},{"$f":"'9'!$M$36","v":0},{"$f":"'9'!$M$41","v":0},{"$f":"'9'!$M$46","v":0},{"$f":"'9'!$M$13","v":0},{"$f":"'9'!$AA$2","v":0},{"$f":"'9'!$AA$4","v":0},{"$f":"'9'!$AA$3","v":0},{"$f":"IF(Tabelle3[[#This Row],[SKATING]]=0,\"-\",IF(Tabelle3[[#This Row],[Sex]]=\"M\",SUMPRODUCT(Tabelle3[[#This Row],[SKATING]:[VERANLAGUNG\nPREDISPOSITION]],AJ19:AS19),SUMPRODUCT(Tabelle3[[#This Row],[SKATING]:[VERANLAGUNG\nPREDISPOSITION]],AT19:BC19)))","v":"-"},{"$f":"IFERROR(RANK(Tabelle3[[#This Row],[TOTAL ]],Tabelle3[[TOTAL ]],0),\"-\")","v":"-"},null,null,null,null,{"$f":"IF(Tabelle3[[#This Row],[Position\nG / D / FC / FW]]=\"G\",VLOOKUP($M$5-Tabelle3[[#This Row],[Jahr\nannée]],GOALI,2),VLOOKUP($M$5-Tabelle3[[#This Row],[Jahr\nannée]],SPIELER,2))","v":10},{"$f":"IF(Tabelle3[[#This Row],[Position\nG / D / FC / FW]]=\"G\",VLOOKUP($M$5-Tabelle3[[#This Row],[Jahr\nannée]],GOALI,3),VLOOKUP($M$5-Tabelle3[[#This Row],[Jahr\nannée]],SPIELER,3))","v":10},{"$f":"IF(Tabelle3[[#This Row],[Position\nG / D / FC / FW]]=\"G\",VLOOKUP($M$5-Tabelle3[[#This Row],[Jahr\nannée]],GOALI,4),VLOOKUP($M$5-Tabelle3[[#This Row],[Jahr\nannée]],SPIELER,4))","v":20},{"$f":"IF(Tabelle3[[#This Row],[Position\nG / D / FC / FW]]=\"G\",VLOOKUP($M$5-Tabelle3[[#This Row],[Jahr\nannée]],GOALI,5),VLOOKUP($M$5-Tabelle3[[#This Row],[Jahr\nannée]],SPIELER,5))","v":15},{"$f":"IF(Tabelle3[[#This Row],[Position\nG / D / FC / FW]]=\"G\",VLOOKUP($M$5-Tabelle3[[#This Row],[Jahr\nannée]],GOALI,6),VLOOKUP($M$5-Tabelle3[[#This Row],[Jahr\nannée]],SPIELER,6))","v":10},{"$f":"IF(Tabelle3[[#This Row],[Position\nG / D / FC / FW]]=\"G\",VLOOKUP($M$5-Tabelle3[[#This Row],[Jahr\nannée]],GOALI,7),VLOOKUP($M$5-Tabelle3[[#This Row],[Jahr\nannée]],SPIELER,7))","v":10},{"$f":"IF(Tabelle3[[#This Row],[Position\nG / D / FC / FW]]=\"G\",VLOOKUP($M$5-Tabelle3[[#This Row],[Jahr\nannée]],GOALI,9),VLOOKUP($M$5-Tabelle3[[#This Row],[Jahr\nannée]],SPIELER,9))","v":15},{"$f":"IF(Tabelle3[[#This Row],[Position\nG / D / FC / FW]]=\"G\",VLOOKUP($M$5-Tabelle3[[#This Row],[Jahr\nannée]],GOALI,8),VLOOKUP($M$5-Tabelle3[[#This Row],[Jahr\nannée]],SPIELER,8))","v":0},{"$f":"IF(Tabelle3[[#This Row],[Position\nG / D / FC / FW]]=\"G\",VLOOKUP($M$5-Tabelle3[[#This Row],[Jahr\nannée]],GOALI,10),VLOOKUP($M$5-Tabelle3[[#This Row],[Jahr\nannée]],SPIELER,10))","v":0},{"$f":"IF(Tabelle3[[#This Row],[Position\nG / D / FC / FW]]=\"G\",VLOOKUP($M$5-Tabelle3[[#This Row],[Jahr\nannée]],GOALI,11),VLOOKUP($M$5-Tabelle3[[#This Row],[Jahr\nannée]],SPIELER,11))","v":10},{"$f":"IF(Tabelle3[[#This Row],[Position\nG / D / FC / FW]]=\"G\",VLOOKUP($M$5-Tabelle3[[#This Row],[Jahr\nannée]],FGOALIE,2),VLOOKUP($M$5-Tabelle3[[#This Row],[Jahr\nannée]],FSPIELER,2))","v":10},{"$f":"IF(Tabelle3[[#This Row],[Position\nG / D / FC / FW]]=\"G\",VLOOKUP($M$5-Tabelle3[[#This Row],[Jahr\nannée]],FGOALIE,3),VLOOKUP($M$5-Tabelle3[[#This Row],[Jahr\nannée]],FSPIELER,3))","v":10},{"$f":"IF(Tabelle3[[#This Row],[Position\nG / D / FC / FW]]=\"G\",VLOOKUP($M$5-Tabelle3[[#This Row],[Jahr\nannée]],FGOALIE,4),VLOOKUP($M$5-Tabelle3[[#This Row],[Jahr\nannée]],FSPIELER,4))","v":20},{"$f":"IF(Tabelle3[[#This Row],[Position\nG / D / FC / FW]]=\"G\",VLOOKUP($M$5-Tabelle3[[#This Row],[Jahr\nannée]],FGOALIE,5),VLOOKUP($M$5-Tabelle3[[#This Row],[Jahr\nannée]],FSPIELER,5))","v":15},{"$f":"IF(Tabelle3[[#This Row],[Position\nG / D / FC / FW]]=\"G\",VLOOKUP($M$5-Tabelle3[[#This Row],[Jahr\nannée]],FGOALIE,6),VLOOKUP($M$5-Tabelle3[[#This Row],[Jahr\nannée]],FSPIELER,6))","v":10},{"$f":"IF(Tabelle3[[#This Row],[Position\nG / D / FC / FW]]=\"G\",VLOOKUP($M$5-Tabelle3[[#This Row],[Jahr\nannée]],FGOALIE,7),VLOOKUP($M$5-Tabelle3[[#This Row],[Jahr\nannée]],FSPIELER,7))","v":10},{"$f":"IF(Tabelle3[[#This Row],[Position\nG / D / FC / FW]]=\"G\",VLOOKUP($M$5-Tabelle3[[#This Row],[Jahr\nannée]],FGOALIE,9),VLOOKUP($M$5-Tabelle3[[#This Row],[Jahr\nannée]],FSPIELER,9))","v":15},{"$f":"IF(Tabelle3[[#This Row],[Position\nG / D / FC / FW]]=\"G\",VLOOKUP($M$5-Tabelle3[[#This Row],[Jahr\nannée]],FGOALIE,8),VLOOKUP($M$5-Tabelle3[[#This Row],[Jahr\nannée]],FSPIELER,8))","v":0},{"$f":"IF(Tabelle3[[#This Row],[Position\nG / D / FC / FW]]=\"G\",VLOOKUP($M$5-Tabelle3[[#This Row],[Jahr\nannée]],FGOALIE,10),VLOOKUP($M$5-Tabelle3[[#This Row],[Jahr\nannée]],FSPIELER,10))","v":0},{"$f":"IF(Tabelle3[[#This Row],[Position\nG / D / FC / FW]]=\"G\",VLOOKUP($M$5-Tabelle3[[#This Row],[Jahr\nannée]],FGOALIE,11),VLOOKUP($M$5-Tabelle3[[#This Row],[Jahr\nannée]],FSPIELER,11))","v":10}]
[10,null,null,"-",null,null,null,null,null,{"$f":"IF(ISBLANK('10'!$H$4),\"-\",'10'!$H$4)","v":"-"},{"$f":"IF(ISBLANK('10'!$H$5),\"-\",'10'!$H$5)","v":"-"},{"$f":"IF(ISBLANK('10'!$H$2),\"-\",'10'!$H$2)","v":"-"},null,null,null,null,null,null,null,{"$f":"'10'!$M$19","v":0},{"$f":"'10'!$M$24","v":0},{"$f":"'10'!$M$30","v":0},{"$f":"'10'!$M$36","v":0},{"$f":"'10'!$M$41","v":0},{"$f":"'10'!$M$46","v":0},{"$f":"'10'!$M$13","v":0},{"$f":"'10'!$AA$2","v":0},{"$f":"'10'!$AA$4","v":0},{"$f":"'10'!$AA$3","v":0},{"$f":"IF(Tabelle3[[#This Row],[SKATING]]=0,\"-\",IF(Tabelle3[[#This Row],[Sex]]=\"M\",SUMPRODUCT(Tabelle3[[#This Row],[SKATING]:[VERANLAGUNG\nPREDISPOSITION]],AJ20:AS20),SUMPRODUCT(Tabelle3[[#This Row],[SKATING]:[VERANLAGUNG\nPREDISPOSITION]],AT20:BC20)))","v":"-"},{"$f":"IFERROR(RANK(Tabelle3[[#This Row],[TOTAL ]],Tabelle3[[TOTAL ]],0),\"-\")","v":"-"},null,null,null,null,{"$f":"IF(Tabelle3[[#This Row],[Position\nG / D / FC / FW]]=\"G\",VLOOKUP($M$5-Tabelle3[[#This Row],[Jahr\nannée]],GOALI,2),VLOOKUP($M$5-Tabelle3[[#This Row],[Jahr\nannée]],SPIELER,2))","v":10},{"$f":"IF(Tabelle3[[#This Row],[Position\nG / D / FC / FW]]=\"G\",VLOOKUP($M$5-Tabelle3[[#This Row],[Jahr\nannée]],GOALI,3),VLOOKUP($M$5-Tabelle3[[#This Row],[Jahr\nannée]],SPIELER,3))","v":10},{"$f":"IF(Tabelle3[[#This Row],[Position\nG / D / FC / FW]]=\"G\",VLOOKUP($M$5-Tabelle3[[#This Row],[Jahr\nannée]],GOALI,4),VLOOKUP($M$5-Tabelle3[[#This Row],[Jahr\nannée]],SPIELER,4))","v":20},{"$f":"IF(Tabelle3[[#This Row],[Position\nG / D / FC / FW]]=\"G\",VLOOKUP($M$5-Tabelle3[[#This Row],[Jahr\nannée]],GOALI,5),VLOOKUP($M$5-Tabelle3[[#This Row],[Jahr\nannée]],SPIELER,5))","v":15},{"$f":"IF(Tabelle3[[#This Row],[Position\nG / D / FC / FW]]=\"G\",VLOOKUP($M$5-Tabelle3[[#This Row],[Jahr\nannée]],GOALI,6),VLOOKUP($M$5-Tabelle3[[#This Row],[Jahr\nannée]],SPIELER,6))","v":10},{"$f":"IF(Tabelle3[[#This Row],[Position\nG / D / FC / FW]]=\"G\",VLOOKUP($M$5-Tabelle3[[#This Row],[Jahr\nannée]],GOALI,7),VLOOKUP($M$5-Tabelle3[[#This Row],[Jahr\nannée]],SPIELER,7))","v":10},{"$f":"IF(Tabelle3[[#This Row],[Position\nG / D / FC / FW]]=\"G\",VLOOKUP($M$5-Tabelle3[[#This Row],[Jahr\nannée]],GOALI,9),VLOOKUP($M$5-Tabelle3[[#This Row],[Jahr\nannée]],SPIELER,9))","v":15},{"$f":"IF(Tabelle3[[#This Row],[Position\nG / D / FC / FW]]=\"G\",VLOOKUP($M$5-Tabelle3[[#This Row],[Jahr\nannée]],GOALI,8),VLOOKUP($M$5-Tabelle3[[#This Row],[Jahr\nannée]],SPIELER,8))","v":0},{"$f":"IF(Tabelle3[[#This Row],[Position\nG / D / FC / FW]]=\"G\",VLOOKUP($M$5-Tabelle3[[#This Row],[Jahr\nannée]],GOALI,10),VLOOKUP($M$5-Tabelle3[[#This Row],[Jahr\nannée]],SPIELER,10))","v":0},{"$f":"IF(Tabelle3[[#This Row],[Position\nG / D / FC / FW]]=\"G\",VLOOKUP($M$5-Tabelle3[[#This Row],[Jahr\nannée]],GOALI,11),VLOOKUP($M$5-Tabelle3[[#This Row],[Jahr\nannée]],SPIELER,11))","v":10},{"$f":"IF(Tabelle3[[#This Row],[Position\nG / D / FC / FW]]=\"G\",VLOOKUP($M$5-Tabelle3[[#This Row],[Jahr\nannée]],FGOALIE,2),VLOOKUP($M$5-Tabelle3[[#This Row],[Jahr\nannée]],FSPIELER,2))","v":10},{"$f":"IF(Tabelle3[[#This Row],[Position\nG / D / FC / FW]]=\"G\",VLOOKUP($M$5-Tabelle3[[#This Row],[Jahr\nannée]],FGOALIE,3),VLOOKUP($M$5-Tabelle3[[#This Row],[Jahr\nannée]],FSPIELER,3))","v":10},{"$f":"IF(Tabelle3[[#This Row],[Position\nG / D / FC / FW]]=\"G\",VLOOKUP($M$5-Tabelle3[[#This Row],[Jahr\nannée]],FGOALIE,4),VLOOKUP($M$5-Tabelle3[[#This Row],[Jahr\nannée]],FSPIELER,4))","v":20},{"$f":"IF(Tabelle3[[#This Row],[Position\nG / D / FC / FW]]=\"G\",VLOOKUP($M$5-Tabelle3[[#This Row],[Jahr\nannée]],FGOALIE,5),VLOOKUP($M$5-Tabelle3[[#This Row],[Jahr\nannée]],FSPIELER,5))","v":15},{"$f":"IF(Tabelle3[[#This Row],[Position\nG / D / FC / FW]]=\"G\",VLOOKUP($M$5-Tabelle3[[#This Row],[Jahr\nannée]],FGOALIE,6),VLOOKUP($M$5-Tabelle3[[#This Row],[Jahr\nannée]],FSPIELER,6))","v":10},{"$f":"IF(Tabelle3[[#This Row],[Position\nG / D / FC / FW]]=\"G\",VLOOKUP($M$5-Tabelle3[[#This Row],[Jahr\nannée]],FGOALIE,7),VLOOKUP($M$5-Tabelle3[[#This Row],[Jahr\nannée]],FSPIELER,7))","v":10},{"$f":"IF(Tabelle3[[#This Row],[Position\nG / D / FC / FW]]=\"G\",VLOOKUP($M$5-Tabelle3[[#This Row],[Jahr\nannée]],FGOALIE,9),VLOOKUP($M$5-Tabelle3[[#This Row],[Jahr\nannée]],FSPIELER,9))","v":15},{"$f":"IF(Tabelle3[[#This Row],[Position\nG / D / FC / FW]]=\"G\",VLOOKUP($M$5-Tabelle3[[#This Row],[Jahr\nannée]],FGOALIE,8),VLOOKUP($M$5-Tabelle3[[#This Row],[Jahr\nannée]],FSPIELER,8))","v":0},{"$f":"IF(Tabelle3[[#This Row],[Position\nG / D / FC / FW]]=\"G\",VLOOKUP($M$5-Tabelle3[[#This Row],[Jahr\nannée]],FGOALIE,10),VLOOKUP($M$5-Tabelle3[[#This Row],[Jahr\nannée]],FSPIELER,10))","v":0},{"$f":"IF(Tabelle3[[#This Row],[Position\nG / D / FC / FW]]=\"G\",VLOOKUP($M$5-Tabelle3[[#This Row],[Jahr\nannée]],FGOALIE,11),VLOOKUP($M$5-Tabelle3[[#This Row],[Jahr\nannée]],FSPIELER,11))","v":10}]
[11,null,null,"-",null,null,null,null,null,{"$f":"IF(ISBLANK('11'!$H$4),\"-\",'11'!$H$4)","v":"-"},{"$f":"IF(ISBLANK('11'!$H$5),\"-\",'11'!$H$5)","v":"-"},{"$f":"IF(ISBLANK('11'!$H$2),\"-\",'11'!$H$2)","v":"-"},null,null,null,null,null,null,null,{"$f":"'11'!$M$19","v":0},{"$f":"'11'!$M$24","v":0},{"$f":"'11'!$M$30","v":0},{"$f":"'11'!$M$36","v":0},{"$f":"'11'!$M$41","v":0},{"$f":"'11'!$M$46","v":0},{"$f":"'11'!$M$13","v":0},{"$f":"'11'!$AA$2","v":0},{"$f":"'11'!$AA$4","v":0},{"$f":"'11'!$AA$3","v":0},{"$f":"IF(Tabelle3[[#This Row],[SKATING]]=0,\"-\",IF(Tabelle3[[#This Row],[Sex]]=\"M\",SUMPRODUCT(Tabelle3[[#This Row],[SKATING]:[VERANLAGUNG\nPREDISPOSITION]],AJ21:AS21),SUMPRODUCT(Tabelle3[[#This Row],[SKATING]:[VERANLAGUNG\nPREDISPOSITION]],AT21:BC21)))","v":"-"},{"$f":"IFERROR(RANK(Tabelle3[[#This Row],[TOTAL ]],Tabelle3[[TOTAL ]],0),\"-\")","v":"-"},null,null,null,null,{"$f":"IF(Tabelle3[[#This Row],[Position\nG / D / FC / FW]]=\"G\",VLOOKUP($M$5-Tabelle3[[#This Row],[Jahr\nannée]],GOALI,2),VLOOKUP($M$5-Tabelle3[[#This Row],[Jahr\nannée]],SPIELER,2))","v":10},{"$f":"IF(Tabelle3[[#This Row],[Position\nG / D / FC / FW]]=\"G\",VLOOKUP($M$5-Tabelle3[[#This Row],[Jahr\nannée]],GOALI,3),VLOOKUP($M$5-Tabelle3[[#This Row],[Jahr\nannée]],SPIELER,3))","v":10},{"$f":"IF(Tabelle3[[#This Row],[Position\nG / D / FC / FW]]=\"G\",VLOOKUP($M$5-Tabelle3[[#This Row],[Jahr\nannée]],GOALI,4),VLOOKUP($M$5-Tabelle3[[#This Row],[Jahr\nannée]],SPIELER,4))","v":20},{"$f":"IF(Tabelle3[[#This Row],[Position\nG / D / FC / FW]]=\"G\",VLOOKUP($M$5-Tabelle3[[#This Row],[Jahr\nannée]],GOALI,5),VLOOKUP($M$5-Tabelle3[[#This Row],[Jahr\nannée]],SPIELER,5))","v":15},{"$f":"IF(Tabelle3[[#This Row],[Position\nG / D / FC / FW]]=\"G\",VLOOKUP($M$5-Tabelle3[[#This Row],[Jahr\nannée]],GOALI,6),VLOOKUP($M$5-Tabelle3[[#This Row],[Jahr\nannée]],SPIELER,6))","v":10},{"$f":"IF(Tabelle3[[#This Row],[Position\nG / D / FC / FW]]=\"G\",VLOOKUP($M$5-Tabelle3[[#This Row],[Jahr\nannée]],GOALI,7),VLOOKUP($M$5-Tabelle3[[#This Row],[Jahr\nannée]],SPIELER,7))","v":10},{"$f":"IF(Tabelle3[[#This Row],[Position\nG / D / FC / FW]]=\"G\",VLOOKUP($M$5-Tabelle3[[#This Row],[Jahr\nannée]],GOALI,9),VLOOKUP($M$5-Tabelle3[[#This Row],[Jahr\nannée]],SPIELER,9))","v":15},{"$f":"IF(Tabelle3[[#This Row],[Position\nG / D / FC / FW]]=\"G\",VLOOKUP($M$5-Tabelle3[[#This Row],[Jahr\nannée]],GOALI,8),VLOOKUP($M$5-Tabelle3[[#This Row],[Jahr\nannée]],SPIELER,8))","v":0},{"$f":"IF(Tabelle3[[#This Row],[Position\nG / D / FC / FW]]=\"G\",VLOOKUP($M$5-Tabelle3[[#This Row],[Jahr\nannée]],GOALI,10),VLOOKUP($M$5-Tabelle3[[#This Row],[Jahr\nannée]],SPIELER,10))","v":0},{"$f":"IF(Tabelle3[[#This Row],[Position\nG / D / FC / FW]]=\"G\",VLOOKUP($M$5-Tabelle3[[#This Row],[Jahr\nannée]],GOALI,11),VLOOKUP($M$5-Tabelle3[[#This Row],[Jahr\nannée]],SPIELER,11))","v":10},{"$f":"IF(Tabelle3[[#This Row],[Position\nG / D / FC / FW]]=\"G\",VLOOKUP($M$5-Tabelle3[[#This Row],[Jahr\nannée]],FGOALIE,2),VLOOKUP($M$5-Tabelle3[[#This Row],[Jahr\nannée]],FSPIELER,2))","v":10},{"$f":"IF(Tabelle3[[#This Row],[Position\nG / D / FC / FW]]=\"G\",VLOOKUP($M$5-Tabelle3[[#This Row],[Jahr\nannée]],FGOALIE,3),VLOOKUP($M$5-Tabelle3[[#This Row],[Jahr\nannée]],FSPIELER,3))","v":10},{"$f":"IF(Tabelle3[[#This Row],[Position\nG / D / FC / FW]]=\"G\",VLOOKUP($M$5-Tabelle3[[#This Row],[Jahr\nannée]],FGOALIE,4),VLOOKUP($M$5-Tabelle3[[#This Row],[Jahr\nannée]],FSPIELER,4))","v":20},{"$f":"IF(Tabelle3[[#This Row],[Position\nG / D / FC / FW]]=\"G\",VLOOKUP($M$5-Tabelle3[[#This Row],[Jahr\nannée]],FGOALIE,5),VLOOKUP($M$5-Tabelle3[[#This Row],[Jahr\nannée]],FSPIELER,5))","v":15},{"$f":"IF(Tabelle3[[#This Row],[Position\nG / D / FC / FW]]=\"G\",VLOOKUP($M$5-Tabelle3[[#This Row],[Jahr\nannée]],FGOALIE,6),VLOOKUP($M$5-Tabelle3[[#This Row],[Jahr\nannée]],FSPIELER,6))","v":10},{"$f":"IF(Tabelle3[[#This Row],[Position\nG / D / FC / FW]]=\"G\",VLOOKUP($M$5-Tabelle3[[#This Row],[Jahr\nannée]],FGOALIE,7),VLOOKUP($M$5-Tabelle3[[#This Row],[Jahr\nannée]],FSPIELER,7))","v":10},{"$f":"IF(Tabelle3[[#This Row],[Position\nG / D / FC / FW]]=\"G\",VLOOKUP($M$5-Tabelle3[[#This Row],[Jahr\nannée]],FGOALIE,9),VLOOKUP($M$5-Tabelle3[[#This Row],[Jahr\nannée]],FSPIELER,9))","v":15},{"$f":"IF(Tabelle3[[#This Row],[Position\nG / D / FC / FW]]=\"G\",VLOOKUP($M$5-Tabelle3[[#This Row],[Jahr\nannée]],FGOALIE,8),VLOOKUP($M$5-Tabelle3[[#This Row],[Jahr\nannée]],FSPIELER,8))","v":0},{"$f":"IF(Tabelle3[[#This Row],[Position\nG / D / FC / FW]]=\"G\",VLOOKUP($M$5-Tabelle3[[#This Row],[Jahr\nannée]],FGOALIE,10),VLOOKUP($M$5-Tabelle3[[#This Row],[Jahr\nannée]],FSPIELER,10))","v":0},{"$f":"IF(Tabelle3[[#This Row],[Position\nG / D / FC / FW]]=\"G\",VLOOKUP($M$5-Tabelle3[[#This Row],[Jahr\nannée]],FGOALIE,11),VLOOKUP($M$5-Tabelle3[[#This Row],[Jahr\nannée]],FSPIELER,11))","v":10}]
[12,null,null,"-",null,null,null,null,null,{"$f":"IF(ISBLANK('12'!$H$4),\"-\",'12'!$H$4)","v":"-"},{"$f":"IF(ISBLANK('12'!$H$5),\"-\",'12'!$H$5)","v":"-"},{"$f":"IF(ISBLANK('12'!$H$2),\"-\",'12'!$H$2)","v":"-"},null,null,null,null,null,null,null,{"$f":"'12'!$M$19","v":0},{"$f":"'12'!$M$24","v":0},{"$f":"'12'!$M$30","v":0},{"$f":"'12'!$M$36","v":0},{"$f":"'12'!$M$41","v":0},{"$f":"'12'!$M$46","v":0},{"$f":"'12'!$M$13","v":0},{"$f":"'12'!$AA$2","v":0},{"$f":"'12'!$AA$4","v":0},{"$f":"'12'!$AA$3","v":0},{"$f":"IF(Tabelle3[[#This Row],[SKATING]]=0,\"-\",IF(Tabelle3[[#This Row],[Sex]]=\"M\",SUMPRODUCT(Tabelle3[[#This Row],[SKATING]:[VERANLAGUNG\nPREDISPOSITION]],AJ22:AS22),SUMPRODUCT(Tabelle3[[#This Row],[SKATING]:[VERANLAGUNG\nPREDISPOSITION]],AT22:BC22)))","v":"-"},{"$f":"IFERROR(RANK(Tabelle3[[#This Row],[TOTAL ]],Tabelle3[[TOTAL ]],0),\"-\")","v":"-"},null,null,null,null,{"$f":"IF(Tabelle3[[#This Row],[Position\nG / D / FC / FW]]=\"G\",VLOOKUP($M$5-Tabelle3[[#This Row],[Jahr\nannée]],GOALI,2),VLOOKUP($M$5-Tabelle3[[#This Row],[Jahr\nannée]],SPIELER,2))","v":10},{"$f":"IF(Tabelle3[[#This Row],[Position\nG / D / FC / FW]]=\"G\",VLOOKUP($M$5-Tabelle3[[#This Row],[Jahr\nannée]],GOALI,3),VLOOKUP($M$5-Tabelle3[[#This Row],[Jahr\nannée]],SPIELER,3))","v":10},{"$f":"IF(Tabelle3[[#This Row],[Position\nG / D / FC / FW]]=\"G\",VLOOKUP($M$5-Tabelle3[[#This Row],[Jahr\nannée]],GOALI,4),VLOOKUP($M$5-Tabelle3[[#This Row],[Jahr\nannée]],SPIELER,4))","v":20},{"$f":"IF(Tabelle3[[#This Row],[Position\nG / D / FC / FW]]=\"G\",VLOOKUP($M$5-Tabelle3[[#This Row],[Jahr\nannée]],GOALI,5),VLOOKUP($M$5-Tabelle3[[#This Row],[Jahr\nannée]],SPIELER,5))","v":15},{"$f":"IF(Tabelle3[[#This Row],[Position\nG / D / FC / FW]]=\"G\",VLOOKUP($M$5-Tabelle3[[#This Row],[Jahr\nannée]],GOALI,6),VLOOKUP($M$5-Tabelle3[[#This Row],[Jahr\nannée]],SPIELER,6))","v":10},{"$f":"IF(Tabelle3[[#This Row],[Position\nG / D / FC / FW]]=\"G\",VLOOKUP($M$5-Tabelle3[[#This Row],[Jahr\nannée]],GOALI,7),VLOOKUP($M$5-Tabelle3[[#This Row],[Jahr\nannée]],SPIELER,7))","v":10},{"$f":"IF(Tabelle3[[#This Row],[Position\nG / D / FC / FW]]=\"G\",VLOOKUP($M$5-Tabelle3[[#This Row],[Jahr\nannée]],GOALI,9),VLOOKUP($M$5-Tabelle3[[#This Row],[Jahr\nannée]],SPIELER,9))","v":15},{"$f":"IF(Tabelle3[[#This Row],[Position\nG / D / FC / FW]]=\"G\",VLOOKUP($M$5-Tabelle3[[#This Row],[Jahr\nannée]],GOALI,8),VLOOKUP($M$5-Tabelle3[[#This Row],[Jahr\nannée]],SPIELER,8))","v":0},{"$f":"IF(Tabelle3[[#This Row],[Position\nG / D / FC / FW]]=\"G\",VLOOKUP($M$5-Tabelle3[[#This Row],[Jahr\nannée]],GOALI,10),VLOOKUP($M$5-Tabelle3[[#This Row],[Jahr\nannée]],SPIELER,10))","v":0},{"$f":"IF(Tabelle3[[#This Row],[Position\nG / D / FC / FW]]=\"G\",VLOOKUP($M$5-Tabelle3[[#This Row],[Jahr\nannée]],GOALI,11),VLOOKUP($M$5-Tabelle3[[#This Row],[Jahr\nannée]],SPIELER,11))","v":10},{"$f":"IF(Tabelle3[[#This Row],[Position\nG / D / FC / FW]]=\"G\",VLOOKUP($M$5-Tabelle3[[#This Row],[Jahr\nannée]],FGOALIE,2),VLOOKUP($M$5-Tabelle3[[#This Row],[Jahr\nannée]],FSPIELER,2))","v":10},{"$f":"IF(Tabelle3[[#This Row],[Position\nG / D / FC / FW]]=\"G\",VLOOKUP($M$5-Tabelle3[[#This Row],[Jahr\nannée]],FGOALIE,3),VLOOKUP($M$5-Tabelle3[[#This Row],[Jahr\nannée]],FSPIELER,3))","v":10},{"$f":"IF(Tabelle3[[#This Row],[Position\nG / D / FC / FW]]=\"G\",VLOOKUP($M$5-Tabelle3[[#This Row],[Jahr\nannée]],FGOALIE,4),VLOOKUP($M$5-Tabelle3[[#This Row],[Jahr\nannée]],FSPIELER,4))","v":20},{"$f":"IF(Tabelle3[[#This Row],[Position\nG / D / FC / FW]]=\"G\",VLOOKUP($M$5-Tabelle3[[#This Row],[Jahr\nannée]],FGOALIE,5),VLOOKUP($M$5-Tabelle3[[#This Row],[Jahr\nannée]],FSPIELER,5))","v":15},{"$f":"IF(Tabelle3[[#This Row],[Position\nG / D / FC / FW]]=\"G\",VLOOKUP($M$5-Tabelle3[[#This Row],[Jahr\nannée]],FGOALIE,6),VLOOKUP($M$5-Tabelle3[[#This Row],[Jahr\nannée]],FSPIELER,6))","v":10},{"$f":"IF(Tabelle3[[#This Row],[Position\nG / D / FC / FW]]=\"G\",VLOOKUP($M$5-Tabelle3[[#This Row],[Jahr\nannée]],FGOALIE,7),VLOOKUP($M$5-Tabelle3[[#This Row],[Jahr\nannée]],FSPIELER,7))","v":10},{"$f":"IF(Tabelle3[[#This Row],[Position\nG / D / FC / FW]]=\"G\",VLOOKUP($M$5-Tabelle3[[#This Row],[Jahr\nannée]],FGOALIE,9),VLOOKUP($M$5-Tabelle3[[#This Row],[Jahr\nannée]],FSPIELER,9))","v":15},{"$f":"IF(Tabelle3[[#This Row],[Position\nG / D / FC / FW]]=\"G\",VLOOKUP($M$5-Tabelle3[[#This Row],[Jahr\nannée]],FGOALIE,8),VLOOKUP($M$5-Tabelle3[[#This Row],[Jahr\nannée]],FSPIELER,8))","v":0},{"$f":"IF(Tabelle3[[#This Row],[Position\nG / D / FC / FW]]=\"G\",VLOOKUP($M$5-Tabelle3[[#This Row],[Jahr\nannée]],FGOALIE,10),VLOOKUP($M$5-Tabelle3[[#This Row],[Jahr\nannée]],FSPIELER,10))","v":0},{"$f":"IF(Tabelle3[[#This Row],[Position\nG / D / FC / FW]]=\"G\",VLOOKUP($M$5-Tabelle3[[#This Row],[Jahr\nannée]],FGOALIE,11),VLOOKUP($M$5-Tabelle3[[#This Row],[Jahr\nannée]],FSPIELER,11))","v":10}]
[13,null,null,"-",null,null,null,null,null,{"$f":"IF(ISBLANK('13'!$H$4),\"-\",'13'!$H$4)","v":"-"},{"$f":"IF(ISBLANK('13'!$H$5),\"-\",'13'!$H$5)","v":"-"},{"$f":"IF(ISBLANK('13'!$H$2),\"-\",'13'!$H$2)","v":"-"},null,null,null,null,null,null,null,{"$f":"'13'!$M$19","v":0},{"$f":"'13'!$M$24","v":0},{"$f":"'13'!$M$30","v":0},{"$f":"'13'!$M$36","v":0},{"$f":"'13'!$M$41","v":0},{"$f":"'13'!$M$46","v":0},{"$f":"'13'!$M$13","v":0},{"$f":"'13'!$AA$2","v":0},{"$f":"'13'!$AA$4","v":0},{"$f":"'13'!$AA$3","v":0},{"$f":"IF(Tabelle3[[#This Row],[SKATING]]=0,\"-\",IF(Tabelle3[[#This Row],[Sex]]=\"M\",SUMPRODUCT(Tabelle3[[#This Row],[SKATING]:[VERANLAGUNG\nPREDISPOSITION]],AJ23:AS23),SUMPRODUCT(Tabelle3[[#This Row],[SKATING]:[VERANLAGUNG\nPREDISPOSITION]],AT23:BC23)))","v":"-"},{"$f":"IFERROR(RANK(Tabelle3[[#This Row],[TOTAL ]],Tabelle3[[TOTAL ]],0),\"-\")","v":"-"},null,null,null,null,{"$f":"IF(Tabelle3[[#This Row],[Position\nG / D / FC / FW]]=\"G\",VLOOKUP($M$5-Tabelle3[[#This Row],[Jahr\nannée]],GOALI,2),VLOOKUP($M$5-Tabelle3[[#This Row],[Jahr\nannée]],SPIELER,2))","v":10},{"$f":"IF(Tabelle3[[#This Row],[Position\nG / D / FC / FW]]=\"G\",VLOOKUP($M$5-Tabelle3[[#This Row],[Jahr\nannée]],GOALI,3),VLOOKUP($M$5-Tabelle3[[#This Row],[Jahr\nannée]],SPIELER,3))","v":10},{"$f":"IF(Tabelle3[[#This Row],[Position\nG / D / FC / FW]]=\"G\",VLOOKUP($M$5-Tabelle3[[#This Row],[Jahr\nannée]],GOALI,4),VLOOKUP($M$5-Tabelle3[[#This Row],[Jahr\nannée]],SPIELER,4))","v":20},{"$f":"IF(Tabelle3[[#This Row],[Position\nG / D / FC / FW]]=\"G\",VLOOKUP($M$5-Tabelle3[[#This Row],[Jahr\nannée]],GOALI,5),VLOOKUP($M$5-Tabelle3[[#This Row],[Jahr\nannée]],SPIELER,5))","v":15},{"$f":"IF(Tabelle3[[#This Row],[Position\nG / D / FC / FW]]=\"G\",VLOOKUP($M$5-Tabelle3[[#This Row],[Jahr\nannée]],GOALI,6),VLOOKUP($M$5-Tabelle3[[#This Row],[Jahr\nannée]],SPIELER,6))","v":10},{"$f":"IF(Tabelle3[[#This Row],[Position\nG / D / FC / FW]]=\"G\",VLOOKUP($M$5-Tabelle3[[#This Row],[Jahr\nannée]],GOALI,7),VLOOKUP($M$5-Tabelle3[[#This Row],[Jahr\nannée]],SPIELER,7))","v":10},{"$f":"IF(Tabelle3[[#This Row],[Position\nG / D / FC / FW]]=\"G\",VLOOKUP($M$5-Tabelle3[[#This Row],[Jahr\nannée]],GOALI,9),VLOOKUP($M$5-Tabelle3[[#This Row],[Jahr\nannée]],SPIELER,9))","v":15},{"$f":"IF(Tabelle3[[#This Row],[Position\nG / D / FC / FW]]=\"G\",VLOOKUP($M$5-Tabelle3[[#This Row],[Jahr\nannée]],GOALI,8),VLOOKUP($M$5-Tabelle3[[#This Row],[Jahr\nannée]],SPIELER,8))","v":0},{"$f":"IF(Tabelle3[[#This Row],[Position\nG / D / FC / FW]]=\"G\",VLOOKUP($M$5-Tabelle3[[#This Row],[Jahr\nannée]],GOALI,10),VLOOKUP($M$5-Tabelle3[[#This Row],[Jahr\nannée]],SPIELER,10))","v":0},{"$f":"IF(Tabelle3[[#This Row],[Position\nG / D / FC / FW]]=\"G\",VLOOKUP($M$5-Tabelle3[[#This Row],[Jahr\nannée]],GOALI,11),VLOOKUP($M$5-Tabelle3[[#This Row],[Jahr\nannée]],SPIELER,11))","v":10},{"$f":"IF(Tabelle3[[#This Row],[Position\nG / D / FC / FW]]=\"G\",VLOOKUP($M$5-Tabelle3[[#This Row],[Jahr\nannée]],FGOALIE,2),VLOOKUP($M$5-Tabelle3[[#This Row],[Jahr\nannée]],FSPIELER,2))","v":10},{"$f":"IF(Tabelle3[[#This Row],[Position\nG / D / FC / FW]]=\"G\",VLOOKUP($M$5-Tabelle3[[#This Row],[Jahr\nannée]],FGOALIE,3),VLOOKUP($M$5-Tabelle3[[#This Row],[Jahr\nannée]],FSPIELER,3))","v":10},{"$f":"IF(Tabelle3[[#This Row],[Position\nG / D / FC / FW]]=\"G\",VLOOKUP($M$5-Tabelle3[[#This Row],[Jahr\nannée]],FGOALIE,4),VLOOKUP($M$5-Tabelle3[[#This Row],[Jahr\nannée]],FSPIELER,4))","v":20},{"$f":"IF(Tabelle3[[#This Row],[Position\nG / D / FC / FW]]=\"G\",VLOOKUP($M$5-Tabelle3[[#This Row],[Jahr\nannée]],FGOALIE,5),VLOOKUP($M$5-Tabelle3[[#This Row],[Jahr\nannée]],FSPIELER,5))","v":15},{"$f":"IF(Tabelle3[[#This Row],[Position\nG / D / FC / FW]]=\"G\",VLOOKUP($M$5-Tabelle3[[#This Row],[Jahr\nannée]],FGOALIE,6),VLOOKUP($M$5-Tabelle3[[#This Row],[Jahr\nannée]],FSPIELER,6))","v":10},{"$f":"IF(Tabelle3[[#This Row],[Position\nG / D / FC / FW]]=\"G\",VLOOKUP($M$5-Tabelle3[[#This Row],[Jahr\nannée]],FGOALIE,7),VLOOKUP($M$5-Tabelle3[[#This Row],[Jahr\nannée]],FSPIELER,7))","v":10},{"$f":"IF(Tabelle3[[#This Row],[Position\nG / D / FC / FW]]=\"G\",VLOOKUP($M$5-Tabelle3[[#This Row],[Jahr\nannée]],FGOALIE,9),VLOOKUP($M$5-Tabelle3[[#This Row],[Jahr\nannée]],FSPIELER,9))","v":15},{"$f":"IF(Tabelle3[[#This Row],[Position\nG / D / FC / FW]]=\"G\",VLOOKUP($M$5-Tabelle3[[#This Row],[Jahr\nannée]],FGOALIE,8),VLOOKUP($M$5-Tabelle3[[#This Row],[Jahr\nannée]],FSPIELER,8))","v":0},{"$f":"IF(Tabelle3[[#This Row],[Position\nG / D / FC / FW]]=\"G\",VLOOKUP($M$5-Tabelle3[[#This Row],[Jahr\nannée]],FGOALIE,10),VLOOKUP($M$5-Tabelle3[[#This Row],[Jahr\nannée]],FSPIELER,10))","v":0},{"$f":"IF(Tabelle3[[#This Row],[Position\nG / D / FC / FW]]=\"G\",VLOOKUP($M$5-Tabelle3[[#This Row],[Jahr\nannée]],FGOALIE,11),VLOOKUP($M$5-Tabelle3[[#This Row],[Jahr\nannée]],FSPIELER,11))","v":10}]
[14,null,null,"-",null,null,null,null,null,{"$f":"IF(ISBLANK('14'!$H$4),\"-\",'14'!$H$4)","v":"-"},{"$f":"IF(ISBLANK('14'!$H$5),\"-\",'14'!$H$5)","v":"-"},{"$f":"IF(ISBLANK('14'!$H$2),\"-\",'14'!$H$2)","v":"-"},null,null,null,null,null,null,null,{"$f":"'14'!$M$19","v":0},{"$f":"'14'!$M$24","v":0},{"$f":"'14'!$M$30","v":0},{"$f":"'14'!$M$36","v":0},{"$f":"'14'!$M$41","v":0},{"$f":"'14'!$M$46","v":0},{"$f":"'14'!$M$13","v":0},{"$f":"'14'!$AA$2","v":0},{"$f":"'14'!$AA$4","v":0},{"$f":"'14'!$AA$3","v":0},{"$f":"IF(Tabelle3[[#This Row],[SKATING]]=0,\"-\",IF(Tabelle3[[#This Row],[Sex]]=\"M\",SUMPRODUCT(Tabelle3[[#This Row],[SKATING]:[VERANLAGUNG\nPREDISPOSITION]],AJ24:AS24),SUMPRODUCT(Tabelle3[[#This Row],[SKATING]:[VERANLAGUNG\nPREDISPOSITION]],AT24:BC24)))","v":"-"},{"$f":"IFERROR(RANK(Tabelle3[[#This Row],[TOTAL ]],Tabelle3[[TOTAL ]],0),\"-\")","v":"-"},null,null,null,null,{"$f":"IF(Tabelle3[[#This Row],[Position\nG / D / FC / FW]]=\"G\",VLOOKUP($M$5-Tabelle3[[#This Row],[Jahr\nannée]],GOALI,2),VLOOKUP($M$5-Tabelle3[[#This Row],[Jahr\nannée]],SPIELER,2))","v":10},{"$f":"IF(Tabelle3[[#This Row],[Position\nG / D / FC / FW]]=\"G\",VLOOKUP($M$5-Tabelle3[[#This Row],[Jahr\nannée]],GOALI,3),VLOOKUP($M$5-Tabelle3[[#This Row],[Jahr\nannée]],SPIELER,3))","v":10},{"$f":"IF(Tabelle3[[#This Row],[Position\nG / D / FC / FW]]=\"G\",VLOOKUP($M$5-Tabelle3[[#This Row],[Jahr\nannée]],GOALI,4),VLOOKUP($M$5-Tabelle3[[#This Row],[Jahr\nannée]],SPIELER,4))","v":20},{"$f":"IF(Tabelle3[[#This Row],[Position\nG / D / FC / FW]]=\"G\",VLOOKUP($M$5-Tabelle3[[#This Row],[Jahr\nannée]],GOALI,5),VLOOKUP($M$5-Tabelle3[[#This Row],[Jahr\nannée]],SPIELER,5))","v":15},{"$f":"IF(Tabelle3[[#This Row],[Position\nG / D / FC / FW]]=\"G\",VLOOKUP($M$5-Tabelle3[[#This Row],[Jahr\nannée]],GOALI,6),VLOOKUP($M$5-Tabelle3[[#This Row],[Jahr\nannée]],SPIELER,6))","v":10},{"$f":"IF(Tabelle3[[#This Row],[Position\nG / D / FC / FW]]=\"G\",VLOOKUP($M$5-Tabelle3[[#This Row],[Jahr\nannée]],GOALI,7),VLOOKUP($M$5-Tabelle3[[#This Row],[Jahr\nannée]],SPIELER,7))","v":10},{"$f":"IF(Tabelle3[[#This Row],[Position\nG / D / FC / FW]]=\"G\",VLOOKUP($M$5-Tabelle3[[#This Row],[Jahr\nannée]],GOALI,9),VLOOKUP($M$5-Tabelle3[[#This Row],[Jahr\nannée]],SPIELER,9))","v":15},{"$f":"IF(Tabelle3[[#This Row],[Position\nG / D / FC / FW]]=\"G\",VLOOKUP($M$5-Tabelle3[[#This Row],[Jahr\nannée]],GOALI,8),VLOOKUP($M$5-Tabelle3[[#This Row],[Jahr\nannée]],SPIELER,8))","v":0},{"$f":"IF(Tabelle3[[#This Row],[Position\nG / D / FC / FW]]=\"G\",VLOOKUP($M$5-Tabelle3[[#This Row],[Jahr\nannée]],GOALI,10),VLOOKUP($M$5-Tabelle3[[#This Row],[Jahr\nannée]],SPIELER,10))","v":0},{"$f":"IF(Tabelle3[[#This Row],[Position\nG / D / FC / FW]]=\"G\",VLOOKUP($M$5-Tabelle3[[#This Row],[Jahr\nannée]],GOALI,11),VLOOKUP($M$5-Tabelle3[[#This Row],[Jahr\nannée]],SPIELER,11))","v":10},{"$f":"IF(Tabelle3[[#This Row],[Position\nG / D / FC / FW]]=\"G\",VLOOKUP($M$5-Tabelle3[[#This Row],[Jahr\nannée]],FGOALIE,2),VLOOKUP($M$5-Tabelle3[[#This Row],[Jahr\nannée]],FSPIELER,2))","v":10},{"$f":"IF(Tabelle3[[#This Row],[Position\nG / D / FC / FW]]=\"G\",VLOOKUP($M$5-Tabelle3[[#This Row],[Jahr\nannée]],FGOALIE,3),VLOOKUP($M$5-Tabelle3[[#This Row],[Jahr\nannée]],FSPIELER,3))","v":10},{"$f":"IF(Tabelle3[[#This Row],[Position\nG / D / FC / FW]]=\"G\",VLOOKUP($M$5-Tabelle3[[#This Row],[Jahr\nannée]],FGOALIE,4),VLOOKUP($M$5-Tabelle3[[#This Row],[Jahr\nannée]],FSPIELER,4))","v":20},{"$f":"IF(Tabelle3[[#This Row],[Position\nG / D / FC / FW]]=\"G\",VLOOKUP($M$5-Tabelle3[[#This Row],[Jahr\nannée]],FGOALIE,5),VLOOKUP($M$5-Tabelle3[[#This Row],[Jahr\nannée]],FSPIELER,5))","v":15},{"$f":"IF(Tabelle3[[#This Row],[Position\nG / D / FC / FW]]=\"G\",VLOOKUP($M$5-Tabelle3[[#This Row],[Jahr\nannée]],FGOALIE,6),VLOOKUP($M$5-Tabelle3[[#This Row],[Jahr\nannée]],FSPIELER,6))","v":10},{"$f":"IF(Tabelle3[[#This Row],[Position\nG / D / FC / FW]]=\"G\",VLOOKUP($M$5-Tabelle3[[#This Row],[Jahr\nannée]],FGOALIE,7),VLOOKUP($M$5-Tabelle3[[#This Row],[Jahr\nannée]],FSPIELER,7))","v":10},{"$f":"IF(Tabelle3[[#This Row],[Position\nG / D / FC / FW]]=\"G\",VLOOKUP($M$5-Tabelle3[[#This Row],[Jahr\nannée]],FGOALIE,9),VLOOKUP($M$5-Tabelle3[[#This Row],[Jahr\nannée]],FSPIELER,9))","v":15},{"$f":"IF(Tabelle3[[#This Row],[Position\nG / D / FC / FW]]=\"G\",VLOOKUP($M$5-Tabelle3[[#This Row],[Jahr\nannée]],FGOALIE,8),VLOOKUP($M$5-Tabelle3[[#This Row],[Jahr\nannée]],FSPIELER,8))","v":0},{"$f":"IF(Tabelle3[[#This Row],[Position\nG / D / FC / FW]]=\"G\",VLOOKUP($M$5-Tabelle3[[#This Row],[Jahr\nannée]],FGOALIE,10),VLOOKUP($M$5-Tabelle3[[#This Row],[Jahr\nannée]],FSPIELER,10))","v":0},{"$f":"IF(Tabelle3[[#This Row],[Position\nG / D / FC / FW]]=\"G\",VLOOKUP($M$5-Tabelle3[[#This Row],[Jahr\nannée]],FGOALIE,11),VLOOKUP($M$5-Tabelle3[[#This Row],[Jahr\nannée]],FSPIELER,11))","v":10}]
[15,null,null,"-",null,null,null,null,null,{"$f":"IF(ISBLANK('15'!$H$4),\"-\",'15'!$H$4)","v":"-"},{"$f":"IF(ISBLANK('15'!$H$5),\"-\",'15'!$H$5)","v":"-"},{"$f":"IF(ISBLANK('15'!$H$2),\"-\",'15'!$H$2)","v":"-"},null,null,null,null,null,null,null,{"$f":"'15'!$M$19","v":0},{"$f":"'15'!$M$24","v":0},{"$f":"'15'!$M$30","v":0},{"$f":"'15'!$M$36","v":0},{"$f":"'15'!$M$41","v":0},{"$f":"'15'!$M$46","v":0},{"$f":"'15'!$M$13","v":0},{"$f":"'15'!$AA$2","v":0},{"$f":"'15'!$AA$4","v":0},{"$f":"'15'!$AA$3","v":0},{"$f":"IF(Tabelle3[[#This Row],[SKATING]]=0,\"-\",IF(Tabelle3[[#This Row],[Sex]]=\"M\",SUMPRODUCT(Tabelle3[[#This Row],[SKATING]:[VERANLAGUNG\nPREDISPOSITION]],AJ25:AS25),SUMPRODUCT(Tabelle3[[#This Row],[SKATING]:[VERANLAGUNG\nPREDISPOSITION]],AT25:BC25)))","v":"-"},{"$f":"IFERROR(RANK(Tabelle3[[#This Row],[TOTAL ]],Tabelle3[[TOTAL ]],0),\"-\")","v":"-"},null,null,null,null,{"$f":"IF(Tabelle3[[#This Row],[Position\nG / D / FC / FW]]=\"G\",VLOOKUP($M$5-Tabelle3[[#This Row],[Jahr\nannée]],GOALI,2),VLOOKUP($M$5-Tabelle3[[#This Row],[Jahr\nannée]],SPIELER,2))","v":10},{"$f":"IF(Tabelle3[[#This Row],[Position\nG / D / FC / FW]]=\"G\",VLOOKUP($M$5-Tabelle3[[#This Row],[Jahr\nannée]],GOALI,3),VLOOKUP($M$5-Tabelle3[[#This Row],[Jahr\nannée]],SPIELER,3))","v":10},{"$f":"IF(Tabelle3[[#This Row],[Position\nG / D / FC / FW]]=\"G\",VLOOKUP($M$5-Tabelle3[[#This Row],[Jahr\nannée]],GOALI,4),VLOOKUP($M$5-Tabelle3[[#This Row],[Jahr\nannée]],SPIELER,4))","v":20},{"$f":"IF(Tabelle3[[#This Row],[Position\nG / D / FC / FW]]=\"G\",VLOOKUP($M$5-Tabelle3[[#This Row],[Jahr\nannée]],GOALI,5),VLOOKUP($M$5-Tabelle3[[#This Row],[Jahr\nannée]],SPIELER,5))","v":15},{"$f":"IF(Tabelle3[[#This Row],[Position\nG / D / FC / FW]]=\"G\",VLOOKUP($M$5-Tabelle3[[#This Row],[Jahr\nannée]],GOALI,6),VLOOKUP($M$5-Tabelle3[[#This Row],[Jahr\nannée]],SPIELER,6))","v":10},{"$f":"IF(Tabelle3[[#This Row],[Position\nG / D / FC / FW]]=\"G\",VLOOKUP($M$5-Tabelle3[[#This Row],[Jahr\nannée]],GOALI,7),VLOOKUP($M$5-Tabelle3[[#This Row],[Jahr\nannée]],SPIELER,7))","v":10},{"$f":"IF(Tabelle3[[#This Row],[Position\nG / D / FC / FW]]=\"G\",VLOOKUP($M$5-Tabelle3[[#This Row],[Jahr\nannée]],GOALI,9),VLOOKUP($M$5-Tabelle3[[#This Row],[Jahr\nannée]],SPIELER,9))","v":15},{"$f":"IF(Tabelle3[[#This Row],[Position\nG / D / FC / FW]]=\"G\",VLOOKUP($M$5-Tabelle3[[#This Row],[Jahr\nannée]],GOALI,8),VLOOKUP($M$5-Tabelle3[[#This Row],[Jahr\nannée]],SPIELER,8))","v":0},{"$f":"IF(Tabelle3[[#This Row],[Position\nG / D / FC / FW]]=\"G\",VLOOKUP($M$5-Tabelle3[[#This Row],[Jahr\nannée]],GOALI,10),VLOOKUP($M$5-Tabelle3[[#This Row],[Jahr\nannée]],SPIELER,10))","v":0},{"$f":"IF(Tabelle3[[#This Row],[Position\nG / D / FC / FW]]=\"G\",VLOOKUP($M$5-Tabelle3[[#This Row],[Jahr\nannée]],GOALI,11),VLOOKUP($M$5-Tabelle3[[#This Row],[Jahr\nannée]],SPIELER,11))","v":10},{"$f":"IF(Tabelle3[[#This Row],[Position\nG / D / FC / FW]]=\"G\",VLOOKUP($M$5-Tabelle3[[#This Row],[Jahr\nannée]],FGOALIE,2),VLOOKUP($M$5-Tabelle3[[#This Row],[Jahr\nannée]],FSPIELER,2))","v":10},{"$f":"IF(Tabelle3[[#This Row],[Position\nG / D / FC / FW]]=\"G\",VLOOKUP($M$5-Tabelle3[[#This Row],[Jahr\nannée]],FGOALIE,3),VLOOKUP($M$5-Tabelle3[[#This Row],[Jahr\nannée]],FSPIELER,3))","v":10},{"$f":"IF(Tabelle3[[#This Row],[Position\nG / D / FC / FW]]=\"G\",VLOOKUP($M$5-Tabelle3[[#This Row],[Jahr\nannée]],FGOALIE,4),VLOOKUP($M$5-Tabelle3[[#This Row],[Jahr\nannée]],FSPIELER,4))","v":20},{"$f":"IF(Tabelle3[[#This Row],[Position\nG / D / FC / FW]]=\"G\",VLOOKUP($M$5-Tabelle3[[#This Row],[Jahr\nannée]],FGOALIE,5),VLOOKUP($M$5-Tabelle3[[#This Row],[Jahr\nannée]],FSPIELER,5))","v":15},{"$f":"IF(Tabelle3[[#This Row],[Position\nG / D / FC / FW]]=\"G\",VLOOKUP($M$5-Tabelle3[[#This Row],[Jahr\nannée]],FGOALIE,6),VLOOKUP($M$5-Tabelle3[[#This Row],[Jahr\nannée]],FSPIELER,6))","v":10},{"$f":"IF(Tabelle3[[#This Row],[Position\nG / D / FC / FW]]=\"G\",VLOOKUP($M$5-Tabelle3[[#This Row],[Jahr\nannée]],FGOALIE,7),VLOOKUP($M$5-Tabelle3[[#This Row],[Jahr\nannée]],FSPIELER,7))","v":10},{"$f":"IF(Tabelle3[[#This Row],[Position\nG / D / FC / FW]]=\"G\",VLOOKUP($M$5-Tabelle3[[#This Row],[Jahr\nannée]],FGOALIE,9),VLOOKUP($M$5-Tabelle3[[#This Row],[Jahr\nannée]],FSPIELER,9))","v":15},{"$f":"IF(Tabelle3[[#This Row],[Position\nG / D / FC / FW]]=\"G\",VLOOKUP($M$5-Tabelle3[[#This Row],[Jahr\nannée]],FGOALIE,8),VLOOKUP($M$5-Tabelle3[[#This Row],[Jahr\nannée]],FSPIELER,8))","v":0},{"$f":"IF(Tabelle3[[#This Row],[Position\nG / D / FC / FW]]=\"G\",VLOOKUP($M$5-Tabelle3[[#This Row],[Jahr\nannée]],FGOALIE,10),VLOOKUP($M$5-Tabelle3[[#This Row],[Jahr\nannée]],FSPIELER,10))","v":0},{"$f":"IF(Tabelle3[[#This Row],[Position\nG / D / FC / FW]]=\"G\",VLOOKUP($M$5-Tabelle3[[#This Row],[Jahr\nannée]],FGOALIE,11),VLOOKUP($M$5-Tabelle3[[#This Row],[Jahr\nannée]],FSPIELER,11))","v":10}]
[16,null,null,"-",null,null,null,null,null,{"$f":"IF(ISBLANK('16'!$H$4),\"-\",'16'!$H$4)","v":"-"},{"$f":"IF(ISBLANK('16'!$H$5),\"-\",'16'!$H$5)","v":"-"},{"$f":"IF(ISBLANK('16'!$H$2),\"-\",'16'!$H$2)","v":"-"},null,null,null,null,null,null,null,{"$f":"'16'!$M$19","v":0},{"$f":"'16'!$M$24","v":0},{"$f":"'16'!$M$30","v":0},{"$f":"'16'!$M$36","v":0},{"$f":"'16'!$M$41","v":0},{"$f":"'16'!$M$46","v":0},{"$f":"'16'!$M$13","v":0},{"$f":"'16'!$AA$2","v":0},{"$f":"'16'!$AA$4","v":0},{"$f":"'16'!$AA$3","v":0},{"$f":"IF(Tabelle3[[#This Row],[SKATING]]=0,\"-\",IF(Tabelle3[[#This Row],[Sex]]=\"M\",SUMPRODUCT(Tabelle3[[#This Row],[SKATING]:[VERANLAGUNG\nPREDISPOSITION]],AJ26:AS26),SUMPRODUCT(Tabelle3[[#This Row],[SKATING]:[VERANLAGUNG\nPREDISPOSITION]],AT26:BC26)))","v":"-"},{"$f":"IFERROR(RANK(Tabelle3[[#This Row],[TOTAL ]],Tabelle3[[TOTAL ]],0),\"-\")","v":"-"},null,null,null,null,{"$f":"IF(Tabelle3[[#This Row],[Position\nG / D / FC / FW]]=\"G\",VLOOKUP($M$5-Tabelle3[[#This Row],[Jahr\nannée]],GOALI,2),VLOOKUP($M$5-Tabelle3[[#This Row],[Jahr\nannée]],SPIELER,2))","v":10},{"$f":"IF(Tabelle3[[#This Row],[Position\nG / D / FC / FW]]=\"G\",VLOOKUP($M$5-Tabelle3[[#This Row],[Jahr\nannée]],GOALI,3),VLOOKUP($M$5-Tabelle3[[#This Row],[Jahr\nannée]],SPIELER,3))","v":10},{"$f":"IF(Tabelle3[[#This Row],[Position\nG / D / FC / FW]]=\"G\",VLOOKUP($M$5-Tabelle3[[#This Row],[Jahr\nannée]],GOALI,4),VLOOKUP($M$5-Tabelle3[[#This Row],[Jahr\nannée]],SPIELER,4))","v":20},{"$f":"IF(Tabelle3[[#This Row],[Position\nG / D / FC / FW]]=\"G\",VLOOKUP($M$5-Tabelle3[[#This Row],[Jahr\nannée]],GOALI,5),VLOOKUP($M$5-Tabelle3[[#This Row],[Jahr\nannée]],SPIELER,5))","v":15},{"$f":"IF(Tabelle3[[#This Row],[Position\nG / D / FC / FW]]=\"G\",VLOOKUP($M$5-Tabelle3[[#This Row],[Jahr\nannée]],GOALI,6),VLOOKUP($M$5-Tabelle3[[#This Row],[Jahr\nannée]],SPIELER,6))","v":10},{"$f":"IF(Tabelle3[[#This Row],[Position\nG / D / FC / FW]]=\"G\",VLOOKUP($M$5-Tabelle3[[#This Row],[Jahr\nannée]],GOALI,7),VLOOKUP($M$5-Tabelle3[[#This Row],[Jahr\nannée]],SPIELER,7))","v":10},{"$f":"IF(Tabelle3[[#This Row],[Position\nG / D / FC / FW]]=\"G\",VLOOKUP($M$5-Tabelle3[[#This Row],[Jahr\nannée]],GOALI,9),VLOOKUP($M$5-Tabelle3[[#This Row],[Jahr\nannée]],SPIELER,9))","v":15},{"$f":"IF(Tabelle3[[#This Row],[Position\nG / D / FC / FW]]=\"G\",VLOOKUP($M$5-Tabelle3[[#This Row],[Jahr\nannée]],GOALI,8),VLOOKUP($M$5-Tabelle3[[#This Row],[Jahr\nannée]],SPIELER,8))","v":0},{"$f":"IF(Tabelle3[[#This Row],[Position\nG / D / FC / FW]]=\"G\",VLOOKUP($M$5-Tabelle3[[#This Row],[Jahr\nannée]],GOALI,10),VLOOKUP($M$5-Tabelle3[[#This Row],[Jahr\nannée]],SPIELER,10))","v":0},{"$f":"IF(Tabelle3[[#This Row],[Position\nG / D / FC / FW]]=\"G\",VLOOKUP($M$5-Tabelle3[[#This Row],[Jahr\nannée]],GOALI,11),VLOOKUP($M$5-Tabelle3[[#This Row],[Jahr\nannée]],SPIELER,11))","v":10},{"$f":"IF(Tabelle3[[#This Row],[Position\nG / D / FC / FW]]=\"G\",VLOOKUP($M$5-Tabelle3[[#This Row],[Jahr\nannée]],FGOALIE,2),VLOOKUP($M$5-Tabelle3[[#This Row],[Jahr\nannée]],FSPIELER,2))","v":10},{"$f":"IF(Tabelle3[[#This Row],[Position\nG / D / FC / FW]]=\"G\",VLOOKUP($M$5-Tabelle3[[#This Row],[Jahr\nannée]],FGOALIE,3),VLOOKUP($M$5-Tabelle3[[#This Row],[Jahr\nannée]],FSPIELER,3))","v":10},{"$f":"IF(Tabelle3[[#This Row],[Position\nG / D / FC / FW]]=\"G\",VLOOKUP($M$5-Tabelle3[[#This Row],[Jahr\nannée]],FGOALIE,4),VLOOKUP($M$5-Tabelle3[[#This Row],[Jahr\nannée]],FSPIELER,4))","v":20},{"$f":"IF(Tabelle3[[#This Row],[Position\nG / D / FC / FW]]=\"G\",VLOOKUP($M$5-Tabelle3[[#This Row],[Jahr\nannée]],FGOALIE,5),VLOOKUP($M$5-Tabelle3[[#This Row],[Jahr\nannée]],FSPIELER,5))","v":15},{"$f":"IF(Tabelle3[[#This Row],[Position\nG / D / FC / FW]]=\"G\",VLOOKUP($M$5-Tabelle3[[#This Row],[Jahr\nannée]],FGOALIE,6),VLOOKUP($M$5-Tabelle3[[#This Row],[Jahr\nannée]],FSPIELER,6))","v":10},{"$f":"IF(Tabelle3[[#This Row],[Position\nG / D / FC / FW]]=\"G\",VLOOKUP($M$5-Tabelle3[[#This Row],[Jahr\nannée]],FGOALIE,7),VLOOKUP($M$5-Tabelle3[[#This Row],[Jahr\nannée]],FSPIELER,7))","v":10},{"$f":"IF(Tabelle3[[#This Row],[Position\nG / D / FC / FW]]=\"G\",VLOOKUP($M$5-Tabelle3[[#This Row],[Jahr\nannée]],FGOALIE,9),VLOOKUP($M$5-Tabelle3[[#This Row],[Jahr\nannée]],FSPIELER,9))","v":15},{"$f":"IF(Tabelle3[[#This Row],[Position\nG / D / FC / FW]]=\"G\",VLOOKUP($M$5-Tabelle3[[#This Row],[Jahr\nannée]],FGOALIE,8),VLOOKUP($M$5-Tabelle3[[#This Row],[Jahr\nannée]],FSPIELER,8))","v":0},{"$f":"IF(Tabelle3[[#This Row],[Position\nG / D / FC / FW]]=\"G\",VLOOKUP($M$5-Tabelle3[[#This Row],[Jahr\nannée]],FGOALIE,10),VLOOKUP($M$5-Tabelle3[[#This Row],[Jahr\nannée]],FSPIELER,10))","v":0},{"$f":"IF(Tabelle3[[#This Row],[Position\nG / D / FC / FW]]=\"G\",VLOOKUP($M$5-Tabelle3[[#This Row],[Jahr\nannée]],FGOALIE,11),VLOOKUP($M$5-Tabelle3[[#This Row],[Jahr\nannée]],FSPIELER,11))","v":10}]
[17,null,null,"-",null,null,null,null,null,{"$f":"IF(ISBLANK('17'!$H$4),\"-\",'17'!$H$4)","v":"-"},{"$f":"IF(ISBLANK('17'!$H$5),\"-\",'17'!$H$5)","v":"-"},{"$f":"IF(ISBLANK('17'!$H$2),\"-\",'17'!$H$2)","v":"-"},null,null,null,null,null,null,null,{"$f":"'17'!$M$19","v":0},{"$f":"'17'!$M$24","v":0},{"$f":"'17'!$M$30","v":0},{"$f":"'17'!$M$36","v":0},{"$f":"'17'!$M$41","v":0},{"$f":"'17'!$M$46","v":0},{"$f":"'17'!$M$13","v":0},{"$f":"'17'!$AA$2","v":0},{"$f":"'17'!$AA$4","v":0},{"$f":"'17'!$AA$3","v":0},{"$f":"IF(Tabelle3[[#This Row],[SKATING]]=0,\"-\",IF(Tabelle3[[#This Row],[Sex]]=\"M\",SUMPRODUCT(Tabelle3[[#This Row],[SKATING]:[VERANLAGUNG\nPREDISPOSITION]],AJ27:AS27),SUMPRODUCT(Tabelle3[[#This Row],[SKATING]:[VERANLAGUNG\nPREDISPOSITION]],AT27:BC27)))","v":"-"},{"$f":"IFERROR(RANK(Tabelle3[[#This Row],[TOTAL ]],Tabelle3[[TOTAL ]],0),\"-\")","v":"-"},null,null,null,null,{"$f":"IF(Tabelle3[[#This Row],[Position\nG / D / FC / FW]]=\"G\",VLOOKUP($M$5-Tabelle3[[#This Row],[Jahr\nannée]],GOALI,2),VLOOKUP($M$5-Tabelle3[[#This Row],[Jahr\nannée]],SPIELER,2))","v":10},{"$f":"IF(Tabelle3[[#This Row],[Position\nG / D / FC / FW]]=\"G\",VLOOKUP($M$5-Tabelle3[[#This Row],[Jahr\nannée]],GOALI,3),VLOOKUP($M$5-Tabelle3[[#This Row],[Jahr\nannée]],SPIELER,3))","v":10},{"$f":"IF(Tabelle3[[#This Row],[Position\nG / D / FC / FW]]=\"G\",VLOOKUP($M$5-Tabelle3[[#This Row],[Jahr\nannée]],GOALI,4),VLOOKUP($M$5-Tabelle3[[#This Row],[Jahr\nannée]],SPIELER,4))","v":20},{"$f":"IF(Tabelle3[[#This Row],[Position\nG / D / FC / FW]]=\"G\",VLOOKUP($M$5-Tabelle3[[#This Row],[Jahr\nannée]],GOALI,5),VLOOKUP($M$5-Tabelle3[[#This Row],[Jahr\nannée]],SPIELER,5))","v":15},{"$f":"IF(Tabelle3[[#This Row],[Position\nG / D / FC / FW]]=\"G\",VLOOKUP($M$5-Tabelle3[[#This Row],[Jahr\nannée]],GOALI,6),VLOOKUP($M$5-Tabelle3[[#This Row],[Jahr\nannée]],SPIELER,6))","v":10},{"$f":"IF(Tabelle3[[#This Row],[Position\nG / D / FC / FW]]=\"G\",VLOOKUP($M$5-Tabelle3[[#This Row],[Jahr\nannée]],GOALI,7),VLOOKUP($M$5-Tabelle3[[#This Row],[Jahr\nannée]],SPIELER,7))","v":10},{"$f":"IF(Tabelle3[[#This Row],[Position\nG / D / FC / FW]]=\"G\",VLOOKUP($M$5-Tabelle3[[#This Row],[Jahr\nannée]],GOALI,9),VLOOKUP($M$5-Tabelle3[[#This Row],[Jahr\nannée]],SPIELER,9))","v":15},{"$f":"IF(Tabelle3[[#This Row],[Position\nG / D / FC / FW]]=\"G\",VLOOKUP($M$5-Tabelle3[[#This Row],[Jahr\nannée]],GOALI,8),VLOOKUP($M$5-Tabelle3[[#This Row],[Jahr\nannée]],SPIELER,8))","v":0},{"$f":"IF(Tabelle3[[#This Row],[Position\nG / D / FC / FW]]=\"G\",VLOOKUP($M$5-Tabelle3[[#This Row],[Jahr\nannée]],GOALI,10),VLOOKUP($M$5-Tabelle3[[#This Row],[Jahr\nannée]],SPIELER,10))","v":0},{"$f":"IF(Tabelle3[[#This Row],[Position\nG / D / FC / FW]]=\"G\",VLOOKUP($M$5-Tabelle3[[#This Row],[Jahr\nannée]],GOALI,11),VLOOKUP($M$5-Tabelle3[[#This Row],[Jahr\nannée]],SPIELER,11))","v":10},{"$f":"IF(Tabelle3[[#This Row],[Position\nG / D / FC / FW]]=\"G\",VLOOKUP($M$5-Tabelle3[[#This Row],[Jahr\nannée]],FGOALIE,2),VLOOKUP($M$5-Tabelle3[[#This Row],[Jahr\nannée]],FSPIELER,2))","v":10},{"$f":"IF(Tabelle3[[#This Row],[Position\nG / D / FC / FW]]=\"G\",VLOOKUP($M$5-Tabelle3[[#This Row],[Jahr\nannée]],FGOALIE,3),VLOOKUP($M$5-Tabelle3[[#This Row],[Jahr\nannée]],FSPIELER,3))","v":10},{"$f":"IF(Tabelle3[[#This Row],[Position\nG / D / FC / FW]]=\"G\",VLOOKUP($M$5-Tabelle3[[#This Row],[Jahr\nannée]],FGOALIE,4),VLOOKUP($M$5-Tabelle3[[#This Row],[Jahr\nannée]],FSPIELER,4))","v":20},{"$f":"IF(Tabelle3[[#This Row],[Position\nG / D / FC / FW]]=\"G\",VLOOKUP($M$5-Tabelle3[[#This Row],[Jahr\nannée]],FGOALIE,5),VLOOKUP($M$5-Tabelle3[[#This Row],[Jahr\nannée]],FSPIELER,5))","v":15},{"$f":"IF(Tabelle3[[#This Row],[Position\nG / D / FC / FW]]=\"G\",VLOOKUP($M$5-Tabelle3[[#This Row],[Jahr\nannée]],FGOALIE,6),VLOOKUP($M$5-Tabelle3[[#This Row],[Jahr\nannée]],FSPIELER,6))","v":10},{"$f":"IF(Tabelle3[[#This Row],[Position\nG / D / FC / FW]]=\"G\",VLOOKUP($M$5-Tabelle3[[#This Row],[Jahr\nannée]],FGOALIE,7),VLOOKUP($M$5-Tabelle3[[#This Row],[Jahr\nannée]],FSPIELER,7))","v":10},{"$f":"IF(Tabelle3[[#This Row],[Position\nG / D / FC / FW]]=\"G\",VLOOKUP($M$5-Tabelle3[[#This Row],[Jahr\nannée]],FGOALIE,9),VLOOKUP($M$5-Tabelle3[[#This Row],[Jahr\nannée]],FSPIELER,9))","v":15},{"$f":"IF(Tabelle3[[#This Row],[Position\nG / D / FC / FW]]=\"G\",VLOOKUP($M$5-Tabelle3[[#This Row],[Jahr\nannée]],FGOALIE,8),VLOOKUP($M$5-Tabelle3[[#This Row],[Jahr\nannée]],FSPIELER,8))","v":0},{"$f":"IF(Tabelle3[[#This Row],[Position\nG / D / FC / FW]]=\"G\",VLOOKUP($M$5-Tabelle3[[#This Row],[Jahr\nannée]],FGOALIE,10),VLOOKUP($M$5-Tabelle3[[#This Row],[Jahr\nannée]],FSPIELER,10))","v":0},{"$f":"IF(Tabelle3[[#This Row],[Position\nG / D / FC / FW]]=\"G\",VLOOKUP($M$5-Tabelle3[[#This Row],[Jahr\nannée]],FGOALIE,11),VLOOKUP($M$5-Tabelle3[[#This Row],[Jahr\nannée]],FSPIELER,11))","v":10}]
[18,null,null,"-",null,null,null,null,null,{"$f":"IF(ISBLANK('18'!$H$4),\"-\",'18'!$H$4)","v":"-"},{"$f":"IF(ISBLANK('18'!$H$5),\"-\",'18'!$H$5)","v":"-"},{"$f":"IF(ISBLANK('18'!$H$2),\"-\",'18'!$H$2)","v":"-"},null,null,null,null,null,null,null,{"$f":"'18'!$M$19","v":0},{"$f":"'18'!$M$24","v":0},{"$f":"'18'!$M$30","v":0},{"$f":"'18'!$M$36","v":0},{"$f":"'18'!$M$41","v":0},{"$f":"'18'!$M$46","v":0},{"$f":"'18'!$M$13","v":0},{"$f":"'18'!$AA$2","v":0},{"$f":"'18'!$AA$4","v":0},{"$f":"'18'!$AA$3","v":0},{"$f":"IF(Tabelle3[[#This Row],[SKATING]]=0,\"-\",IF(Tabelle3[[#This Row],[Sex]]=\"M\",SUMPRODUCT(Tabelle3[[#This Row],[SKATING]:[VERANLAGUNG\nPREDISPOSITION]],AJ28:AS28),SUMPRODUCT(Tabelle3[[#This Row],[SKATING]:[VERANLAGUNG\nPREDISPOSITION]],AT28:BC28)))","v":"-"},{"$f":"IFERROR(RANK(Tabelle3[[#This Row],[TOTAL ]],Tabelle3[[TOTAL ]],0),\"-\")","v":"-"},null,null,null,null,{"$f":"IF(Tabelle3[[#This Row],[Position\nG / D / FC / FW]]=\"G\",VLOOKUP($M$5-Tabelle3[[#This Row],[Jahr\nannée]],GOALI,2),VLOOKUP($M$5-Tabelle3[[#This Row],[Jahr\nannée]],SPIELER,2))","v":10},{"$f":"IF(Tabelle3[[#This Row],[Position\nG / D / FC / FW]]=\"G\",VLOOKUP($M$5-Tabelle3[[#This Row],[Jahr\nannée]],GOALI,3),VLOOKUP($M$5-Tabelle3[[#This Row],[Jahr\nannée]],SPIELER,3))","v":10},{"$f":"IF(Tabelle3[[#This Row],[Position\nG / D / FC / FW]]=\"G\",VLOOKUP($M$5-Tabelle3[[#This Row],[Jahr\nannée]],GOALI,4),VLOOKUP($M$5-Tabelle3[[#This Row],[Jahr\nannée]],SPIELER,4))","v":20},{"$f":"IF(Tabelle3[[#This Row],[Position\nG / D / FC / FW]]=\"G\",VLOOKUP($M$5-Tabelle3[[#This Row],[Jahr\nannée]],GOALI,5),VLOOKUP($M$5-Tabelle3[[#This Row],[Jahr\nannée]],SPIELER,5))","v":15},{"$f":"IF(Tabelle3[[#This Row],[Position\nG / D / FC / FW]]=\"G\",VLOOKUP($M$5-Tabelle3[[#This Row],[Jahr\nannée]],GOALI,6),VLOOKUP($M$5-Tabelle3[[#This Row],[Jahr\nannée]],SPIELER,6))","v":10},{"$f":"IF(Tabelle3[[#This Row],[Position\nG / D / FC / FW]]=\"G\",VLOOKUP($M$5-Tabelle3[[#This Row],[Jahr\nannée]],GOALI,7),VLOOKUP($M$5-Tabelle3[[#This Row],[Jahr\nannée]],SPIELER,7))","v":10},{"$f":"IF(Tabelle3[[#This Row],[Position\nG / D / FC / FW]]=\"G\",VLOOKUP($M$5-Tabelle3[[#This Row],[Jahr\nannée]],GOALI,9),VLOOKUP($M$5-Tabelle3[[#This Row],[Jahr\nannée]],SPIELER,9))","v":15},{"$f":"IF(Tabelle3[[#This Row],[Position\nG / D / FC / FW]]=\"G\",VLOOKUP($M$5-Tabelle3[[#This Row],[Jahr\nannée]],GOALI,8),VLOOKUP($M$5-Tabelle3[[#This Row],[Jahr\nannée]],SPIELER,8))","v":0},{"$f":"IF(Tabelle3[[#This Row],[Position\nG / D / FC / FW]]=\"G\",VLOOKUP($M$5-Tabelle3[[#This Row],[Jahr\nannée]],GOALI,10),VLOOKUP($M$5-Tabelle3[[#This Row],[Jahr\nannée]],SPIELER,10))","v":0},{"$f":"IF(Tabelle3[[#This Row],[Position\nG / D / FC / FW]]=\"G\",VLOOKUP($M$5-Tabelle3[[#This Row],[Jahr\nannée]],GOALI,11),VLOOKUP($M$5-Tabelle3[[#This Row],[Jahr\nannée]],SPIELER,11))","v":10},{"$f":"IF(Tabelle3[[#This Row],[Position\nG / D / FC / FW]]=\"G\",VLOOKUP($M$5-Tabelle3[[#This Row],[Jahr\nannée]],FGOALIE,2),VLOOKUP($M$5-Tabelle3[[#This Row],[Jahr\nannée]],FSPIELER,2))","v":10},{"$f":"IF(Tabelle3[[#This Row],[Position\nG / D / FC / FW]]=\"G\",VLOOKUP($M$5-Tabelle3[[#This Row],[Jahr\nannée]],FGOALIE,3),VLOOKUP($M$5-Tabelle3[[#This Row],[Jahr\nannée]],FSPIELER,3))","v":10},{"$f":"IF(Tabelle3[[#This Row],[Position\nG / D / FC / FW]]=\"G\",VLOOKUP($M$5-Tabelle3[[#This Row],[Jahr\nannée]],FGOALIE,4),VLOOKUP($M$5-Tabelle3[[#This Row],[Jahr\nannée]],FSPIELER,4))","v":20},{"$f":"IF(Tabelle3[[#This Row],[Position\nG / D / FC / FW]]=\"G\",VLOOKUP($M$5-Tabelle3[[#This Row],[Jahr\nannée]],FGOALIE,5),VLOOKUP($M$5-Tabelle3[[#This Row],[Jahr\nannée]],FSPIELER,5))","v":15},{"$f":"IF(Tabelle3[[#This Row],[Position\nG / D / FC / FW]]=\"G\",VLOOKUP($M$5-Tabelle3[[#This Row],[Jahr\nannée]],FGOALIE,6),VLOOKUP($M$5-Tabelle3[[#This Row],[Jahr\nannée]],FSPIELER,6))","v":10},{"$f":"IF(Tabelle3[[#This Row],[Position\nG / D / FC / FW]]=\"G\",VLOOKUP($M$5-Tabelle3[[#This Row],[Jahr\nannée]],FGOALIE,7),VLOOKUP($M$5-Tabelle3[[#This Row],[Jahr\nannée]],FSPIELER,7))","v":10},{"$f":"IF(Tabelle3[[#This Row],[Position\nG / D / FC / FW]]=\"G\",VLOOKUP($M$5-Tabelle3[[#This Row],[Jahr\nannée]],FGOALIE,9),VLOOKUP($M$5-Tabelle3[[#This Row],[Jahr\nannée]],FSPIELER,9))","v":15},{"$f":"IF(Tabelle3[[#This Row],[Position\nG / D / FC / FW]]=\"G\",VLOOKUP($M$5-Tabelle3[[#This Row],[Jahr\nannée]],FGOALIE,8),VLOOKUP($M$5-Tabelle3[[#This Row],[Jahr\nannée]],FSPIELER,8))","v":0},{"$f":"IF(Tabelle3[[#This Row],[Position\nG / D / FC / FW]]=\"G\",VLOOKUP($M$5-Tabelle3[[#This Row],[Jahr\nannée]],FGOALIE,10),VLOOKUP($M$5-Tabelle3[[#This Row],[Jahr\nannée]],FSPIELER,10))","v":0},{"$f":"IF(Tabelle3[[#This Row],[Position\nG / D / FC / FW]]=\"G\",VLOOKUP($M$5-Tabelle3[[#This Row],[Jahr\nannée]],FGOALIE,11),VLOOKUP($M$5-Tabelle3[[#This Row],[Jahr\nannée]],FSPIELER,11))","v":10}]
[19,null,null,"-",null,null,null,null,null,{"$f":"IF(ISBLANK('19'!$H$4),\"-\",'19'!$H$4)","v":"-"},{"$f":"IF(ISBLANK('19'!$H$5),\"-\",'19'!$H$5)","v":"-"},{"$f":"IF(ISBLANK('19'!$H$2),\"-\",'19'!$H$2)","v":"-"},null,null,null,null,null,null,null,{"$f":"'19'!$M$19","v":0},{"$f":"'19'!$M$24","v":0},{"$f":"'19'!$M$30","v":0},{"$f":"'19'!$M$36","v":0},{"$f":"'19'!$M$41","v":0},{"$f":"'19'!$M$46","v":0},{"$f":"'19'!$M$13","v":0},{"$f":"'19'!$AA$2","v":0},{"$f":"'19'!$AA$4","v":0},{"$f":"'19'!$AA$3","v":0},{"$f":"IF(Tabelle3[[#This Row],[SKATING]]=0,\"-\",IF(Tabelle3[[#This Row],[Sex]]=\"M\",SUMPRODUCT(Tabelle3[[#This Row],[SKATING]:[VERANLAGUNG\nPREDISPOSITION]],AJ29:AS29),SUMPRODUCT(Tabelle3[[#This Row],[SKATING]:[VERANLAGUNG\nPREDISPOSITION]],AT29:BC29)))","v":"-"},{"$f":"IFERROR(RANK(Tabelle3[[#This Row],[TOTAL ]],Tabelle3[[TOTAL ]],0),\"-\")","v":"-"},null,null,null,null,{"$f":"IF(Tabelle3[[#This Row],[Position\nG / D / FC / FW]]=\"G\",VLOOKUP($M$5-Tabelle3[[#This Row],[Jahr\nannée]],GOALI,2),VLOOKUP($M$5-Tabelle3[[#This Row],[Jahr\nannée]],SPIELER,2))","v":10},{"$f":"IF(Tabelle3[[#This Row],[Position\nG / D / FC / FW]]=\"G\",VLOOKUP($M$5-Tabelle3[[#This Row],[Jahr\nannée]],GOALI,3),VLOOKUP($M$5-Tabelle3[[#This Row],[Jahr\nannée]],SPIELER,3))","v":10},{"$f":"IF(Tabelle3[[#This Row],[Position\nG / D / FC / FW]]=\"G\",VLOOKUP($M$5-Tabelle3[[#This Row],[Jahr\nannée]],GOALI,4),VLOOKUP($M$5-Tabelle3[[#This Row],[Jahr\nannée]],SPIELER,4))","v":20},{"$f":"IF(Tabelle3[[#This Row],[Position\nG / D / FC / FW]]=\"G\",VLOOKUP($M$5-Tabelle3[[#This Row],[Jahr\nannée]],GOALI,5),VLOOKUP($M$5-Tabelle3[[#This Row],[Jahr\nannée]],SPIELER,5))","v":15},{"$f":"IF(Tabelle3[[#This Row],[Position\nG / D / FC / FW]]=\"G\",VLOOKUP($M$5-Tabelle3[[#This Row],[Jahr\nannée]],GOALI,6),VLOOKUP($M$5-Tabelle3[[#This Row],[Jahr\nannée]],SPIELER,6))","v":10},{"$f":"IF(Tabelle3[[#This Row],[Position\nG / D / FC / FW]]=\"G\",VLOOKUP($M$5-Tabelle3[[#This Row],[Jahr\nannée]],GOALI,7),VLOOKUP($M$5-Tabelle3[[#This Row],[Jahr\nannée]],SPIELER,7))","v":10},{"$f":"IF(Tabelle3[[#This Row],[Position\nG / D / FC / FW]]=\"G\",VLOOKUP($M$5-Tabelle3[[#This Row],[Jahr\nannée]],GOALI,9),VLOOKUP($M$5-Tabelle3[[#This Row],[Jahr\nannée]],SPIELER,9))","v":15},{"$f":"IF(Tabelle3[[#This Row],[Position\nG / D / FC / FW]]=\"G\",VLOOKUP($M$5-Tabelle3[[#This Row],[Jahr\nannée]],GOALI,8),VLOOKUP($M$5-Tabelle3[[#This Row],[Jahr\nannée]],SPIELER,8))","v":0},{"$f":"IF(Tabelle3[[#This Row],[Position\nG / D / FC / FW]]=\"G\",VLOOKUP($M$5-Tabelle3[[#This Row],[Jahr\nannée]],GOALI,10),VLOOKUP($M$5-Tabelle3[[#This Row],[Jahr\nannée]],SPIELER,10))","v":0},{"$f":"IF(Tabelle3[[#This Row],[Position\nG / D / FC / FW]]=\"G\",VLOOKUP($M$5-Tabelle3[[#This Row],[Jahr\nannée]],GOALI,11),VLOOKUP($M$5-Tabelle3[[#This Row],[Jahr\nannée]],SPIELER,11))","v":10},{"$f":"IF(Tabelle3[[#This Row],[Position\nG / D / FC / FW]]=\"G\",VLOOKUP($M$5-Tabelle3[[#This Row],[Jahr\nannée]],FGOALIE,2),VLOOKUP($M$5-Tabelle3[[#This Row],[Jahr\nannée]],FSPIELER,2))","v":10},{"$f":"IF(Tabelle3[[#This Row],[Position\nG / D / FC / FW]]=\"G\",VLOOKUP($M$5-Tabelle3[[#This Row],[Jahr\nannée]],FGOALIE,3),VLOOKUP($M$5-Tabelle3[[#This Row],[Jahr\nannée]],FSPIELER,3))","v":10},{"$f":"IF(Tabelle3[[#This Row],[Position\nG / D / FC / FW]]=\"G\",VLOOKUP($M$5-Tabelle3[[#This Row],[Jahr\nannée]],FGOALIE,4),VLOOKUP($M$5-Tabelle3[[#This Row],[Jahr\nannée]],FSPIELER,4))","v":20},{"$f":"IF(Tabelle3[[#This Row],[Position\nG / D / FC / FW]]=\"G\",VLOOKUP($M$5-Tabelle3[[#This Row],[Jahr\nannée]],FGOALIE,5),VLOOKUP($M$5-Tabelle3[[#This Row],[Jahr\nannée]],FSPIELER,5))","v":15},{"$f":"IF(Tabelle3[[#This Row],[Position\nG / D / FC / FW]]=\"G\",VLOOKUP($M$5-Tabelle3[[#This Row],[Jahr\nannée]],FGOALIE,6),VLOOKUP($M$5-Tabelle3[[#This Row],[Jahr\nannée]],FSPIELER,6))","v":10},{"$f":"IF(Tabelle3[[#This Row],[Position\nG / D / FC / FW]]=\"G\",VLOOKUP($M$5-Tabelle3[[#This Row],[Jahr\nannée]],FGOALIE,7),VLOOKUP($M$5-Tabelle3[[#This Row],[Jahr\nannée]],FSPIELER,7))","v":10},{"$f":"IF(Tabelle3[[#This Row],[Position\nG / D / FC / FW]]=\"G\",VLOOKUP($M$5-Tabelle3[[#This Row],[Jahr\nannée]],FGOALIE,9),VLOOKUP($M$5-Tabelle3[[#This Row],[Jahr\nannée]],FSPIELER,9))","v":15},{"$f":"IF(Tabelle3[[#This Row],[Position\nG / D / FC / FW]]=\"G\",VLOOKUP($M$5-Tabelle3[[#This Row],[Jahr\nannée]],FGOALIE,8),VLOOKUP($M$5-Tabelle3[[#This Row],[Jahr\nannée]],FSPIELER,8))","v":0},{"$f":"IF(Tabelle3[[#This Row],[Position\nG / D / FC / FW]]=\"G\",VLOOKUP($M$5-Tabelle3[[#This Row],[Jahr\nannée]],FGOALIE,10),VLOOKUP($M$5-Tabelle3[[#This Row],[Jahr\nannée]],FSPIELER,10))","v":0},{"$f":"IF(Tabelle3[[#This Row],[Position\nG / D / FC / FW]]=\"G\",VLOOKUP($M$5-Tabelle3[[#This Row],[Jahr\nannée]],FGOALIE,11),VLOOKUP($M$5-Tabelle3[[#This Row],[Jahr\nannée]],FSPIELER,11))","v":10}]
[20,null,null,"-",null,null,null,null,null,{"$f":"IF(ISBLANK('20'!$H$4),\"-\",'20'!$H$4)","v":"-"},{"$f":"IF(ISBLANK('20'!$H$5),\"-\",'20'!$H$5)","v":"-"},{"$f":"IF(ISBLANK('20'!$H$2),\"-\",'20'!$H$2)","v":"-"},null,null,null,null,null,null,null,{"$f":"'20'!$M$19","v":0},{"$f":"'20'!$M$24","v":0},{"$f":"'20'!$M$30","v":0},{"$f":"'20'!$M$36","v":0},{"$f":"'20'!$M$41","v":0},{"$f":"'20'!$M$46","v":0},{"$f":"'20'!$M$13","v":0},{"$f":"'20'!$AA$2","v":0},{"$f":"'20'!$AA$4","v":0},{"$f":"'20'!$AA$3","v":0},{"$f":"IF(Tabelle3[[#This Row],[SKATING]]=0,\"-\",IF(Tabelle3[[#This Row],[Sex]]=\"M\",SUMPRODUCT(Tabelle3[[#This Row],[SKATING]:[VERANLAGUNG\nPREDISPOSITION]],AJ30:AS30),SUMPRODUCT(Tabelle3[[#This Row],[SKATING]:[VERANLAGUNG\nPREDISPOSITION]],AT30:BC30)))","v":"-"},{"$f":"IFERROR(RANK(Tabelle3[[#This Row],[TOTAL ]],Tabelle3[[TOTAL ]],0),\"-\")","v":"-"},null,null,null,null,{"$f":"IF(Tabelle3[[#This Row],[Position\nG / D / FC / FW]]=\"G\",VLOOKUP($M$5-Tabelle3[[#This Row],[Jahr\nannée]],GOALI,2),VLOOKUP($M$5-Tabelle3[[#This Row],[Jahr\nannée]],SPIELER,2))","v":10},{"$f":"IF(Tabelle3[[#This Row],[Position\nG / D / FC / FW]]=\"G\",VLOOKUP($M$5-Tabelle3[[#This Row],[Jahr\nannée]],GOALI,3),VLOOKUP($M$5-Tabelle3[[#This Row],[Jahr\nannée]],SPIELER,3))","v":10},{"$f":"IF(Tabelle3[[#This Row],[Position\nG / D / FC / FW]]=\"G\",VLOOKUP($M$5-Tabelle3[[#This Row],[Jahr\nannée]],GOALI,4),VLOOKUP($M$5-Tabelle3[[#This Row],[Jahr\nannée]],SPIELER,4))","v":20},{"$f":"IF(Tabelle3[[#This Row],[Position\nG / D / FC / FW]]=\"G\",VLOOKUP($M$5-Tabelle3[[#This Row],[Jahr\nannée]],GOALI,5),VLOOKUP($M$5-Tabelle3[[#This Row],[Jahr\nannée]],SPIELER,5))","v":15},{"$f":"IF(Tabelle3[[#This Row],[Position\nG / D / FC / FW]]=\"G\",VLOOKUP($M$5-Tabelle3[[#This Row],[Jahr\nannée]],GOALI,6),VLOOKUP($M$5-Tabelle3[[#This Row],[Jahr\nannée]],SPIELER,6))","v":10},{"$f":"IF(Tabelle3[[#This Row],[Position\nG / D / FC / FW]]=\"G\",VLOOKUP($M$5-Tabelle3[[#This Row],[Jahr\nannée]],GOALI,7),VLOOKUP($M$5-Tabelle3[[#This Row],[Jahr\nannée]],SPIELER,7))","v":10},{"$f":"IF(Tabelle3[[#This Row],[Position\nG / D / FC / FW]]=\"G\",VLOOKUP($M$5-Tabelle3[[#This Row],[Jahr\nannée]],GOALI,9),VLOOKUP($M$5-Tabelle3[[#This Row],[Jahr\nannée]],SPIELER,9))","v":15},{"$f":"IF(Tabelle3[[#This Row],[Position\nG / D / FC / FW]]=\"G\",VLOOKUP($M$5-Tabelle3[[#This Row],[Jahr\nannée]],GOALI,8),VLOOKUP($M$5-Tabelle3[[#This Row],[Jahr\nannée]],SPIELER,8))","v":0},{"$f":"IF(Tabelle3[[#This Row],[Position\nG / D / FC / FW]]=\"G\",VLOOKUP($M$5-Tabelle3[[#This Row],[Jahr\nannée]],GOALI,10),VLOOKUP($M$5-Tabelle3[[#This Row],[Jahr\nannée]],SPIELER,10))","v":0},{"$f":"IF(Tabelle3[[#This Row],[Position\nG / D / FC / FW]]=\"G\",VLOOKUP($M$5-Tabelle3[[#This Row],[Jahr\nannée]],GOALI,11),VLOOKUP($M$5-Tabelle3[[#This Row],[Jahr\nannée]],SPIELER,11))","v":10},{"$f":"IF(Tabelle3[[#This Row],[Position\nG / D / FC / FW]]=\"G\",VLOOKUP($M$5-Tabelle3[[#This Row],[Jahr\nannée]],FGOALIE,2),VLOOKUP($M$5-Tabelle3[[#This Row],[Jahr\nannée]],FSPIELER,2))","v":10},{"$f":"IF(Tabelle3[[#This Row],[Position\nG / D / FC / FW]]=\"G\",VLOOKUP($M$5-Tabelle3[[#This Row],[Jahr\nannée]],FGOALIE,3),VLOOKUP($M$5-Tabelle3[[#This Row],[Jahr\nannée]],FSPIELER,3))","v":10},{"$f":"IF(Tabelle3[[#This Row],[Position\nG / D / FC / FW]]=\"G\",VLOOKUP($M$5-Tabelle3[[#This Row],[Jahr\nannée]],FGOALIE,4),VLOOKUP($M$5-Tabelle3[[#This Row],[Jahr\nannée]],FSPIELER,4))","v":20},{"$f":"IF(Tabelle3[[#This Row],[Position\nG / D / FC / FW]]=\"G\",VLOOKUP($M$5-Tabelle3[[#This Row],[Jahr\nannée]],FGOALIE,5),VLOOKUP($M$5-Tabelle3[[#This Row],[Jahr\nannée]],FSPIELER,5))","v":15},{"$f":"IF(Tabelle3[[#This Row],[Position\nG / D / FC / FW]]=\"G\",VLOOKUP($M$5-Tabelle3[[#This Row],[Jahr\nannée]],FGOALIE,6),VLOOKUP($M$5-Tabelle3[[#This Row],[Jahr\nannée]],FSPIELER,6))","v":10},{"$f":"IF(Tabelle3[[#This Row],[Position\nG / D / FC / FW]]=\"G\",VLOOKUP($M$5-Tabelle3[[#This Row],[Jahr\nannée]],FGOALIE,7),VLOOKUP($M$5-Tabelle3[[#This Row],[Jahr\nannée]],FSPIELER,7))","v":10},{"$f":"IF(Tabelle3[[#This Row],[Position\nG / D / FC / FW]]=\"G\",VLOOKUP($M$5-Tabelle3[[#This Row],[Jahr\nannée]],FGOALIE,9),VLOOKUP($M$5-Tabelle3[[#This Row],[Jahr\nannée]],FSPIELER,9))","v":15},{"$f":"IF(Tabelle3[[#This Row],[Position\nG / D / FC / FW]]=\"G\",VLOOKUP($M$5-Tabelle3[[#This Row],[Jahr\nannée]],FGOALIE,8),VLOOKUP($M$5-Tabelle3[[#This Row],[Jahr\nannée]],FSPIELER,8))","v":0},{"$f":"IF(Tabelle3[[#This Row],[Position\nG / D / FC / FW]]=\"G\",VLOOKUP($M$5-Tabelle3[[#This Row],[Jahr\nannée]],FGOALIE,10),VLOOKUP($M$5-Tabelle3[[#This Row],[Jahr\nannée]],FSPIELER,10))","v":0},{"$f":"IF(Tabelle3[[#This Row],[Position\nG / D / FC / FW]]=\"G\",VLOOKUP($M$5-Tabelle3[[#This Row],[Jahr\nannée]],FGOALIE,11),VLOOKUP($M$5-Tabelle3[[#This Row],[Jahr\nannée]],FSPIELER,11))","v":10}]
[21,null,null,"-",null,null,null,null,null,{"$f":"IF(ISBLANK('21'!$H$4),\"-\",'21'!$H$4)","v":"-"},{"$f":"IF(ISBLANK('21'!$H$5),\"-\",'21'!$H$5)","v":"-"},{"$f":"IF(ISBLANK('21'!$H$2),\"-\",'21'!$H$2)","v":"-"},null,null,null,null,null,null,null,{"$f":"'21'!$M$19","v":0},{"$f":"'21'!$M$24","v":0},{"$f":"'21'!$M$30","v":0},{"$f":"'21'!$M$36","v":0},{"$f":"'21'!$M$41","v":0},{"$f":"'21'!$M$46","v":0},{"$f":"'21'!$M$13","v":0},{"$f":"'21'!$AA$2","v":0},{"$f":"'21'!$AA$4","v":0},{"$f":"'21'!$AA$3","v":0},{"$f":"IF(Tabelle3[[#This Row],[SKATING]]=0,\"-\",IF(Tabelle3[[#This Row],[Sex]]=\"M\",SUMPRODUCT(Tabelle3[[#This Row],[SKATING]:[VERANLAGUNG\nPREDISPOSITION]],AJ31:AS31),SUMPRODUCT(Tabelle3[[#This Row],[SKATING]:[VERANLAGUNG\nPREDISPOSITION]],AT31:BC31)))","v":"-"},{"$f":"IFERROR(RANK(Tabelle3[[#This Row],[TOTAL ]],Tabelle3[[TOTAL ]],0),\"-\")","v":"-"},null,null,null,null,{"$f":"IF(Tabelle3[[#This Row],[Position\nG / D / FC / FW]]=\"G\",VLOOKUP($M$5-Tabelle3[[#This Row],[Jahr\nannée]],GOALI,2),VLOOKUP($M$5-Tabelle3[[#This Row],[Jahr\nannée]],SPIELER,2))","v":10},{"$f":"IF(Tabelle3[[#This Row],[Position\nG / D / FC / FW]]=\"G\",VLOOKUP($M$5-Tabelle3[[#This Row],[Jahr\nannée]],GOALI,3),VLOOKUP($M$5-Tabelle3[[#This Row],[Jahr\nannée]],SPIELER,3))","v":10},{"$f":"IF(Tabelle3[[#This Row],[Position\nG / D / FC / FW]]=\"G\",VLOOKUP($M$5-Tabelle3[[#This Row],[Jahr\nannée]],GOALI,4),VLOOKUP($M$5-Tabelle3[[#This Row],[Jahr\nannée]],SPIELER,4))","v":20},{"$f":"IF(Tabelle3[[#This Row],[Position\nG / D / FC / FW]]=\"G\",VLOOKUP($M$5-Tabelle3[[#This Row],[Jahr\nannée]],GOALI,5),VLOOKUP($M$5-Tabelle3[[#This Row],[Jahr\nannée]],SPIELER,5))","v":15},{"$f":"IF(Tabelle3[[#This Row],[Position\nG / D / FC / FW]]=\"G\",VLOOKUP($M$5-Tabelle3[[#This Row],[Jahr\nannée]],GOALI,6),VLOOKUP($M$5-Tabelle3[[#This Row],[Jahr\nannée]],SPIELER,6))","v":10},{"$f":"IF(Tabelle3[[#This Row],[Position\nG / D / FC / FW]]=\"G\",VLOOKUP($M$5-Tabelle3[[#This Row],[Jahr\nannée]],GOALI,7),VLOOKUP($M$5-Tabelle3[[#This Row],[Jahr\nannée]],SPIELER,7))","v":10},{"$f":"IF(Tabelle3[[#This Row],[Position\nG / D / FC / FW]]=\"G\",VLOOKUP($M$5-Tabelle3[[#This Row],[Jahr\nannée]],GOALI,9),VLOOKUP($M$5-Tabelle3[[#This Row],[Jahr\nannée]],SPIELER,9))","v":15},{"$f":"IF(Tabelle3[[#This Row],[Position\nG / D / FC / FW]]=\"G\",VLOOKUP($M$5-Tabelle3[[#This Row],[Jahr\nannée]],GOALI,8),VLOOKUP($M$5-Tabelle3[[#This Row],[Jahr\nannée]],SPIELER,8))","v":0},{"$f":"IF(Tabelle3[[#This Row],[Position\nG / D / FC / FW]]=\"G\",VLOOKUP($M$5-Tabelle3[[#This Row],[Jahr\nannée]],GOALI,10),VLOOKUP($M$5-Tabelle3[[#This Row],[Jahr\nannée]],SPIELER,10))","v":0},{"$f":"IF(Tabelle3[[#This Row],[Position\nG / D / FC / FW]]=\"G\",VLOOKUP($M$5-Tabelle3[[#This Row],[Jahr\nannée]],GOALI,11),VLOOKUP($M$5-Tabelle3[[#This Row],[Jahr\nannée]],SPIELER,11))","v":10},{"$f":"IF(Tabelle3[[#This Row],[Position\nG / D / FC / FW]]=\"G\",VLOOKUP($M$5-Tabelle3[[#This Row],[Jahr\nannée]],FGOALIE,2),VLOOKUP($M$5-Tabelle3[[#This Row],[Jahr\nannée]],FSPIELER,2))","v":10},{"$f":"IF(Tabelle3[[#This Row],[Position\nG / D / FC / FW]]=\"G\",VLOOKUP($M$5-Tabelle3[[#This Row],[Jahr\nannée]],FGOALIE,3),VLOOKUP($M$5-Tabelle3[[#This Row],[Jahr\nannée]],FSPIELER,3))","v":10},{"$f":"IF(Tabelle3[[#This Row],[Position\nG / D / FC / FW]]=\"G\",VLOOKUP($M$5-Tabelle3[[#This Row],[Jahr\nannée]],FGOALIE,4),VLOOKUP($M$5-Tabelle3[[#This Row],[Jahr\nannée]],FSPIELER,4))","v":20},{"$f":"IF(Tabelle3[[#This Row],[Position\nG / D / FC / FW]]=\"G\",VLOOKUP($M$5-Tabelle3[[#This Row],[Jahr\nannée]],FGOALIE,5),VLOOKUP($M$5-Tabelle3[[#This Row],[Jahr\nannée]],FSPIELER,5))","v":15},{"$f":"IF(Tabelle3[[#This Row],[Position\nG / D / FC / FW]]=\"G\",VLOOKUP($M$5-Tabelle3[[#This Row],[Jahr\nannée]],FGOALIE,6),VLOOKUP($M$5-Tabelle3[[#This Row],[Jahr\nannée]],FSPIELER,6))","v":10},{"$f":"IF(Tabelle3[[#This Row],[Position\nG / D / FC / FW]]=\"G\",VLOOKUP($M$5-Tabelle3[[#This Row],[Jahr\nannée]],FGOALIE,7),VLOOKUP($M$5-Tabelle3[[#This Row],[Jahr\nannée]],FSPIELER,7))","v":10},{"$f":"IF(Tabelle3[[#This Row],[Position\nG / D / FC / FW]]=\"G\",VLOOKUP($M$5-Tabelle3[[#This Row],[Jahr\nannée]],FGOALIE,9),VLOOKUP($M$5-Tabelle3[[#This Row],[Jahr\nannée]],FSPIELER,9))","v":15},{"$f":"IF(Tabelle3[[#This Row],[Position\nG / D / FC / FW]]=\"G\",VLOOKUP($M$5-Tabelle3[[#This Row],[Jahr\nannée]],FGOALIE,8),VLOOKUP($M$5-Tabelle3[[#This Row],[Jahr\nannée]],FSPIELER,8))","v":0},{"$f":"IF(Tabelle3[[#This Row],[Position\nG / D / FC / FW]]=\"G\",VLOOKUP($M$5-Tabelle3[[#This Row],[Jahr\nannée]],FGOALIE,10),VLOOKUP($M$5-Tabelle3[[#This Row],[Jahr\nannée]],FSPIELER,10))","v":0},{"$f":"IF(Tabelle3[[#This Row],[Position\nG / D / FC / FW]]=\"G\",VLOOKUP($M$5-Tabelle3[[#This Row],[Jahr\nannée]],FGOALIE,11),VLOOKUP($M$5-Tabelle3[[#This Row],[Jahr\nannée]],FSPIELER,11))","v":10}]
[22,null,null,"-",null,null,null,null,null,{"$f":"IF(ISBLANK('22'!$H$4),\"-\",'22'!$H$4)","v":"-"},{"$f":"IF(ISBLANK('22'!$H$5),\"-\",'22'!$H$5)","v":"-"},{"$f":"IF(ISBLANK('22'!$H$2),\"-\",'22'!$H$2)","v":"-"},null,null,null,null,null,null,null,{"$f":"'22'!$M$19","v":0},{"$f":"'22'!$M$24","v":0},{"$f":"'22'!$M$30","v":0},{"$f":"'22'!$M$36","v":0},{"$f":"'22'!$M$41","v":0},{"$f":"'22'!$M$46","v":0},{"$f":"'22'!$M$13","v":0},{"$f":"'22'!$AA$2","v":0},{"$f":"'22'!$AA$4","v":0},{"$f":"'22'!$AA$3","v":0},{"$f":"IF(Tabelle3[[#This Row],[SKATING]]=0,\"-\",IF(Tabelle3[[#This Row],[Sex]]=\"M\",SUMPRODUCT(Tabelle3[[#This Row],[SKATING]:[VERANLAGUNG\nPREDISPOSITION]],AJ32:AS32),SUMPRODUCT(Tabelle3[[#This Row],[SKATING]:[VERANLAGUNG\nPREDISPOSITION]],AT32:BC32)))","v":"-"},{"$f":"IFERROR(RANK(Tabelle3[[#This Row],[TOTAL ]],Tabelle3[[TOTAL ]],0),\"-\")","v":"-"},null,null,null,null,{"$f":"IF(Tabelle3[[#This Row],[Position\nG / D / FC / FW]]=\"G\",VLOOKUP($M$5-Tabelle3[[#This Row],[Jahr\nannée]],GOALI,2),VLOOKUP($M$5-Tabelle3[[#This Row],[Jahr\nannée]],SPIELER,2))","v":10},{"$f":"IF(Tabelle3[[#This Row],[Position\nG / D / FC / FW]]=\"G\",VLOOKUP($M$5-Tabelle3[[#This Row],[Jahr\nannée]],GOALI,3),VLOOKUP($M$5-Tabelle3[[#This Row],[Jahr\nannée]],SPIELER,3))","v":10},{"$f":"IF(Tabelle3[[#This Row],[Position\nG / D / FC / FW]]=\"G\",VLOOKUP($M$5-Tabelle3[[#This Row],[Jahr\nannée]],GOALI,4),VLOOKUP($M$5-Tabelle3[[#This Row],[Jahr\nannée]],SPIELER,4))","v":20},{"$f":"IF(Tabelle3[[#This Row],[Position\nG / D / FC / FW]]=\"G\",VLOOKUP($M$5-Tabelle3[[#This Row],[Jahr\nannée]],GOALI,5),VLOOKUP($M$5-Tabelle3[[#This Row],[Jahr\nannée]],SPIELER,5))","v":15},{"$f":"IF(Tabelle3[[#This Row],[Position\nG / D / FC / FW]]=\"G\",VLOOKUP($M$5-Tabelle3[[#This Row],[Jahr\nannée]],GOALI,6),VLOOKUP($M$5-Tabelle3[[#This Row],[Jahr\nannée]],SPIELER,6))","v":10},{"$f":"IF(Tabelle3[[#This Row],[Position\nG / D / FC / FW]]=\"G\",VLOOKUP($M$5-Tabelle3[[#This Row],[Jahr\nannée]],GOALI,7),VLOOKUP($M$5-Tabelle3[[#This Row],[Jahr\nannée]],SPIELER,7))","v":10},{"$f":"IF(Tabelle3[[#This Row],[Position\nG / D / FC / FW]]=\"G\",VLOOKUP($M$5-Tabelle3[[#This Row],[Jahr\nannée]],GOALI,9),VLOOKUP($M$5-Tabelle3[[#This Row],[Jahr\nannée]],SPIELER,9))","v":15},{"$f":"IF(Tabelle3[[#This Row],[Position\nG / D / FC / FW]]=\"G\",VLOOKUP($M$5-Tabelle3[[#This Row],[Jahr\nannée]],GOALI,8),VLOOKUP($M$5-Tabelle3[[#This Row],[Jahr\nannée]],SPIELER,8))","v":0},{"$f":"IF(Tabelle3[[#This Row],[Position\nG / D / FC / FW]]=\"G\",VLOOKUP($M$5-Tabelle3[[#This Row],[Jahr\nannée]],GOALI,10),VLOOKUP($M$5-Tabelle3[[#This Row],[Jahr\nannée]],SPIELER,10))","v":0},{"$f":"IF(Tabelle3[[#This Row],[Position\nG / D / FC / FW]]=\"G\",VLOOKUP($M$5-Tabelle3[[#This Row],[Jahr\nannée]],GOALI,11),VLOOKUP($M$5-Tabelle3[[#This Row],[Jahr\nannée]],SPIELER,11))","v":10},{"$f":"IF(Tabelle3[[#This Row],[Position\nG / D / FC / FW]]=\"G\",VLOOKUP($M$5-Tabelle3[[#This Row],[Jahr\nannée]],FGOALIE,2),VLOOKUP($M$5-Tabelle3[[#This Row],[Jahr\nannée]],FSPIELER,2))","v":10},{"$f":"IF(Tabelle3[[#This Row],[Position\nG / D / FC / FW]]=\"G\",VLOOKUP($M$5-Tabelle3[[#This Row],[Jahr\nannée]],FGOALIE,3),VLOOKUP($M$5-Tabelle3[[#This Row],[Jahr\nannée]],FSPIELER,3))","v":10},{"$f":"IF(Tabelle3[[#This Row],[Position\nG / D / FC / FW]]=\"G\",VLOOKUP($M$5-Tabelle3[[#This Row],[Jahr\nannée]],FGOALIE,4),VLOOKUP($M$5-Tabelle3[[#This Row],[Jahr\nannée]],FSPIELER,4))","v":20},{"$f":"IF(Tabelle3[[#This Row],[Position\nG / D / FC / FW]]=\"G\",VLOOKUP($M$5-Tabelle3[[#This Row],[Jahr\nannée]],FGOALIE,5),VLOOKUP($M$5-Tabelle3[[#This Row],[Jahr\nannée]],FSPIELER,5))","v":15},{"$f":"IF(Tabelle3[[#This Row],[Position\nG / D / FC / FW]]=\"G\",VLOOKUP($M$5-Tabelle3[[#This Row],[Jahr\nannée]],FGOALIE,6),VLOOKUP($M$5-Tabelle3[[#This Row],[Jahr\nannée]],FSPIELER,6))","v":10},{"$f":"IF(Tabelle3[[#This Row],[Position\nG / D / FC / FW]]=\"G\",VLOOKUP($M$5-Tabelle3[[#This Row],[Jahr\nannée]],FGOALIE,7),VLOOKUP($M$5-Tabelle3[[#This Row],[Jahr\nannée]],FSPIELER,7))","v":10},{"$f":"IF(Tabelle3[[#This Row],[Position\nG / D / FC / FW]]=\"G\",VLOOKUP($M$5-Tabelle3[[#This Row],[Jahr\nannée]],FGOALIE,9),VLOOKUP($M$5-Tabelle3[[#This Row],[Jahr\nannée]],FSPIELER,9))","v":15},{"$f":"IF(Tabelle3[[#This Row],[Position\nG / D / FC / FW]]=\"G\",VLOOKUP($M$5-Tabelle3[[#This Row],[Jahr\nannée]],FGOALIE,8),VLOOKUP($M$5-Tabelle3[[#This Row],[Jahr\nannée]],FSPIELER,8))","v":0},{"$f":"IF(Tabelle3[[#This Row],[Position\nG / D / FC / FW]]=\"G\",VLOOKUP($M$5-Tabelle3[[#This Row],[Jahr\nannée]],FGOALIE,10),VLOOKUP($M$5-Tabelle3[[#This Row],[Jahr\nannée]],FSPIELER,10))","v":0},{"$f":"IF(Tabelle3[[#This Row],[Position\nG / D / FC / FW]]=\"G\",VLOOKUP($M$5-Tabelle3[[#This Row],[Jahr\nannée]],FGOALIE,11),VLOOKUP($M$5-Tabelle3[[#This Row],[Jahr\nannée]],FSPIELER,11))","v":10}]
[23,null,null,"-",null,null,null,null,null,{"$f":"IF(ISBLANK('23'!$H$4),\"-\",'23'!$H$4)","v":"-"},{"$f":"IF(ISBLANK('23'!$H$5),\"-\",'23'!$H$5)","v":"-"},{"$f":"IF(ISBLANK('23'!$H$2),\"-\",'23'!$H$2)","v":"-"},null,null,null,null,null,null,null,{"$f":"'23'!$M$19","v":0},{"$f":"'23'!$M$24","v":0},{"$f":"'23'!$M$30","v":0},{"$f":"'23'!$M$36","v":0},{"$f":"'23'!$M$41","v":0},{"$f":"'23'!$M$46","v":0},{"$f":"'23'!$M$13","v":0},{"$f":"'23'!$AA$2","v":0},{"$f":"'23'!$AA$4","v":0},{"$f":"'23'!$AA$3","v":0},{"$f":"IF(Tabelle3[[#This Row],[SKATING]]=0,\"-\",IF(Tabelle3[[#This Row],[Sex]]=\"M\",SUMPRODUCT(Tabelle3[[#This Row],[SKATING]:[VERANLAGUNG\nPREDISPOSITION]],AJ33:AS33),SUMPRODUCT(Tabelle3[[#This Row],[SKATING]:[VERANLAGUNG\nPREDISPOSITION]],AT33:BC33)))","v":"-"},{"$f":"IFERROR(RANK(Tabelle3[[#This Row],[TOTAL ]],Tabelle3[[TOTAL ]],0),\"-\")","v":"-"},null,null,null,null,{"$f":"IF(Tabelle3[[#This Row],[Position\nG / D / FC / FW]]=\"G\",VLOOKUP($M$5-Tabelle3[[#This Row],[Jahr\nannée]],GOALI,2),VLOOKUP($M$5-Tabelle3[[#This Row],[Jahr\nannée]],SPIELER,2))","v":10},{"$f":"IF(Tabelle3[[#This Row],[Position\nG / D / FC / FW]]=\"G\",VLOOKUP($M$5-Tabelle3[[#This Row],[Jahr\nannée]],GOALI,3),VLOOKUP($M$5-Tabelle3[[#This Row],[Jahr\nannée]],SPIELER,3))","v":10},{"$f":"IF(Tabelle3[[#This Row],[Position\nG / D / FC / FW]]=\"G\",VLOOKUP($M$5-Tabelle3[[#This Row],[Jahr\nannée]],GOALI,4),VLOOKUP($M$5-Tabelle3[[#This Row],[Jahr\nannée]],SPIELER,4))","v":20},{"$f":"IF(Tabelle3[[#This Row],[Position\nG / D / FC / FW]]=\"G\",VLOOKUP($M$5-Tabelle3[[#This Row],[Jahr\nannée]],GOALI,5),VLOOKUP($M$5-Tabelle3[[#This Row],[Jahr\nannée]],SPIELER,5))","v":15},{"$f":"IF(Tabelle3[[#This Row],[Position\nG / D / FC / FW]]=\"G\",VLOOKUP($M$5-Tabelle3[[#This Row],[Jahr\nannée]],GOALI,6),VLOOKUP($M$5-Tabelle3[[#This Row],[Jahr\nannée]],SPIELER,6))","v":10},{"$f":"IF(Tabelle3[[#This Row],[Position\nG / D / FC / FW]]=\"G\",VLOOKUP($M$5-Tabelle3[[#This Row],[Jahr\nannée]],GOALI,7),VLOOKUP($M$5-Tabelle3[[#This Row],[Jahr\nannée]],SPIELER,7))","v":10},{"$f":"IF(Tabelle3[[#This Row],[Position\nG / D / FC / FW]]=\"G\",VLOOKUP($M$5-Tabelle3[[#This Row],[Jahr\nannée]],GOALI,9),VLOOKUP($M$5-Tabelle3[[#This Row],[Jahr\nannée]],SPIELER,9))","v":15},{"$f":"IF(Tabelle3[[#This Row],[Position\nG / D / FC / FW]]=\"G\",VLOOKUP($M$5-Tabelle3[[#This Row],[Jahr\nannée]],GOALI,8),VLOOKUP($M$5-Tabelle3[[#This Row],[Jahr\nannée]],SPIELER,8))","v":0},{"$f":"IF(Tabelle3[[#This Row],[Position\nG / D / FC / FW]]=\"G\",VLOOKUP($M$5-Tabelle3[[#This Row],[Jahr\nannée]],GOALI,10),VLOOKUP($M$5-Tabelle3[[#This Row],[Jahr\nannée]],SPIELER,10))","v":0},{"$f":"IF(Tabelle3[[#This Row],[Position\nG / D / FC / FW]]=\"G\",VLOOKUP($M$5-Tabelle3[[#This Row],[Jahr\nannée]],GOALI,11),VLOOKUP($M$5-Tabelle3[[#This Row],[Jahr\nannée]],SPIELER,11))","v":10},{"$f":"IF(Tabelle3[[#This Row],[Position\nG / D / FC / FW]]=\"G\",VLOOKUP($M$5-Tabelle3[[#This Row],[Jahr\nannée]],FGOALIE,2),VLOOKUP($M$5-Tabelle3[[#This Row],[Jahr\nannée]],FSPIELER,2))","v":10},{"$f":"IF(Tabelle3[[#This Row],[Position\nG / D / FC / FW]]=\"G\",VLOOKUP($M$5-Tabelle3[[#This Row],[Jahr\nannée]],FGOALIE,3),VLOOKUP($M$5-Tabelle3[[#This Row],[Jahr\nannée]],FSPIELER,3))","v":10},{"$f":"IF(Tabelle3[[#This Row],[Position\nG / D / FC / FW]]=\"G\",VLOOKUP($M$5-Tabelle3[[#This Row],[Jahr\nannée]],FGOALIE,4),VLOOKUP($M$5-Tabelle3[[#This Row],[Jahr\nannée]],FSPIELER,4))","v":20},{"$f":"IF(Tabelle3[[#This Row],[Position\nG / D / FC / FW]]=\"G\",VLOOKUP($M$5-Tabelle3[[#This Row],[Jahr\nannée]],FGOALIE,5),VLOOKUP($M$5-Tabelle3[[#This Row],[Jahr\nannée]],FSPIELER,5))","v":15},{"$f":"IF(Tabelle3[[#This Row],[Position\nG / D / FC / FW]]=\"G\",VLOOKUP($M$5-Tabelle3[[#This Row],[Jahr\nannée]],FGOALIE,6),VLOOKUP($M$5-Tabelle3[[#This Row],[Jahr\nannée]],FSPIELER,6))","v":10},{"$f":"IF(Tabelle3[[#This Row],[Position\nG / D / FC / FW]]=\"G\",VLOOKUP($M$5-Tabelle3[[#This Row],[Jahr\nannée]],FGOALIE,7),VLOOKUP($M$5-Tabelle3[[#This Row],[Jahr\nannée]],FSPIELER,7))","v":10},{"$f":"IF(Tabelle3[[#This Row],[Position\nG / D / FC / FW]]=\"G\",VLOOKUP($M$5-Tabelle3[[#This Row],[Jahr\nannée]],FGOALIE,9),VLOOKUP($M$5-Tabelle3[[#This Row],[Jahr\nannée]],FSPIELER,9))","v":15},{"$f":"IF(Tabelle3[[#This Row],[Position\nG / D / FC / FW]]=\"G\",VLOOKUP($M$5-Tabelle3[[#This Row],[Jahr\nannée]],FGOALIE,8),VLOOKUP($M$5-Tabelle3[[#This Row],[Jahr\nannée]],FSPIELER,8))","v":0},{"$f":"IF(Tabelle3[[#This Row],[Position\nG / D / FC / FW]]=\"G\",VLOOKUP($M$5-Tabelle3[[#This Row],[Jahr\nannée]],FGOALIE,10),VLOOKUP($M$5-Tabelle3[[#This Row],[Jahr\nannée]],FSPIELER,10))","v":0},{"$f":"IF(Tabelle3[[#This Row],[Position\nG / D / FC / FW]]=\"G\",VLOOKUP($M$5-Tabelle3[[#This Row],[Jahr\nannée]],FGOALIE,11),VLOOKUP($M$5-Tabelle3[[#This Row],[Jahr\nannée]],FSPIELER,11))","v":10}]
[24,null,null,"-",null,null,null,null,null,{"$f":"IF(ISBLANK('24'!$H$4),\"-\",'24'!$H$4)","v":"-"},{"$f":"IF(ISBLANK('24'!$H$5),\"-\",'24'!$H$5)","v":"-"},{"$f":"IF(ISBLANK('24'!$H$2),\"-\",'24'!$H$2)","v":"-"},null,null,null,null,null,null,null,{"$f":"'24'!$M$19","v":0},{"$f":"'24'!$M$24","v":0},{"$f":"'24'!$M$30","v":0},{"$f":"'24'!$M$36","v":0},{"$f":"'24'!$M$41","v":0},{"$f":"'24'!$M$46","v":0},{"$f":"'24'!$M$13","v":0},{"$f":"'24'!$AA$2","v":0},{"$f":"'24'!$AA$4","v":0},{"$f":"'24'!$AA$3","v":0},{"$f":"IF(Tabelle3[[#This Row],[SKATING]]=0,\"-\",IF(Tabelle3[[#This Row],[Sex]]=\"M\",SUMPRODUCT(Tabelle3[[#This Row],[SKATING]:[VERANLAGUNG\nPREDISPOSITION]],AJ34:AS34),SUMPRODUCT(Tabelle3[[#This Row],[SKATING]:[VERANLAGUNG\nPREDISPOSITION]],AT34:BC34)))","v":"-"},{"$f":"IFERROR(RANK(Tabelle3[[#This Row],[TOTAL ]],Tabelle3[[TOTAL ]],0),\"-\")","v":"-"},null,null,null,null,{"$f":"IF(Tabelle3[[#This Row],[Position\nG / D / FC / FW]]=\"G\",VLOOKUP($M$5-Tabelle3[[#This Row],[Jahr\nannée]],GOALI,2),VLOOKUP($M$5-Tabelle3[[#This Row],[Jahr\nannée]],SPIELER,2))","v":10},{"$f":"IF(Tabelle3[[#This Row],[Position\nG / D / FC / FW]]=\"G\",VLOOKUP($M$5-Tabelle3[[#This Row],[Jahr\nannée]],GOALI,3),VLOOKUP($M$5-Tabelle3[[#This Row],[Jahr\nannée]],SPIELER,3))","v":10},{"$f":"IF(Tabelle3[[#This Row],[Position\nG / D / FC / FW]]=\"G\",VLOOKUP($M$5-Tabelle3[[#This Row],[Jahr\nannée]],GOALI,4),VLOOKUP($M$5-Tabelle3[[#This Row],[Jahr\nannée]],SPIELER,4))","v":20},{"$f":"IF(Tabelle3[[#This Row],[Position\nG / D / FC / FW]]=\"G\",VLOOKUP($M$5-Tabelle3[[#This Row],[Jahr\nannée]],GOALI,5),VLOOKUP($M$5-Tabelle3[[#This Row],[Jahr\nannée]],SPIELER,5))","v":15},{"$f":"IF(Tabelle3[[#This Row],[Position\nG / D / FC / FW]]=\"G\",VLOOKUP($M$5-Tabelle3[[#This Row],[Jahr\nannée]],GOALI,6),VLOOKUP($M$5-Tabelle3[[#This Row],[Jahr\nannée]],SPIELER,6))","v":10},{"$f":"IF(Tabelle3[[#This Row],[Position\nG / D / FC / FW]]=\"G\",VLOOKUP($M$5-Tabelle3[[#This Row],[Jahr\nannée]],GOALI,7),VLOOKUP($M$5-Tabelle3[[#This Row],[Jahr\nannée]],SPIELER,7))","v":10},{"$f":"IF(Tabelle3[[#This Row],[Position\nG / D / FC / FW]]=\"G\",VLOOKUP($M$5-Tabelle3[[#This Row],[Jahr\nannée]],GOALI,9),VLOOKUP($M$5-Tabelle3[[#This Row],[Jahr\nannée]],SPIELER,9))","v":15},{"$f":"IF(Tabelle3[[#This Row],[Position\nG / D / FC / FW]]=\"G\",VLOOKUP($M$5-Tabelle3[[#This Row],[Jahr\nannée]],GOALI,8),VLOOKUP($M$5-Tabelle3[[#This Row],[Jahr\nannée]],SPIELER,8))","v":0},{"$f":"IF(Tabelle3[[#This Row],[Position\nG / D / FC / FW]]=\"G\",VLOOKUP($M$5-Tabelle3[[#This Row],[Jahr\nannée]],GOALI,10),VLOOKUP($M$5-Tabelle3[[#This Row],[Jahr\nannée]],SPIELER,10))","v":0},{"$f":"IF(Tabelle3[[#This Row],[Position\nG / D / FC / FW]]=\"G\",VLOOKUP($M$5-Tabelle3[[#This Row],[Jahr\nannée]],GOALI,11),VLOOKUP($M$5-Tabelle3[[#This Row],[Jahr\nannée]],SPIELER,11))","v":10},{"$f":"IF(Tabelle3[[#This Row],[Position\nG / D / FC / FW]]=\"G\",VLOOKUP($M$5-Tabelle3[[#This Row],[Jahr\nannée]],FGOALIE,2),VLOOKUP($M$5-Tabelle3[[#This Row],[Jahr\nannée]],FSPIELER,2))","v":10},{"$f":"IF(Tabelle3[[#This Row],[Position\nG / D / FC / FW]]=\"G\",VLOOKUP($M$5-Tabelle3[[#This Row],[Jahr\nannée]],FGOALIE,3),VLOOKUP($M$5-Tabelle3[[#This Row],[Jahr\nannée]],FSPIELER,3))","v":10},{"$f":"IF(Tabelle3[[#This Row],[Position\nG / D / FC / FW]]=\"G\",VLOOKUP($M$5-Tabelle3[[#This Row],[Jahr\nannée]],FGOALIE,4),VLOOKUP($M$5-Tabelle3[[#This Row],[Jahr\nannée]],FSPIELER,4))","v":20},{"$f":"IF(Tabelle3[[#This Row],[Position\nG / D / FC / FW]]=\"G\",VLOOKUP($M$5-Tabelle3[[#This Row],[Jahr\nannée]],FGOALIE,5),VLOOKUP($M$5-Tabelle3[[#This Row],[Jahr\nannée]],FSPIELER,5))","v":15},{"$f":"IF(Tabelle3[[#This Row],[Position\nG / D / FC / FW]]=\"G\",VLOOKUP($M$5-Tabelle3[[#This Row],[Jahr\nannée]],FGOALIE,6),VLOOKUP($M$5-Tabelle3[[#This Row],[Jahr\nannée]],FSPIELER,6))","v":10},{"$f":"IF(Tabelle3[[#This Row],[Position\nG / D / FC / FW]]=\"G\",VLOOKUP($M$5-Tabelle3[[#This Row],[Jahr\nannée]],FGOALIE,7),VLOOKUP($M$5-Tabelle3[[#This Row],[Jahr\nannée]],FSPIELER,7))","v":10},{"$f":"IF(Tabelle3[[#This Row],[Position\nG / D / FC / FW]]=\"G\",VLOOKUP($M$5-Tabelle3[[#This Row],[Jahr\nannée]],FGOALIE,9),VLOOKUP($M$5-Tabelle3[[#This Row],[Jahr\nannée]],FSPIELER,9))","v":15},{"$f":"IF(Tabelle3[[#This Row],[Position\nG / D / FC / FW]]=\"G\",VLOOKUP($M$5-Tabelle3[[#This Row],[Jahr\nannée]],FGOALIE,8),VLOOKUP($M$5-Tabelle3[[#This Row],[Jahr\nannée]],FSPIELER,8))","v":0},{"$f":"IF(Tabelle3[[#This Row],[Position\nG / D / FC / FW]]=\"G\",VLOOKUP($M$5-Tabelle3[[#This Row],[Jahr\nannée]],FGOALIE,10),VLOOKUP($M$5-Tabelle3[[#This Row],[Jahr\nannée]],FSPIELER,10))","v":0},{"$f":"IF(Tabelle3[[#This Row],[Position\nG / D / FC / FW]]=\"G\",VLOOKUP($M$5-Tabelle3[[#This Row],[Jahr\nannée]],FGOALIE,11),VLOOKUP($M$5-Tabelle3[[#This Row],[Jahr\nannée]],FSPIELER,11))","v":10}]
[25,null,null,"-",null,null,null,null,null,{"$f":"IF(ISBLANK('25'!$H$4),\"-\",'25'!$H$4)","v":"-"},{"$f":"IF(ISBLANK('25'!$H$5),\"-\",'25'!$H$5)","v":"-"},{"$f":"IF(ISBLANK('25'!$H$2),\"-\",'25'!$H$2)","v":"-"},null,null,null,null,null,null,null,{"$f":"'25'!$M$19","v":0},{"$f":"'25'!$M$24","v":0},{"$f":"'25'!$M$30","v":0},{"$f":"'25'!$M$36","v":0},{"$f":"'25'!$M$41","v":0},{"$f":"'25'!$M$46","v":0},{"$f":"'25'!$M$13","v":0},{"$f":"'25'!$AA$2","v":0},{"$f":"'25'!$AA$4","v":0},{"$f":"'25'!$AA$3","v":0},{"$f":"IF(Tabelle3[[#This Row],[SKATING]]=0,\"-\",IF(Tabelle3[[#This Row],[Sex]]=\"M\",SUMPRODUCT(Tabelle3[[#This Row],[SKATING]:[VERANLAGUNG\nPREDISPOSITION]],AJ35:AS35),SUMPRODUCT(Tabelle3[[#This Row],[SKATING]:[VERANLAGUNG\nPREDISPOSITION]],AT35:BC35)))","v":"-"},{"$f":"IFERROR(RANK(Tabelle3[[#This Row],[TOTAL ]],Tabelle3[[TOTAL ]],0),\"-\")","v":"-"},null,null,null,null,{"$f":"IF(Tabelle3[[#This Row],[Position\nG / D / FC / FW]]=\"G\",VLOOKUP($M$5-Tabelle3[[#This Row],[Jahr\nannée]],GOALI,2),VLOOKUP($M$5-Tabelle3[[#This Row],[Jahr\nannée]],SPIELER,2))","v":10},{"$f":"IF(Tabelle3[[#This Row],[Position\nG / D / FC / FW]]=\"G\",VLOOKUP($M$5-Tabelle3[[#This Row],[Jahr\nannée]],GOALI,3),VLOOKUP($M$5-Tabelle3[[#This Row],[Jahr\nannée]],SPIELER,3))","v":10},{"$f":"IF(Tabelle3[[#This Row],[Position\nG / D / FC / FW]]=\"G\",VLOOKUP($M$5-Tabelle3[[#This Row],[Jahr\nannée]],GOALI,4),VLOOKUP($M$5-Tabelle3[[#This Row],[Jahr\nannée]],SPIELER,4))","v":20},{"$f":"IF(Tabelle3[[#This Row],[Position\nG / D / FC / FW]]=\"G\",VLOOKUP($M$5-Tabelle3[[#This Row],[Jahr\nannée]],GOALI,5),VLOOKUP($M$5-Tabelle3[[#This Row],[Jahr\nannée]],SPIELER,5))","v":15},{"$f":"IF(Tabelle3[[#This Row],[Position\nG / D / FC / FW]]=\"G\",VLOOKUP($M$5-Tabelle3[[#This Row],[Jahr\nannée]],GOALI,6),VLOOKUP($M$5-Tabelle3[[#This Row],[Jahr\nannée]],SPIELER,6))","v":10},{"$f":"IF(Tabelle3[[#This Row],[Position\nG / D / FC / FW]]=\"G\",VLOOKUP($M$5-Tabelle3[[#This Row],[Jahr\nannée]],GOALI,7),VLOOKUP($M$5-Tabelle3[[#This Row],[Jahr\nannée]],SPIELER,7))","v":10},{"$f":"IF(Tabelle3[[#This Row],[Position\nG / D / FC / FW]]=\"G\",VLOOKUP($M$5-Tabelle3[[#This Row],[Jahr\nannée]],GOALI,9),VLOOKUP($M$5-Tabelle3[[#This Row],[Jahr\nannée]],SPIELER,9))","v":15},{"$f":"IF(Tabelle3[[#This Row],[Position\nG / D / FC / FW]]=\"G\",VLOOKUP($M$5-Tabelle3[[#This Row],[Jahr\nannée]],GOALI,8),VLOOKUP($M$5-Tabelle3[[#This Row],[Jahr\nannée]],SPIELER,8))","v":0},{"$f":"IF(Tabelle3[[#This Row],[Position\nG / D / FC / FW]]=\"G\",VLOOKUP($M$5-Tabelle3[[#This Row],[Jahr\nannée]],GOALI,10),VLOOKUP($M$5-Tabelle3[[#This Row],[Jahr\nannée]],SPIELER,10))","v":0},{"$f":"IF(Tabelle3[[#This Row],[Position\nG / D / FC / FW]]=\"G\",VLOOKUP($M$5-Tabelle3[[#This Row],[Jahr\nannée]],GOALI,11),VLOOKUP($M$5-Tabelle3[[#This Row],[Jahr\nannée]],SPIELER,11))","v":10},{"$f":"IF(Tabelle3[[#This Row],[Position\nG / D / FC / FW]]=\"G\",VLOOKUP($M$5-Tabelle3[[#This Row],[Jahr\nannée]],FGOALIE,2),VLOOKUP($M$5-Tabelle3[[#This Row],[Jahr\nannée]],FSPIELER,2))","v":10},{"$f":"IF(Tabelle3[[#This Row],[Position\nG / D / FC / FW]]=\"G\",VLOOKUP($M$5-Tabelle3[[#This Row],[Jahr\nannée]],FGOALIE,3),VLOOKUP($M$5-Tabelle3[[#This Row],[Jahr\nannée]],FSPIELER,3))","v":10},{"$f":"IF(Tabelle3[[#This Row],[Position\nG / D / FC / FW]]=\"G\",VLOOKUP($M$5-Tabelle3[[#This Row],[Jahr\nannée]],FGOALIE,4),VLOOKUP($M$5-Tabelle3[[#This Row],[Jahr\nannée]],FSPIELER,4))","v":20},{"$f":"IF(Tabelle3[[#This Row],[Position\nG / D / FC / FW]]=\"G\",VLOOKUP($M$5-Tabelle3[[#This Row],[Jahr\nannée]],FGOALIE,5),VLOOKUP($M$5-Tabelle3[[#This Row],[Jahr\nannée]],FSPIELER,5))","v":15},{"$f":"IF(Tabelle3[[#This Row],[Position\nG / D / FC / FW]]=\"G\",VLOOKUP($M$5-Tabelle3[[#This Row],[Jahr\nannée]],FGOALIE,6),VLOOKUP($M$5-Tabelle3[[#This Row],[Jahr\nannée]],FSPIELER,6))","v":10},{"$f":"IF(Tabelle3[[#This Row],[Position\nG / D / FC / FW]]=\"G\",VLOOKUP($M$5-Tabelle3[[#This Row],[Jahr\nannée]],FGOALIE,7),VLOOKUP($M$5-Tabelle3[[#This Row],[Jahr\nannée]],FSPIELER,7))","v":10},{"$f":"IF(Tabelle3[[#This Row],[Position\nG / D / FC / FW]]=\"G\",VLOOKUP($M$5-Tabelle3[[#This Row],[Jahr\nannée]],FGOALIE,9),VLOOKUP($M$5-Tabelle3[[#This Row],[Jahr\nannée]],FSPIELER,9))","v":15},{"$f":"IF(Tabelle3[[#This Row],[Position\nG / D / FC / FW]]=\"G\",VLOOKUP($M$5-Tabelle3[[#This Row],[Jahr\nannée]],FGOALIE,8),VLOOKUP($M$5-Tabelle3[[#This Row],[Jahr\nannée]],FSPIELER,8))","v":0},{"$f":"IF(Tabelle3[[#This Row],[Position\nG / D / FC / FW]]=\"G\",VLOOKUP($M$5-Tabelle3[[#This Row],[Jahr\nannée]],FGOALIE,10),VLOOKUP($M$5-Tabelle3[[#This Row],[Jahr\nannée]],FSPIELER,10))","v":0},{"$f":"IF(Tabelle3[[#This Row],[Position\nG / D / FC / FW]]=\"G\",VLOOKUP($M$5-Tabelle3[[#This Row],[Jahr\nannée]],FGOALIE,11),VLOOKUP($M$5-Tabelle3[[#This Row],[Jahr\nannée]],FSPIELER,11))","v":10}]
[26,null,null,"-",null,null,null,null,null,{"$f":"IF(ISBLANK('26'!$H$4),\"-\",'26'!$H$4)","v":"-"},{"$f":"IF(ISBLANK('26'!$H$5),\"-\",'26'!$H$5)","v":"-"},{"$f":"IF(ISBLANK('26'!$H$2),\"-\",'26'!$H$2)","v":"-"},null,null,null,null,null,null,null,{"$f":"'26'!$M$19","v":0},{"$f":"'26'!$M$24","v":0},{"$f":"'26'!$M$30","v":0},{"$f":"'26'!$M$36","v":0},{"$f":"'26'!$M$41","v":0},{"$f":"'26'!$M$46","v":0},{"$f":"'26'!$M$13","v":0},{"$f":"'26'!$AA$2","v":0},{"$f":"'26'!$AA$4","v":0},{"$f":"'26'!$AA$3","v":0},{"$f":"IF(Tabelle3[[#This Row],[SKATING]]=0,\"-\",IF(Tabelle3[[#This Row],[Sex]]=\"M\",SUMPRODUCT(Tabelle3[[#This Row],[SKATING]:[VERANLAGUNG\nPREDISPOSITION]],AJ36:AS36),SUMPRODUCT(Tabelle3[[#This Row],[SKATING]:[VERANLAGUNG\nPREDISPOSITION]],AT36:BC36)))","v":"-"},{"$f":"IFERROR(RANK(Tabelle3[[#This Row],[TOTAL ]],Tabelle3[[TOTAL ]],0),\"-\")","v":"-"},null,null,null,null,{"$f":"IF(Tabelle3[[#This Row],[Position\nG / D / FC / FW]]=\"G\",VLOOKUP($M$5-Tabelle3[[#This Row],[Jahr\nannée]],GOALI,2),VLOOKUP($M$5-Tabelle3[[#This Row],[Jahr\nannée]],SPIELER,2))","v":10},{"$f":"IF(Tabelle3[[#This Row],[Position\nG / D / FC / FW]]=\"G\",VLOOKUP($M$5-Tabelle3[[#This Row],[Jahr\nannée]],GOALI,3),VLOOKUP($M$5-Tabelle3[[#This Row],[Jahr\nannée]],SPIELER,3))","v":10},{"$f":"IF(Tabelle3[[#This Row],[Position\nG / D / FC / FW]]=\"G\",VLOOKUP($M$5-Tabelle3[[#This Row],[Jahr\nannée]],GOALI,4),VLOOKUP($M$5-Tabelle3[[#This Row],[Jahr\nannée]],SPIELER,4))","v":20},{"$f":"IF(Tabelle3[[#This Row],[Position\nG / D / FC / FW]]=\"G\",VLOOKUP($M$5-Tabelle3[[#This Row],[Jahr\nannée]],GOALI,5),VLOOKUP($M$5-Tabelle3[[#This Row],[Jahr\nannée]],SPIELER,5))","v":15},{"$f":"IF(Tabelle3[[#This Row],[Position\nG / D / FC / FW]]=\"G\",VLOOKUP($M$5-Tabelle3[[#This Row],[Jahr\nannée]],GOALI,6),VLOOKUP($M$5-Tabelle3[[#This Row],[Jahr\nannée]],SPIELER,6))","v":10},{"$f":"IF(Tabelle3[[#This Row],[Position\nG / D / FC / FW]]=\"G\",VLOOKUP($M$5-Tabelle3[[#This Row],[Jahr\nannée]],GOALI,7),VLOOKUP($M$5-Tabelle3[[#This Row],[Jahr\nannée]],SPIELER,7))","v":10},{"$f":"IF(Tabelle3[[#This Row],[Position\nG / D / FC / FW]]=\"G\",VLOOKUP($M$5-Tabelle3[[#This Row],[Jahr\nannée]],GOALI,9),VLOOKUP($M$5-Tabelle3[[#This Row],[Jahr\nannée]],SPIELER,9))","v":15},{"$f":"IF(Tabelle3[[#This Row],[Position\nG / D / FC / FW]]=\"G\",VLOOKUP($M$5-Tabelle3[[#This Row],[Jahr\nannée]],GOALI,8),VLOOKUP($M$5-Tabelle3[[#This Row],[Jahr\nannée]],SPIELER,8))","v":0},{"$f":"IF(Tabelle3[[#This Row],[Position\nG / D / FC / FW]]=\"G\",VLOOKUP($M$5-Tabelle3[[#This Row],[Jahr\nannée]],GOALI,10),VLOOKUP($M$5-Tabelle3[[#This Row],[Jahr\nannée]],SPIELER,10))","v":0},{"$f":"IF(Tabelle3[[#This Row],[Position\nG / D / FC / FW]]=\"G\",VLOOKUP($M$5-Tabelle3[[#This Row],[Jahr\nannée]],GOALI,11),VLOOKUP($M$5-Tabelle3[[#This Row],[Jahr\nannée]],SPIELER,11))","v":10},{"$f":"IF(Tabelle3[[#This Row],[Position\nG / D / FC / FW]]=\"G\",VLOOKUP($M$5-Tabelle3[[#This Row],[Jahr\nannée]],FGOALIE,2),VLOOKUP($M$5-Tabelle3[[#This Row],[Jahr\nannée]],FSPIELER,2))","v":10},{"$f":"IF(Tabelle3[[#This Row],[Position\nG / D / FC / FW]]=\"G\",VLOOKUP($M$5-Tabelle3[[#This Row],[Jahr\nannée]],FGOALIE,3),VLOOKUP($M$5-Tabelle3[[#This Row],[Jahr\nannée]],FSPIELER,3))","v":10},{"$f":"IF(Tabelle3[[#This Row],[Position\nG / D / FC / FW]]=\"G\",VLOOKUP($M$5-Tabelle3[[#This Row],[Jahr\nannée]],FGOALIE,4),VLOOKUP($M$5-Tabelle3[[#This Row],[Jahr\nannée]],FSPIELER,4))","v":20},{"$f":"IF(Tabelle3[[#This Row],[Position\nG / D / FC / FW]]=\"G\",VLOOKUP($M$5-Tabelle3[[#This Row],[Jahr\nannée]],FGOALIE,5),VLOOKUP($M$5-Tabelle3[[#This Row],[Jahr\nannée]],FSPIELER,5))","v":15},{"$f":"IF(Tabelle3[[#This Row],[Position\nG / D / FC / FW]]=\"G\",VLOOKUP($M$5-Tabelle3[[#This Row],[Jahr\nannée]],FGOALIE,6),VLOOKUP($M$5-Tabelle3[[#This Row],[Jahr\nannée]],FSPIELER,6))","v":10},{"$f":"IF(Tabelle3[[#This Row],[Position\nG / D / FC / FW]]=\"G\",VLOOKUP($M$5-Tabelle3[[#This Row],[Jahr\nannée]],FGOALIE,7),VLOOKUP($M$5-Tabelle3[[#This Row],[Jahr\nannée]],FSPIELER,7))","v":10},{"$f":"IF(Tabelle3[[#This Row],[Position\nG / D / FC / FW]]=\"G\",VLOOKUP($M$5-Tabelle3[[#This Row],[Jahr\nannée]],FGOALIE,9),VLOOKUP($M$5-Tabelle3[[#This Row],[Jahr\nannée]],FSPIELER,9))","v":15},{"$f":"IF(Tabelle3[[#This Row],[Position\nG / D / FC / FW]]=\"G\",VLOOKUP($M$5-Tabelle3[[#This Row],[Jahr\nannée]],FGOALIE,8),VLOOKUP($M$5-Tabelle3[[#This Row],[Jahr\nannée]],FSPIELER,8))","v":0},{"$f":"IF(Tabelle3[[#This Row],[Position\nG / D / FC / FW]]=\"G\",VLOOKUP($M$5-Tabelle3[[#This Row],[Jahr\nannée]],FGOALIE,10),VLOOKUP($M$5-Tabelle3[[#This Row],[Jahr\nannée]],FSPIELER,10))","v":0},{"$f":"IF(Tabelle3[[#This Row],[Position\nG / D / FC / FW]]=\"G\",VLOOKUP($M$5-Tabelle3[[#This Row],[Jahr\nannée]],FGOALIE,11),VLOOKUP($M$5-Tabelle3[[#This Row],[Jahr\nannée]],FSPIELER,11))","v":10}]
[27,null,null,"-",null,null,null,null,null,{"$f":"IF(ISBLANK('27'!$H$4),\"-\",'27'!$H$4)","v":"-"},{"$f":"IF(ISBLANK('27'!$H$5),\"-\",'27'!$H$5)","v":"-"},{"$f":"IF(ISBLANK('27'!$H$2),\"-\",'27'!$H$2)","v":"-"},null,null,null,null,null,null,null,{"$f":"'27'!$M$19","v":0},{"$f":"'27'!$M$24","v":0},{"$f":"'27'!$M$30","v":0},{"$f":"'27'!$M$36","v":0},{"$f":"'27'!$M$41","v":0},{"$f":"'27'!$M$46","v":0},{"$f":"'27'!$M$13","v":0},{"$f":"'27'!$AA$2","v":0},{"$f":"'27'!$AA$4","v":0},{"$f":"'27'!$AA$3","v":0},{"$f":"IF(Tabelle3[[#This Row],[SKATING]]=0,\"-\",IF(Tabelle3[[#This Row],[Sex]]=\"M\",SUMPRODUCT(Tabelle3[[#This Row],[SKATING]:[VERANLAGUNG\nPREDISPOSITION]],AJ37:AS37),SUMPRODUCT(Tabelle3[[#This Row],[SKATING]:[VERANLAGUNG\nPREDISPOSITION]],AT37:BC37)))","v":"-"},{"$f":"IFERROR(RANK(Tabelle3[[#This Row],[TOTAL ]],Tabelle3[[TOTAL ]],0),\"-\")","v":"-"},null,null,null,null,{"$f":"IF(Tabelle3[[#This Row],[Position\nG / D / FC / FW]]=\"G\",VLOOKUP($M$5-Tabelle3[[#This Row],[Jahr\nannée]],GOALI,2),VLOOKUP($M$5-Tabelle3[[#This Row],[Jahr\nannée]],SPIELER,2))","v":10},{"$f":"IF(Tabelle3[[#This Row],[Position\nG / D / FC / FW]]=\"G\",VLOOKUP($M$5-Tabelle3[[#This Row],[Jahr\nannée]],GOALI,3),VLOOKUP($M$5-Tabelle3[[#This Row],[Jahr\nannée]],SPIELER,3))","v":10},{"$f":"IF(Tabelle3[[#This Row],[Position\nG / D / FC / FW]]=\"G\",VLOOKUP($M$5-Tabelle3[[#This Row],[Jahr\nannée]],GOALI,4),VLOOKUP($M$5-Tabelle3[[#This Row],[Jahr\nannée]],SPIELER,4))","v":20},{"$f":"IF(Tabelle3[[#This Row],[Position\nG / D / FC / FW]]=\"G\",VLOOKUP($M$5-Tabelle3[[#This Row],[Jahr\nannée]],GOALI,5),VLOOKUP($M$5-Tabelle3[[#This Row],[Jahr\nannée]],SPIELER,5))","v":15},{"$f":"IF(Tabelle3[[#This Row],[Position\nG / D / FC / FW]]=\"G\",VLOOKUP($M$5-Tabelle3[[#This Row],[Jahr\nannée]],GOALI,6),VLOOKUP($M$5-Tabelle3[[#This Row],[Jahr\nannée]],SPIELER,6))","v":10},{"$f":"IF(Tabelle3[[#This Row],[Position\nG / D / FC / FW]]=\"G\",VLOOKUP($M$5-Tabelle3[[#This Row],[Jahr\nannée]],GOALI,7),VLOOKUP($M$5-Tabelle3[[#This Row],[Jahr\nannée]],SPIELER,7))","v":10},{"$f":"IF(Tabelle3[[#This Row],[Position\nG / D / FC / FW]]=\"G\",VLOOKUP($M$5-Tabelle3[[#This Row],[Jahr\nannée]],GOALI,9),VLOOKUP($M$5-Tabelle3[[#This Row],[Jahr\nannée]],SPIELER,9))","v":15},{"$f":"IF(Tabelle3[[#This Row],[Position\nG / D / FC / FW]]=\"G\",VLOOKUP($M$5-Tabelle3[[#This Row],[Jahr\nannée]],GOALI,8),VLOOKUP($M$5-Tabelle3[[#This Row],[Jahr\nannée]],SPIELER,8))","v":0},{"$f":"IF(Tabelle3[[#This Row],[Position\nG / D / FC / FW]]=\"G\",VLOOKUP($M$5-Tabelle3[[#This Row],[Jahr\nannée]],GOALI,10),VLOOKUP($M$5-Tabelle3[[#This Row],[Jahr\nannée]],SPIELER,10))","v":0},{"$f":"IF(Tabelle3[[#This Row],[Position\nG / D / FC / FW]]=\"G\",VLOOKUP($M$5-Tabelle3[[#This Row],[Jahr\nannée]],GOALI,11),VLOOKUP($M$5-Tabelle3[[#This Row],[Jahr\nannée]],SPIELER,11))","v":10},{"$f":"IF(Tabelle3[[#This Row],[Position\nG / D / FC / FW]]=\"G\",VLOOKUP($M$5-Tabelle3[[#This Row],[Jahr\nannée]],FGOALIE,2),VLOOKUP($M$5-Tabelle3[[#This Row],[Jahr\nannée]],FSPIELER,2))","v":10},{"$f":"IF(Tabelle3[[#This Row],[Position\nG / D / FC / FW]]=\"G\",VLOOKUP($M$5-Tabelle3[[#This Row],[Jahr\nannée]],FGOALIE,3),VLOOKUP($M$5-Tabelle3[[#This Row],[Jahr\nannée]],FSPIELER,3))","v":10},{"$f":"IF(Tabelle3[[#This Row],[Position\nG / D / FC / FW]]=\"G\",VLOOKUP($M$5-Tabelle3[[#This Row],[Jahr\nannée]],FGOALIE,4),VLOOKUP($M$5-Tabelle3[[#This Row],[Jahr\nannée]],FSPIELER,4))","v":20},{"$f":"IF(Tabelle3[[#This Row],[Position\nG / D / FC / FW]]=\"G\",VLOOKUP($M$5-Tabelle3[[#This Row],[Jahr\nannée]],FGOALIE,5),VLOOKUP($M$5-Tabelle3[[#This Row],[Jahr\nannée]],FSPIELER,5))","v":15},{"$f":"IF(Tabelle3[[#This Row],[Position\nG / D / FC / FW]]=\"G\",VLOOKUP($M$5-Tabelle3[[#This Row],[Jahr\nannée]],FGOALIE,6),VLOOKUP($M$5-Tabelle3[[#This Row],[Jahr\nannée]],FSPIELER,6))","v":10},{"$f":"IF(Tabelle3[[#This Row],[Position\nG / D / FC / FW]]=\"G\",VLOOKUP($M$5-Tabelle3[[#This Row],[Jahr\nannée]],FGOALIE,7),VLOOKUP($M$5-Tabelle3[[#This Row],[Jahr\nannée]],FSPIELER,7))","v":10},{"$f":"IF(Tabelle3[[#This Row],[Position\nG / D / FC / FW]]=\"G\",VLOOKUP($M$5-Tabelle3[[#This Row],[Jahr\nannée]],FGOALIE,9),VLOOKUP($M$5-Tabelle3[[#This Row],[Jahr\nannée]],FSPIELER,9))","v":15},{"$f":"IF(Tabelle3[[#This Row],[Position\nG / D / FC / FW]]=\"G\",VLOOKUP($M$5-Tabelle3[[#This Row],[Jahr\nannée]],FGOALIE,8),VLOOKUP($M$5-Tabelle3[[#This Row],[Jahr\nannée]],FSPIELER,8))","v":0},{"$f":"IF(Tabelle3[[#This Row],[Position\nG / D / FC / FW]]=\"G\",VLOOKUP($M$5-Tabelle3[[#This Row],[Jahr\nannée]],FGOALIE,10),VLOOKUP($M$5-Tabelle3[[#This Row],[Jahr\nannée]],FSPIELER,10))","v":0},{"$f":"IF(Tabelle3[[#This Row],[Position\nG / D / FC / FW]]=\"G\",VLOOKUP($M$5-Tabelle3[[#This Row],[Jahr\nannée]],FGOALIE,11),VLOOKUP($M$5-Tabelle3[[#This Row],[Jahr\nannée]],FSPIELER,11))","v":10}]
[28,null,null,"-",null,null,null,null,null,{"$f":"IF(ISBLANK('28'!$H$4),\"-\",'28'!$H$4)","v":"-"},{"$f":"IF(ISBLANK('28'!$H$5),\"-\",'28'!$H$5)","v":"-"},{"$f":"IF(ISBLANK('28'!$H$2),\"-\",'28'!$H$2)","v":"-"},null,null,null,null,null,null,null,{"$f":"'28'!$M$19","v":0},{"$f":"'28'!$M$24","v":0},{"$f":"'28'!$M$30","v":0},{"$f":"'28'!$M$36","v":0},{"$f":"'28'!$M$41","v":0},{"$f":"'28'!$M$46","v":0},{"$f":"'28'!$M$13","v":0},{"$f":"'28'!$AA$2","v":0},{"$f":"'28'!$AA$4","v":0},{"$f":"'28'!$AA$3","v":0},{"$f":"IF(Tabelle3[[#This Row],[SKATING]]=0,\"-\",IF(Tabelle3[[#This Row],[Sex]]=\"M\",SUMPRODUCT(Tabelle3[[#This Row],[SKATING]:[VERANLAGUNG\nPREDISPOSITION]],AJ38:AS38),SUMPRODUCT(Tabelle3[[#This Row],[SKATING]:[VERANLAGUNG\nPREDISPOSITION]],AT38:BC38)))","v":"-"},{"$f":"IFERROR(RANK(Tabelle3[[#This Row],[TOTAL ]],Tabelle3[[TOTAL ]],0),\"-\")","v":"-"},null,null,null,null,{"$f":"IF(Tabelle3[[#This Row],[Position\nG / D / FC / FW]]=\"G\",VLOOKUP($M$5-Tabelle3[[#This Row],[Jahr\nannée]],GOALI,2),VLOOKUP($M$5-Tabelle3[[#This Row],[Jahr\nannée]],SPIELER,2))","v":10},{"$f":"IF(Tabelle3[[#This Row],[Position\nG / D / FC / FW]]=\"G\",VLOOKUP($M$5-Tabelle3[[#This Row],[Jahr\nannée]],GOALI,3),VLOOKUP($M$5-Tabelle3[[#This Row],[Jahr\nannée]],SPIELER,3))","v":10},{"$f":"IF(Tabelle3[[#This Row],[Position\nG / D / FC / FW]]=\"G\",VLOOKUP($M$5-Tabelle3[[#This Row],[Jahr\nannée]],GOALI,4),VLOOKUP($M$5-Tabelle3[[#This Row],[Jahr\nannée]],SPIELER,4))","v":20},{"$f":"IF(Tabelle3[[#This Row],[Position\nG / D / FC / FW]]=\"G\",VLOOKUP($M$5-Tabelle3[[#This Row],[Jahr\nannée]],GOALI,5),VLOOKUP($M$5-Tabelle3[[#This Row],[Jahr\nannée]],SPIELER,5))","v":15},{"$f":"IF(Tabelle3[[#This Row],[Position\nG / D / FC / FW]]=\"G\",VLOOKUP($M$5-Tabelle3[[#This Row],[Jahr\nannée]],GOALI,6),VLOOKUP($M$5-Tabelle3[[#This Row],[Jahr\nannée]],SPIELER,6))","v":10},{"$f":"IF(Tabelle3[[#This Row],[Position\nG / D / FC / FW]]=\"G\",VLOOKUP($M$5-Tabelle3[[#This Row],[Jahr\nannée]],GOALI,7),VLOOKUP($M$5-Tabelle3[[#This Row],[Jahr\nannée]],SPIELER,7))","v":10},{"$f":"IF(Tabelle3[[#This Row],[Position\nG / D / FC / FW]]=\"G\",VLOOKUP($M$5-Tabelle3[[#This Row],[Jahr\nannée]],GOALI,9),VLOOKUP($M$5-Tabelle3[[#This Row],[Jahr\nannée]],SPIELER,9))","v":15},{"$f":"IF(Tabelle3[[#This Row],[Position\nG / D / FC / FW]]=\"G\",VLOOKUP($M$5-Tabelle3[[#This Row],[Jahr\nannée]],GOALI,8),VLOOKUP($M$5-Tabelle3[[#This Row],[Jahr\nannée]],SPIELER,8))","v":0},{"$f":"IF(Tabelle3[[#This Row],[Position\nG / D / FC / FW]]=\"G\",VLOOKUP($M$5-Tabelle3[[#This Row],[Jahr\nannée]],GOALI,10),VLOOKUP($M$5-Tabelle3[[#This Row],[Jahr\nannée]],SPIELER,10))","v":0},{"$f":"IF(Tabelle3[[#This Row],[Position\nG / D / FC / FW]]=\"G\",VLOOKUP($M$5-Tabelle3[[#This Row],[Jahr\nannée]],GOALI,11),VLOOKUP($M$5-Tabelle3[[#This Row],[Jahr\nannée]],SPIELER,11))","v":10},{"$f":"IF(Tabelle3[[#This Row],[Position\nG / D / FC / FW]]=\"G\",VLOOKUP($M$5-Tabelle3[[#This Row],[Jahr\nannée]],FGOALIE,2),VLOOKUP($M$5-Tabelle3[[#This Row],[Jahr\nannée]],FSPIELER,2))","v":10},{"$f":"IF(Tabelle3[[#This Row],[Position\nG / D / FC / FW]]=\"G\",VLOOKUP($M$5-Tabelle3[[#This Row],[Jahr\nannée]],FGOALIE,3),VLOOKUP($M$5-Tabelle3[[#This Row],[Jahr\nannée]],FSPIELER,3))","v":10},{"$f":"IF(Tabelle3[[#This Row],[Position\nG / D / FC / FW]]=\"G\",VLOOKUP($M$5-Tabelle3[[#This Row],[Jahr\nannée]],FGOALIE,4),VLOOKUP($M$5-Tabelle3[[#This Row],[Jahr\nannée]],FSPIELER,4))","v":20},{"$f":"IF(Tabelle3[[#This Row],[Position\nG / D / FC / FW]]=\"G\",VLOOKUP($M$5-Tabelle3[[#This Row],[Jahr\nannée]],FGOALIE,5),VLOOKUP($M$5-Tabelle3[[#This Row],[Jahr\nannée]],FSPIELER,5))","v":15},{"$f":"IF(Tabelle3[[#This Row],[Position\nG / D / FC / FW]]=\"G\",VLOOKUP($M$5-Tabelle3[[#This Row],[Jahr\nannée]],FGOALIE,6),VLOOKUP($M$5-Tabelle3[[#This Row],[Jahr\nannée]],FSPIELER,6))","v":10},{"$f":"IF(Tabelle3[[#This Row],[Position\nG / D / FC / FW]]=\"G\",VLOOKUP($M$5-Tabelle3[[#This Row],[Jahr\nannée]],FGOALIE,7),VLOOKUP($M$5-Tabelle3[[#This Row],[Jahr\nannée]],FSPIELER,7))","v":10},{"$f":"IF(Tabelle3[[#This Row],[Position\nG / D / FC / FW]]=\"G\",VLOOKUP($M$5-Tabelle3[[#This Row],[Jahr\nannée]],FGOALIE,9),VLOOKUP($M$5-Tabelle3[[#This Row],[Jahr\nannée]],FSPIELER,9))","v":15},{"$f":"IF(Tabelle3[[#This Row],[Position\nG / D / FC / FW]]=\"G\",VLOOKUP($M$5-Tabelle3[[#This Row],[Jahr\nannée]],FGOALIE,8),VLOOKUP($M$5-Tabelle3[[#This Row],[Jahr\nannée]],FSPIELER,8))","v":0},{"$f":"IF(Tabelle3[[#This Row],[Position\nG / D / FC / FW]]=\"G\",VLOOKUP($M$5-Tabelle3[[#This Row],[Jahr\nannée]],FGOALIE,10),VLOOKUP($M$5-Tabelle3[[#This Row],[Jahr\nannée]],FSPIELER,10))","v":0},{"$f":"IF(Tabelle3[[#This Row],[Position\nG / D / FC / FW]]=\"G\",VLOOKUP($M$5-Tabelle3[[#This Row],[Jahr\nannée]],FGOALIE,11),VLOOKUP($M$5-Tabelle3[[#This Row],[Jahr\nannée]],FSPIELER,11))","v":10}]
[29,null,null,"-",null,null,null,null,null,{"$f":"IF(ISBLANK('29'!$H$4),\"-\",'29'!$H$4)","v":"-"},{"$f":"IF(ISBLANK('29'!$H$5),\"-\",'29'!$H$5)","v":"-"},{"$f":"IF(ISBLANK('29'!$H$2),\"-\",'29'!$H$2)","v":"-"},null,null,null,null,null,null,null,{"$f":"'29'!$M$19","v":0},{"$f":"'29'!$M$24","v":0},{"$f":"'29'!$M$30","v":0},{"$f":"'29'!$M$36","v":0},{"$f":"'29'!$M$41","v":0},{"$f":"'29'!$M$46","v":0},{"$f":"'29'!$M$13","v":0},{"$f":"'29'!$AA$2","v":0},{"$f":"'29'!$AA$4","v":0},{"$f":"'29'!$AA$3","v":0},{"$f":"IF(Tabelle3[[#This Row],[SKATING]]=0,\"-\",IF(Tabelle3[[#This Row],[Sex]]=\"M\",SUMPRODUCT(Tabelle3[[#This Row],[SKATING]:[VERANLAGUNG\nPREDISPOSITION]],AJ39:AS39),SUMPRODUCT(Tabelle3[[#This Row],[SKATING]:[VERANLAGUNG\nPREDISPOSITION]],AT39:BC39)))","v":"-"},{"$f":"IFERROR(RANK(Tabelle3[[#This Row],[TOTAL ]],Tabelle3[[TOTAL ]],0),\"-\")","v":"-"},null,null,null,null,{"$f":"IF(Tabelle3[[#This Row],[Position\nG / D / FC / FW]]=\"G\",VLOOKUP($M$5-Tabelle3[[#This Row],[Jahr\nannée]],GOALI,2),VLOOKUP($M$5-Tabelle3[[#This Row],[Jahr\nannée]],SPIELER,2))","v":10},{"$f":"IF(Tabelle3[[#This Row],[Position\nG / D / FC / FW]]=\"G\",VLOOKUP($M$5-Tabelle3[[#This Row],[Jahr\nannée]],GOALI,3),VLOOKUP($M$5-Tabelle3[[#This Row],[Jahr\nannée]],SPIELER,3))","v":10},{"$f":"IF(Tabelle3[[#This Row],[Position\nG / D / FC / FW]]=\"G\",VLOOKUP($M$5-Tabelle3[[#This Row],[Jahr\nannée]],GOALI,4),VLOOKUP($M$5-Tabelle3[[#This Row],[Jahr\nannée]],SPIELER,4))","v":20},{"$f":"IF(Tabelle3[[#This Row],[Position\nG / D / FC / FW]]=\"G\",VLOOKUP($M$5-Tabelle3[[#This Row],[Jahr\nannée]],GOALI,5),VLOOKUP($M$5-Tabelle3[[#This Row],[Jahr\nannée]],SPIELER,5))","v":15},{"$f":"IF(Tabelle3[[#This Row],[Position\nG / D / FC / FW]]=\"G\",VLOOKUP($M$5-Tabelle3[[#This Row],[Jahr\nannée]],GOALI,6),VLOOKUP($M$5-Tabelle3[[#This Row],[Jahr\nannée]],SPIELER,6))","v":10},{"$f":"IF(Tabelle3[[#This Row],[Position\nG / D / FC / FW]]=\"G\",VLOOKUP($M$5-Tabelle3[[#This Row],[Jahr\nannée]],GOALI,7),VLOOKUP($M$5-Tabelle3[[#This Row],[Jahr\nannée]],SPIELER,7))","v":10},{"$f":"IF(Tabelle3[[#This Row],[Position\nG / D / FC / FW]]=\"G\",VLOOKUP($M$5-Tabelle3[[#This Row],[Jahr\nannée]],GOALI,9),VLOOKUP($M$5-Tabelle3[[#This Row],[Jahr\nannée]],SPIELER,9))","v":15},{"$f":"IF(Tabelle3[[#This Row],[Position\nG / D / FC / FW]]=\"G\",VLOOKUP($M$5-Tabelle3[[#This Row],[Jahr\nannée]],GOALI,8),VLOOKUP($M$5-Tabelle3[[#This Row],[Jahr\nannée]],SPIELER,8))","v":0},{"$f":"IF(Tabelle3[[#This Row],[Position\nG / D / FC / FW]]=\"G\",VLOOKUP($M$5-Tabelle3[[#This Row],[Jahr\nannée]],GOALI,10),VLOOKUP($M$5-Tabelle3[[#This Row],[Jahr\nannée]],SPIELER,10))","v":0},{"$f":"IF(Tabelle3[[#This Row],[Position\nG / D / FC / FW]]=\"G\",VLOOKUP($M$5-Tabelle3[[#This Row],[Jahr\nannée]],GOALI,11),VLOOKUP($M$5-Tabelle3[[#This Row],[Jahr\nannée]],SPIELER,11))","v":10},{"$f":"IF(Tabelle3[[#This Row],[Position\nG / D / FC / FW]]=\"G\",VLOOKUP($M$5-Tabelle3[[#This Row],[Jahr\nannée]],FGOALIE,2),VLOOKUP($M$5-Tabelle3[[#This Row],[Jahr\nannée]],FSPIELER,2))","v":10},{"$f":"IF(Tabelle3[[#This Row],[Position\nG / D / FC / FW]]=\"G\",VLOOKUP($M$5-Tabelle3[[#This Row],[Jahr\nannée]],FGOALIE,3),VLOOKUP($M$5-Tabelle3[[#This Row],[Jahr\nannée]],FSPIELER,3))","v":10},{"$f":"IF(Tabelle3[[#This Row],[Position\nG / D / FC / FW]]=\"G\",VLOOKUP($M$5-Tabelle3[[#This Row],[Jahr\nannée]],FGOALIE,4),VLOOKUP($M$5-Tabelle3[[#This Row],[Jahr\nannée]],FSPIELER,4))","v":20},{"$f":"IF(Tabelle3[[#This Row],[Position\nG / D / FC / FW]]=\"G\",VLOOKUP($M$5-Tabelle3[[#This Row],[Jahr\nannée]],FGOALIE,5),VLOOKUP($M$5-Tabelle3[[#This Row],[Jahr\nannée]],FSPIELER,5))","v":15},{"$f":"IF(Tabelle3[[#This Row],[Position\nG / D / FC / FW]]=\"G\",VLOOKUP($M$5-Tabelle3[[#This Row],[Jahr\nannée]],FGOALIE,6),VLOOKUP($M$5-Tabelle3[[#This Row],[Jahr\nannée]],FSPIELER,6))","v":10},{"$f":"IF(Tabelle3[[#This Row],[Position\nG / D / FC / FW]]=\"G\",VLOOKUP($M$5-Tabelle3[[#This Row],[Jahr\nannée]],FGOALIE,7),VLOOKUP($M$5-Tabelle3[[#This Row],[Jahr\nannée]],FSPIELER,7))","v":10},{"$f":"IF(Tabelle3[[#This Row],[Position\nG / D / FC / FW]]=\"G\",VLOOKUP($M$5-Tabelle3[[#This Row],[Jahr\nannée]],FGOALIE,9),VLOOKUP($M$5-Tabelle3[[#This Row],[Jahr\nannée]],FSPIELER,9))","v":15},{"$f":"IF(Tabelle3[[#This Row],[Position\nG / D / FC / FW]]=\"G\",VLOOKUP($M$5-Tabelle3[[#This Row],[Jahr\nannée]],FGOALIE,8),VLOOKUP($M$5-Tabelle3[[#This Row],[Jahr\nannée]],FSPIELER,8))","v":0},{"$f":"IF(Tabelle3[[#This Row],[Position\nG / D / FC / FW]]=\"G\",VLOOKUP($M$5-Tabelle3[[#This Row],[Jahr\nannée]],FGOALIE,10),VLOOKUP($M$5-Tabelle3[[#This Row],[Jahr\nannée]],FSPIELER,10))","v":0},{"$f":"IF(Tabelle3[[#This Row],[Position\nG / D / FC / FW]]=\"G\",VLOOKUP($M$5-Tabelle3[[#This Row],[Jahr\nannée]],FGOALIE,11),VLOOKUP($M$5-Tabelle3[[#This Row],[Jahr\nannée]],FSPIELER,11))","v":10}]
[30,null,null,"-",null,null,null,null,null,{"$f":"IF(ISBLANK('30'!$H$4),\"-\",'30'!$H$4)","v":"-"},{"$f":"IF(ISBLANK('30'!$H$5),\"-\",'30'!$H$5)","v":"-"},{"$f":"IF(ISBLANK('30'!$H$2),\"-\",'30'!$H$2)","v":"-"},null,null,null,null,null,null,null,{"$f":"'30'!$M$19","v":0},{"$f":"'30'!$M$24","v":0},{"$f":"'30'!$M$30","v":0},{"$f":"'30'!$M$36","v":0},{"$f":"'30'!$M$41","v":0},{"$f":"'30'!$M$46","v":0},{"$f":"'30'!$M$13","v":0},{"$f":"'30'!$AA$2","v":0},{"$f":"'30'!$AA$4","v":0},{"$f":"'30'!$AA$3","v":0},{"$f":"IF(Tabelle3[[#This Row],[SKATING]]=0,\"-\",IF(Tabelle3[[#This Row],[Sex]]=\"M\",SUMPRODUCT(Tabelle3[[#This Row],[SKATING]:[VERANLAGUNG\nPREDISPOSITION]],AJ40:AS40),SUMPRODUCT(Tabelle3[[#This Row],[SKATING]:[VERANLAGUNG\nPREDISPOSITION]],AT40:BC40)))","v":"-"},{"$f":"IFERROR(RANK(Tabelle3[[#This Row],[TOTAL ]],Tabelle3[[TOTAL ]],0),\"-\")","v":"-"},null,null,null,null,{"$f":"IF(Tabelle3[[#This Row],[Position\nG / D / FC / FW]]=\"G\",VLOOKUP($M$5-Tabelle3[[#This Row],[Jahr\nannée]],GOALI,2),VLOOKUP($M$5-Tabelle3[[#This Row],[Jahr\nannée]],SPIELER,2))","v":10},{"$f":"IF(Tabelle3[[#This Row],[Position\nG / D / FC / FW]]=\"G\",VLOOKUP($M$5-Tabelle3[[#This Row],[Jahr\nannée]],GOALI,3),VLOOKUP($M$5-Tabelle3[[#This Row],[Jahr\nannée]],SPIELER,3))","v":10},{"$f":"IF(Tabelle3[[#This Row],[Position\nG / D / FC / FW]]=\"G\",VLOOKUP($M$5-Tabelle3[[#This Row],[Jahr\nannée]],GOALI,4),VLOOKUP($M$5-Tabelle3[[#This Row],[Jahr\nannée]],SPIELER,4))","v":20},{"$f":"IF(Tabelle3[[#This Row],[Position\nG / D / FC / FW]]=\"G\",VLOOKUP($M$5-Tabelle3[[#This Row],[Jahr\nannée]],GOALI,5),VLOOKUP($M$5-Tabelle3[[#This Row],[Jahr\nannée]],SPIELER,5))","v":15},{"$f":"IF(Tabelle3[[#This Row],[Position\nG / D / FC / FW]]=\"G\",VLOOKUP($M$5-Tabelle3[[#This Row],[Jahr\nannée]],GOALI,6),VLOOKUP($M$5-Tabelle3[[#This Row],[Jahr\nannée]],SPIELER,6))","v":10},{"$f":"IF(Tabelle3[[#This Row],[Position\nG / D / FC / FW]]=\"G\",VLOOKUP($M$5-Tabelle3[[#This Row],[Jahr\nannée]],GOALI,7),VLOOKUP($M$5-Tabelle3[[#This Row],[Jahr\nannée]],SPIELER,7))","v":10},{"$f":"IF(Tabelle3[[#This Row],[Position\nG / D / FC / FW]]=\"G\",VLOOKUP($M$5-Tabelle3[[#This Row],[Jahr\nannée]],GOALI,9),VLOOKUP($M$5-Tabelle3[[#This Row],[Jahr\nannée]],SPIELER,9))","v":15},{"$f":"IF(Tabelle3[[#This Row],[Position\nG / D / FC / FW]]=\"G\",VLOOKUP($M$5-Tabelle3[[#This Row],[Jahr\nannée]],GOALI,8),VLOOKUP($M$5-Tabelle3[[#This Row],[Jahr\nannée]],SPIELER,8))","v":0},{"$f":"IF(Tabelle3[[#This Row],[Position\nG / D / FC / FW]]=\"G\",VLOOKUP($M$5-Tabelle3[[#This Row],[Jahr\nannée]],GOALI,10),VLOOKUP($M$5-Tabelle3[[#This Row],[Jahr\nannée]],SPIELER,10))","v":0},{"$f":"IF(Tabelle3[[#This Row],[Position\nG / D / FC / FW]]=\"G\",VLOOKUP($M$5-Tabelle3[[#This Row],[Jahr\nannée]],GOALI,11),VLOOKUP($M$5-Tabelle3[[#This Row],[Jahr\nannée]],SPIELER,11))","v":10},{"$f":"IF(Tabelle3[[#This Row],[Position\nG / D / FC / FW]]=\"G\",VLOOKUP($M$5-Tabelle3[[#This Row],[Jahr\nannée]],FGOALIE,2),VLOOKUP($M$5-Tabelle3[[#This Row],[Jahr\nannée]],FSPIELER,2))","v":10},{"$f":"IF(Tabelle3[[#This Row],[Position\nG / D / FC / FW]]=\"G\",VLOOKUP($M$5-Tabelle3[[#This Row],[Jahr\nannée]],FGOALIE,3),VLOOKUP($M$5-Tabelle3[[#This Row],[Jahr\nannée]],FSPIELER,3))","v":10},{"$f":"IF(Tabelle3[[#This Row],[Position\nG / D / FC / FW]]=\"G\",VLOOKUP($M$5-Tabelle3[[#This Row],[Jahr\nannée]],FGOALIE,4),VLOOKUP($M$5-Tabelle3[[#This Row],[Jahr\nannée]],FSPIELER,4))","v":20},{"$f":"IF(Tabelle3[[#This Row],[Position\nG / D / FC / FW]]=\"G\",VLOOKUP($M$5-Tabelle3[[#This Row],[Jahr\nannée]],FGOALIE,5),VLOOKUP($M$5-Tabelle3[[#This Row],[Jahr\nannée]],FSPIELER,5))","v":15},{"$f":"IF(Tabelle3[[#This Row],[Position\nG / D / FC / FW]]=\"G\",VLOOKUP($M$5-Tabelle3[[#This Row],[Jahr\nannée]],FGOALIE,6),VLOOKUP($M$5-Tabelle3[[#This Row],[Jahr\nannée]],FSPIELER,6))","v":10},{"$f":"IF(Tabelle3[[#This Row],[Position\nG / D / FC / FW]]=\"G\",VLOOKUP($M$5-Tabelle3[[#This Row],[Jahr\nannée]],FGOALIE,7),VLOOKUP($M$5-Tabelle3[[#This Row],[Jahr\nannée]],FSPIELER,7))","v":10},{"$f":"IF(Tabelle3[[#This Row],[Position\nG / D / FC / FW]]=\"G\",VLOOKUP($M$5-Tabelle3[[#This Row],[Jahr\nannée]],FGOALIE,9),VLOOKUP($M$5-Tabelle3[[#This Row],[Jahr\nannée]],FSPIELER,9))","v":15},{"$f":"IF(Tabelle3[[#This Row],[Position\nG / D / FC / FW]]=\"G\",VLOOKUP($M$5-Tabelle3[[#This Row],[Jahr\nannée]],FGOALIE,8),VLOOKUP($M$5-Tabelle3[[#This Row],[Jahr\nannée]],FSPIELER,8))","v":0},{"$f":"IF(Tabelle3[[#This Row],[Position\nG / D / FC / FW]]=\"G\",VLOOKUP($M$5-Tabelle3[[#This Row],[Jahr\nannée]],FGOALIE,10),VLOOKUP($M$5-Tabelle3[[#This Row],[Jahr\nannée]],FSPIELER,10))","v":0},{"$f":"IF(Tabelle3[[#This Row],[Position\nG / D / FC / FW]]=\"G\",VLOOKUP($M$5-Tabelle3[[#This Row],[Jahr\nannée]],FGOALIE,11),VLOOKUP($M$5-Tabelle3[[#This Row],[Jahr\nannée]],FSPIELER,11))","v":10}]

{"sheet":"1","index":4,"n_rows":50,"n_cols":36,"rows_kept":50,"cut":false,"hidden":false,"merged":[[11,13,11,14],[11,15,11,16],[36,3,36,5],[36,6,36,11],[43,3,43,5],[40,0,44,2],[40,3,40,5],[39,6,39,11],[39,3,39,5],[24,6,24,11],[28,3,28,5],[28,6,28,11],[12,12,16,12],[18,12,22,12],[35,0,39,2],[12,3,12,5],[12,6,12,11],[35,12,39,12],[23,13,28,13],[18,13,22,13],[11,6,11,11],[43,6,43,11],[40,13,44,13],[40,12,44,12],[10,25,10,35],[45,13,49,13],[45,15,49,15],[45,17,49,17],[45,19,49,19],[45,21,49,21],[45,25,49,25],[45,26,49,32],[45,34,49,34],[11,17,11,18],[12,25,16,25],[40,21,44,21],[40,23,44,23],[40,19,44,19],[29,17,33,17],[29,19,33,19],[29,21,33,21],[29,23,33,23],[23,19,28,19],[23,21,28,21],[23,23,28,23],[23,17,28,17],[40,15,44,15],[35,15,39,15],[6,0,6,1],[2,2,2,5],[4,2,4,5],[18,3,18,5],[18,6,18,11],[4,0,4,1],[2,0,2,1],[3,0,3,1],[11,0,11,2],[12,0,16,2],[17,0,17,2],[18,0,22,2],[8,0,8,1],[20,3,20,5],[20,6,20,11],[22,3,22,5],[22,6,22,11],[19,6,19,11],[17,3,17,5],[17,6,17,11],[16,3,16,5],[16,6,16,11],[8,2,8,35],[10,0,10,24],[1,0,1,1],[7,0,7,1],[1,2,1,5],[11,26,11,32],[12,13,16,13],[29,6,29,11],[31,3,31,5],[34,3,34,5],[34,6,34,11],[23,12,28,12],[29,12,33,12],[30,3,30,5],[33,3,33,5],[33,6,33,11],[29,3,29,5],[24,3,24,5],[31,6,31,11],[30,6,30,11],[11,3,11,5],[29,0,33,2],[34,0,34,2],[23,6,23,11],[23,0,28,2],[7,2,7,35],[17,21,17,22],[17,23,17,24],[35,13,39,13],[29,15,33,15],[23,3,23,5],[35,6,35,11],[35,23,39,23],[18,15,22,15],[18,17,22,17],[18,19,22,19],[18,21,22,21],[18,23,22,23],[25,3,25,5],[25,6,25,11],[38,3,38,5],[38,6,38,11],[19,3,19,5],[35,21,39,21],[35,3,35,5],[35,19,39,19],[27,3,27,5],[27,6,27,11],[32,3,32,5],[32,6,32,11],[1,10,1,24],[2,11,2,24],[3,10,3,24],[4,10,4,24],[34,13,34,14],[34,15,34,16],[34,17,34,18],[34,19,34,20],[34,21,34,22],[34,23,34,24],[17,13,17,14],[17,15,17,16],[17,17,17,18],[29,13,33,13],[12,15,16,15],[12,17,16,17],[12,19,16,19],[12,21,16,21],[12,23,16,23],[11,19,11,20],[11,21,11,22],[6,2,6,35],[11,23,11,24],[23,15,28,15],[0,0,0,24],[0,25,0,26],[0,27,0,32],[0,33,0,35],[35,34,39,34],[40,25,44,25],[40,26,44,32],[40,34,44,34],[12,34,16,34],[18,25,22,25],[18,26,22,32],[18,34,22,34],[23,25,28,25],[23,26,28,32],[23,34,28,34],[29,25,33,25],[29,26,33,32],[29,34,33,34],[35,26,39,32],[34,26,34,32],[17,26,17,32],[12,26,16,32],[40,17,44,17],[35,25,39,25],[45,0,49,2],[45,3,45,5],[45,6,45,11],[45,12,49,12],[45,23,49,23],[47,3,47,5],[47,6,47,11],[48,3,48,5],[48,6,48,11],[49,3,49,5],[49,6,49,11],[13,3,13,5],[13,6,13,11],[14,3,14,5],[14,6,14,11],[15,3,15,5],[15,6,15,11],[21,3,21,5],[21,6,21,11],[26,3,26,5],[26,6,26,11],[37,3,37,5],[37,6,37,11],[17,19,17,20],[41,6,41,11],[46,3,46,5],[46,6,46,11],[40,6,40,11],[42,3,42,5],[42,6,42,11],[44,3,44,5],[44,6,44,11],[35,17,39,17],[41,3,41,5]]}
["Infos personelles",null,null,null,null,null,null,null,null,null,null,null,null,null,null,null,null,null,null,null,null,null,null,null,null,"Predispositions",null,"Evaluations",null,null,null,null,null,"Rating"]
["PRENOM",null,{"$f":"IF(ISBLANK(VLOOKUP(1,Tabelle3[],3,0)),\"-\",VLOOKUP(1,Tabelle3[],3,0))","v":"xxx"},null,null,null,"POSITION",null,null,"ADRESSE",{"$f":"IF(ISBLANK(VLOOKUP(1,Tabelle3[],5,0)),\"-\",VLOOKUP(1,Tabelle3[],5,0))","v":"xxx"},null,null,null,null,null,null,null,null,null,null,null,null,null,null,"\"àage\" (Biologique/age relatif)",null,"Date 1",null,null,"cm",null,"Kg",null,"EXCELLENT",5]
["NOM",null,{"$f":"IF(ISBLANK(VLOOKUP(1,Tabelle3[],2,0)),\"-\",VLOOKUP(1,Tabelle3[],2,0))","v":"xxx"},null,null,null,"CANNE",null,null,"LIEU",{"$f":"IF(ISBLANK(VLOOKUP(1,Tabelle3[],7,0)),\"-\",VLOOKUP(1,Tabelle3[],7,0))","v":"xxxx"},{"$f":"IF(ISBLANK(VLOOKUP(1,Tabelle3[],6,0)),\"-\",VLOOKUP(1,Tabelle3[],6,0))","v":"xxx"},null,null,null,null,null,null,null,null,null,null,null,null,null,"predispositions",null,"Date 2",null,null,"cm",null,"Kg",null,"BON",4]
["DATE NAISS.",null,{"$f":"IF(ISBLANK(VLOOKUP(1,Tabelle3[],14,0)),\"-\",VLOOKUP(1,Tabelle3[],14,0))","v":"xx"},{"$f":"IF(ISBLANK(VLOOKUP(1,Tabelle3[],15,0)),\"-\",VLOOKUP(1,Tabelle3[],15,0))","v":"xx"},{"$f":"IF(ISBLANK(VLOOKUP(1,Tabelle3[],16,0)),\"-\",VLOOKUP(1,Tabelle3[],16,0))","v":"-"},null,"GRANDEUR",null,"cm (Final)","PHONE",{"$f":"IF(ISBLANK(VLOOKUP(1,Tabelle3[],8,0)),\"-\",VLOOKUP(1,Tabelle3[],8,0))","v":"xxx xxx xx xx"},null,null,null,null,null,null,null,null,null,null,null,null,null,null,"Entourage",null,"Date 3",null,null,"cm",null,"Kg",null,"MOYEN",3]
["SEXE",null,{"$f":"IF(ISBLANK(VLOOKUP(1,Tabelle3[],13,0)),\"-\",VLOOKUP(1,Tabelle3[],13,0))","v":"M"},null,null,null,"POIDS",null,"Kg (Final)","E-Mail",{"$f":"IF(ISBLANK(VLOOKUP(1,Tabelle3[],9,0)),\"-\",VLOOKUP(1,Tabelle3[],9,0))","v":"-"},null,null,null,null,null,null,null,null,null,null,null,null,null,null,null,null,"Date 4",null,null,"cm",null,"Kg",null,"MANQUES",2]
[null,null,null,null,null,null,null,null,null,null,null,null,null,null,null,null,null,null,null,null,null,null,null,null,null,null,null,"Date 5",null,null,"cm",null,"Kg",null,"INSUFFISANT",1]
["Vision",null,"xxx"]
["Next step",null,"xxx"]
["Profil du Joueur",null,"xxx"]
[]
["EVALUATION (COACH / JOUEUR)",null,null,null,null,null,null,null,null,null,null,null,null,null,null,null,null,null,null,null,null,null,null,null,null,"SMART"]
[{"$f":"'Skills explications FTEM'!A3:A3","v":"TEAM"},null,null,{"$f":"'Skills explications FTEM'!B3","v":"COMPÉTENCES"},null,null,{"$f":"'Skills explications FTEM'!C3","v":"OBSERVATION"},null,null,{"$f":"'Skills explications FTEM'!H3","v":0},null,null,"Final","Date1",null,"Date2",null,"Date3",null,"Date4",null,"Date5",null,"Player",null,"BUT","MESURES:\nSPECIFIQUE, MESURABLES, REALISTE",null,null,null,null,null,null,"DELAI","CONTRÔLE DU BUT","Date"]
[{"$f":"'Skills explications FTEM'!A4:A4","v":"ÉQUIPE"},null,null,{"$f":"IF($H$2=\"G\",'Skills explications FTEM'!F4,'Skills explications FTEM'!B4)","v":"Communication"},null,null,{"$f":"IF($H$2=\"G\",'Skills explications FTEM'!G4,'Skills explications FTEM'!C4)","v":"Respect et ouverture dans ses relations, confiance comme base, traite les conflits sans perturber la stabilité du groupe, communique avec ses coéquipiers, les entraîneurs et les fonctionnaires avec les mêmes valeurs"},null,null,{"$f":"IF($H$2=\"G\",'Skills explications FTEM'!#REF!,'Skills explications FTEM'!#REF!)","v":{"$error":"#REF!"}},null,null,null,{"$f":"IFERROR(AVERAGE(O13:O17),\"-\")","v":"-"},null,{"$f":"IFERROR(AVERAGE(Q13:Q17),\"-\")","v":"-"},null,{"$f":"IFERROR(AVERAGE(S13:S17),\"-\")","v":"-"},null,{"$f":"IFERROR(AVERAGE(U13:U17),\"-\")","v":"-"},null,{"$f":"IFERROR(AVERAGE(W13:W17),\"-\")","v":"-"},null,{"$f":"IFERROR(AVERAGE(Y13:Y17),\"-\")","v":"-"}]
[null,null,null,{"$f":"IF($H$2=\"G\",'Skills explications FTEM'!F5,'Skills explications FTEM'!B5)","v":"Capacité de jouer en équipe"},null,null,{"$f":"IF($H$2=\"G\",'Skills explications FTEM'!G5,'Skills explications FTEM'!C5)","v":"Intégration dans le groupe, définit et réalise des objectifs communs, NOUS avant le MOI, participe au bon esprit d'équipe et à un bon climat de travail"},null,null,{"$f":"IF($H$2=\"G\",'Skills explications FTEM'!#REF!,'Skills explications FTEM'!#REF!)","v":{"$error":"#REF!"}}]
[null,null,null,{"$f":"IF($H$2=\"G\",'Skills explications FTEM'!F6,'Skills explications FTEM'!B6)","v":"Leadership"},null,null,{"$f":"IF($H$2=\"G\",'Skills explications FTEM'!G6,'Skills explications FTEM'!C6)","v":"Prend des responsabilités dans le groupe, essaie de donner de la valeur à ses coéquipiers et au groupe, influence positivement la dynamique de groupe"},null,null,{"$f":"IF($H$2=\"G\",'Skills explications FTEM'!#REF!,'Skills explications FTEM'!#REF!)","v":{"$error":"#REF!"}}]
[null,null,null,{"$f":"IF($H$2=\"G\",'Skills explications FTEM'!F7,'Skills explications FTEM'!B7)","v":"Répartition des rôles"},null,null,{"$f":"IF($H$2=\"G\",'Skills explications FTEM'!G7,'Skills explications FTEM'!C7)","v":"Connaît son rôle et le réalise, est conscient de sa position dans l'équipe et le système, met ses compétences à disposition de l'équipe"},null,null,{"$f":"IF($H$2=\"G\",'Skills explications FTEM'!#REF!,'Skills explications FTEM'!#REF!)","v":{"$error":"#REF!"}}]
[{"$f":"'Skills explications FTEM'!A8:A8","v":0},null,null,{"$f":"IF($H$2=\"G\",'Skills explications FTEM'!F8,'Skills explications FTEM'!B8)","v":"Respect"},null,null,{"$f":"IF($H$2=\"G\",'Skills explications FTEM'!G8,'Skills explications FTEM'!C8)","v":"Relations respectueuses avec les coéquipiers, les entraîneurs, les adversaires, les arbitres et le staff; respect des règles, des principes du fairplay (y compris antidopage)"},null,null,{"$f":"IF($H$2=\"G\",'Skills explications FTEM'!#REF!,'Skills explications FTEM'!#REF!)","v":{"$error":"#REF!"}}]
[{"$f":"'Skills explications FTEM'!A9:A9","v":"ON ICE"},null,null,{"$f":"'Skills explications FTEM'!B9","v":"COMPÉTENCES"},null,null,{"$f":"'Skills explications FTEM'!C9","v":"OBSERVATION"},null,null,{"$f":"'Skills explications FTEM'!H9","v":0},null,null,null,"Date1",null,"Date2",null,"Date3",null,"Date4",null,"Date5",null,"Player",null,"BUT","MESURES:\nSPECIFIQUE, MESURABLES, REALISTE",null,null,null,null,null,null,"DELAI","CONTRÔLE DU BUT","Date"]
[{"$f":"'Skills explications FTEM'!A10:A10","v":"PATINAGE"},null,null,{"$f":"IF($H$2=\"G\",'Skills explications FTEM'!F10,'Skills explications FTEM'!B10)","v":"Vitesse de patinage"},null,null,{"$f":"IF($H$2=\"G\",'Skills explications FTEM'!G10,'Skills explications FTEM'!C10)","v":"Accélération, départ, explosivité des 3 premiers pas, fréquence"},null,null,{"$f":"IF($H$2=\"G\",'Skills explications FTEM'!#REF!,'Skills explications FTEM'!#REF!)","v":{"$error":"#REF!"}},null,null,null,{"$f":"IFERROR(AVERAGE(O19:O23),\"-\")","v":"-"},null,{"$f":"IFERROR(AVERAGE(Q19:Q23),\"-\")","v":"-"},null,{"$f":"IFERROR(AVERAGE(S19:S23),\"-\")","v":"-"},null,{"$f":"IFERROR(AVERAGE(U19:U23),\"-\")","v":"-"},null,{"$f":"IFERROR(AVERAGE(W19:W23),\"-\")","v":"-"},null,{"$f":"IFERROR(AVERAGE(Y19:Y23),\"-\")","v":"-"}]
[{"$f":"'Skills explications FTEM'!A11:A11","v":0},null,null,{"$f":"IF($H$2=\"G\",'Skills explications FTEM'!F11,'Skills explications FTEM'!B11)","v":"Vitesse, rapidité"},null,null,{"$f":"IF($H$2=\"G\",'Skills explications FTEM'!G11,'Skills explications FTEM'!C11)","v":"Vitesse, faculté de glisse, avant et arrière, économie des forces"},null,null,{"$f":"IF($H$2=\"G\",'Skills explications FTEM'!#REF!,'Skills explications FTEM'!#REF!)","v":{"$error":"#REF!"}}]
[{"$f":"'Skills explications FTEM'!A12:A12","v":0},null,null,{"$f":"IF($H$2=\"G\",'Skills explications FTEM'!F12,'Skills explications FTEM'!B12)","v":"Agilité"},null,null,{"$f":"IF($H$2=\"G\",'Skills explications FTEM'!G12,'Skills explications FTEM'!C12)","v":"Changements de direction, pivots, stop et start «Nummelin»"},null,null,{"$f":"IF($H$2=\"G\",'Skills explications FTEM'!#REF!,'Skills explications FTEM'!#REF!)","v":{"$error":"#REF!"}},null,null,null,{"$f":"IFERROR(AVERAGE(O21:O23),\"-\")","v":"-"},null,{"$f":"IFERROR(AVERAGE(Q21:Q23),\"-\")","v":"-"},null,{"$f":"IFERROR(AVERAGE(S21:S23),\"-\")","v":"-"},null,{"$f":"IFERROR(AVERAGE(U21:U23),\"-\")","v":"-"},null,{"$f":"IFERROR(AVERAGE(W21:W23),\"-\")","v":"-"},null,"-"]
[null,null,null,{"$f":"IF($H$2=\"G\",'Skills explications FTEM'!F13,'Skills explications FTEM'!B13)","v":"Balance"},null,null,{"$f":"IF($H$2=\"G\",'Skills explications FTEM'!G13,'Skills explications FTEM'!C13)","v":"Equilibre, faculté d'être sur ses appuis, position basse, 1 ou 2 jambes"},null,null,{"$f":"IF($H$2=\"G\",'Skills explications FTEM'!#REF!,'Skills explications FTEM'!#REF!)","v":{"$error":"#REF!"}}]
[{"$f":"'Skills explications FTEM'!#REF!","v":{"$error":"#REF!"}},null,null,{"$f":"IF($H$2=\"G\",'Skills explications FTEM'!F14,'Skills explications FTEM'!B14)","v":"Patinage arrière"},null,null,{"$f":"IF($H$2=\"G\",'Skills explications FTEM'!G14,'Skills explications FTEM'!C14)","v":"Accélération, vitesse, équilibre "},null,null,{"$f":"IF($H$2=\"G\",'Skills explications FTEM'!#REF!,'Skills explications FTEM'!#REF!)","v":{"$error":"#REF!"}}]
[{"$f":"'Skills explications FTEM'!A15:A15","v":"SKILLS"},null,null,{"$f":"IF($H$2=\"G\",'Skills explications FTEM'!F15,'Skills explications FTEM'!B15)","v":"Tirer"},null,null,{"$f":"IF($H$2=\"G\",'Skills explications FTEM'!G15,'Skills explications FTEM'!C15)","v":"Efficience (pas d'espace et de temps), variantes, degré de surprise (déclenchement rapide), précision, puissance (conclusion tactique)"},null,null,{"$f":"IF($H$2=\"G\",'Skills explications FTEM'!#REF!,'Skills explications FTEM'!#REF!)","v":{"$error":"#REF!"}},null,null,null,{"$f":"IFERROR(AVERAGE(O24:O29),\"-\")","v":"-"},null,{"$f":"IFERROR(AVERAGE(Q24:Q29),\"-\")","v":"-"},null,{"$f":"IFERROR(AVERAGE(S24:S29),\"-\")","v":"-"},null,{"$f":"IFERROR(AVERAGE(U24:U29),\"-\")","v":"-"},null,{"$f":"IFERROR(AVERAGE(W24:W29),\"-\")","v":"-"},null,{"$f":"IFERROR(AVERAGE(Y24:Y29),\"-\")","v":"-"}]
[{"$f":"'Skills explications FTEM'!A16:A16","v":0},null,null,{"$f":"IF($H$2=\"G\",'Skills explications FTEM'!F16,'Skills explications FTEM'!B16)","v":"Passer"},null,null,{"$f":"IF($H$2=\"G\",'Skills explications FTEM'!G16,'Skills explications FTEM'!C16)","v":"Donne la passe (distance, passe flipée en revers), réception de la passe (précision, timing, coup droit, revers, patins), vitesse du puck"},null,null,{"$f":"IF($H$2=\"G\",'Skills explications FTEM'!#REF!,'Skills explications FTEM'!#REF!)","v":{"$error":"#REF!"}}]
[{"$f":"'Skills explications FTEM'!A17:A17","v":0},null,null,{"$f":"IF($H$2=\"G\",'Skills explications FTEM'!F17,'Skills explications FTEM'!B17)","v":"Travail de canne, conduite du puck"},null,null,{"$f":"IF($H$2=\"G\",'Skills explications FTEM'!G17,'Skills explications FTEM'!C17)","v":"Puck sur la palette, intercepte les lignes de passe, déviation, contrôle de la canne de l'adversaire"},null,null,{"$f":"IF($H$2=\"G\",'Skills explications FTEM'!#REF!,'Skills explications FTEM'!#REF!)","v":{"$error":"#REF!"}}]
[null,null,null,{"$f":"IF($H$2=\"G\",'Skills explications FTEM'!F18,'Skills explications FTEM'!B18)","v":"Protéger le puck"},null,null,{"$f":"IF($H$2=\"G\",'Skills explications FTEM'!G18,'Skills explications FTEM'!C18)","v":"Contrôle du puck, dribbling, protection du puck, feintes (variantes: avec les patins ou avec et sans la bande), mise au jeu (bully)"},null,null,{"$f":"IF($H$2=\"G\",'Skills explications FTEM'!#REF!,'Skills explications FTEM'!#REF!)","v":{"$error":"#REF!"}}]
[null,null,null,{"$f":"IF($H$2=\"G\",'Skills explications FTEM'!F19,'Skills explications FTEM'!B19)","v":"Jeu du corps (charges)"},null,null,{"$f":"IF($H$2=\"G\",'Skills explications FTEM'!G19,'Skills explications FTEM'!C19)","v":"Faculté de s'imposer physiquement, duels (sur la surface de glace ou à la bande), prendre des checks, lever la tête, niveau de lutte, dur mais correct, bloquer les tirs avec le corps"},null,null,{"$f":"IF($H$2=\"G\",'Skills explications FTEM'!#REF!,'Skills explications FTEM'!#REF!)","v":{"$error":"#REF!"}}]
[{"$f":"'Skills explications FTEM'!A20:A20","v":0},null,null,{"$f":"IF($H$2=\"G\",'Skills explications FTEM'!F20,'Skills explications FTEM'!B20)","v":"-"},null,null,{"$f":"IF($H$2=\"G\",'Skills explications FTEM'!G20,'Skills explications FTEM'!C20)","v":"-"},null,null,{"$f":"IF($H$2=\"G\",'Skills explications FTEM'!#REF!,'Skills explications FTEM'!#REF!)","v":{"$error":"#REF!"}}]
[{"$f":"'Skills explications FTEM'!A21:A21","v":"HOCKEY SENSE"},null,null,{"$f":"IF($H$2=\"G\",'Skills explications FTEM'!F21,'Skills explications FTEM'!B21)","v":"Intelligence de jeu"},null,null,{"$f":"IF($H$2=\"G\",'Skills explications FTEM'!G21,'Skills explications FTEM'!C21)","v":"Voit les zones libres avec joueurs et crée des situations de surnombre, trouve des solutions et agit en toute situation, vitesse de la visualisation"},null,null,{"$f":"IF($H$2=\"G\",'Skills explications FTEM'!#REF!,'Skills explications FTEM'!#REF!)","v":{"$error":"#REF!"}},null,null,null,{"$f":"IFERROR(AVERAGE(O30:O34),\"-\")","v":"-"},null,{"$f":"IFERROR(AVERAGE(Q30:Q34),\"-\")","v":"-"},null,{"$f":"IFERROR(AVERAGE(S30:S34),\"-\")","v":"-"},null,{"$f":"IFERROR(AVERAGE(U30:U34),\"-\")","v":"-"},null,{"$f":"IFERROR(AVERAGE(W30:W34),\"-\")","v":"-"},null,{"$f":"IFERROR(AVERAGE(Y30:Y34),\"-\")","v":"-"}]
[{"$f":"'Skills explications FTEM'!A22:A22","v":0},null,null,{"$f":"IF($H$2=\"G\",'Skills explications FTEM'!F22,'Skills explications FTEM'!B22)","v":"Sensibilisation offensive"},null,null,{"$f":"IF($H$2=\"G\",'Skills explications FTEM'!G22,'Skills explications FTEM'!C22)","v":"Se démarque, anticipation des situations de jeu, ouvre des zones libres pour ses coéquipiers, se place pour marquer, vitesse de mise sous pression, communication"},null,null,{"$f":"IF($H$2=\"G\",'Skills explications FTEM'!#REF!,'Skills explications FTEM'!#REF!)","v":{"$error":"#REF!"}}]
[null,null,null,{"$f":"IF($H$2=\"G\",'Skills explications FTEM'!F23,'Skills explications FTEM'!B23)","v":"Sensibilisation défensive"},null,null,{"$f":"IF($H$2=\"G\",'Skills explications FTEM'!G23,'Skills explications FTEM'!C23)","v":"Garde la position «inside», protège le slot, rassure les coéquipiers, support, anticipe les lignes de passe, bloque les tirs. Réduit rapidement la distance sur l'adversaire, communication"},null,null,{"$f":"IF($H$2=\"G\",'Skills explications FTEM'!#REF!,'Skills explications FTEM'!#REF!)","v":{"$error":"#REF!"}}]
[{"$f":"'Skills explications FTEM'!A23:A23","v":0},null,null,{"$f":"IF($H$2=\"G\",'Skills explications FTEM'!F24,'Skills explications FTEM'!B24)","v":"Gestion du puck"},null,null,{"$f":"IF($H$2=\"G\",'Skills explications FTEM'!G24,'Skills explications FTEM'!C24)","v":"Fait le bon choix en fonction de la situation, support, surnombre"},null,null,{"$f":"IF($H$2=\"G\",'Skills explications FTEM'!#REF!,'Skills explications FTEM'!#REF!)","v":{"$error":"#REF!"}}]
[{"$f":"'Skills explications FTEM'!A25:A25","v":0},null,null,{"$f":"IF($H$2=\"G\",'Skills explications FTEM'!F25,'Skills explications FTEM'!B25)","v":"Créativité"},null,null,{"$f":"IF($H$2=\"G\",'Skills explications FTEM'!G25,'Skills explications FTEM'!C25)","v":"Prises de décision surprenantes, sens du but"},null,null,{"$f":"IF($H$2=\"G\",'Skills explications FTEM'!#REF!,'Skills explications FTEM'!#REF!)","v":{"$error":"#REF!"}}]
[{"$f":"'Skills explications FTEM'!A26:A26","v":"PERSONALITY"},null,null,{"$f":"'Skills explications FTEM'!B26","v":"COMPÉTENCES"},null,null,{"$f":"'Skills explications FTEM'!C26","v":"OBSERVATION"},null,null,{"$f":"'Skills explications FTEM'!H26","v":0},null,null,null,"Date1",null,"Date2",null,"Date3",null,"Date4",null,"Date5",null,"Player",null,"BUT","MESURES:\nSPECIFIQUE, MESURABLES, REALISTE",null,null,null,null,null,null,"DELAI","CONTRÔLE DU BUT","Date"]
[{"$f":"'Skills explications FTEM'!A27:A27","v":"PERSONNALITÉ"},null,null,{"$f":"IF($H$2=\"G\",'Skills explications FTEM'!F27,'Skills explications FTEM'!B27)","v":"Confiance en soi"},null,null,{"$f":"IF($H$2=\"G\",'Skills explications FTEM'!G27,'Skills explications FTEM'!C27)","v":"Est en confiance,«I can do it», peut estimer ses capacités (connaît ses qualités et ses défauts), peut réaliser ses qualités avec constance, est courageux et prend des risques calculés"},null,null,{"$f":"IF($H$2=\"G\",'Skills explications FTEM'!#REF!,'Skills explications FTEM'!#REF!)","v":{"$error":"#REF!"}},null,null,null,{"$f":"IFERROR(AVERAGE(O36:O40),\"-\")","v":"-"},null,null,null,{"$f":"IFERROR(AVERAGE(S36:S40),\"-\")","v":"-"},null,{"$f":"IFERROR(AVERAGE(U36:U40),\"-\")","v":"-"},null,{"$f":"IFERROR(AVERAGE(W36:W40),\"-\")","v":"-"},null,{"$f":"IFERROR(AVERAGE(Y36:Y40),\"-\")","v":"-"}]
[{"$f":"'Skills explications FTEM'!A28:A28","v":0},null,null,{"$f":"IF($H$2=\"G\",'Skills explications FTEM'!F28,'Skills explications FTEM'!B28)","v":"Facultés d'apprentissage"},null,null,{"$f":"IF($H$2=\"G\",'Skills explications FTEM'!G28,'Skills explications FTEM'!C28)","v":"A une bonne perception (il peut mémoriser et peut réaliser), il a de la personnalité, essaie d'apprendre de ses erreurs et est entreprenant"},null,null,{"$f":"IF($H$2=\"G\",'Skills explications FTEM'!#REF!,'Skills explications FTEM'!#REF!)","v":{"$error":"#REF!"}}]
[{"$f":"'Skills explications FTEM'!A29:A29","v":0},null,null,{"$f":"IF($H$2=\"G\",'Skills explications FTEM'!F29,'Skills explications FTEM'!B29)","v":"Prise de responsabilités"},null,null,{"$f":"IF($H$2=\"G\",'Skills explications FTEM'!G29,'Skills explications FTEM'!C29)","v":"Prend la responsabilité de ses performances et de son développement, est-il autonome, soigne-t-il les détails, a beaucoup d'engagement dans tous les domaines"},null,null,{"$f":"IF($H$2=\"G\",'Skills explications FTEM'!#REF!,'Skills explications FTEM'!#REF!)","v":{"$error":"#REF!"}}]
[null,null,null,{"$f":"IF($H$2=\"G\",'Skills explications FTEM'!F30,'Skills explications FTEM'!B30)","v":"Motivation"},null,null,{"$f":"IF($H$2=\"G\",'Skills explications FTEM'!G30,'Skills explications FTEM'!C30)","v":"Est toujours motivé, veut sans cesse se développer et apprendre, veut être le premier et avoir du succès, n'abandonne jamais et ne se laisse pas influencer par les échesc"},null,null,{"$f":"IF($H$2=\"G\",'Skills explications FTEM'!#REF!,'Skills explications FTEM'!#REF!)","v":{"$error":"#REF!"}}]
[{"$f":"'Skills explications FTEM'!A31:A31","v":0},null,null,{"$f":"IF($H$2=\"G\",'Skills explications FTEM'!F31,'Skills explications FTEM'!B31)","v":"Performance style de vie"},null,null,{"$f":"IF($H$2=\"G\",'Skills explications FTEM'!G31,'Skills explications FTEM'!C31)","v":"Gère bien son environnement et son temps libre selon les principes de la performance, obstiné, tenace et axé sur l'objectif, accent sur sa propre performance, est courageux et peut s'imposer contre la résistance, les défis le motivent"},null,null,{"$f":"IF($H$2=\"G\",'Skills explications FTEM'!#REF!,'Skills explications FTEM'!#REF!)","v":{"$error":"#REF!"}}]
[{"$f":"'Skills explications FTEM'!A32:A32","v":"FORCE MENTALE"},null,null,{"$f":"IF($H$2=\"G\",'Skills explications FTEM'!F32,'Skills explications FTEM'!B32)","v":"Engagement"},null,null,{"$f":"IF($H$2=\"G\",'Skills explications FTEM'!G32,'Skills explications FTEM'!C32)","v":"Démontre beaucoup d'intensité dans les entraînements et les matchs, donne toujours son maximum et veut sans cesse repousser ses limites, a-t-il de la passion, s'efforce-t-il de s'entraîner avec une excellente qualité"},null,null,{"$f":"IF($H$2=\"G\",'Skills explications FTEM'!#REF!,'Skills explications FTEM'!#REF!)","v":{"$error":"#REF!"}},null,null,null,{"$f":"IFERROR(AVERAGE(O41:O45),\"-\")","v":"-"},null,null,null,{"$f":"IFERROR(AVERAGE(S41:S45),\"-\")","v":"-"},null,{"$f":"IFERROR(AVERAGE(U41:U45),\"-\")","v":"-"},null,{"$f":"IFERROR(AVERAGE(W41:W45),\"-\")","v":"-"},null,{"$f":"IFERROR(AVERAGE(Y41:Y45),\"-\")","v":"-"}]
[{"$f":"'Skills explications FTEM'!A33:A33","v":0},null,null,{"$f":"IF($H$2=\"G\",'Skills explications FTEM'!F33,'Skills explications FTEM'!B33)","v":"Préparation"},null,null,{"$f":"IF($H$2=\"G\",'Skills explications FTEM'!G33,'Skills explications FTEM'!C33)","v":"Se prépare-t-il toujours bien, mentalement et physiquement, se prépare-t-il toujours bien pour obtenir le niveau de performance idéal (ILZ)"},null,null,{"$f":"IF($H$2=\"G\",'Skills explications FTEM'!#REF!,'Skills explications FTEM'!#REF!)","v":{"$error":"#REF!"}}]
[null,null,null,{"$f":"IF($H$2=\"G\",'Skills explications FTEM'!F34,'Skills explications FTEM'!B34)","v":"Coaching personnel"},null,null,{"$f":"IF($H$2=\"G\",'Skills explications FTEM'!G34,'Skills explications FTEM'!C34)","v":"A-t-il de bonnes facultés de concentration, peut-il maintenir son niveau de performance idéal (ILZ) dans les entraînements et les matchs, peut-il appliquer ses techniques de base, est-il résistant aux influences et pensées négatives, est-il conscient de son attitude corporelle et peut-il l'influencer"},null,null,{"$f":"IF($H$2=\"G\",'Skills explications FTEM'!#REF!,'Skills explications FTEM'!#REF!)","v":{"$error":"#REF!"}}]
[{"$f":"'Skills explications FTEM'!A34:A34","v":0},null,null,{"$f":"IF($H$2=\"G\",'Skills explications FTEM'!F35,'Skills explications FTEM'!B35)","v":"Gestion des énergies"},null,null,{"$f":"IF($H$2=\"G\",'Skills explications FTEM'!G35,'Skills explications FTEM'!C35)","v":"Peut-il gérer ses propres énergies, prend-il soin de sa récupération, peut-il gérer les moments où il faut se donner à fond ou quand il faut déconnecter, bouton On/Off"},null,null,{"$f":"IF($H$2=\"G\",'Skills explications FTEM'!#REF!,'Skills explications FTEM'!#REF!)","v":{"$error":"#REF!"}}]
[{"$f":"'Skills explications FTEM'!A36:A36","v":0},null,null,{"$f":"IF($H$2=\"G\",'Skills explications FTEM'!F36,'Skills explications FTEM'!B36)","v":"Contrôle des émotions"},null,null,{"$f":"IF($H$2=\"G\",'Skills explications FTEM'!G36,'Skills explications FTEM'!C36)","v":"Peut-il gérer ses propres émotions et impulsions, reste-t-il sous contrôle lorsqu'il y a une grande pression, peut-il rester calme lorsque le niveau émotionnel et de frustration est élevé"},null,null,{"$f":"IF($H$2=\"G\",'Skills explications FTEM'!#REF!,'Skills explications FTEM'!#REF!)","v":{"$error":"#REF!"}}]
[{"$f":"'Skills explications FTEM'!A37:A37","v":"PHYSIQUE"},null,null,{"$f":"IF($H$2=\"G\",'Skills explications FTEM'!F37,'Skills explications FTEM'!B37)","v":"Production de la performance"},null,null,{"$f":"IF($H$2=\"G\",'Skills explications FTEM'!G37,'Skills explications FTEM'!C37)","v":"A-t-il la puissance, la force, la vitesse nécessaires dans les jambes et le haut du corps (facteurs neuromusculaires)"},null,null,{"$f":"IF($H$2=\"G\",'Skills explications FTEM'!#REF!,'Skills explications FTEM'!#REF!)","v":{"$error":"#REF!"}},null,null,null,{"$f":"IFERROR(AVERAGE(O46:O50),\"-\")","v":"-"},null,null,null,{"$f":"IFERROR(AVERAGE(S46:S50),\"-\")","v":"-"},null,{"$f":"IFERROR(AVERAGE(U46:U50),\"-\")","v":"-"},null,{"$f":"IFERROR(AVERAGE(W46:W50),\"-\")","v":"-"},null,{"$f":"IFERROR(AVERAGE(Y46:Y50),\"-\")","v":"-"}]
[{"$f":"'Skills explications FTEM'!A38:A38","v":0},null,null,{"$f":"IF($H$2=\"G\",'Skills explications FTEM'!F38,'Skills explications FTEM'!B38)","v":"Spécifique au sport, résistant à l'effort"},null,null,{"$f":"IF($H$2=\"G\",'Skills explications FTEM'!G38,'Skills explications FTEM'!C38)","v":"Est-il capable de maintenir sa puissance, sa force, sa vitesse durant un long temps de glace et peut-il récupérer complètement entre ses engagements (facteurs du métabolisme et cardiovasculaire)"},null,null,{"$f":"IF($H$2=\"G\",'Skills explications FTEM'!#REF!,'Skills explications FTEM'!#REF!)","v":{"$error":"#REF!"}}]
[null,null,null,{"$f":"IF($H$2=\"G\",'Skills explications FTEM'!F39,'Skills explications FTEM'!B39)","v":"Santé / Prévention"},null,null,{"$f":"IF($H$2=\"G\",'Skills explications FTEM'!G39,'Skills explications FTEM'!C39)","v":"A-t-il la stabilité nécessaire (p. ex. ses appuis) et la mobilité nécessaire au niveau des articulations centrales"},null,null,{"$f":"IF($H$2=\"G\",'Skills explications FTEM'!#REF!,'Skills explications FTEM'!#REF!)","v":{"$error":"#REF!"}}]
[{"$f":"'Skills explications FTEM'!A39:A39","v":0},null,null,{"$f":"IF($H$2=\"G\",'Skills explications FTEM'!F40,'Skills explications FTEM'!B40)","v":"Mobilité / Coordination"},null,null,{"$f":"IF($H$2=\"G\",'Skills explications FTEM'!G40,'Skills explications FTEM'!C40)","v":"Gère-t-il ses aptitudes de mouvements de base, qui sont un fournisseur important des fonctions spécifiques «Skills» pour être efficace"},null,null,{"$f":"IF($H$2=\"G\",'Skills explications FTEM'!#REF!,'Skills explications FTEM'!#REF!)","v":{"$error":"#REF!"}}]
[{"$f":"'Skills explications FTEM'!A41:A41","v":0},null,null,{"$f":"IF($H$2=\"G\",'Skills explications FTEM'!F41,'Skills explications FTEM'!B41)","v":"Robustesse"},null,null,{"$f":"IF($H$2=\"G\",'Skills explications FTEM'!G41,'Skills explications FTEM'!C41)","v":"A-t-il la force de base nécessaire (tension corporelle) pour gagner des duels et résister aux charges"},null,null,{"$f":"IF($H$2=\"G\",'Skills explications FTEM'!#REF!,'Skills explications FTEM'!#REF!)","v":{"$error":"#REF!"}}]

{"sheet":"2","index":5,"n_rows":50,"n_cols":36,"rows_kept":50,"cut":false,"hidden":false,"merged":[[45,25,49,25],[45,26,49,32],[45,34,49,34],[40,0,44,2],[40,3,40,5],[40,6,40,11],[40,12,44,12],[40,13,44,13],[40,15,44,15],[45,0,49,2],[45,3,45,5],[45,6,45,11],[45,12,49,12],[45,23,49,23],[47,3,47,5],[47,6,47,11],[48,3,48,5],[48,6,48,11],[49,3,49,5],[49,6,49,11],[45,13,49,13],[45,15,49,15],[45,17,49,17],[45,19,49,19],[40,17,44,17],[40,19,44,19],[40,21,44,21],[40,23,44,23],[42,3,42,5],[42,6,42,11],[44,3,44,5],[44,6,44,11],[35,23,39,23],[43,3,43,5],[43,6,43,11],[37,6,37,11],[41,3,41,5],[41,6,41,11],[34,0,34,2],[34,3,34,5],[34,6,34,11],[34,13,34,14],[34,15,34,16],[34,17,34,18],[34,19,34,20],[34,21,34,22],[35,17,39,17],[35,19,39,19],[35,21,39,21],[35,0,39,2],[35,3,35,5],[35,6,35,11],[35,12,39,12],[35,13,39,13],[35,15,39,15],[39,3,39,5],[39,6,39,11],[36,3,36,5],[36,6,36,11],[38,3,38,5],[38,6,38,11],[37,3,37,5],[23,19,28,19],[23,21,28,21],[23,23,28,23],[24,3,24,5],[24,6,24,11],[28,3,28,5],[28,6,28,11],[33,3,33,5],[33,6,33,11],[29,23,33,23],[29,17,33,17],[29,19,33,19],[29,21,33,21],[30,3,30,5],[30,6,30,11],[31,3,31,5],[31,6,31,11],[29,3,29,5],[29,6,29,11],[29,12,33,12],[23,0,28,2],[23,3,23,5],[23,6,23,11],[23,12,28,12],[23,13,28,13],[23,15,28,15],[23,17,28,17],[29,13,33,13],[29,15,33,15],[29,0,33,2],[25,3,25,5],[25,6,25,11],[26,3,26,5],[26,6,26,11],[27,3,27,5],[27,6,27,11],[32,3,32,5],[32,6,32,11],[18,0,22,2],[18,3,18,5],[18,6,18,11],[18,12,22,12],[18,13,22,13],[19,3,19,5],[19,6,19,11],[20,3,20,5],[20,6,20,11],[18,15,22,15],[18,17,22,17],[18,19,22,19],[18,21,22,21],[18,23,22,23],[22,3,22,5],[22,6,22,11],[18,25,22,25],[18,26,22,32],[21,3,21,5],[21,6,21,11],[16,3,16,5],[16,6,16,11],[17,0,17,2],[17,3,17,5],[17,6,17,11],[17,13,17,14],[17,15,17,16],[17,17,17,18],[17,19,17,20],[12,0,16,2],[12,3,12,5],[12,6,12,11],[12,12,16,12],[12,13,16,13],[12,15,16,15],[12,17,16,17],[12,19,16,19],[13,3,13,5],[13,6,13,11],[14,3,14,5],[14,6,14,11],[15,3,15,5],[15,6,15,11],[10,25,10,35],[11,0,11,2],[11,3,11,5],[11,13,11,14],[11,15,11,16],[11,17,11,18],[11,19,11,20],[11,21,11,22],[11,23,11,24],[11,26,11,32],[11,6,11,11],[12,21,16,21],[34,23,34,24],[1,10,1,24],[2,0,2,1],[2,2,2,5],[2,11,2,24],[6,0,6,1],[6,2,6,35],[0,0,0,24],[0,25,0,26],[0,27,0,32],[0,33,0,35],[1,0,1,1],[1,2,1,5],[7,0,7,1],[7,2,7,35],[8,0,8,1],[8,2,8,35],[3,0,3,1],[3,10,3,24],[4,0,4,1],[4,2,4,5],[4,10,4,24],[10,0,10,24],[46,3,46,5],[46,6,46,11],[45,21,49,21],[35,34,39,34],[40,25,44,25],[40,26,44,32],[40,34,44,34],[12,25,16,25],[12,26,16,32],[12,34,16,34],[18,34,22,34],[23,25,28,25],[23,26,28,32],[23,34,28,34],[29,25,33,25],[29,26,33,32],[29,34,33,34],[17,26,17,32],[34,26,34,32],[35,25,39,25],[35,26,39,32],[12,23,16,23],[17,21,17,22],[17,23,17,24]]}
["Infos personelles",null,null,null,null,null,null,null,null,null,null,null,null,null,null,null,null,null,null,null,null,null,null,null,null,"Predispositions",null,"Evaluations",null,null,null,null,null,"Rating"]
["PRENOM",null,{"$f":"IF(ISBLANK(VLOOKUP(2,Tabelle3[],3,0)),\"-\",VLOOKUP(2,Tabelle3[],3,0))","v":"-"},null,null,null,"POSITION","C",null,"ADRESSE",{"$f":"IF(ISBLANK(VLOOKUP(2,Tabelle3[],5,0)),\"-\",VLOOKUP(2,Tabelle3[],5,0))","v":"-"},null,null,null,null,null,null,null,null,null,null,null,null,null,null,"\"àage\" (Biologique/age relatif)",null,"Date 1",null,null,"cm",null,"Kg",null,"AUSGEZEICHNET",5]
["NOM",null,{"$f":"IF(ISBLANK(VLOOKUP(2,Tabelle3[],2,0)),\"-\",VLOOKUP(2,Tabelle3[],2,0))","v":"-"},null,null,null,"CANNE",null,null,"LIEU",{"$f":"IF(ISBLANK(VLOOKUP(2,Tabelle3[],7,0)),\"-\",VLOOKUP(2,Tabelle3[],7,0))","v":"-"},{"$f":"IF(ISBLANK(VLOOKUP(2,Tabelle3[],6,0)),\"-\",VLOOKUP(2,Tabelle3[],6,0))","v":"-"},null,null,null,null,null,null,null,null,null,null,null,null,null,"predispositions",null,"Date 2",null,null,"cm",null,"Kg",null,"GUT",4]
["DATE NAISS.",null,{"$f":"IF(ISBLANK(VLOOKUP(2,Tabelle3[],14,0)),\"-\",VLOOKUP(2,Tabelle3[],14,0))","v":"-"},{"$f":"IF(ISBLANK(VLOOKUP(2,Tabelle3[],15,0)),\"-\",VLOOKUP(2,Tabelle3[],15,0))","v":"-"},{"$f":"IF(ISBLANK(VLOOKUP(2,Tabelle3[],16,0)),\"-\",VLOOKUP(2,Tabelle3[],16,0))","v":"-"},null,"GRANDEUR",null,"cm","PHONE",{"$f":"IF(ISBLANK(VLOOKUP(2,Tabelle3[],8,0)),\"-\",VLOOKUP(2,Tabelle3[],8,0))","v":"-"},null,null,null,null,null,null,null,null,null,null,null,null,null,null,"Entourage",null,"Date 3",null,null,"cm",null,"Kg",null,"DURCHSCHNITT",3]
["SEXE",null,{"$f":"IF(ISBLANK(VLOOKUP(2,Tabelle3[],13,0)),\"-\",VLOOKUP(2,Tabelle3[],13,0))","v":"-"},null,null,null,"POIDS",null,"Kg","E-Mail",{"$f":"IF(ISBLANK(VLOOKUP(2,Tabelle3[],9,0)),\"-\",VLOOKUP(2,Tabelle3[],9,0))","v":"-"},null,null,null,null,null,null,null,null,null,null,null,null,null,null,null,null,"Date 4",null,null,"cm",null,"Kg",null,"MANGELHAFT",2]
[null,null,null,null,null,null,null,null,null,null,null,null,null,null,null,null,null,null,null,null,null,null,null,null,null,null,null,"Date 5",null,null,"cm",null,"Kg",null,"UNGENÜGEND",1]
["Vision",null,"xxx"]
["Next step",null,"xxx"]
["Profil du Joueur",null,"xxx"]
[]
["EVALUATION (COACH / JOUEUR)",null,null,null,null,null,null,null,null,null,null,null,null,null,null,null,null,null,null,null,null,null,null,null,null,"SMART"]
[{"$f":"'Skills explications FTEM'!A3:A3","v":"TEAM"},null,null,{"$f":"'Skills explications FTEM'!B3","v":"COMPÉTENCES"},null,null,{"$f":"'Skills explications FTEM'!C3","v":"OBSERVATION"},null,null,{"$f":"'Skills explications FTEM'!H3","v":0},null,null,"Final","Date1",null,"Date2",null,"Date3",null,"Date4",null,"Date5",null,"Player",null,"BUT","MESURES:\nSPECIFIQUE, MESURABLES, REALISTE",null,null,null,null,null,null,"DELAI","CONTRÔLE DU BUT","Date"]
[{"$f":"'Skills explications FTEM'!A4:A4","v":"ÉQUIPE"},null,null,{"$f":"IF($H$2=\"G\",'Skills explications FTEM'!F4,'Skills explications FTEM'!B4)","v":"Communication"},null,null,{"$f":"IF($H$2=\"G\",'Skills explications FTEM'!G4,'Skills explications FTEM'!C4)","v":"Respect et ouverture dans ses relations, confiance comme base, traite les conflits sans perturber la stabilité du groupe, communique avec ses coéquipiers, les entraîneurs et les fonctionnaires avec les mêmes valeurs"},null,null,{"$f":"IF($H$2=\"G\",'Skills explications FTEM'!#REF!,'Skills explications FTEM'!#REF!)","v":{"$error":"#REF!"}},null,null,null,{"$f":"IFERROR(AVERAGE(O13:O17),\"-\")","v":"-"},null,{"$f":"IFERROR(AVERAGE(Q13:Q17),\"-\")","v":"-"},null,{"$f":"IFERROR(AVERAGE(S13:S17),\"-\")","v":"-"},null,{"$f":"IFERROR(AVERAGE(U13:U17),\"-\")","v":"-"},null,{"$f":"IFERROR(AVERAGE(W13:W17),\"-\")","v":"-"},null,{"$f":"IFERROR(AVERAGE(Y13:Y17),\"-\")","v":"-"}]
[null,null,null,{"$f":"IF($H$2=\"G\",'Skills explications FTEM'!F5,'Skills explications FTEM'!B5)","v":"Capacité de jouer en équipe"},null,null,{"$f":"IF($H$2=\"G\",'Skills explications FTEM'!G5,'Skills explications FTEM'!C5)","v":"Intégration dans le groupe, définit et réalise des objectifs communs, NOUS avant le MOI, participe au bon esprit d'équipe et à un bon climat de travail"},null,null,{"$f":"IF($H$2=\"G\",'Skills explications FTEM'!#REF!,'Skills explications FTEM'!#REF!)","v":{"$error":"#REF!"}}]
[null,null,null,{"$f":"IF($H$2=\"G\",'Skills explications FTEM'!F6,'Skills explications FTEM'!B6)","v":"Leadership"},null,null,{"$f":"IF($H$2=\"G\",'Skills explications FTEM'!G6,'Skills explications FTEM'!C6)","v":"Prend des responsabilités dans le groupe, essaie de donner de la valeur à ses coéquipiers et au groupe, influence positivement la dynamique de groupe"},null,null,{"$f":"IF($H$2=\"G\",'Skills explications FTEM'!#REF!,'Skills explications FTEM'!#REF!)","v":{"$error":"#REF!"}}]
[null,null,null,{"$f":"IF($H$2=\"G\",'Skills explications FTEM'!F7,'Skills explications FTEM'!B7)","v":"Répartition des rôles"},null,null,{"$f":"IF($H$2=\"G\",'Skills explications FTEM'!G7,'Skills explications FTEM'!C7)","v":"Connaît son rôle et le réalise, est conscient de sa position dans l'équipe et le système, met ses compétences à disposition de l'équipe"},null,null,{"$f":"IF($H$2=\"G\",'Skills explications FTEM'!#REF!,'Skills explications FTEM'!#REF!)","v":{"$error":"#REF!"}}]
[{"$f":"'Skills explications FTEM'!A8:A8","v":0},null,null,{"$f":"IF($H$2=\"G\",'Skills explications FTEM'!F8,'Skills explications FTEM'!B8)","v":"Respect"},null,null,{"$f":"IF($H$2=\"G\",'Skills explications FTEM'!G8,'Skills explications FTEM'!C8)","v":"Relations respectueuses avec les coéquipiers, les entraîneurs, les adversaires, les arbitres et le staff; respect des règles, des principes du fairplay (y compris antidopage)"},null,null,{"$f":"IF($H$2=\"G\",'Skills explications FTEM'!#REF!,'Skills explications FTEM'!#REF!)","v":{"$error":"#REF!"}}]
[{"$f":"'Skills explications FTEM'!A9:A9","v":"ON ICE"},null,null,{"$f":"'Skills explications FTEM'!B9","v":"COMPÉTENCES"},null,null,{"$f":"'Skills explications FTEM'!C9","v":"OBSERVATION"},null,null,{"$f":"'Skills explications FTEM'!H9","v":0},null,null,null,"Date1",null,"Date2",null,"Date3",null,"Date4",null,"Date5",null,"Player",null,"BUT","MESURES:\nSPECIFIQUE, MESURABLES, REALISTE",null,null,null,null,null,null,"DELAI","CONTRÔLE DU BUT","Date"]
[{"$f":"'Skills explications FTEM'!A10:A10","v":"PATINAGE"},null,null,{"$f":"IF($H$2=\"G\",'Skills explications FTEM'!F10,'Skills explications FTEM'!B10)","v":"Vitesse de patinage"},null,null,{"$f":"IF($H$2=\"G\",'Skills explications FTEM'!G10,'Skills explications FTEM'!C10)","v":"Accélération, départ, explosivité des 3 premiers pas, fréquence"},null,null,{"$f":"IF($H$2=\"G\",'Skills explications FTEM'!#REF!,'Skills explications FTEM'!#REF!)","v":{"$error":"#REF!"}},null,null,null,{"$f":"IFERROR(AVERAGE(O19:O23),\"-\")","v":"-"},null,{"$f":"IFERROR(AVERAGE(Q19:Q23),\"-\")","v":"-"},null,{"$f":"IFERROR(AVERAGE(S19:S23),\"-\")","v":"-"},null,{"$f":"IFERROR(AVERAGE(U19:U23),\"-\")","v":"-"},null,{"$f":"IFERROR(AVERAGE(W19:W23),\"-\")","v":"-"},null,{"$f":"IFERROR(AVERAGE(Y19:Y23),\"-\")","v":"-"}]
[{"$f":"'Skills explications FTEM'!A11:A11","v":0},null,null,{"$f":"IF($H$2=\"G\",'Skills explications FTEM'!F11,'Skills explications FTEM'!B11)","v":"Vitesse, rapidité"},null,null,{"$f":"IF($H$2=\"G\",'Skills explications FTEM'!G11,'Skills explications FTEM'!C11)","v":"Vitesse, faculté de glisse, avant et arrière, économie des forces"},null,null,{"$f":"IF($H$2=\"G\",'Skills explications FTEM'!#REF!,'Skills explications FTEM'!#REF!)","v":{"$error":"#REF!"}}]
[{"$f":"'Skills explications FTEM'!A12:A12","v":0},null,null,{"$f":"IF($H$2=\"G\",'Skills explications FTEM'!F12,'Skills explications FTEM'!B12)","v":"Agilité"},null,null,{"$f":"IF($H$2=\"G\",'Skills explications FTEM'!G12,'Skills explications FTEM'!C12)","v":"Changements de direction, pivots, stop et start «Nummelin»"},null,null,{"$f":"IF($H$2=\"G\",'Skills explications FTEM'!#REF!,'Skills explications FTEM'!#REF!)","v":{"$error":"#REF!"}},null,null,null,{"$f":"IFERROR(AVERAGE(O21:O23),\"-\")","v":"-"},null,{"$f":"IFERROR(AVERAGE(Q21:Q23),\"-\")","v":"-"},null,{"$f":"IFERROR(AVERAGE(S21:S23),\"-\")","v":"-"},null,{"$f":"IFERROR(AVERAGE(U21:U23),\"-\")","v":"-"},null,{"$f":"IFERROR(AVERAGE(W21:W23),\"-\")","v":"-"},null,"-"]
[null,null,null,{"$f":"IF($H$2=\"G\",'Skills explications FTEM'!F13,'Skills explications FTEM'!B13)","v":"Balance"},null,null,{"$f":"IF($H$2=\"G\",'Skills explications FTEM'!G13,'Skills explications FTEM'!C13)","v":"Equilibre, faculté d'être sur ses appuis, position basse, 1 ou 2 jambes"},null,null,{"$f":"IF($H$2=\"G\",'Skills explications FTEM'!#REF!,'Skills explications FTEM'!#REF!)","v":{"$error":"#REF!"}}]
[{"$f":"'Skills explications FTEM'!#REF!","v":{"$error":"#REF!"}},null,null,{"$f":"IF($H$2=\"G\",'Skills explications FTEM'!F14,'Skills explications FTEM'!B14)","v":"Patinage arrière"},null,null,{"$f":"IF($H$2=\"G\",'Skills explications FTEM'!G14,'Skills explications FTEM'!C14)","v":"Accélération, vitesse, équilibre "},null,null,{"$f":"IF($H$2=\"G\",'Skills explications FTEM'!#REF!,'Skills explications FTEM'!#REF!)","v":{"$error":"#REF!"}}]
[{"$f":"'Skills explications FTEM'!A15:A15","v":"SKILLS"},null,null,{"$f":"IF($H$2=\"G\",'Skills explications FTEM'!F15,'Skills explications FTEM'!B15)","v":"Tirer"},null,null,{"$f":"IF($H$2=\"G\",'Skills explications FTEM'!G15,'Skills explications FTEM'!C15)","v":"Efficience (pas d'espace et de temps), variantes, degré de surprise (déclenchement rapide), précision, puissance (conclusion tactique)"},null,null,{"$f":"IF($H$2=\"G\",'Skills explications FTEM'!#REF!,'Skills explications FTEM'!#REF!)","v":{"$error":"#REF!"}},null,null,null,{"$f":"IFERROR(AVERAGE(O24:O29),\"-\")","v":"-"},null,{"$f":"IFERROR(AVERAGE(Q24:Q29),\"-\")","v":"-"},null,{"$f":"IFERROR(AVERAGE(S24:S29),\"-\")","v":"-"},null,{"$f":"IFERROR(AVERAGE(U24:U29),\"-\")","v":"-"},null,{"$f":"IFERROR(AVERAGE(W24:W29),\"-\")","v":"-"},null,{"$f":"IFERROR(AVERAGE(Y24:Y29),\"-\")","v":"-"}]
[{"$f":"'Skills explications FTEM'!A16:A16","v":0},null,null,{"$f":"IF($H$2=\"G\",'Skills explications FTEM'!F16,'Skills explications FTEM'!B16)","v":"Passer"},null,null,{"$f":"IF($H$2=\"G\",'Skills explications FTEM'!G16,'Skills explications FTEM'!C16)","v":"Donne la passe (distance, passe flipée en revers), réception de la passe (précision, timing, coup droit, revers, patins), vitesse du puck"},null,null,{"$f":"IF($H$2=\"G\",'Skills explications FTEM'!#REF!,'Skills explications FTEM'!#REF!)","v":{"$error":"#REF!"}}]
[{"$f":"'Skills explications FTEM'!A17:A17","v":0},null,null,{"$f":"IF($H$2=\"G\",'Skills explications FTEM'!F17,'Skills explications FTEM'!B17)","v":"Travail de canne, conduite du puck"},null,null,{"$f":"IF($H$2=\"G\",'Skills explications FTEM'!G17,'Skills explications FTEM'!C17)","v":"Puck sur la palette, intercepte les lignes de passe, déviation, contrôle de la canne de l'adversaire"},null,null,{"$f":"IF($H$2=\"G\",'Skills explications FTEM'!#REF!,'Skills explications FTEM'!#REF!)","v":{"$error":"#REF!"}}]
[null,null,null,{"$f":"IF($H$2=\"G\",'Skills explications FTEM'!F18,'Skills explications FTEM'!B18)","v":"Protéger le puck"},null,null,{"$f":"IF($H$2=\"G\",'Skills explications FTEM'!G18,'Skills explications FTEM'!C18)","v":"Contrôle du puck, dribbling, protection du puck, feintes (variantes: avec les patins ou avec et sans la bande), mise au jeu (bully)"},null,null,{"$f":"IF($H$2=\"G\",'Skills explications FTEM'!#REF!,'Skills explications FTEM'!#REF!)","v":{"$error":"#REF!"}}]
[null,null,null,{"$f":"IF($H$2=\"G\",'Skills explications FTEM'!F19,'Skills explications FTEM'!B19)","v":"Jeu du corps (charges)"},null,null,{"$f":"IF($H$2=\"G\",'Skills explications FTEM'!G19,'Skills explications FTEM'!C19)","v":"Faculté de s'imposer physiquement, duels (sur la surface de glace ou à la bande), prendre des checks, lever la tête, niveau de lutte, dur mais correct, bloquer les tirs avec le corps"},null,null,{"$f":"IF($H$2=\"G\",'Skills explications FTEM'!#REF!,'Skills explications FTEM'!#REF!)","v":{"$error":"#REF!"}}]
[{"$f":"'Skills explications FTEM'!A20:A20","v":0},null,null,{"$f":"IF($H$2=\"G\",'Skills explications FTEM'!F20,'Skills explications FTEM'!B20)","v":"-"},null,null,{"$f":"IF($H$2=\"G\",'Skills explications FTEM'!G20,'Skills explications FTEM'!C20)","v":"-"},null,null,{"$f":"IF($H$2=\"G\",'Skills explications FTEM'!#REF!,'Skills explications FTEM'!#REF!)","v":{"$error":"#REF!"}}]
[{"$f":"'Skills explications FTEM'!A21:A21","v":"HOCKEY SENSE"},null,null,{"$f":"IF($H$2=\"G\",'Skills explications FTEM'!F21,'Skills explications FTEM'!B21)","v":"Intelligence de jeu"},null,null,{"$f":"IF($H$2=\"G\",'Skills explications FTEM'!G21,'Skills explications FTEM'!C21)","v":"Voit les zones libres avec joueurs et crée des situations de surnombre, trouve des solutions et agit en toute situation, vitesse de la visualisation"},null,null,{"$f":"IF($H$2=\"G\",'Skills explications FTEM'!#REF!,'Skills explications FTEM'!#REF!)","v":{"$error":"#REF!"}},null,null,null,{"$f":"IFERROR(AVERAGE(O30:O34),\"-\")","v":"-"},null,{"$f":"IFERROR(AVERAGE(Q30:Q34),\"-\")","v":"-"},null,{"$f":"IFERROR(AVERAGE(S30:S34),\"-\")","v":"-"},null,{"$f":"IFERROR(AVERAGE(U30:U34),\"-\")","v":"-"},null,{"$f":"IFERROR(AVERAGE(W30:W34),\"-\")","v":"-"},null,{"$f":"IFERROR(AVERAGE(Y30:Y34),\"-\")","v":"-"}]
[{"$f":"'Skills explications FTEM'!A22:A22","v":0},null,null,{"$f":"IF($H$2=\"G\",'Skills explications FTEM'!F22,'Skills explications FTEM'!B22)","v":"Sensibilisation offensive"},null,null,{"$f":"IF($H$2=\"G\",'Skills explications FTEM'!G22,'Skills explications FTEM'!C22)","v":"Se démarque, anticipation des situations de jeu, ouvre des zones libres pour ses coéquipiers, se place pour marquer, vitesse de mise sous pression, communication"},null,null,{"$f":"IF($H$2=\"G\",'Skills explications FTEM'!#REF!,'Skills explications FTEM'!#REF!)","v":{"$error":"#REF!"}}]
[null,null,null,{"$f":"IF($H$2=\"G\",'Skills explications FTEM'!F23,'Skills explications FTEM'!B23)","v":"Sensibilisation défensive"},null,null,{"$f":"IF($H$2=\"G\",'Skills explications FTEM'!G23,'Skills explications FTEM'!C23)","v":"Garde la position «inside», protège le slot, rassure les coéquipiers, support, anticipe les lignes de passe, bloque les tirs. Réduit rapidement la distance sur l'adversaire, communication"},null,null,{"$f":"IF($H$2=\"G\",'Skills explications FTEM'!#REF!,'Skills explications FTEM'!#REF!)","v":{"$error":"#REF!"}}]
[{"$f":"'Skills explications FTEM'!A23:A23","v":0},null,null,{"$f":"IF($H$2=\"G\",'Skills explications FTEM'!F24,'Skills explications FTEM'!B24)","v":"Gestion du puck"},null,null,{"$f":"IF($H$2=\"G\",'Skills explications FTEM'!G24,'Skills explications FTEM'!C24)","v":"Fait le bon choix en fonction de la situation, support, surnombre"},null,null,{"$f":"IF($H$2=\"G\",'Skills explications FTEM'!#REF!,'Skills explications FTEM'!#REF!)","v":{"$error":"#REF!"}}]
[{"$f":"'Skills explications FTEM'!A25:A25","v":0},null,null,{"$f":"IF($H$2=\"G\",'Skills explications FTEM'!F25,'Skills explications FTEM'!B25)","v":"Créativité"},null,null,{"$f":"IF($H$2=\"G\",'Skills explications FTEM'!G25,'Skills explications FTEM'!C25)","v":"Prises de décision surprenantes, sens du but"},null,null,{"$f":"IF($H$2=\"G\",'Skills explications FTEM'!#REF!,'Skills explications FTEM'!#REF!)","v":{"$error":"#REF!"}}]
[{"$f":"'Skills explications FTEM'!A26:A26","v":"PERSONALITY"},null,null,{"$f":"'Skills explications FTEM'!B26","v":"COMPÉTENCES"},null,null,{"$f":"'Skills explications FTEM'!C26","v":"OBSERVATION"},null,null,{"$f":"'Skills explications FTEM'!H26","v":0},null,null,null,"Date1",null,"Date2",null,"Date3",null,"Date4",null,"Date5",null,"Player",null,"BUT","MESURES:\nSPECIFIQUE, MESURABLES, REALISTE",null,null,null,null,null,null,"DELAI","CONTRÔLE DU BUT","Date"]
[{"$f":"'Skills explications FTEM'!A27:A27","v":"PERSONNALITÉ"},null,null,{"$f":"IF($H$2=\"G\",'Skills explications FTEM'!F27,'Skills explications FTEM'!B27)","v":"Confiance en soi"},null,null,{"$f":"IF($H$2=\"G\",'Skills explications FTEM'!G27,'Skills explications FTEM'!C27)","v":"Est en confiance,«I can do it», peut estimer ses capacités (connaît ses qualités et ses défauts), peut réaliser ses qualités avec constance, est courageux et prend des risques calculés"},null,null,{"$f":"IF($H$2=\"G\",'Skills explications FTEM'!#REF!,'Skills explications FTEM'!#REF!)","v":{"$error":"#REF!"}},null,null,null,{"$f":"IFERROR(AVERAGE(O36:O40),\"-\")","v":"-"},null,null,null,{"$f":"IFERROR(AVERAGE(S36:S40),\"-\")","v":"-"},null,{"$f":"IFERROR(AVERAGE(U36:U40),\"-\")","v":"-"},null,{"$f":"IFERROR(AVERAGE(W36:W40),\"-\")","v":"-"},null,{"$f":"IFERROR(AVERAGE(Y36:Y40),\"-\")","v":"-"}]
[{"$f":"'Skills explications FTEM'!A28:A28","v":0},null,null,{"$f":"IF($H$2=\"G\",'Skills explications FTEM'!F28,'Skills explications FTEM'!B28)","v":"Facultés d'apprentissage"},null,null,{"$f":"IF($H$2=\"G\",'Skills explications FTEM'!G28,'Skills explications FTEM'!C28)","v":"A une bonne perception (il peut mémoriser et peut réaliser), il a de la personnalité, essaie d'apprendre de ses erreurs et est entreprenant"},null,null,{"$f":"IF($H$2=\"G\",'Skills explications FTEM'!#REF!,'Skills explications FTEM'!#REF!)","v":{"$error":"#REF!"}}]
[{"$f":"'Skills explications FTEM'!A29:A29","v":0},null,null,{"$f":"IF($H$2=\"G\",'Skills explications FTEM'!F29,'Skills explications FTEM'!B29)","v":"Prise de responsabilités"},null,null,{"$f":"IF($H$2=\"G\",'Skills explications FTEM'!G29,'Skills explications FTEM'!C29)","v":"Prend la responsabilité de ses performances et de son développement, est-il autonome, soigne-t-il les détails, a beaucoup d'engagement dans tous les domaines"},null,null,{"$f":"IF($H$2=\"G\",'Skills explications FTEM'!#REF!,'Skills explications FTEM'!#REF!)","v":{"$error":"#REF!"}}]
[null,null,null,{"$f":"IF($H$2=\"G\",'Skills explications FTEM'!F30,'Skills explications FTEM'!B30)","v":"Motivation"},null,null,{"$f":"IF($H$2=\"G\",'Skills explications FTEM'!G30,'Skills explications FTEM'!C30)","v":"Est toujours motivé, veut sans cesse se développer et apprendre, veut être le premier et avoir du succès, n'abandonne jamais et ne se laisse pas influencer par les échesc"},null,null,{"$f":"IF($H$2=\"G\",'Skills explications FTEM'!#REF!,'Skills explications FTEM'!#REF!)","v":{"$error":"#REF!"}}]
[{"$f":"'Skills explications FTEM'!A31:A31","v":0},null,null,{"$f":"IF($H$2=\"G\",'Skills explications FTEM'!F31,'Skills explications FTEM'!B31)","v":"Performance style de vie"},null,null,{"$f":"IF($H$2=\"G\",'Skills explications FTEM'!G31,'Skills explications FTEM'!C31)","v":"Gère bien son environnement et son temps libre selon les principes de la performance, obstiné, tenace et axé sur l'objectif, accent sur sa propre performance, est courageux et peut s'imposer contre la résistance, les défis le motivent"},null,null,{"$f":"IF($H$2=\"G\",'Skills explications FTEM'!#REF!,'Skills explications FTEM'!#REF!)","v":{"$error":"#REF!"}}]
[{"$f":"'Skills explications FTEM'!A32:A32","v":"FORCE MENTALE"},null,null,{"$f":"IF($H$2=\"G\",'Skills explications FTEM'!F32,'Skills explications FTEM'!B32)","v":"Engagement"},null,null,{"$f":"IF($H$2=\"G\",'Skills explications FTEM'!G32,'Skills explications FTEM'!C32)","v":"Démontre beaucoup d'intensité dans les entraînements et les matchs, donne toujours son maximum et veut sans cesse repousser ses limites, a-t-il de la passion, s'efforce-t-il de s'entraîner avec une excellente qualité"},null,null,{"$f":"IF($H$2=\"G\",'Skills explications FTEM'!#REF!,'Skills explications FTEM'!#REF!)","v":{"$error":"#REF!"}},null,null,null,{"$f":"IFERROR(AVERAGE(O41:O45),\"-\")","v":"-"},null,null,null,{"$f":"IFERROR(AVERAGE(S41:S45),\"-\")","v":"-"},null,{"$f":"IFERROR(AVERAGE(U41:U45),\"-\")","v":"-"},null,{"$f":"IFERROR(AVERAGE(W41:W45),\"-\")","v":"-"},null,{"$f":"IFERROR(AVERAGE(Y41:Y45),\"-\")","v":"-"}]
[{"$f":"'Skills explications FTEM'!A33:A33","v":0},null,null,{"$f":"IF($H$2=\"G\",'Skills explications FTEM'!F33,'Skills explications FTEM'!B33)","v":"Préparation"},null,null,{"$f":"IF($H$2=\"G\",'Skills explications FTEM'!G33,'Skills explications FTEM'!C33)","v":"Se prépare-t-il toujours bien, mentalement et physiquement, se prépare-t-il toujours bien pour obtenir le niveau de performance idéal (ILZ)"},null,null,{"$f":"IF($H$2=\"G\",'Skills explications FTEM'!#REF!,'Skills explications FTEM'!#REF!)","v":{"$error":"#REF!"}}]
[null,null,null,{"$f":"IF($H$2=\"G\",'Skills explications FTEM'!F34,'Skills explications FTEM'!B34)","v":"Coaching personnel"},null,null,{"$f":"IF($H$2=\"G\",'Skills explications FTEM'!G34,'Skills explications FTEM'!C34)","v":"A-t-il de bonnes facultés de concentration, peut-il maintenir son niveau de performance idéal (ILZ) dans les entraînements et les matchs, peut-il appliquer ses techniques de base, est-il résistant aux influences et pensées négatives, est-il conscient de son attitude corporelle et peut-il l'influencer"},null,null,{"$f":"IF($H$2=\"G\",'Skills explications FTEM'!#REF!,'Skills explications FTEM'!#REF!)","v":{"$error":"#REF!"}}]
[{"$f":"'Skills explications FTEM'!A34:A34","v":0},null,null,{"$f":"IF($H$2=\"G\",'Skills explications FTEM'!F35,'Skills explications FTEM'!B35)","v":"Gestion des énergies"},null,null,{"$f":"IF($H$2=\"G\",'Skills explications FTEM'!G35,'Skills explications FTEM'!C35)","v":"Peut-il gérer ses propres énergies, prend-il soin de sa récupération, peut-il gérer les moments où il faut se donner à fond ou quand il faut déconnecter, bouton On/Off"},null,null,{"$f":"IF($H$2=\"G\",'Skills explications FTEM'!#REF!,'Skills explications FTEM'!#REF!)","v":{"$error":"#REF!"}}]
[{"$f":"'Skills explications FTEM'!A36:A36","v":0},null,null,{"$f":"IF($H$2=\"G\",'Skills explications FTEM'!F36,'Skills explications FTEM'!B36)","v":"Contrôle des émotions"},null,null,{"$f":"IF($H$2=\"G\",'Skills explications FTEM'!G36,'Skills explications FTEM'!C36)","v":"Peut-il gérer ses propres émotions et impulsions, reste-t-il sous contrôle lorsqu'il y a une grande pression, peut-il rester calme lorsque le niveau émotionnel et de frustration est élevé"},null,null,{"$f":"IF($H$2=\"G\",'Skills explications FTEM'!#REF!,'Skills explications FTEM'!#REF!)","v":{"$error":"#REF!"}}]
[{"$f":"'Skills explications FTEM'!A37:A37","v":"PHYSIQUE"},null,null,{"$f":"IF($H$2=\"G\",'Skills explications FTEM'!F37,'Skills explications FTEM'!B37)","v":"Production de la performance"},null,null,{"$f":"IF($H$2=\"G\",'Skills explications FTEM'!G37,'Skills explications FTEM'!C37)","v":"A-t-il la puissance, la force, la vitesse nécessaires dans les jambes et le haut du corps (facteurs neuromusculaires)"},null,null,{"$f":"IF($H$2=\"G\",'Skills explications FTEM'!#REF!,'Skills explications FTEM'!#REF!)","v":{"$error":"#REF!"}},null,null,null,{"$f":"IFERROR(AVERAGE(O46:O50),\"-\")","v":"-"},null,null,null,{"$f":"IFERROR(AVERAGE(S46:S50),\"-\")","v":"-"},null,{"$f":"IFERROR(AVERAGE(U46:U50),\"-\")","v":"-"},null,{"$f":"IFERROR(AVERAGE(W46:W50),\"-\")","v":"-"},null,{"$f":"IFERROR(AVERAGE(Y46:Y50),\"-\")","v":"-"}]
[{"$f":"'Skills explications FTEM'!A38:A38","v":0},null,null,{"$f":"IF($H$2=\"G\",'Skills explications FTEM'!F38,'Skills explications FTEM'!B38)","v":"Spécifique au sport, résistant à l'effort"},null,null,{"$f":"IF($H$2=\"G\",'Skills explications FTEM'!G38,'Skills explications FTEM'!C38)","v":"Est-il capable de maintenir sa puissance, sa force, sa vitesse durant un long temps de glace et peut-il récupérer complètement entre ses engagements (facteurs du métabolisme et cardiovasculaire)"},null,null,{"$f":"IF($H$2=\"G\",'Skills explications FTEM'!#REF!,'Skills explications FTEM'!#REF!)","v":{"$error":"#REF!"}}]
[null,null,null,{"$f":"IF($H$2=\"G\",'Skills explications FTEM'!F39,'Skills explications FTEM'!B39)","v":"Santé / Prévention"},null,null,{"$f":"IF($H$2=\"G\",'Skills explications FTEM'!G39,'Skills explications FTEM'!C39)","v":"A-t-il la stabilité nécessaire (p. ex. ses appuis) et la mobilité nécessaire au niveau des articulations centrales"},null,null,{"$f":"IF($H$2=\"G\",'Skills explications FTEM'!#REF!,'Skills explications FTEM'!#REF!)","v":{"$error":"#REF!"}}]
[{"$f":"'Skills explications FTEM'!A39:A39","v":0},null,null,{"$f":"IF($H$2=\"G\",'Skills explications FTEM'!F40,'Skills explications FTEM'!B40)","v":"Mobilité / Coordination"},null,null,{"$f":"IF($H$2=\"G\",'Skills explications FTEM'!G40,'Skills explications FTEM'!C40)","v":"Gère-t-il ses aptitudes de mouvements de base, qui sont un fournisseur important des fonctions spécifiques «Skills» pour être efficace"},null,null,{"$f":"IF($H$2=\"G\",'Skills explications FTEM'!#REF!,'Skills explications FTEM'!#REF!)","v":{"$error":"#REF!"}}]
[{"$f":"'Skills explications FTEM'!A41:A41","v":0},null,null,{"$f":"IF($H$2=\"G\",'Skills explications FTEM'!F41,'Skills explications FTEM'!B41)","v":"Robustesse"},null,null,{"$f":"IF($H$2=\"G\",'Skills explications FTEM'!G41,'Skills explications FTEM'!C41)","v":"A-t-il la force de base nécessaire (tension corporelle) pour gagner des duels et résister aux charges"},null,null,{"$f":"IF($H$2=\"G\",'Skills explications FTEM'!#REF!,'Skills explications FTEM'!#REF!)","v":{"$error":"#REF!"}}]

{"sheet":"3","index":6,"n_rows":50,"n_cols":36,"rows_kept":50,"cut":false,"hidden":false,"merged":[[45,25,49,25],[45,26,49,32],[45,34,49,34],[40,23,44,23],[42,3,42,5],[42,6,42,11],[44,3,44,5],[44,6,44,11],[40,0,44,2],[40,3,40,5],[40,6,40,11],[40,12,44,12],[40,13,44,13],[40,15,44,15],[45,0,49,2],[45,3,45,5],[45,6,45,11],[45,12,49,12],[45,23,49,23],[47,3,47,5],[47,6,47,11],[48,3,48,5],[48,6,48,11],[49,3,49,5],[34,21,34,22],[35,17,39,17],[35,19,39,19],[35,21,39,21],[36,3,36,5],[36,6,36,11],[38,3,38,5],[38,6,38,11],[40,17,44,17],[40,19,44,19],[40,21,44,21],[43,3,43,5],[43,6,43,11],[37,3,37,5],[37,6,37,11],[41,3,41,5],[41,6,41,11],[29,0,33,2],[29,3,29,5],[29,6,29,11],[29,12,33,12],[29,13,33,13],[29,15,33,15],[34,23,34,24],[34,26,34,32],[35,0,39,2],[35,3,35,5],[35,6,35,11],[35,12,39,12],[35,13,39,13],[35,15,39,15],[39,3,39,5],[39,6,39,11],[35,23,39,23],[34,0,34,2],[34,3,34,5],[34,6,34,11],[34,13,34,14],[34,15,34,16],[34,17,34,18],[34,19,34,20],[23,21,28,21],[23,23,28,23],[24,3,24,5],[24,6,24,11],[28,3,28,5],[28,6,28,11],[33,3,33,5],[33,6,33,11],[29,23,33,23],[29,17,33,17],[29,19,33,19],[29,21,33,21],[30,3,30,5],[30,6,30,11],[31,3,31,5],[31,6,31,11],[25,3,25,5],[25,6,25,11],[32,3,32,5],[32,6,32,11],[18,15,22,15],[18,17,22,17],[18,19,22,19],[18,21,22,21],[18,23,22,23],[22,3,22,5],[22,6,22,11],[23,0,28,2],[23,3,23,5],[23,6,23,11],[23,12,28,12],[23,13,28,13],[23,15,28,15],[23,17,28,17],[18,0,22,2],[18,3,18,5],[18,6,18,11],[18,12,22,12],[18,13,22,13],[19,3,19,5],[19,6,19,11],[20,3,20,5],[20,6,20,11],[23,19,28,19],[12,23,16,23],[16,3,16,5],[16,6,16,11],[17,0,17,2],[17,3,17,5],[17,6,17,11],[17,13,17,14],[17,15,17,16],[17,17,17,18],[17,19,17,20],[17,21,17,22],[17,23,17,24],[12,0,16,2],[12,3,12,5],[12,6,12,11],[12,12,16,12],[12,13,16,13],[12,15,16,15],[12,17,16,17],[12,19,16,19],[12,21,16,21],[13,3,13,5],[13,6,13,11],[14,3,14,5],[11,0,11,2],[11,3,11,5],[11,13,11,14],[11,15,11,16],[11,17,11,18],[11,19,11,20],[11,21,11,22],[11,23,11,24],[11,26,11,32],[11,6,11,11],[0,33,0,35],[29,25,33,25],[29,26,33,32],[29,34,33,34],[35,25,39,25],[35,26,39,32],[35,34,39,34],[1,0,1,1],[1,2,1,5],[1,10,1,24],[2,0,2,1],[2,2,2,5],[2,11,2,24],[6,0,6,1],[6,2,6,35],[7,0,7,1],[7,2,7,35],[8,0,8,1],[8,2,8,35],[3,0,3,1],[3,10,3,24],[4,0,4,1],[4,2,4,5],[4,10,4,24],[49,6,49,11],[45,13,49,13],[45,15,49,15],[45,17,49,17],[45,19,49,19],[45,21,49,21],[0,0,0,24],[0,25,0,26],[0,27,0,32],[10,0,10,24],[10,25,10,35],[40,25,44,25],[40,26,44,32],[40,34,44,34],[12,25,16,25],[12,26,16,32],[12,34,16,34],[18,25,22,25],[18,26,22,32],[18,34,22,34],[23,25,28,25],[23,26,28,32],[23,34,28,34],[17,26,17,32],[46,3,46,5],[46,6,46,11],[14,6,14,11],[15,3,15,5],[15,6,15,11],[21,3,21,5],[21,6,21,11],[26,3,26,5],[26,6,26,11],[27,3,27,5],[27,6,27,11]]}
["Infos personelles",null,null,null,null,null,null,null,null,null,null,null,null,null,null,null,null,null,null,null,null,null,null,null,null,"Predispositions",null,"Evaluations",null,null,null,null,null,"Rating"]
["PRENOM",null,{"$f":"IF(ISBLANK(VLOOKUP(3,Tabelle3[],3,0)),\"-\",VLOOKUP(3,Tabelle3[],3,0))","v":"-"},null,null,null,"POSITION",null,null,"ADRESSE",{"$f":"IF(ISBLANK(VLOOKUP(3,Tabelle3[],5,0)),\"-\",VLOOKUP(3,Tabelle3[],5,0))","v":"-"},null,null,null,null,null,null,null,null,null,null,null,null,null,null,"\"àage\" (Biologique/age relatif)",null,"Date 1",null,null,"cm",null,"Kg",null,"AUSGEZEICHNET",5]
["NOM",null,{"$f":"IF(ISBLANK(VLOOKUP(3,Tabelle3[],2,0)),\"-\",VLOOKUP(3,Tabelle3[],2,0))","v":"-"},null,null,null,"CANNE",null,null,"LIEU",{"$f":"IF(ISBLANK(VLOOKUP(3,Tabelle3[],7,0)),\"-\",VLOOKUP(3,Tabelle3[],7,0))","v":"-"},{"$f":"IF(ISBLANK(VLOOKUP(3,Tabelle3[],6,0)),\"-\",VLOOKUP(3,Tabelle3[],6,0))","v":"-"},null,null,null,null,null,null,null,null,null,null,null,null,null,"predispositions",null,"Date 2",null,null,"cm",null,"Kg",null,"GUT",4]
["DATE NAISS.",null,{"$f":"IF(ISBLANK(VLOOKUP(3,Tabelle3[],14,0)),\"-\",VLOOKUP(3,Tabelle3[],14,0))","v":"-"},{"$f":"IF(ISBLANK(VLOOKUP(3,Tabelle3[],15,0)),\"-\",VLOOKUP(3,Tabelle3[],15,0))","v":"-"},{"$f":"IF(ISBLANK(VLOOKUP(3,Tabelle3[],16,0)),\"-\",VLOOKUP(3,Tabelle3[],16,0))","v":"-"},null,"GRANDEUR",null,"cm","PHONE",{"$f":"IF(ISBLANK(VLOOKUP(3,Tabelle3[],8,0)),\"-\",VLOOKUP(3,Tabelle3[],8,0))","v":"-"},null,null,null,null,null,null,null,null,null,null,null,null,null,null,"Entourage",null,"Date 3",null,null,"cm",null,"Kg",null,"DURCHSCHNITT",3]
["SEXE",null,{"$f":"IF(ISBLANK(VLOOKUP(3,Tabelle3[],13,0)),\"-\",VLOOKUP(3,Tabelle3[],13,0))","v":"-"},null,null,null,"POIDS",null,"Kg","E-Mail",{"$f":"IF(ISBLANK(VLOOKUP(3,Tabelle3[],9,0)),\"-\",VLOOKUP(3,Tabelle3[],9,0))","v":"-"},null,null,null,null,null,null,null,null,null,null,null,null,null,null,null,null,"Date 4",null,null,"cm",null,"Kg",null,"MANGELHAFT",2]
[null,null,null,null,null,null,null,null,null,null,null,null,null,null,null,null,null,null,null,null,null,null,null,null,null,null,null,"Date 5",null,null,"cm",null,"Kg",null,"UNGENÜGEND",1]
["Vision",null,"xxx"]
["Next step",null,"xxx"]
["Profil du Joueur",null,"xxx"]
[]
["EVALUATION (COACH / JOUEUR)",null,null,null,null,null,null,null,null,null,null,null,null,null,null,null,null,null,null,null,null,null,null,null,null,"SMART"]
[{"$f":"'Skills explications FTEM'!A3:A3","v":"TEAM"},null,null,{"$f":"'Skills explications FTEM'!B3","v":"COMPÉTENCES"},null,null,{"$f":"'Skills explications FTEM'!C3","v":"OBSERVATION"},null,null,{"$f":"'Skills explications FTEM'!H3","v":0},null,null,"Final","Date1",null,"Date2",null,"Date3",null,"Date4",null,"Date5",null,"Player",null,"BUT","MESURES:\nSPECIFIQUE, MESURABLES, REALISTE",null,null,null,null,null,null,"DELAI","CONTRÔLE DU BUT","Date"]
[{"$f":"'Skills explications FTEM'!A4:A4","v":"ÉQUIPE"},null,null,{"$f":"IF($H$2=\"G\",'Skills explications FTEM'!F4,'Skills explications FTEM'!B4)","v":"Communication"},null,null,{"$f":"IF($H$2=\"G\",'Skills explications FTEM'!G4,'Skills explications FTEM'!C4)","v":"Respect et ouverture dans ses relations, confiance comme base, traite les conflits sans perturber la stabilité du groupe, communique avec ses coéquipiers, les entraîneurs et les fonctionnaires avec les mêmes valeurs"},null,null,{"$f":"IF($H$2=\"G\",'Skills explications FTEM'!#REF!,'Skills explications FTEM'!#REF!)","v":{"$error":"#REF!"}},null,null,null,{"$f":"IFERROR(AVERAGE(O13:O17),\"-\")","v":"-"},null,{"$f":"IFERROR(AVERAGE(Q13:Q17),\"-\")","v":"-"},null,{"$f":"IFERROR(AVERAGE(S13:S17),\"-\")","v":"-"},null,{"$f":"IFERROR(AVERAGE(U13:U17),\"-\")","v":"-"},null,{"$f":"IFERROR(AVERAGE(W13:W17),\"-\")","v":"-"},null,{"$f":"IFERROR(AVERAGE(Y13:Y17),\"-\")","v":"-"}]
[null,null,null,{"$f":"IF($H$2=\"G\",'Skills explications FTEM'!F5,'Skills explications FTEM'!B5)","v":"Capacité de jouer en équipe"},null,null,{"$f":"IF($H$2=\"G\",'Skills explications FTEM'!G5,'Skills explications FTEM'!C5)","v":"Intégration dans le groupe, définit et réalise des objectifs communs, NOUS avant le MOI, participe au bon esprit d'équipe et à un bon climat de travail"},null,null,{"$f":"IF($H$2=\"G\",'Skills explications FTEM'!#REF!,'Skills explications FTEM'!#REF!)","v":{"$error":"#REF!"}}]
[null,null,null,{"$f":"IF($H$2=\"G\",'Skills explications FTEM'!F6,'Skills explications FTEM'!B6)","v":"Leadership"},null,null,{"$f":"IF($H$2=\"G\",'Skills explications FTEM'!G6,'Skills explications FTEM'!C6)","v":"Prend des responsabilités dans le groupe, essaie de donner de la valeur à ses coéquipiers et au groupe, influence positivement la dynamique de groupe"},null,null,{"$f":"IF($H$2=\"G\",'Skills explications FTEM'!#REF!,'Skills explications FTEM'!#REF!)","v":{"$error":"#REF!"}}]
[null,null,null,{"$f":"IF($H$2=\"G\",'Skills explications FTEM'!F7,'Skills explications FTEM'!B7)","v":"Répartition des rôles"},null,null,{"$f":"IF($H$2=\"G\",'Skills explications FTEM'!G7,'Skills explications FTEM'!C7)","v":"Connaît son rôle et le réalise, est conscient de sa position dans l'équipe et le système, met ses compétences à disposition de l'équipe"},null,null,{"$f":"IF($H$2=\"G\",'Skills explications FTEM'!#REF!,'Skills explications FTEM'!#REF!)","v":{"$error":"#REF!"}}]
[{"$f":"'Skills explications FTEM'!A8:A8","v":0},null,null,{"$f":"IF($H$2=\"G\",'Skills explications FTEM'!F8,'Skills explications FTEM'!B8)","v":"Respect"},null,null,{"$f":"IF($H$2=\"G\",'Skills explications FTEM'!G8,'Skills explications FTEM'!C8)","v":"Relations respectueuses avec les coéquipiers, les entraîneurs, les adversaires, les arbitres et le staff; respect des règles, des principes du fairplay (y compris antidopage)"},null,null,{"$f":"IF($H$2=\"G\",'Skills explications FTEM'!#REF!,'Skills explications FTEM'!#REF!)","v":{"$error":"#REF!"}}]
[{"$f":"'Skills explications FTEM'!A9:A9","v":"ON ICE"},null,null,{"$f":"'Skills explications FTEM'!B9","v":"COMPÉTENCES"},null,null,{"$f":"'Skills explications FTEM'!C9","v":"OBSERVATION"},null,null,{"$f":"'Skills explications FTEM'!H9","v":0},null,null,null,"Date1",null,"Date2",null,"Date3",null,"Date4",null,"Date5",null,"Player",null,"BUT","MESURES:\nSPECIFIQUE, MESURABLES, REALISTE",null,null,null,null,null,null,"DELAI","CONTRÔLE DU BUT","Date"]
[{"$f":"'Skills explications FTEM'!A10:A10","v":"PATINAGE"},null,null,{"$f":"IF($H$2=\"G\",'Skills explications FTEM'!F10,'Skills explications FTEM'!B10)","v":"Vitesse de patinage"},null,null,{"$f":"IF($H$2=\"G\",'Skills explications FTEM'!G10,'Skills explications FTEM'!C10)","v":"Accélération, départ, explosivité des 3 premiers pas, fréquence"},null,null,{"$f":"IF($H$2=\"G\",'Skills explications FTEM'!#REF!,'Skills explications FTEM'!#REF!)","v":{"$error":"#REF!"}},null,null,null,{"$f":"IFERROR(AVERAGE(O19:O23),\"-\")","v":"-"},null,{"$f":"IFERROR(AVERAGE(Q19:Q23),\"-\")","v":"-"},null,{"$f":"IFERROR(AVERAGE(S19:S23),\"-\")","v":"-"},null,{"$f":"IFERROR(AVERAGE(U19:U23),\"-\")","v":"-"},null,{"$f":"IFERROR(AVERAGE(W19:W23),\"-\")","v":"-"},null,{"$f":"IFERROR(AVERAGE(Y19:Y23),\"-\")","v":"-"}]
[{"$f":"'Skills explications FTEM'!A11:A11","v":0},null,null,{"$f":"IF($H$2=\"G\",'Skills explications FTEM'!F11,'Skills explications FTEM'!B11)","v":"Vitesse, rapidité"},null,null,{"$f":"IF($H$2=\"G\",'Skills explications FTEM'!G11,'Skills explications FTEM'!C11)","v":"Vitesse, faculté de glisse, avant et arrière, économie des forces"},null,null,{"$f":"IF($H$2=\"G\",'Skills explications FTEM'!#REF!,'Skills explications FTEM'!#REF!)","v":{"$error":"#REF!"}}]
[{"$f":"'Skills explications FTEM'!A12:A12","v":0},null,null,{"$f":"IF($H$2=\"G\",'Skills explications FTEM'!F12,'Skills explications FTEM'!B12)","v":"Agilité"},null,null,{"$f":"IF($H$2=\"G\",'Skills explications FTEM'!G12,'Skills explications FTEM'!C12)","v":"Changements de direction, pivots, stop et start «Nummelin»"},null,null,{"$f":"IF($H$2=\"G\",'Skills explications FTEM'!#REF!,'Skills explications FTEM'!#REF!)","v":{"$error":"#REF!"}},null,null,null,{"$f":"IFERROR(AVERAGE(O21:O23),\"-\")","v":"-"},null,{"$f":"IFERROR(AVERAGE(Q21:Q23),\"-\")","v":"-"},null,{"$f":"IFERROR(AVERAGE(S21:S23),\"-\")","v":"-"},null,{"$f":"IFERROR(AVERAGE(U21:U23),\"-\")","v":"-"},null,{"$f":"IFERROR(AVERAGE(W21:W23),\"-\")","v":"-"},null,"-"]
[null,null,null,{"$f":"IF($H$2=\"G\",'Skills explications FTEM'!F13,'Skills explications FTEM'!B13)","v":"Balance"},null,null,{"$f":"IF($H$2=\"G\",'Skills explications FTEM'!G13,'Skills explications FTEM'!C13)","v":"Equilibre, faculté d'être sur ses appuis, position basse, 1 ou 2 jambes"},null,null,{"$f":"IF($H$2=\"G\",'Skills explications FTEM'!#REF!,'Skills explications FTEM'!#REF!)","v":{"$error":"#REF!"}}]
[{"$f":"'Skills explications FTEM'!#REF!","v":{"$error":"#REF!"}},null,null,{"$f":"IF($H$2=\"G\",'Skills explications FTEM'!F14,'Skills explications FTEM'!B14)","v":"Patinage arrière"},null,null,{"$f":"IF($H$2=\"G\",'Skills explications FTEM'!G14,'Skills explications FTEM'!C14)","v":"Accélération, vitesse, équilibre "},null,null,{"$f":"IF($H$2=\"G\",'Skills explications FTEM'!#REF!,'Skills explications FTEM'!#REF!)","v":{"$error":"#REF!"}}]
[{"$f":"'Skills explications FTEM'!A15:A15","v":"SKILLS"},null,null,{"$f":"IF($H$2=\"G\",'Skills explications FTEM'!F15,'Skills explications FTEM'!B15)","v":"Tirer"},null,null,{"$f":"IF($H$2=\"G\",'Skills explications FTEM'!G15,'Skills explications FTEM'!C15)","v":"Efficience (pas d'espace et de temps), variantes, degré de surprise (déclenchement rapide), précision, puissance (conclusion tactique)"},null,null,{"$f":"IF($H$2=\"G\",'Skills explications FTEM'!#REF!,'Skills explications FTEM'!#REF!)","v":{"$error":"#REF!"}},null,null,null,{"$f":"IFERROR(AVERAGE(O24:O29),\"-\")","v":"-"},null,{"$f":"IFERROR(AVERAGE(Q24:Q29),\"-\")","v":"-"},null,{"$f":"IFERROR(AVERAGE(S24:S29),\"-\")","v":"-"},null,{"$f":"IFERROR(AVERAGE(U24:U29),\"-\")","v":"-"},null,{"$f":"IFERROR(AVERAGE(W24:W29),\"-\")","v":"-"},null,{"$f":"IFERROR(AVERAGE(Y24:Y29),\"-\")","v":"-"}]
[{"$f":"'Skills explications FTEM'!A16:A16","v":0},null,null,{"$f":"IF($H$2=\"G\",'Skills explications FTEM'!F16,'Skills explications FTEM'!B16)","v":"Passer"},null,null,{"$f":"IF($H$2=\"G\",'Skills explications FTEM'!G16,'Skills explications FTEM'!C16)","v":"Donne la passe (distance, passe flipée en revers), réception de la passe (précision, timing, coup droit, revers, patins), vitesse du puck"},null,null,{"$f":"IF($H$2=\"G\",'Skills explications FTEM'!#REF!,'Skills explications FTEM'!#REF!)","v":{"$error":"#REF!"}}]
[{"$f":"'Skills explications FTEM'!A17:A17","v":0},null,null,{"$f":"IF($H$2=\"G\",'Skills explications FTEM'!F17,'Skills explications FTEM'!B17)","v":"Travail de canne, conduite du puck"},null,null,{"$f":"IF($H$2=\"G\",'Skills explications FTEM'!G17,'Skills explications FTEM'!C17)","v":"Puck sur la palette, intercepte les lignes de passe, déviation, contrôle de la canne de l'adversaire"},null,null,{"$f":"IF($H$2=\"G\",'Skills explications FTEM'!#REF!,'Skills explications FTEM'!#REF!)","v":{"$error":"#REF!"}}]
[null,null,null,{"$f":"IF($H$2=\"G\",'Skills explications FTEM'!F18,'Skills explications FTEM'!B18)","v":"Protéger le puck"},null,null,{"$f":"IF($H$2=\"G\",'Skills explications FTEM'!G18,'Skills explications FTEM'!C18)","v":"Contrôle du puck, dribbling, protection du puck, feintes (variantes: avec les patins ou avec et sans la bande), mise au jeu (bully)"},null,null,{"$f":"IF($H$2=\"G\",'Skills explications FTEM'!#REF!,'Skills explications FTEM'!#REF!)","v":{"$error":"#REF!"}}]
[null,null,null,{"$f":"IF($H$2=\"G\",'Skills explications FTEM'!F19,'Skills explications FTEM'!B19)","v":"Jeu du corps (charges)"},null,null,{"$f":"IF($H$2=\"G\",'Skills explications FTEM'!G19,'Skills explications FTEM'!C19)","v":"Faculté de s'imposer physiquement, duels (sur la surface de glace ou à la bande), prendre des checks, lever la tête, niveau de lutte, dur mais correct, bloquer les tirs avec le corps"},null,null,{"$f":"IF($H$2=\"G\",'Skills explications FTEM'!#REF!,'Skills explications FTEM'!#REF!)","v":{"$error":"#REF!"}}]
[{"$f":"'Skills explications FTEM'!A20:A20","v":0},null,null,{"$f":"IF($H$2=\"G\",'Skills explications FTEM'!F20,'Skills explications FTEM'!B20)","v":"-"},null,null,{"$f":"IF($H$2=\"G\",'Skills explications FTEM'!G20,'Skills explications FTEM'!C20)","v":"-"},null,null,{"$f":"IF($H$2=\"G\",'Skills explications FTEM'!#REF!,'Skills explications FTEM'!#REF!)","v":{"$error":"#REF!"}}]
[{"$f":"'Skills explications FTEM'!A21:A21","v":"HOCKEY SENSE"},null,null,{"$f":"IF($H$2=\"G\",'Skills explications FTEM'!F21,'Skills explications FTEM'!B21)","v":"Intelligence de jeu"},null,null,{"$f":"IF($H$2=\"G\",'Skills explications FTEM'!G21,'Skills explications FTEM'!C21)","v":"Voit les zones libres avec joueurs et crée des situations de surnombre, trouve des solutions et agit en toute situation, vitesse de la visualisation"},null,null,{"$f":"IF($H$2=\"G\",'Skills explications FTEM'!#REF!,'Skills explications FTEM'!#REF!)","v":{"$error":"#REF!"}},null,null,null,{"$f":"IFERROR(AVERAGE(O30:O34),\"-\")","v":"-"},null,{"$f":"IFERROR(AVERAGE(Q30:Q34),\"-\")","v":"-"},null,{"$f":"IFERROR(AVERAGE(S30:S34),\"-\")","v":"-"},null,{"$f":"IFERROR(AVERAGE(U30:U34),\"-\")","v":"-"},null,{"$f":"IFERROR(AVERAGE(W30:W34),\"-\")","v":"-"},null,{"$f":"IFERROR(AVERAGE(Y30:Y34),\"-\")","v":"-"}]
[{"$f":"'Skills explications FTEM'!A22:A22","v":0},null,null,{"$f":"IF($H$2=\"G\",'Skills explications FTEM'!F22,'Skills explications FTEM'!B22)","v":"Sensibilisation offensive"},null,null,{"$f":"IF($H$2=\"G\",'Skills explications FTEM'!G22,'Skills explications FTEM'!C22)","v":"Se démarque, anticipation des situations de jeu, ouvre des zones libres pour ses coéquipiers, se place pour marquer, vitesse de mise sous pression, communication"},null,null,{"$f":"IF($H$2=\"G\",'Skills explications FTEM'!#REF!,'Skills explications FTEM'!#REF!)","v":{"$error":"#REF!"}}]
[null,null,null,{"$f":"IF($H$2=\"G\",'Skills explications FTEM'!F23,'Skills explications FTEM'!B23)","v":"Sensibilisation défensive"},null,null,{"$f":"IF($H$2=\"G\",'Skills explications FTEM'!G23,'Skills explications FTEM'!C23)","v":"Garde la position «inside», protège le slot, rassure les coéquipiers, support, anticipe les lignes de passe, bloque les tirs. Réduit rapidement la distance sur l'adversaire, communication"},null,null,{"$f":"IF($H$2=\"G\",'Skills explications FTEM'!#REF!,'Skills explications FTEM'!#REF!)","v":{"$error":"#REF!"}}]
[{"$f":"'Skills explications FTEM'!A23:A23","v":0},null,null,{"$f":"IF($H$2=\"G\",'Skills explications FTEM'!F24,'Skills explications FTEM'!B24)","v":"Gestion du puck"},null,null,{"$f":"IF($H$2=\"G\",'Skills explications FTEM'!G24,'Skills explications FTEM'!C24)","v":"Fait le bon choix en fonction de la situation, support, surnombre"},null,null,{"$f":"IF($H$2=\"G\",'Skills explications FTEM'!#REF!,'Skills explications FTEM'!#REF!)","v":{"$error":"#REF!"}}]
[{"$f":"'Skills explications FTEM'!A25:A25","v":0},null,null,{"$f":"IF($H$2=\"G\",'Skills explications FTEM'!F25,'Skills explications FTEM'!B25)","v":"Créativité"},null,null,{"$f":"IF($H$2=\"G\",'Skills explications FTEM'!G25,'Skills explications FTEM'!C25)","v":"Prises de décision surprenantes, sens du but"},null,null,{"$f":"IF($H$2=\"G\",'Skills explications FTEM'!#REF!,'Skills explications FTEM'!#REF!)","v":{"$error":"#REF!"}}]
[{"$f":"'Skills explications FTEM'!A26:A26","v":"PERSONALITY"},null,null,{"$f":"'Skills explications FTEM'!B26","v":"COMPÉTENCES"},null,null,{"$f":"'Skills explications FTEM'!C26","v":"OBSERVATION"},null,null,{"$f":"'Skills explications FTEM'!H26","v":0},null,null,null,"Date1",null,"Date2",null,"Date3",null,"Date4",null,"Date5",null,"Player",null,"BUT","MESURES:\nSPECIFIQUE, MESURABLES, REALISTE",null,null,null,null,null,null,"DELAI","CONTRÔLE DU BUT","Date"]
[{"$f":"'Skills explications FTEM'!A27:A27","v":"PERSONNALITÉ"},null,null,{"$f":"IF($H$2=\"G\",'Skills explications FTEM'!F27,'Skills explications FTEM'!B27)","v":"Confiance en soi"},null,null,{"$f":"IF($H$2=\"G\",'Skills explications FTEM'!G27,'Skills explications FTEM'!C27)","v":"Est en confiance,«I can do it», peut estimer ses capacités (connaît ses qualités et ses défauts), peut réaliser ses qualités avec constance, est courageux et prend des risques calculés"},null,null,{"$f":"IF($H$2=\"G\",'Skills explications FTEM'!#REF!,'Skills explications FTEM'!#REF!)","v":{"$error":"#REF!"}},null,null,null,{"$f":"IFERROR(AVERAGE(O36:O40),\"-\")","v":"-"},null,null,null,{"$f":"IFERROR(AVERAGE(S36:S40),\"-\")","v":"-"},null,{"$f":"IFERROR(AVERAGE(U36:U40),\"-\")","v":"-"},null,{"$f":"IFERROR(AVERAGE(W36:W40),\"-\")","v":"-"},null,{"$f":"IFERROR(AVERAGE(Y36:Y40),\"-\")","v":"-"}]
[{"$f":"'Skills explications FTEM'!A28:A28","v":0},null,null,{"$f":"IF($H$2=\"G\",'Skills explications FTEM'!F28,'Skills explications FTEM'!B28)","v":"Facultés d'apprentissage"},null,null,{"$f":"IF($H$2=\"G\",'Skills explications FTEM'!G28,'Skills explications FTEM'!C28)","v":"A une bonne perception (il peut mémoriser et peut réaliser), il a de la personnalité, essaie d'apprendre de ses erreurs et est entreprenant"},null,null,{"$f":"IF($H$2=\"G\",'Skills explications FTEM'!#REF!,'Skills explications FTEM'!#REF!)","v":{"$error":"#REF!"}}]
[{"$f":"'Skills explications FTEM'!A29:A29","v":0},null,null,{"$f":"IF($H$2=\"G\",'Skills explications FTEM'!F29,'Skills explications FTEM'!B29)","v":"Prise de responsabilités"},null,null,{"$f":"IF($H$2=\"G\",'Skills explications FTEM'!G29,'Skills explications FTEM'!C29)","v":"Prend la responsabilité de ses performances et de son développement, est-il autonome, soigne-t-il les détails, a beaucoup d'engagement dans tous les domaines"},null,null,{"$f":"IF($H$2=\"G\",'Skills explications FTEM'!#REF!,'Skills explications FTEM'!#REF!)","v":{"$error":"#REF!"}}]
[null,null,null,{"$f":"IF($H$2=\"G\",'Skills explications FTEM'!F30,'Skills explications FTEM'!B30)","v":"Motivation"},null,null,{"$f":"IF($H$2=\"G\",'Skills explications FTEM'!G30,'Skills explications FTEM'!C30)","v":"Est toujours motivé, veut sans cesse se développer et apprendre, veut être le premier et avoir du succès, n'abandonne jamais et ne se laisse pas influencer par les échesc"},null,null,{"$f":"IF($H$2=\"G\",'Skills explications FTEM'!#REF!,'Skills explications FTEM'!#REF!)","v":{"$error":"#REF!"}}]
[{"$f":"'Skills explications FTEM'!A31:A31","v":0},null,null,{"$f":"IF($H$2=\"G\",'Skills explications FTEM'!F31,'Skills explications FTEM'!B31)","v":"Performance style de vie"},null,null,{"$f":"IF($H$2=\"G\",'Skills explications FTEM'!G31,'Skills explications FTEM'!C31)","v":"Gère bien son environnement et son temps libre selon les principes de la performance, obstiné, tenace et axé sur l'objectif, accent sur sa propre performance, est courageux et peut s'imposer contre la résistance, les défis le motivent"},null,null,{"$f":"IF($H$2=\"G\",'Skills explications FTEM'!#REF!,'Skills explications FTEM'!#REF!)","v":{"$error":"#REF!"}}]
[{"$f":"'Skills explications FTEM'!A32:A32","v":"FORCE MENTALE"},null,null,{"$f":"IF($H$2=\"G\",'Skills explications FTEM'!F32,'Skills explications FTEM'!B32)","v":"Engagement"},null,null,{"$f":"IF($H$2=\"G\",'Skills explications FTEM'!G32,'Skills explications FTEM'!C32)","v":"Démontre beaucoup d'intensité dans les entraînements et les matchs, donne toujours son maximum et veut sans cesse repousser ses limites, a-t-il de la passion, s'efforce-t-il de s'entraîner avec une excellente qualité"},null,null,{"$f":"IF($H$2=\"G\",'Skills explications FTEM'!#REF!,'Skills explications FTEM'!#REF!)","v":{"$error":"#REF!"}},null,null,null,{"$f":"IFERROR(AVERAGE(O41:O45),\"-\")","v":"-"},null,null,null,{"$f":"IFERROR(AVERAGE(S41:S45),\"-\")","v":"-"},null,{"$f":"IFERROR(AVERAGE(U41:U45),\"-\")","v":"-"},null,{"$f":"IFERROR(AVERAGE(W41:W45),\"-\")","v":"-"},null,{"$f":"IFERROR(AVERAGE(Y41:Y45),\"-\")","v":"-"}]
[{"$f":"'Skills explications FTEM'!A33:A33","v":0},null,null,{"$f":"IF($H$2=\"G\",'Skills explications FTEM'!F33,'Skills explications FTEM'!B33)","v":"Préparation"},null,null,{"$f":"IF($H$2=\"G\",'Skills explications FTEM'!G33,'Skills explications FTEM'!C33)","v":"Se prépare-t-il toujours bien, mentalement et physiquement, se prépare-t-il toujours bien pour obtenir le niveau de performance idéal (ILZ)"},null,null,{"$f":"IF($H$2=\"G\",'Skills explications FTEM'!#REF!,'Skills explications FTEM'!#REF!)","v":{"$error":"#REF!"}}]
[null,null,null,{"$f":"IF($H$2=\"G\",'Skills explications FTEM'!F34,'Skills explications FTEM'!B34)","v":"Coaching personnel"},null,null,{"$f":"IF($H$2=\"G\",'Skills explications FTEM'!G34,'Skills explications FTEM'!C34)","v":"A-t-il de bonnes facultés de concentration, peut-il maintenir son niveau de performance idéal (ILZ) dans les entraînements et les matchs, peut-il appliquer ses techniques de base, est-il résistant aux influences et pensées négatives, est-il conscient de son attitude corporelle et peut-il l'influencer"},null,null,{"$f":"IF($H$2=\"G\",'Skills explications FTEM'!#REF!,'Skills explications FTEM'!#REF!)","v":{"$error":"#REF!"}}]
[{"$f":"'Skills explications FTEM'!A34:A34","v":0},null,null,{"$f":"IF($H$2=\"G\",'Skills explications FTEM'!F35,'Skills explications FTEM'!B35)","v":"Gestion des énergies"},null,null,{"$f":"IF($H$2=\"G\",'Skills explications FTEM'!G35,'Skills explications FTEM'!C35)","v":"Peut-il gérer ses propres énergies, prend-il soin de sa récupération, peut-il gérer les moments où il faut se donner à fond ou quand il faut déconnecter, bouton On/Off"},null,null,{"$f":"IF($H$2=\"G\",'Skills explications FTEM'!#REF!,'Skills explications FTEM'!#REF!)","v":{"$error":"#REF!"}}]
[{"$f":"'Skills explications FTEM'!A36:A36","v":0},null,null,{"$f":"IF($H$2=\"G\",'Skills explications FTEM'!F36,'Skills explications FTEM'!B36)","v":"Contrôle des émotions"},null,null,{"$f":"IF($H$2=\"G\",'Skills explications FTEM'!G36,'Skills explications FTEM'!C36)","v":"Peut-il gérer ses propres émotions et impulsions, reste-t-il sous contrôle lorsqu'il y a une grande pression, peut-il rester calme lorsque le niveau émotionnel et de frustration est élevé"},null,null,{"$f":"IF($H$2=\"G\",'Skills explications FTEM'!#REF!,'Skills explications FTEM'!#REF!)","v":{"$error":"#REF!"}}]
[{"$f":"'Skills explications FTEM'!A37:A37","v":"PHYSIQUE"},null,null,{"$f":"IF($H$2=\"G\",'Skills explications FTEM'!F37,'Skills explications FTEM'!B37)","v":"Production de la performance"},null,null,{"$f":"IF($H$2=\"G\",'Skills explications FTEM'!G37,'Skills explications FTEM'!C37)","v":"A-t-il la puissance, la force, la vitesse nécessaires dans les jambes et le haut du corps (facteurs neuromusculaires)"},null,null,{"$f":"IF($H$2=\"G\",'Skills explications FTEM'!#REF!,'Skills explications FTEM'!#REF!)","v":{"$error":"#REF!"}},null,null,null,{"$f":"IFERROR(AVERAGE(O46:O50),\"-\")","v":"-"},null,null,null,{"$f":"IFERROR(AVERAGE(S46:S50),\"-\")","v":"-"},null,{"$f":"IFERROR(AVERAGE(U46:U50),\"-\")","v":"-"},null,{"$f":"IFERROR(AVERAGE(W46:W50),\"-\")","v":"-"},null,{"$f":"IFERROR(AVERAGE(Y46:Y50),\"-\")","v":"-"}]
[{"$f":"'Skills explications FTEM'!A38:A38","v":0},null,null,{"$f":"IF($H$2=\"G\",'Skills explications FTEM'!F38,'Skills explications FTEM'!B38)","v":"Spécifique au sport, résistant à l'effort"},null,null,{"$f":"IF($H$2=\"G\",'Skills explications FTEM'!G38,'Skills explications FTEM'!C38)","v":"Est-il capable de maintenir sa puissance, sa force, sa vitesse durant un long temps de glace et peut-il récupérer complètement entre ses engagements (facteurs du métabolisme et cardiovasculaire)"},null,null,{"$f":"IF($H$2=\"G\",'Skills explications FTEM'!#REF!,'Skills explications FTEM'!#REF!)","v":{"$error":"#REF!"}}]
[null,null,null,{"$f":"IF($H$2=\"G\",'Skills explications FTEM'!F39,'Skills explications FTEM'!B39)","v":"Santé / Prévention"},null,null,{"$f":"IF($H$2=\"G\",'Skills explications FTEM'!G39,'Skills explications FTEM'!C39)","v":"A-t-il la stabilité nécessaire (p. ex. ses appuis) et la mobilité nécessaire au niveau des articulations centrales"},null,null,{"$f":"IF($H$2=\"G\",'Skills explications FTEM'!#REF!,'Skills explications FTEM'!#REF!)","v":{"$error":"#REF!"}}]
[{"$f":"'Skills explications FTEM'!A39:A39","v":0},null,null,{"$f":"IF($H$2=\"G\",'Skills explications FTEM'!F40,'Skills explications FTEM'!B40)","v":"Mobilité / Coordination"},null,null,{"$f":"IF($H$2=\"G\",'Skills explications FTEM'!G40,'Skills explications FTEM'!C40)","v":"Gère-t-il ses aptitudes de mouvements de base, qui sont un fournisseur important des fonctions spécifiques «Skills» pour être efficace"},null,null,{"$f":"IF($H$2=\"G\",'Skills explications FTEM'!#REF!,'Skills explications FTEM'!#REF!)","v":{"$error":"#REF!"}}]
[{"$f":"'Skills explications FTEM'!A41:A41","v":0},null,null,{"$f":"IF($H$2=\"G\",'Skills explications FTEM'!F41,'Skills explications FTEM'!B41)","v":"Robustesse"},null,null,{"$f":"IF($H$2=\"G\",'Skills explications FTEM'!G41,'Skills explications FTEM'!C41)","v":"A-t-il la force de base nécessaire (tension corporelle) pour gagner des duels et résister aux charges"},null,null,{"$f":"IF($H$2=\"G\",'Skills explications FTEM'!#REF!,'Skills explications FTEM'!#REF!)","v":{"$error":"#REF!"}}]

{"sheet":"4","index":7,"n_rows":50,"n_cols":36,"rows_kept":50,"cut":false,"hidden":false,"merged":[[45,25,49,25],[45,26,49,32],[45,34,49,34],[40,23,44,23],[42,3,42,5],[42,6,42,11],[44,3,44,5],[44,6,44,11],[40,0,44,2],[40,3,40,5],[40,6,40,11],[40,12,44,12],[40,13,44,13],[40,15,44,15],[45,0,49,2],[45,3,45,5],[45,6,45,11],[45,12,49,12],[45,23,49,23],[47,3,47,5],[47,6,47,11],[48,3,48,5],[48,6,48,11],[49,3,49,5],[34,21,34,22],[35,17,39,17],[35,19,39,19],[35,21,39,21],[36,3,36,5],[36,6,36,11],[38,3,38,5],[38,6,38,11],[40,17,44,17],[40,19,44,19],[40,21,44,21],[43,3,43,5],[43,6,43,11],[37,3,37,5],[37,6,37,11],[41,3,41,5],[41,6,41,11],[29,0,33,2],[29,3,29,5],[29,6,29,11],[29,12,33,12],[29,13,33,13],[29,15,33,15],[34,23,34,24],[34,26,34,32],[35,0,39,2],[35,3,35,5],[35,6,35,11],[35,12,39,12],[35,13,39,13],[35,15,39,15],[39,3,39,5],[39,6,39,11],[35,23,39,23],[34,0,34,2],[34,3,34,5],[34,6,34,11],[34,13,34,14],[34,15,34,16],[34,17,34,18],[34,19,34,20],[23,21,28,21],[23,23,28,23],[24,3,24,5],[24,6,24,11],[28,3,28,5],[28,6,28,11],[33,3,33,5],[33,6,33,11],[29,23,33,23],[29,17,33,17],[29,19,33,19],[29,21,33,21],[30,3,30,5],[30,6,30,11],[31,3,31,5],[31,6,31,11],[25,3,25,5],[25,6,25,11],[32,3,32,5],[32,6,32,11],[18,15,22,15],[18,17,22,17],[18,19,22,19],[18,21,22,21],[18,23,22,23],[22,3,22,5],[22,6,22,11],[23,0,28,2],[23,3,23,5],[23,6,23,11],[23,12,28,12],[23,13,28,13],[23,15,28,15],[23,17,28,17],[18,0,22,2],[18,3,18,5],[18,6,18,11],[18,12,22,12],[18,13,22,13],[19,3,19,5],[19,6,19,11],[20,3,20,5],[20,6,20,11],[23,19,28,19],[12,23,16,23],[16,3,16,5],[16,6,16,11],[17,0,17,2],[17,3,17,5],[17,6,17,11],[17,13,17,14],[17,15,17,16],[17,17,17,18],[17,19,17,20],[17,21,17,22],[17,23,17,24],[12,0,16,2],[12,3,12,5],[12,6,12,11],[12,12,16,12],[12,13,16,13],[12,15,16,15],[12,17,16,17],[12,19,16,19],[12,21,16,21],[13,3,13,5],[13,6,13,11],[14,3,14,5],[11,0,11,2],[11,3,11,5],[11,13,11,14],[11,15,11,16],[11,17,11,18],[11,19,11,20],[11,21,11,22],[11,23,11,24],[11,26,11,32],[11,6,11,11],[0,33,0,35],[29,25,33,25],[29,26,33,32],[29,34,33,34],[35,25,39,25],[35,26,39,32],[35,34,39,34],[1,0,1,1],[1,2,1,5],[1,10,1,24],[2,0,2,1],[2,2,2,5],[2,11,2,24],[6,0,6,1],[6,2,6,35],[7,0,7,1],[7,2,7,35],[8,0,8,1],[8,2,8,35],[3,0,3,1],[3,10,3,24],[4,0,4,1],[4,2,4,5],[4,10,4,24],[49,6,49,11],[45,13,49,13],[45,15,49,15],[45,17,49,17],[45,19,49,19],[45,21,49,21],[0,0,0,24],[0,25,0,26],[0,27,0,32],[10,0,10,24],[10,25,10,35],[40,25,44,25],[40,26,44,32],[40,34,44,34],[12,25,16,25],[12,26,16,32],[12,34,16,34],[18,25,22,25],[18,26,22,32],[18,34,22,34],[23,25,28,25],[23,26,28,32],[23,34,28,34],[17,26,17,32],[46,3,46,5],[46,6,46,11],[14,6,14,11],[15,3,15,5],[15,6,15,11],[21,3,21,5],[21,6,21,11],[26,3,26,5],[26,6,26,11],[27,3,27,5],[27,6,27,11]]}
["Infos personelles",null,null,null,null,null,null,null,null,null,null,null,null,null,null,null,null,null,null,null,null,null,null,null,null,"Predispositions",null,"Evaluations",null,null,null,null,null,"Rating"]
["PRENOM",null,{"$f":"IF(ISBLANK(VLOOKUP(4,Tabelle3[],3,0)),\"-\",VLOOKUP(4,Tabelle3[],3,0))","v":"-"},null,null,null,"POSITION",null,null,"ADRESSE",{"$f":"IF(ISBLANK(VLOOKUP(4,Tabelle3[],5,0)),\"-\",VLOOKUP(4,Tabelle3[],5,0))","v":"-"},null,null,null,null,null,null,null,null,null,null,null,null,null,null,"\"àage\" (Biologique/age relatif)",null,"Date 1",null,null,"cm",null,"Kg",null,"AUSGEZEICHNET",5]
["NOM",null,{"$f":"IF(ISBLANK(VLOOKUP(4,Tabelle3[],2,0)),\"-\",VLOOKUP(4,Tabelle3[],2,0))","v":"-"},null,null,null,"CANNE",null,null,"LIEU",{"$f":"IF(ISBLANK(VLOOKUP(4,Tabelle3[],7,0)),\"-\",VLOOKUP(4,Tabelle3[],7,0))","v":"-"},{"$f":"IF(ISBLANK(VLOOKUP(4,Tabelle3[],6,0)),\"-\",VLOOKUP(4,Tabelle3[],6,0))","v":"-"},null,null,null,null,null,null,null,null,null,null,null,null,null,"predispositions",null,"Date 2",null,null,"cm",null,"Kg",null,"GUT",4]
["DATE NAISS.",null,{"$f":"IF(ISBLANK(VLOOKUP(4,Tabelle3[],14,0)),\"-\",VLOOKUP(4,Tabelle3[],14,0))","v":"-"},{"$f":"IF(ISBLANK(VLOOKUP(4,Tabelle3[],15,0)),\"-\",VLOOKUP(4,Tabelle3[],15,0))","v":"-"},{"$f":"IF(ISBLANK(VLOOKUP(4,Tabelle3[],16,0)),\"-\",VLOOKUP(4,Tabelle3[],16,0))","v":"-"},null,"GRANDEUR",null,"cm","PHONE",{"$f":"IF(ISBLANK(VLOOKUP(4,Tabelle3[],8,0)),\"-\",VLOOKUP(4,Tabelle3[],8,0))","v":"-"},null,null,null,null,null,null,null,null,null,null,null,null,null,null,"Entourage",null,"Date 3",null,null,"cm",null,"Kg",null,"DURCHSCHNITT",3]
["SEXE",null,{"$f":"IF(ISBLANK(VLOOKUP(4,Tabelle3[],13,0)),\"-\",VLOOKUP(4,Tabelle3[],13,0))","v":"-"},null,null,null,"POIDS",null,"Kg","E-Mail",{"$f":"IF(ISBLANK(VLOOKUP(4,Tabelle3[],9,0)),\"-\",VLOOKUP(4,Tabelle3[],9,0))","v":"-"},null,null,null,null,null,null,null,null,null,null,null,null,null,null,null,null,"Date 4",null,null,"cm",null,"Kg",null,"MANGELHAFT",2]
[null,null,null,null,null,null,null,null,null,null,null,null,null,null,null,null,null,null,null,null,null,null,null,null,null,null,null,"Date 5",null,null,"cm",null,"Kg",null,"UNGENÜGEND",1]
["Vision",null,"xxx"]
["Next step",null,"xxx"]
["Profil du Joueur",null,"xxx"]
[]
["EVALUATION (COACH / JOUEUR)",null,null,null,null,null,null,null,null,null,null,null,null,null,null,null,null,null,null,null,null,null,null,null,null,"SMART"]
[{"$f":"'Skills explications FTEM'!A3:A3","v":"TEAM"},null,null,{"$f":"'Skills explications FTEM'!B3","v":"COMPÉTENCES"},null,null,{"$f":"'Skills explications FTEM'!C3","v":"OBSERVATION"},null,null,{"$f":"'Skills explications FTEM'!H3","v":0},null,null,"Final","Date1",null,"Date2",null,"Date3",null,"Date4",null,"Date5",null,"Player",null,"BUT","MESURES:\nSPECIFIQUE, MESURABLES, REALISTE",null,null,null,null,null,null,"DELAI","CONTRÔLE DU BUT","Date"]
[{"$f":"'Skills explications FTEM'!A4:A4","v":"ÉQUIPE"},null,null,{"$f":"IF($H$2=\"G\",'Skills explications FTEM'!F4,'Skills explications FTEM'!B4)","v":"Communication"},null,null,{"$f":"IF($H$2=\"G\",'Skills explications FTEM'!G4,'Skills explications FTEM'!C4)","v":"Respect et ouverture dans ses relations, confiance comme base, traite les conflits sans perturber la stabilité du groupe, communique avec ses coéquipiers, les entraîneurs et les fonctionnaires avec les mêmes valeurs"},null,null,{"$f":"IF($H$2=\"G\",'Skills explications FTEM'!#REF!,'Skills explications FTEM'!#REF!)","v":{"$error":"#REF!"}},null,null,null,{"$f":"IFERROR(AVERAGE(O13:O17),\"-\")","v":"-"},null,{"$f":"IFERROR(AVERAGE(Q13:Q17),\"-\")","v":"-"},null,{"$f":"IFERROR(AVERAGE(S13:S17),\"-\")","v":"-"},null,{"$f":"IFERROR(AVERAGE(U13:U17),\"-\")","v":"-"},null,{"$f":"IFERROR(AVERAGE(W13:W17),\"-\")","v":"-"},null,{"$f":"IFERROR(AVERAGE(Y13:Y17),\"-\")","v":"-"}]
[null,null,null,{"$f":"IF($H$2=\"G\",'Skills explications FTEM'!F5,'Skills explications FTEM'!B5)","v":"Capacité de jouer en équipe"},null,null,{"$f":"IF($H$2=\"G\",'Skills explications FTEM'!G5,'Skills explications FTEM'!C5)","v":"Intégration dans le groupe, définit et réalise des objectifs communs, NOUS avant le MOI, participe au bon esprit d'équipe et à un bon climat de travail"},null,null,{"$f":"IF($H$2=\"G\",'Skills explications FTEM'!#REF!,'Skills explications FTEM'!#REF!)","v":{"$error":"#REF!"}}]
[null,null,null,{"$f":"IF($H$2=\"G\",'Skills explications FTEM'!F6,'Skills explications FTEM'!B6)","v":"Leadership"},null,null,{"$f":"IF($H$2=\"G\",'Skills explications FTEM'!G6,'Skills explications FTEM'!C6)","v":"Prend des responsabilités dans le groupe, essaie de donner de la valeur à ses coéquipiers et au groupe, influence positivement la dynamique de groupe"},null,null,{"$f":"IF($H$2=\"G\",'Skills explications FTEM'!#REF!,'Skills explications FTEM'!#REF!)","v":{"$error":"#REF!"}}]
[null,null,null,{"$f":"IF($H$2=\"G\",'Skills explications FTEM'!F7,'Skills explications FTEM'!B7)","v":"Répartition des rôles"},null,null,{"$f":"IF($H$2=\"G\",'Skills explications FTEM'!G7,'Skills explications FTEM'!C7)","v":"Connaît son rôle et le réalise, est conscient de sa position dans l'équipe et le système, met ses compétences à disposition de l'équipe"},null,null,{"$f":"IF($H$2=\"G\",'Skills explications FTEM'!#REF!,'Skills explications FTEM'!#REF!)","v":{"$error":"#REF!"}}]
[{"$f":"'Skills explications FTEM'!A8:A8","v":0},null,null,{"$f":"IF($H$2=\"G\",'Skills explications FTEM'!F8,'Skills explications FTEM'!B8)","v":"Respect"},null,null,{"$f":"IF($H$2=\"G\",'Skills explications FTEM'!G8,'Skills explications FTEM'!C8)","v":"Relations respectueuses avec les coéquipiers, les entraîneurs, les adversaires, les arbitres et le staff; respect des règles, des principes du fairplay (y compris antidopage)"},null,null,{"$f":"IF($H$2=\"G\",'Skills explications FTEM'!#REF!,'Skills explications FTEM'!#REF!)","v":{"$error":"#REF!"}}]
[{"$f":"'Skills explications FTEM'!A9:A9","v":"ON ICE"},null,null,{"$f":"'Skills explications FTEM'!B9","v":"COMPÉTENCES"},null,null,{"$f":"'Skills explications FTEM'!C9","v":"OBSERVATION"},null,null,{"$f":"'Skills explications FTEM'!H9","v":0},null,null,null,"Date1",null,"Date2",null,"Date3",null,"Date4",null,"Date5",null,"Player",null,"BUT","MESURES:\nSPECIFIQUE, MESURABLES, REALISTE",null,null,null,null,null,null,"DELAI","CONTRÔLE DU BUT","Date"]
[{"$f":"'Skills explications FTEM'!A10:A10","v":"PATINAGE"},null,null,{"$f":"IF($H$2=\"G\",'Skills explications FTEM'!F10,'Skills explications FTEM'!B10)","v":"Vitesse de patinage"},null,null,{"$f":"IF($H$2=\"G\",'Skills explications FTEM'!G10,'Skills explications FTEM'!C10)","v":"Accélération, départ, explosivité des 3 premiers pas, fréquence"},null,null,{"$f":"IF($H$2=\"G\",'Skills explications FTEM'!#REF!,'Skills explications FTEM'!#REF!)","v":{"$error":"#REF!"}},null,null,null,{"$f":"IFERROR(AVERAGE(O19:O23),\"-\")","v":"-"},null,{"$f":"IFERROR(AVERAGE(Q19:Q23),\"-\")","v":"-"},null,{"$f":"IFERROR(AVERAGE(S19:S23),\"-\")","v":"-"},null,{"$f":"IFERROR(AVERAGE(U19:U23),\"-\")","v":"-"},null,{"$f":"IFERROR(AVERAGE(W19:W23),\"-\")","v":"-"},null,{"$f":"IFERROR(AVERAGE(Y19:Y23),\"-\")","v":"-"}]
[{"$f":"'Skills explications FTEM'!A11:A11","v":0},null,null,{"$f":"IF($H$2=\"G\",'Skills explications FTEM'!F11,'Skills explications FTEM'!B11)","v":"Vitesse, rapidité"},null,null,{"$f":"IF($H$2=\"G\",'Skills explications FTEM'!G11,'Skills explications FTEM'!C11)","v":"Vitesse, faculté de glisse, avant et arrière, économie des forces"},null,null,{"$f":"IF($H$2=\"G\",'Skills explications FTEM'!#REF!,'Skills explications FTEM'!#REF!)","v":{"$error":"#REF!"}}]
[{"$f":"'Skills explications FTEM'!A12:A12","v":0},null,null,{"$f":"IF($H$2=\"G\",'Skills explications FTEM'!F12,'Skills explications FTEM'!B12)","v":"Agilité"},null,null,{"$f":"IF($H$2=\"G\",'Skills explications FTEM'!G12,'Skills explications FTEM'!C12)","v":"Changements de direction, pivots, stop et start «Nummelin»"},null,null,{"$f":"IF($H$2=\"G\",'Skills explications FTEM'!#REF!,'Skills explications FTEM'!#REF!)","v":{"$error":"#REF!"}},null,null,null,{"$f":"IFERROR(AVERAGE(O21:O23),\"-\")","v":"-"},null,{"$f":"IFERROR(AVERAGE(Q21:Q23),\"-\")","v":"-"},null,{"$f":"IFERROR(AVERAGE(S21:S23),\"-\")","v":"-"},null,{"$f":"IFERROR(AVERAGE(U21:U23),\"-\")","v":"-"},null,{"$f":"IFERROR(AVERAGE(W21:W23),\"-\")","v":"-"},null,"-"]
[null,null,null,{"$f":"IF($H$2=\"G\",'Skills explications FTEM'!F13,'Skills explications FTEM'!B13)","v":"Balance"},null,null,{"$f":"IF($H$2=\"G\",'Skills explications FTEM'!G13,'Skills explications FTEM'!C13)","v":"Equilibre, faculté d'être sur ses appuis, position basse, 1 ou 2 jambes"},null,null,{"$f":"IF($H$2=\"G\",'Skills explications FTEM'!#REF!,'Skills explications FTEM'!#REF!)","v":{"$error":"#REF!"}}]
[{"$f":"'Skills explications FTEM'!#REF!","v":{"$error":"#REF!"}},null,null,{"$f":"IF($H$2=\"G\",'Skills explications FTEM'!F14,'Skills explications FTEM'!B14)","v":"Patinage arrière"},null,null,{"$f":"IF($H$2=\"G\",'Skills explications FTEM'!G14,'Skills explications FTEM'!C14)","v":"Accélération, vitesse, équilibre "},null,null,{"$f":"IF($H$2=\"G\",'Skills explications FTEM'!#REF!,'Skills explications FTEM'!#REF!)","v":{"$error":"#REF!"}}]
[{"$f":"'Skills explications FTEM'!A15:A15","v":"SKILLS"},null,null,{"$f":"IF($H$2=\"G\",'Skills explications FTEM'!F15,'Skills explications FTEM'!B15)","v":"Tirer"},null,null,{"$f":"IF($H$2=\"G\",'Skills explications FTEM'!G15,'Skills explications FTEM'!C15)","v":"Efficience (pas d'espace et de temps), variantes, degré de surprise (déclenchement rapide), précision, puissance (conclusion tactique)"},null,null,{"$f":"IF($H$2=\"G\",'Skills explications FTEM'!#REF!,'Skills explications FTEM'!#REF!)","v":{"$error":"#REF!"}},null,null,null,{"$f":"IFERROR(AVERAGE(O24:O29),\"-\")","v":"-"},null,{"$f":"IFERROR(AVERAGE(Q24:Q29),\"-\")","v":"-"},null,{"$f":"IFERROR(AVERAGE(S24:S29),\"-\")","v":"-"},null,{"$f":"IFERROR(AVERAGE(U24:U29),\"-\")","v":"-"},null,{"$f":"IFERROR(AVERAGE(W24:W29),\"-\")","v":"-"},null,{"$f":"IFERROR(AVERAGE(Y24:Y29),\"-\")","v":"-"}]
[{"$f":"'Skills explications FTEM'!A16:A16","v":0},null,null,{"$f":"IF($H$2=\"G\",'Skills explications FTEM'!F16,'Skills explications FTEM'!B16)","v":"Passer"},null,null,{"$f":"IF($H$2=\"G\",'Skills explications FTEM'!G16,'Skills explications FTEM'!C16)","v":"Donne la passe (distance, passe flipée en revers), réception de la passe (précision, timing, coup droit, revers, patins), vitesse du puck"},null,null,{"$f":"IF($H$2=\"G\",'Skills explications FTEM'!#REF!,'Skills explications FTEM'!#REF!)","v":{"$error":"#REF!"}}]
[{"$f":"'Skills explications FTEM'!A17:A17","v":0},null,null,{"$f":"IF($H$2=\"G\",'Skills explications FTEM'!F17,'Skills explications FTEM'!B17)","v":"Travail de canne, conduite du puck"},null,null,{"$f":"IF($H$2=\"G\",'Skills explications FTEM'!G17,'Skills explications FTEM'!C17)","v":"Puck sur la palette, intercepte les lignes de passe, déviation, contrôle de la canne de l'adversaire"},null,null,{"$f":"IF($H$2=\"G\",'Skills explications FTEM'!#REF!,'Skills explications FTEM'!#REF!)","v":{"$error":"#REF!"}}]
[null,null,null,{"$f":"IF($H$2=\"G\",'Skills explications FTEM'!F18,'Skills explications FTEM'!B18)","v":"Protéger le puck"},null,null,{"$f":"IF($H$2=\"G\",'Skills explications FTEM'!G18,'Skills explications FTEM'!C18)","v":"Contrôle du puck, dribbling, protection du puck, feintes (variantes: avec les patins ou avec et sans la bande), mise au jeu (bully)"},null,null,{"$f":"IF($H$2=\"G\",'Skills explications FTEM'!#REF!,'Skills explications FTEM'!#REF!)","v":{"$error":"#REF!"}}]
[null,null,null,{"$f":"IF($H$2=\"G\",'Skills explications FTEM'!F19,'Skills explications FTEM'!B19)","v":"Jeu du corps (charges)"},null,null,{"$f":"IF($H$2=\"G\",'Skills explications FTEM'!G19,'Skills explications FTEM'!C19)","v":"Faculté de s'imposer physiquement, duels (sur la surface de glace ou à la bande), prendre des checks, lever la tête, niveau de lutte, dur mais correct, bloquer les tirs avec le corps"},null,null,{"$f":"IF($H$2=\"G\",'Skills explications FTEM'!#REF!,'Skills explications FTEM'!#REF!)","v":{"$error":"#REF!"}}]
[{"$f":"'Skills explications FTEM'!A20:A20","v":0},null,null,{"$f":"IF($H$2=\"G\",'Skills explications FTEM'!F20,'Skills explications FTEM'!B20)","v":"-"},null,null,{"$f":"IF($H$2=\"G\",'Skills explications FTEM'!G20,'Skills explications FTEM'!C20)","v":"-"},null,null,{"$f":"IF($H$2=\"G\",'Skills explications FTEM'!#REF!,'Skills explications FTEM'!#REF!)","v":{"$error":"#REF!"}}]
[{"$f":"'Skills explications FTEM'!A21:A21","v":"HOCKEY SENSE"},null,null,{"$f":"IF($H$2=\"G\",'Skills explications FTEM'!F21,'Skills explications FTEM'!B21)","v":"Intelligence de jeu"},null,null,{"$f":"IF($H$2=\"G\",'Skills explications FTEM'!G21,'Skills explications FTEM'!C21)","v":"Voit les zones libres avec joueurs et crée des situations de surnombre, trouve des solutions et agit en toute situation, vitesse de la visualisation"},null,null,{"$f":"IF($H$2=\"G\",'Skills explications FTEM'!#REF!,'Skills explications FTEM'!#REF!)","v":{"$error":"#REF!"}},null,null,null,{"$f":"IFERROR(AVERAGE(O30:O34),\"-\")","v":"-"},null,{"$f":"IFERROR(AVERAGE(Q30:Q34),\"-\")","v":"-"},null,{"$f":"IFERROR(AVERAGE(S30:S34),\"-\")","v":"-"},null,{"$f":"IFERROR(AVERAGE(U30:U34),\"-\")","v":"-"},null,{"$f":"IFERROR(AVERAGE(W30:W34),\"-\")","v":"-"},null,{"$f":"IFERROR(AVERAGE(Y30:Y34),\"-\")","v":"-"}]
[{"$f":"'Skills explications FTEM'!A22:A22","v":0},null,null,{"$f":"IF($H$2=\"G\",'Skills explications FTEM'!F22,'Skills explications FTEM'!B22)","v":"Sensibilisation offensive"},null,null,{"$f":"IF($H$2=\"G\",'Skills explications FTEM'!G22,'Skills explications FTEM'!C22)","v":"Se démarque, anticipation des situations de jeu, ouvre des zones libres pour ses coéquipiers, se place pour marquer, vitesse de mise sous pression, communication"},null,null,{"$f":"IF($H$2=\"G\",'Skills explications FTEM'!#REF!,'Skills explications FTEM'!#REF!)","v":{"$error":"#REF!"}}]
[null,null,null,{"$f":"IF($H$2=\"G\",'Skills explications FTEM'!F23,'Skills explications FTEM'!B23)","v":"Sensibilisation défensive"},null,null,{"$f":"IF($H$2=\"G\",'Skills explications FTEM'!G23,'Skills explications FTEM'!C23)","v":"Garde la position «inside», protège le slot, rassure les coéquipiers, support, anticipe les lignes de passe, bloque les tirs. Réduit rapidement la distance sur l'adversaire, communication"},null,null,{"$f":"IF($H$2=\"G\",'Skills explications FTEM'!#REF!,'Skills explications FTEM'!#REF!)","v":{"$error":"#REF!"}}]
[{"$f":"'Skills explications FTEM'!A23:A23","v":0},null,null,{"$f":"IF($H$2=\"G\",'Skills explications FTEM'!F24,'Skills explications FTEM'!B24)","v":"Gestion du puck"},null,null,{"$f":"IF($H$2=\"G\",'Skills explications FTEM'!G24,'Skills explications FTEM'!C24)","v":"Fait le bon choix en fonction de la situation, support, surnombre"},null,null,{"$f":"IF($H$2=\"G\",'Skills explications FTEM'!#REF!,'Skills explications FTEM'!#REF!)","v":{"$error":"#REF!"}}]
[{"$f":"'Skills explications FTEM'!A25:A25","v":0},null,null,{"$f":"IF($H$2=\"G\",'Skills explications FTEM'!F25,'Skills explications FTEM'!B25)","v":"Créativité"},null,null,{"$f":"IF($H$2=\"G\",'Skills explications FTEM'!G25,'Skills explications FTEM'!C25)","v":"Prises de décision surprenantes, sens du but"},null,null,{"$f":"IF($H$2=\"G\",'Skills explications FTEM'!#REF!,'Skills explications FTEM'!#REF!)","v":{"$error":"#REF!"}}]
[{"$f":"'Skills explications FTEM'!A26:A26","v":"PERSONALITY"},null,null,{"$f":"'Skills explications FTEM'!B26","v":"COMPÉTENCES"},null,null,{"$f":"'Skills explications FTEM'!C26","v":"OBSERVATION"},null,null,{"$f":"'Skills explications FTEM'!H26","v":0},null,null,null,"Date1",null,"Date2",null,"Date3",null,"Date4",null,"Date5",null,"Player",null,"BUT","MESURES:\nSPECIFIQUE, MESURABLES, REALISTE",null,null,null,null,null,null,"DELAI","CONTRÔLE DU BUT","Date"]
[{"$f":"'Skills explications FTEM'!A27:A27","v":"PERSONNALITÉ"},null,null,{"$f":"IF($H$2=\"G\",'Skills explications FTEM'!F27,'Skills explications FTEM'!B27)","v":"Confiance en soi"},null,null,{"$f":"IF($H$2=\"G\",'Skills explications FTEM'!G27,'Skills explications FTEM'!C27)","v":"Est en confiance,«I can do it», peut estimer ses capacités (connaît ses qualités et ses défauts), peut réaliser ses qualités avec constance, est courageux et prend des risques calculés"},null,null,{"$f":"IF($H$2=\"G\",'Skills explications FTEM'!#REF!,'Skills explications FTEM'!#REF!)","v":{"$error":"#REF!"}},null,null,null,{"$f":"IFERROR(AVERAGE(O36:O40),\"-\")","v":"-"},null,null,null,{"$f":"IFERROR(AVERAGE(S36:S40),\"-\")","v":"-"},null,{"$f":"IFERROR(AVERAGE(U36:U40),\"-\")","v":"-"},null,{"$f":"IFERROR(AVERAGE(W36:W40),\"-\")","v":"-"},null,{"$f":"IFERROR(AVERAGE(Y36:Y40),\"-\")","v":"-"}]
[{"$f":"'Skills explications FTEM'!A28:A28","v":0},null,null,{"$f":"IF($H$2=\"G\",'Skills explications FTEM'!F28,'Skills explications FTEM'!B28)","v":"Facultés d'apprentissage"},null,null,{"$f":"IF($H$2=\"G\",'Skills explications FTEM'!G28,'Skills explications FTEM'!C28)","v":"A une bonne perception (il peut mémoriser et peut réaliser), il a de la personnalité, essaie d'apprendre de ses erreurs et est entreprenant"},null,null,{"$f":"IF($H$2=\"G\",'Skills explications FTEM'!#REF!,'Skills explications FTEM'!#REF!)","v":{"$error":"#REF!"}}]
[{"$f":"'Skills explications FTEM'!A29:A29","v":0},null,null,{"$f":"IF($H$2=\"G\",'Skills explications FTEM'!F29,'Skills explications FTEM'!B29)","v":"Prise de responsabilités"},null,null,{"$f":"IF($H$2=\"G\",'Skills explications FTEM'!G29,'Skills explications FTEM'!C29)","v":"Prend la responsabilité de ses performances et de son développement, est-il autonome, soigne-t-il les détails, a beaucoup d'engagement dans tous les domaines"},null,null,{"$f":"IF($H$2=\"G\",'Skills explications FTEM'!#REF!,'Skills explications FTEM'!#REF!)","v":{"$error":"#REF!"}}]
[null,null,null,{"$f":"IF($H$2=\"G\",'Skills explications FTEM'!F30,'Skills explications FTEM'!B30)","v":"Motivation"},null,null,{"$f":"IF($H$2=\"G\",'Skills explications FTEM'!G30,'Skills explications FTEM'!C30)","v":"Est toujours motivé, veut sans cesse se développer et apprendre, veut être le premier et avoir du succès, n'abandonne jamais et ne se laisse pas influencer par les échesc"},null,null,{"$f":"IF($H$2=\"G\",'Skills explications FTEM'!#REF!,'Skills explications FTEM'!#REF!)","v":{"$error":"#REF!"}}]
[{"$f":"'Skills explications FTEM'!A31:A31","v":0},null,null,{"$f":"IF($H$2=\"G\",'Skills explications FTEM'!F31,'Skills explications FTEM'!B31)","v":"Performance style de vie"},null,null,{"$f":"IF($H$2=\"G\",'Skills explications FTEM'!G31,'Skills explications FTEM'!C31)","v":"Gère bien son environnement et son temps libre selon les principes de la performance, obstiné, tenace et axé sur l'objectif, accent sur sa propre performance, est courageux et peut s'imposer contre la résistance, les défis le motivent"},null,null,{"$f":"IF($H$2=\"G\",'Skills explications FTEM'!#REF!,'Skills explications FTEM'!#REF!)","v":{"$error":"#REF!"}}]
[{"$f":"'Skills explications FTEM'!A32:A32","v":"FORCE MENTALE"},null,null,{"$f":"IF($H$2=\"G\",'Skills explications FTEM'!F32,'Skills explications FTEM'!B32)","v":"Engagement"},null,null,{"$f":"IF($H$2=\"G\",'Skills explications FTEM'!G32,'Skills explications FTEM'!C32)","v":"Démontre beaucoup d'intensité dans les entraînements et les matchs, donne toujours son maximum et veut sans cesse repousser ses limites, a-t-il de la passion, s'efforce-t-il de s'entraîner avec une excellente qualité"},null,null,{"$f":"IF($H$2=\"G\",'Skills explications FTEM'!#REF!,'Skills explications FTEM'!#REF!)","v":{"$error":"#REF!"}},null,null,null,{"$f":"IFERROR(AVERAGE(O41:O45),\"-\")","v":"-"},null,null,null,{"$f":"IFERROR(AVERAGE(S41:S45),\"-\")","v":"-"},null,{"$f":"IFERROR(AVERAGE(U41:U45),\"-\")","v":"-"},null,{"$f":"IFERROR(AVERAGE(W41:W45),\"-\")","v":"-"},null,{"$f":"IFERROR(AVERAGE(Y41:Y45),\"-\")","v":"-"}]
[{"$f":"'Skills explications FTEM'!A33:A33","v":0},null,null,{"$f":"IF($H$2=\"G\",'Skills explications FTEM'!F33,'Skills explications FTEM'!B33)","v":"Préparation"},null,null,{"$f":"IF($H$2=\"G\",'Skills explications FTEM'!G33,'Skills explications FTEM'!C33)","v":"Se prépare-t-il toujours bien, mentalement et physiquement, se prépare-t-il toujours bien pour obtenir le niveau de performance idéal (ILZ)"},null,null,{"$f":"IF($H$2=\"G\",'Skills explications FTEM'!#REF!,'Skills explications FTEM'!#REF!)","v":{"$error":"#REF!"}}]
[null,null,null,{"$f":"IF($H$2=\"G\",'Skills explications FTEM'!F34,'Skills explications FTEM'!B34)","v":"Coaching personnel"},null,null,{"$f":"IF($H$2=\"G\",'Skills explications FTEM'!G34,'Skills explications FTEM'!C34)","v":"A-t-il de bonnes facultés de concentration, peut-il maintenir son niveau de performance idéal (ILZ) dans les entraînements et les matchs, peut-il appliquer ses techniques de base, est-il résistant aux influences et pensées négatives, est-il conscient de son attitude corporelle et peut-il l'influencer"},null,null,{"$f":"IF($H$2=\"G\",'Skills explications FTEM'!#REF!,'Skills explications FTEM'!#REF!)","v":{"$error":"#REF!"}}]
[{"$f":"'Skills explications FTEM'!A34:A34","v":0},null,null,{"$f":"IF($H$2=\"G\",'Skills explications FTEM'!F35,'Skills explications FTEM'!B35)","v":"Gestion des énergies"},null,null,{"$f":"IF($H$2=\"G\",'Skills explications FTEM'!G35,'Skills explications FTEM'!C35)","v":"Peut-il gérer ses propres énergies, prend-il soin de sa récupération, peut-il gérer les moments où il faut se donner à fond ou quand il faut déconnecter, bouton On/Off"},null,null,{"$f":"IF($H$2=\"G\",'Skills explications FTEM'!#REF!,'Skills explications FTEM'!#REF!)","v":{"$error":"#REF!"}}]
[{"$f":"'Skills explications FTEM'!A36:A36","v":0},null,null,{"$f":"IF($H$2=\"G\",'Skills explications FTEM'!F36,'Skills explications FTEM'!B36)","v":"Contrôle des émotions"},null,null,{"$f":"IF($H$2=\"G\",'Skills explications FTEM'!G36,'Skills explications FTEM'!C36)","v":"Peut-il gérer ses propres émotions et impulsions, reste-t-il sous contrôle lorsqu'il y a une grande pression, peut-il rester calme lorsque le niveau émotionnel et de frustration est élevé"},null,null,{"$f":"IF($H$2=\"G\",'Skills explications FTEM'!#REF!,'Skills explications FTEM'!#REF!)","v":{"$error":"#REF!"}}]
[{"$f":"'Skills explications FTEM'!A37:A37","v":"PHYSIQUE"},null,null,{"$f":"IF($H$2=\"G\",'Skills explications FTEM'!F37,'Skills explications FTEM'!B37)","v":"Production de la performance"},null,null,{"$f":"IF($H$2=\"G\",'Skills explications FTEM'!G37,'Skills explications FTEM'!C37)","v":"A-t-il la puissance, la force, la vitesse nécessaires dans les jambes et le haut du corps (facteurs neuromusculaires)"},null,null,{"$f":"IF($H$2=\"G\",'Skills explications FTEM'!#REF!,'Skills explications FTEM'!#REF!)","v":{"$error":"#REF!"}},null,null,null,{"$f":"IFERROR(AVERAGE(O46:O50),\"-\")","v":"-"},null,null,null,{"$f":"IFERROR(AVERAGE(S46:S50),\"-\")","v":"-"},null,{"$f":"IFERROR(AVERAGE(U46:U50),\"-\")","v":"-"},null,{"$f":"IFERROR(AVERAGE(W46:W50),\"-\")","v":"-"},null,{"$f":"IFERROR(AVERAGE(Y46:Y50),\"-\")","v":"-"}]
[{"$f":"'Skills explications FTEM'!A38:A38","v":0},null,null,{"$f":"IF($H$2=\"G\",'Skills explications FTEM'!F38,'Skills explications FTEM'!B38)","v":"Spécifique au sport, résistant à l'effort"},null,null,{"$f":"IF($H$2=\"G\",'Skills explications FTEM'!G38,'Skills explications FTEM'!C38)","v":"Est-il capable de maintenir sa puissance, sa force, sa vitesse durant un long temps de glace et peut-il récupérer complètement entre ses engagements (facteurs du métabolisme et cardiovasculaire)"},null,null,{"$f":"IF($H$2=\"G\",'Skills explications FTEM'!#REF!,'Skills explications FTEM'!#REF!)","v":{"$error":"#REF!"}}]
[null,null,null,{"$f":"IF($H$2=\"G\",'Skills explications FTEM'!F39,'Skills explications FTEM'!B39)","v":"Santé / Prévention"},null,null,{"$f":"IF($H$2=\"G\",'Skills explications FTEM'!G39,'Skills explications FTEM'!C39)","v":"A-t-il la stabilité nécessaire (p. ex. ses appuis) et la mobilité nécessaire au niveau des articulations centrales"},null,null,{"$f":"IF($H$2=\"G\",'Skills explications FTEM'!#REF!,'Skills explications FTEM'!#REF!)","v":{"$error":"#REF!"}}]
[{"$f":"'Skills explications FTEM'!A39:A39","v":0},null,null,{"$f":"IF($H$2=\"G\",'Skills explications FTEM'!F40,'Skills explications FTEM'!B40)","v":"Mobilité / Coordination"},null,null,{"$f":"IF($H$2=\"G\",'Skills explications FTEM'!G40,'Skills explications FTEM'!C40)","v":"Gère-t-il ses aptitudes de mouvements de base, qui sont un fournisseur important des fonctions spécifiques «Skills» pour être efficace"},null,null,{"$f":"IF($H$2=\"G\",'Skills explications FTEM'!#REF!,'Skills explications FTEM'!#REF!)","v":{"$error":"#REF!"}}]
[{"$f":"'Skills explications FTEM'!A41:A41","v":0},null,null,{"$f":"IF($H$2=\"G\",'Skills explications FTEM'!F41,'Skills explications FTEM'!B41)","v":"Robustesse"},null,null,{"$f":"IF($H$2=\"G\",'Skills explications FTEM'!G41,'Skills explications FTEM'!C41)","v":"A-t-il la force de base nécessaire (tension corporelle) pour gagner des duels et résister aux charges"},null,null,{"$f":"IF($H$2=\"G\",'Skills explications FTEM'!#REF!,'Skills explications FTEM'!#REF!)","v":{"$error":"#REF!"}}]

{"sheet":"5","index":8,"n_rows":50,"n_cols":36,"rows_kept":50,"cut":false,"hidden":false,"merged":[[45,25,49,25],[45,26,49,32],[45,34,49,34],[40,23,44,23],[42,3,42,5],[42,6,42,11],[44,3,44,5],[44,6,44,11],[40,0,44,2],[40,3,40,5],[40,6,40,11],[40,12,44,12],[40,13,44,13],[40,15,44,15],[45,0,49,2],[45,3,45,5],[45,6,45,11],[45,12,49,12],[45,23,49,23],[47,3,47,5],[47,6,47,11],[48,3,48,5],[48,6,48,11],[49,3,49,5],[34,21,34,22],[35,17,39,17],[35,19,39,19],[35,21,39,21],[36,3,36,5],[36,6,36,11],[38,3,38,5],[38,6,38,11],[40,17,44,17],[40,19,44,19],[40,21,44,21],[43,3,43,5],[43,6,43,11],[37,3,37,5],[37,6,37,11],[41,3,41,5],[41,6,41,11],[29,0,33,2],[29,3,29,5],[29,6,29,11],[29,12,33,12],[29,13,33,13],[29,15,33,15],[34,23,34,24],[34,26,34,32],[35,0,39,2],[35,3,35,5],[35,6,35,11],[35,12,39,12],[35,13,39,13],[35,15,39,15],[39,3,39,5],[39,6,39,11],[35,23,39,23],[34,0,34,2],[34,3,34,5],[34,6,34,11],[34,13,34,14],[34,15,34,16],[34,17,34,18],[34,19,34,20],[23,21,28,21],[23,23,28,23],[24,3,24,5],[24,6,24,11],[28,3,28,5],[28,6,28,11],[33,3,33,5],[33,6,33,11],[29,23,33,23],[29,17,33,17],[29,19,33,19],[29,21,33,21],[30,3,30,5],[30,6,30,11],[31,3,31,5],[31,6,31,11],[25,3,25,5],[25,6,25,11],[32,3,32,5],[32,6,32,11],[18,15,22,15],[18,17,22,17],[18,19,22,19],[18,21,22,21],[18,23,22,23],[22,3,22,5],[22,6,22,11],[23,0,28,2],[23,3,23,5],[23,6,23,11],[23,12,28,12],[23,13,28,13],[23,15,28,15],[23,17,28,17],[18,0,22,2],[18,3,18,5],[18,6,18,11],[18,12,22,12],[18,13,22,13],[19,3,19,5],[19,6,19,11],[20,3,20,5],[20,6,20,11],[23,19,28,19],[12,23,16,23],[16,3,16,5],[16,6,16,11],[17,0,17,2],[17,3,17,5],[17,6,17,11],[17,13,17,14],[17,15,17,16],[17,17,17,18],[17,19,17,20],[17,21,17,22],[17,23,17,24],[12,0,16,2],[12,3,12,5],[12,6,12,11],[12,12,16,12],[12,13,16,13],[12,15,16,15],[12,17,16,17],[12,19,16,19],[12,21,16,21],[13,3,13,5],[13,6,13,11],[14,3,14,5],[11,0,11,2],[11,3,11,5],[11,13,11,14],[11,15,11,16],[11,17,11,18],[11,19,11,20],[11,21,11,22],[11,23,11,24],[11,26,11,32],[11,6,11,11],[0,33,0,35],[29,25,33,25],[29,26,33,32],[29,34,33,34],[35,25,39,25],[35,26,39,32],[35,34,39,34],[1,0,1,1],[1,2,1,5],[1,10,1,24],[2,0,2,1],[2,2,2,5],[2,11,2,24],[6,0,6,1],[6,2,6,35],[7,0,7,1],[7,2,7,35],[8,0,8,1],[8,2,8,35],[3,0,3,1],[3,10,3,24],[4,0,4,1],[4,2,4,5],[4,10,4,24],[49,6,49,11],[45,13,49,13],[45,15,49,15],[45,17,49,17],[45,19,49,19],[45,21,49,21],[0,0,0,24],[0,25,0,26],[0,27,0,32],[10,0,10,24],[10,25,10,35],[40,25,44,25],[40,26,44,32],[40,34,44,34],[12,25,16,25],[12,26,16,32],[12,34,16,34],[18,25,22,25],[18,26,22,32],[18,34,22,34],[23,25,28,25],[23,26,28,32],[23,34,28,34],[17,26,17,32],[46,3,46,5],[46,6,46,11],[14,6,14,11],[15,3,15,5],[15,6,15,11],[21,3,21,5],[21,6,21,11],[26,3,26,5],[26,6,26,11],[27,3,27,5],[27,6,27,11]]}
["Infos personelles",null,null,null,null,null,null,null,null,null,null,null,null,null,null,null,null,null,null,null,null,null,null,null,null,"Predispositions",null,"Evaluations",null,null,null,null,null,"Rating"]
["PRENOM",null,{"$f":"IF(ISBLANK(VLOOKUP(5,Tabelle3[],3,0)),\"-\",VLOOKUP(5,Tabelle3[],3,0))","v":"-"},null,null,null,"POSITION",null,null,"ADRESSE",{"$f":"IF(ISBLANK(VLOOKUP(5,Tabelle3[],5,0)),\"-\",VLOOKUP(5,Tabelle3[],5,0))","v":"-"},null,null,null,null,null,null,null,null,null,null,null,null,null,null,"\"àage\" (Biologique/age relatif)",null,"Date 1",null,null,"cm",null,"Kg",null,"AUSGEZEICHNET",5]
["NOM",null,{"$f":"IF(ISBLANK(VLOOKUP(5,Tabelle3[],2,0)),\"-\",VLOOKUP(5,Tabelle3[],2,0))","v":"-"},null,null,null,"CANNE",null,null,"LIEU",{"$f":"IF(ISBLANK(VLOOKUP(5,Tabelle3[],7,0)),\"-\",VLOOKUP(5,Tabelle3[],7,0))","v":"-"},{"$f":"IF(ISBLANK(VLOOKUP(5,Tabelle3[],6,0)),\"-\",VLOOKUP(5,Tabelle3[],6,0))","v":"-"},null,null,null,null,null,null,null,null,null,null,null,null,null,"predispositions",null,"Date 2",null,null,"cm",null,"Kg",null,"GUT",4]
["DATE NAISS.",null,{"$f":"IF(ISBLANK(VLOOKUP(5,Tabelle3[],14,0)),\"-\",VLOOKUP(5,Tabelle3[],14,0))","v":"-"},{"$f":"IF(ISBLANK(VLOOKUP(5,Tabelle3[],15,0)),\"-\",VLOOKUP(5,Tabelle3[],15,0))","v":"-"},{"$f":"IF(ISBLANK(VLOOKUP(5,Tabelle3[],16,0)),\"-\",VLOOKUP(5,Tabelle3[],16,0))","v":"-"},null,"GRANDEUR",null,"cm","PHONE",{"$f":"IF(ISBLANK(VLOOKUP(5,Tabelle3[],8,0)),\"-\",VLOOKUP(5,Tabelle3[],8,0))","v":"-"},null,null,null,null,null,null,null,null,null,null,null,null,null,null,"Entourage",null,"Date 3",null,null,"cm",null,"Kg",null,"DURCHSCHNITT",3]
["SEXE",null,{"$f":"IF(ISBLANK(VLOOKUP(5,Tabelle3[],13,0)),\"-\",VLOOKUP(5,Tabelle3[],13,0))","v":"-"},null,null,null,"POIDS",null,"Kg","E-Mail",{"$f":"IF(ISBLANK(VLOOKUP(5,Tabelle3[],9,0)),\"-\",VLOOKUP(5,Tabelle3[],9,0))","v":"-"},null,null,null,null,null,null,null,null,null,null,null,null,null,null,null,null,"Date 4",null,null,"cm",null,"Kg",null,"MANGELHAFT",2]
[null,null,null,null,null,null,null,null,null,null,null,null,null,null,null,null,null,null,null,null,null,null,null,null,null,null,null,"Date 5",null,null,"cm",null,"Kg",null,"UNGENÜGEND",1]
["Vision",null,"xxx"]
["Next step",null,"xxx"]
["Profil du Joueur",null,"xxx"]
[]
["EVALUATION (COACH / JOUEUR)",null,null,null,null,null,null,null,null,null,null,null,null,null,null,null,null,null,null,null,null,null,null,null,null,"SMART"]
[{"$f":"'Skills explications FTEM'!A3:A3","v":"TEAM"},null,null,{"$f":"'Skills explications FTEM'!B3","v":"COMPÉTENCES"},null,null,{"$f":"'Skills explications FTEM'!C3","v":"OBSERVATION"},null,null,{"$f":"'Skills explications FTEM'!H3","v":0},null,null,"Final","Date1",null,"Date2",null,"Date3",null,"Date4",null,"Date5",null,"Player",null,"BUT","MESURES:\nSPECIFIQUE, MESURABLES, REALISTE",null,null,null,null,null,null,"DELAI","CONTRÔLE DU BUT","Date"]
[{"$f":"'Skills explications FTEM'!A4:A4","v":"ÉQUIPE"},null,null,{"$f":"IF($H$2=\"G\",'Skills explications FTEM'!F4,'Skills explications FTEM'!B4)","v":"Communication"},null,null,{"$f":"IF($H$2=\"G\",'Skills explications FTEM'!G4,'Skills explications FTEM'!C4)","v":"Respect et ouverture dans ses relations, confiance comme base, traite les conflits sans perturber la stabilité du groupe, communique avec ses coéquipiers, les entraîneurs et les fonctionnaires avec les mêmes valeurs"},null,null,{"$f":"IF($H$2=\"G\",'Skills explications FTEM'!#REF!,'Skills explications FTEM'!#REF!)","v":{"$error":"#REF!"}},null,null,null,{"$f":"IFERROR(AVERAGE(O13:O17),\"-\")","v":"-"},null,{"$f":"IFERROR(AVERAGE(Q13:Q17),\"-\")","v":"-"},null,{"$f":"IFERROR(AVERAGE(S13:S17),\"-\")","v":"-"},null,{"$f":"IFERROR(AVERAGE(U13:U17),\"-\")","v":"-"},null,{"$f":"IFERROR(AVERAGE(W13:W17),\"-\")","v":"-"},null,{"$f":"IFERROR(AVERAGE(Y13:Y17),\"-\")","v":"-"}]
[null,null,null,{"$f":"IF($H$2=\"G\",'Skills explications FTEM'!F5,'Skills explications FTEM'!B5)","v":"Capacité de jouer en équipe"},null,null,{"$f":"IF($H$2=\"G\",'Skills explications FTEM'!G5,'Skills explications FTEM'!C5)","v":"Intégration dans le groupe, définit et réalise des objectifs communs, NOUS avant le MOI, participe au bon esprit d'équipe et à un bon climat de travail"},null,null,{"$f":"IF($H$2=\"G\",'Skills explications FTEM'!#REF!,'Skills explications FTEM'!#REF!)","v":{"$error":"#REF!"}}]
[null,null,null,{"$f":"IF($H$2=\"G\",'Skills explications FTEM'!F6,'Skills explications FTEM'!B6)","v":"Leadership"},null,null,{"$f":"IF($H$2=\"G\",'Skills explications FTEM'!G6,'Skills explications FTEM'!C6)","v":"Prend des responsabilités dans le groupe, essaie de donner de la valeur à ses coéquipiers et au groupe, influence positivement la dynamique de groupe"},null,null,{"$f":"IF($H$2=\"G\",'Skills explications FTEM'!#REF!,'Skills explications FTEM'!#REF!)","v":{"$error":"#REF!"}}]
[null,null,null,{"$f":"IF($H$2=\"G\",'Skills explications FTEM'!F7,'Skills explications FTEM'!B7)","v":"Répartition des rôles"},null,null,{"$f":"IF($H$2=\"G\",'Skills explications FTEM'!G7,'Skills explications FTEM'!C7)","v":"Connaît son rôle et le réalise, est conscient de sa position dans l'équipe et le système, met ses compétences à disposition de l'équipe"},null,null,{"$f":"IF($H$2=\"G\",'Skills explications FTEM'!#REF!,'Skills explications FTEM'!#REF!)","v":{"$error":"#REF!"}}]
[{"$f":"'Skills explications FTEM'!A8:A8","v":0},null,null,{"$f":"IF($H$2=\"G\",'Skills explications FTEM'!F8,'Skills explications FTEM'!B8)","v":"Respect"},null,null,{"$f":"IF($H$2=\"G\",'Skills explications FTEM'!G8,'Skills explications FTEM'!C8)","v":"Relations respectueuses avec les coéquipiers, les entraîneurs, les adversaires, les arbitres et le staff; respect des règles, des principes du fairplay (y compris antidopage)"},null,null,{"$f":"IF($H$2=\"G\",'Skills explications FTEM'!#REF!,'Skills explications FTEM'!#REF!)","v":{"$error":"#REF!"}}]
[{"$f":"'Skills explications FTEM'!A9:A9","v":"ON ICE"},null,null,{"$f":"'Skills explications FTEM'!B9","v":"COMPÉTENCES"},null,null,{"$f":"'Skills explications FTEM'!C9","v":"OBSERVATION"},null,null,{"$f":"'Skills explications FTEM'!H9","v":0},null,null,null,"Date1",null,"Date2",null,"Date3",null,"Date4",null,"Date5",null,"Player",null,"BUT","MESURES:\nSPECIFIQUE, MESURABLES, REALISTE",null,null,null,null,null,null,"DELAI","CONTRÔLE DU BUT","Date"]
[{"$f":"'Skills explications FTEM'!A10:A10","v":"PATINAGE"},null,null,{"$f":"IF($H$2=\"G\",'Skills explications FTEM'!F10,'Skills explications FTEM'!B10)","v":"Vitesse de patinage"},null,null,{"$f":"IF($H$2=\"G\",'Skills explications FTEM'!G10,'Skills explications FTEM'!C10)","v":"Accélération, départ, explosivité des 3 premiers pas, fréquence"},null,null,{"$f":"IF($H$2=\"G\",'Skills explications FTEM'!#REF!,'Skills explications FTEM'!#REF!)","v":{"$error":"#REF!"}},null,null,null,{"$f":"IFERROR(AVERAGE(O19:O23),\"-\")","v":"-"},null,{"$f":"IFERROR(AVERAGE(Q19:Q23),\"-\")","v":"-"},null,{"$f":"IFERROR(AVERAGE(S19:S23),\"-\")","v":"-"},null,{"$f":"IFERROR(AVERAGE(U19:U23),\"-\")","v":"-"},null,{"$f":"IFERROR(AVERAGE(W19:W23),\"-\")","v":"-"},null,{"$f":"IFERROR(AVERAGE(Y19:Y23),\"-\")","v":"-"}]
[{"$f":"'Skills explications FTEM'!A11:A11","v":0},null,null,{"$f":"IF($H$2=\"G\",'Skills explications FTEM'!F11,'Skills explications FTEM'!B11)","v":"Vitesse, rapidité"},null,null,{"$f":"IF($H$2=\"G\",'Skills explications FTEM'!G11,'Skills explications FTEM'!C11)","v":"Vitesse, faculté de glisse, avant et arrière, économie des forces"},null,null,{"$f":"IF($H$2=\"G\",'Skills explications FTEM'!#REF!,'Skills explications FTEM'!#REF!)","v":{"$error":"#REF!"}}]
[{"$f":"'Skills explications FTEM'!A12:A12","v":0},null,null,{"$f":"IF($H$2=\"G\",'Skills explications FTEM'!F12,'Skills explications FTEM'!B12)","v":"Agilité"},null,null,{"$f":"IF($H$2=\"G\",'Skills explications FTEM'!G12,'Skills explications FTEM'!C12)","v":"Changements de direction, pivots, stop et start «Nummelin»"},null,null,{"$f":"IF($H$2=\"G\",'Skills explications FTEM'!#REF!,'Skills explications FTEM'!#REF!)","v":{"$error":"#REF!"}},null,null,null,{"$f":"IFERROR(AVERAGE(O21:O23),\"-\")","v":"-"},null,{"$f":"IFERROR(AVERAGE(Q21:Q23),\"-\")","v":"-"},null,{"$f":"IFERROR(AVERAGE(S21:S23),\"-\")","v":"-"},null,{"$f":"IFERROR(AVERAGE(U21:U23),\"-\")","v":"-"},null,{"$f":"IFERROR(AVERAGE(W21:W23),\"-\")","v":"-"},null,"-"]
[null,null,null,{"$f":"IF($H$2=\"G\",'Skills explications FTEM'!F13,'Skills explications FTEM'!B13)","v":"Balance"},null,null,{"$f":"IF($H$2=\"G\",'Skills explications FTEM'!G13,'Skills explications FTEM'!C13)","v":"Equilibre, faculté d'être sur ses appuis, position basse, 1 ou 2 jambes"},null,null,{"$f":"IF($H$2=\"G\",'Skills explications FTEM'!#REF!,'Skills explications FTEM'!#REF!)","v":{"$error":"#REF!"}}]
[{"$f":"'Skills explications FTEM'!#REF!","v":{"$error":"#REF!"}},null,null,{"$f":"IF($H$2=\"G\",'Skills explications FTEM'!F14,'Skills explications FTEM'!B14)","v":"Patinage arrière"},null,null,{"$f":"IF($H$2=\"G\",'Skills explications FTEM'!G14,'Skills explications FTEM'!C14)","v":"Accélération, vitesse, équilibre "},null,null,{"$f":"IF($H$2=\"G\",'Skills explications FTEM'!#REF!,'Skills explications FTEM'!#REF!)","v":{"$error":"#REF!"}}]
[{"$f":"'Skills explications FTEM'!A15:A15","v":"SKILLS"},null,null,{"$f":"IF($H$2=\"G\",'Skills explications FTEM'!F15,'Skills explications FTEM'!B15)","v":"Tirer"},null,null,{"$f":"IF($H$2=\"G\",'Skills explications FTEM'!G15,'Skills explications FTEM'!C15)","v":"Efficience (pas d'espace et de temps), variantes, degré de surprise (déclenchement rapide), précision, puissance (conclusion tactique)"},null,null,{"$f":"IF($H$2=\"G\",'Skills explications FTEM'!#REF!,'Skills explications FTEM'!#REF!)","v":{"$error":"#REF!"}},null,null,null,{"$f":"IFERROR(AVERAGE(O24:O29),\"-\")","v":"-"},null,{"$f":"IFERROR(AVERAGE(Q24:Q29),\"-\")","v":"-"},null,{"$f":"IFERROR(AVERAGE(S24:S29),\"-\")","v":"-"},null,{"$f":"IFERROR(AVERAGE(U24:U29),\"-\")","v":"-"},null,{"$f":"IFERROR(AVERAGE(W24:W29),\"-\")","v":"-"},null,{"$f":"IFERROR(AVERAGE(Y24:Y29),\"-\")","v":"-"}]
[{"$f":"'Skills explications FTEM'!A16:A16","v":0},null,null,{"$f":"IF($H$2=\"G\",'Skills explications FTEM'!F16,'Skills explications FTEM'!B16)","v":"Passer"},null,null,{"$f":"IF($H$2=\"G\",'Skills explications FTEM'!G16,'Skills explications FTEM'!C16)","v":"Donne la passe (distance, passe flipée en revers), réception de la passe (précision, timing, coup droit, revers, patins), vitesse du puck"},null,null,{"$f":"IF($H$2=\"G\",'Skills explications FTEM'!#REF!,'Skills explications FTEM'!#REF!)","v":{"$error":"#REF!"}}]
[{"$f":"'Skills explications FTEM'!A17:A17","v":0},null,null,{"$f":"IF($H$2=\"G\",'Skills explications FTEM'!F17,'Skills explications FTEM'!B17)","v":"Travail de canne, conduite du puck"},null,null,{"$f":"IF($H$2=\"G\",'Skills explications FTEM'!G17,'Skills explications FTEM'!C17)","v":"Puck sur la palette, intercepte les lignes de passe, déviation, contrôle de la canne de l'adversaire"},null,null,{"$f":"IF($H$2=\"G\",'Skills explications FTEM'!#REF!,'Skills explications FTEM'!#REF!)","v":{"$error":"#REF!"}}]
[null,null,null,{"$f":"IF($H$2=\"G\",'Skills explications FTEM'!F18,'Skills explications FTEM'!B18)","v":"Protéger le puck"},null,null,{"$f":"IF($H$2=\"G\",'Skills explications FTEM'!G18,'Skills explications FTEM'!C18)","v":"Contrôle du puck, dribbling, protection du puck, feintes (variantes: avec les patins ou avec et sans la bande), mise au jeu (bully)"},null,null,{"$f":"IF($H$2=\"G\",'Skills explications FTEM'!#REF!,'Skills explications FTEM'!#REF!)","v":{"$error":"#REF!"}}]
[null,null,null,{"$f":"IF($H$2=\"G\",'Skills explications FTEM'!F19,'Skills explications FTEM'!B19)","v":"Jeu du corps (charges)"},null,null,{"$f":"IF($H$2=\"G\",'Skills explications FTEM'!G19,'Skills explications FTEM'!C19)","v":"Faculté de s'imposer physiquement, duels (sur la surface de glace ou à la bande), prendre des checks, lever la tête, niveau de lutte, dur mais correct, bloquer les tirs avec le corps"},null,null,{"$f":"IF($H$2=\"G\",'Skills explications FTEM'!#REF!,'Skills explications FTEM'!#REF!)","v":{"$error":"#REF!"}}]
[{"$f":"'Skills explications FTEM'!A20:A20","v":0},null,null,{"$f":"IF($H$2=\"G\",'Skills explications FTEM'!F20,'Skills explications FTEM'!B20)","v":"-"},null,null,{"$f":"IF($H$2=\"G\",'Skills explications FTEM'!G20,'Skills explications FTEM'!C20)","v":"-"},null,null,{"$f":"IF($H$2=\"G\",'Skills explications FTEM'!#REF!,'Skills explications FTEM'!#REF!)","v":{"$error":"#REF!"}}]
[{"$f":"'Skills explications FTEM'!A21:A21","v":"HOCKEY SENSE"},null,null,{"$f":"IF($H$2=\"G\",'Skills explications FTEM'!F21,'Skills explications FTEM'!B21)","v":"Intelligence de jeu"},null,null,{"$f":"IF($H$2=\"G\",'Skills explications FTEM'!G21,'Skills explications FTEM'!C21)","v":"Voit les zones libres avec joueurs et crée des situations de surnombre, trouve des solutions et agit en toute situation, vitesse de la visualisation"},null,null,{"$f":"IF($H$2=\"G\",'Skills explications FTEM'!#REF!,'Skills explications FTEM'!#REF!)","v":{"$error":"#REF!"}},null,null,null,{"$f":"IFERROR(AVERAGE(O30:O34),\"-\")","v":"-"},null,{"$f":"IFERROR(AVERAGE(Q30:Q34),\"-\")","v":"-"},null,{"$f":"IFERROR(AVERAGE(S30:S34),\"-\")","v":"-"},null,{"$f":"IFERROR(AVERAGE(U30:U34),\"-\")","v":"-"},null,{"$f":"IFERROR(AVERAGE(W30:W34),\"-\")","v":"-"},null,{"$f":"IFERROR(AVERAGE(Y30:Y34),\"-\")","v":"-"}]
[{"$f":"'Skills explications FTEM'!A22:A22","v":0},null,null,{"$f":"IF($H$2=\"G\",'Skills explications FTEM'!F22,'Skills explications FTEM'!B22)","v":"Sensibilisation offensive"},null,null,{"$f":"IF($H$2=\"G\",'Skills explications FTEM'!G22,'Skills explications FTEM'!C22)","v":"Se démarque, anticipation des situations de jeu, ouvre des zones libres pour ses coéquipiers, se place pour marquer, vitesse de mise sous pression, communication"},null,null,{"$f":"IF($H$2=\"G\",'Skills explications FTEM'!#REF!,'Skills explications FTEM'!#REF!)","v":{"$error":"#REF!"}}]
[null,null,null,{"$f":"IF($H$2=\"G\",'Skills explications FTEM'!F23,'Skills explications FTEM'!B23)","v":"Sensibilisation défensive"},null,null,{"$f":"IF($H$2=\"G\",'Skills explications FTEM'!G23,'Skills explications FTEM'!C23)","v":"Garde la position «inside», protège le slot, rassure les coéquipiers, support, anticipe les lignes de passe, bloque les tirs. Réduit rapidement la distance sur l'adversaire, communication"},null,null,{"$f":"IF($H$2=\"G\",'Skills explications FTEM'!#REF!,'Skills explications FTEM'!#REF!)","v":{"$error":"#REF!"}}]
[{"$f":"'Skills explications FTEM'!A23:A23","v":0},null,null,{"$f":"IF($H$2=\"G\",'Skills explications FTEM'!F24,'Skills explications FTEM'!B24)","v":"Gestion du puck"},null,null,{"$f":"IF($H$2=\"G\",'Skills explications FTEM'!G24,'Skills explications FTEM'!C24)","v":"Fait le bon choix en fonction de la situation, support, surnombre"},null,null,{"$f":"IF($H$2=\"G\",'Skills explications FTEM'!#REF!,'Skills explications FTEM'!#REF!)","v":{"$error":"#REF!"}}]
[{"$f":"'Skills explications FTEM'!A25:A25","v":0},null,null,{"$f":"IF($H$2=\"G\",'Skills explications FTEM'!F25,'Skills explications FTEM'!B25)","v":"Créativité"},null,null,{"$f":"IF($H$2=\"G\",'Skills explications FTEM'!G25,'Skills explications FTEM'!C25)","v":"Prises de décision surprenantes, sens du but"},null,null,{"$f":"IF($H$2=\"G\",'Skills explications FTEM'!#REF!,'Skills explications FTEM'!#REF!)","v":{"$error":"#REF!"}}]
[{"$f":"'Skills explications FTEM'!A26:A26","v":"PERSONALITY"},null,null,{"$f":"'Skills explications FTEM'!B26","v":"COMPÉTENCES"},null,null,{"$f":"'Skills explications FTEM'!C26","v":"OBSERVATION"},null,null,{"$f":"'Skills explications FTEM'!H26","v":0},null,null,null,"Date1",null,"Date2",null,"Date3",null,"Date4",null,"Date5",null,"Player",null,"BUT","MESURES:\nSPECIFIQUE, MESURABLES, REALISTE",null,null,null,null,null,null,"DELAI","CONTRÔLE DU BUT","Date"]
[{"$f":"'Skills explications FTEM'!A27:A27","v":"PERSONNALITÉ"},null,null,{"$f":"IF($H$2=\"G\",'Skills explications FTEM'!F27,'Skills explications FTEM'!B27)","v":"Confiance en soi"},null,null,{"$f":"IF($H$2=\"G\",'Skills explications FTEM'!G27,'Skills explications FTEM'!C27)","v":"Est en confiance,«I can do it», peut estimer ses capacités (connaît ses qualités et ses défauts), peut réaliser ses qualités avec constance, est courageux et prend des risques calculés"},null,null,{"$f":"IF($H$2=\"G\",'Skills explications FTEM'!#REF!,'Skills explications FTEM'!#REF!)","v":{"$error":"#REF!"}},null,null,null,{"$f":"IFERROR(AVERAGE(O36:O40),\"-\")","v":"-"},null,null,null,{"$f":"IFERROR(AVERAGE(S36:S40),\"-\")","v":"-"},null,{"$f":"IFERROR(AVERAGE(U36:U40),\"-\")","v":"-"},null,{"$f":"IFERROR(AVERAGE(W36:W40),\"-\")","v":"-"},null,{"$f":"IFERROR(AVERAGE(Y36:Y40),\"-\")","v":"-"}]
[{"$f":"'Skills explications FTEM'!A28:A28","v":0},null,null,{"$f":"IF($H$2=\"G\",'Skills explications FTEM'!F28,'Skills explications FTEM'!B28)","v":"Facultés d'apprentissage"},null,null,{"$f":"IF($H$2=\"G\",'Skills explications FTEM'!G28,'Skills explications FTEM'!C28)","v":"A une bonne perception (il peut mémoriser et peut réaliser), il a de la personnalité, essaie d'apprendre de ses erreurs et est entreprenant"},null,null,{"$f":"IF($H$2=\"G\",'Skills explications FTEM'!#REF!,'Skills explications FTEM'!#REF!)","v":{"$error":"#REF!"}}]
[{"$f":"'Skills explications FTEM'!A29:A29","v":0},null,null,{"$f":"IF($H$2=\"G\",'Skills explications FTEM'!F29,'Skills explications FTEM'!B29)","v":"Prise de responsabilités"},null,null,{"$f":"IF($H$2=\"G\",'Skills explications FTEM'!G29,'Skills explications FTEM'!C29)","v":"Prend la responsabilité de ses performances et de son développement, est-il autonome, soigne-t-il les détails, a beaucoup d'engagement dans tous les domaines"},null,null,{"$f":"IF($H$2=\"G\",'Skills explications FTEM'!#REF!,'Skills explications FTEM'!#REF!)","v":{"$error":"#REF!"}}]
[null,null,null,{"$f":"IF($H$2=\"G\",'Skills explications FTEM'!F30,'Skills explications FTEM'!B30)","v":"Motivation"},null,null,{"$f":"IF($H$2=\"G\",'Skills explications FTEM'!G30,'Skills explications FTEM'!C30)","v":"Est toujours motivé, veut sans cesse se développer et apprendre, veut être le premier et avoir du succès, n'abandonne jamais et ne se laisse pas influencer par les échesc"},null,null,{"$f":"IF($H$2=\"G\",'Skills explications FTEM'!#REF!,'Skills explications FTEM'!#REF!)","v":{"$error":"#REF!"}}]
[{"$f":"'Skills explications FTEM'!A31:A31","v":0},null,null,{"$f":"IF($H$2=\"G\",'Skills explications FTEM'!F31,'Skills explications FTEM'!B31)","v":"Performance style de vie"},null,null,{"$f":"IF($H$2=\"G\",'Skills explications FTEM'!G31,'Skills explications FTEM'!C31)","v":"Gère bien son environnement et son temps libre selon les principes de la performance, obstiné, tenace et axé sur l'objectif, accent sur sa propre performance, est courageux et peut s'imposer contre la résistance, les défis le motivent"},null,null,{"$f":"IF($H$2=\"G\",'Skills explications FTEM'!#REF!,'Skills explications FTEM'!#REF!)","v":{"$error":"#REF!"}}]
[{"$f":"'Skills explications FTEM'!A32:A32","v":"FORCE MENTALE"},null,null,{"$f":"IF($H$2=\"G\",'Skills explications FTEM'!F32,'Skills explications FTEM'!B32)","v":"Engagement"},null,null,{"$f":"IF($H$2=\"G\",'Skills explications FTEM'!G32,'Skills explications FTEM'!C32)","v":"Démontre beaucoup d'intensité dans les entraînements et les matchs, donne toujours son maximum et veut sans cesse repousser ses limites, a-t-il de la passion, s'efforce-t-il de s'entraîner avec une excellente qualité"},null,null,{"$f":"IF($H$2=\"G\",'Skills explications FTEM'!#REF!,'Skills explications FTEM'!#REF!)","v":{"$error":"#REF!"}},null,null,null,{"$f":"IFERROR(AVERAGE(O41:O45),\"-\")","v":"-"},null,null,null,{"$f":"IFERROR(AVERAGE(S41:S45),\"-\")","v":"-"},null,{"$f":"IFERROR(AVERAGE(U41:U45),\"-\")","v":"-"},null,{"$f":"IFERROR(AVERAGE(W41:W45),\"-\")","v":"-"},null,{"$f":"IFERROR(AVERAGE(Y41:Y45),\"-\")","v":"-"}]
[{"$f":"'Skills explications FTEM'!A33:A33","v":0},null,null,{"$f":"IF($H$2=\"G\",'Skills explications FTEM'!F33,'Skills explications FTEM'!B33)","v":"Préparation"},null,null,{"$f":"IF($H$2=\"G\",'Skills explications FTEM'!G33,'Skills explications FTEM'!C33)","v":"Se prépare-t-il toujours bien, mentalement et physiquement, se prépare-t-il toujours bien pour obtenir le niveau de performance idéal (ILZ)"},null,null,{"$f":"IF($H$2=\"G\",'Skills explications FTEM'!#REF!,'Skills explications FTEM'!#REF!)","v":{"$error":"#REF!"}}]
[null,null,null,{"$f":"IF($H$2=\"G\",'Skills explications FTEM'!F34,'Skills explications FTEM'!B34)","v":"Coaching personnel"},null,null,{"$f":"IF($H$2=\"G\",'Skills explications FTEM'!G34,'Skills explications FTEM'!C34)","v":"A-t-il de bonnes facultés de concentration, peut-il maintenir son niveau de performance idéal (ILZ) dans les entraînements et les matchs, peut-il appliquer ses techniques de base, est-il résistant aux influences et pensées négatives, est-il conscient de son attitude corporelle et peut-il l'influencer"},null,null,{"$f":"IF($H$2=\"G\",'Skills explications FTEM'!#REF!,'Skills explications FTEM'!#REF!)","v":{"$error":"#REF!"}}]
[{"$f":"'Skills explications FTEM'!A34:A34","v":0},null,null,{"$f":"IF($H$2=\"G\",'Skills explications FTEM'!F35,'Skills explications FTEM'!B35)","v":"Gestion des énergies"},null,null,{"$f":"IF($H$2=\"G\",'Skills explications FTEM'!G35,'Skills explications FTEM'!C35)","v":"Peut-il gérer ses propres énergies, prend-il soin de sa récupération, peut-il gérer les moments où il faut se donner à fond ou quand il faut déconnecter, bouton On/Off"},null,null,{"$f":"IF($H$2=\"G\",'Skills explications FTEM'!#REF!,'Skills explications FTEM'!#REF!)","v":{"$error":"#REF!"}}]
[{"$f":"'Skills explications FTEM'!A36:A36","v":0},null,null,{"$f":"IF($H$2=\"G\",'Skills explications FTEM'!F36,'Skills explications FTEM'!B36)","v":"Contrôle des émotions"},null,null,{"$f":"IF($H$2=\"G\",'Skills explications FTEM'!G36,'Skills explications FTEM'!C36)","v":"Peut-il gérer ses propres émotions et impulsions, reste-t-il sous contrôle lorsqu'il y a une grande pression, peut-il rester calme lorsque le niveau émotionnel et de frustration est élevé"},null,null,{"$f":"IF($H$2=\"G\",'Skills explications FTEM'!#REF!,'Skills explications FTEM'!#REF!)","v":{"$error":"#REF!"}}]
[{"$f":"'Skills explications FTEM'!A37:A37","v":"PHYSIQUE"},null,null,{"$f":"IF($H$2=\"G\",'Skills explications FTEM'!F37,'Skills explications FTEM'!B37)","v":"Production de la performance"},null,null,{"$f":"IF($H$2=\"G\",'Skills explications FTEM'!G37,'Skills explications FTEM'!C37)","v":"A-t-il la puissance, la force, la vitesse nécessaires dans les jambes et le haut du corps (facteurs neuromusculaires)"},null,null,{"$f":"IF($H$2=\"G\",'Skills explications FTEM'!#REF!,'Skills explications FTEM'!#REF!)","v":{"$error":"#REF!"}},null,null,null,{"$f":"IFERROR(AVERAGE(O46:O50),\"-\")","v":"-"},null,null,null,{"$f":"IFERROR(AVERAGE(S46:S50),\"-\")","v":"-"},null,{"$f":"IFERROR(AVERAGE(U46:U50),\"-\")","v":"-"},null,{"$f":"IFERROR(AVERAGE(W46:W50),\"-\")","v":"-"},null,{"$f":"IFERROR(AVERAGE(Y46:Y50),\"-\")","v":"-"}]
[{"$f":"'Skills explications FTEM'!A38:A38","v":0},null,null,{"$f":"IF($H$2=\"G\",'Skills explications FTEM'!F38,'Skills explications FTEM'!B38)","v":"Spécifique au sport, résistant à l'effort"},null,null,{"$f":"IF($H$2=\"G\",'Skills explications FTEM'!G38,'Skills explications FTEM'!C38)","v":"Est-il capable de maintenir sa puissance, sa force, sa vitesse durant un long temps de glace et peut-il récupérer complètement entre ses engagements (facteurs du métabolisme et cardiovasculaire)"},null,null,{"$f":"IF($H$2=\"G\",'Skills explications FTEM'!#REF!,'Skills explications FTEM'!#REF!)","v":{"$error":"#REF!"}}]
[null,null,null,{"$f":"IF($H$2=\"G\",'Skills explications FTEM'!F39,'Skills explications FTEM'!B39)","v":"Santé / Prévention"},null,null,{"$f":"IF($H$2=\"G\",'Skills explications FTEM'!G39,'Skills explications FTEM'!C39)","v":"A-t-il la stabilité nécessaire (p. ex. ses appuis) et la mobilité nécessaire au niveau des articulations centrales"},null,null,{"$f":"IF($H$2=\"G\",'Skills explications FTEM'!#REF!,'Skills explications FTEM'!#REF!)","v":{"$error":"#REF!"}}]
[{"$f":"'Skills explications FTEM'!A39:A39","v":0},null,null,{"$f":"IF($H$2=\"G\",'Skills explications FTEM'!F40,'Skills explications FTEM'!B40)","v":"Mobilité / Coordination"},null,null,{"$f":"IF($H$2=\"G\",'Skills explications FTEM'!G40,'Skills explications FTEM'!C40)","v":"Gère-t-il ses aptitudes de mouvements de base, qui sont un fournisseur important des fonctions spécifiques «Skills» pour être efficace"},null,null,{"$f":"IF($H$2=\"G\",'Skills explications FTEM'!#REF!,'Skills explications FTEM'!#REF!)","v":{"$error":"#REF!"}}]
[{"$f":"'Skills explications FTEM'!A41:A41","v":0},null,null,{"$f":"IF($H$2=\"G\",'Skills explications FTEM'!F41,'Skills explications FTEM'!B41)","v":"Robustesse"},null,null,{"$f":"IF($H$2=\"G\",'Skills explications FTEM'!G41,'Skills explications FTEM'!C41)","v":"A-t-il la force de base nécessaire (tension corporelle) pour gagner des duels et résister aux charges"},null,null,{"$f":"IF($H$2=\"G\",'Skills explications FTEM'!#REF!,'Skills explications FTEM'!#REF!)","v":{"$error":"#REF!"}}]

{"sheet":"6","index":9,"n_rows":50,"n_cols":36,"rows_kept":50,"cut":false,"hidden":false,"merged":[[45,25,49,25],[45,26,49,32],[45,34,49,34],[40,23,44,23],[42,3,42,5],[42,6,42,11],[44,3,44,5],[44,6,44,11],[40,0,44,2],[40,3,40,5],[40,6,40,11],[40,12,44,12],[40,13,44,13],[40,15,44,15],[45,0,49,2],[45,3,45,5],[45,6,45,11],[45,12,49,12],[45,23,49,23],[47,3,47,5],[47,6,47,11],[48,3,48,5],[48,6,48,11],[49,3,49,5],[34,21,34,22],[35,17,39,17],[35,19,39,19],[35,21,39,21],[36,3,36,5],[36,6,36,11],[38,3,38,5],[38,6,38,11],[40,17,44,17],[40,19,44,19],[40,21,44,21],[43,3,43,5],[43,6,43,11],[37,3,37,5],[37,6,37,11],[41,3,41,5],[41,6,41,11],[29,0,33,2],[29,3,29,5],[29,6,29,11],[29,12,33,12],[29,13,33,13],[29,15,33,15],[34,23,34,24],[34,26,34,32],[35,0,39,2],[35,3,35,5],[35,6,35,11],[35,12,39,12],[35,13,39,13],[35,15,39,15],[39,3,39,5],[39,6,39,11],[35,23,39,23],[34,0,34,2],[34,3,34,5],[34,6,34,11],[34,13,34,14],[34,15,34,16],[34,17,34,18],[34,19,34,20],[23,21,28,21],[23,23,28,23],[24,3,24,5],[24,6,24,11],[28,3,28,5],[28,6,28,11],[33,3,33,5],[33,6,33,11],[29,23,33,23],[29,17,33,17],[29,19,33,19],[29,21,33,21],[30,3,30,5],[30,6,30,11],[31,3,31,5],[31,6,31,11],[25,3,25,5],[25,6,25,11],[32,3,32,5],[32,6,32,11],[18,15,22,15],[18,17,22,17],[18,19,22,19],[18,21,22,21],[18,23,22,23],[22,3,22,5],[22,6,22,11],[23,0,28,2],[23,3,23,5],[23,6,23,11],[23,12,28,12],[23,13,28,13],[23,15,28,15],[23,17,28,17],[18,0,22,2],[18,3,18,5],[18,6,18,11],[18,12,22,12],[18,13,22,13],[19,3,19,5],[19,6,19,11],[20,3,20,5],[20,6,20,11],[23,19,28,19],[12,23,16,23],[16,3,16,5],[16,6,16,11],[17,0,17,2],[17,3,17,5],[17,6,17,11],[17,13,17,14],[17,15,17,16],[17,17,17,18],[17,19,17,20],[17,21,17,22],[17,23,17,24],[12,0,16,2],[12,3,12,5],[12,6,12,11],[12,12,16,12],[12,13,16,13],[12,15,16,15],[12,17,16,17],[12,19,16,19],[12,21,16,21],[13,3,13,5],[13,6,13,11],[14,3,14,5],[11,0,11,2],[11,3,11,5],[11,13,11,14],[11,15,11,16],[11,17,11,18],[11,19,11,20],[11,21,11,22],[11,23,11,24],[11,26,11,32],[11,6,11,11],[0,33,0,35],[29,25,33,25],[29,26,33,32],[29,34,33,34],[35,25,39,25],[35,26,39,32],[35,34,39,34],[1,0,1,1],[1,2,1,5],[1,10,1,24],[2,0,2,1],[2,2,2,5],[2,11,2,24],[6,0,6,1],[6,2,6,35],[7,0,7,1],[7,2,7,35],[8,0,8,1],[8,2,8,35],[3,0,3,1],[3,10,3,24],[4,0,4,1],[4,2,4,5],[4,10,4,24],[49,6,49,11],[45,13,49,13],[45,15,49,15],[45,17,49,17],[45,19,49,19],[45,21,49,21],[0,0,0,24],[0,25,0,26],[0,27,0,32],[10,0,10,24],[10,25,10,35],[40,25,44,25],[40,26,44,32],[40,34,44,34],[12,25,16,25],[12,26,16,32],[12,34,16,34],[18,25,22,25],[18,26,22,32],[18,34,22,34],[23,25,28,25],[23,26,28,32],[23,34,28,34],[17,26,17,32],[46,3,46,5],[46,6,46,11],[14,6,14,11],[15,3,15,5],[15,6,15,11],[21,3,21,5],[21,6,21,11],[26,3,26,5],[26,6,26,11],[27,3,27,5],[27,6,27,11]]}
["Infos personelles",null,null,null,null,null,null,null,null,null,null,null,null,null,null,null,null,null,null,null,null,null,null,null,null,"Predispositions",null,"Evaluations",null,null,null,null,null,"Rating"]
["PRENOM",null,{"$f":"IF(ISBLANK(VLOOKUP(6,Tabelle3[],3,0)),\"-\",VLOOKUP(6,Tabelle3[],3,0))","v":"-"},null,null,null,"POSITION",null,null,"ADRESSE",{"$f":"IF(ISBLANK(VLOOKUP(6,Tabelle3[],5,0)),\"-\",VLOOKUP(6,Tabelle3[],5,0))","v":"-"},null,null,null,null,null,null,null,null,null,null,null,null,null,null,"\"àage\" (Biologique/age relatif)",null,"Date 1",null,null,"cm",null,"Kg",null,"AUSGEZEICHNET",5]
["NOM",null,{"$f":"IF(ISBLANK(VLOOKUP(6,Tabelle3[],2,0)),\"-\",VLOOKUP(6,Tabelle3[],2,0))","v":"-"},null,null,null,"CANNE",null,null,"LIEU",{"$f":"IF(ISBLANK(VLOOKUP(6,Tabelle3[],7,0)),\"-\",VLOOKUP(6,Tabelle3[],7,0))","v":"-"},{"$f":"IF(ISBLANK(VLOOKUP(6,Tabelle3[],6,0)),\"-\",VLOOKUP(6,Tabelle3[],6,0))","v":"-"},null,null,null,null,null,null,null,null,null,null,null,null,null,"predispositions",null,"Date 2",null,null,"cm",null,"Kg",null,"GUT",4]
["DATE NAISS.",null,{"$f":"IF(ISBLANK(VLOOKUP(6,Tabelle3[],14,0)),\"-\",VLOOKUP(6,Tabelle3[],14,0))","v":"-"},{"$f":"IF(ISBLANK(VLOOKUP(6,Tabelle3[],15,0)),\"-\",VLOOKUP(6,Tabelle3[],15,0))","v":"-"},{"$f":"IF(ISBLANK(VLOOKUP(6,Tabelle3[],16,0)),\"-\",VLOOKUP(6,Tabelle3[],16,0))","v":"-"},null,"GRANDEUR",null,"cm","PHONE",{"$f":"IF(ISBLANK(VLOOKUP(6,Tabelle3[],8,0)),\"-\",VLOOKUP(6,Tabelle3[],8,0))","v":"-"},null,null,null,null,null,null,null,null,null,null,null,null,null,null,"Entourage",null,"Date 3",null,null,"cm",null,"Kg",null,"DURCHSCHNITT",3]
["SEXE",null,{"$f":"IF(ISBLANK(VLOOKUP(6,Tabelle3[],13,0)),\"-\",VLOOKUP(6,Tabelle3[],13,0))","v":"-"},null,null,null,"POIDS",null,"Kg","E-Mail",{"$f":"IF(ISBLANK(VLOOKUP(6,Tabelle3[],9,0)),\"-\",VLOOKUP(6,Tabelle3[],9,0))","v":"-"},null,null,null,null,null,null,null,null,null,null,null,null,null,null,null,null,"Date 4",null,null,"cm",null,"Kg",null,"MANGELHAFT",2]
[null,null,null,null,null,null,null,null,null,null,null,null,null,null,null,null,null,null,null,null,null,null,null,null,null,null,null,"Date 5",null,null,"cm",null,"Kg",null,"UNGENÜGEND",1]
["Vision",null,"xxx"]
["Next step",null,"xxx"]
["Profil du Joueur",null,"xxx"]
[]
["EVALUATION (COACH / JOUEUR)",null,null,null,null,null,null,null,null,null,null,null,null,null,null,null,null,null,null,null,null,null,null,null,null,"SMART"]
[{"$f":"'Skills explications FTEM'!A3:A3","v":"TEAM"},null,null,{"$f":"'Skills explications FTEM'!B3","v":"COMPÉTENCES"},null,null,{"$f":"'Skills explications FTEM'!C3","v":"OBSERVATION"},null,null,{"$f":"'Skills explications FTEM'!H3","v":0},null,null,"Final","Date1",null,"Date2",null,"Date3",null,"Date4",null,"Date5",null,"Player",null,"BUT","MESURES:\nSPECIFIQUE, MESURABLES, REALISTE",null,null,null,null,null,null,"DELAI","CONTRÔLE DU BUT","Date"]
[{"$f":"'Skills explications FTEM'!A4:A4","v":"ÉQUIPE"},null,null,{"$f":"IF($H$2=\"G\",'Skills explications FTEM'!F4,'Skills explications FTEM'!B4)","v":"Communication"},null,null,{"$f":"IF($H$2=\"G\",'Skills explications FTEM'!G4,'Skills explications FTEM'!C4)","v":"Respect et ouverture dans ses relations, confiance comme base, traite les conflits sans perturber la stabilité du groupe, communique avec ses coéquipiers, les entraîneurs et les fonctionnaires avec les mêmes valeurs"},null,null,{"$f":"IF($H$2=\"G\",'Skills explications FTEM'!#REF!,'Skills explications FTEM'!#REF!)","v":{"$error":"#REF!"}},null,null,null,{"$f":"IFERROR(AVERAGE(O13:O17),\"-\")","v":"-"},null,{"$f":"IFERROR(AVERAGE(Q13:Q17),\"-\")","v":"-"},null,{"$f":"IFERROR(AVERAGE(S13:S17),\"-\")","v":"-"},null,{"$f":"IFERROR(AVERAGE(U13:U17),\"-\")","v":"-"},null,{"$f":"IFERROR(AVERAGE(W13:W17),\"-\")","v":"-"},null,{"$f":"IFERROR(AVERAGE(Y13:Y17),\"-\")","v":"-"}]
[null,null,null,{"$f":"IF($H$2=\"G\",'Skills explications FTEM'!F5,'Skills explications FTEM'!B5)","v":"Capacité de jouer en équipe"},null,null,{"$f":"IF($H$2=\"G\",'Skills explications FTEM'!G5,'Skills explications FTEM'!C5)","v":"Intégration dans le groupe, définit et réalise des objectifs communs, NOUS avant le MOI, participe au bon esprit d'équipe et à un bon climat de travail"},null,null,{"$f":"IF($H$2=\"G\",'Skills explications FTEM'!#REF!,'Skills explications FTEM'!#REF!)","v":{"$error":"#REF!"}}]
[null,null,null,{"$f":"IF($H$2=\"G\",'Skills explications FTEM'!F6,'Skills explications FTEM'!B6)","v":"Leadership"},null,null,{"$f":"IF($H$2=\"G\",'Skills explications FTEM'!G6,'Skills explications FTEM'!C6)","v":"Prend des responsabilités dans le groupe, essaie de donner de la valeur à ses coéquipiers et au groupe, influence positivement la dynamique de groupe"},null,null,{"$f":"IF($H$2=\"G\",'Skills explications FTEM'!#REF!,'Skills explications FTEM'!#REF!)","v":{"$error":"#REF!"}}]
[null,null,null,{"$f":"IF($H$2=\"G\",'Skills explications FTEM'!F7,'Skills explications FTEM'!B7)","v":"Répartition des rôles"},null,null,{"$f":"IF($H$2=\"G\",'Skills explications FTEM'!G7,'Skills explications FTEM'!C7)","v":"Connaît son rôle et le réalise, est conscient de sa position dans l'équipe et le système, met ses compétences à disposition de l'équipe"},null,null,{"$f":"IF($H$2=\"G\",'Skills explications FTEM'!#REF!,'Skills explications FTEM'!#REF!)","v":{"$error":"#REF!"}}]
[{"$f":"'Skills explications FTEM'!A8:A8","v":0},null,null,{"$f":"IF($H$2=\"G\",'Skills explications FTEM'!F8,'Skills explications FTEM'!B8)","v":"Respect"},null,null,{"$f":"IF($H$2=\"G\",'Skills explications FTEM'!G8,'Skills explications FTEM'!C8)","v":"Relations respectueuses avec les coéquipiers, les entraîneurs, les adversaires, les arbitres et le staff; respect des règles, des principes du fairplay (y compris antidopage)"},null,null,{"$f":"IF($H$2=\"G\",'Skills explications FTEM'!#REF!,'Skills explications FTEM'!#REF!)","v":{"$error":"#REF!"}}]
[{"$f":"'Skills explications FTEM'!A9:A9","v":"ON ICE"},null,null,{"$f":"'Skills explications FTEM'!B9","v":"COMPÉTENCES"},null,null,{"$f":"'Skills explications FTEM'!C9","v":"OBSERVATION"},null,null,{"$f":"'Skills explications FTEM'!H9","v":0},null,null,null,"Date1",null,"Date2",null,"Date3",null,"Date4",null,"Date5",null,"Player",null,"BUT","MESURES:\nSPECIFIQUE, MESURABLES, REALISTE",null,null,null,null,null,null,"DELAI","CONTRÔLE DU BUT","Date"]
[{"$f":"'Skills explications FTEM'!A10:A10","v":"PATINAGE"},null,null,{"$f":"IF($H$2=\"G\",'Skills explications FTEM'!F10,'Skills explications FTEM'!B10)","v":"Vitesse de patinage"},null,null,{"$f":"IF($H$2=\"G\",'Skills explications FTEM'!G10,'Skills explications FTEM'!C10)","v":"Accélération, départ, explosivité des 3 premiers pas, fréquence"},null,null,{"$f":"IF($H$2=\"G\",'Skills explications FTEM'!#REF!,'Skills explications FTEM'!#REF!)","v":{"$error":"#REF!"}},null,null,null,{"$f":"IFERROR(AVERAGE(O19:O23),\"-\")","v":"-"},null,{"$f":"IFERROR(AVERAGE(Q19:Q23),\"-\")","v":"-"},null,{"$f":"IFERROR(AVERAGE(S19:S23),\"-\")","v":"-"},null,{"$f":"IFERROR(AVERAGE(U19:U23),\"-\")","v":"-"},null,{"$f":"IFERROR(AVERAGE(W19:W23),\"-\")","v":"-"},null,{"$f":"IFERROR(AVERAGE(Y19:Y23),\"-\")","v":"-"}]
[{"$f":"'Skills explications FTEM'!A11:A11","v":0},null,null,{"$f":"IF($H$2=\"G\",'Skills explications FTEM'!F11,'Skills explications FTEM'!B11)","v":"Vitesse, rapidité"},null,null,{"$f":"IF($H$2=\"G\",'Skills explications FTEM'!G11,'Skills explications FTEM'!C11)","v":"Vitesse, faculté de glisse, avant et arrière, économie des forces"},null,null,{"$f":"IF($H$2=\"G\",'Skills explications FTEM'!#REF!,'Skills explications FTEM'!#REF!)","v":{"$error":"#REF!"}}]
[{"$f":"'Skills explications FTEM'!A12:A12","v":0},null,null,{"$f":"IF($H$2=\"G\",'Skills explications FTEM'!F12,'Skills explications FTEM'!B12)","v":"Agilité"},null,null,{"$f":"IF($H$2=\"G\",'Skills explications FTEM'!G12,'Skills explications FTEM'!C12)","v":"Changements de direction, pivots, stop et start «Nummelin»"},null,null,{"$f":"IF($H$2=\"G\",'Skills explications FTEM'!#REF!,'Skills explications FTEM'!#REF!)","v":{"$error":"#REF!"}},null,null,null,{"$f":"IFERROR(AVERAGE(O21:O23),\"-\")","v":"-"},null,{"$f":"IFERROR(AVERAGE(Q21:Q23),\"-\")","v":"-"},null,{"$f":"IFERROR(AVERAGE(S21:S23),\"-\")","v":"-"},null,{"$f":"IFERROR(AVERAGE(U21:U23),\"-\")","v":"-"},null,{"$f":"IFERROR(AVERAGE(W21:W23),\"-\")","v":"-"},null,"-"]
[null,null,null,{"$f":"IF($H$2=\"G\",'Skills explications FTEM'!F13,'Skills explications FTEM'!B13)","v":"Balance"},null,null,{"$f":"IF($H$2=\"G\",'Skills explications FTEM'!G13,'Skills explications FTEM'!C13)","v":"Equilibre, faculté d'être sur ses appuis, position basse, 1 ou 2 jambes"},null,null,{"$f":"IF($H$2=\"G\",'Skills explications FTEM'!#REF!,'Skills explications FTEM'!#REF!)","v":{"$error":"#REF!"}}]
[{"$f":"'Skills explications FTEM'!#REF!","v":{"$error":"#REF!"}},null,null,{"$f":"IF($H$2=\"G\",'Skills explications FTEM'!F14,'Skills explications FTEM'!B14)","v":"Patinage arrière"},null,null,{"$f":"IF($H$2=\"G\",'Skills explications FTEM'!G14,'Skills explications FTEM'!C14)","v":"Accélération, vitesse, équilibre "},null,null,{"$f":"IF($H$2=\"G\",'Skills explications FTEM'!#REF!,'Skills explications FTEM'!#REF!)","v":{"$error":"#REF!"}}]
[{"$f":"'Skills explications FTEM'!A15:A15","v":"SKILLS"},null,null,{"$f":"IF($H$2=\"G\",'Skills explications FTEM'!F15,'Skills explications FTEM'!B15)","v":"Tirer"},null,null,{"$f":"IF($H$2=\"G\",'Skills explications FTEM'!G15,'Skills explications FTEM'!C15)","v":"Efficience (pas d'espace et de temps), variantes, degré de surprise (déclenchement rapide), précision, puissance (conclusion tactique)"},null,null,{"$f":"IF($H$2=\"G\",'Skills explications FTEM'!#REF!,'Skills explications FTEM'!#REF!)","v":{"$error":"#REF!"}},null,null,null,{"$f":"IFERROR(AVERAGE(O24:O29),\"-\")","v":"-"},null,{"$f":"IFERROR(AVERAGE(Q24:Q29),\"-\")","v":"-"},null,{"$f":"IFERROR(AVERAGE(S24:S29),\"-\")","v":"-"},null,{"$f":"IFERROR(AVERAGE(U24:U29),\"-\")","v":"-"},null,{"$f":"IFERROR(AVERAGE(W24:W29),\"-\")","v":"-"},null,{"$f":"IFERROR(AVERAGE(Y24:Y29),\"-\")","v":"-"}]
[{"$f":"'Skills explications FTEM'!A16:A16","v":0},null,null,{"$f":"IF($H$2=\"G\",'Skills explications FTEM'!F16,'Skills explications FTEM'!B16)","v":"Passer"},null,null,{"$f":"IF($H$2=\"G\",'Skills explications FTEM'!G16,'Skills explications FTEM'!C16)","v":"Donne la passe (distance, passe flipée en revers), réception de la passe (précision, timing, coup droit, revers, patins), vitesse du puck"},null,null,{"$f":"IF($H$2=\"G\",'Skills explications FTEM'!#REF!,'Skills explications FTEM'!#REF!)","v":{"$error":"#REF!"}}]
[{"$f":"'Skills explications FTEM'!A17:A17","v":0},null,null,{"$f":"IF($H$2=\"G\",'Skills explications FTEM'!F17,'Skills explications FTEM'!B17)","v":"Travail de canne, conduite du puck"},null,null,{"$f":"IF($H$2=\"G\",'Skills explications FTEM'!G17,'Skills explications FTEM'!C17)","v":"Puck sur la palette, intercepte les lignes de passe, déviation, contrôle de la canne de l'adversaire"},null,null,{"$f":"IF($H$2=\"G\",'Skills explications FTEM'!#REF!,'Skills explications FTEM'!#REF!)","v":{"$error":"#REF!"}}]
[null,null,null,{"$f":"IF($H$2=\"G\",'Skills explications FTEM'!F18,'Skills explications FTEM'!B18)","v":"Protéger le puck"},null,null,{"$f":"IF($H$2=\"G\",'Skills explications FTEM'!G18,'Skills explications FTEM'!C18)","v":"Contrôle du puck, dribbling, protection du puck, feintes (variantes: avec les patins ou avec et sans la bande), mise au jeu (bully)"},null,null,{"$f":"IF($H$2=\"G\",'Skills explications FTEM'!#REF!,'Skills explications FTEM'!#REF!)","v":{"$error":"#REF!"}}]
[null,null,null,{"$f":"IF($H$2=\"G\",'Skills explications FTEM'!F19,'Skills explications FTEM'!B19)","v":"Jeu du corps (charges)"},null,null,{"$f":"IF($H$2=\"G\",'Skills explications FTEM'!G19,'Skills explications FTEM'!C19)","v":"Faculté de s'imposer physiquement, duels (sur la surface de glace ou à la bande), prendre des checks, lever la tête, niveau de lutte, dur mais correct, bloquer les tirs avec le corps"},null,null,{"$f":"IF($H$2=\"G\",'Skills explications FTEM'!#REF!,'Skills explications FTEM'!#REF!)","v":{"$error":"#REF!"}}]
[{"$f":"'Skills explications FTEM'!A20:A20","v":0},null,null,{"$f":"IF($H$2=\"G\",'Skills explications FTEM'!F20,'Skills explications FTEM'!B20)","v":"-"},null,null,{"$f":"IF($H$2=\"G\",'Skills explications FTEM'!G20,'Skills explications FTEM'!C20)","v":"-"},null,null,{"$f":"IF($H$2=\"G\",'Skills explications FTEM'!#REF!,'Skills explications FTEM'!#REF!)","v":{"$error":"#REF!"}}]
[{"$f":"'Skills explications FTEM'!A21:A21","v":"HOCKEY SENSE"},null,null,{"$f":"IF($H$2=\"G\",'Skills explications FTEM'!F21,'Skills explications FTEM'!B21)","v":"Intelligence de jeu"},null,null,{"$f":"IF($H$2=\"G\",'Skills explications FTEM'!G21,'Skills explications FTEM'!C21)","v":"Voit les zones libres avec joueurs et crée des situations de surnombre, trouve des solutions et agit en toute situation, vitesse de la visualisation"},null,null,{"$f":"IF($H$2=\"G\",'Skills explications FTEM'!#REF!,'Skills explications FTEM'!#REF!)","v":{"$error":"#REF!"}},null,null,null,{"$f":"IFERROR(AVERAGE(O30:O34),\"-\")","v":"-"},null,{"$f":"IFERROR(AVERAGE(Q30:Q34),\"-\")","v":"-"},null,{"$f":"IFERROR(AVERAGE(S30:S34),\"-\")","v":"-"},null,{"$f":"IFERROR(AVERAGE(U30:U34),\"-\")","v":"-"},null,{"$f":"IFERROR(AVERAGE(W30:W34),\"-\")","v":"-"},null,{"$f":"IFERROR(AVERAGE(Y30:Y34),\"-\")","v":"-"}]
[{"$f":"'Skills explications FTEM'!A22:A22","v":0},null,null,{"$f":"IF($H$2=\"G\",'Skills explications FTEM'!F22,'Skills explications FTEM'!B22)","v":"Sensibilisation offensive"},null,null,{"$f":"IF($H$2=\"G\",'Skills explications FTEM'!G22,'Skills explications FTEM'!C22)","v":"Se démarque, anticipation des situations de jeu, ouvre des zones libres pour ses coéquipiers, se place pour marquer, vitesse de mise sous pression, communication"},null,null,{"$f":"IF($H$2=\"G\",'Skills explications FTEM'!#REF!,'Skills explications FTEM'!#REF!)","v":{"$error":"#REF!"}}]
[null,null,null,{"$f":"IF($H$2=\"G\",'Skills explications FTEM'!F23,'Skills explications FTEM'!B23)","v":"Sensibilisation défensive"},null,null,{"$f":"IF($H$2=\"G\",'Skills explications FTEM'!G23,'Skills explications FTEM'!C23)","v":"Garde la position «inside», protège le slot, rassure les coéquipiers, support, anticipe les lignes de passe, bloque les tirs. Réduit rapidement la distance sur l'adversaire, communication"},null,null,{"$f":"IF($H$2=\"G\",'Skills explications FTEM'!#REF!,'Skills explications FTEM'!#REF!)","v":{"$error":"#REF!"}}]
[{"$f":"'Skills explications FTEM'!A23:A23","v":0},null,null,{"$f":"IF($H$2=\"G\",'Skills explications FTEM'!F24,'Skills explications FTEM'!B24)","v":"Gestion du puck"},null,null,{"$f":"IF($H$2=\"G\",'Skills explications FTEM'!G24,'Skills explications FTEM'!C24)","v":"Fait le bon choix en fonction de la situation, support, surnombre"},null,null,{"$f":"IF($H$2=\"G\",'Skills explications FTEM'!#REF!,'Skills explications FTEM'!#REF!)","v":{"$error":"#REF!"}}]
[{"$f":"'Skills explications FTEM'!A25:A25","v":0},null,null,{"$f":"IF($H$2=\"G\",'Skills explications FTEM'!F25,'Skills explications FTEM'!B25)","v":"Créativité"},null,null,{"$f":"IF($H$2=\"G\",'Skills explications FTEM'!G25,'Skills explications FTEM'!C25)","v":"Prises de décision surprenantes, sens du but"},null,null,{"$f":"IF($H$2=\"G\",'Skills explications FTEM'!#REF!,'Skills explications FTEM'!#REF!)","v":{"$error":"#REF!"}}]
[{"$f":"'Skills explications FTEM'!A26:A26","v":"PERSONALITY"},null,null,{"$f":"'Skills explications FTEM'!B26","v":"COMPÉTENCES"},null,null,{"$f":"'Skills explications FTEM'!C26","v":"OBSERVATION"},null,null,{"$f":"'Skills explications FTEM'!H26","v":0},null,null,null,"Date1",null,"Date2",null,"Date3",null,"Date4",null,"Date5",null,"Player",null,"BUT","MESURES:\nSPECIFIQUE, MESURABLES, REALISTE",null,null,null,null,null,null,"DELAI","CONTRÔLE DU BUT","Date"]
[{"$f":"'Skills explications FTEM'!A27:A27","v":"PERSONNALITÉ"},null,null,{"$f":"IF($H$2=\"G\",'Skills explications FTEM'!F27,'Skills explications FTEM'!B27)","v":"Confiance en soi"},null,null,{"$f":"IF($H$2=\"G\",'Skills explications FTEM'!G27,'Skills explications FTEM'!C27)","v":"Est en confiance,«I can do it», peut estimer ses capacités (connaît ses qualités et ses défauts), peut réaliser ses qualités avec constance, est courageux et prend des risques calculés"},null,null,{"$f":"IF($H$2=\"G\",'Skills explications FTEM'!#REF!,'Skills explications FTEM'!#REF!)","v":{"$error":"#REF!"}},null,null,null,{"$f":"IFERROR(AVERAGE(O36:O40),\"-\")","v":"-"},null,null,null,{"$f":"IFERROR(AVERAGE(S36:S40),\"-\")","v":"-"},null,{"$f":"IFERROR(AVERAGE(U36:U40),\"-\")","v":"-"},null,{"$f":"IFERROR(AVERAGE(W36:W40),\"-\")","v":"-"},null,{"$f":"IFERROR(AVERAGE(Y36:Y40),\"-\")","v":"-"}]
[{"$f":"'Skills explications FTEM'!A28:A28","v":0},null,null,{"$f":"IF($H$2=\"G\",'Skills explications FTEM'!F28,'Skills explications FTEM'!B28)","v":"Facultés d'apprentissage"},null,null,{"$f":"IF($H$2=\"G\",'Skills explications FTEM'!G28,'Skills explications FTEM'!C28)","v":"A une bonne perception (il peut mémoriser et peut réaliser), il a de la personnalité, essaie d'apprendre de ses erreurs et est entreprenant"},null,null,{"$f":"IF($H$2=\"G\",'Skills explications FTEM'!#REF!,'Skills explications FTEM'!#REF!)","v":{"$error":"#REF!"}}]
[{"$f":"'Skills explications FTEM'!A29:A29","v":0},null,null,{"$f":"IF($H$2=\"G\",'Skills explications FTEM'!F29,'Skills explications FTEM'!B29)","v":"Prise de responsabilités"},null,null,{"$f":"IF($H$2=\"G\",'Skills explications FTEM'!G29,'Skills explications FTEM'!C29)","v":"Prend la responsabilité de ses performances et de son développement, est-il autonome, soigne-t-il les détails, a beaucoup d'engagement dans tous les domaines"},null,null,{"$f":"IF($H$2=\"G\",'Skills explications FTEM'!#REF!,'Skills explications FTEM'!#REF!)","v":{"$error":"#REF!"}}]
[null,null,null,{"$f":"IF($H$2=\"G\",'Skills explications FTEM'!F30,'Skills explications FTEM'!B30)","v":"Motivation"},null,null,{"$f":"IF($H$2=\"G\",'Skills explications FTEM'!G30,'Skills explications FTEM'!C30)","v":"Est toujours motivé, veut sans cesse se développer et apprendre, veut être le premier et avoir du succès, n'abandonne jamais et ne se laisse pas influencer par les échesc"},null,null,{"$f":"IF($H$2=\"G\",'Skills explications FTEM'!#REF!,'Skills explications FTEM'!#REF!)","v":{"$error":"#REF!"}}]
[{"$f":"'Skills explications FTEM'!A31:A31","v":0},null,null,{"$f":"IF($H$2=\"G\",'Skills explications FTEM'!F31,'Skills explications FTEM'!B31)","v":"Performance style de vie"},null,null,{"$f":"IF($H$2=\"G\",'Skills explications FTEM'!G31,'Skills explications FTEM'!C31)","v":"Gère bien son environnement et son temps libre selon les principes de la performance, obstiné, tenace et axé sur l'objectif, accent sur sa propre performance, est courageux et peut s'imposer contre la résistance, les défis le motivent"},null,null,{"$f":"IF($H$2=\"G\",'Skills explications FTEM'!#REF!,'Skills explications FTEM'!#REF!)","v":{"$error":"#REF!"}}]
[{"$f":"'Skills explications FTEM'!A32:A32","v":"FORCE MENTALE"},null,null,{"$f":"IF($H$2=\"G\",'Skills explications FTEM'!F32,'Skills explications FTEM'!B32)","v":"Engagement"},null,null,{"$f":"IF($H$2=\"G\",'Skills explications FTEM'!G32,'Skills explications FTEM'!C32)","v":"Démontre beaucoup d'intensité dans les entraînements et les matchs, donne toujours son maximum et veut sans cesse repousser ses limites, a-t-il de la passion, s'efforce-t-il de s'entraîner avec une excellente qualité"},null,null,{"$f":"IF($H$2=\"G\",'Skills explications FTEM'!#REF!,'Skills explications FTEM'!#REF!)","v":{"$error":"#REF!"}},null,null,null,{"$f":"IFERROR(AVERAGE(O41:O45),\"-\")","v":"-"},null,null,null,{"$f":"IFERROR(AVERAGE(S41:S45),\"-\")","v":"-"},null,{"$f":"IFERROR(AVERAGE(U41:U45),\"-\")","v":"-"},null,{"$f":"IFERROR(AVERAGE(W41:W45),\"-\")","v":"-"},null,{"$f":"IFERROR(AVERAGE(Y41:Y45),\"-\")","v":"-"}]
[{"$f":"'Skills explications FTEM'!A33:A33","v":0},null,null,{"$f":"IF($H$2=\"G\",'Skills explications FTEM'!F33,'Skills explications FTEM'!B33)","v":"Préparation"},null,null,{"$f":"IF($H$2=\"G\",'Skills explications FTEM'!G33,'Skills explications FTEM'!C33)","v":"Se prépare-t-il toujours bien, mentalement et physiquement, se prépare-t-il toujours bien pour obtenir le niveau de performance idéal (ILZ)"},null,null,{"$f":"IF($H$2=\"G\",'Skills explications FTEM'!#REF!,'Skills explications FTEM'!#REF!)","v":{"$error":"#REF!"}}]
[null,null,null,{"$f":"IF($H$2=\"G\",'Skills explications FTEM'!F34,'Skills explications FTEM'!B34)","v":"Coaching personnel"},null,null,{"$f":"IF($H$2=\"G\",'Skills explications FTEM'!G34,'Skills explications FTEM'!C34)","v":"A-t-il de bonnes facultés de concentration, peut-il maintenir son niveau de performance idéal (ILZ) dans les entraînements et les matchs, peut-il appliquer ses techniques de base, est-il résistant aux influences et pensées négatives, est-il conscient de son attitude corporelle et peut-il l'influencer"},null,null,{"$f":"IF($H$2=\"G\",'Skills explications FTEM'!#REF!,'Skills explications FTEM'!#REF!)","v":{"$error":"#REF!"}}]
[{"$f":"'Skills explications FTEM'!A34:A34","v":0},null,null,{"$f":"IF($H$2=\"G\",'Skills explications FTEM'!F35,'Skills explications FTEM'!B35)","v":"Gestion des énergies"},null,null,{"$f":"IF($H$2=\"G\",'Skills explications FTEM'!G35,'Skills explications FTEM'!C35)","v":"Peut-il gérer ses propres énergies, prend-il soin de sa récupération, peut-il gérer les moments où il faut se donner à fond ou quand il faut déconnecter, bouton On/Off"},null,null,{"$f":"IF($H$2=\"G\",'Skills explications FTEM'!#REF!,'Skills explications FTEM'!#REF!)","v":{"$error":"#REF!"}}]
[{"$f":"'Skills explications FTEM'!A36:A36","v":0},null,null,{"$f":"IF($H$2=\"G\",'Skills explications FTEM'!F36,'Skills explications FTEM'!B36)","v":"Contrôle des émotions"},null,null,{"$f":"IF($H$2=\"G\",'Skills explications FTEM'!G36,'Skills explications FTEM'!C36)","v":"Peut-il gérer ses propres émotions et impulsions, reste-t-il sous contrôle lorsqu'il y a une grande pression, peut-il rester calme lorsque le niveau émotionnel et de frustration est élevé"},null,null,{"$f":"IF($H$2=\"G\",'Skills explications FTEM'!#REF!,'Skills explications FTEM'!#REF!)","v":{"$error":"#REF!"}}]
[{"$f":"'Skills explications FTEM'!A37:A37","v":"PHYSIQUE"},null,null,{"$f":"IF($H$2=\"G\",'Skills explications FTEM'!F37,'Skills explications FTEM'!B37)","v":"Production de la performance"},null,null,{"$f":"IF($H$2=\"G\",'Skills explications FTEM'!G37,'Skills explications FTEM'!C37)","v":"A-t-il la puissance, la force, la vitesse nécessaires dans les jambes et le haut du corps (facteurs neuromusculaires)"},null,null,{"$f":"IF($H$2=\"G\",'Skills explications FTEM'!#REF!,'Skills explications FTEM'!#REF!)","v":{"$error":"#REF!"}},null,null,null,{"$f":"IFERROR(AVERAGE(O46:O50),\"-\")","v":"-"},null,null,null,{"$f":"IFERROR(AVERAGE(S46:S50),\"-\")","v":"-"},null,{"$f":"IFERROR(AVERAGE(U46:U50),\"-\")","v":"-"},null,{"$f":"IFERROR(AVERAGE(W46:W50),\"-\")","v":"-"},null,{"$f":"IFERROR(AVERAGE(Y46:Y50),\"-\")","v":"-"}]
[{"$f":"'Skills explications FTEM'!A38:A38","v":0},null,null,{"$f":"IF($H$2=\"G\",'Skills explications FTEM'!F38,'Skills explications FTEM'!B38)","v":"Spécifique au sport, résistant à l'effort"},null,null,{"$f":"IF($H$2=\"G\",'Skills explications FTEM'!G38,'Skills explications FTEM'!C38)","v":"Est-il capable de maintenir sa puissance, sa force, sa vitesse durant un long temps de glace et peut-il récupérer complètement entre ses engagements (facteurs du métabolisme et cardiovasculaire)"},null,null,{"$f":"IF($H$2=\"G\",'Skills explications FTEM'!#REF!,'Skills explications FTEM'!#REF!)","v":{"$error":"#REF!"}}]
[null,null,null,{"$f":"IF($H$2=\"G\",'Skills explications FTEM'!F39,'Skills explications FTEM'!B39)","v":"Santé / Prévention"},null,null,{"$f":"IF($H$2=\"G\",'Skills explications FTEM'!G39,'Skills explications FTEM'!C39)","v":"A-t-il la stabilité nécessaire (p. ex. ses appuis) et la mobilité nécessaire au niveau des articulations centrales"},null,null,{"$f":"IF($H$2=\"G\",'Skills explications FTEM'!#REF!,'Skills explications FTEM'!#REF!)","v":{"$error":"#REF!"}}]
[{"$f":"'Skills explications FTEM'!A39:A39","v":0},null,null,{"$f":"IF($H$2=\"G\",'Skills explications FTEM'!F40,'Skills explications FTEM'!B40)","v":"Mobilité / Coordination"},null,null,{"$f":"IF($H$2=\"G\",'Skills explications FTEM'!G40,'Skills explications FTEM'!C40)","v":"Gère-t-il ses aptitudes de mouvements de base, qui sont un fournisseur important des fonctions spécifiques «Skills» pour être efficace"},null,null,{"$f":"IF($H$2=\"G\",'Skills explications FTEM'!#REF!,'Skills explications FTEM'!#REF!)","v":{"$error":"#REF!"}}]
[{"$f":"'Skills explications FTEM'!A41:A41","v":0},null,null,{"$f":"IF($H$2=\"G\",'Skills explications FTEM'!F41,'Skills explications FTEM'!B41)","v":"Robustesse"},null,null,{"$f":"IF($H$2=\"G\",'Skills explications FTEM'!G41,'Skills explications FTEM'!C41)","v":"A-t-il la force de base nécessaire (tension corporelle) pour gagner des duels et résister aux charges"},null,null,{"$f":"IF($H$2=\"G\",'Skills explications FTEM'!#REF!,'Skills explications FTEM'!#REF!)","v":{"$error":"#REF!"}}]

{"sheet":"7","index":10,"n_rows":50,"n_cols":36,"rows_kept":50,"cut":false,"hidden":false,"merged":[[45,25,49,25],[45,26,49,32],[45,34,49,34],[40,23,44,23],[42,3,42,5],[42,6,42,11],[44,3,44,5],[44,6,44,11],[40,0,44,2],[40,3,40,5],[40,6,40,11],[40,12,44,12],[40,13,44,13],[40,15,44,15],[45,0,49,2],[45,3,45,5],[45,6,45,11],[45,12,49,12],[45,23,49,23],[47,3,47,5],[47,6,47,11],[48,3,48,5],[48,6,48,11],[49,3,49,5],[34,21,34,22],[35,17,39,17],[35,19,39,19],[35,21,39,21],[36,3,36,5],[36,6,36,11],[38,3,38,5],[38,6,38,11],[40,17,44,17],[40,19,44,19],[40,21,44,21],[43,3,43,5],[43,6,43,11],[37,3,37,5],[37,6,37,11],[41,3,41,5],[41,6,41,11],[29,0,33,2],[29,3,29,5],[29,6,29,11],[29,12,33,12],[29,13,33,13],[29,15,33,15],[34,23,34,24],[34,26,34,32],[35,0,39,2],[35,3,35,5],[35,6,35,11],[35,12,39,12],[35,13,39,13],[35,15,39,15],[39,3,39,5],[39,6,39,11],[35,23,39,23],[34,0,34,2],[34,3,34,5],[34,6,34,11],[34,13,34,14],[34,15,34,16],[34,17,34,18],[34,19,34,20],[23,21,28,21],[23,23,28,23],[24,3,24,5],[24,6,24,11],[28,3,28,5],[28,6,28,11],[33,3,33,5],[33,6,33,11],[29,23,33,23],[29,17,33,17],[29,19,33,19],[29,21,33,21],[30,3,30,5],[30,6,30,11],[31,3,31,5],[31,6,31,11],[25,3,25,5],[25,6,25,11],[32,3,32,5],[32,6,32,11],[18,15,22,15],[18,17,22,17],[18,19,22,19],[18,21,22,21],[18,23,22,23],[22,3,22,5],[22,6,22,11],[23,0,28,2],[23,3,23,5],[23,6,23,11],[23,12,28,12],[23,13,28,13],[23,15,28,15],[23,17,28,17],[18,0,22,2],[18,3,18,5],[18,6,18,11],[18,12,22,12],[18,13,22,13],[19,3,19,5],[19,6,19,11],[20,3,20,5],[20,6,20,11],[23,19,28,19],[12,23,16,23],[16,3,16,5],[16,6,16,11],[17,0,17,2],[17,3,17,5],[17,6,17,11],[17,13,17,14],[17,15,17,16],[17,17,17,18],[17,19,17,20],[17,21,17,22],[17,23,17,24],[12,0,16,2],[12,3,12,5],[12,6,12,11],[12,12,16,12],[12,13,16,13],[12,15,16,15],[12,17,16,17],[12,19,16,19],[12,21,16,21],[13,3,13,5],[13,6,13,11],[14,3,14,5],[11,0,11,2],[11,3,11,5],[11,13,11,14],[11,15,11,16],[11,17,11,18],[11,19,11,20],[11,21,11,22],[11,23,11,24],[11,26,11,32],[11,6,11,11],[0,33,0,35],[29,25,33,25],[29,26,33,32],[29,34,33,34],[35,25,39,25],[35,26,39,32],[35,34,39,34],[1,0,1,1],[1,2,1,5],[1,10,1,24],[2,0,2,1],[2,2,2,5],[2,11,2,24],[6,0,6,1],[6,2,6,35],[7,0,7,1],[7,2,7,35],[8,0,8,1],[8,2,8,35],[3,0,3,1],[3,10,3,24],[4,0,4,1],[4,2,4,5],[4,10,4,24],[49,6,49,11],[45,13,49,13],[45,15,49,15],[45,17,49,17],[45,19,49,19],[45,21,49,21],[0,0,0,24],[0,25,0,26],[0,27,0,32],[10,0,10,24],[10,25,10,35],[40,25,44,25],[40,26,44,32],[40,34,44,34],[12,25,16,25],[12,26,16,32],[12,34,16,34],[18,25,22,25],[18,26,22,32],[18,34,22,34],[23,25,28,25],[23,26,28,32],[23,34,28,34],[17,26,17,32],[46,3,46,5],[46,6,46,11],[14,6,14,11],[15,3,15,5],[15,6,15,11],[21,3,21,5],[21,6,21,11],[26,3,26,5],[26,6,26,11],[27,3,27,5],[27,6,27,11]]}
["Infos personelles",null,null,null,null,null,null,null,null,null,null,null,null,null,null,null,null,null,null,null,null,null,null,null,null,"Predispositions",null,"Evaluations",null,null,null,null,null,"Rating"]
["PRENOM",null,{"$f":"IF(ISBLANK(VLOOKUP(7,Tabelle3[],3,0)),\"-\",VLOOKUP(7,Tabelle3[],3,0))","v":"-"},null,null,null,"POSITION",null,null,"ADRESSE",{"$f":"IF(ISBLANK(VLOOKUP(7,Tabelle3[],5,0)),\"-\",VLOOKUP(7,Tabelle3[],5,0))","v":"-"},null,null,null,null,null,null,null,null,null,null,null,null,null,null,"\"àage\" (Biologique/age relatif)",null,"Date 1",null,null,"cm",null,"Kg",null,"AUSGEZEICHNET",5]
["NOM",null,{"$f":"IF(ISBLANK(VLOOKUP(7,Tabelle3[],2,0)),\"-\",VLOOKUP(7,Tabelle3[],2,0))","v":"-"},null,null,null,"CANNE",null,null,"LIEU",{"$f":"IF(ISBLANK(VLOOKUP(7,Tabelle3[],7,0)),\"-\",VLOOKUP(7,Tabelle3[],7,0))","v":"-"},{"$f":"IF(ISBLANK(VLOOKUP(7,Tabelle3[],6,0)),\"-\",VLOOKUP(7,Tabelle3[],6,0))","v":"-"},null,null,null,null,null,null,null,null,null,null,null,null,null,"predispositions",null,"Date 2",null,null,"cm",null,"Kg",null,"GUT",4]
["DATE NAISS.",null,{"$f":"IF(ISBLANK(VLOOKUP(7,Tabelle3[],14,0)),\"-\",VLOOKUP(7,Tabelle3[],14,0))","v":"-"},{"$f":"IF(ISBLANK(VLOOKUP(7,Tabelle3[],15,0)),\"-\",VLOOKUP(7,Tabelle3[],15,0))","v":"-"},{"$f":"IF(ISBLANK(VLOOKUP(7,Tabelle3[],16,0)),\"-\",VLOOKUP(7,Tabelle3[],16,0))","v":"-"},null,"GRANDEUR",null,"cm","PHONE",{"$f":"IF(ISBLANK(VLOOKUP(7,Tabelle3[],8,0)),\"-\",VLOOKUP(7,Tabelle3[],8,0))","v":"-"},null,null,null,null,null,null,null,null,null,null,null,null,null,null,"Entourage",null,"Date 3",null,null,"cm",null,"Kg",null,"DURCHSCHNITT",3]
["SEXE",null,{"$f":"IF(ISBLANK(VLOOKUP(7,Tabelle3[],13,0)),\"-\",VLOOKUP(7,Tabelle3[],13,0))","v":"-"},null,null,null,"POIDS",null,"Kg","E-Mail",{"$f":"IF(ISBLANK(VLOOKUP(7,Tabelle3[],9,0)),\"-\",VLOOKUP(7,Tabelle3[],9,0))","v":"-"},null,null,null,null,null,null,null,null,null,null,null,null,null,null,null,null,"Date 4",null,null,"cm",null,"Kg",null,"MANGELHAFT",2]
[null,null,null,null,null,null,null,null,null,null,null,null,null,null,null,null,null,null,null,null,null,null,null,null,null,null,null,"Date 5",null,null,"cm",null,"Kg",null,"UNGENÜGEND",1]
["Vision",null,"xxx"]
["Next step",null,"xxx"]
["Profil du Joueur",null,"xxx"]
[]
["EVALUATION (COACH / JOUEUR)",null,null,null,null,null,null,null,null,null,null,null,null,null,null,null,null,null,null,null,null,null,null,null,null,"SMART"]
[{"$f":"'Skills explications FTEM'!A3:A3","v":"TEAM"},null,null,{"$f":"'Skills explications FTEM'!B3","v":"COMPÉTENCES"},null,null,{"$f":"'Skills explications FTEM'!C3","v":"OBSERVATION"},null,null,{"$f":"'Skills explications FTEM'!H3","v":0},null,null,"Final","Date1",null,"Date2",null,"Date3",null,"Date4",null,"Date5",null,"Player",null,"BUT","MESURES:\nSPECIFIQUE, MESURABLES, REALISTE",null,null,null,null,null,null,"DELAI","CONTRÔLE DU BUT","Date"]
[{"$f":"'Skills explications FTEM'!A4:A4","v":"ÉQUIPE"},null,null,{"$f":"IF($H$2=\"G\",'Skills explications FTEM'!F4,'Skills explications FTEM'!B4)","v":"Communication"},null,null,{"$f":"IF($H$2=\"G\",'Skills explications FTEM'!G4,'Skills explications FTEM'!C4)","v":"Respect et ouverture dans ses relations, confiance comme base, traite les conflits sans perturber la stabilité du groupe, communique avec ses coéquipiers, les entraîneurs et les fonctionnaires avec les mêmes valeurs"},null,null,{"$f":"IF($H$2=\"G\",'Skills explications FTEM'!#REF!,'Skills explications FTEM'!#REF!)","v":{"$error":"#REF!"}},null,null,null,{"$f":"IFERROR(AVERAGE(O13:O17),\"-\")","v":"-"},null,{"$f":"IFERROR(AVERAGE(Q13:Q17),\"-\")","v":"-"},null,{"$f":"IFERROR(AVERAGE(S13:S17),\"-\")","v":"-"},null,{"$f":"IFERROR(AVERAGE(U13:U17),\"-\")","v":"-"},null,{"$f":"IFERROR(AVERAGE(W13:W17),\"-\")","v":"-"},null,{"$f":"IFERROR(AVERAGE(Y13:Y17),\"-\")","v":"-"}]
[null,null,null,{"$f":"IF($H$2=\"G\",'Skills explications FTEM'!F5,'Skills explications FTEM'!B5)","v":"Capacité de jouer en équipe"},null,null,{"$f":"IF($H$2=\"G\",'Skills explications FTEM'!G5,'Skills explications FTEM'!C5)","v":"Intégration dans le groupe, définit et réalise des objectifs communs, NOUS avant le MOI, participe au bon esprit d'équipe et à un bon climat de travail"},null,null,{"$f":"IF($H$2=\"G\",'Skills explications FTEM'!#REF!,'Skills explications FTEM'!#REF!)","v":{"$error":"#REF!"}}]
[null,null,null,{"$f":"IF($H$2=\"G\",'Skills explications FTEM'!F6,'Skills explications FTEM'!B6)","v":"Leadership"},null,null,{"$f":"IF($H$2=\"G\",'Skills explications FTEM'!G6,'Skills explications FTEM'!C6)","v":"Prend des responsabilités dans le groupe, essaie de donner de la valeur à ses coéquipiers et au groupe, influence positivement la dynamique de groupe"},null,null,{"$f":"IF($H$2=\"G\",'Skills explications FTEM'!#REF!,'Skills explications FTEM'!#REF!)","v":{"$error":"#REF!"}}]
[null,null,null,{"$f":"IF($H$2=\"G\",'Skills explications FTEM'!F7,'Skills explications FTEM'!B7)","v":"Répartition des rôles"},null,null,{"$f":"IF($H$2=\"G\",'Skills explications FTEM'!G7,'Skills explications FTEM'!C7)","v":"Connaît son rôle et le réalise, est conscient de sa position dans l'équipe et le système, met ses compétences à disposition de l'équipe"},null,null,{"$f":"IF($H$2=\"G\",'Skills explications FTEM'!#REF!,'Skills explications FTEM'!#REF!)","v":{"$error":"#REF!"}}]
[{"$f":"'Skills explications FTEM'!A8:A8","v":0},null,null,{"$f":"IF($H$2=\"G\",'Skills explications FTEM'!F8,'Skills explications FTEM'!B8)","v":"Respect"},null,null,{"$f":"IF($H$2=\"G\",'Skills explications FTEM'!G8,'Skills explications FTEM'!C8)","v":"Relations respectueuses avec les coéquipiers, les entraîneurs, les adversaires, les arbitres et le staff; respect des règles, des principes du fairplay (y compris antidopage)"},null,null,{"$f":"IF($H$2=\"G\",'Skills explications FTEM'!#REF!,'Skills explications FTEM'!#REF!)","v":{"$error":"#REF!"}}]
[{"$f":"'Skills explications FTEM'!A9:A9","v":"ON ICE"},null,null,{"$f":"'Skills explications FTEM'!B9","v":"COMPÉTENCES"},null,null,{"$f":"'Skills explications FTEM'!C9","v":"OBSERVATION"},null,null,{"$f":"'Skills explications FTEM'!H9","v":0},null,null,null,"Date1",null,"Date2",null,"Date3",null,"Date4",null,"Date5",null,"Player",null,"BUT","MESURES:\nSPECIFIQUE, MESURABLES, REALISTE",null,null,null,null,null,null,"DELAI","CONTRÔLE DU BUT","Date"]
[{"$f":"'Skills explications FTEM'!A10:A10","v":"PATINAGE"},null,null,{"$f":"IF($H$2=\"G\",'Skills explications FTEM'!F10,'Skills explications FTEM'!B10)","v":"Vitesse de patinage"},null,null,{"$f":"IF($H$2=\"G\",'Skills explications FTEM'!G10,'Skills explications FTEM'!C10)","v":"Accélération, départ, explosivité des 3 premiers pas, fréquence"},null,null,{"$f":"IF($H$2=\"G\",'Skills explications FTEM'!#REF!,'Skills explications FTEM'!#REF!)","v":{"$error":"#REF!"}},null,null,null,{"$f":"IFERROR(AVERAGE(O19:O23),\"-\")","v":"-"},null,{"$f":"IFERROR(AVERAGE(Q19:Q23),\"-\")","v":"-"},null,{"$f":"IFERROR(AVERAGE(S19:S23),\"-\")","v":"-"},null,{"$f":"IFERROR(AVERAGE(U19:U23),\"-\")","v":"-"},null,{"$f":"IFERROR(AVERAGE(W19:W23),\"-\")","v":"-"},null,{"$f":"IFERROR(AVERAGE(Y19:Y23),\"-\")","v":"-"}]
[{"$f":"'Skills explications FTEM'!A11:A11","v":0},null,null,{"$f":"IF($H$2=\"G\",'Skills explications FTEM'!F11,'Skills explications FTEM'!B11)","v":"Vitesse, rapidité"},null,null,{"$f":"IF($H$2=\"G\",'Skills explications FTEM'!G11,'Skills explications FTEM'!C11)","v":"Vitesse, faculté de glisse, avant et arrière, économie des forces"},null,null,{"$f":"IF($H$2=\"G\",'Skills explications FTEM'!#REF!,'Skills explications FTEM'!#REF!)","v":{"$error":"#REF!"}}]
[{"$f":"'Skills explications FTEM'!A12:A12","v":0},null,null,{"$f":"IF($H$2=\"G\",'Skills explications FTEM'!F12,'Skills explications FTEM'!B12)","v":"Agilité"},null,null,{"$f":"IF($H$2=\"G\",'Skills explications FTEM'!G12,'Skills explications FTEM'!C12)","v":"Changements de direction, pivots, stop et start «Nummelin»"},null,null,{"$f":"IF($H$2=\"G\",'Skills explications FTEM'!#REF!,'Skills explications FTEM'!#REF!)","v":{"$error":"#REF!"}},null,null,null,{"$f":"IFERROR(AVERAGE(O21:O23),\"-\")","v":"-"},null,{"$f":"IFERROR(AVERAGE(Q21:Q23),\"-\")","v":"-"},null,{"$f":"IFERROR(AVERAGE(S21:S23),\"-\")","v":"-"},null,{"$f":"IFERROR(AVERAGE(U21:U23),\"-\")","v":"-"},null,{"$f":"IFERROR(AVERAGE(W21:W23),\"-\")","v":"-"},null,"-"]
[null,null,null,{"$f":"IF($H$2=\"G\",'Skills explications FTEM'!F13,'Skills explications FTEM'!B13)","v":"Balance"},null,null,{"$f":"IF($H$2=\"G\",'Skills explications FTEM'!G13,'Skills explications FTEM'!C13)","v":"Equilibre, faculté d'être sur ses appuis, position basse, 1 ou 2 jambes"},null,null,{"$f":"IF($H$2=\"G\",'Skills explications FTEM'!#REF!,'Skills explications FTEM'!#REF!)","v":{"$error":"#REF!"}}]
[{"$f":"'Skills explications FTEM'!#REF!","v":{"$error":"#REF!"}},null,null,{"$f":"IF($H$2=\"G\",'Skills explications FTEM'!F14,'Skills explications FTEM'!B14)","v":"Patinage arrière"},null,null,{"$f":"IF($H$2=\"G\",'Skills explications FTEM'!G14,'Skills explications FTEM'!C14)","v":"Accélération, vitesse, équilibre "},null,null,{"$f":"IF($H$2=\"G\",'Skills explications FTEM'!#REF!,'Skills explications FTEM'!#REF!)","v":{"$error":"#REF!"}}]
[{"$f":"'Skills explications FTEM'!A15:A15","v":"SKILLS"},null,null,{"$f":"IF($H$2=\"G\",'Skills explications FTEM'!F15,'Skills explications FTEM'!B15)","v":"Tirer"},null,null,{"$f":"IF($H$2=\"G\",'Skills explications FTEM'!G15,'Skills explications FTEM'!C15)","v":"Efficience (pas d'espace et de temps), variantes, degré de surprise (déclenchement rapide), précision, puissance (conclusion tactique)"},null,null,{"$f":"IF($H$2=\"G\",'Skills explications FTEM'!#REF!,'Skills explications FTEM'!#REF!)","v":{"$error":"#REF!"}},null,null,null,{"$f":"IFERROR(AVERAGE(O24:O29),\"-\")","v":"-"},null,{"$f":"IFERROR(AVERAGE(Q24:Q29),\"-\")","v":"-"},null,{"$f":"IFERROR(AVERAGE(S24:S29),\"-\")","v":"-"},null,{"$f":"IFERROR(AVERAGE(U24:U29),\"-\")","v":"-"},null,{"$f":"IFERROR(AVERAGE(W24:W29),\"-\")","v":"-"},null,{"$f":"IFERROR(AVERAGE(Y24:Y29),\"-\")","v":"-"}]
[{"$f":"'Skills explications FTEM'!A16:A16","v":0},null,null,{"$f":"IF($H$2=\"G\",'Skills explications FTEM'!F16,'Skills explications FTEM'!B16)","v":"Passer"},null,null,{"$f":"IF($H$2=\"G\",'Skills explications FTEM'!G16,'Skills explications FTEM'!C16)","v":"Donne la passe (distance, passe flipée en revers), réception de la passe (précision, timing, coup droit, revers, patins), vitesse du puck"},null,null,{"$f":"IF($H$2=\"G\",'Skills explications FTEM'!#REF!,'Skills explications FTEM'!#REF!)","v":{"$error":"#REF!"}}]
[{"$f":"'Skills explications FTEM'!A17:A17","v":0},null,null,{"$f":"IF($H$2=\"G\",'Skills explications FTEM'!F17,'Skills explications FTEM'!B17)","v":"Travail de canne, conduite du puck"},null,null,{"$f":"IF($H$2=\"G\",'Skills explications FTEM'!G17,'Skills explications FTEM'!C17)","v":"Puck sur la palette, intercepte les lignes de passe, déviation, contrôle de la canne de l'adversaire"},null,null,{"$f":"IF($H$2=\"G\",'Skills explications FTEM'!#REF!,'Skills explications FTEM'!#REF!)","v":{"$error":"#REF!"}}]
[null,null,null,{"$f":"IF($H$2=\"G\",'Skills explications FTEM'!F18,'Skills explications FTEM'!B18)","v":"Protéger le puck"},null,null,{"$f":"IF($H$2=\"G\",'Skills explications FTEM'!G18,'Skills explications FTEM'!C18)","v":"Contrôle du puck, dribbling, protection du puck, feintes (variantes: avec les patins ou avec et sans la bande), mise au jeu (bully)"},null,null,{"$f":"IF($H$2=\"G\",'Skills explications FTEM'!#REF!,'Skills explications FTEM'!#REF!)","v":{"$error":"#REF!"}}]
[null,null,null,{"$f":"IF($H$2=\"G\",'Skills explications FTEM'!F19,'Skills explications FTEM'!B19)","v":"Jeu du corps (charges)"},null,null,{"$f":"IF($H$2=\"G\",'Skills explications FTEM'!G19,'Skills explications FTEM'!C19)","v":"Faculté de s'imposer physiquement, duels (sur la surface de glace ou à la bande), prendre des checks, lever la tête, niveau de lutte, dur mais correct, bloquer les tirs avec le corps"},null,null,{"$f":"IF($H$2=\"G\",'Skills explications FTEM'!#REF!,'Skills explications FTEM'!#REF!)","v":{"$error":"#REF!"}}]
[{"$f":"'Skills explications FTEM'!A20:A20","v":0},null,null,{"$f":"IF($H$2=\"G\",'Skills explications FTEM'!F20,'Skills explications FTEM'!B20)","v":"-"},null,null,{"$f":"IF($H$2=\"G\",'Skills explications FTEM'!G20,'Skills explications FTEM'!C20)","v":"-"},null,null,{"$f":"IF($H$2=\"G\",'Skills explications FTEM'!#REF!,'Skills explications FTEM'!#REF!)","v":{"$error":"#REF!"}}]
[{"$f":"'Skills explications FTEM'!A21:A21","v":"HOCKEY SENSE"},null,null,{"$f":"IF($H$2=\"G\",'Skills explications FTEM'!F21,'Skills explications FTEM'!B21)","v":"Intelligence de jeu"},null,null,{"$f":"IF($H$2=\"G\",'Skills explications FTEM'!G21,'Skills explications FTEM'!C21)","v":"Voit les zones libres avec joueurs et crée des situations de surnombre, trouve des solutions et agit en toute situation, vitesse de la visualisation"},null,null,{"$f":"IF($H$2=\"G\",'Skills explications FTEM'!#REF!,'Skills explications FTEM'!#REF!)","v":{"$error":"#REF!"}},null,null,null,{"$f":"IFERROR(AVERAGE(O30:O34),\"-\")","v":"-"},null,{"$f":"IFERROR(AVERAGE(Q30:Q34),\"-\")","v":"-"},null,{"$f":"IFERROR(AVERAGE(S30:S34),\"-\")","v":"-"},null,{"$f":"IFERROR(AVERAGE(U30:U34),\"-\")","v":"-"},null,{"$f":"IFERROR(AVERAGE(W30:W34),\"-\")","v":"-"},null,{"$f":"IFERROR(AVERAGE(Y30:Y34),\"-\")","v":"-"}]
[{"$f":"'Skills explications FTEM'!A22:A22","v":0},null,null,{"$f":"IF($H$2=\"G\",'Skills explications FTEM'!F22,'Skills explications FTEM'!B22)","v":"Sensibilisation offensive"},null,null,{"$f":"IF($H$2=\"G\",'Skills explications FTEM'!G22,'Skills explications FTEM'!C22)","v":"Se démarque, anticipation des situations de jeu, ouvre des zones libres pour ses coéquipiers, se place pour marquer, vitesse de mise sous pression, communication"},null,null,{"$f":"IF($H$2=\"G\",'Skills explications FTEM'!#REF!,'Skills explications FTEM'!#REF!)","v":{"$error":"#REF!"}}]
[null,null,null,{"$f":"IF($H$2=\"G\",'Skills explications FTEM'!F23,'Skills explications FTEM'!B23)","v":"Sensibilisation défensive"},null,null,{"$f":"IF($H$2=\"G\",'Skills explications FTEM'!G23,'Skills explications FTEM'!C23)","v":"Garde la position «inside», protège le slot, rassure les coéquipiers, support, anticipe les lignes de passe, bloque les tirs. Réduit rapidement la distance sur l'adversaire, communication"},null,null,{"$f":"IF($H$2=\"G\",'Skills explications FTEM'!#REF!,'Skills explications FTEM'!#REF!)","v":{"$error":"#REF!"}}]
[{"$f":"'Skills explications FTEM'!A23:A23","v":0},null,null,{"$f":"IF($H$2=\"G\",'Skills explications FTEM'!F24,'Skills explications FTEM'!B24)","v":"Gestion du puck"},null,null,{"$f":"IF($H$2=\"G\",'Skills explications FTEM'!G24,'Skills explications FTEM'!C24)","v":"Fait le bon choix en fonction de la situation, support, surnombre"},null,null,{"$f":"IF($H$2=\"G\",'Skills explications FTEM'!#REF!,'Skills explications FTEM'!#REF!)","v":{"$error":"#REF!"}}]
[{"$f":"'Skills explications FTEM'!A25:A25","v":0},null,null,{"$f":"IF($H$2=\"G\",'Skills explications FTEM'!F25,'Skills explications FTEM'!B25)","v":"Créativité"},null,null,{"$f":"IF($H$2=\"G\",'Skills explications FTEM'!G25,'Skills explications FTEM'!C25)","v":"Prises de décision surprenantes, sens du but"},null,null,{"$f":"IF($H$2=\"G\",'Skills explications FTEM'!#REF!,'Skills explications FTEM'!#REF!)","v":{"$error":"#REF!"}}]
[{"$f":"'Skills explications FTEM'!A26:A26","v":"PERSONALITY"},null,null,{"$f":"'Skills explications FTEM'!B26","v":"COMPÉTENCES"},null,null,{"$f":"'Skills explications FTEM'!C26","v":"OBSERVATION"},null,null,{"$f":"'Skills explications FTEM'!H26","v":0},null,null,null,"Date1",null,"Date2",null,"Date3",null,"Date4",null,"Date5",null,"Player",null,"BUT","MESURES:\nSPECIFIQUE, MESURABLES, REALISTE",null,null,null,null,null,null,"DELAI","CONTRÔLE DU BUT","Date"]
[{"$f":"'Skills explications FTEM'!A27:A27","v":"PERSONNALITÉ"},null,null,{"$f":"IF($H$2=\"G\",'Skills explications FTEM'!F27,'Skills explications FTEM'!B27)","v":"Confiance en soi"},null,null,{"$f":"IF($H$2=\"G\",'Skills explications FTEM'!G27,'Skills explications FTEM'!C27)","v":"Est en confiance,«I can do it», peut estimer ses capacités (connaît ses qualités et ses défauts), peut réaliser ses qualités avec constance, est courageux et prend des risques calculés"},null,null,{"$f":"IF($H$2=\"G\",'Skills explications FTEM'!#REF!,'Skills explications FTEM'!#REF!)","v":{"$error":"#REF!"}},null,null,null,{"$f":"IFERROR(AVERAGE(O36:O40),\"-\")","v":"-"},null,null,null,{"$f":"IFERROR(AVERAGE(S36:S40),\"-\")","v":"-"},null,{"$f":"IFERROR(AVERAGE(U36:U40),\"-\")","v":"-"},null,{"$f":"IFERROR(AVERAGE(W36:W40),\"-\")","v":"-"},null,{"$f":"IFERROR(AVERAGE(Y36:Y40),\"-\")","v":"-"}]
[{"$f":"'Skills explications FTEM'!A28:A28","v":0},null,null,{"$f":"IF($H$2=\"G\",'Skills explications FTEM'!F28,'Skills explications FTEM'!B28)","v":"Facultés d'apprentissage"},null,null,{"$f":"IF($H$2=\"G\",'Skills explications FTEM'!G28,'Skills explications FTEM'!C28)","v":"A une bonne perception (il peut mémoriser et peut réaliser), il a de la personnalité, essaie d'apprendre de ses erreurs et est entreprenant"},null,null,{"$f":"IF($H$2=\"G\",'Skills explications FTEM'!#REF!,'Skills explications FTEM'!#REF!)","v":{"$error":"#REF!"}}]
[{"$f":"'Skills explications FTEM'!A29:A29","v":0},null,null,{"$f":"IF($H$2=\"G\",'Skills explications FTEM'!F29,'Skills explications FTEM'!B29)","v":"Prise de responsabilités"},null,null,{"$f":"IF($H$2=\"G\",'Skills explications FTEM'!G29,'Skills explications FTEM'!C29)","v":"Prend la responsabilité de ses performances et de son développement, est-il autonome, soigne-t-il les détails, a beaucoup d'engagement dans tous les domaines"},null,null,{"$f":"IF($H$2=\"G\",'Skills explications FTEM'!#REF!,'Skills explications FTEM'!#REF!)","v":{"$error":"#REF!"}}]
[null,null,null,{"$f":"IF($H$2=\"G\",'Skills explications FTEM'!F30,'Skills explications FTEM'!B30)","v":"Motivation"},null,null,{"$f":"IF($H$2=\"G\",'Skills explications FTEM'!G30,'Skills explications FTEM'!C30)","v":"Est toujours motivé, veut sans cesse se développer et apprendre, veut être le premier et avoir du succès, n'abandonne jamais et ne se laisse pas influencer par les échesc"},null,null,{"$f":"IF($H$2=\"G\",'Skills explications FTEM'!#REF!,'Skills explications FTEM'!#REF!)","v":{"$error":"#REF!"}}]
[{"$f":"'Skills explications FTEM'!A31:A31","v":0},null,null,{"$f":"IF($H$2=\"G\",'Skills explications FTEM'!F31,'Skills explications FTEM'!B31)","v":"Performance style de vie"},null,null,{"$f":"IF($H$2=\"G\",'Skills explications FTEM'!G31,'Skills explications FTEM'!C31)","v":"Gère bien son environnement et son temps libre selon les principes de la performance, obstiné, tenace et axé sur l'objectif, accent sur sa propre performance, est courageux et peut s'imposer contre la résistance, les défis le motivent"},null,null,{"$f":"IF($H$2=\"G\",'Skills explications FTEM'!#REF!,'Skills explications FTEM'!#REF!)","v":{"$error":"#REF!"}}]
[{"$f":"'Skills explications FTEM'!A32:A32","v":"FORCE MENTALE"},null,null,{"$f":"IF($H$2=\"G\",'Skills explications FTEM'!F32,'Skills explications FTEM'!B32)","v":"Engagement"},null,null,{"$f":"IF($H$2=\"G\",'Skills explications FTEM'!G32,'Skills explications FTEM'!C32)","v":"Démontre beaucoup d'intensité dans les entraînements et les matchs, donne toujours son maximum et veut sans cesse repousser ses limites, a-t-il de la passion, s'efforce-t-il de s'entraîner avec une excellente qualité"},null,null,{"$f":"IF($H$2=\"G\",'Skills explications FTEM'!#REF!,'Skills explications FTEM'!#REF!)","v":{"$error":"#REF!"}},null,null,null,{"$f":"IFERROR(AVERAGE(O41:O45),\"-\")","v":"-"},null,null,null,{"$f":"IFERROR(AVERAGE(S41:S45),\"-\")","v":"-"},null,{"$f":"IFERROR(AVERAGE(U41:U45),\"-\")","v":"-"},null,{"$f":"IFERROR(AVERAGE(W41:W45),\"-\")","v":"-"},null,{"$f":"IFERROR(AVERAGE(Y41:Y45),\"-\")","v":"-"}]
[{"$f":"'Skills explications FTEM'!A33:A33","v":0},null,null,{"$f":"IF($H$2=\"G\",'Skills explications FTEM'!F33,'Skills explications FTEM'!B33)","v":"Préparation"},null,null,{"$f":"IF($H$2=\"G\",'Skills explications FTEM'!G33,'Skills explications FTEM'!C33)","v":"Se prépare-t-il toujours bien, mentalement et physiquement, se prépare-t-il toujours bien pour obtenir le niveau de performance idéal (ILZ)"},null,null,{"$f":"IF($H$2=\"G\",'Skills explications FTEM'!#REF!,'Skills explications FTEM'!#REF!)","v":{"$error":"#REF!"}}]
[null,null,null,{"$f":"IF($H$2=\"G\",'Skills explications FTEM'!F34,'Skills explications FTEM'!B34)","v":"Coaching personnel"},null,null,{"$f":"IF($H$2=\"G\",'Skills explications FTEM'!G34,'Skills explications FTEM'!C34)","v":"A-t-il de bonnes facultés de concentration, peut-il maintenir son niveau de performance idéal (ILZ) dans les entraînements et les matchs, peut-il appliquer ses techniques de base, est-il résistant aux influences et pensées négatives, est-il conscient de son attitude corporelle et peut-il l'influencer"},null,null,{"$f":"IF($H$2=\"G\",'Skills explications FTEM'!#REF!,'Skills explications FTEM'!#REF!)","v":{"$error":"#REF!"}}]
[{"$f":"'Skills explications FTEM'!A34:A34","v":0},null,null,{"$f":"IF($H$2=\"G\",'Skills explications FTEM'!F35,'Skills explications FTEM'!B35)","v":"Gestion des énergies"},null,null,{"$f":"IF($H$2=\"G\",'Skills explications FTEM'!G35,'Skills explications FTEM'!C35)","v":"Peut-il gérer ses propres énergies, prend-il soin de sa récupération, peut-il gérer les moments où il faut se donner à fond ou quand il faut déconnecter, bouton On/Off"},null,null,{"$f":"IF($H$2=\"G\",'Skills explications FTEM'!#REF!,'Skills explications FTEM'!#REF!)","v":{"$error":"#REF!"}}]
[{"$f":"'Skills explications FTEM'!A36:A36","v":0},null,null,{"$f":"IF($H$2=\"G\",'Skills explications FTEM'!F36,'Skills explications FTEM'!B36)","v":"Contrôle des émotions"},null,null,{"$f":"IF($H$2=\"G\",'Skills explications FTEM'!G36,'Skills explications FTEM'!C36)","v":"Peut-il gérer ses propres émotions et impulsions, reste-t-il sous contrôle lorsqu'il y a une grande pression, peut-il rester calme lorsque le niveau émotionnel et de frustration est élevé"},null,null,{"$f":"IF($H$2=\"G\",'Skills explications FTEM'!#REF!,'Skills explications FTEM'!#REF!)","v":{"$error":"#REF!"}}]
[{"$f":"'Skills explications FTEM'!A37:A37","v":"PHYSIQUE"},null,null,{"$f":"IF($H$2=\"G\",'Skills explications FTEM'!F37,'Skills explications FTEM'!B37)","v":"Production de la performance"},null,null,{"$f":"IF($H$2=\"G\",'Skills explications FTEM'!G37,'Skills explications FTEM'!C37)","v":"A-t-il la puissance, la force, la vitesse nécessaires dans les jambes et le haut du corps (facteurs neuromusculaires)"},null,null,{"$f":"IF($H$2=\"G\",'Skills explications FTEM'!#REF!,'Skills explications FTEM'!#REF!)","v":{"$error":"#REF!"}},null,null,null,{"$f":"IFERROR(AVERAGE(O46:O50),\"-\")","v":"-"},null,null,null,{"$f":"IFERROR(AVERAGE(S46:S50),\"-\")","v":"-"},null,{"$f":"IFERROR(AVERAGE(U46:U50),\"-\")","v":"-"},null,{"$f":"IFERROR(AVERAGE(W46:W50),\"-\")","v":"-"},null,{"$f":"IFERROR(AVERAGE(Y46:Y50),\"-\")","v":"-"}]
[{"$f":"'Skills explications FTEM'!A38:A38","v":0},null,null,{"$f":"IF($H$2=\"G\",'Skills explications FTEM'!F38,'Skills explications FTEM'!B38)","v":"Spécifique au sport, résistant à l'effort"},null,null,{"$f":"IF($H$2=\"G\",'Skills explications FTEM'!G38,'Skills explications FTEM'!C38)","v":"Est-il capable de maintenir sa puissance, sa force, sa vitesse durant un long temps de glace et peut-il récupérer complètement entre ses engagements (facteurs du métabolisme et cardiovasculaire)"},null,null,{"$f":"IF($H$2=\"G\",'Skills explications FTEM'!#REF!,'Skills explications FTEM'!#REF!)","v":{"$error":"#REF!"}}]
[null,null,null,{"$f":"IF($H$2=\"G\",'Skills explications FTEM'!F39,'Skills explications FTEM'!B39)","v":"Santé / Prévention"},null,null,{"$f":"IF($H$2=\"G\",'Skills explications FTEM'!G39,'Skills explications FTEM'!C39)","v":"A-t-il la stabilité nécessaire (p. ex. ses appuis) et la mobilité nécessaire au niveau des articulations centrales"},null,null,{"$f":"IF($H$2=\"G\",'Skills explications FTEM'!#REF!,'Skills explications FTEM'!#REF!)","v":{"$error":"#REF!"}}]
[{"$f":"'Skills explications FTEM'!A39:A39","v":0},null,null,{"$f":"IF($H$2=\"G\",'Skills explications FTEM'!F40,'Skills explications FTEM'!B40)","v":"Mobilité / Coordination"},null,null,{"$f":"IF($H$2=\"G\",'Skills explications FTEM'!G40,'Skills explications FTEM'!C40)","v":"Gère-t-il ses aptitudes de mouvements de base, qui sont un fournisseur important des fonctions spécifiques «Skills» pour être efficace"},null,null,{"$f":"IF($H$2=\"G\",'Skills explications FTEM'!#REF!,'Skills explications FTEM'!#REF!)","v":{"$error":"#REF!"}}]
[{"$f":"'Skills explications FTEM'!A41:A41","v":0},null,null,{"$f":"IF($H$2=\"G\",'Skills explications FTEM'!F41,'Skills explications FTEM'!B41)","v":"Robustesse"},null,null,{"$f":"IF($H$2=\"G\",'Skills explications FTEM'!G41,'Skills explications FTEM'!C41)","v":"A-t-il la force de base nécessaire (tension corporelle) pour gagner des duels et résister aux charges"},null,null,{"$f":"IF($H$2=\"G\",'Skills explications FTEM'!#REF!,'Skills explications FTEM'!#REF!)","v":{"$error":"#REF!"}}]

{"sheet":"8","index":11,"n_rows":50,"n_cols":36,"rows_kept":50,"cut":false,"hidden":false,"merged":[[45,25,49,25],[45,26,49,32],[45,34,49,34],[40,23,44,23],[42,3,42,5],[42,6,42,11],[44,3,44,5],[44,6,44,11],[40,0,44,2],[40,3,40,5],[40,6,40,11],[40,12,44,12],[40,13,44,13],[40,15,44,15],[45,0,49,2],[45,3,45,5],[45,6,45,11],[45,12,49,12],[45,23,49,23],[47,3,47,5],[47,6,47,11],[48,3,48,5],[48,6,48,11],[49,3,49,5],[34,21,34,22],[35,17,39,17],[35,19,39,19],[35,21,39,21],[36,3,36,5],[36,6,36,11],[38,3,38,5],[38,6,38,11],[40,17,44,17],[40,19,44,19],[40,21,44,21],[43,3,43,5],[43,6,43,11],[37,3,37,5],[37,6,37,11],[41,3,41,5],[41,6,41,11],[29,0,33,2],[29,3,29,5],[29,6,29,11],[29,12,33,12],[29,13,33,13],[29,15,33,15],[34,23,34,24],[34,26,34,32],[35,0,39,2],[35,3,35,5],[35,6,35,11],[35,12,39,12],[35,13,39,13],[35,15,39,15],[39,3,39,5],[39,6,39,11],[35,23,39,23],[34,0,34,2],[34,3,34,5],[34,6,34,11],[34,13,34,14],[34,15,34,16],[34,17,34,18],[34,19,34,20],[23,21,28,21],[23,23,28,23],[24,3,24,5],[24,6,24,11],[28,3,28,5],[28,6,28,11],[33,3,33,5],[33,6,33,11],[29,23,33,23],[29,17,33,17],[29,19,33,19],[29,21,33,21],[30,3,30,5],[30,6,30,11],[31,3,31,5],[31,6,31,11],[25,3,25,5],[25,6,25,11],[32,3,32,5],[32,6,32,11],[18,15,22,15],[18,17,22,17],[18,19,22,19],[18,21,22,21],[18,23,22,23],[22,3,22,5],[22,6,22,11],[23,0,28,2],[23,3,23,5],[23,6,23,11],[23,12,28,12],[23,13,28,13],[23,15,28,15],[23,17,28,17],[18,0,22,2],[18,3,18,5],[18,6,18,11],[18,12,22,12],[18,13,22,13],[19,3,19,5],[19,6,19,11],[20,3,20,5],[20,6,20,11],[23,19,28,19],[12,23,16,23],[16,3,16,5],[16,6,16,11],[17,0,17,2],[17,3,17,5],[17,6,17,11],[17,13,17,14],[17,15,17,16],[17,17,17,18],[17,19,17,20],[17,21,17,22],[17,23,17,24],[12,0,16,2],[12,3,12,5],[12,6,12,11],[12,12,16,12],[12,13,16,13],[12,15,16,15],[12,17,16,17],[12,19,16,19],[12,21,16,21],[13,3,13,5],[13,6,13,11],[14,3,14,5],[11,0,11,2],[11,3,11,5],[11,13,11,14],[11,15,11,16],[11,17,11,18],[11,19,11,20],[11,21,11,22],[11,23,11,24],[11,26,11,32],[11,6,11,11],[0,33,0,35],[29,25,33,25],[29,26,33,32],[29,34,33,34],[35,25,39,25],[35,26,39,32],[35,34,39,34],[1,0,1,1],[1,2,1,5],[1,10,1,24],[2,0,2,1],[2,2,2,5],[2,11,2,24],[6,0,6,1],[6,2,6,35],[7,0,7,1],[7,2,7,35],[8,0,8,1],[8,2,8,35],[3,0,3,1],[3,10,3,24],[4,0,4,1],[4,2,4,5],[4,10,4,24],[49,6,49,11],[45,13,49,13],[45,15,49,15],[45,17,49,17],[45,19,49,19],[45,21,49,21],[0,0,0,24],[0,25,0,26],[0,27,0,32],[10,0,10,24],[10,25,10,35],[40,25,44,25],[40,26,44,32],[40,34,44,34],[12,25,16,25],[12,26,16,32],[12,34,16,34],[18,25,22,25],[18,26,22,32],[18,34,22,34],[23,25,28,25],[23,26,28,32],[23,34,28,34],[17,26,17,32],[46,3,46,5],[46,6,46,11],[14,6,14,11],[15,3,15,5],[15,6,15,11],[21,3,21,5],[21,6,21,11],[26,3,26,5],[26,6,26,11],[27,3,27,5],[27,6,27,11]]}
["Infos personelles",null,null,null,null,null,null,null,null,null,null,null,null,null,null,null,null,null,null,null,null,null,null,null,null,"Predispositions",null,"Evaluations",null,null,null,null,null,"Rating"]
["PRENOM",null,{"$f":"IF(ISBLANK(VLOOKUP(8,Tabelle3[],3,0)),\"-\",VLOOKUP(8,Tabelle3[],3,0))","v":"-"},null,null,null,"POSITION",null,null,"ADRESSE",{"$f":"IF(ISBLANK(VLOOKUP(8,Tabelle3[],5,0)),\"-\",VLOOKUP(8,Tabelle3[],5,0))","v":"-"},null,null,null,null,null,null,null,null,null,null,null,null,null,null,"\"àage\" (Biologique/age relatif)",null,"Date 1",null,null,"cm",null,"Kg",null,"AUSGEZEICHNET",5]
["NOM",null,{"$f":"IF(ISBLANK(VLOOKUP(8,Tabelle3[],2,0)),\"-\",VLOOKUP(8,Tabelle3[],2,0))","v":"-"},null,null,null,"CANNE",null,null,"LIEU",{"$f":"IF(ISBLANK(VLOOKUP(8,Tabelle3[],7,0)),\"-\",VLOOKUP(8,Tabelle3[],7,0))","v":"-"},{"$f":"IF(ISBLANK(VLOOKUP(8,Tabelle3[],6,0)),\"-\",VLOOKUP(8,Tabelle3[],6,0))","v":"-"},null,null,null,null,null,null,null,null,null,null,null,null,null,"predispositions",null,"Date 2",null,null,"cm",null,"Kg",null,"GUT",4]
["DATE NAISS.",null,{"$f":"IF(ISBLANK(VLOOKUP(8,Tabelle3[],14,0)),\"-\",VLOOKUP(8,Tabelle3[],14,0))","v":"-"},{"$f":"IF(ISBLANK(VLOOKUP(8,Tabelle3[],15,0)),\"-\",VLOOKUP(8,Tabelle3[],15,0))","v":"-"},{"$f":"IF(ISBLANK(VLOOKUP(8,Tabelle3[],16,0)),\"-\",VLOOKUP(8,Tabelle3[],16,0))","v":"-"},null,"GRANDEUR",null,"cm","PHONE",{"$f":"IF(ISBLANK(VLOOKUP(8,Tabelle3[],8,0)),\"-\",VLOOKUP(8,Tabelle3[],8,0))","v":"-"},null,null,null,null,null,null,null,null,null,null,null,null,null,null,"Entourage",null,"Date 3",null,null,"cm",null,"Kg",null,"DURCHSCHNITT",3]
["SEXE",null,{"$f":"IF(ISBLANK(VLOOKUP(8,Tabelle3[],13,0)),\"-\",VLOOKUP(8,Tabelle3[],13,0))","v":"-"},null,null,null,"POIDS",null,"Kg","E-Mail",{"$f":"IF(ISBLANK(VLOOKUP(8,Tabelle3[],9,0)),\"-\",VLOOKUP(8,Tabelle3[],9,0))","v":"-"},null,null,null,null,null,null,null,null,null,null,null,null,null,null,null,null,"Date 4",null,null,"cm",null,"Kg",null,"MANGELHAFT",2]
[null,null,null,null,null,null,null,null,null,null,null,null,null,null,null,null,null,null,null,null,null,null,null,null,null,null,null,"Date 5",null,null,"cm",null,"Kg",null,"UNGENÜGEND",1]
["Vision",null,"xxx"]
["Next step",null,"xxx"]
["Profil du Joueur",null,"xxx"]
[]
["EVALUATION (COACH / JOUEUR)",null,null,null,null,null,null,null,null,null,null,null,null,null,null,null,null,null,null,null,null,null,null,null,null,"SMART"]
[{"$f":"'Skills explications FTEM'!A3:A3","v":"TEAM"},null,null,{"$f":"'Skills explications FTEM'!B3","v":"COMPÉTENCES"},null,null,{"$f":"'Skills explications FTEM'!C3","v":"OBSERVATION"},null,null,{"$f":"'Skills explications FTEM'!H3","v":0},null,null,"Final","Date1",null,"Date2",null,"Date3",null,"Date4",null,"Date5",null,"Player",null,"BUT","MESURES:\nSPECIFIQUE, MESURABLES, REALISTE",null,null,null,null,null,null,"DELAI","CONTRÔLE DU BUT","Date"]
[{"$f":"'Skills explications FTEM'!A4:A4","v":"ÉQUIPE"},null,null,{"$f":"IF($H$2=\"G\",'Skills explications FTEM'!F4,'Skills explications FTEM'!B4)","v":"Communication"},null,null,{"$f":"IF($H$2=\"G\",'Skills explications FTEM'!G4,'Skills explications FTEM'!C4)","v":"Respect et ouverture dans ses relations, confiance comme base, traite les conflits sans perturber la stabilité du groupe, communique avec ses coéquipiers, les entraîneurs et les fonctionnaires avec les mêmes valeurs"},null,null,{"$f":"IF($H$2=\"G\",'Skills explications FTEM'!#REF!,'Skills explications FTEM'!#REF!)","v":{"$error":"#REF!"}},null,null,null,{"$f":"IFERROR(AVERAGE(O13:O17),\"-\")","v":"-"},null,{"$f":"IFERROR(AVERAGE(Q13:Q17),\"-\")","v":"-"},null,{"$f":"IFERROR(AVERAGE(S13:S17),\"-\")","v":"-"},null,{"$f":"IFERROR(AVERAGE(U13:U17),\"-\")","v":"-"},null,{"$f":"IFERROR(AVERAGE(W13:W17),\"-\")","v":"-"},null,{"$f":"IFERROR(AVERAGE(Y13:Y17),\"-\")","v":"-"}]
[null,null,null,{"$f":"IF($H$2=\"G\",'Skills explications FTEM'!F5,'Skills explications FTEM'!B5)","v":"Capacité de jouer en équipe"},null,null,{"$f":"IF($H$2=\"G\",'Skills explications FTEM'!G5,'Skills explications FTEM'!C5)","v":"Intégration dans le groupe, définit et réalise des objectifs communs, NOUS avant le MOI, participe au bon esprit d'équipe et à un bon climat de travail"},null,null,{"$f":"IF($H$2=\"G\",'Skills explications FTEM'!#REF!,'Skills explications FTEM'!#REF!)","v":{"$error":"#REF!"}}]
[null,null,null,{"$f":"IF($H$2=\"G\",'Skills explications FTEM'!F6,'Skills explications FTEM'!B6)","v":"Leadership"},null,null,{"$f":"IF($H$2=\"G\",'Skills explications FTEM'!G6,'Skills explications FTEM'!C6)","v":"Prend des responsabilités dans le groupe, essaie de donner de la valeur à ses coéquipiers et au groupe, influence positivement la dynamique de groupe"},null,null,{"$f":"IF($H$2=\"G\",'Skills explications FTEM'!#REF!,'Skills explications FTEM'!#REF!)","v":{"$error":"#REF!"}}]
[null,null,null,{"$f":"IF($H$2=\"G\",'Skills explications FTEM'!F7,'Skills explications FTEM'!B7)","v":"Répartition des rôles"},null,null,{"$f":"IF($H$2=\"G\",'Skills explications FTEM'!G7,'Skills explications FTEM'!C7)","v":"Connaît son rôle et le réalise, est conscient de sa position dans l'équipe et le système, met ses compétences à disposition de l'équipe"},null,null,{"$f":"IF($H$2=\"G\",'Skills explications FTEM'!#REF!,'Skills explications FTEM'!#REF!)","v":{"$error":"#REF!"}}]
[{"$f":"'Skills explications FTEM'!A8:A8","v":0},null,null,{"$f":"IF($H$2=\"G\",'Skills explications FTEM'!F8,'Skills explications FTEM'!B8)","v":"Respect"},null,null,{"$f":"IF($H$2=\"G\",'Skills explications FTEM'!G8,'Skills explications FTEM'!C8)","v":"Relations respectueuses avec les coéquipiers, les entraîneurs, les adversaires, les arbitres et le staff; respect des règles, des principes du fairplay (y compris antidopage)"},null,null,{"$f":"IF($H$2=\"G\",'Skills explications FTEM'!#REF!,'Skills explications FTEM'!#REF!)","v":{"$error":"#REF!"}}]
[{"$f":"'Skills explications FTEM'!A9:A9","v":"ON ICE"},null,null,{"$f":"'Skills explications FTEM'!B9","v":"COMPÉTENCES"},null,null,{"$f":"'Skills explications FTEM'!C9","v":"OBSERVATION"},null,null,{"$f":"'Skills explications FTEM'!H9","v":0},null,null,null,"Date1",null,"Date2",null,"Date3",null,"Date4",null,"Date5",null,"Player",null,"BUT","MESURES:\nSPECIFIQUE, MESURABLES, REALISTE",null,null,null,null,null,null,"DELAI","CONTRÔLE DU BUT","Date"]
[{"$f":"'Skills explications FTEM'!A10:A10","v":"PATINAGE"},null,null,{"$f":"IF($H$2=\"G\",'Skills explications FTEM'!F10,'Skills explications FTEM'!B10)","v":"Vitesse de patinage"},null,null,{"$f":"IF($H$2=\"G\",'Skills explications FTEM'!G10,'Skills explications FTEM'!C10)","v":"Accélération, départ, explosivité des 3 premiers pas, fréquence"},null,null,{"$f":"IF($H$2=\"G\",'Skills explications FTEM'!#REF!,'Skills explications FTEM'!#REF!)","v":{"$error":"#REF!"}},null,null,null,{"$f":"IFERROR(AVERAGE(O19:O23),\"-\")","v":"-"},null,{"$f":"IFERROR(AVERAGE(Q19:Q23),\"-\")","v":"-"},null,{"$f":"IFERROR(AVERAGE(S19:S23),\"-\")","v":"-"},null,{"$f":"IFERROR(AVERAGE(U19:U23),\"-\")","v":"-"},null,{"$f":"IFERROR(AVERAGE(W19:W23),\"-\")","v":"-"},null,{"$f":"IFERROR(AVERAGE(Y19:Y23),\"-\")","v":"-"}]
[{"$f":"'Skills explications FTEM'!A11:A11","v":0},null,null,{"$f":"IF($H$2=\"G\",'Skills explications FTEM'!F11,'Skills explications FTEM'!B11)","v":"Vitesse, rapidité"},null,null,{"$f":"IF($H$2=\"G\",'Skills explications FTEM'!G11,'Skills explications FTEM'!C11)","v":"Vitesse, faculté de glisse, avant et arrière, économie des forces"},null,null,{"$f":"IF($H$2=\"G\",'Skills explications FTEM'!#REF!,'Skills explications FTEM'!#REF!)","v":{"$error":"#REF!"}}]
[{"$f":"'Skills explications FTEM'!A12:A12","v":0},null,null,{"$f":"IF($H$2=\"G\",'Skills explications FTEM'!F12,'Skills explications FTEM'!B12)","v":"Agilité"},null,null,{"$f":"IF($H$2=\"G\",'Skills explications FTEM'!G12,'Skills explications FTEM'!C12)","v":"Changements de direction, pivots, stop et start «Nummelin»"},null,null,{"$f":"IF($H$2=\"G\",'Skills explications FTEM'!#REF!,'Skills explications FTEM'!#REF!)","v":{"$error":"#REF!"}},null,null,null,{"$f":"IFERROR(AVERAGE(O21:O23),\"-\")","v":"-"},null,{"$f":"IFERROR(AVERAGE(Q21:Q23),\"-\")","v":"-"},null,{"$f":"IFERROR(AVERAGE(S21:S23),\"-\")","v":"-"},null,{"$f":"IFERROR(AVERAGE(U21:U23),\"-\")","v":"-"},null,{"$f":"IFERROR(AVERAGE(W21:W23),\"-\")","v":"-"},null,"-"]
[null,null,null,{"$f":"IF($H$2=\"G\",'Skills explications FTEM'!F13,'Skills explications FTEM'!B13)","v":"Balance"},null,null,{"$f":"IF($H$2=\"G\",'Skills explications FTEM'!G13,'Skills explications FTEM'!C13)","v":"Equilibre, faculté d'être sur ses appuis, position basse, 1 ou 2 jambes"},null,null,{"$f":"IF($H$2=\"G\",'Skills explications FTEM'!#REF!,'Skills explications FTEM'!#REF!)","v":{"$error":"#REF!"}}]
[{"$f":"'Skills explications FTEM'!#REF!","v":{"$error":"#REF!"}},null,null,{"$f":"IF($H$2=\"G\",'Skills explications FTEM'!F14,'Skills explications FTEM'!B14)","v":"Patinage arrière"},null,null,{"$f":"IF($H$2=\"G\",'Skills explications FTEM'!G14,'Skills explications FTEM'!C14)","v":"Accélération, vitesse, équilibre "},null,null,{"$f":"IF($H$2=\"G\",'Skills explications FTEM'!#REF!,'Skills explications FTEM'!#REF!)","v":{"$error":"#REF!"}}]
[{"$f":"'Skills explications FTEM'!A15:A15","v":"SKILLS"},null,null,{"$f":"IF($H$2=\"G\",'Skills explications FTEM'!F15,'Skills explications FTEM'!B15)","v":"Tirer"},null,null,{"$f":"IF($H$2=\"G\",'Skills explications FTEM'!G15,'Skills explications FTEM'!C15)","v":"Efficience (pas d'espace et de temps), variantes, degré de surprise (déclenchement rapide), précision, puissance (conclusion tactique)"},null,null,{"$f":"IF($H$2=\"G\",'Skills explications FTEM'!#REF!,'Skills explications FTEM'!#REF!)","v":{"$error":"#REF!"}},null,null,null,{"$f":"IFERROR(AVERAGE(O24:O29),\"-\")","v":"-"},null,{"$f":"IFERROR(AVERAGE(Q24:Q29),\"-\")","v":"-"},null,{"$f":"IFERROR(AVERAGE(S24:S29),\"-\")","v":"-"},null,{"$f":"IFERROR(AVERAGE(U24:U29),\"-\")","v":"-"},null,{"$f":"IFERROR(AVERAGE(W24:W29),\"-\")","v":"-"},null,{"$f":"IFERROR(AVERAGE(Y24:Y29),\"-\")","v":"-"}]
[{"$f":"'Skills explications FTEM'!A16:A16","v":0},null,null,{"$f":"IF($H$2=\"G\",'Skills explications FTEM'!F16,'Skills explications FTEM'!B16)","v":"Passer"},null,null,{"$f":"IF($H$2=\"G\",'Skills explications FTEM'!G16,'Skills explications FTEM'!C16)","v":"Donne la passe (distance, passe flipée en revers), réception de la passe (précision, timing, coup droit, revers, patins), vitesse du puck"},null,null,{"$f":"IF($H$2=\"G\",'Skills explications FTEM'!#REF!,'Skills explications FTEM'!#REF!)","v":{"$error":"#REF!"}}]
[{"$f":"'Skills explications FTEM'!A17:A17","v":0},null,null,{"$f":"IF($H$2=\"G\",'Skills explications FTEM'!F17,'Skills explications FTEM'!B17)","v":"Travail de canne, conduite du puck"},null,null,{"$f":"IF($H$2=\"G\",'Skills explications FTEM'!G17,'Skills explications FTEM'!C17)","v":"Puck sur la palette, intercepte les lignes de passe, déviation, contrôle de la canne de l'adversaire"},null,null,{"$f":"IF($H$2=\"G\",'Skills explications FTEM'!#REF!,'Skills explications FTEM'!#REF!)","v":{"$error":"#REF!"}}]
[null,null,null,{"$f":"IF($H$2=\"G\",'Skills explications FTEM'!F18,'Skills explications FTEM'!B18)","v":"Protéger le puck"},null,null,{"$f":"IF($H$2=\"G\",'Skills explications FTEM'!G18,'Skills explications FTEM'!C18)","v":"Contrôle du puck, dribbling, protection du puck, feintes (variantes: avec les patins ou avec et sans la bande), mise au jeu (bully)"},null,null,{"$f":"IF($H$2=\"G\",'Skills explications FTEM'!#REF!,'Skills explications FTEM'!#REF!)","v":{"$error":"#REF!"}}]
[null,null,null,{"$f":"IF($H$2=\"G\",'Skills explications FTEM'!F19,'Skills explications FTEM'!B19)","v":"Jeu du corps (charges)"},null,null,{"$f":"IF($H$2=\"G\",'Skills explications FTEM'!G19,'Skills explications FTEM'!C19)","v":"Faculté de s'imposer physiquement, duels (sur la surface de glace ou à la bande), prendre des checks, lever la tête, niveau de lutte, dur mais correct, bloquer les tirs avec le corps"},null,null,{"$f":"IF($H$2=\"G\",'Skills explications FTEM'!#REF!,'Skills explications FTEM'!#REF!)","v":{"$error":"#REF!"}}]
[{"$f":"'Skills explications FTEM'!A20:A20","v":0},null,null,{"$f":"IF($H$2=\"G\",'Skills explications FTEM'!F20,'Skills explications FTEM'!B20)","v":"-"},null,null,{"$f":"IF($H$2=\"G\",'Skills explications FTEM'!G20,'Skills explications FTEM'!C20)","v":"-"},null,null,{"$f":"IF($H$2=\"G\",'Skills explications FTEM'!#REF!,'Skills explications FTEM'!#REF!)","v":{"$error":"#REF!"}}]
[{"$f":"'Skills explications FTEM'!A21:A21","v":"HOCKEY SENSE"},null,null,{"$f":"IF($H$2=\"G\",'Skills explications FTEM'!F21,'Skills explications FTEM'!B21)","v":"Intelligence de jeu"},null,null,{"$f":"IF($H$2=\"G\",'Skills explications FTEM'!G21,'Skills explications FTEM'!C21)","v":"Voit les zones libres avec joueurs et crée des situations de surnombre, trouve des solutions et agit en toute situation, vitesse de la visualisation"},null,null,{"$f":"IF($H$2=\"G\",'Skills explications FTEM'!#REF!,'Skills explications FTEM'!#REF!)","v":{"$error":"#REF!"}},null,null,null,{"$f":"IFERROR(AVERAGE(O30:O34),\"-\")","v":"-"},null,{"$f":"IFERROR(AVERAGE(Q30:Q34),\"-\")","v":"-"},null,{"$f":"IFERROR(AVERAGE(S30:S34),\"-\")","v":"-"},null,{"$f":"IFERROR(AVERAGE(U30:U34),\"-\")","v":"-"},null,{"$f":"IFERROR(AVERAGE(W30:W34),\"-\")","v":"-"},null,{"$f":"IFERROR(AVERAGE(Y30:Y34),\"-\")","v":"-"}]
[{"$f":"'Skills explications FTEM'!A22:A22","v":0},null,null,{"$f":"IF($H$2=\"G\",'Skills explications FTEM'!F22,'Skills explications FTEM'!B22)","v":"Sensibilisation offensive"},null,null,{"$f":"IF($H$2=\"G\",'Skills explications FTEM'!G22,'Skills explications FTEM'!C22)","v":"Se démarque, anticipation des situations de jeu, ouvre des zones libres pour ses coéquipiers, se place pour marquer, vitesse de mise sous pression, communication"},null,null,{"$f":"IF($H$2=\"G\",'Skills explications FTEM'!#REF!,'Skills explications FTEM'!#REF!)","v":{"$error":"#REF!"}}]
[null,null,null,{"$f":"IF($H$2=\"G\",'Skills explications FTEM'!F23,'Skills explications FTEM'!B23)","v":"Sensibilisation défensive"},null,null,{"$f":"IF($H$2=\"G\",'Skills explications FTEM'!G23,'Skills explications FTEM'!C23)","v":"Garde la position «inside», protège le slot, rassure les coéquipiers, support, anticipe les lignes de passe, bloque les tirs. Réduit rapidement la distance sur l'adversaire, communication"},null,null,{"$f":"IF($H$2=\"G\",'Skills explications FTEM'!#REF!,'Skills explications FTEM'!#REF!)","v":{"$error":"#REF!"}}]
[{"$f":"'Skills explications FTEM'!A23:A23","v":0},null,null,{"$f":"IF($H$2=\"G\",'Skills explications FTEM'!F24,'Skills explications FTEM'!B24)","v":"Gestion du puck"},null,null,{"$f":"IF($H$2=\"G\",'Skills explications FTEM'!G24,'Skills explications FTEM'!C24)","v":"Fait le bon choix en fonction de la situation, support, surnombre"},null,null,{"$f":"IF($H$2=\"G\",'Skills explications FTEM'!#REF!,'Skills explications FTEM'!#REF!)","v":{"$error":"#REF!"}}]
[{"$f":"'Skills explications FTEM'!A25:A25","v":0},null,null,{"$f":"IF($H$2=\"G\",'Skills explications FTEM'!F25,'Skills explications FTEM'!B25)","v":"Créativité"},null,null,{"$f":"IF($H$2=\"G\",'Skills explications FTEM'!G25,'Skills explications FTEM'!C25)","v":"Prises de décision surprenantes, sens du but"},null,null,{"$f":"IF($H$2=\"G\",'Skills explications FTEM'!#REF!,'Skills explications FTEM'!#REF!)","v":{"$error":"#REF!"}}]
[{"$f":"'Skills explications FTEM'!A26:A26","v":"PERSONALITY"},null,null,{"$f":"'Skills explications FTEM'!B26","v":"COMPÉTENCES"},null,null,{"$f":"'Skills explications FTEM'!C26","v":"OBSERVATION"},null,null,{"$f":"'Skills explications FTEM'!H26","v":0},null,null,null,"Date1",null,"Date2",null,"Date3",null,"Date4",null,"Date5",null,"Player",null,"BUT","MESURES:\nSPECIFIQUE, MESURABLES, REALISTE",null,null,null,null,null,null,"DELAI","CONTRÔLE DU BUT","Date"]
[{"$f":"'Skills explications FTEM'!A27:A27","v":"PERSONNALITÉ"},null,null,{"$f":"IF($H$2=\"G\",'Skills explications FTEM'!F27,'Skills explications FTEM'!B27)","v":"Confiance en soi"},null,null,{"$f":"IF($H$2=\"G\",'Skills explications FTEM'!G27,'Skills explications FTEM'!C27)","v":"Est en confiance,«I can do it», peut estimer ses capacités (connaît ses qualités et ses défauts), peut réaliser ses qualités avec constance, est courageux et prend des risques calculés"},null,null,{"$f":"IF($H$2=\"G\",'Skills explications FTEM'!#REF!,'Skills explications FTEM'!#REF!)","v":{"$error":"#REF!"}},null,null,null,{"$f":"IFERROR(AVERAGE(O36:O40),\"-\")","v":"-"},null,null,null,{"$f":"IFERROR(AVERAGE(S36:S40),\"-\")","v":"-"},null,{"$f":"IFERROR(AVERAGE(U36:U40),\"-\")","v":"-"},null,{"$f":"IFERROR(AVERAGE(W36:W40),\"-\")","v":"-"},null,{"$f":"IFERROR(AVERAGE(Y36:Y40),\"-\")","v":"-"}]
[{"$f":"'Skills explications FTEM'!A28:A28","v":0},null,null,{"$f":"IF($H$2=\"G\",'Skills explications FTEM'!F28,'Skills explications FTEM'!B28)","v":"Facultés d'apprentissage"},null,null,{"$f":"IF($H$2=\"G\",'Skills explications FTEM'!G28,'Skills explications FTEM'!C28)","v":"A une bonne perception (il peut mémoriser et peut réaliser), il a de la personnalité, essaie d'apprendre de ses erreurs et est entreprenant"},null,null,{"$f":"IF($H$2=\"G\",'Skills explications FTEM'!#REF!,'Skills explications FTEM'!#REF!)","v":{"$error":"#REF!"}}]
[{"$f":"'Skills explications FTEM'!A29:A29","v":0},null,null,{"$f":"IF($H$2=\"G\",'Skills explications FTEM'!F29,'Skills explications FTEM'!B29)","v":"Prise de responsabilités"},null,null,{"$f":"IF($H$2=\"G\",'Skills explications FTEM'!G29,'Skills explications FTEM'!C29)","v":"Prend la responsabilité de ses performances et de son développement, est-il autonome, soigne-t-il les détails, a beaucoup d'engagement dans tous les domaines"},null,null,{"$f":"IF($H$2=\"G\",'Skills explications FTEM'!#REF!,'Skills explications FTEM'!#REF!)","v":{"$error":"#REF!"}}]
[null,null,null,{"$f":"IF($H$2=\"G\",'Skills explications FTEM'!F30,'Skills explications FTEM'!B30)","v":"Motivation"},null,null,{"$f":"IF($H$2=\"G\",'Skills explications FTEM'!G30,'Skills explications FTEM'!C30)","v":"Est toujours motivé, veut sans cesse se développer et apprendre, veut être le premier et avoir du succès, n'abandonne jamais et ne se laisse pas influencer par les échesc"},null,null,{"$f":"IF($H$2=\"G\",'Skills explications FTEM'!#REF!,'Skills explications FTEM'!#REF!)","v":{"$error":"#REF!"}}]
[{"$f":"'Skills explications FTEM'!A31:A31","v":0},null,null,{"$f":"IF($H$2=\"G\",'Skills explications FTEM'!F31,'Skills explications FTEM'!B31)","v":"Performance style de vie"},null,null,{"$f":"IF($H$2=\"G\",'Skills explications FTEM'!G31,'Skills explications FTEM'!C31)","v":"Gère bien son environnement et son temps libre selon les principes de la performance, obstiné, tenace et axé sur l'objectif, accent sur sa propre performance, est courageux et peut s'imposer contre la résistance, les défis le motivent"},null,null,{"$f":"IF($H$2=\"G\",'Skills explications FTEM'!#REF!,'Skills explications FTEM'!#REF!)","v":{"$error":"#REF!"}}]
[{"$f":"'Skills explications FTEM'!A32:A32","v":"FORCE MENTALE"},null,null,{"$f":"IF($H$2=\"G\",'Skills explications FTEM'!F32,'Skills explications FTEM'!B32)","v":"Engagement"},null,null,{"$f":"IF($H$2=\"G\",'Skills explications FTEM'!G32,'Skills explications FTEM'!C32)","v":"Démontre beaucoup d'intensité dans les entraînements et les matchs, donne toujours son maximum et veut sans cesse repousser ses limites, a-t-il de la passion, s'efforce-t-il de s'entraîner avec une excellente qualité"},null,null,{"$f":"IF($H$2=\"G\",'Skills explications FTEM'!#REF!,'Skills explications FTEM'!#REF!)","v":{"$error":"#REF!"}},null,null,null,{"$f":"IFERROR(AVERAGE(O41:O45),\"-\")","v":"-"},null,null,null,{"$f":"IFERROR(AVERAGE(S41:S45),\"-\")","v":"-"},null,{"$f":"IFERROR(AVERAGE(U41:U45),\"-\")","v":"-"},null,{"$f":"IFERROR(AVERAGE(W41:W45),\"-\")","v":"-"},null,{"$f":"IFERROR(AVERAGE(Y41:Y45),\"-\")","v":"-"}]
[{"$f":"'Skills explications FTEM'!A33:A33","v":0},null,null,{"$f":"IF($H$2=\"G\",'Skills explications FTEM'!F33,'Skills explications FTEM'!B33)","v":"Préparation"},null,null,{"$f":"IF($H$2=\"G\",'Skills explications FTEM'!G33,'Skills explications FTEM'!C33)","v":"Se prépare-t-il toujours bien, mentalement et physiquement, se prépare-t-il toujours bien pour obtenir le niveau de performance idéal (ILZ)"},null,null,{"$f":"IF($H$2=\"G\",'Skills explications FTEM'!#REF!,'Skills explications FTEM'!#REF!)","v":{"$error":"#REF!"}}]
[null,null,null,{"$f":"IF($H$2=\"G\",'Skills explications FTEM'!F34,'Skills explications FTEM'!B34)","v":"Coaching personnel"},null,null,{"$f":"IF($H$2=\"G\",'Skills explications FTEM'!G34,'Skills explications FTEM'!C34)","v":"A-t-il de bonnes facultés de concentration, peut-il maintenir son niveau de performance idéal (ILZ) dans les entraînements et les matchs, peut-il appliquer ses techniques de base, est-il résistant aux influences et pensées négatives, est-il conscient de son attitude corporelle et peut-il l'influencer"},null,null,{"$f":"IF($H$2=\"G\",'Skills explications FTEM'!#REF!,'Skills explications FTEM'!#REF!)","v":{"$error":"#REF!"}}]
[{"$f":"'Skills explications FTEM'!A34:A34","v":0},null,null,{"$f":"IF($H$2=\"G\",'Skills explications FTEM'!F35,'Skills explications FTEM'!B35)","v":"Gestion des énergies"},null,null,{"$f":"IF($H$2=\"G\",'Skills explications FTEM'!G35,'Skills explications FTEM'!C35)","v":"Peut-il gérer ses propres énergies, prend-il soin de sa récupération, peut-il gérer les moments où il faut se donner à fond ou quand il faut déconnecter, bouton On/Off"},null,null,{"$f":"IF($H$2=\"G\",'Skills explications FTEM'!#REF!,'Skills explications FTEM'!#REF!)","v":{"$error":"#REF!"}}]
[{"$f":"'Skills explications FTEM'!A36:A36","v":0},null,null,{"$f":"IF($H$2=\"G\",'Skills explications FTEM'!F36,'Skills explications FTEM'!B36)","v":"Contrôle des émotions"},null,null,{"$f":"IF($H$2=\"G\",'Skills explications FTEM'!G36,'Skills explications FTEM'!C36)","v":"Peut-il gérer ses propres émotions et impulsions, reste-t-il sous contrôle lorsqu'il y a une grande pression, peut-il rester calme lorsque le niveau émotionnel et de frustration est élevé"},null,null,{"$f":"IF($H$2=\"G\",'Skills explications FTEM'!#REF!,'Skills explications FTEM'!#REF!)","v":{"$error":"#REF!"}}]
[{"$f":"'Skills explications FTEM'!A37:A37","v":"PHYSIQUE"},null,null,{"$f":"IF($H$2=\"G\",'Skills explications FTEM'!F37,'Skills explications FTEM'!B37)","v":"Production de la performance"},null,null,{"$f":"IF($H$2=\"G\",'Skills explications FTEM'!G37,'Skills explications FTEM'!C37)","v":"A-t-il la puissance, la force, la vitesse nécessaires dans les jambes et le haut du corps (facteurs neuromusculaires)"},null,null,{"$f":"IF($H$2=\"G\",'Skills explications FTEM'!#REF!,'Skills explications FTEM'!#REF!)","v":{"$error":"#REF!"}},null,null,null,{"$f":"IFERROR(AVERAGE(O46:O50),\"-\")","v":"-"},null,null,null,{"$f":"IFERROR(AVERAGE(S46:S50),\"-\")","v":"-"},null,{"$f":"IFERROR(AVERAGE(U46:U50),\"-\")","v":"-"},null,{"$f":"IFERROR(AVERAGE(W46:W50),\"-\")","v":"-"},null,{"$f":"IFERROR(AVERAGE(Y46:Y50),\"-\")","v":"-"}]
[{"$f":"'Skills explications FTEM'!A38:A38","v":0},null,null,{"$f":"IF($H$2=\"G\",'Skills explications FTEM'!F38,'Skills explications FTEM'!B38)","v":"Spécifique au sport, résistant à l'effort"},null,null,{"$f":"IF($H$2=\"G\",'Skills explications FTEM'!G38,'Skills explications FTEM'!C38)","v":"Est-il capable de maintenir sa puissance, sa force, sa vitesse durant un long temps de glace et peut-il récupérer complètement entre ses engagements (facteurs du métabolisme et cardiovasculaire)"},null,null,{"$f":"IF($H$2=\"G\",'Skills explications FTEM'!#REF!,'Skills explications FTEM'!#REF!)","v":{"$error":"#REF!"}}]
[null,null,null,{"$f":"IF($H$2=\"G\",'Skills explications FTEM'!F39,'Skills explications FTEM'!B39)","v":"Santé / Prévention"},null,null,{"$f":"IF($H$2=\"G\",'Skills explications FTEM'!G39,'Skills explications FTEM'!C39)","v":"A-t-il la stabilité nécessaire (p. ex. ses appuis) et la mobilité nécessaire au niveau des articulations centrales"},null,null,{"$f":"IF($H$2=\"G\",'Skills explications FTEM'!#REF!,'Skills explications FTEM'!#REF!)","v":{"$error":"#REF!"}}]
[{"$f":"'Skills explications FTEM'!A39:A39","v":0},null,null,{"$f":"IF($H$2=\"G\",'Skills explications FTEM'!F40,'Skills explications FTEM'!B40)","v":"Mobilité / Coordination"},null,null,{"$f":"IF($H$2=\"G\",'Skills explications FTEM'!G40,'Skills explications FTEM'!C40)","v":"Gère-t-il ses aptitudes de mouvements de base, qui sont un fournisseur important des fonctions spécifiques «Skills» pour être efficace"},null,null,{"$f":"IF($H$2=\"G\",'Skills explications FTEM'!#REF!,'Skills explications FTEM'!#REF!)","v":{"$error":"#REF!"}}]
[{"$f":"'Skills explications FTEM'!A41:A41","v":0},null,null,{"$f":"IF($H$2=\"G\",'Skills explications FTEM'!F41,'Skills explications FTEM'!B41)","v":"Robustesse"},null,null,{"$f":"IF($H$2=\"G\",'Skills explications FTEM'!G41,'Skills explications FTEM'!C41)","v":"A-t-il la force de base nécessaire (tension corporelle) pour gagner des duels et résister aux charges"},null,null,{"$f":"IF($H$2=\"G\",'Skills explications FTEM'!#REF!,'Skills explications FTEM'!#REF!)","v":{"$error":"#REF!"}}]

{"sheet":"9","index":12,"n_rows":50,"n_cols":36,"rows_kept":50,"cut":false,"hidden":false,"merged":[[45,25,49,25],[45,26,49,32],[45,34,49,34],[40,23,44,23],[42,3,42,5],[42,6,42,11],[44,3,44,5],[44,6,44,11],[40,0,44,2],[40,3,40,5],[40,6,40,11],[40,12,44,12],[40,13,44,13],[40,15,44,15],[45,0,49,2],[45,3,45,5],[45,6,45,11],[45,12,49,12],[45,23,49,23],[47,3,47,5],[47,6,47,11],[48,3,48,5],[48,6,48,11],[49,3,49,5],[34,21,34,22],[35,17,39,17],[35,19,39,19],[35,21,39,21],[36,3,36,5],[36,6,36,11],[38,3,38,5],[38,6,38,11],[40,17,44,17],[40,19,44,19],[40,21,44,21],[43,3,43,5],[43,6,43,11],[37,3,37,5],[37,6,37,11],[41,3,41,5],[41,6,41,11],[29,0,33,2],[29,3,29,5],[29,6,29,11],[29,12,33,12],[29,13,33,13],[29,15,33,15],[34,23,34,24],[34,26,34,32],[35,0,39,2],[35,3,35,5],[35,6,35,11],[35,12,39,12],[35,13,39,13],[35,15,39,15],[39,3,39,5],[39,6,39,11],[35,23,39,23],[34,0,34,2],[34,3,34,5],[34,6,34,11],[34,13,34,14],[34,15,34,16],[34,17,34,18],[34,19,34,20],[23,21,28,21],[23,23,28,23],[24,3,24,5],[24,6,24,11],[28,3,28,5],[28,6,28,11],[33,3,33,5],[33,6,33,11],[29,23,33,23],[29,17,33,17],[29,19,33,19],[29,21,33,21],[30,3,30,5],[30,6,30,11],[31,3,31,5],[31,6,31,11],[25,3,25,5],[25,6,25,11],[32,3,32,5],[32,6,32,11],[18,15,22,15],[18,17,22,17],[18,19,22,19],[18,21,22,21],[18,23,22,23],[22,3,22,5],[22,6,22,11],[23,0,28,2],[23,3,23,5],[23,6,23,11],[23,12,28,12],[23,13,28,13],[23,15,28,15],[23,17,28,17],[18,0,22,2],[18,3,18,5],[18,6,18,11],[18,12,22,12],[18,13,22,13],[19,3,19,5],[19,6,19,11],[20,3,20,5],[20,6,20,11],[23,19,28,19],[12,23,16,23],[16,3,16,5],[16,6,16,11],[17,0,17,2],[17,3,17,5],[17,6,17,11],[17,13,17,14],[17,15,17,16],[17,17,17,18],[17,19,17,20],[17,21,17,22],[17,23,17,24],[12,0,16,2],[12,3,12,5],[12,6,12,11],[12,12,16,12],[12,13,16,13],[12,15,16,15],[12,17,16,17],[12,19,16,19],[12,21,16,21],[13,3,13,5],[13,6,13,11],[14,3,14,5],[11,0,11,2],[11,3,11,5],[11,13,11,14],[11,15,11,16],[11,17,11,18],[11,19,11,20],[11,21,11,22],[11,23,11,24],[11,26,11,32],[11,6,11,11],[0,33,0,35],[29,25,33,25],[29,26,33,32],[29,34,33,34],[35,25,39,25],[35,26,39,32],[35,34,39,34],[1,0,1,1],[1,2,1,5],[1,10,1,24],[2,0,2,1],[2,2,2,5],[2,11,2,24],[6,0,6,1],[6,2,6,35],[7,0,7,1],[7,2,7,35],[8,0,8,1],[8,2,8,35],[3,0,3,1],[3,10,3,24],[4,0,4,1],[4,2,4,5],[4,10,4,24],[49,6,49,11],[45,13,49,13],[45,15,49,15],[45,17,49,17],[45,19,49,19],[45,21,49,21],[0,0,0,24],[0,25,0,26],[0,27,0,32],[10,0,10,24],[10,25,10,35],[40,25,44,25],[40,26,44,32],[40,34,44,34],[12,25,16,25],[12,26,16,32],[12,34,16,34],[18,25,22,25],[18,26,22,32],[18,34,22,34],[23,25,28,25],[23,26,28,32],[23,34,28,34],[17,26,17,32],[46,3,46,5],[46,6,46,11],[14,6,14,11],[15,3,15,5],[15,6,15,11],[21,3,21,5],[21,6,21,11],[26,3,26,5],[26,6,26,11],[27,3,27,5],[27,6,27,11]]}
["Infos personelles",null,null,null,null,null,null,null,null,null,null,null,null,null,null,null,null,null,null,null,null,null,null,null,null,"Predispositions",null,"Evaluations",null,null,null,null,null,"Rating"]
["PRENOM",null,{"$f":"IF(ISBLANK(VLOOKUP(9,Tabelle3[],3,0)),\"-\",VLOOKUP(9,Tabelle3[],3,0))","v":"-"},null,null,null,"POSITION",null,null,"ADRESSE",{"$f":"IF(ISBLANK(VLOOKUP(9,Tabelle3[],5,0)),\"-\",VLOOKUP(9,Tabelle3[],5,0))","v":"-"},null,null,null,null,null,null,null,null,null,null,null,null,null,null,"\"àage\" (Biologique/age relatif)",null,"Date 1",null,null,"cm",null,"Kg",null,"AUSGEZEICHNET",5]
["NOM",null,{"$f":"IF(ISBLANK(VLOOKUP(9,Tabelle3[],2,0)),\"-\",VLOOKUP(9,Tabelle3[],2,0))","v":"-"},null,null,null,"CANNE",null,null,"LIEU",{"$f":"IF(ISBLANK(VLOOKUP(9,Tabelle3[],7,0)),\"-\",VLOOKUP(9,Tabelle3[],7,0))","v":"-"},{"$f":"IF(ISBLANK(VLOOKUP(9,Tabelle3[],6,0)),\"-\",VLOOKUP(9,Tabelle3[],6,0))","v":"-"},null,null,null,null,null,null,null,null,null,null,null,null,null,"predispositions",null,"Date 2",null,null,"cm",null,"Kg",null,"GUT",4]
["DATE NAISS.",null,{"$f":"IF(ISBLANK(VLOOKUP(9,Tabelle3[],14,0)),\"-\",VLOOKUP(9,Tabelle3[],14,0))","v":"-"},{"$f":"IF(ISBLANK(VLOOKUP(9,Tabelle3[],15,0)),\"-\",VLOOKUP(9,Tabelle3[],15,0))","v":"-"},{"$f":"IF(ISBLANK(VLOOKUP(9,Tabelle3[],16,0)),\"-\",VLOOKUP(9,Tabelle3[],16,0))","v":"-"},null,"GRANDEUR",null,"cm","PHONE",{"$f":"IF(ISBLANK(VLOOKUP(9,Tabelle3[],8,0)),\"-\",VLOOKUP(9,Tabelle3[],8,0))","v":"-"},null,null,null,null,null,null,null,null,null,null,null,null,null,null,"Entourage",null,"Date 3",null,null,"cm",null,"Kg",null,"DURCHSCHNITT",3]
["SEXE",null,{"$f":"IF(ISBLANK(VLOOKUP(9,Tabelle3[],13,0)),\"-\",VLOOKUP(9,Tabelle3[],13,0))","v":"-"},null,null,null,"POIDS",null,"Kg","E-Mail",{"$f":"IF(ISBLANK(VLOOKUP(9,Tabelle3[],9,0)),\"-\",VLOOKUP(9,Tabelle3[],9,0))","v":"-"},null,null,null,null,null,null,null,null,null,null,null,null,null,null,null,null,"Date 4",null,null,"cm",null,"Kg",null,"MANGELHAFT",2]
[null,null,null,null,null,null,null,null,null,null,null,null,null,null,null,null,null,null,null,null,null,null,null,null,null,null,null,"Date 5",null,null,"cm",null,"Kg",null,"UNGENÜGEND",1]
["Vision",null,"xxx"]
["Next step",null,"xxx"]
["Profil du Joueur",null,"xxx"]
[]
["EVALUATION (COACH / JOUEUR)",null,null,null,null,null,null,null,null,null,null,null,null,null,null,null,null,null,null,null,null,null,null,null,null,"SMART"]
[{"$f":"'Skills explications FTEM'!A3:A3","v":"TEAM"},null,null,{"$f":"'Skills explications FTEM'!B3","v":"COMPÉTENCES"},null,null,{"$f":"'Skills explications FTEM'!C3","v":"OBSERVATION"},null,null,{"$f":"'Skills explications FTEM'!H3","v":0},null,null,"Final","Date1",null,"Date2",null,"Date3",null,"Date4",null,"Date5",null,"Player",null,"BUT","MESURES:\nSPECIFIQUE, MESURABLES, REALISTE",null,null,null,null,null,null,"DELAI","CONTRÔLE DU BUT","Date"]
[{"$f":"'Skills explications FTEM'!A4:A4","v":"ÉQUIPE"},null,null,{"$f":"IF($H$2=\"G\",'Skills explications FTEM'!F4,'Skills explications FTEM'!B4)","v":"Communication"},null,null,{"$f":"IF($H$2=\"G\",'Skills explications FTEM'!G4,'Skills explications FTEM'!C4)","v":"Respect et ouverture dans ses relations, confiance comme base, traite les conflits sans perturber la stabilité du groupe, communique avec ses coéquipiers, les entraîneurs et les fonctionnaires avec les mêmes valeurs"},null,null,{"$f":"IF($H$2=\"G\",'Skills explications FTEM'!#REF!,'Skills explications FTEM'!#REF!)","v":{"$error":"#REF!"}},null,null,null,{"$f":"IFERROR(AVERAGE(O13:O17),\"-\")","v":"-"},null,{"$f":"IFERROR(AVERAGE(Q13:Q17),\"-\")","v":"-"},null,{"$f":"IFERROR(AVERAGE(S13:S17),\"-\")","v":"-"},null,{"$f":"IFERROR(AVERAGE(U13:U17),\"-\")","v":"-"},null,{"$f":"IFERROR(AVERAGE(W13:W17),\"-\")","v":"-"},null,{"$f":"IFERROR(AVERAGE(Y13:Y17),\"-\")","v":"-"}]
[null,null,null,{"$f":"IF($H$2=\"G\",'Skills explications FTEM'!F5,'Skills explications FTEM'!B5)","v":"Capacité de jouer en équipe"},null,null,{"$f":"IF($H$2=\"G\",'Skills explications FTEM'!G5,'Skills explications FTEM'!C5)","v":"Intégration dans le groupe, définit et réalise des objectifs communs, NOUS avant le MOI, participe au bon esprit d'équipe et à un bon climat de travail"},null,null,{"$f":"IF($H$2=\"G\",'Skills explications FTEM'!#REF!,'Skills explications FTEM'!#REF!)","v":{"$error":"#REF!"}}]
[null,null,null,{"$f":"IF($H$2=\"G\",'Skills explications FTEM'!F6,'Skills explications FTEM'!B6)","v":"Leadership"},null,null,{"$f":"IF($H$2=\"G\",'Skills explications FTEM'!G6,'Skills explications FTEM'!C6)","v":"Prend des responsabilités dans le groupe, essaie de donner de la valeur à ses coéquipiers et au groupe, influence positivement la dynamique de groupe"},null,null,{"$f":"IF($H$2=\"G\",'Skills explications FTEM'!#REF!,'Skills explications FTEM'!#REF!)","v":{"$error":"#REF!"}}]
[null,null,null,{"$f":"IF($H$2=\"G\",'Skills explications FTEM'!F7,'Skills explications FTEM'!B7)","v":"Répartition des rôles"},null,null,{"$f":"IF($H$2=\"G\",'Skills explications FTEM'!G7,'Skills explications FTEM'!C7)","v":"Connaît son rôle et le réalise, est conscient de sa position dans l'équipe et le système, met ses compétences à disposition de l'équipe"},null,null,{"$f":"IF($H$2=\"G\",'Skills explications FTEM'!#REF!,'Skills explications FTEM'!#REF!)","v":{"$error":"#REF!"}}]
[{"$f":"'Skills explications FTEM'!A8:A8","v":0},null,null,{"$f":"IF($H$2=\"G\",'Skills explications FTEM'!F8,'Skills explications FTEM'!B8)","v":"Respect"},null,null,{"$f":"IF($H$2=\"G\",'Skills explications FTEM'!G8,'Skills explications FTEM'!C8)","v":"Relations respectueuses avec les coéquipiers, les entraîneurs, les adversaires, les arbitres et le staff; respect des règles, des principes du fairplay (y compris antidopage)"},null,null,{"$f":"IF($H$2=\"G\",'Skills explications FTEM'!#REF!,'Skills explications FTEM'!#REF!)","v":{"$error":"#REF!"}}]
[{"$f":"'Skills explications FTEM'!A9:A9","v":"ON ICE"},null,null,{"$f":"'Skills explications FTEM'!B9","v":"COMPÉTENCES"},null,null,{"$f":"'Skills explications FTEM'!C9","v":"OBSERVATION"},null,null,{"$f":"'Skills explications FTEM'!H9","v":0},null,null,null,"Date1",null,"Date2",null,"Date3",null,"Date4",null,"Date5",null,"Player",null,"BUT","MESURES:\nSPECIFIQUE, MESURABLES, REALISTE",null,null,null,null,null,null,"DELAI","CONTRÔLE DU BUT","Date"]
[{"$f":"'Skills explications FTEM'!A10:A10","v":"PATINAGE"},null,null,{"$f":"IF($H$2=\"G\",'Skills explications FTEM'!F10,'Skills explications FTEM'!B10)","v":"Vitesse de patinage"},null,null,{"$f":"IF($H$2=\"G\",'Skills explications FTEM'!G10,'Skills explications FTEM'!C10)","v":"Accélération, départ, explosivité des 3 premiers pas, fréquence"},null,null,{"$f":"IF($H$2=\"G\",'Skills explications FTEM'!#REF!,'Skills explications FTEM'!#REF!)","v":{"$error":"#REF!"}},null,null,null,{"$f":"IFERROR(AVERAGE(O19:O23),\"-\")","v":"-"},null,{"$f":"IFERROR(AVERAGE(Q19:Q23),\"-\")","v":"-"},null,{"$f":"IFERROR(AVERAGE(S19:S23),\"-\")","v":"-"},null,{"$f":"IFERROR(AVERAGE(U19:U23),\"-\")","v":"-"},null,{"$f":"IFERROR(AVERAGE(W19:W23),\"-\")","v":"-"},null,{"$f":"IFERROR(AVERAGE(Y19:Y23),\"-\")","v":"-"}]
[{"$f":"'Skills explications FTEM'!A11:A11","v":0},null,null,{"$f":"IF($H$2=\"G\",'Skills explications FTEM'!F11,'Skills explications FTEM'!B11)","v":"Vitesse, rapidité"},null,null,{"$f":"IF($H$2=\"G\",'Skills explications FTEM'!G11,'Skills explications FTEM'!C11)","v":"Vitesse, faculté de glisse, avant et arrière, économie des forces"},null,null,{"$f":"IF($H$2=\"G\",'Skills explications FTEM'!#REF!,'Skills explications FTEM'!#REF!)","v":{"$error":"#REF!"}}]
[{"$f":"'Skills explications FTEM'!A12:A12","v":0},null,null,{"$f":"IF($H$2=\"G\",'Skills explications FTEM'!F12,'Skills explications FTEM'!B12)","v":"Agilité"},null,null,{"$f":"IF($H$2=\"G\",'Skills explications FTEM'!G12,'Skills explications FTEM'!C12)","v":"Changements de direction, pivots, stop et start «Nummelin»"},null,null,{"$f":"IF($H$2=\"G\",'Skills explications FTEM'!#REF!,'Skills explications FTEM'!#REF!)","v":{"$error":"#REF!"}},null,null,null,{"$f":"IFERROR(AVERAGE(O21:O23),\"-\")","v":"-"},null,{"$f":"IFERROR(AVERAGE(Q21:Q23),\"-\")","v":"-"},null,{"$f":"IFERROR(AVERAGE(S21:S23),\"-\")","v":"-"},null,{"$f":"IFERROR(AVERAGE(U21:U23),\"-\")","v":"-"},null,{"$f":"IFERROR(AVERAGE(W21:W23),\"-\")","v":"-"},null,"-"]
[null,null,null,{"$f":"IF($H$2=\"G\",'Skills explications FTEM'!F13,'Skills explications FTEM'!B13)","v":"Balance"},null,null,{"$f":"IF($H$2=\"G\",'Skills explications FTEM'!G13,'Skills explications FTEM'!C13)","v":"Equilibre, faculté d'être sur ses appuis, position basse, 1 ou 2 jambes"},null,null,{"$f":"IF($H$2=\"G\",'Skills explications FTEM'!#REF!,'Skills explications FTEM'!#REF!)","v":{"$error":"#REF!"}}]
[{"$f":"'Skills explications FTEM'!#REF!","v":{"$error":"#REF!"}},null,null,{"$f":"IF($H$2=\"G\",'Skills explications FTEM'!F14,'Skills explications FTEM'!B14)","v":"Patinage arrière"},null,null,{"$f":"IF($H$2=\"G\",'Skills explications FTEM'!G14,'Skills explications FTEM'!C14)","v":"Accélération, vitesse, équilibre "},null,null,{"$f":"IF($H$2=\"G\",'Skills explications FTEM'!#REF!,'Skills explications FTEM'!#REF!)","v":{"$error":"#REF!"}}]
[{"$f":"'Skills explications FTEM'!A15:A15","v":"SKILLS"},null,null,{"$f":"IF($H$2=\"G\",'Skills explications FTEM'!F15,'Skills explications FTEM'!B15)","v":"Tirer"},null,null,{"$f":"IF($H$2=\"G\",'Skills explications FTEM'!G15,'Skills explications FTEM'!C15)","v":"Efficience (pas d'espace et de temps), variantes, degré de surprise (déclenchement rapide), précision, puissance (conclusion tactique)"},null,null,{"$f":"IF($H$2=\"G\",'Skills explications FTEM'!#REF!,'Skills explications FTEM'!#REF!)","v":{"$error":"#REF!"}},null,null,null,{"$f":"IFERROR(AVERAGE(O24:O29),\"-\")","v":"-"},null,{"$f":"IFERROR(AVERAGE(Q24:Q29),\"-\")","v":"-"},null,{"$f":"IFERROR(AVERAGE(S24:S29),\"-\")","v":"-"},null,{"$f":"IFERROR(AVERAGE(U24:U29),\"-\")","v":"-"},null,{"$f":"IFERROR(AVERAGE(W24:W29),\"-\")","v":"-"},null,{"$f":"IFERROR(AVERAGE(Y24:Y29),\"-\")","v":"-"}]
[{"$f":"'Skills explications FTEM'!A16:A16","v":0},null,null,{"$f":"IF($H$2=\"G\",'Skills explications FTEM'!F16,'Skills explications FTEM'!B16)","v":"Passer"},null,null,{"$f":"IF($H$2=\"G\",'Skills explications FTEM'!G16,'Skills explications FTEM'!C16)","v":"Donne la passe (distance, passe flipée en revers), réception de la passe (précision, timing, coup droit, revers, patins), vitesse du puck"},null,null,{"$f":"IF($H$2=\"G\",'Skills explications FTEM'!#REF!,'Skills explications FTEM'!#REF!)","v":{"$error":"#REF!"}}]
[{"$f":"'Skills explications FTEM'!A17:A17","v":0},null,null,{"$f":"IF($H$2=\"G\",'Skills explications FTEM'!F17,'Skills explications FTEM'!B17)","v":"Travail de canne, conduite du puck"},null,null,{"$f":"IF($H$2=\"G\",'Skills explications FTEM'!G17,'Skills explications FTEM'!C17)","v":"Puck sur la palette, intercepte les lignes de passe, déviation, contrôle de la canne de l'adversaire"},null,null,{"$f":"IF($H$2=\"G\",'Skills explications FTEM'!#REF!,'Skills explications FTEM'!#REF!)","v":{"$error":"#REF!"}}]
[null,null,null,{"$f":"IF($H$2=\"G\",'Skills explications FTEM'!F18,'Skills explications FTEM'!B18)","v":"Protéger le puck"},null,null,{"$f":"IF($H$2=\"G\",'Skills explications FTEM'!G18,'Skills explications FTEM'!C18)","v":"Contrôle du puck, dribbling, protection du puck, feintes (variantes: avec les patins ou avec et sans la bande), mise au jeu (bully)"},null,null,{"$f":"IF($H$2=\"G\",'Skills explications FTEM'!#REF!,'Skills explications FTEM'!#REF!)","v":{"$error":"#REF!"}}]
[null,null,null,{"$f":"IF($H$2=\"G\",'Skills explications FTEM'!F19,'Skills explications FTEM'!B19)","v":"Jeu du corps (charges)"},null,null,{"$f":"IF($H$2=\"G\",'Skills explications FTEM'!G19,'Skills explications FTEM'!C19)","v":"Faculté de s'imposer physiquement, duels (sur la surface de glace ou à la bande), prendre des checks, lever la tête, niveau de lutte, dur mais correct, bloquer les tirs avec le corps"},null,null,{"$f":"IF($H$2=\"G\",'Skills explications FTEM'!#REF!,'Skills explications FTEM'!#REF!)","v":{"$error":"#REF!"}}]
[{"$f":"'Skills explications FTEM'!A20:A20","v":0},null,null,{"$f":"IF($H$2=\"G\",'Skills explications FTEM'!F20,'Skills explications FTEM'!B20)","v":"-"},null,null,{"$f":"IF($H$2=\"G\",'Skills explications FTEM'!G20,'Skills explications FTEM'!C20)","v":"-"},null,null,{"$f":"IF($H$2=\"G\",'Skills explications FTEM'!#REF!,'Skills explications FTEM'!#REF!)","v":{"$error":"#REF!"}}]
[{"$f":"'Skills explications FTEM'!A21:A21","v":"HOCKEY SENSE"},null,null,{"$f":"IF($H$2=\"G\",'Skills explications FTEM'!F21,'Skills explications FTEM'!B21)","v":"Intelligence de jeu"},null,null,{"$f":"IF($H$2=\"G\",'Skills explications FTEM'!G21,'Skills explications FTEM'!C21)","v":"Voit les zones libres avec joueurs et crée des situations de surnombre, trouve des solutions et agit en toute situation, vitesse de la visualisation"},null,null,{"$f":"IF($H$2=\"G\",'Skills explications FTEM'!#REF!,'Skills explications FTEM'!#REF!)","v":{"$error":"#REF!"}},null,null,null,{"$f":"IFERROR(AVERAGE(O30:O34),\"-\")","v":"-"},null,{"$f":"IFERROR(AVERAGE(Q30:Q34),\"-\")","v":"-"},null,{"$f":"IFERROR(AVERAGE(S30:S34),\"-\")","v":"-"},null,{"$f":"IFERROR(AVERAGE(U30:U34),\"-\")","v":"-"},null,{"$f":"IFERROR(AVERAGE(W30:W34),\"-\")","v":"-"},null,{"$f":"IFERROR(AVERAGE(Y30:Y34),\"-\")","v":"-"}]
[{"$f":"'Skills explications FTEM'!A22:A22","v":0},null,null,{"$f":"IF($H$2=\"G\",'Skills explications FTEM'!F22,'Skills explications FTEM'!B22)","v":"Sensibilisation offensive"},null,null,{"$f":"IF($H$2=\"G\",'Skills explications FTEM'!G22,'Skills explications FTEM'!C22)","v":"Se démarque, anticipation des situations de jeu, ouvre des zones libres pour ses coéquipiers, se place pour marquer, vitesse de mise sous pression, communication"},null,null,{"$f":"IF($H$2=\"G\",'Skills explications FTEM'!#REF!,'Skills explications FTEM'!#REF!)","v":{"$error":"#REF!"}}]
[null,null,null,{"$f":"IF($H$2=\"G\",'Skills explications FTEM'!F23,'Skills explications FTEM'!B23)","v":"Sensibilisation défensive"},null,null,{"$f":"IF($H$2=\"G\",'Skills explications FTEM'!G23,'Skills explications FTEM'!C23)","v":"Garde la position «inside», protège le slot, rassure les coéquipiers, support, anticipe les lignes de passe, bloque les tirs. Réduit rapidement la distance sur l'adversaire, communication"},null,null,{"$f":"IF($H$2=\"G\",'Skills explications FTEM'!#REF!,'Skills explications FTEM'!#REF!)","v":{"$error":"#REF!"}}]
[{"$f":"'Skills explications FTEM'!A23:A23","v":0},null,null,{"$f":"IF($H$2=\"G\",'Skills explications FTEM'!F24,'Skills explications FTEM'!B24)","v":"Gestion du puck"},null,null,{"$f":"IF($H$2=\"G\",'Skills explications FTEM'!G24,'Skills explications FTEM'!C24)","v":"Fait le bon choix en fonction de la situation, support, surnombre"},null,null,{"$f":"IF($H$2=\"G\",'Skills explications FTEM'!#REF!,'Skills explications FTEM'!#REF!)","v":{"$error":"#REF!"}}]
[{"$f":"'Skills explications FTEM'!A25:A25","v":0},null,null,{"$f":"IF($H$2=\"G\",'Skills explications FTEM'!F25,'Skills explications FTEM'!B25)","v":"Créativité"},null,null,{"$f":"IF($H$2=\"G\",'Skills explications FTEM'!G25,'Skills explications FTEM'!C25)","v":"Prises de décision surprenantes, sens du but"},null,null,{"$f":"IF($H$2=\"G\",'Skills explications FTEM'!#REF!,'Skills explications FTEM'!#REF!)","v":{"$error":"#REF!"}}]
[{"$f":"'Skills explications FTEM'!A26:A26","v":"PERSONALITY"},null,null,{"$f":"'Skills explications FTEM'!B26","v":"COMPÉTENCES"},null,null,{"$f":"'Skills explications FTEM'!C26","v":"OBSERVATION"},null,null,{"$f":"'Skills explications FTEM'!H26","v":0},null,null,null,"Date1",null,"Date2",null,"Date3",null,"Date4",null,"Date5",null,"Player",null,"BUT","MESURES:\nSPECIFIQUE, MESURABLES, REALISTE",null,null,null,null,null,null,"DELAI","CONTRÔLE DU BUT","Date"]
[{"$f":"'Skills explications FTEM'!A27:A27","v":"PERSONNALITÉ"},null,null,{"$f":"IF($H$2=\"G\",'Skills explications FTEM'!F27,'Skills explications FTEM'!B27)","v":"Confiance en soi"},null,null,{"$f":"IF($H$2=\"G\",'Skills explications FTEM'!G27,'Skills explications FTEM'!C27)","v":"Est en confiance,«I can do it», peut estimer ses capacités (connaît ses qualités et ses défauts), peut réaliser ses qualités avec constance, est courageux et prend des risques calculés"},null,null,{"$f":"IF($H$2=\"G\",'Skills explications FTEM'!#REF!,'Skills explications FTEM'!#REF!)","v":{"$error":"#REF!"}},null,null,null,{"$f":"IFERROR(AVERAGE(O36:O40),\"-\")","v":"-"},null,null,null,{"$f":"IFERROR(AVERAGE(S36:S40),\"-\")","v":"-"},null,{"$f":"IFERROR(AVERAGE(U36:U40),\"-\")","v":"-"},null,{"$f":"IFERROR(AVERAGE(W36:W40),\"-\")","v":"-"},null,{"$f":"IFERROR(AVERAGE(Y36:Y40),\"-\")","v":"-"}]
[{"$f":"'Skills explications FTEM'!A28:A28","v":0},null,null,{"$f":"IF($H$2=\"G\",'Skills explications FTEM'!F28,'Skills explications FTEM'!B28)","v":"Facultés d'apprentissage"},null,null,{"$f":"IF($H$2=\"G\",'Skills explications FTEM'!G28,'Skills explications FTEM'!C28)","v":"A une bonne perception (il peut mémoriser et peut réaliser), il a de la personnalité, essaie d'apprendre de ses erreurs et est entreprenant"},null,null,{"$f":"IF($H$2=\"G\",'Skills explications FTEM'!#REF!,'Skills explications FTEM'!#REF!)","v":{"$error":"#REF!"}}]
[{"$f":"'Skills explications FTEM'!A29:A29","v":0},null,null,{"$f":"IF($H$2=\"G\",'Skills explications FTEM'!F29,'Skills explications FTEM'!B29)","v":"Prise de responsabilités"},null,null,{"$f":"IF($H$2=\"G\",'Skills explications FTEM'!G29,'Skills explications FTEM'!C29)","v":"Prend la responsabilité de ses performances et de son développement, est-il autonome, soigne-t-il les détails, a beaucoup d'engagement dans tous les domaines"},null,null,{"$f":"IF($H$2=\"G\",'Skills explications FTEM'!#REF!,'Skills explications FTEM'!#REF!)","v":{"$error":"#REF!"}}]
[null,null,null,{"$f":"IF($H$2=\"G\",'Skills explications FTEM'!F30,'Skills explications FTEM'!B30)","v":"Motivation"},null,null,{"$f":"IF($H$2=\"G\",'Skills explications FTEM'!G30,'Skills explications FTEM'!C30)","v":"Est toujours motivé, veut sans cesse se développer et apprendre, veut être le premier et avoir du succès, n'abandonne jamais et ne se laisse pas influencer par les échesc"},null,null,{"$f":"IF($H$2=\"G\",'Skills explications FTEM'!#REF!,'Skills explications FTEM'!#REF!)","v":{"$error":"#REF!"}}]
[{"$f":"'Skills explications FTEM'!A31:A31","v":0},null,null,{"$f":"IF($H$2=\"G\",'Skills explications FTEM'!F31,'Skills explications FTEM'!B31)","v":"Performance style de vie"},null,null,{"$f":"IF($H$2=\"G\",'Skills explications FTEM'!G31,'Skills explications FTEM'!C31)","v":"Gère bien son environnement et son temps libre selon les principes de la performance, obstiné, tenace et axé sur l'objectif, accent sur sa propre performance, est courageux et peut s'imposer contre la résistance, les défis le motivent"},null,null,{"$f":"IF($H$2=\"G\",'Skills explications FTEM'!#REF!,'Skills explications FTEM'!#REF!)","v":{"$error":"#REF!"}}]
[{"$f":"'Skills explications FTEM'!A32:A32","v":"FORCE MENTALE"},null,null,{"$f":"IF($H$2=\"G\",'Skills explications FTEM'!F32,'Skills explications FTEM'!B32)","v":"Engagement"},null,null,{"$f":"IF($H$2=\"G\",'Skills explications FTEM'!G32,'Skills explications FTEM'!C32)","v":"Démontre beaucoup d'intensité dans les entraînements et les matchs, donne toujours son maximum et veut sans cesse repousser ses limites, a-t-il de la passion, s'efforce-t-il de s'entraîner avec une excellente qualité"},null,null,{"$f":"IF($H$2=\"G\",'Skills explications FTEM'!#REF!,'Skills explications FTEM'!#REF!)","v":{"$error":"#REF!"}},null,null,null,{"$f":"IFERROR(AVERAGE(O41:O45),\"-\")","v":"-"},null,null,null,{"$f":"IFERROR(AVERAGE(S41:S45),\"-\")","v":"-"},null,{"$f":"IFERROR(AVERAGE(U41:U45),\"-\")","v":"-"},null,{"$f":"IFERROR(AVERAGE(W41:W45),\"-\")","v":"-"},null,{"$f":"IFERROR(AVERAGE(Y41:Y45),\"-\")","v":"-"}]
[{"$f":"'Skills explications FTEM'!A33:A33","v":0},null,null,{"$f":"IF($H$2=\"G\",'Skills explications FTEM'!F33,'Skills explications FTEM'!B33)","v":"Préparation"},null,null,{"$f":"IF($H$2=\"G\",'Skills explications FTEM'!G33,'Skills explications FTEM'!C33)","v":"Se prépare-t-il toujours bien, mentalement et physiquement, se prépare-t-il toujours bien pour obtenir le niveau de performance idéal (ILZ)"},null,null,{"$f":"IF($H$2=\"G\",'Skills explications FTEM'!#REF!,'Skills explications FTEM'!#REF!)","v":{"$error":"#REF!"}}]
[null,null,null,{"$f":"IF($H$2=\"G\",'Skills explications FTEM'!F34,'Skills explications FTEM'!B34)","v":"Coaching personnel"},null,null,{"$f":"IF($H$2=\"G\",'Skills explications FTEM'!G34,'Skills explications FTEM'!C34)","v":"A-t-il de bonnes facultés de concentration, peut-il maintenir son niveau de performance idéal (ILZ) dans les entraînements et les matchs, peut-il appliquer ses techniques de base, est-il résistant aux influences et pensées négatives, est-il conscient de son attitude corporelle et peut-il l'influencer"},null,null,{"$f":"IF($H$2=\"G\",'Skills explications FTEM'!#REF!,'Skills explications FTEM'!#REF!)","v":{"$error":"#REF!"}}]
[{"$f":"'Skills explications FTEM'!A34:A34","v":0},null,null,{"$f":"IF($H$2=\"G\",'Skills explications FTEM'!F35,'Skills explications FTEM'!B35)","v":"Gestion des énergies"},null,null,{"$f":"IF($H$2=\"G\",'Skills explications FTEM'!G35,'Skills explications FTEM'!C35)","v":"Peut-il gérer ses propres énergies, prend-il soin de sa récupération, peut-il gérer les moments où il faut se donner à fond ou quand il faut déconnecter, bouton On/Off"},null,null,{"$f":"IF($H$2=\"G\",'Skills explications FTEM'!#REF!,'Skills explications FTEM'!#REF!)","v":{"$error":"#REF!"}}]
[{"$f":"'Skills explications FTEM'!A36:A36","v":0},null,null,{"$f":"IF($H$2=\"G\",'Skills explications FTEM'!F36,'Skills explications FTEM'!B36)","v":"Contrôle des émotions"},null,null,{"$f":"IF($H$2=\"G\",'Skills explications FTEM'!G36,'Skills explications FTEM'!C36)","v":"Peut-il gérer ses propres émotions et impulsions, reste-t-il sous contrôle lorsqu'il y a une grande pression, peut-il rester calme lorsque le niveau émotionnel et de frustration est élevé"},null,null,{"$f":"IF($H$2=\"G\",'Skills explications FTEM'!#REF!,'Skills explications FTEM'!#REF!)","v":{"$error":"#REF!"}}]
[{"$f":"'Skills explications FTEM'!A37:A37","v":"PHYSIQUE"},null,null,{"$f":"IF($H$2=\"G\",'Skills explications FTEM'!F37,'Skills explications FTEM'!B37)","v":"Production de la performance"},null,null,{"$f":"IF($H$2=\"G\",'Skills explications FTEM'!G37,'Skills explications FTEM'!C37)","v":"A-t-il la puissance, la force, la vitesse nécessaires dans les jambes et le haut du corps (facteurs neuromusculaires)"},null,null,{"$f":"IF($H$2=\"G\",'Skills explications FTEM'!#REF!,'Skills explications FTEM'!#REF!)","v":{"$error":"#REF!"}},null,null,null,{"$f":"IFERROR(AVERAGE(O46:O50),\"-\")","v":"-"},null,null,null,{"$f":"IFERROR(AVERAGE(S46:S50),\"-\")","v":"-"},null,{"$f":"IFERROR(AVERAGE(U46:U50),\"-\")","v":"-"},null,{"$f":"IFERROR(AVERAGE(W46:W50),\"-\")","v":"-"},null,{"$f":"IFERROR(AVERAGE(Y46:Y50),\"-\")","v":"-"}]
[{"$f":"'Skills explications FTEM'!A38:A38","v":0},null,null,{"$f":"IF($H$2=\"G\",'Skills explications FTEM'!F38,'Skills explications FTEM'!B38)","v":"Spécifique au sport, résistant à l'effort"},null,null,{"$f":"IF($H$2=\"G\",'Skills explications FTEM'!G38,'Skills explications FTEM'!C38)","v":"Est-il capable de maintenir sa puissance, sa force, sa vitesse durant un long temps de glace et peut-il récupérer complètement entre ses engagements (facteurs du métabolisme et cardiovasculaire)"},null,null,{"$f":"IF($H$2=\"G\",'Skills explications FTEM'!#REF!,'Skills explications FTEM'!#REF!)","v":{"$error":"#REF!"}}]
[null,null,null,{"$f":"IF($H$2=\"G\",'Skills explications FTEM'!F39,'Skills explications FTEM'!B39)","v":"Santé / Prévention"},null,null,{"$f":"IF($H$2=\"G\",'Skills explications FTEM'!G39,'Skills explications FTEM'!C39)","v":"A-t-il la stabilité nécessaire (p. ex. ses appuis) et la mobilité nécessaire au niveau des articulations centrales"},null,null,{"$f":"IF($H$2=\"G\",'Skills explications FTEM'!#REF!,'Skills explications FTEM'!#REF!)","v":{"$error":"#REF!"}}]
[{"$f":"'Skills explications FTEM'!A39:A39","v":0},null,null,{"$f":"IF($H$2=\"G\",'Skills explications FTEM'!F40,'Skills explications FTEM'!B40)","v":"Mobilité / Coordination"},null,null,{"$f":"IF($H$2=\"G\",'Skills explications FTEM'!G40,'Skills explications FTEM'!C40)","v":"Gère-t-il ses aptitudes de mouvements de base, qui sont un fournisseur important des fonctions spécifiques «Skills» pour être efficace"},null,null,{"$f":"IF($H$2=\"G\",'Skills explications FTEM'!#REF!,'Skills explications FTEM'!#REF!)","v":{"$error":"#REF!"}}]
[{"$f":"'Skills explications FTEM'!A41:A41","v":0},null,null,{"$f":"IF($H$2=\"G\",'Skills explications FTEM'!F41,'Skills explications FTEM'!B41)","v":"Robustesse"},null,null,{"$f":"IF($H$2=\"G\",'Skills explications FTEM'!G41,'Skills explications FTEM'!C41)","v":"A-t-il la force de base nécessaire (tension corporelle) pour gagner des duels et résister aux charges"},null,null,{"$f":"IF($H$2=\"G\",'Skills explications FTEM'!#REF!,'Skills explications FTEM'!#REF!)","v":{"$error":"#REF!"}}]

{"sheet":"10","index":13,"n_rows":50,"n_cols":36,"rows_kept":50,"cut":false,"hidden":false,"merged":[[45,25,49,25],[45,26,49,32],[45,34,49,34],[40,23,44,23],[42,3,42,5],[42,6,42,11],[44,3,44,5],[44,6,44,11],[40,0,44,2],[40,3,40,5],[40,6,40,11],[40,12,44,12],[40,13,44,13],[40,15,44,15],[45,0,49,2],[45,3,45,5],[45,6,45,11],[45,12,49,12],[45,23,49,23],[47,3,47,5],[47,6,47,11],[48,3,48,5],[48,6,48,11],[49,3,49,5],[34,21,34,22],[35,17,39,17],[35,19,39,19],[35,21,39,21],[36,3,36,5],[36,6,36,11],[38,3,38,5],[38,6,38,11],[40,17,44,17],[40,19,44,19],[40,21,44,21],[43,3,43,5],[43,6,43,11],[37,3,37,5],[37,6,37,11],[41,3,41,5],[41,6,41,11],[29,0,33,2],[29,3,29,5],[29,6,29,11],[29,12,33,12],[29,13,33,13],[29,15,33,15],[34,23,34,24],[34,26,34,32],[35,0,39,2],[35,3,35,5],[35,6,35,11],[35,12,39,12],[35,13,39,13],[35,15,39,15],[39,3,39,5],[39,6,39,11],[35,23,39,23],[34,0,34,2],[34,3,34,5],[34,6,34,11],[34,13,34,14],[34,15,34,16],[34,17,34,18],[34,19,34,20],[23,21,28,21],[23,23,28,23],[24,3,24,5],[24,6,24,11],[28,3,28,5],[28,6,28,11],[33,3,33,5],[33,6,33,11],[29,23,33,23],[29,17,33,17],[29,19,33,19],[29,21,33,21],[30,3,30,5],[30,6,30,11],[31,3,31,5],[31,6,31,11],[25,3,25,5],[25,6,25,11],[32,3,32,5],[32,6,32,11],[18,15,22,15],[18,17,22,17],[18,19,22,19],[18,21,22,21],[18,23,22,23],[22,3,22,5],[22,6,22,11],[23,0,28,2],[23,3,23,5],[23,6,23,11],[23,12,28,12],[23,13,28,13],[23,15,28,15],[23,17,28,17],[18,0,22,2],[18,3,18,5],[18,6,18,11],[18,12,22,12],[18,13,22,13],[19,3,19,5],[19,6,19,11],[20,3,20,5],[20,6,20,11],[23,19,28,19],[12,23,16,23],[16,3,16,5],[16,6,16,11],[17,0,17,2],[17,3,17,5],[17,6,17,11],[17,13,17,14],[17,15,17,16],[17,17,17,18],[17,19,17,20],[17,21,17,22],[17,23,17,24],[12,0,16,2],[12,3,12,5],[12,6,12,11],[12,12,16,12],[12,13,16,13],[12,15,16,15],[12,17,16,17],[12,19,16,19],[12,21,16,21],[13,3,13,5],[13,6,13,11],[14,3,14,5],[11,0,11,2],[11,3,11,5],[11,13,11,14],[11,15,11,16],[11,17,11,18],[11,19,11,20],[11,21,11,22],[11,23,11,24],[11,26,11,32],[11,6,11,11],[0,33,0,35],[29,25,33,25],[29,26,33,32],[29,34,33,34],[35,25,39,25],[35,26,39,32],[35,34,39,34],[1,0,1,1],[1,2,1,5],[1,10,1,24],[2,0,2,1],[2,2,2,5],[2,11,2,24],[6,0,6,1],[6,2,6,35],[7,0,7,1],[7,2,7,35],[8,0,8,1],[8,2,8,35],[3,0,3,1],[3,10,3,24],[4,0,4,1],[4,2,4,5],[4,10,4,24],[49,6,49,11],[45,13,49,13],[45,15,49,15],[45,17,49,17],[45,19,49,19],[45,21,49,21],[0,0,0,24],[0,25,0,26],[0,27,0,32],[10,0,10,24],[10,25,10,35],[40,25,44,25],[40,26,44,32],[40,34,44,34],[12,25,16,25],[12,26,16,32],[12,34,16,34],[18,25,22,25],[18,26,22,32],[18,34,22,34],[23,25,28,25],[23,26,28,32],[23,34,28,34],[17,26,17,32],[46,3,46,5],[46,6,46,11],[14,6,14,11],[15,3,15,5],[15,6,15,11],[21,3,21,5],[21,6,21,11],[26,3,26,5],[26,6,26,11],[27,3,27,5],[27,6,27,11]]}
["Infos personelles",null,null,null,null,null,null,null,null,null,null,null,null,null,null,null,null,null,null,null,null,null,null,null,null,"Predispositions",null,"Evaluations",null,null,null,null,null,"Rating"]
["PRENOM",null,{"$f":"IF(ISBLANK(VLOOKUP(10,Tabelle3[],3,0)),\"-\",VLOOKUP(10,Tabelle3[],3,0))","v":"-"},null,null,null,"POSITION",null,null,"ADRESSE",{"$f":"IF(ISBLANK(VLOOKUP(10,Tabelle3[],5,0)),\"-\",VLOOKUP(10,Tabelle3[],5,0))","v":"-"},null,null,null,null,null,null,null,null,null,null,null,null,null,null,"\"àage\" (Biologique/age relatif)",null,"Date 1",null,null,"cm",null,"Kg",null,"AUSGEZEICHNET",5]
["NOM",null,{"$f":"IF(ISBLANK(VLOOKUP(10,Tabelle3[],2,0)),\"-\",VLOOKUP(10,Tabelle3[],2,0))","v":"-"},null,null,null,"CANNE",null,null,"LIEU",{"$f":"IF(ISBLANK(VLOOKUP(10,Tabelle3[],7,0)),\"-\",VLOOKUP(10,Tabelle3[],7,0))","v":"-"},{"$f":"IF(ISBLANK(VLOOKUP(10,Tabelle3[],6,0)),\"-\",VLOOKUP(10,Tabelle3[],6,0))","v":"-"},null,null,null,null,null,null,null,null,null,null,null,null,null,"predispositions",null,"Date 2",null,null,"cm",null,"Kg",null,"GUT",4]
["DATE NAISS.",null,{"$f":"IF(ISBLANK(VLOOKUP(10,Tabelle3[],14,0)),\"-\",VLOOKUP(10,Tabelle3[],14,0))","v":"-"},{"$f":"IF(ISBLANK(VLOOKUP(10,Tabelle3[],15,0)),\"-\",VLOOKUP(10,Tabelle3[],15,0))","v":"-"},{"$f":"IF(ISBLANK(VLOOKUP(10,Tabelle3[],16,0)),\"-\",VLOOKUP(10,Tabelle3[],16,0))","v":"-"},null,"GRANDEUR",null,"cm","PHONE",{"$f":"IF(ISBLANK(VLOOKUP(10,Tabelle3[],8,0)),\"-\",VLOOKUP(10,Tabelle3[],8,0))","v":"-"},null,null,null,null,null,null,null,null,null,null,null,null,null,null,"Entourage",null,"Date 3",null,null,"cm",null,"Kg",null,"DURCHSCHNITT",3]
["SEXE",null,{"$f":"IF(ISBLANK(VLOOKUP(10,Tabelle3[],13,0)),\"-\",VLOOKUP(10,Tabelle3[],13,0))","v":"-"},null,null,null,"POIDS",null,"Kg","E-Mail",{"$f":"IF(ISBLANK(VLOOKUP(10,Tabelle3[],9,0)),\"-\",VLOOKUP(10,Tabelle3[],9,0))","v":"-"},null,null,null,null,null,null,null,null,null,null,null,null,null,null,null,null,"Date 4",null,null,"cm",null,"Kg",null,"MANGELHAFT",2]
[null,null,null,null,null,null,null,null,null,null,null,null,null,null,null,null,null,null,null,null,null,null,null,null,null,null,null,"Date 5",null,null,"cm",null,"Kg",null,"UNGENÜGEND",1]
["Vision",null,"xxx"]
["Next step",null,"xxx"]
["Profil du Joueur",null,"xxx"]
[]
["EVALUATION (COACH / JOUEUR)",null,null,null,null,null,null,null,null,null,null,null,null,null,null,null,null,null,null,null,null,null,null,null,null,"SMART"]
[{"$f":"'Skills explications FTEM'!A3:A3","v":"TEAM"},null,null,{"$f":"'Skills explications FTEM'!B3","v":"COMPÉTENCES"},null,null,{"$f":"'Skills explications FTEM'!C3","v":"OBSERVATION"},null,null,{"$f":"'Skills explications FTEM'!H3","v":0},null,null,"Final","Date1",null,"Date2",null,"Date3",null,"Date4",null,"Date5",null,"Player",null,"BUT","MESURES:\nSPECIFIQUE, MESURABLES, REALISTE",null,null,null,null,null,null,"DELAI","CONTRÔLE DU BUT","Date"]
[{"$f":"'Skills explications FTEM'!A4:A4","v":"ÉQUIPE"},null,null,{"$f":"IF($H$2=\"G\",'Skills explications FTEM'!F4,'Skills explications FTEM'!B4)","v":"Communication"},null,null,{"$f":"IF($H$2=\"G\",'Skills explications FTEM'!G4,'Skills explications FTEM'!C4)","v":"Respect et ouverture dans ses relations, confiance comme base, traite les conflits sans perturber la stabilité du groupe, communique avec ses coéquipiers, les entraîneurs et les fonctionnaires avec les mêmes valeurs"},null,null,{"$f":"IF($H$2=\"G\",'Skills explications FTEM'!#REF!,'Skills explications FTEM'!#REF!)","v":{"$error":"#REF!"}},null,null,null,{"$f":"IFERROR(AVERAGE(O13:O17),\"-\")","v":"-"},null,{"$f":"IFERROR(AVERAGE(Q13:Q17),\"-\")","v":"-"},null,{"$f":"IFERROR(AVERAGE(S13:S17),\"-\")","v":"-"},null,{"$f":"IFERROR(AVERAGE(U13:U17),\"-\")","v":"-"},null,{"$f":"IFERROR(AVERAGE(W13:W17),\"-\")","v":"-"},null,{"$f":"IFERROR(AVERAGE(Y13:Y17),\"-\")","v":"-"}]
[null,null,null,{"$f":"IF($H$2=\"G\",'Skills explications FTEM'!F5,'Skills explications FTEM'!B5)","v":"Capacité de jouer en équipe"},null,null,{"$f":"IF($H$2=\"G\",'Skills explications FTEM'!G5,'Skills explications FTEM'!C5)","v":"Intégration dans le groupe, définit et réalise des objectifs communs, NOUS avant le MOI, participe au bon esprit d'équipe et à un bon climat de travail"},null,null,{"$f":"IF($H$2=\"G\",'Skills explications FTEM'!#REF!,'Skills explications FTEM'!#REF!)","v":{"$error":"#REF!"}}]
[null,null,null,{"$f":"IF($H$2=\"G\",'Skills explications FTEM'!F6,'Skills explications FTEM'!B6)","v":"Leadership"},null,null,{"$f":"IF($H$2=\"G\",'Skills explications FTEM'!G6,'Skills explications FTEM'!C6)","v":"Prend des responsabilités dans le groupe, essaie de donner de la valeur à ses coéquipiers et au groupe, influence positivement la dynamique de groupe"},null,null,{"$f":"IF($H$2=\"G\",'Skills explications FTEM'!#REF!,'Skills explications FTEM'!#REF!)","v":{"$error":"#REF!"}}]
[null,null,null,{"$f":"IF($H$2=\"G\",'Skills explications FTEM'!F7,'Skills explications FTEM'!B7)","v":"Répartition des rôles"},null,null,{"$f":"IF($H$2=\"G\",'Skills explications FTEM'!G7,'Skills explications FTEM'!C7)","v":"Connaît son rôle et le réalise, est conscient de sa position dans l'équipe et le système, met ses compétences à disposition de l'équipe"},null,null,{"$f":"IF($H$2=\"G\",'Skills explications FTEM'!#REF!,'Skills explications FTEM'!#REF!)","v":{"$error":"#REF!"}}]
[{"$f":"'Skills explications FTEM'!A8:A8","v":0},null,null,{"$f":"IF($H$2=\"G\",'Skills explications FTEM'!F8,'Skills explications FTEM'!B8)","v":"Respect"},null,null,{"$f":"IF($H$2=\"G\",'Skills explications FTEM'!G8,'Skills explications FTEM'!C8)","v":"Relations respectueuses avec les coéquipiers, les entraîneurs, les adversaires, les arbitres et le staff; respect des règles, des principes du fairplay (y compris antidopage)"},null,null,{"$f":"IF($H$2=\"G\",'Skills explications FTEM'!#REF!,'Skills explications FTEM'!#REF!)","v":{"$error":"#REF!"}}]
[{"$f":"'Skills explications FTEM'!A9:A9","v":"ON ICE"},null,null,{"$f":"'Skills explications FTEM'!B9","v":"COMPÉTENCES"},null,null,{"$f":"'Skills explications FTEM'!C9","v":"OBSERVATION"},null,null,{"$f":"'Skills explications FTEM'!H9","v":0},null,null,null,"Date1",null,"Date2",null,"Date3",null,"Date4",null,"Date5",null,"Player",null,"BUT","MESURES:\nSPECIFIQUE, MESURABLES, REALISTE",null,null,null,null,null,null,"DELAI","CONTRÔLE DU BUT","Date"]
[{"$f":"'Skills explications FTEM'!A10:A10","v":"PATINAGE"},null,null,{"$f":"IF($H$2=\"G\",'Skills explications FTEM'!F10,'Skills explications FTEM'!B10)","v":"Vitesse de patinage"},null,null,{"$f":"IF($H$2=\"G\",'Skills explications FTEM'!G10,'Skills explications FTEM'!C10)","v":"Accélération, départ, explosivité des 3 premiers pas, fréquence"},null,null,{"$f":"IF($H$2=\"G\",'Skills explications FTEM'!#REF!,'Skills explications FTEM'!#REF!)","v":{"$error":"#REF!"}},null,null,null,{"$f":"IFERROR(AVERAGE(O19:O23),\"-\")","v":"-"},null,{"$f":"IFERROR(AVERAGE(Q19:Q23),\"-\")","v":"-"},null,{"$f":"IFERROR(AVERAGE(S19:S23),\"-\")","v":"-"},null,{"$f":"IFERROR(AVERAGE(U19:U23),\"-\")","v":"-"},null,{"$f":"IFERROR(AVERAGE(W19:W23),\"-\")","v":"-"},null,{"$f":"IFERROR(AVERAGE(Y19:Y23),\"-\")","v":"-"}]
[{"$f":"'Skills explications FTEM'!A11:A11","v":0},null,null,{"$f":"IF($H$2=\"G\",'Skills explications FTEM'!F11,'Skills explications FTEM'!B11)","v":"Vitesse, rapidité"},null,null,{"$f":"IF($H$2=\"G\",'Skills explications FTEM'!G11,'Skills explications FTEM'!C11)","v":"Vitesse, faculté de glisse, avant et arrière, économie des forces"},null,null,{"$f":"IF($H$2=\"G\",'Skills explications FTEM'!#REF!,'Skills explications FTEM'!#REF!)","v":{"$error":"#REF!"}}]
[{"$f":"'Skills explications FTEM'!A12:A12","v":0},null,null,{"$f":"IF($H$2=\"G\",'Skills explications FTEM'!F12,'Skills explications FTEM'!B12)","v":"Agilité"},null,null,{"$f":"IF($H$2=\"G\",'Skills explications FTEM'!G12,'Skills explications FTEM'!C12)","v":"Changements de direction, pivots, stop et start «Nummelin»"},null,null,{"$f":"IF($H$2=\"G\",'Skills explications FTEM'!#REF!,'Skills explications FTEM'!#REF!)","v":{"$error":"#REF!"}},null,null,null,{"$f":"IFERROR(AVERAGE(O21:O23),\"-\")","v":"-"},null,{"$f":"IFERROR(AVERAGE(Q21:Q23),\"-\")","v":"-"},null,{"$f":"IFERROR(AVERAGE(S21:S23),\"-\")","v":"-"},null,{"$f":"IFERROR(AVERAGE(U21:U23),\"-\")","v":"-"},null,{"$f":"IFERROR(AVERAGE(W21:W23),\"-\")","v":"-"},null,"-"]
[null,null,null,{"$f":"IF($H$2=\"G\",'Skills explications FTEM'!F13,'Skills explications FTEM'!B13)","v":"Balance"},null,null,{"$f":"IF($H$2=\"G\",'Skills explications FTEM'!G13,'Skills explications FTEM'!C13)","v":"Equilibre, faculté d'être sur ses appuis, position basse, 1 ou 2 jambes"},null,null,{"$f":"IF($H$2=\"G\",'Skills explications FTEM'!#REF!,'Skills explications FTEM'!#REF!)","v":{"$error":"#REF!"}}]
[{"$f":"'Skills explications FTEM'!#REF!","v":{"$error":"#REF!"}},null,null,{"$f":"IF($H$2=\"G\",'Skills explications FTEM'!F14,'Skills explications FTEM'!B14)","v":"Patinage arrière"},null,null,{"$f":"IF($H$2=\"G\",'Skills explications FTEM'!G14,'Skills explications FTEM'!C14)","v":"Accélération, vitesse, équilibre "},null,null,{"$f":"IF($H$2=\"G\",'Skills explications FTEM'!#REF!,'Skills explications FTEM'!#REF!)","v":{"$error":"#REF!"}}]
[{"$f":"'Skills explications FTEM'!A15:A15","v":"SKILLS"},null,null,{"$f":"IF($H$2=\"G\",'Skills explications FTEM'!F15,'Skills explications FTEM'!B15)","v":"Tirer"},null,null,{"$f":"IF($H$2=\"G\",'Skills explications FTEM'!G15,'Skills explications FTEM'!C15)","v":"Efficience (pas d'espace et de temps), variantes, degré de surprise (déclenchement rapide), précision, puissance (conclusion tactique)"},null,null,{"$f":"IF($H$2=\"G\",'Skills explications FTEM'!#REF!,'Skills explications FTEM'!#REF!)","v":{"$error":"#REF!"}},null,null,null,{"$f":"IFERROR(AVERAGE(O24:O29),\"-\")","v":"-"},null,{"$f":"IFERROR(AVERAGE(Q24:Q29),\"-\")","v":"-"},null,{"$f":"IFERROR(AVERAGE(S24:S29),\"-\")","v":"-"},null,{"$f":"IFERROR(AVERAGE(U24:U29),\"-\")","v":"-"},null,{"$f":"IFERROR(AVERAGE(W24:W29),\"-\")","v":"-"},null,{"$f":"IFERROR(AVERAGE(Y24:Y29),\"-\")","v":"-"}]
[{"$f":"'Skills explications FTEM'!A16:A16","v":0},null,null,{"$f":"IF($H$2=\"G\",'Skills explications FTEM'!F16,'Skills explications FTEM'!B16)","v":"Passer"},null,null,{"$f":"IF($H$2=\"G\",'Skills explications FTEM'!G16,'Skills explications FTEM'!C16)","v":"Donne la passe (distance, passe flipée en revers), réception de la passe (précision, timing, coup droit, revers, patins), vitesse du puck"},null,null,{"$f":"IF($H$2=\"G\",'Skills explications FTEM'!#REF!,'Skills explications FTEM'!#REF!)","v":{"$error":"#REF!"}}]
[{"$f":"'Skills explications FTEM'!A17:A17","v":0},null,null,{"$f":"IF($H$2=\"G\",'Skills explications FTEM'!F17,'Skills explications FTEM'!B17)","v":"Travail de canne, conduite du puck"},null,null,{"$f":"IF($H$2=\"G\",'Skills explications FTEM'!G17,'Skills explications FTEM'!C17)","v":"Puck sur la palette, intercepte les lignes de passe, déviation, contrôle de la canne de l'adversaire"},null,null,{"$f":"IF($H$2=\"G\",'Skills explications FTEM'!#REF!,'Skills explications FTEM'!#REF!)","v":{"$error":"#REF!"}}]
[null,null,null,{"$f":"IF($H$2=\"G\",'Skills explications FTEM'!F18,'Skills explications FTEM'!B18)","v":"Protéger le puck"},null,null,{"$f":"IF($H$2=\"G\",'Skills explications FTEM'!G18,'Skills explications FTEM'!C18)","v":"Contrôle du puck, dribbling, protection du puck, feintes (variantes: avec les patins ou avec et sans la bande), mise au jeu (bully)"},null,null,{"$f":"IF($H$2=\"G\",'Skills explications FTEM'!#REF!,'Skills explications FTEM'!#REF!)","v":{"$error":"#REF!"}}]
[null,null,null,{"$f":"IF($H$2=\"G\",'Skills explications FTEM'!F19,'Skills explications FTEM'!B19)","v":"Jeu du corps (charges)"},null,null,{"$f":"IF($H$2=\"G\",'Skills explications FTEM'!G19,'Skills explications FTEM'!C19)","v":"Faculté de s'imposer physiquement, duels (sur la surface de glace ou à la bande), prendre des checks, lever la tête, niveau de lutte, dur mais correct, bloquer les tirs avec le corps"},null,null,{"$f":"IF($H$2=\"G\",'Skills explications FTEM'!#REF!,'Skills explications FTEM'!#REF!)","v":{"$error":"#REF!"}}]
[{"$f":"'Skills explications FTEM'!A20:A20","v":0},null,null,{"$f":"IF($H$2=\"G\",'Skills explications FTEM'!F20,'Skills explications FTEM'!B20)","v":"-"},null,null,{"$f":"IF($H$2=\"G\",'Skills explications FTEM'!G20,'Skills explications FTEM'!C20)","v":"-"},null,null,{"$f":"IF($H$2=\"G\",'Skills explications FTEM'!#REF!,'Skills explications FTEM'!#REF!)","v":{"$error":"#REF!"}}]
[{"$f":"'Skills explications FTEM'!A21:A21","v":"HOCKEY SENSE"},null,null,{"$f":"IF($H$2=\"G\",'Skills explications FTEM'!F21,'Skills explications FTEM'!B21)","v":"Intelligence de jeu"},null,null,{"$f":"IF($H$2=\"G\",'Skills explications FTEM'!G21,'Skills explications FTEM'!C21)","v":"Voit les zones libres avec joueurs et crée des situations de surnombre, trouve des solutions et agit en toute situation, vitesse de la visualisation"},null,null,{"$f":"IF($H$2=\"G\",'Skills explications FTEM'!#REF!,'Skills explications FTEM'!#REF!)","v":{"$error":"#REF!"}},null,null,null,{"$f":"IFERROR(AVERAGE(O30:O34),\"-\")","v":"-"},null,{"$f":"IFERROR(AVERAGE(Q30:Q34),\"-\")","v":"-"},null,{"$f":"IFERROR(AVERAGE(S30:S34),\"-\")","v":"-"},null,{"$f":"IFERROR(AVERAGE(U30:U34),\"-\")","v":"-"},null,{"$f":"IFERROR(AVERAGE(W30:W34),\"-\")","v":"-"},null,{"$f":"IFERROR(AVERAGE(Y30:Y34),\"-\")","v":"-"}]
[{"$f":"'Skills explications FTEM'!A22:A22","v":0},null,null,{"$f":"IF($H$2=\"G\",'Skills explications FTEM'!F22,'Skills explications FTEM'!B22)","v":"Sensibilisation offensive"},null,null,{"$f":"IF($H$2=\"G\",'Skills explications FTEM'!G22,'Skills explications FTEM'!C22)","v":"Se démarque, anticipation des situations de jeu, ouvre des zones libres pour ses coéquipiers, se place pour marquer, vitesse de mise sous pression, communication"},null,null,{"$f":"IF($H$2=\"G\",'Skills explications FTEM'!#REF!,'Skills explications FTEM'!#REF!)","v":{"$error":"#REF!"}}]
[null,null,null,{"$f":"IF($H$2=\"G\",'Skills explications FTEM'!F23,'Skills explications FTEM'!B23)","v":"Sensibilisation défensive"},null,null,{"$f":"IF($H$2=\"G\",'Skills explications FTEM'!G23,'Skills explications FTEM'!C23)","v":"Garde la position «inside», protège le slot, rassure les coéquipiers, support, anticipe les lignes de passe, bloque les tirs. Réduit rapidement la distance sur l'adversaire, communication"},null,null,{"$f":"IF($H$2=\"G\",'Skills explications FTEM'!#REF!,'Skills explications FTEM'!#REF!)","v":{"$error":"#REF!"}}]
[{"$f":"'Skills explications FTEM'!A23:A23","v":0},null,null,{"$f":"IF($H$2=\"G\",'Skills explications FTEM'!F24,'Skills explications FTEM'!B24)","v":"Gestion du puck"},null,null,{"$f":"IF($H$2=\"G\",'Skills explications FTEM'!G24,'Skills explications FTEM'!C24)","v":"Fait le bon choix en fonction de la situation, support, surnombre"},null,null,{"$f":"IF($H$2=\"G\",'Skills explications FTEM'!#REF!,'Skills explications FTEM'!#REF!)","v":{"$error":"#REF!"}}]
[{"$f":"'Skills explications FTEM'!A25:A25","v":0},null,null,{"$f":"IF($H$2=\"G\",'Skills explications FTEM'!F25,'Skills explications FTEM'!B25)","v":"Créativité"},null,null,{"$f":"IF($H$2=\"G\",'Skills explications FTEM'!G25,'Skills explications FTEM'!C25)","v":"Prises de décision surprenantes, sens du but"},null,null,{"$f":"IF($H$2=\"G\",'Skills explications FTEM'!#REF!,'Skills explications FTEM'!#REF!)","v":{"$error":"#REF!"}}]
[{"$f":"'Skills explications FTEM'!A26:A26","v":"PERSONALITY"},null,null,{"$f":"'Skills explications FTEM'!B26","v":"COMPÉTENCES"},null,null,{"$f":"'Skills explications FTEM'!C26","v":"OBSERVATION"},null,null,{"$f":"'Skills explications FTEM'!H26","v":0},null,null,null,"Date1",null,"Date2",null,"Date3",null,"Date4",null,"Date5",null,"Player",null,"BUT","MESURES:\nSPECIFIQUE, MESURABLES, REALISTE",null,null,null,null,null,null,"DELAI","CONTRÔLE DU BUT","Date"]
[{"$f":"'Skills explications FTEM'!A27:A27","v":"PERSONNALITÉ"},null,null,{"$f":"IF($H$2=\"G\",'Skills explications FTEM'!F27,'Skills explications FTEM'!B27)","v":"Confiance en soi"},null,null,{"$f":"IF($H$2=\"G\",'Skills explications FTEM'!G27,'Skills explications FTEM'!C27)","v":"Est en confiance,«I can do it», peut estimer ses capacités (connaît ses qualités et ses défauts), peut réaliser ses qualités avec constance, est courageux et prend des risques calculés"},null,null,{"$f":"IF($H$2=\"G\",'Skills explications FTEM'!#REF!,'Skills explications FTEM'!#REF!)","v":{"$error":"#REF!"}},null,null,null,{"$f":"IFERROR(AVERAGE(O36:O40),\"-\")","v":"-"},null,null,null,{"$f":"IFERROR(AVERAGE(S36:S40),\"-\")","v":"-"},null,{"$f":"IFERROR(AVERAGE(U36:U40),\"-\")","v":"-"},null,{"$f":"IFERROR(AVERAGE(W36:W40),\"-\")","v":"-"},null,{"$f":"IFERROR(AVERAGE(Y36:Y40),\"-\")","v":"-"}]
[{"$f":"'Skills explications FTEM'!A28:A28","v":0},null,null,{"$f":"IF($H$2=\"G\",'Skills explications FTEM'!F28,'Skills explications FTEM'!B28)","v":"Facultés d'apprentissage"},null,null,{"$f":"IF($H$2=\"G\",'Skills explications FTEM'!G28,'Skills explications FTEM'!C28)","v":"A une bonne perception (il peut mémoriser et peut réaliser), il a de la personnalité, essaie d'apprendre de ses erreurs et est entreprenant"},null,null,{"$f":"IF($H$2=\"G\",'Skills explications FTEM'!#REF!,'Skills explications FTEM'!#REF!)","v":{"$error":"#REF!"}}]
[{"$f":"'Skills explications FTEM'!A29:A29","v":0},null,null,{"$f":"IF($H$2=\"G\",'Skills explications FTEM'!F29,'Skills explications FTEM'!B29)","v":"Prise de responsabilités"},null,null,{"$f":"IF($H$2=\"G\",'Skills explications FTEM'!G29,'Skills explications FTEM'!C29)","v":"Prend la responsabilité de ses performances et de son développement, est-il autonome, soigne-t-il les détails, a beaucoup d'engagement dans tous les domaines"},null,null,{"$f":"IF($H$2=\"G\",'Skills explications FTEM'!#REF!,'Skills explications FTEM'!#REF!)","v":{"$error":"#REF!"}}]
[null,null,null,{"$f":"IF($H$2=\"G\",'Skills explications FTEM'!F30,'Skills explications FTEM'!B30)","v":"Motivation"},null,null,{"$f":"IF($H$2=\"G\",'Skills explications FTEM'!G30,'Skills explications FTEM'!C30)","v":"Est toujours motivé, veut sans cesse se développer et apprendre, veut être le premier et avoir du succès, n'abandonne jamais et ne se laisse pas influencer par les échesc"},null,null,{"$f":"IF($H$2=\"G\",'Skills explications FTEM'!#REF!,'Skills explications FTEM'!#REF!)","v":{"$error":"#REF!"}}]
[{"$f":"'Skills explications FTEM'!A31:A31","v":0},null,null,{"$f":"IF($H$2=\"G\",'Skills explications FTEM'!F31,'Skills explications FTEM'!B31)","v":"Performance style de vie"},null,null,{"$f":"IF($H$2=\"G\",'Skills explications FTEM'!G31,'Skills explications FTEM'!C31)","v":"Gère bien son environnement et son temps libre selon les principes de la performance, obstiné, tenace et axé sur l'objectif, accent sur sa propre performance, est courageux et peut s'imposer contre la résistance, les défis le motivent"},null,null,{"$f":"IF($H$2=\"G\",'Skills explications FTEM'!#REF!,'Skills explications FTEM'!#REF!)","v":{"$error":"#REF!"}}]
[{"$f":"'Skills explications FTEM'!A32:A32","v":"FORCE MENTALE"},null,null,{"$f":"IF($H$2=\"G\",'Skills explications FTEM'!F32,'Skills explications FTEM'!B32)","v":"Engagement"},null,null,{"$f":"IF($H$2=\"G\",'Skills explications FTEM'!G32,'Skills explications FTEM'!C32)","v":"Démontre beaucoup d'intensité dans les entraînements et les matchs, donne toujours son maximum et veut sans cesse repousser ses limites, a-t-il de la passion, s'efforce-t-il de s'entraîner avec une excellente qualité"},null,null,{"$f":"IF($H$2=\"G\",'Skills explications FTEM'!#REF!,'Skills explications FTEM'!#REF!)","v":{"$error":"#REF!"}},null,null,null,{"$f":"IFERROR(AVERAGE(O41:O45),\"-\")","v":"-"},null,null,null,{"$f":"IFERROR(AVERAGE(S41:S45),\"-\")","v":"-"},null,{"$f":"IFERROR(AVERAGE(U41:U45),\"-\")","v":"-"},null,{"$f":"IFERROR(AVERAGE(W41:W45),\"-\")","v":"-"},null,{"$f":"IFERROR(AVERAGE(Y41:Y45),\"-\")","v":"-"}]
[{"$f":"'Skills explications FTEM'!A33:A33","v":0},null,null,{"$f":"IF($H$2=\"G\",'Skills explications FTEM'!F33,'Skills explications FTEM'!B33)","v":"Préparation"},null,null,{"$f":"IF($H$2=\"G\",'Skills explications FTEM'!G33,'Skills explications FTEM'!C33)","v":"Se prépare-t-il toujours bien, mentalement et physiquement, se prépare-t-il toujours bien pour obtenir le niveau de performance idéal (ILZ)"},null,null,{"$f":"IF($H$2=\"G\",'Skills explications FTEM'!#REF!,'Skills explications FTEM'!#REF!)","v":{"$error":"#REF!"}}]
[null,null,null,{"$f":"IF($H$2=\"G\",'Skills explications FTEM'!F34,'Skills explications FTEM'!B34)","v":"Coaching personnel"},null,null,{"$f":"IF($H$2=\"G\",'Skills explications FTEM'!G34,'Skills explications FTEM'!C34)","v":"A-t-il de bonnes facultés de concentration, peut-il maintenir son niveau de performance idéal (ILZ) dans les entraînements et les matchs, peut-il appliquer ses techniques de base, est-il résistant aux influences et pensées négatives, est-il conscient de son attitude corporelle et peut-il l'influencer"},null,null,{"$f":"IF($H$2=\"G\",'Skills explications FTEM'!#REF!,'Skills explications FTEM'!#REF!)","v":{"$error":"#REF!"}}]
[{"$f":"'Skills explications FTEM'!A34:A34","v":0},null,null,{"$f":"IF($H$2=\"G\",'Skills explications FTEM'!F35,'Skills explications FTEM'!B35)","v":"Gestion des énergies"},null,null,{"$f":"IF($H$2=\"G\",'Skills explications FTEM'!G35,'Skills explications FTEM'!C35)","v":"Peut-il gérer ses propres énergies, prend-il soin de sa récupération, peut-il gérer les moments où il faut se donner à fond ou quand il faut déconnecter, bouton On/Off"},null,null,{"$f":"IF($H$2=\"G\",'Skills explications FTEM'!#REF!,'Skills explications FTEM'!#REF!)","v":{"$error":"#REF!"}}]
[{"$f":"'Skills explications FTEM'!A36:A36","v":0},null,null,{"$f":"IF($H$2=\"G\",'Skills explications FTEM'!F36,'Skills explications FTEM'!B36)","v":"Contrôle des émotions"},null,null,{"$f":"IF($H$2=\"G\",'Skills explications FTEM'!G36,'Skills explications FTEM'!C36)","v":"Peut-il gérer ses propres émotions et impulsions, reste-t-il sous contrôle lorsqu'il y a une grande pression, peut-il rester calme lorsque le niveau émotionnel et de frustration est élevé"},null,null,{"$f":"IF($H$2=\"G\",'Skills explications FTEM'!#REF!,'Skills explications FTEM'!#REF!)","v":{"$error":"#REF!"}}]
[{"$f":"'Skills explications FTEM'!A37:A37","v":"PHYSIQUE"},null,null,{"$f":"IF($H$2=\"G\",'Skills explications FTEM'!F37,'Skills explications FTEM'!B37)","v":"Production de la performance"},null,null,{"$f":"IF($H$2=\"G\",'Skills explications FTEM'!G37,'Skills explications FTEM'!C37)","v":"A-t-il la puissance, la force, la vitesse nécessaires dans les jambes et le haut du corps (facteurs neuromusculaires)"},null,null,{"$f":"IF($H$2=\"G\",'Skills explications FTEM'!#REF!,'Skills explications FTEM'!#REF!)","v":{"$error":"#REF!"}},null,null,null,{"$f":"IFERROR(AVERAGE(O46:O50),\"-\")","v":"-"},null,null,null,{"$f":"IFERROR(AVERAGE(S46:S50),\"-\")","v":"-"},null,{"$f":"IFERROR(AVERAGE(U46:U50),\"-\")","v":"-"},null,{"$f":"IFERROR(AVERAGE(W46:W50),\"-\")","v":"-"},null,{"$f":"IFERROR(AVERAGE(Y46:Y50),\"-\")","v":"-"}]
[{"$f":"'Skills explications FTEM'!A38:A38","v":0},null,null,{"$f":"IF($H$2=\"G\",'Skills explications FTEM'!F38,'Skills explications FTEM'!B38)","v":"Spécifique au sport, résistant à l'effort"},null,null,{"$f":"IF($H$2=\"G\",'Skills explications FTEM'!G38,'Skills explications FTEM'!C38)","v":"Est-il capable de maintenir sa puissance, sa force, sa vitesse durant un long temps de glace et peut-il récupérer complètement entre ses engagements (facteurs du métabolisme et cardiovasculaire)"},null,null,{"$f":"IF($H$2=\"G\",'Skills explications FTEM'!#REF!,'Skills explications FTEM'!#REF!)","v":{"$error":"#REF!"}}]
[null,null,null,{"$f":"IF($H$2=\"G\",'Skills explications FTEM'!F39,'Skills explications FTEM'!B39)","v":"Santé / Prévention"},null,null,{"$f":"IF($H$2=\"G\",'Skills explications FTEM'!G39,'Skills explications FTEM'!C39)","v":"A-t-il la stabilité nécessaire (p. ex. ses appuis) et la mobilité nécessaire au niveau des articulations centrales"},null,null,{"$f":"IF($H$2=\"G\",'Skills explications FTEM'!#REF!,'Skills explications FTEM'!#REF!)","v":{"$error":"#REF!"}}]
[{"$f":"'Skills explications FTEM'!A39:A39","v":0},null,null,{"$f":"IF($H$2=\"G\",'Skills explications FTEM'!F40,'Skills explications FTEM'!B40)","v":"Mobilité / Coordination"},null,null,{"$f":"IF($H$2=\"G\",'Skills explications FTEM'!G40,'Skills explications FTEM'!C40)","v":"Gère-t-il ses aptitudes de mouvements de base, qui sont un fournisseur important des fonctions spécifiques «Skills» pour être efficace"},null,null,{"$f":"IF($H$2=\"G\",'Skills explications FTEM'!#REF!,'Skills explications FTEM'!#REF!)","v":{"$error":"#REF!"}}]
[{"$f":"'Skills explications FTEM'!A41:A41","v":0},null,null,{"$f":"IF($H$2=\"G\",'Skills explications FTEM'!F41,'Skills explications FTEM'!B41)","v":"Robustesse"},null,null,{"$f":"IF($H$2=\"G\",'Skills explications FTEM'!G41,'Skills explications FTEM'!C41)","v":"A-t-il la force de base nécessaire (tension corporelle) pour gagner des duels et résister aux charges"},null,null,{"$f":"IF($H$2=\"G\",'Skills explications FTEM'!#REF!,'Skills explications FTEM'!#REF!)","v":{"$error":"#REF!"}}]

{"sheet":"11","index":14,"n_rows":50,"n_cols":36,"rows_kept":50,"cut":false,"hidden":false,"merged":[[45,25,49,25],[45,26,49,32],[45,34,49,34],[40,23,44,23],[42,3,42,5],[42,6,42,11],[44,3,44,5],[44,6,44,11],[40,0,44,2],[40,3,40,5],[40,6,40,11],[40,12,44,12],[40,13,44,13],[40,15,44,15],[45,0,49,2],[45,3,45,5],[45,6,45,11],[45,12,49,12],[45,23,49,23],[47,3,47,5],[47,6,47,11],[48,3,48,5],[48,6,48,11],[49,3,49,5],[34,21,34,22],[35,17,39,17],[35,19,39,19],[35,21,39,21],[36,3,36,5],[36,6,36,11],[38,3,38,5],[38,6,38,11],[40,17,44,17],[40,19,44,19],[40,21,44,21],[43,3,43,5],[43,6,43,11],[37,3,37,5],[37,6,37,11],[41,3,41,5],[41,6,41,11],[29,0,33,2],[29,3,29,5],[29,6,29,11],[29,12,33,12],[29,13,33,13],[29,15,33,15],[34,23,34,24],[34,26,34,32],[35,0,39,2],[35,3,35,5],[35,6,35,11],[35,12,39,12],[35,13,39,13],[35,15,39,15],[39,3,39,5],[39,6,39,11],[35,23,39,23],[34,0,34,2],[34,3,34,5],[34,6,34,11],[34,13,34,14],[34,15,34,16],[34,17,34,18],[34,19,34,20],[23,21,28,21],[23,23,28,23],[24,3,24,5],[24,6,24,11],[28,3,28,5],[28,6,28,11],[33,3,33,5],[33,6,33,11],[29,23,33,23],[29,17,33,17],[29,19,33,19],[29,21,33,21],[30,3,30,5],[30,6,30,11],[31,3,31,5],[31,6,31,11],[25,3,25,5],[25,6,25,11],[32,3,32,5],[32,6,32,11],[18,15,22,15],[18,17,22,17],[18,19,22,19],[18,21,22,21],[18,23,22,23],[22,3,22,5],[22,6,22,11],[23,0,28,2],[23,3,23,5],[23,6,23,11],[23,12,28,12],[23,13,28,13],[23,15,28,15],[23,17,28,17],[18,0,22,2],[18,3,18,5],[18,6,18,11],[18,12,22,12],[18,13,22,13],[19,3,19,5],[19,6,19,11],[20,3,20,5],[20,6,20,11],[23,19,28,19],[12,23,16,23],[16,3,16,5],[16,6,16,11],[17,0,17,2],[17,3,17,5],[17,6,17,11],[17,13,17,14],[17,15,17,16],[17,17,17,18],[17,19,17,20],[17,21,17,22],[17,23,17,24],[12,0,16,2],[12,3,12,5],[12,6,12,11],[12,12,16,12],[12,13,16,13],[12,15,16,15],[12,17,16,17],[12,19,16,19],[12,21,16,21],[13,3,13,5],[13,6,13,11],[14,3,14,5],[11,0,11,2],[11,3,11,5],[11,13,11,14],[11,15,11,16],[11,17,11,18],[11,19,11,20],[11,21,11,22],[11,23,11,24],[11,26,11,32],[11,6,11,11],[0,33,0,35],[29,25,33,25],[29,26,33,32],[29,34,33,34],[35,25,39,25],[35,26,39,32],[35,34,39,34],[1,0,1,1],[1,2,1,5],[1,10,1,24],[2,0,2,1],[2,2,2,5],[2,11,2,24],[6,0,6,1],[6,2,6,35],[7,0,7,1],[7,2,7,35],[8,0,8,1],[8,2,8,35],[3,0,3,1],[3,10,3,24],[4,0,4,1],[4,2,4,5],[4,10,4,24],[49,6,49,11],[45,13,49,13],[45,15,49,15],[45,17,49,17],[45,19,49,19],[45,21,49,21],[0,0,0,24],[0,25,0,26],[0,27,0,32],[10,0,10,24],[10,25,10,35],[40,25,44,25],[40,26,44,32],[40,34,44,34],[12,25,16,25],[12,26,16,32],[12,34,16,34],[18,25,22,25],[18,26,22,32],[18,34,22,34],[23,25,28,25],[23,26,28,32],[23,34,28,34],[17,26,17,32],[46,3,46,5],[46,6,46,11],[14,6,14,11],[15,3,15,5],[15,6,15,11],[21,3,21,5],[21,6,21,11],[26,3,26,5],[26,6,26,11],[27,3,27,5],[27,6,27,11]]}
["Infos personelles",null,null,null,null,null,null,null,null,null,null,null,null,null,null,null,null,null,null,null,null,null,null,null,null,"Predispositions",null,"Evaluations",null,null,null,null,null,"Rating"]
["PRENOM",null,{"$f":"IF(ISBLANK(VLOOKUP(11,Tabelle3[],3,0)),\"-\",VLOOKUP(11,Tabelle3[],3,0))","v":"-"},null,null,null,"POSITION",null,null,"ADRESSE",{"$f":"IF(ISBLANK(VLOOKUP(11,Tabelle3[],5,0)),\"-\",VLOOKUP(11,Tabelle3[],5,0))","v":"-"},null,null,null,null,null,null,null,null,null,null,null,null,null,null,"\"àage\" (Biologique/age relatif)",null,"Date 1",null,null,"cm",null,"Kg",null,"AUSGEZEICHNET",5]
["NOM",null,{"$f":"IF(ISBLANK(VLOOKUP(11,Tabelle3[],2,0)),\"-\",VLOOKUP(11,Tabelle3[],2,0))","v":"-"},null,null,null,"CANNE",null,null,"LIEU",{"$f":"IF(ISBLANK(VLOOKUP(11,Tabelle3[],7,0)),\"-\",VLOOKUP(11,Tabelle3[],7,0))","v":"-"},{"$f":"IF(ISBLANK(VLOOKUP(11,Tabelle3[],6,0)),\"-\",VLOOKUP(11,Tabelle3[],6,0))","v":"-"},null,null,null,null,null,null,null,null,null,null,null,null,null,"predispositions",null,"Date 2",null,null,"cm",null,"Kg",null,"GUT",4]
["DATE NAISS.",null,{"$f":"IF(ISBLANK(VLOOKUP(11,Tabelle3[],14,0)),\"-\",VLOOKUP(11,Tabelle3[],14,0))","v":"-"},{"$f":"IF(ISBLANK(VLOOKUP(11,Tabelle3[],15,0)),\"-\",VLOOKUP(11,Tabelle3[],15,0))","v":"-"},{"$f":"IF(ISBLANK(VLOOKUP(11,Tabelle3[],16,0)),\"-\",VLOOKUP(11,Tabelle3[],16,0))","v":"-"},null,"GRANDEUR",null,"cm","PHONE",{"$f":"IF(ISBLANK(VLOOKUP(11,Tabelle3[],8,0)),\"-\",VLOOKUP(11,Tabelle3[],8,0))","v":"-"},null,null,null,null,null,null,null,null,null,null,null,null,null,null,"Entourage",null,"Date 3",null,null,"cm",null,"Kg",null,"DURCHSCHNITT",3]
["SEXE",null,{"$f":"IF(ISBLANK(VLOOKUP(11,Tabelle3[],13,0)),\"-\",VLOOKUP(11,Tabelle3[],13,0))","v":"-"},null,null,null,"POIDS",null,"Kg","E-Mail",{"$f":"IF(ISBLANK(VLOOKUP(11,Tabelle3[],9,0)),\"-\",VLOOKUP(11,Tabelle3[],9,0))","v":"-"},null,null,null,null,null,null,null,null,null,null,null,null,null,null,null,null,"Date 4",null,null,"cm",null,"Kg",null,"MANGELHAFT",2]
[null,null,null,null,null,null,null,null,null,null,null,null,null,null,null,null,null,null,null,null,null,null,null,null,null,null,null,"Date 5",null,null,"cm",null,"Kg",null,"UNGENÜGEND",1]
["Vision",null,"xxx"]
["Next step",null,"xxx"]
["Profil du Joueur",null,"xxx"]
[]
["EVALUATION (COACH / JOUEUR)",null,null,null,null,null,null,null,null,null,null,null,null,null,null,null,null,null,null,null,null,null,null,null,null,"SMART"]
[{"$f":"'Skills explications FTEM'!A3:A3","v":"TEAM"},null,null,{"$f":"'Skills explications FTEM'!B3","v":"COMPÉTENCES"},null,null,{"$f":"'Skills explications FTEM'!C3","v":"OBSERVATION"},null,null,{"$f":"'Skills explications FTEM'!H3","v":0},null,null,"Final","Date1",null,"Date2",null,"Date3",null,"Date4",null,"Date5",null,"Player",null,"BUT","MESURES:\nSPECIFIQUE, MESURABLES, REALISTE",null,null,null,null,null,null,"DELAI","CONTRÔLE DU BUT","Date"]
[{"$f":"'Skills explications FTEM'!A4:A4","v":"ÉQUIPE"},null,null,{"$f":"IF($H$2=\"G\",'Skills explications FTEM'!F4,'Skills explications FTEM'!B4)","v":"Communication"},null,null,{"$f":"IF($H$2=\"G\",'Skills explications FTEM'!G4,'Skills explications FTEM'!C4)","v":"Respect et ouverture dans ses relations, confiance comme base, traite les conflits sans perturber la stabilité du groupe, communique avec ses coéquipiers, les entraîneurs et les fonctionnaires avec les mêmes valeurs"},null,null,{"$f":"IF($H$2=\"G\",'Skills explications FTEM'!#REF!,'Skills explications FTEM'!#REF!)","v":{"$error":"#REF!"}},null,null,null,{"$f":"IFERROR(AVERAGE(O13:O17),\"-\")","v":"-"},null,{"$f":"IFERROR(AVERAGE(Q13:Q17),\"-\")","v":"-"},null,{"$f":"IFERROR(AVERAGE(S13:S17),\"-\")","v":"-"},null,{"$f":"IFERROR(AVERAGE(U13:U17),\"-\")","v":"-"},null,{"$f":"IFERROR(AVERAGE(W13:W17),\"-\")","v":"-"},null,{"$f":"IFERROR(AVERAGE(Y13:Y17),\"-\")","v":"-"}]
[null,null,null,{"$f":"IF($H$2=\"G\",'Skills explications FTEM'!F5,'Skills explications FTEM'!B5)","v":"Capacité de jouer en équipe"},null,null,{"$f":"IF($H$2=\"G\",'Skills explications FTEM'!G5,'Skills explications FTEM'!C5)","v":"Intégration dans le groupe, définit et réalise des objectifs communs, NOUS avant le MOI, participe au bon esprit d'équipe et à un bon climat de travail"},null,null,{"$f":"IF($H$2=\"G\",'Skills explications FTEM'!#REF!,'Skills explications FTEM'!#REF!)","v":{"$error":"#REF!"}}]
[null,null,null,{"$f":"IF($H$2=\"G\",'Skills explications FTEM'!F6,'Skills explications FTEM'!B6)","v":"Leadership"},null,null,{"$f":"IF($H$2=\"G\",'Skills explications FTEM'!G6,'Skills explications FTEM'!C6)","v":"Prend des responsabilités dans le groupe, essaie de donner de la valeur à ses coéquipiers et au groupe, influence positivement la dynamique de groupe"},null,null,{"$f":"IF($H$2=\"G\",'Skills explications FTEM'!#REF!,'Skills explications FTEM'!#REF!)","v":{"$error":"#REF!"}}]
[null,null,null,{"$f":"IF($H$2=\"G\",'Skills explications FTEM'!F7,'Skills explications FTEM'!B7)","v":"Répartition des rôles"},null,null,{"$f":"IF($H$2=\"G\",'Skills explications FTEM'!G7,'Skills explications FTEM'!C7)","v":"Connaît son rôle et le réalise, est conscient de sa position dans l'équipe et le système, met ses compétences à disposition de l'équipe"},null,null,{"$f":"IF($H$2=\"G\",'Skills explications FTEM'!#REF!,'Skills explications FTEM'!#REF!)","v":{"$error":"#REF!"}}]
[{"$f":"'Skills explications FTEM'!A8:A8","v":0},null,null,{"$f":"IF($H$2=\"G\",'Skills explications FTEM'!F8,'Skills explications FTEM'!B8)","v":"Respect"},null,null,{"$f":"IF($H$2=\"G\",'Skills explications FTEM'!G8,'Skills explications FTEM'!C8)","v":"Relations respectueuses avec les coéquipiers, les entraîneurs, les adversaires, les arbitres et le staff; respect des règles, des principes du fairplay (y compris antidopage)"},null,null,{"$f":"IF($H$2=\"G\",'Skills explications FTEM'!#REF!,'Skills explications FTEM'!#REF!)","v":{"$error":"#REF!"}}]
[{"$f":"'Skills explications FTEM'!A9:A9","v":"ON ICE"},null,null,{"$f":"'Skills explications FTEM'!B9","v":"COMPÉTENCES"},null,null,{"$f":"'Skills explications FTEM'!C9","v":"OBSERVATION"},null,null,{"$f":"'Skills explications FTEM'!H9","v":0},null,null,null,"Date1",null,"Date2",null,"Date3",null,"Date4",null,"Date5",null,"Player",null,"BUT","MESURES:\nSPECIFIQUE, MESURABLES, REALISTE",null,null,null,null,null,null,"DELAI","CONTRÔLE DU BUT","Date"]
[{"$f":"'Skills explications FTEM'!A10:A10","v":"PATINAGE"},null,null,{"$f":"IF($H$2=\"G\",'Skills explications FTEM'!F10,'Skills explications FTEM'!B10)","v":"Vitesse de patinage"},null,null,{"$f":"IF($H$2=\"G\",'Skills explications FTEM'!G10,'Skills explications FTEM'!C10)","v":"Accélération, départ, explosivité des 3 premiers pas, fréquence"},null,null,{"$f":"IF($H$2=\"G\",'Skills explications FTEM'!#REF!,'Skills explications FTEM'!#REF!)","v":{"$error":"#REF!"}},null,null,null,{"$f":"IFERROR(AVERAGE(O19:O23),\"-\")","v":"-"},null,{"$f":"IFERROR(AVERAGE(Q19:Q23),\"-\")","v":"-"},null,{"$f":"IFERROR(AVERAGE(S19:S23),\"-\")","v":"-"},null,{"$f":"IFERROR(AVERAGE(U19:U23),\"-\")","v":"-"},null,{"$f":"IFERROR(AVERAGE(W19:W23),\"-\")","v":"-"},null,{"$f":"IFERROR(AVERAGE(Y19:Y23),\"-\")","v":"-"}]
[{"$f":"'Skills explications FTEM'!A11:A11","v":0},null,null,{"$f":"IF($H$2=\"G\",'Skills explications FTEM'!F11,'Skills explications FTEM'!B11)","v":"Vitesse, rapidité"},null,null,{"$f":"IF($H$2=\"G\",'Skills explications FTEM'!G11,'Skills explications FTEM'!C11)","v":"Vitesse, faculté de glisse, avant et arrière, économie des forces"},null,null,{"$f":"IF($H$2=\"G\",'Skills explications FTEM'!#REF!,'Skills explications FTEM'!#REF!)","v":{"$error":"#REF!"}}]
[{"$f":"'Skills explications FTEM'!A12:A12","v":0},null,null,{"$f":"IF($H$2=\"G\",'Skills explications FTEM'!F12,'Skills explications FTEM'!B12)","v":"Agilité"},null,null,{"$f":"IF($H$2=\"G\",'Skills explications FTEM'!G12,'Skills explications FTEM'!C12)","v":"Changements de direction, pivots, stop et start «Nummelin»"},null,null,{"$f":"IF($H$2=\"G\",'Skills explications FTEM'!#REF!,'Skills explications FTEM'!#REF!)","v":{"$error":"#REF!"}},null,null,null,{"$f":"IFERROR(AVERAGE(O21:O23),\"-\")","v":"-"},null,{"$f":"IFERROR(AVERAGE(Q21:Q23),\"-\")","v":"-"},null,{"$f":"IFERROR(AVERAGE(S21:S23),\"-\")","v":"-"},null,{"$f":"IFERROR(AVERAGE(U21:U23),\"-\")","v":"-"},null,{"$f":"IFERROR(AVERAGE(W21:W23),\"-\")","v":"-"},null,"-"]
[null,null,null,{"$f":"IF($H$2=\"G\",'Skills explications FTEM'!F13,'Skills explications FTEM'!B13)","v":"Balance"},null,null,{"$f":"IF($H$2=\"G\",'Skills explications FTEM'!G13,'Skills explications FTEM'!C13)","v":"Equilibre, faculté d'être sur ses appuis, position basse, 1 ou 2 jambes"},null,null,{"$f":"IF($H$2=\"G\",'Skills explications FTEM'!#REF!,'Skills explications FTEM'!#REF!)","v":{"$error":"#REF!"}}]
[{"$f":"'Skills explications FTEM'!#REF!","v":{"$error":"#REF!"}},null,null,{"$f":"IF($H$2=\"G\",'Skills explications FTEM'!F14,'Skills explications FTEM'!B14)","v":"Patinage arrière"},null,null,{"$f":"IF($H$2=\"G\",'Skills explications FTEM'!G14,'Skills explications FTEM'!C14)","v":"Accélération, vitesse, équilibre "},null,null,{"$f":"IF($H$2=\"G\",'Skills explications FTEM'!#REF!,'Skills explications FTEM'!#REF!)","v":{"$error":"#REF!"}}]
[{"$f":"'Skills explications FTEM'!A15:A15","v":"SKILLS"},null,null,{"$f":"IF($H$2=\"G\",'Skills explications FTEM'!F15,'Skills explications FTEM'!B15)","v":"Tirer"},null,null,{"$f":"IF($H$2=\"G\",'Skills explications FTEM'!G15,'Skills explications FTEM'!C15)","v":"Efficience (pas d'espace et de temps), variantes, degré de surprise (déclenchement rapide), précision, puissance (conclusion tactique)"},null,null,{"$f":"IF($H$2=\"G\",'Skills explications FTEM'!#REF!,'Skills explications FTEM'!#REF!)","v":{"$error":"#REF!"}},null,null,null,{"$f":"IFERROR(AVERAGE(O24:O29),\"-\")","v":"-"},null,{"$f":"IFERROR(AVERAGE(Q24:Q29),\"-\")","v":"-"},null,{"$f":"IFERROR(AVERAGE(S24:S29),\"-\")","v":"-"},null,{"$f":"IFERROR(AVERAGE(U24:U29),\"-\")","v":"-"},null,{"$f":"IFERROR(AVERAGE(W24:W29),\"-\")","v":"-"},null,{"$f":"IFERROR(AVERAGE(Y24:Y29),\"-\")","v":"-"}]
[{"$f":"'Skills explications FTEM'!A16:A16","v":0},null,null,{"$f":"IF($H$2=\"G\",'Skills explications FTEM'!F16,'Skills explications FTEM'!B16)","v":"Passer"},null,null,{"$f":"IF($H$2=\"G\",'Skills explications FTEM'!G16,'Skills explications FTEM'!C16)","v":"Donne la passe (distance, passe flipée en revers), réception de la passe (précision, timing, coup droit, revers, patins), vitesse du puck"},null,null,{"$f":"IF($H$2=\"G\",'Skills explications FTEM'!#REF!,'Skills explications FTEM'!#REF!)","v":{"$error":"#REF!"}}]
[{"$f":"'Skills explications FTEM'!A17:A17","v":0},null,null,{"$f":"IF($H$2=\"G\",'Skills explications FTEM'!F17,'Skills explications FTEM'!B17)","v":"Travail de canne, conduite du puck"},null,null,{"$f":"IF($H$2=\"G\",'Skills explications FTEM'!G17,'Skills explications FTEM'!C17)","v":"Puck sur la palette, intercepte les lignes de passe, déviation, contrôle de la canne de l'adversaire"},null,null,{"$f":"IF($H$2=\"G\",'Skills explications FTEM'!#REF!,'Skills explications FTEM'!#REF!)","v":{"$error":"#REF!"}}]
[null,null,null,{"$f":"IF($H$2=\"G\",'Skills explications FTEM'!F18,'Skills explications FTEM'!B18)","v":"Protéger le puck"},null,null,{"$f":"IF($H$2=\"G\",'Skills explications FTEM'!G18,'Skills explications FTEM'!C18)","v":"Contrôle du puck, dribbling, protection du puck, feintes (variantes: avec les patins ou avec et sans la bande), mise au jeu (bully)"},null,null,{"$f":"IF($H$2=\"G\",'Skills explications FTEM'!#REF!,'Skills explications FTEM'!#REF!)","v":{"$error":"#REF!"}}]
[null,null,null,{"$f":"IF($H$2=\"G\",'Skills explications FTEM'!F19,'Skills explications FTEM'!B19)","v":"Jeu du corps (charges)"},null,null,{"$f":"IF($H$2=\"G\",'Skills explications FTEM'!G19,'Skills explications FTEM'!C19)","v":"Faculté de s'imposer physiquement, duels (sur la surface de glace ou à la bande), prendre des checks, lever la tête, niveau de lutte, dur mais correct, bloquer les tirs avec le corps"},null,null,{"$f":"IF($H$2=\"G\",'Skills explications FTEM'!#REF!,'Skills explications FTEM'!#REF!)","v":{"$error":"#REF!"}}]
[{"$f":"'Skills explications FTEM'!A20:A20","v":0},null,null,{"$f":"IF($H$2=\"G\",'Skills explications FTEM'!F20,'Skills explications FTEM'!B20)","v":"-"},null,null,{"$f":"IF($H$2=\"G\",'Skills explications FTEM'!G20,'Skills explications FTEM'!C20)","v":"-"},null,null,{"$f":"IF($H$2=\"G\",'Skills explications FTEM'!#REF!,'Skills explications FTEM'!#REF!)","v":{"$error":"#REF!"}}]
[{"$f":"'Skills explications FTEM'!A21:A21","v":"HOCKEY SENSE"},null,null,{"$f":"IF($H$2=\"G\",'Skills explications FTEM'!F21,'Skills explications FTEM'!B21)","v":"Intelligence de jeu"},null,null,{"$f":"IF($H$2=\"G\",'Skills explications FTEM'!G21,'Skills explications FTEM'!C21)","v":"Voit les zones libres avec joueurs et crée des situations de surnombre, trouve des solutions et agit en toute situation, vitesse de la visualisation"},null,null,{"$f":"IF($H$2=\"G\",'Skills explications FTEM'!#REF!,'Skills explications FTEM'!#REF!)","v":{"$error":"#REF!"}},null,null,null,{"$f":"IFERROR(AVERAGE(O30:O34),\"-\")","v":"-"},null,{"$f":"IFERROR(AVERAGE(Q30:Q34),\"-\")","v":"-"},null,{"$f":"IFERROR(AVERAGE(S30:S34),\"-\")","v":"-"},null,{"$f":"IFERROR(AVERAGE(U30:U34),\"-\")","v":"-"},null,{"$f":"IFERROR(AVERAGE(W30:W34),\"-\")","v":"-"},null,{"$f":"IFERROR(AVERAGE(Y30:Y34),\"-\")","v":"-"}]
[{"$f":"'Skills explications FTEM'!A22:A22","v":0},null,null,{"$f":"IF($H$2=\"G\",'Skills explications FTEM'!F22,'Skills explications FTEM'!B22)","v":"Sensibilisation offensive"},null,null,{"$f":"IF($H$2=\"G\",'Skills explications FTEM'!G22,'Skills explications FTEM'!C22)","v":"Se démarque, anticipation des situations de jeu, ouvre des zones libres pour ses coéquipiers, se place pour marquer, vitesse de mise sous pression, communication"},null,null,{"$f":"IF($H$2=\"G\",'Skills explications FTEM'!#REF!,'Skills explications FTEM'!#REF!)","v":{"$error":"#REF!"}}]
[null,null,null,{"$f":"IF($H$2=\"G\",'Skills explications FTEM'!F23,'Skills explications FTEM'!B23)","v":"Sensibilisation défensive"},null,null,{"$f":"IF($H$2=\"G\",'Skills explications FTEM'!G23,'Skills explications FTEM'!C23)","v":"Garde la position «inside», protège le slot, rassure les coéquipiers, support, anticipe les lignes de passe, bloque les tirs. Réduit rapidement la distance sur l'adversaire, communication"},null,null,{"$f":"IF($H$2=\"G\",'Skills explications FTEM'!#REF!,'Skills explications FTEM'!#REF!)","v":{"$error":"#REF!"}}]
[{"$f":"'Skills explications FTEM'!A23:A23","v":0},null,null,{"$f":"IF($H$2=\"G\",'Skills explications FTEM'!F24,'Skills explications FTEM'!B24)","v":"Gestion du puck"},null,null,{"$f":"IF($H$2=\"G\",'Skills explications FTEM'!G24,'Skills explications FTEM'!C24)","v":"Fait le bon choix en fonction de la situation, support, surnombre"},null,null,{"$f":"IF($H$2=\"G\",'Skills explications FTEM'!#REF!,'Skills explications FTEM'!#REF!)","v":{"$error":"#REF!"}}]
[{"$f":"'Skills explications FTEM'!A25:A25","v":0},null,null,{"$f":"IF($H$2=\"G\",'Skills explications FTEM'!F25,'Skills explications FTEM'!B25)","v":"Créativité"},null,null,{"$f":"IF($H$2=\"G\",'Skills explications FTEM'!G25,'Skills explications FTEM'!C25)","v":"Prises de décision surprenantes, sens du but"},null,null,{"$f":"IF($H$2=\"G\",'Skills explications FTEM'!#REF!,'Skills explications FTEM'!#REF!)","v":{"$error":"#REF!"}}]
[{"$f":"'Skills explications FTEM'!A26:A26","v":"PERSONALITY"},null,null,{"$f":"'Skills explications FTEM'!B26","v":"COMPÉTENCES"},null,null,{"$f":"'Skills explications FTEM'!C26","v":"OBSERVATION"},null,null,{"$f":"'Skills explications FTEM'!H26","v":0},null,null,null,"Date1",null,"Date2",null,"Date3",null,"Date4",null,"Date5",null,"Player",null,"BUT","MESURES:\nSPECIFIQUE, MESURABLES, REALISTE",null,null,null,null,null,null,"DELAI","CONTRÔLE DU BUT","Date"]
[{"$f":"'Skills explications FTEM'!A27:A27","v":"PERSONNALITÉ"},null,null,{"$f":"IF($H$2=\"G\",'Skills explications FTEM'!F27,'Skills explications FTEM'!B27)","v":"Confiance en soi"},null,null,{"$f":"IF($H$2=\"G\",'Skills explications FTEM'!G27,'Skills explications FTEM'!C27)","v":"Est en confiance,«I can do it», peut estimer ses capacités (connaît ses qualités et ses défauts), peut réaliser ses qualités avec constance, est courageux et prend des risques calculés"},null,null,{"$f":"IF($H$2=\"G\",'Skills explications FTEM'!#REF!,'Skills explications FTEM'!#REF!)","v":{"$error":"#REF!"}},null,null,null,{"$f":"IFERROR(AVERAGE(O36:O40),\"-\")","v":"-"},null,null,null,{"$f":"IFERROR(AVERAGE(S36:S40),\"-\")","v":"-"},null,{"$f":"IFERROR(AVERAGE(U36:U40),\"-\")","v":"-"},null,{"$f":"IFERROR(AVERAGE(W36:W40),\"-\")","v":"-"},null,{"$f":"IFERROR(AVERAGE(Y36:Y40),\"-\")","v":"-"}]
[{"$f":"'Skills explications FTEM'!A28:A28","v":0},null,null,{"$f":"IF($H$2=\"G\",'Skills explications FTEM'!F28,'Skills explications FTEM'!B28)","v":"Facultés d'apprentissage"},null,null,{"$f":"IF($H$2=\"G\",'Skills explications FTEM'!G28,'Skills explications FTEM'!C28)","v":"A une bonne perception (il peut mémoriser et peut réaliser), il a de la personnalité, essaie d'apprendre de ses erreurs et est entreprenant"},null,null,{"$f":"IF($H$2=\"G\",'Skills explications FTEM'!#REF!,'Skills explications FTEM'!#REF!)","v":{"$error":"#REF!"}}]
[{"$f":"'Skills explications FTEM'!A29:A29","v":0},null,null,{"$f":"IF($H$2=\"G\",'Skills explications FTEM'!F29,'Skills explications FTEM'!B29)","v":"Prise de responsabilités"},null,null,{"$f":"IF($H$2=\"G\",'Skills explications FTEM'!G29,'Skills explications FTEM'!C29)","v":"Prend la responsabilité de ses performances et de son développement, est-il autonome, soigne-t-il les détails, a beaucoup d'engagement dans tous les domaines"},null,null,{"$f":"IF($H$2=\"G\",'Skills explications FTEM'!#REF!,'Skills explications FTEM'!#REF!)","v":{"$error":"#REF!"}}]
[null,null,null,{"$f":"IF($H$2=\"G\",'Skills explications FTEM'!F30,'Skills explications FTEM'!B30)","v":"Motivation"},null,null,{"$f":"IF($H$2=\"G\",'Skills explications FTEM'!G30,'Skills explications FTEM'!C30)","v":"Est toujours motivé, veut sans cesse se développer et apprendre, veut être le premier et avoir du succès, n'abandonne jamais et ne se laisse pas influencer par les échesc"},null,null,{"$f":"IF($H$2=\"G\",'Skills explications FTEM'!#REF!,'Skills explications FTEM'!#REF!)","v":{"$error":"#REF!"}}]
[{"$f":"'Skills explications FTEM'!A31:A31","v":0},null,null,{"$f":"IF($H$2=\"G\",'Skills explications FTEM'!F31,'Skills explications FTEM'!B31)","v":"Performance style de vie"},null,null,{"$f":"IF($H$2=\"G\",'Skills explications FTEM'!G31,'Skills explications FTEM'!C31)","v":"Gère bien son environnement et son temps libre selon les principes de la performance, obstiné, tenace et axé sur l'objectif, accent sur sa propre performance, est courageux et peut s'imposer contre la résistance, les défis le motivent"},null,null,{"$f":"IF($H$2=\"G\",'Skills explications FTEM'!#REF!,'Skills explications FTEM'!#REF!)","v":{"$error":"#REF!"}}]
[{"$f":"'Skills explications FTEM'!A32:A32","v":"FORCE MENTALE"},null,null,{"$f":"IF($H$2=\"G\",'Skills explications FTEM'!F32,'Skills explications FTEM'!B32)","v":"Engagement"},null,null,{"$f":"IF($H$2=\"G\",'Skills explications FTEM'!G32,'Skills explications FTEM'!C32)","v":"Démontre beaucoup d'intensité dans les entraînements et les matchs, donne toujours son maximum et veut sans cesse repousser ses limites, a-t-il de la passion, s'efforce-t-il de s'entraîner avec une excellente qualité"},null,null,{"$f":"IF($H$2=\"G\",'Skills explications FTEM'!#REF!,'Skills explications FTEM'!#REF!)","v":{"$error":"#REF!"}},null,null,null,{"$f":"IFERROR(AVERAGE(O41:O45),\"-\")","v":"-"},null,null,null,{"$f":"IFERROR(AVERAGE(S41:S45),\"-\")","v":"-"},null,{"$f":"IFERROR(AVERAGE(U41:U45),\"-\")","v":"-"},null,{"$f":"IFERROR(AVERAGE(W41:W45),\"-\")","v":"-"},null,{"$f":"IFERROR(AVERAGE(Y41:Y45),\"-\")","v":"-"}]
[{"$f":"'Skills explications FTEM'!A33:A33","v":0},null,null,{"$f":"IF($H$2=\"G\",'Skills explications FTEM'!F33,'Skills explications FTEM'!B33)","v":"Préparation"},null,null,{"$f":"IF($H$2=\"G\",'Skills explications FTEM'!G33,'Skills explications FTEM'!C33)","v":"Se prépare-t-il toujours bien, mentalement et physiquement, se prépare-t-il toujours bien pour obtenir le niveau de performance idéal (ILZ)"},null,null,{"$f":"IF($H$2=\"G\",'Skills explications FTEM'!#REF!,'Skills explications FTEM'!#REF!)","v":{"$error":"#REF!"}}]
[null,null,null,{"$f":"IF($H$2=\"G\",'Skills explications FTEM'!F34,'Skills explications FTEM'!B34)","v":"Coaching personnel"},null,null,{"$f":"IF($H$2=\"G\",'Skills explications FTEM'!G34,'Skills explications FTEM'!C34)","v":"A-t-il de bonnes facultés de concentration, peut-il maintenir son niveau de performance idéal (ILZ) dans les entraînements et les matchs, peut-il appliquer ses techniques de base, est-il résistant aux influences et pensées négatives, est-il conscient de son attitude corporelle et peut-il l'influencer"},null,null,{"$f":"IF($H$2=\"G\",'Skills explications FTEM'!#REF!,'Skills explications FTEM'!#REF!)","v":{"$error":"#REF!"}}]
[{"$f":"'Skills explications FTEM'!A34:A34","v":0},null,null,{"$f":"IF($H$2=\"G\",'Skills explications FTEM'!F35,'Skills explications FTEM'!B35)","v":"Gestion des énergies"},null,null,{"$f":"IF($H$2=\"G\",'Skills explications FTEM'!G35,'Skills explications FTEM'!C35)","v":"Peut-il gérer ses propres énergies, prend-il soin de sa récupération, peut-il gérer les moments où il faut se donner à fond ou quand il faut déconnecter, bouton On/Off"},null,null,{"$f":"IF($H$2=\"G\",'Skills explications FTEM'!#REF!,'Skills explications FTEM'!#REF!)","v":{"$error":"#REF!"}}]
[{"$f":"'Skills explications FTEM'!A36:A36","v":0},null,null,{"$f":"IF($H$2=\"G\",'Skills explications FTEM'!F36,'Skills explications FTEM'!B36)","v":"Contrôle des émotions"},null,null,{"$f":"IF($H$2=\"G\",'Skills explications FTEM'!G36,'Skills explications FTEM'!C36)","v":"Peut-il gérer ses propres émotions et impulsions, reste-t-il sous contrôle lorsqu'il y a une grande pression, peut-il rester calme lorsque le niveau émotionnel et de frustration est élevé"},null,null,{"$f":"IF($H$2=\"G\",'Skills explications FTEM'!#REF!,'Skills explications FTEM'!#REF!)","v":{"$error":"#REF!"}}]
[{"$f":"'Skills explications FTEM'!A37:A37","v":"PHYSIQUE"},null,null,{"$f":"IF($H$2=\"G\",'Skills explications FTEM'!F37,'Skills explications FTEM'!B37)","v":"Production de la performance"},null,null,{"$f":"IF($H$2=\"G\",'Skills explications FTEM'!G37,'Skills explications FTEM'!C37)","v":"A-t-il la puissance, la force, la vitesse nécessaires dans les jambes et le haut du corps (facteurs neuromusculaires)"},null,null,{"$f":"IF($H$2=\"G\",'Skills explications FTEM'!#REF!,'Skills explications FTEM'!#REF!)","v":{"$error":"#REF!"}},null,null,null,{"$f":"IFERROR(AVERAGE(O46:O50),\"-\")","v":"-"},null,null,null,{"$f":"IFERROR(AVERAGE(S46:S50),\"-\")","v":"-"},null,{"$f":"IFERROR(AVERAGE(U46:U50),\"-\")","v":"-"},null,{"$f":"IFERROR(AVERAGE(W46:W50),\"-\")","v":"-"},null,{"$f":"IFERROR(AVERAGE(Y46:Y50),\"-\")","v":"-"}]
[{"$f":"'Skills explications FTEM'!A38:A38","v":0},null,null,{"$f":"IF($H$2=\"G\",'Skills explications FTEM'!F38,'Skills explications FTEM'!B38)","v":"Spécifique au sport, résistant à l'effort"},null,null,{"$f":"IF($H$2=\"G\",'Skills explications FTEM'!G38,'Skills explications FTEM'!C38)","v":"Est-il capable de maintenir sa puissance, sa force, sa vitesse durant un long temps de glace et peut-il récupérer complètement entre ses engagements (facteurs du métabolisme et cardiovasculaire)"},null,null,{"$f":"IF($H$2=\"G\",'Skills explications FTEM'!#REF!,'Skills explications FTEM'!#REF!)","v":{"$error":"#REF!"}}]
[null,null,null,{"$f":"IF($H$2=\"G\",'Skills explications FTEM'!F39,'Skills explications FTEM'!B39)","v":"Santé / Prévention"},null,null,{"$f":"IF($H$2=\"G\",'Skills explications FTEM'!G39,'Skills explications FTEM'!C39)","v":"A-t-il la stabilité nécessaire (p. ex. ses appuis) et la mobilité nécessaire au niveau des articulations centrales"},null,null,{"$f":"IF($H$2=\"G\",'Skills explications FTEM'!#REF!,'Skills explications FTEM'!#REF!)","v":{"$error":"#REF!"}}]
[{"$f":"'Skills explications FTEM'!A39:A39","v":0},null,null,{"$f":"IF($H$2=\"G\",'Skills explications FTEM'!F40,'Skills explications FTEM'!B40)","v":"Mobilité / Coordination"},null,null,{"$f":"IF($H$2=\"G\",'Skills explications FTEM'!G40,'Skills explications FTEM'!C40)","v":"Gère-t-il ses aptitudes de mouvements de base, qui sont un fournisseur important des fonctions spécifiques «Skills» pour être efficace"},null,null,{"$f":"IF($H$2=\"G\",'Skills explications FTEM'!#REF!,'Skills explications FTEM'!#REF!)","v":{"$error":"#REF!"}}]
[{"$f":"'Skills explications FTEM'!A41:A41","v":0},null,null,{"$f":"IF($H$2=\"G\",'Skills explications FTEM'!F41,'Skills explications FTEM'!B41)","v":"Robustesse"},null,null,{"$f":"IF($H$2=\"G\",'Skills explications FTEM'!G41,'Skills explications FTEM'!C41)","v":"A-t-il la force de base nécessaire (tension corporelle) pour gagner des duels et résister aux charges"},null,null,{"$f":"IF($H$2=\"G\",'Skills explications FTEM'!#REF!,'Skills explications FTEM'!#REF!)","v":{"$error":"#REF!"}}]

{"sheet":"12","index":15,"n_rows":50,"n_cols":36,"rows_kept":50,"cut":false,"hidden":false,"merged":[[45,25,49,25],[45,26,49,32],[45,34,49,34],[40,23,44,23],[42,3,42,5],[42,6,42,11],[44,3,44,5],[44,6,44,11],[40,0,44,2],[40,3,40,5],[40,6,40,11],[40,12,44,12],[40,13,44,13],[40,15,44,15],[45,0,49,2],[45,3,45,5],[45,6,45,11],[45,12,49,12],[45,23,49,23],[47,3,47,5],[47,6,47,11],[48,3,48,5],[48,6,48,11],[49,3,49,5],[34,21,34,22],[35,17,39,17],[35,19,39,19],[35,21,39,21],[36,3,36,5],[36,6,36,11],[38,3,38,5],[38,6,38,11],[40,17,44,17],[40,19,44,19],[40,21,44,21],[43,3,43,5],[43,6,43,11],[37,3,37,5],[37,6,37,11],[41,3,41,5],[41,6,41,11],[29,0,33,2],[29,3,29,5],[29,6,29,11],[29,12,33,12],[29,13,33,13],[29,15,33,15],[34,23,34,24],[34,26,34,32],[35,0,39,2],[35,3,35,5],[35,6,35,11],[35,12,39,12],[35,13,39,13],[35,15,39,15],[39,3,39,5],[39,6,39,11],[35,23,39,23],[34,0,34,2],[34,3,34,5],[34,6,34,11],[34,13,34,14],[34,15,34,16],[34,17,34,18],[34,19,34,20],[23,21,28,21],[23,23,28,23],[24,3,24,5],[24,6,24,11],[28,3,28,5],[28,6,28,11],[33,3,33,5],[33,6,33,11],[29,23,33,23],[29,17,33,17],[29,19,33,19],[29,21,33,21],[30,3,30,5],[30,6,30,11],[31,3,31,5],[31,6,31,11],[25,3,25,5],[25,6,25,11],[32,3,32,5],[32,6,32,11],[18,15,22,15],[18,17,22,17],[18,19,22,19],[18,21,22,21],[18,23,22,23],[22,3,22,5],[22,6,22,11],[23,0,28,2],[23,3,23,5],[23,6,23,11],[23,12,28,12],[23,13,28,13],[23,15,28,15],[23,17,28,17],[18,0,22,2],[18,3,18,5],[18,6,18,11],[18,12,22,12],[18,13,22,13],[19,3,19,5],[19,6,19,11],[20,3,20,5],[20,6,20,11],[23,19,28,19],[12,23,16,23],[16,3,16,5],[16,6,16,11],[17,0,17,2],[17,3,17,5],[17,6,17,11],[17,13,17,14],[17,15,17,16],[17,17,17,18],[17,19,17,20],[17,21,17,22],[17,23,17,24],[12,0,16,2],[12,3,12,5],[12,6,12,11],[12,12,16,12],[12,13,16,13],[12,15,16,15],[12,17,16,17],[12,19,16,19],[12,21,16,21],[13,3,13,5],[13,6,13,11],[14,3,14,5],[11,0,11,2],[11,3,11,5],[11,13,11,14],[11,15,11,16],[11,17,11,18],[11,19,11,20],[11,21,11,22],[11,23,11,24],[11,26,11,32],[11,6,11,11],[0,33,0,35],[29,25,33,25],[29,26,33,32],[29,34,33,34],[35,25,39,25],[35,26,39,32],[35,34,39,34],[1,0,1,1],[1,2,1,5],[1,10,1,24],[2,0,2,1],[2,2,2,5],[2,11,2,24],[6,0,6,1],[6,2,6,35],[7,0,7,1],[7,2,7,35],[8,0,8,1],[8,2,8,35],[3,0,3,1],[3,10,3,24],[4,0,4,1],[4,2,4,5],[4,10,4,24],[49,6,49,11],[45,13,49,13],[45,15,49,15],[45,17,49,17],[45,19,49,19],[45,21,49,21],[0,0,0,24],[0,25,0,26],[0,27,0,32],[10,0,10,24],[10,25,10,35],[40,25,44,25],[40,26,44,32],[40,34,44,34],[12,25,16,25],[12,26,16,32],[12,34,16,34],[18,25,22,25],[18,26,22,32],[18,34,22,34],[23,25,28,25],[23,26,28,32],[23,34,28,34],[17,26,17,32],[46,3,46,5],[46,6,46,11],[14,6,14,11],[15,3,15,5],[15,6,15,11],[21,3,21,5],[21,6,21,11],[26,3,26,5],[26,6,26,11],[27,3,27,5],[27,6,27,11]]}
["Infos personelles",null,null,null,null,null,null,null,null,null,null,null,null,null,null,null,null,null,null,null,null,null,null,null,null,"Predispositions",null,"Evaluations",null,null,null,null,null,"Rating"]
["PRENOM",null,{"$f":"IF(ISBLANK(VLOOKUP(12,Tabelle3[],3,0)),\"-\",VLOOKUP(12,Tabelle3[],3,0))","v":"-"},null,null,null,"POSITION",null,null,"ADRESSE",{"$f":"IF(ISBLANK(VLOOKUP(12,Tabelle3[],5,0)),\"-\",VLOOKUP(12,Tabelle3[],5,0))","v":"-"},null,null,null,null,null,null,null,null,null,null,null,null,null,null,"\"àage\" (Biologique/age relatif)",null,"Date 1",null,null,"cm",null,"Kg",null,"AUSGEZEICHNET",5]
["NOM",null,{"$f":"IF(ISBLANK(VLOOKUP(12,Tabelle3[],2,0)),\"-\",VLOOKUP(12,Tabelle3[],2,0))","v":"-"},null,null,null,"CANNE",null,null,"LIEU",{"$f":"IF(ISBLANK(VLOOKUP(12,Tabelle3[],7,0)),\"-\",VLOOKUP(12,Tabelle3[],7,0))","v":"-"},{"$f":"IF(ISBLANK(VLOOKUP(12,Tabelle3[],6,0)),\"-\",VLOOKUP(12,Tabelle3[],6,0))","v":"-"},null,null,null,null,null,null,null,null,null,null,null,null,null,"predispositions",null,"Date 2",null,null,"cm",null,"Kg",null,"GUT",4]
["DATE NAISS.",null,{"$f":"IF(ISBLANK(VLOOKUP(12,Tabelle3[],14,0)),\"-\",VLOOKUP(12,Tabelle3[],14,0))","v":"-"},{"$f":"IF(ISBLANK(VLOOKUP(12,Tabelle3[],15,0)),\"-\",VLOOKUP(12,Tabelle3[],15,0))","v":"-"},{"$f":"IF(ISBLANK(VLOOKUP(12,Tabelle3[],16,0)),\"-\",VLOOKUP(12,Tabelle3[],16,0))","v":"-"},null,"GRANDEUR",null,"cm","PHONE",{"$f":"IF(ISBLANK(VLOOKUP(12,Tabelle3[],8,0)),\"-\",VLOOKUP(12,Tabelle3[],8,0))","v":"-"},null,null,null,null,null,null,null,null,null,null,null,null,null,null,"Entourage",null,"Date 3",null,null,"cm",null,"Kg",null,"DURCHSCHNITT",3]
["SEXE",null,{"$f":"IF(ISBLANK(VLOOKUP(12,Tabelle3[],13,0)),\"-\",VLOOKUP(12,Tabelle3[],13,0))","v":"-"},null,null,null,"POIDS",null,"Kg","E-Mail",{"$f":"IF(ISBLANK(VLOOKUP(12,Tabelle3[],9,0)),\"-\",VLOOKUP(12,Tabelle3[],9,0))","v":"-"},null,null,null,null,null,null,null,null,null,null,null,null,null,null,null,null,"Date 4",null,null,"cm",null,"Kg",null,"MANGELHAFT",2]
[null,null,null,null,null,null,null,null,null,null,null,null,null,null,null,null,null,null,null,null,null,null,null,null,null,null,null,"Date 5",null,null,"cm",null,"Kg",null,"UNGENÜGEND",1]
["Vision",null,"xxx"]
["Next step",null,"xxx"]
["Profil du Joueur",null,"xxx"]
[]
["EVALUATION (COACH / JOUEUR)",null,null,null,null,null,null,null,null,null,null,null,null,null,null,null,null,null,null,null,null,null,null,null,null,"SMART"]
[{"$f":"'Skills explications FTEM'!A3:A3","v":"TEAM"},null,null,{"$f":"'Skills explications FTEM'!B3","v":"COMPÉTENCES"},null,null,{"$f":"'Skills explications FTEM'!C3","v":"OBSERVATION"},null,null,{"$f":"'Skills explications FTEM'!H3","v":0},null,null,"Final","Date1",null,"Date2",null,"Date3",null,"Date4",null,"Date5",null,"Player",null,"BUT","MESURES:\nSPECIFIQUE, MESURABLES, REALISTE",null,null,null,null,null,null,"DELAI","CONTRÔLE DU BUT","Date"]
[{"$f":"'Skills explications FTEM'!A4:A4","v":"ÉQUIPE"},null,null,{"$f":"IF($H$2=\"G\",'Skills explications FTEM'!F4,'Skills explications FTEM'!B4)","v":"Communication"},null,null,{"$f":"IF($H$2=\"G\",'Skills explications FTEM'!G4,'Skills explications FTEM'!C4)","v":"Respect et ouverture dans ses relations, confiance comme base, traite les conflits sans perturber la stabilité du groupe, communique avec ses coéquipiers, les entraîneurs et les fonctionnaires avec les mêmes valeurs"},null,null,{"$f":"IF($H$2=\"G\",'Skills explications FTEM'!#REF!,'Skills explications FTEM'!#REF!)","v":{"$error":"#REF!"}},null,null,null,{"$f":"IFERROR(AVERAGE(O13:O17),\"-\")","v":"-"},null,{"$f":"IFERROR(AVERAGE(Q13:Q17),\"-\")","v":"-"},null,{"$f":"IFERROR(AVERAGE(S13:S17),\"-\")","v":"-"},null,{"$f":"IFERROR(AVERAGE(U13:U17),\"-\")","v":"-"},null,{"$f":"IFERROR(AVERAGE(W13:W17),\"-\")","v":"-"},null,{"$f":"IFERROR(AVERAGE(Y13:Y17),\"-\")","v":"-"}]
[null,null,null,{"$f":"IF($H$2=\"G\",'Skills explications FTEM'!F5,'Skills explications FTEM'!B5)","v":"Capacité de jouer en équipe"},null,null,{"$f":"IF($H$2=\"G\",'Skills explications FTEM'!G5,'Skills explications FTEM'!C5)","v":"Intégration dans le groupe, définit et réalise des objectifs communs, NOUS avant le MOI, participe au bon esprit d'équipe et à un bon climat de travail"},null,null,{"$f":"IF($H$2=\"G\",'Skills explications FTEM'!#REF!,'Skills explications FTEM'!#REF!)","v":{"$error":"#REF!"}}]
[null,null,null,{"$f":"IF($H$2=\"G\",'Skills explications FTEM'!F6,'Skills explications FTEM'!B6)","v":"Leadership"},null,null,{"$f":"IF($H$2=\"G\",'Skills explications FTEM'!G6,'Skills explications FTEM'!C6)","v":"Prend des responsabilités dans le groupe, essaie de donner de la valeur à ses coéquipiers et au groupe, influence positivement la dynamique de groupe"},null,null,{"$f":"IF($H$2=\"G\",'Skills explications FTEM'!#REF!,'Skills explications FTEM'!#REF!)","v":{"$error":"#REF!"}}]
[null,null,null,{"$f":"IF($H$2=\"G\",'Skills explications FTEM'!F7,'Skills explications FTEM'!B7)","v":"Répartition des rôles"},null,null,{"$f":"IF($H$2=\"G\",'Skills explications FTEM'!G7,'Skills explications FTEM'!C7)","v":"Connaît son rôle et le réalise, est conscient de sa position dans l'équipe et le système, met ses compétences à disposition de l'équipe"},null,null,{"$f":"IF($H$2=\"G\",'Skills explications FTEM'!#REF!,'Skills explications FTEM'!#REF!)","v":{"$error":"#REF!"}}]
[{"$f":"'Skills explications FTEM'!A8:A8","v":0},null,null,{"$f":"IF($H$2=\"G\",'Skills explications FTEM'!F8,'Skills explications FTEM'!B8)","v":"Respect"},null,null,{"$f":"IF($H$2=\"G\",'Skills explications FTEM'!G8,'Skills explications FTEM'!C8)","v":"Relations respectueuses avec les coéquipiers, les entraîneurs, les adversaires, les arbitres et le staff; respect des règles, des principes du fairplay (y compris antidopage)"},null,null,{"$f":"IF($H$2=\"G\",'Skills explications FTEM'!#REF!,'Skills explications FTEM'!#REF!)","v":{"$error":"#REF!"}}]
[{"$f":"'Skills explications FTEM'!A9:A9","v":"ON ICE"},null,null,{"$f":"'Skills explications FTEM'!B9","v":"COMPÉTENCES"},null,null,{"$f":"'Skills explications FTEM'!C9","v":"OBSERVATION"},null,null,{"$f":"'Skills explications FTEM'!H9","v":0},null,null,null,"Date1",null,"Date2",null,"Date3",null,"Date4",null,"Date5",null,"Player",null,"BUT","MESURES:\nSPECIFIQUE, MESURABLES, REALISTE",null,null,null,null,null,null,"DELAI","CONTRÔLE DU BUT","Date"]
[{"$f":"'Skills explications FTEM'!A10:A10","v":"PATINAGE"},null,null,{"$f":"IF($H$2=\"G\",'Skills explications FTEM'!F10,'Skills explications FTEM'!B10)","v":"Vitesse de patinage"},null,null,{"$f":"IF($H$2=\"G\",'Skills explications FTEM'!G10,'Skills explications FTEM'!C10)","v":"Accélération, départ, explosivité des 3 premiers pas, fréquence"},null,null,{"$f":"IF($H$2=\"G\",'Skills explications FTEM'!#REF!,'Skills explications FTEM'!#REF!)","v":{"$error":"#REF!"}},null,null,null,{"$f":"IFERROR(AVERAGE(O19:O23),\"-\")","v":"-"},null,{"$f":"IFERROR(AVERAGE(Q19:Q23),\"-\")","v":"-"},null,{"$f":"IFERROR(AVERAGE(S19:S23),\"-\")","v":"-"},null,{"$f":"IFERROR(AVERAGE(U19:U23),\"-\")","v":"-"},null,{"$f":"IFERROR(AVERAGE(W19:W23),\"-\")","v":"-"},null,{"$f":"IFERROR(AVERAGE(Y19:Y23),\"-\")","v":"-"}]
[{"$f":"'Skills explications FTEM'!A11:A11","v":0},null,null,{"$f":"IF($H$2=\"G\",'Skills explications FTEM'!F11,'Skills explications FTEM'!B11)","v":"Vitesse, rapidité"},null,null,{"$f":"IF($H$2=\"G\",'Skills explications FTEM'!G11,'Skills explications FTEM'!C11)","v":"Vitesse, faculté de glisse, avant et arrière, économie des forces"},null,null,{"$f":"IF($H$2=\"G\",'Skills explications FTEM'!#REF!,'Skills explications FTEM'!#REF!)","v":{"$error":"#REF!"}}]
[{"$f":"'Skills explications FTEM'!A12:A12","v":0},null,null,{"$f":"IF($H$2=\"G\",'Skills explications FTEM'!F12,'Skills explications FTEM'!B12)","v":"Agilité"},null,null,{"$f":"IF($H$2=\"G\",'Skills explications FTEM'!G12,'Skills explications FTEM'!C12)","v":"Changements de direction, pivots, stop et start «Nummelin»"},null,null,{"$f":"IF($H$2=\"G\",'Skills explications FTEM'!#REF!,'Skills explications FTEM'!#REF!)","v":{"$error":"#REF!"}},null,null,null,{"$f":"IFERROR(AVERAGE(O21:O23),\"-\")","v":"-"},null,{"$f":"IFERROR(AVERAGE(Q21:Q23),\"-\")","v":"-"},null,{"$f":"IFERROR(AVERAGE(S21:S23),\"-\")","v":"-"},null,{"$f":"IFERROR(AVERAGE(U21:U23),\"-\")","v":"-"},null,{"$f":"IFERROR(AVERAGE(W21:W23),\"-\")","v":"-"},null,"-"]
[null,null,null,{"$f":"IF($H$2=\"G\",'Skills explications FTEM'!F13,'Skills explications FTEM'!B13)","v":"Balance"},null,null,{"$f":"IF($H$2=\"G\",'Skills explications FTEM'!G13,'Skills explications FTEM'!C13)","v":"Equilibre, faculté d'être sur ses appuis, position basse, 1 ou 2 jambes"},null,null,{"$f":"IF($H$2=\"G\",'Skills explications FTEM'!#REF!,'Skills explications FTEM'!#REF!)","v":{"$error":"#REF!"}}]
[{"$f":"'Skills explications FTEM'!#REF!","v":{"$error":"#REF!"}},null,null,{"$f":"IF($H$2=\"G\",'Skills explications FTEM'!F14,'Skills explications FTEM'!B14)","v":"Patinage arrière"},null,null,{"$f":"IF($H$2=\"G\",'Skills explications FTEM'!G14,'Skills explications FTEM'!C14)","v":"Accélération, vitesse, équilibre "},null,null,{"$f":"IF($H$2=\"G\",'Skills explications FTEM'!#REF!,'Skills explications FTEM'!#REF!)","v":{"$error":"#REF!"}}]
[{"$f":"'Skills explications FTEM'!A15:A15","v":"SKILLS"},null,null,{"$f":"IF($H$2=\"G\",'Skills explications FTEM'!F15,'Skills explications FTEM'!B15)","v":"Tirer"},null,null,{"$f":"IF($H$2=\"G\",'Skills explications FTEM'!G15,'Skills explications FTEM'!C15)","v":"Efficience (pas d'espace et de temps), variantes, degré de surprise (déclenchement rapide), précision, puissance (conclusion tactique)"},null,null,{"$f":"IF($H$2=\"G\",'Skills explications FTEM'!#REF!,'Skills explications FTEM'!#REF!)","v":{"$error":"#REF!"}},null,null,null,{"$f":"IFERROR(AVERAGE(O24:O29),\"-\")","v":"-"},null,{"$f":"IFERROR(AVERAGE(Q24:Q29),\"-\")","v":"-"},null,{"$f":"IFERROR(AVERAGE(S24:S29),\"-\")","v":"-"},null,{"$f":"IFERROR(AVERAGE(U24:U29),\"-\")","v":"-"},null,{"$f":"IFERROR(AVERAGE(W24:W29),\"-\")","v":"-"},null,{"$f":"IFERROR(AVERAGE(Y24:Y29),\"-\")","v":"-"}]
[{"$f":"'Skills explications FTEM'!A16:A16","v":0},null,null,{"$f":"IF($H$2=\"G\",'Skills explications FTEM'!F16,'Skills explications FTEM'!B16)","v":"Passer"},null,null,{"$f":"IF($H$2=\"G\",'Skills explications FTEM'!G16,'Skills explications FTEM'!C16)","v":"Donne la passe (distance, passe flipée en revers), réception de la passe (précision, timing, coup droit, revers, patins), vitesse du puck"},null,null,{"$f":"IF($H$2=\"G\",'Skills explications FTEM'!#REF!,'Skills explications FTEM'!#REF!)","v":{"$error":"#REF!"}}]
[{"$f":"'Skills explications FTEM'!A17:A17","v":0},null,null,{"$f":"IF($H$2=\"G\",'Skills explications FTEM'!F17,'Skills explications FTEM'!B17)","v":"Travail de canne, conduite du puck"},null,null,{"$f":"IF($H$2=\"G\",'Skills explications FTEM'!G17,'Skills explications FTEM'!C17)","v":"Puck sur la palette, intercepte les lignes de passe, déviation, contrôle de la canne de l'adversaire"},null,null,{"$f":"IF($H$2=\"G\",'Skills explications FTEM'!#REF!,'Skills explications FTEM'!#REF!)","v":{"$error":"#REF!"}}]
[null,null,null,{"$f":"IF($H$2=\"G\",'Skills explications FTEM'!F18,'Skills explications FTEM'!B18)","v":"Protéger le puck"},null,null,{"$f":"IF($H$2=\"G\",'Skills explications FTEM'!G18,'Skills explications FTEM'!C18)","v":"Contrôle du puck, dribbling, protection du puck, feintes (variantes: avec les patins ou avec et sans la bande), mise au jeu (bully)"},null,null,{"$f":"IF($H$2=\"G\",'Skills explications FTEM'!#REF!,'Skills explications FTEM'!#REF!)","v":{"$error":"#REF!"}}]
[null,null,null,{"$f":"IF($H$2=\"G\",'Skills explications FTEM'!F19,'Skills explications FTEM'!B19)","v":"Jeu du corps (charges)"},null,null,{"$f":"IF($H$2=\"G\",'Skills explications FTEM'!G19,'Skills explications FTEM'!C19)","v":"Faculté de s'imposer physiquement, duels (sur la surface de glace ou à la bande), prendre des checks, lever la tête, niveau de lutte, dur mais correct, bloquer les tirs avec le corps"},null,null,{"$f":"IF($H$2=\"G\",'Skills explications FTEM'!#REF!,'Skills explications FTEM'!#REF!)","v":{"$error":"#REF!"}}]
[{"$f":"'Skills explications FTEM'!A20:A20","v":0},null,null,{"$f":"IF($H$2=\"G\",'Skills explications FTEM'!F20,'Skills explications FTEM'!B20)","v":"-"},null,null,{"$f":"IF($H$2=\"G\",'Skills explications FTEM'!G20,'Skills explications FTEM'!C20)","v":"-"},null,null,{"$f":"IF($H$2=\"G\",'Skills explications FTEM'!#REF!,'Skills explications FTEM'!#REF!)","v":{"$error":"#REF!"}}]
[{"$f":"'Skills explications FTEM'!A21:A21","v":"HOCKEY SENSE"},null,null,{"$f":"IF($H$2=\"G\",'Skills explications FTEM'!F21,'Skills explications FTEM'!B21)","v":"Intelligence de jeu"},null,null,{"$f":"IF($H$2=\"G\",'Skills explications FTEM'!G21,'Skills explications FTEM'!C21)","v":"Voit les zones libres avec joueurs et crée des situations de surnombre, trouve des solutions et agit en toute situation, vitesse de la visualisation"},null,null,{"$f":"IF($H$2=\"G\",'Skills explications FTEM'!#REF!,'Skills explications FTEM'!#REF!)","v":{"$error":"#REF!"}},null,null,null,{"$f":"IFERROR(AVERAGE(O30:O34),\"-\")","v":"-"},null,{"$f":"IFERROR(AVERAGE(Q30:Q34),\"-\")","v":"-"},null,{"$f":"IFERROR(AVERAGE(S30:S34),\"-\")","v":"-"},null,{"$f":"IFERROR(AVERAGE(U30:U34),\"-\")","v":"-"},null,{"$f":"IFERROR(AVERAGE(W30:W34),\"-\")","v":"-"},null,{"$f":"IFERROR(AVERAGE(Y30:Y34),\"-\")","v":"-"}]
[{"$f":"'Skills explications FTEM'!A22:A22","v":0},null,null,{"$f":"IF($H$2=\"G\",'Skills explications FTEM'!F22,'Skills explications FTEM'!B22)","v":"Sensibilisation offensive"},null,null,{"$f":"IF($H$2=\"G\",'Skills explications FTEM'!G22,'Skills explications FTEM'!C22)","v":"Se démarque, anticipation des situations de jeu, ouvre des zones libres pour ses coéquipiers, se place pour marquer, vitesse de mise sous pression, communication"},null,null,{"$f":"IF($H$2=\"G\",'Skills explications FTEM'!#REF!,'Skills explications FTEM'!#REF!)","v":{"$error":"#REF!"}}]
[null,null,null,{"$f":"IF($H$2=\"G\",'Skills explications FTEM'!F23,'Skills explications FTEM'!B23)","v":"Sensibilisation défensive"},null,null,{"$f":"IF($H$2=\"G\",'Skills explications FTEM'!G23,'Skills explications FTEM'!C23)","v":"Garde la position «inside», protège le slot, rassure les coéquipiers, support, anticipe les lignes de passe, bloque les tirs. Réduit rapidement la distance sur l'adversaire, communication"},null,null,{"$f":"IF($H$2=\"G\",'Skills explications FTEM'!#REF!,'Skills explications FTEM'!#REF!)","v":{"$error":"#REF!"}}]
[{"$f":"'Skills explications FTEM'!A23:A23","v":0},null,null,{"$f":"IF($H$2=\"G\",'Skills explications FTEM'!F24,'Skills explications FTEM'!B24)","v":"Gestion du puck"},null,null,{"$f":"IF($H$2=\"G\",'Skills explications FTEM'!G24,'Skills explications FTEM'!C24)","v":"Fait le bon choix en fonction de la situation, support, surnombre"},null,null,{"$f":"IF($H$2=\"G\",'Skills explications FTEM'!#REF!,'Skills explications FTEM'!#REF!)","v":{"$error":"#REF!"}}]
[{"$f":"'Skills explications FTEM'!A25:A25","v":0},null,null,{"$f":"IF($H$2=\"G\",'Skills explications FTEM'!F25,'Skills explications FTEM'!B25)","v":"Créativité"},null,null,{"$f":"IF($H$2=\"G\",'Skills explications FTEM'!G25,'Skills explications FTEM'!C25)","v":"Prises de décision surprenantes, sens du but"},null,null,{"$f":"IF($H$2=\"G\",'Skills explications FTEM'!#REF!,'Skills explications FTEM'!#REF!)","v":{"$error":"#REF!"}}]
[{"$f":"'Skills explications FTEM'!A26:A26","v":"PERSONALITY"},null,null,{"$f":"'Skills explications FTEM'!B26","v":"COMPÉTENCES"},null,null,{"$f":"'Skills explications FTEM'!C26","v":"OBSERVATION"},null,null,{"$f":"'Skills explications FTEM'!H26","v":0},null,null,null,"Date1",null,"Date2",null,"Date3",null,"Date4",null,"Date5",null,"Player",null,"BUT","MESURES:\nSPECIFIQUE, MESURABLES, REALISTE",null,null,null,null,null,null,"DELAI","CONTRÔLE DU BUT","Date"]
[{"$f":"'Skills explications FTEM'!A27:A27","v":"PERSONNALITÉ"},null,null,{"$f":"IF($H$2=\"G\",'Skills explications FTEM'!F27,'Skills explications FTEM'!B27)","v":"Confiance en soi"},null,null,{"$f":"IF($H$2=\"G\",'Skills explications FTEM'!G27,'Skills explications FTEM'!C27)","v":"Est en confiance,«I can do it», peut estimer ses capacités (connaît ses qualités et ses défauts), peut réaliser ses qualités avec constance, est courageux et prend des risques calculés"},null,null,{"$f":"IF($H$2=\"G\",'Skills explications FTEM'!#REF!,'Skills explications FTEM'!#REF!)","v":{"$error":"#REF!"}},null,null,null,{"$f":"IFERROR(AVERAGE(O36:O40),\"-\")","v":"-"},null,null,null,{"$f":"IFERROR(AVERAGE(S36:S40),\"-\")","v":"-"},null,{"$f":"IFERROR(AVERAGE(U36:U40),\"-\")","v":"-"},null,{"$f":"IFERROR(AVERAGE(W36:W40),\"-\")","v":"-"},null,{"$f":"IFERROR(AVERAGE(Y36:Y40),\"-\")","v":"-"}]
[{"$f":"'Skills explications FTEM'!A28:A28","v":0},null,null,{"$f":"IF($H$2=\"G\",'Skills explications FTEM'!F28,'Skills explications FTEM'!B28)","v":"Facultés d'apprentissage"},null,null,{"$f":"IF($H$2=\"G\",'Skills explications FTEM'!G28,'Skills explications FTEM'!C28)","v":"A une bonne perception (il peut mémoriser et peut réaliser), il a de la personnalité, essaie d'apprendre de ses erreurs et est entreprenant"},null,null,{"$f":"IF($H$2=\"G\",'Skills explications FTEM'!#REF!,'Skills explications FTEM'!#REF!)","v":{"$error":"#REF!"}}]
[{"$f":"'Skills explications FTEM'!A29:A29","v":0},null,null,{"$f":"IF($H$2=\"G\",'Skills explications FTEM'!F29,'Skills explications FTEM'!B29)","v":"Prise de responsabilités"},null,null,{"$f":"IF($H$2=\"G\",'Skills explications FTEM'!G29,'Skills explications FTEM'!C29)","v":"Prend la responsabilité de ses performances et de son développement, est-il autonome, soigne-t-il les détails, a beaucoup d'engagement dans tous les domaines"},null,null,{"$f":"IF($H$2=\"G\",'Skills explications FTEM'!#REF!,'Skills explications FTEM'!#REF!)","v":{"$error":"#REF!"}}]
[null,null,null,{"$f":"IF($H$2=\"G\",'Skills explications FTEM'!F30,'Skills explications FTEM'!B30)","v":"Motivation"},null,null,{"$f":"IF($H$2=\"G\",'Skills explications FTEM'!G30,'Skills explications FTEM'!C30)","v":"Est toujours motivé, veut sans cesse se développer et apprendre, veut être le premier et avoir du succès, n'abandonne jamais et ne se laisse pas influencer par les échesc"},null,null,{"$f":"IF($H$2=\"G\",'Skills explications FTEM'!#REF!,'Skills explications FTEM'!#REF!)","v":{"$error":"#REF!"}}]
[{"$f":"'Skills explications FTEM'!A31:A31","v":0},null,null,{"$f":"IF($H$2=\"G\",'Skills explications FTEM'!F31,'Skills explications FTEM'!B31)","v":"Performance style de vie"},null,null,{"$f":"IF($H$2=\"G\",'Skills explications FTEM'!G31,'Skills explications FTEM'!C31)","v":"Gère bien son environnement et son temps libre selon les principes de la performance, obstiné, tenace et axé sur l'objectif, accent sur sa propre performance, est courageux et peut s'imposer contre la résistance, les défis le motivent"},null,null,{"$f":"IF($H$2=\"G\",'Skills explications FTEM'!#REF!,'Skills explications FTEM'!#REF!)","v":{"$error":"#REF!"}}]
[{"$f":"'Skills explications FTEM'!A32:A32","v":"FORCE MENTALE"},null,null,{"$f":"IF($H$2=\"G\",'Skills explications FTEM'!F32,'Skills explications FTEM'!B32)","v":"Engagement"},null,null,{"$f":"IF($H$2=\"G\",'Skills explications FTEM'!G32,'Skills explications FTEM'!C32)","v":"Démontre beaucoup d'intensité dans les entraînements et les matchs, donne toujours son maximum et veut sans cesse repousser ses limites, a-t-il de la passion, s'efforce-t-il de s'entraîner avec une excellente qualité"},null,null,{"$f":"IF($H$2=\"G\",'Skills explications FTEM'!#REF!,'Skills explications FTEM'!#REF!)","v":{"$error":"#REF!"}},null,null,null,{"$f":"IFERROR(AVERAGE(O41:O45),\"-\")","v":"-"},null,null,null,{"$f":"IFERROR(AVERAGE(S41:S45),\"-\")","v":"-"},null,{"$f":"IFERROR(AVERAGE(U41:U45),\"-\")","v":"-"},null,{"$f":"IFERROR(AVERAGE(W41:W45),\"-\")","v":"-"},null,{"$f":"IFERROR(AVERAGE(Y41:Y45),\"-\")","v":"-"}]
[{"$f":"'Skills explications FTEM'!A33:A33","v":0},null,null,{"$f":"IF($H$2=\"G\",'Skills explications FTEM'!F33,'Skills explications FTEM'!B33)","v":"Préparation"},null,null,{"$f":"IF($H$2=\"G\",'Skills explications FTEM'!G33,'Skills explications FTEM'!C33)","v":"Se prépare-t-il toujours bien, mentalement et physiquement, se prépare-t-il toujours bien pour obtenir le niveau de performance idéal (ILZ)"},null,null,{"$f":"IF($H$2=\"G\",'Skills explications FTEM'!#REF!,'Skills explications FTEM'!#REF!)","v":{"$error":"#REF!"}}]
[null,null,null,{"$f":"IF($H$2=\"G\",'Skills explications FTEM'!F34,'Skills explications FTEM'!B34)","v":"Coaching personnel"},null,null,{"$f":"IF($H$2=\"G\",'Skills explications FTEM'!G34,'Skills explications FTEM'!C34)","v":"A-t-il de bonnes facultés de concentration, peut-il maintenir son niveau de performance idéal (ILZ) dans les entraînements et les matchs, peut-il appliquer ses techniques de base, est-il résistant aux influences et pensées négatives, est-il conscient de son attitude corporelle et peut-il l'influencer"},null,null,{"$f":"IF($H$2=\"G\",'Skills explications FTEM'!#REF!,'Skills explications FTEM'!#REF!)","v":{"$error":"#REF!"}}]
[{"$f":"'Skills explications FTEM'!A34:A34","v":0},null,null,{"$f":"IF($H$2=\"G\",'Skills explications FTEM'!F35,'Skills explications FTEM'!B35)","v":"Gestion des énergies"},null,null,{"$f":"IF($H$2=\"G\",'Skills explications FTEM'!G35,'Skills explications FTEM'!C35)","v":"Peut-il gérer ses propres énergies, prend-il soin de sa récupération, peut-il gérer les moments où il faut se donner à fond ou quand il faut déconnecter, bouton On/Off"},null,null,{"$f":"IF($H$2=\"G\",'Skills explications FTEM'!#REF!,'Skills explications FTEM'!#REF!)","v":{"$error":"#REF!"}}]
[{"$f":"'Skills explications FTEM'!A36:A36","v":0},null,null,{"$f":"IF($H$2=\"G\",'Skills explications FTEM'!F36,'Skills explications FTEM'!B36)","v":"Contrôle des émotions"},null,null,{"$f":"IF($H$2=\"G\",'Skills explications FTEM'!G36,'Skills explications FTEM'!C36)","v":"Peut-il gérer ses propres émotions et impulsions, reste-t-il sous contrôle lorsqu'il y a une grande pression, peut-il rester calme lorsque le niveau émotionnel et de frustration est élevé"},null,null,{"$f":"IF($H$2=\"G\",'Skills explications FTEM'!#REF!,'Skills explications FTEM'!#REF!)","v":{"$error":"#REF!"}}]
[{"$f":"'Skills explications FTEM'!A37:A37","v":"PHYSIQUE"},null,null,{"$f":"IF($H$2=\"G\",'Skills explications FTEM'!F37,'Skills explications FTEM'!B37)","v":"Production de la performance"},null,null,{"$f":"IF($H$2=\"G\",'Skills explications FTEM'!G37,'Skills explications FTEM'!C37)","v":"A-t-il la puissance, la force, la vitesse nécessaires dans les jambes et le haut du corps (facteurs neuromusculaires)"},null,null,{"$f":"IF($H$2=\"G\",'Skills explications FTEM'!#REF!,'Skills explications FTEM'!#REF!)","v":{"$error":"#REF!"}},null,null,null,{"$f":"IFERROR(AVERAGE(O46:O50),\"-\")","v":"-"},null,null,null,{"$f":"IFERROR(AVERAGE(S46:S50),\"-\")","v":"-"},null,{"$f":"IFERROR(AVERAGE(U46:U50),\"-\")","v":"-"},null,{"$f":"IFERROR(AVERAGE(W46:W50),\"-\")","v":"-"},null,{"$f":"IFERROR(AVERAGE(Y46:Y50),\"-\")","v":"-"}]
[{"$f":"'Skills explications FTEM'!A38:A38","v":0},null,null,{"$f":"IF($H$2=\"G\",'Skills explications FTEM'!F38,'Skills explications FTEM'!B38)","v":"Spécifique au sport, résistant à l'effort"},null,null,{"$f":"IF($H$2=\"G\",'Skills explications FTEM'!G38,'Skills explications FTEM'!C38)","v":"Est-il capable de maintenir sa puissance, sa force, sa vitesse durant un long temps de glace et peut-il récupérer complètement entre ses engagements (facteurs du métabolisme et cardiovasculaire)"},null,null,{"$f":"IF($H$2=\"G\",'Skills explications FTEM'!#REF!,'Skills explications FTEM'!#REF!)","v":{"$error":"#REF!"}}]
[null,null,null,{"$f":"IF($H$2=\"G\",'Skills explications FTEM'!F39,'Skills explications FTEM'!B39)","v":"Santé / Prévention"},null,null,{"$f":"IF($H$2=\"G\",'Skills explications FTEM'!G39,'Skills explications FTEM'!C39)","v":"A-t-il la stabilité nécessaire (p. ex. ses appuis) et la mobilité nécessaire au niveau des articulations centrales"},null,null,{"$f":"IF($H$2=\"G\",'Skills explications FTEM'!#REF!,'Skills explications FTEM'!#REF!)","v":{"$error":"#REF!"}}]
[{"$f":"'Skills explications FTEM'!A39:A39","v":0},null,null,{"$f":"IF($H$2=\"G\",'Skills explications FTEM'!F40,'Skills explications FTEM'!B40)","v":"Mobilité / Coordination"},null,null,{"$f":"IF($H$2=\"G\",'Skills explications FTEM'!G40,'Skills explications FTEM'!C40)","v":"Gère-t-il ses aptitudes de mouvements de base, qui sont un fournisseur important des fonctions spécifiques «Skills» pour être efficace"},null,null,{"$f":"IF($H$2=\"G\",'Skills explications FTEM'!#REF!,'Skills explications FTEM'!#REF!)","v":{"$error":"#REF!"}}]
[{"$f":"'Skills explications FTEM'!A41:A41","v":0},null,null,{"$f":"IF($H$2=\"G\",'Skills explications FTEM'!F41,'Skills explications FTEM'!B41)","v":"Robustesse"},null,null,{"$f":"IF($H$2=\"G\",'Skills explications FTEM'!G41,'Skills explications FTEM'!C41)","v":"A-t-il la force de base nécessaire (tension corporelle) pour gagner des duels et résister aux charges"},null,null,{"$f":"IF($H$2=\"G\",'Skills explications FTEM'!#REF!,'Skills explications FTEM'!#REF!)","v":{"$error":"#REF!"}}]

{"sheet":"13","index":16,"n_rows":50,"n_cols":36,"rows_kept":50,"cut":false,"hidden":false,"merged":[[45,25,49,25],[45,26,49,32],[45,34,49,34],[40,23,44,23],[42,3,42,5],[42,6,42,11],[44,3,44,5],[44,6,44,11],[40,0,44,2],[40,3,40,5],[40,6,40,11],[40,12,44,12],[40,13,44,13],[40,15,44,15],[45,0,49,2],[45,3,45,5],[45,6,45,11],[45,12,49,12],[45,23,49,23],[47,3,47,5],[47,6,47,11],[48,3,48,5],[48,6,48,11],[49,3,49,5],[34,21,34,22],[35,17,39,17],[35,19,39,19],[35,21,39,21],[36,3,36,5],[36,6,36,11],[38,3,38,5],[38,6,38,11],[40,17,44,17],[40,19,44,19],[40,21,44,21],[43,3,43,5],[43,6,43,11],[37,3,37,5],[37,6,37,11],[41,3,41,5],[41,6,41,11],[29,0,33,2],[29,3,29,5],[29,6,29,11],[29,12,33,12],[29,13,33,13],[29,15,33,15],[34,23,34,24],[34,26,34,32],[35,0,39,2],[35,3,35,5],[35,6,35,11],[35,12,39,12],[35,13,39,13],[35,15,39,15],[39,3,39,5],[39,6,39,11],[35,23,39,23],[34,0,34,2],[34,3,34,5],[34,6,34,11],[34,13,34,14],[34,15,34,16],[34,17,34,18],[34,19,34,20],[23,21,28,21],[23,23,28,23],[24,3,24,5],[24,6,24,11],[28,3,28,5],[28,6,28,11],[33,3,33,5],[33,6,33,11],[29,23,33,23],[29,17,33,17],[29,19,33,19],[29,21,33,21],[30,3,30,5],[30,6,30,11],[31,3,31,5],[31,6,31,11],[25,3,25,5],[25,6,25,11],[32,3,32,5],[32,6,32,11],[18,15,22,15],[18,17,22,17],[18,19,22,19],[18,21,22,21],[18,23,22,23],[22,3,22,5],[22,6,22,11],[23,0,28,2],[23,3,23,5],[23,6,23,11],[23,12,28,12],[23,13,28,13],[23,15,28,15],[23,17,28,17],[18,0,22,2],[18,3,18,5],[18,6,18,11],[18,12,22,12],[18,13,22,13],[19,3,19,5],[19,6,19,11],[20,3,20,5],[20,6,20,11],[23,19,28,19],[12,23,16,23],[16,3,16,5],[16,6,16,11],[17,0,17,2],[17,3,17,5],[17,6,17,11],[17,13,17,14],[17,15,17,16],[17,17,17,18],[17,19,17,20],[17,21,17,22],[17,23,17,24],[12,0,16,2],[12,3,12,5],[12,6,12,11],[12,12,16,12],[12,13,16,13],[12,15,16,15],[12,17,16,17],[12,19,16,19],[12,21,16,21],[13,3,13,5],[13,6,13,11],[14,3,14,5],[11,0,11,2],[11,3,11,5],[11,13,11,14],[11,15,11,16],[11,17,11,18],[11,19,11,20],[11,21,11,22],[11,23,11,24],[11,26,11,32],[11,6,11,11],[0,33,0,35],[29,25,33,25],[29,26,33,32],[29,34,33,34],[35,25,39,25],[35,26,39,32],[35,34,39,34],[1,0,1,1],[1,2,1,5],[1,10,1,24],[2,0,2,1],[2,2,2,5],[2,11,2,24],[6,0,6,1],[6,2,6,35],[7,0,7,1],[7,2,7,35],[8,0,8,1],[8,2,8,35],[3,0,3,1],[3,10,3,24],[4,0,4,1],[4,2,4,5],[4,10,4,24],[49,6,49,11],[45,13,49,13],[45,15,49,15],[45,17,49,17],[45,19,49,19],[45,21,49,21],[0,0,0,24],[0,25,0,26],[0,27,0,32],[10,0,10,24],[10,25,10,35],[40,25,44,25],[40,26,44,32],[40,34,44,34],[12,25,16,25],[12,26,16,32],[12,34,16,34],[18,25,22,25],[18,26,22,32],[18,34,22,34],[23,25,28,25],[23,26,28,32],[23,34,28,34],[17,26,17,32],[46,3,46,5],[46,6,46,11],[14,6,14,11],[15,3,15,5],[15,6,15,11],[21,3,21,5],[21,6,21,11],[26,3,26,5],[26,6,26,11],[27,3,27,5],[27,6,27,11]]}
["Infos personelles",null,null,null,null,null,null,null,null,null,null,null,null,null,null,null,null,null,null,null,null,null,null,null,null,"Predispositions",null,"Evaluations",null,null,null,null,null,"Rating"]
["PRENOM",null,{"$f":"IF(ISBLANK(VLOOKUP(13,Tabelle3[],3,0)),\"-\",VLOOKUP(13,Tabelle3[],3,0))","v":"-"},null,null,null,"POSITION",null,null,"ADRESSE",{"$f":"IF(ISBLANK(VLOOKUP(13,Tabelle3[],5,0)),\"-\",VLOOKUP(13,Tabelle3[],5,0))","v":"-"},null,null,null,null,null,null,null,null,null,null,null,null,null,null,"\"àage\" (Biologique/age relatif)",null,"Date 1",null,null,"cm",null,"Kg",null,"AUSGEZEICHNET",5]
["NOM",null,{"$f":"IF(ISBLANK(VLOOKUP(13,Tabelle3[],2,0)),\"-\",VLOOKUP(13,Tabelle3[],2,0))","v":"-"},null,null,null,"CANNE",null,null,"LIEU",{"$f":"IF(ISBLANK(VLOOKUP(13,Tabelle3[],7,0)),\"-\",VLOOKUP(13,Tabelle3[],7,0))","v":"-"},{"$f":"IF(ISBLANK(VLOOKUP(13,Tabelle3[],6,0)),\"-\",VLOOKUP(13,Tabelle3[],6,0))","v":"-"},null,null,null,null,null,null,null,null,null,null,null,null,null,"predispositions",null,"Date 2",null,null,"cm",null,"Kg",null,"GUT",4]
["DATE NAISS.",null,{"$f":"IF(ISBLANK(VLOOKUP(13,Tabelle3[],14,0)),\"-\",VLOOKUP(13,Tabelle3[],14,0))","v":"-"},{"$f":"IF(ISBLANK(VLOOKUP(13,Tabelle3[],15,0)),\"-\",VLOOKUP(13,Tabelle3[],15,0))","v":"-"},{"$f":"IF(ISBLANK(VLOOKUP(13,Tabelle3[],16,0)),\"-\",VLOOKUP(13,Tabelle3[],16,0))","v":"-"},null,"GRANDEUR",null,"cm","PHONE",{"$f":"IF(ISBLANK(VLOOKUP(13,Tabelle3[],8,0)),\"-\",VLOOKUP(13,Tabelle3[],8,0))","v":"-"},null,null,null,null,null,null,null,null,null,null,null,null,null,null,"Entourage",null,"Date 3",null,null,"cm",null,"Kg",null,"DURCHSCHNITT",3]
["SEXE",null,{"$f":"IF(ISBLANK(VLOOKUP(13,Tabelle3[],13,0)),\"-\",VLOOKUP(13,Tabelle3[],13,0))","v":"-"},null,null,null,"POIDS",null,"Kg","E-Mail",{"$f":"IF(ISBLANK(VLOOKUP(13,Tabelle3[],9,0)),\"-\",VLOOKUP(13,Tabelle3[],9,0))","v":"-"},null,null,null,null,null,null,null,null,null,null,null,null,null,null,null,null,"Date 4",null,null,"cm",null,"Kg",null,"MANGELHAFT",2]
[null,null,null,null,null,null,null,null,null,null,null,null,null,null,null,null,null,null,null,null,null,null,null,null,null,null,null,"Date 5",null,null,"cm",null,"Kg",null,"UNGENÜGEND",1]
["Vision",null,"xxx"]
["Next step",null,"xxx"]
["Profil du Joueur",null,"xxx"]
[]
["EVALUATION (COACH / JOUEUR)",null,null,null,null,null,null,null,null,null,null,null,null,null,null,null,null,null,null,null,null,null,null,null,null,"SMART"]
[{"$f":"'Skills explications FTEM'!A3:A3","v":"TEAM"},null,null,{"$f":"'Skills explications FTEM'!B3","v":"COMPÉTENCES"},null,null,{"$f":"'Skills explications FTEM'!C3","v":"OBSERVATION"},null,null,{"$f":"'Skills explications FTEM'!H3","v":0},null,null,"Final","Date1",null,"Date2",null,"Date3",null,"Date4",null,"Date5",null,"Player",null,"BUT","MESURES:\nSPECIFIQUE, MESURABLES, REALISTE",null,null,null,null,null,null,"DELAI","CONTRÔLE DU BUT","Date"]
[{"$f":"'Skills explications FTEM'!A4:A4","v":"ÉQUIPE"},null,null,{"$f":"IF($H$2=\"G\",'Skills explications FTEM'!F4,'Skills explications FTEM'!B4)","v":"Communication"},null,null,{"$f":"IF($H$2=\"G\",'Skills explications FTEM'!G4,'Skills explications FTEM'!C4)","v":"Respect et ouverture dans ses relations, confiance comme base, traite les conflits sans perturber la stabilité du groupe, communique avec ses coéquipiers, les entraîneurs et les fonctionnaires avec les mêmes valeurs"},null,null,{"$f":"IF($H$2=\"G\",'Skills explications FTEM'!#REF!,'Skills explications FTEM'!#REF!)","v":{"$error":"#REF!"}},null,null,null,{"$f":"IFERROR(AVERAGE(O13:O17),\"-\")","v":"-"},null,{"$f":"IFERROR(AVERAGE(Q13:Q17),\"-\")","v":"-"},null,{"$f":"IFERROR(AVERAGE(S13:S17),\"-\")","v":"-"},null,{"$f":"IFERROR(AVERAGE(U13:U17),\"-\")","v":"-"},null,{"$f":"IFERROR(AVERAGE(W13:W17),\"-\")","v":"-"},null,{"$f":"IFERROR(AVERAGE(Y13:Y17),\"-\")","v":"-"}]
[null,null,null,{"$f":"IF($H$2=\"G\",'Skills explications FTEM'!F5,'Skills explications FTEM'!B5)","v":"Capacité de jouer en équipe"},null,null,{"$f":"IF($H$2=\"G\",'Skills explications FTEM'!G5,'Skills explications FTEM'!C5)","v":"Intégration dans le groupe, définit et réalise des objectifs communs, NOUS avant le MOI, participe au bon esprit d'équipe et à un bon climat de travail"},null,null,{"$f":"IF($H$2=\"G\",'Skills explications FTEM'!#REF!,'Skills explications FTEM'!#REF!)","v":{"$error":"#REF!"}}]
[null,null,null,{"$f":"IF($H$2=\"G\",'Skills explications FTEM'!F6,'Skills explications FTEM'!B6)","v":"Leadership"},null,null,{"$f":"IF($H$2=\"G\",'Skills explications FTEM'!G6,'Skills explications FTEM'!C6)","v":"Prend des responsabilités dans le groupe, essaie de donner de la valeur à ses coéquipiers et au groupe, influence positivement la dynamique de groupe"},null,null,{"$f":"IF($H$2=\"G\",'Skills explications FTEM'!#REF!,'Skills explications FTEM'!#REF!)","v":{"$error":"#REF!"}}]
[null,null,null,{"$f":"IF($H$2=\"G\",'Skills explications FTEM'!F7,'Skills explications FTEM'!B7)","v":"Répartition des rôles"},null,null,{"$f":"IF($H$2=\"G\",'Skills explications FTEM'!G7,'Skills explications FTEM'!C7)","v":"Connaît son rôle et le réalise, est conscient de sa position dans l'équipe et le système, met ses compétences à disposition de l'équipe"},null,null,{"$f":"IF($H$2=\"G\",'Skills explications FTEM'!#REF!,'Skills explications FTEM'!#REF!)","v":{"$error":"#REF!"}}]
[{"$f":"'Skills explications FTEM'!A8:A8","v":0},null,null,{"$f":"IF($H$2=\"G\",'Skills explications FTEM'!F8,'Skills explications FTEM'!B8)","v":"Respect"},null,null,{"$f":"IF($H$2=\"G\",'Skills explications FTEM'!G8,'Skills explications FTEM'!C8)","v":"Relations respectueuses avec les coéquipiers, les entraîneurs, les adversaires, les arbitres et le staff; respect des règles, des principes du fairplay (y compris antidopage)"},null,null,{"$f":"IF($H$2=\"G\",'Skills explications FTEM'!#REF!,'Skills explications FTEM'!#REF!)","v":{"$error":"#REF!"}}]
[{"$f":"'Skills explications FTEM'!A9:A9","v":"ON ICE"},null,null,{"$f":"'Skills explications FTEM'!B9","v":"COMPÉTENCES"},null,null,{"$f":"'Skills explications FTEM'!C9","v":"OBSERVATION"},null,null,{"$f":"'Skills explications FTEM'!H9","v":0},null,null,null,"Date1",null,"Date2",null,"Date3",null,"Date4",null,"Date5",null,"Player",null,"BUT","MESURES:\nSPECIFIQUE, MESURABLES, REALISTE",null,null,null,null,null,null,"DELAI","CONTRÔLE DU BUT","Date"]
[{"$f":"'Skills explications FTEM'!A10:A10","v":"PATINAGE"},null,null,{"$f":"IF($H$2=\"G\",'Skills explications FTEM'!F10,'Skills explications FTEM'!B10)","v":"Vitesse de patinage"},null,null,{"$f":"IF($H$2=\"G\",'Skills explications FTEM'!G10,'Skills explications FTEM'!C10)","v":"Accélération, départ, explosivité des 3 premiers pas, fréquence"},null,null,{"$f":"IF($H$2=\"G\",'Skills explications FTEM'!#REF!,'Skills explications FTEM'!#REF!)","v":{"$error":"#REF!"}},null,null,null,{"$f":"IFERROR(AVERAGE(O19:O23),\"-\")","v":"-"},null,{"$f":"IFERROR(AVERAGE(Q19:Q23),\"-\")","v":"-"},null,{"$f":"IFERROR(AVERAGE(S19:S23),\"-\")","v":"-"},null,{"$f":"IFERROR(AVERAGE(U19:U23),\"-\")","v":"-"},null,{"$f":"IFERROR(AVERAGE(W19:W23),\"-\")","v":"-"},null,{"$f":"IFERROR(AVERAGE(Y19:Y23),\"-\")","v":"-"}]
[{"$f":"'Skills explications FTEM'!A11:A11","v":0},null,null,{"$f":"IF($H$2=\"G\",'Skills explications FTEM'!F11,'Skills explications FTEM'!B11)","v":"Vitesse, rapidité"},null,null,{"$f":"IF($H$2=\"G\",'Skills explications FTEM'!G11,'Skills explications FTEM'!C11)","v":"Vitesse, faculté de glisse, avant et arrière, économie des forces"},null,null,{"$f":"IF($H$2=\"G\",'Skills explications FTEM'!#REF!,'Skills explications FTEM'!#REF!)","v":{"$error":"#REF!"}}]
[{"$f":"'Skills explications FTEM'!A12:A12","v":0},null,null,{"$f":"IF($H$2=\"G\",'Skills explications FTEM'!F12,'Skills explications FTEM'!B12)","v":"Agilité"},null,null,{"$f":"IF($H$2=\"G\",'Skills explications FTEM'!G12,'Skills explications FTEM'!C12)","v":"Changements de direction, pivots, stop et start «Nummelin»"},null,null,{"$f":"IF($H$2=\"G\",'Skills explications FTEM'!#REF!,'Skills explications FTEM'!#REF!)","v":{"$error":"#REF!"}},null,null,null,{"$f":"IFERROR(AVERAGE(O21:O23),\"-\")","v":"-"},null,{"$f":"IFERROR(AVERAGE(Q21:Q23),\"-\")","v":"-"},null,{"$f":"IFERROR(AVERAGE(S21:S23),\"-\")","v":"-"},null,{"$f":"IFERROR(AVERAGE(U21:U23),\"-\")","v":"-"},null,{"$f":"IFERROR(AVERAGE(W21:W23),\"-\")","v":"-"},null,"-"]
[null,null,null,{"$f":"IF($H$2=\"G\",'Skills explications FTEM'!F13,'Skills explications FTEM'!B13)","v":"Balance"},null,null,{"$f":"IF($H$2=\"G\",'Skills explications FTEM'!G13,'Skills explications FTEM'!C13)","v":"Equilibre, faculté d'être sur ses appuis, position basse, 1 ou 2 jambes"},null,null,{"$f":"IF($H$2=\"G\",'Skills explications FTEM'!#REF!,'Skills explications FTEM'!#REF!)","v":{"$error":"#REF!"}}]
[{"$f":"'Skills explications FTEM'!#REF!","v":{"$error":"#REF!"}},null,null,{"$f":"IF($H$2=\"G\",'Skills explications FTEM'!F14,'Skills explications FTEM'!B14)","v":"Patinage arrière"},null,null,{"$f":"IF($H$2=\"G\",'Skills explications FTEM'!G14,'Skills explications FTEM'!C14)","v":"Accélération, vitesse, équilibre "},null,null,{"$f":"IF($H$2=\"G\",'Skills explications FTEM'!#REF!,'Skills explications FTEM'!#REF!)","v":{"$error":"#REF!"}}]
[{"$f":"'Skills explications FTEM'!A15:A15","v":"SKILLS"},null,null,{"$f":"IF($H$2=\"G\",'Skills explications FTEM'!F15,'Skills explications FTEM'!B15)","v":"Tirer"},null,null,{"$f":"IF($H$2=\"G\",'Skills explications FTEM'!G15,'Skills explications FTEM'!C15)","v":"Efficience (pas d'espace et de temps), variantes, degré de surprise (déclenchement rapide), précision, puissance (conclusion tactique)"},null,null,{"$f":"IF($H$2=\"G\",'Skills explications FTEM'!#REF!,'Skills explications FTEM'!#REF!)","v":{"$error":"#REF!"}},null,null,null,{"$f":"IFERROR(AVERAGE(O24:O29),\"-\")","v":"-"},null,{"$f":"IFERROR(AVERAGE(Q24:Q29),\"-\")","v":"-"},null,{"$f":"IFERROR(AVERAGE(S24:S29),\"-\")","v":"-"},null,{"$f":"IFERROR(AVERAGE(U24:U29),\"-\")","v":"-"},null,{"$f":"IFERROR(AVERAGE(W24:W29),\"-\")","v":"-"},null,{"$f":"IFERROR(AVERAGE(Y24:Y29),\"-\")","v":"-"}]
[{"$f":"'Skills explications FTEM'!A16:A16","v":0},null,null,{"$f":"IF($H$2=\"G\",'Skills explications FTEM'!F16,'Skills explications FTEM'!B16)","v":"Passer"},null,null,{"$f":"IF($H$2=\"G\",'Skills explications FTEM'!G16,'Skills explications FTEM'!C16)","v":"Donne la passe (distance, passe flipée en revers), réception de la passe (précision, timing, coup droit, revers, patins), vitesse du puck"},null,null,{"$f":"IF($H$2=\"G\",'Skills explications FTEM'!#REF!,'Skills explications FTEM'!#REF!)","v":{"$error":"#REF!"}}]
[{"$f":"'Skills explications FTEM'!A17:A17","v":0},null,null,{"$f":"IF($H$2=\"G\",'Skills explications FTEM'!F17,'Skills explications FTEM'!B17)","v":"Travail de canne, conduite du puck"},null,null,{"$f":"IF($H$2=\"G\",'Skills explications FTEM'!G17,'Skills explications FTEM'!C17)","v":"Puck sur la palette, intercepte les lignes de passe, déviation, contrôle de la canne de l'adversaire"},null,null,{"$f":"IF($H$2=\"G\",'Skills explications FTEM'!#REF!,'Skills explications FTEM'!#REF!)","v":{"$error":"#REF!"}}]
[null,null,null,{"$f":"IF($H$2=\"G\",'Skills explications FTEM'!F18,'Skills explications FTEM'!B18)","v":"Protéger le puck"},null,null,{"$f":"IF($H$2=\"G\",'Skills explications FTEM'!G18,'Skills explications FTEM'!C18)","v":"Contrôle du puck, dribbling, protection du puck, feintes (variantes: avec les patins ou avec et sans la bande), mise au jeu (bully)"},null,null,{"$f":"IF($H$2=\"G\",'Skills explications FTEM'!#REF!,'Skills explications FTEM'!#REF!)","v":{"$error":"#REF!"}}]
[null,null,null,{"$f":"IF($H$2=\"G\",'Skills explications FTEM'!F19,'Skills explications FTEM'!B19)","v":"Jeu du corps (charges)"},null,null,{"$f":"IF($H$2=\"G\",'Skills explications FTEM'!G19,'Skills explications FTEM'!C19)","v":"Faculté de s'imposer physiquement, duels (sur la surface de glace ou à la bande), prendre des checks, lever la tête, niveau de lutte, dur mais correct, bloquer les tirs avec le corps"},null,null,{"$f":"IF($H$2=\"G\",'Skills explications FTEM'!#REF!,'Skills explications FTEM'!#REF!)","v":{"$error":"#REF!"}}]
[{"$f":"'Skills explications FTEM'!A20:A20","v":0},null,null,{"$f":"IF($H$2=\"G\",'Skills explications FTEM'!F20,'Skills explications FTEM'!B20)","v":"-"},null,null,{"$f":"IF($H$2=\"G\",'Skills explications FTEM'!G20,'Skills explications FTEM'!C20)","v":"-"},null,null,{"$f":"IF($H$2=\"G\",'Skills explications FTEM'!#REF!,'Skills explications FTEM'!#REF!)","v":{"$error":"#REF!"}}]
[{"$f":"'Skills explications FTEM'!A21:A21","v":"HOCKEY SENSE"},null,null,{"$f":"IF($H$2=\"G\",'Skills explications FTEM'!F21,'Skills explications FTEM'!B21)","v":"Intelligence de jeu"},null,null,{"$f":"IF($H$2=\"G\",'Skills explications FTEM'!G21,'Skills explications FTEM'!C21)","v":"Voit les zones libres avec joueurs et crée des situations de surnombre, trouve des solutions et agit en toute situation, vitesse de la visualisation"},null,null,{"$f":"IF($H$2=\"G\",'Skills explications FTEM'!#REF!,'Skills explications FTEM'!#REF!)","v":{"$error":"#REF!"}},null,null,null,{"$f":"IFERROR(AVERAGE(O30:O34),\"-\")","v":"-"},null,{"$f":"IFERROR(AVERAGE(Q30:Q34),\"-\")","v":"-"},null,{"$f":"IFERROR(AVERAGE(S30:S34),\"-\")","v":"-"},null,{"$f":"IFERROR(AVERAGE(U30:U34),\"-\")","v":"-"},null,{"$f":"IFERROR(AVERAGE(W30:W34),\"-\")","v":"-"},null,{"$f":"IFERROR(AVERAGE(Y30:Y34),\"-\")","v":"-"}]
[{"$f":"'Skills explications FTEM'!A22:A22","v":0},null,null,{"$f":"IF($H$2=\"G\",'Skills explications FTEM'!F22,'Skills explications FTEM'!B22)","v":"Sensibilisation offensive"},null,null,{"$f":"IF($H$2=\"G\",'Skills explications FTEM'!G22,'Skills explications FTEM'!C22)","v":"Se démarque, anticipation des situations de jeu, ouvre des zones libres pour ses coéquipiers, se place pour marquer, vitesse de mise sous pression, communication"},null,null,{"$f":"IF($H$2=\"G\",'Skills explications FTEM'!#REF!,'Skills explications FTEM'!#REF!)","v":{"$error":"#REF!"}}]
[null,null,null,{"$f":"IF($H$2=\"G\",'Skills explications FTEM'!F23,'Skills explications FTEM'!B23)","v":"Sensibilisation défensive"},null,null,{"$f":"IF($H$2=\"G\",'Skills explications FTEM'!G23,'Skills explications FTEM'!C23)","v":"Garde la position «inside», protège le slot, rassure les coéquipiers, support, anticipe les lignes de passe, bloque les tirs. Réduit rapidement la distance sur l'adversaire, communication"},null,null,{"$f":"IF($H$2=\"G\",'Skills explications FTEM'!#REF!,'Skills explications FTEM'!#REF!)","v":{"$error":"#REF!"}}]
[{"$f":"'Skills explications FTEM'!A23:A23","v":0},null,null,{"$f":"IF($H$2=\"G\",'Skills explications FTEM'!F24,'Skills explications FTEM'!B24)","v":"Gestion du puck"},null,null,{"$f":"IF($H$2=\"G\",'Skills explications FTEM'!G24,'Skills explications FTEM'!C24)","v":"Fait le bon choix en fonction de la situation, support, surnombre"},null,null,{"$f":"IF($H$2=\"G\",'Skills explications FTEM'!#REF!,'Skills explications FTEM'!#REF!)","v":{"$error":"#REF!"}}]
[{"$f":"'Skills explications FTEM'!A25:A25","v":0},null,null,{"$f":"IF($H$2=\"G\",'Skills explications FTEM'!F25,'Skills explications FTEM'!B25)","v":"Créativité"},null,null,{"$f":"IF($H$2=\"G\",'Skills explications FTEM'!G25,'Skills explications FTEM'!C25)","v":"Prises de décision surprenantes, sens du but"},null,null,{"$f":"IF($H$2=\"G\",'Skills explications FTEM'!#REF!,'Skills explications FTEM'!#REF!)","v":{"$error":"#REF!"}}]
[{"$f":"'Skills explications FTEM'!A26:A26","v":"PERSONALITY"},null,null,{"$f":"'Skills explications FTEM'!B26","v":"COMPÉTENCES"},null,null,{"$f":"'Skills explications FTEM'!C26","v":"OBSERVATION"},null,null,{"$f":"'Skills explications FTEM'!H26","v":0},null,null,null,"Date1",null,"Date2",null,"Date3",null,"Date4",null,"Date5",null,"Player",null,"BUT","MESURES:\nSPECIFIQUE, MESURABLES, REALISTE",null,null,null,null,null,null,"DELAI","CONTRÔLE DU BUT","Date"]
[{"$f":"'Skills explications FTEM'!A27:A27","v":"PERSONNALITÉ"},null,null,{"$f":"IF($H$2=\"G\",'Skills explications FTEM'!F27,'Skills explications FTEM'!B27)","v":"Confiance en soi"},null,null,{"$f":"IF($H$2=\"G\",'Skills explications FTEM'!G27,'Skills explications FTEM'!C27)","v":"Est en confiance,«I can do it», peut estimer ses capacités (connaît ses qualités et ses défauts), peut réaliser ses qualités avec constance, est courageux et prend des risques calculés"},null,null,{"$f":"IF($H$2=\"G\",'Skills explications FTEM'!#REF!,'Skills explications FTEM'!#REF!)","v":{"$error":"#REF!"}},null,null,null,{"$f":"IFERROR(AVERAGE(O36:O40),\"-\")","v":"-"},null,null,null,{"$f":"IFERROR(AVERAGE(S36:S40),\"-\")","v":"-"},null,{"$f":"IFERROR(AVERAGE(U36:U40),\"-\")","v":"-"},null,{"$f":"IFERROR(AVERAGE(W36:W40),\"-\")","v":"-"},null,{"$f":"IFERROR(AVERAGE(Y36:Y40),\"-\")","v":"-"}]
[{"$f":"'Skills explications FTEM'!A28:A28","v":0},null,null,{"$f":"IF($H$2=\"G\",'Skills explications FTEM'!F28,'Skills explications FTEM'!B28)","v":"Facultés d'apprentissage"},null,null,{"$f":"IF($H$2=\"G\",'Skills explications FTEM'!G28,'Skills explications FTEM'!C28)","v":"A une bonne perception (il peut mémoriser et peut réaliser), il a de la personnalité, essaie d'apprendre de ses erreurs et est entreprenant"},null,null,{"$f":"IF($H$2=\"G\",'Skills explications FTEM'!#REF!,'Skills explications FTEM'!#REF!)","v":{"$error":"#REF!"}}]
[{"$f":"'Skills explications FTEM'!A29:A29","v":0},null,null,{"$f":"IF($H$2=\"G\",'Skills explications FTEM'!F29,'Skills explications FTEM'!B29)","v":"Prise de responsabilités"},null,null,{"$f":"IF($H$2=\"G\",'Skills explications FTEM'!G29,'Skills explications FTEM'!C29)","v":"Prend la responsabilité de ses performances et de son développement, est-il autonome, soigne-t-il les détails, a beaucoup d'engagement dans tous les domaines"},null,null,{"$f":"IF($H$2=\"G\",'Skills explications FTEM'!#REF!,'Skills explications FTEM'!#REF!)","v":{"$error":"#REF!"}}]
[null,null,null,{"$f":"IF($H$2=\"G\",'Skills explications FTEM'!F30,'Skills explications FTEM'!B30)","v":"Motivation"},null,null,{"$f":"IF($H$2=\"G\",'Skills explications FTEM'!G30,'Skills explications FTEM'!C30)","v":"Est toujours motivé, veut sans cesse se développer et apprendre, veut être le premier et avoir du succès, n'abandonne jamais et ne se laisse pas influencer par les échesc"},null,null,{"$f":"IF($H$2=\"G\",'Skills explications FTEM'!#REF!,'Skills explications FTEM'!#REF!)","v":{"$error":"#REF!"}}]
[{"$f":"'Skills explications FTEM'!A31:A31","v":0},null,null,{"$f":"IF($H$2=\"G\",'Skills explications FTEM'!F31,'Skills explications FTEM'!B31)","v":"Performance style de vie"},null,null,{"$f":"IF($H$2=\"G\",'Skills explications FTEM'!G31,'Skills explications FTEM'!C31)","v":"Gère bien son environnement et son temps libre selon les principes de la performance, obstiné, tenace et axé sur l'objectif, accent sur sa propre performance, est courageux et peut s'imposer contre la résistance, les défis le motivent"},null,null,{"$f":"IF($H$2=\"G\",'Skills explications FTEM'!#REF!,'Skills explications FTEM'!#REF!)","v":{"$error":"#REF!"}}]
[{"$f":"'Skills explications FTEM'!A32:A32","v":"FORCE MENTALE"},null,null,{"$f":"IF($H$2=\"G\",'Skills explications FTEM'!F32,'Skills explications FTEM'!B32)","v":"Engagement"},null,null,{"$f":"IF($H$2=\"G\",'Skills explications FTEM'!G32,'Skills explications FTEM'!C32)","v":"Démontre beaucoup d'intensité dans les entraînements et les matchs, donne toujours son maximum et veut sans cesse repousser ses limites, a-t-il de la passion, s'efforce-t-il de s'entraîner avec une excellente qualité"},null,null,{"$f":"IF($H$2=\"G\",'Skills explications FTEM'!#REF!,'Skills explications FTEM'!#REF!)","v":{"$error":"#REF!"}},null,null,null,{"$f":"IFERROR(AVERAGE(O41:O45),\"-\")","v":"-"},null,null,null,{"$f":"IFERROR(AVERAGE(S41:S45),\"-\")","v":"-"},null,{"$f":"IFERROR(AVERAGE(U41:U45),\"-\")","v":"-"},null,{"$f":"IFERROR(AVERAGE(W41:W45),\"-\")","v":"-"},null,{"$f":"IFERROR(AVERAGE(Y41:Y45),\"-\")","v":"-"}]
[{"$f":"'Skills explications FTEM'!A33:A33","v":0},null,null,{"$f":"IF($H$2=\"G\",'Skills explications FTEM'!F33,'Skills explications FTEM'!B33)","v":"Préparation"},null,null,{"$f":"IF($H$2=\"G\",'Skills explications FTEM'!G33,'Skills explications FTEM'!C33)","v":"Se prépare-t-il toujours bien, mentalement et physiquement, se prépare-t-il toujours bien pour obtenir le niveau de performance idéal (ILZ)"},null,null,{"$f":"IF($H$2=\"G\",'Skills explications FTEM'!#REF!,'Skills explications FTEM'!#REF!)","v":{"$error":"#REF!"}}]
[null,null,null,{"$f":"IF($H$2=\"G\",'Skills explications FTEM'!F34,'Skills explications FTEM'!B34)","v":"Coaching personnel"},null,null,{"$f":"IF($H$2=\"G\",'Skills explications FTEM'!G34,'Skills explications FTEM'!C34)","v":"A-t-il de bonnes facultés de concentration, peut-il maintenir son niveau de performance idéal (ILZ) dans les entraînements et les matchs, peut-il appliquer ses techniques de base, est-il résistant aux influences et pensées négatives, est-il conscient de son attitude corporelle et peut-il l'influencer"},null,null,{"$f":"IF($H$2=\"G\",'Skills explications FTEM'!#REF!,'Skills explications FTEM'!#REF!)","v":{"$error":"#REF!"}}]
[{"$f":"'Skills explications FTEM'!A34:A34","v":0},null,null,{"$f":"IF($H$2=\"G\",'Skills explications FTEM'!F35,'Skills explications FTEM'!B35)","v":"Gestion des énergies"},null,null,{"$f":"IF($H$2=\"G\",'Skills explications FTEM'!G35,'Skills explications FTEM'!C35)","v":"Peut-il gérer ses propres énergies, prend-il soin de sa récupération, peut-il gérer les moments où il faut se donner à fond ou quand il faut déconnecter, bouton On/Off"},null,null,{"$f":"IF($H$2=\"G\",'Skills explications FTEM'!#REF!,'Skills explications FTEM'!#REF!)","v":{"$error":"#REF!"}}]
[{"$f":"'Skills explications FTEM'!A36:A36","v":0},null,null,{"$f":"IF($H$2=\"G\",'Skills explications FTEM'!F36,'Skills explications FTEM'!B36)","v":"Contrôle des émotions"},null,null,{"$f":"IF($H$2=\"G\",'Skills explications FTEM'!G36,'Skills explications FTEM'!C36)","v":"Peut-il gérer ses propres émotions et impulsions, reste-t-il sous contrôle lorsqu'il y a une grande pression, peut-il rester calme lorsque le niveau émotionnel et de frustration est élevé"},null,null,{"$f":"IF($H$2=\"G\",'Skills explications FTEM'!#REF!,'Skills explications FTEM'!#REF!)","v":{"$error":"#REF!"}}]
[{"$f":"'Skills explications FTEM'!A37:A37","v":"PHYSIQUE"},null,null,{"$f":"IF($H$2=\"G\",'Skills explications FTEM'!F37,'Skills explications FTEM'!B37)","v":"Production de la performance"},null,null,{"$f":"IF($H$2=\"G\",'Skills explications FTEM'!G37,'Skills explications FTEM'!C37)","v":"A-t-il la puissance, la force, la vitesse nécessaires dans les jambes et le haut du corps (facteurs neuromusculaires)"},null,null,{"$f":"IF($H$2=\"G\",'Skills explications FTEM'!#REF!,'Skills explications FTEM'!#REF!)","v":{"$error":"#REF!"}},null,null,null,{"$f":"IFERROR(AVERAGE(O46:O50),\"-\")","v":"-"},null,null,null,{"$f":"IFERROR(AVERAGE(S46:S50),\"-\")","v":"-"},null,{"$f":"IFERROR(AVERAGE(U46:U50),\"-\")","v":"-"},null,{"$f":"IFERROR(AVERAGE(W46:W50),\"-\")","v":"-"},null,{"$f":"IFERROR(AVERAGE(Y46:Y50),\"-\")","v":"-"}]
[{"$f":"'Skills explications FTEM'!A38:A38","v":0},null,null,{"$f":"IF($H$2=\"G\",'Skills explications FTEM'!F38,'Skills explications FTEM'!B38)","v":"Spécifique au sport, résistant à l'effort"},null,null,{"$f":"IF($H$2=\"G\",'Skills explications FTEM'!G38,'Skills explications FTEM'!C38)","v":"Est-il capable de maintenir sa puissance, sa force, sa vitesse durant un long temps de glace et peut-il récupérer complètement entre ses engagements (facteurs du métabolisme et cardiovasculaire)"},null,null,{"$f":"IF($H$2=\"G\",'Skills explications FTEM'!#REF!,'Skills explications FTEM'!#REF!)","v":{"$error":"#REF!"}}]
[null,null,null,{"$f":"IF($H$2=\"G\",'Skills explications FTEM'!F39,'Skills explications FTEM'!B39)","v":"Santé / Prévention"},null,null,{"$f":"IF($H$2=\"G\",'Skills explications FTEM'!G39,'Skills explications FTEM'!C39)","v":"A-t-il la stabilité nécessaire (p. ex. ses appuis) et la mobilité nécessaire au niveau des articulations centrales"},null,null,{"$f":"IF($H$2=\"G\",'Skills explications FTEM'!#REF!,'Skills explications FTEM'!#REF!)","v":{"$error":"#REF!"}}]
[{"$f":"'Skills explications FTEM'!A39:A39","v":0},null,null,{"$f":"IF($H$2=\"G\",'Skills explications FTEM'!F40,'Skills explications FTEM'!B40)","v":"Mobilité / Coordination"},null,null,{"$f":"IF($H$2=\"G\",'Skills explications FTEM'!G40,'Skills explications FTEM'!C40)","v":"Gère-t-il ses aptitudes de mouvements de base, qui sont un fournisseur important des fonctions spécifiques «Skills» pour être efficace"},null,null,{"$f":"IF($H$2=\"G\",'Skills explications FTEM'!#REF!,'Skills explications FTEM'!#REF!)","v":{"$error":"#REF!"}}]
[{"$f":"'Skills explications FTEM'!A41:A41","v":0},null,null,{"$f":"IF($H$2=\"G\",'Skills explications FTEM'!F41,'Skills explications FTEM'!B41)","v":"Robustesse"},null,null,{"$f":"IF($H$2=\"G\",'Skills explications FTEM'!G41,'Skills explications FTEM'!C41)","v":"A-t-il la force de base nécessaire (tension corporelle) pour gagner des duels et résister aux charges"},null,null,{"$f":"IF($H$2=\"G\",'Skills explications FTEM'!#REF!,'Skills explications FTEM'!#REF!)","v":{"$error":"#REF!"}}]

{"sheet":"14","index":17,"n_rows":50,"n_cols":36,"rows_kept":50,"cut":false,"hidden":false,"merged":[[45,25,49,25],[45,26,49,32],[45,34,49,34],[40,23,44,23],[42,3,42,5],[42,6,42,11],[44,3,44,5],[44,6,44,11],[40,0,44,2],[40,3,40,5],[40,6,40,11],[40,12,44,12],[40,13,44,13],[40,15,44,15],[45,0,49,2],[45,3,45,5],[45,6,45,11],[45,12,49,12],[45,23,49,23],[47,3,47,5],[47,6,47,11],[48,3,48,5],[48,6,48,11],[49,3,49,5],[34,21,34,22],[35,17,39,17],[35,19,39,19],[35,21,39,21],[36,3,36,5],[36,6,36,11],[38,3,38,5],[38,6,38,11],[40,17,44,17],[40,19,44,19],[40,21,44,21],[43,3,43,5],[43,6,43,11],[37,3,37,5],[37,6,37,11],[41,3,41,5],[41,6,41,11],[29,0,33,2],[29,3,29,5],[29,6,29,11],[29,12,33,12],[29,13,33,13],[29,15,33,15],[34,23,34,24],[34,26,34,32],[35,0,39,2],[35,3,35,5],[35,6,35,11],[35,12,39,12],[35,13,39,13],[35,15,39,15],[39,3,39,5],[39,6,39,11],[35,23,39,23],[34,0,34,2],[34,3,34,5],[34,6,34,11],[34,13,34,14],[34,15,34,16],[34,17,34,18],[34,19,34,20],[23,21,28,21],[23,23,28,23],[24,3,24,5],[24,6,24,11],[28,3,28,5],[28,6,28,11],[33,3,33,5],[33,6,33,11],[29,23,33,23],[29,17,33,17],[29,19,33,19],[29,21,33,21],[30,3,30,5],[30,6,30,11],[31,3,31,5],[31,6,31,11],[25,3,25,5],[25,6,25,11],[32,3,32,5],[32,6,32,11],[18,15,22,15],[18,17,22,17],[18,19,22,19],[18,21,22,21],[18,23,22,23],[22,3,22,5],[22,6,22,11],[23,0,28,2],[23,3,23,5],[23,6,23,11],[23,12,28,12],[23,13,28,13],[23,15,28,15],[23,17,28,17],[18,0,22,2],[18,3,18,5],[18,6,18,11],[18,12,22,12],[18,13,22,13],[19,3,19,5],[19,6,19,11],[20,3,20,5],[20,6,20,11],[23,19,28,19],[12,23,16,23],[16,3,16,5],[16,6,16,11],[17,0,17,2],[17,3,17,5],[17,6,17,11],[17,13,17,14],[17,15,17,16],[17,17,17,18],[17,19,17,20],[17,21,17,22],[17,23,17,24],[12,0,16,2],[12,3,12,5],[12,6,12,11],[12,12,16,12],[12,13,16,13],[12,15,16,15],[12,17,16,17],[12,19,16,19],[12,21,16,21],[13,3,13,5],[13,6,13,11],[14,3,14,5],[11,0,11,2],[11,3,11,5],[11,13,11,14],[11,15,11,16],[11,17,11,18],[11,19,11,20],[11,21,11,22],[11,23,11,24],[11,26,11,32],[11,6,11,11],[0,33,0,35],[29,25,33,25],[29,26,33,32],[29,34,33,34],[35,25,39,25],[35,26,39,32],[35,34,39,34],[1,0,1,1],[1,2,1,5],[1,10,1,24],[2,0,2,1],[2,2,2,5],[2,11,2,24],[6,0,6,1],[6,2,6,35],[7,0,7,1],[7,2,7,35],[8,0,8,1],[8,2,8,35],[3,0,3,1],[3,10,3,24],[4,0,4,1],[4,2,4,5],[4,10,4,24],[49,6,49,11],[45,13,49,13],[45,15,49,15],[45,17,49,17],[45,19,49,19],[45,21,49,21],[0,0,0,24],[0,25,0,26],[0,27,0,32],[10,0,10,24],[10,25,10,35],[40,25,44,25],[40,26,44,32],[40,34,44,34],[12,25,16,25],[12,26,16,32],[12,34,16,34],[18,25,22,25],[18,26,22,32],[18,34,22,34],[23,25,28,25],[23,26,28,32],[23,34,28,34],[17,26,17,32],[46,3,46,5],[46,6,46,11],[14,6,14,11],[15,3,15,5],[15,6,15,11],[21,3,21,5],[21,6,21,11],[26,3,26,5],[26,6,26,11],[27,3,27,5],[27,6,27,11]]}
["Infos personelles",null,null,null,null,null,null,null,null,null,null,null,null,null,null,null,null,null,null,null,null,null,null,null,null,"Predispositions",null,"Evaluations",null,null,null,null,null,"Rating"]
["PRENOM",null,{"$f":"IF(ISBLANK(VLOOKUP(14,Tabelle3[],3,0)),\"-\",VLOOKUP(14,Tabelle3[],3,0))","v":"-"},null,null,null,"POSITION",null,null,"ADRESSE",{"$f":"IF(ISBLANK(VLOOKUP(14,Tabelle3[],5,0)),\"-\",VLOOKUP(14,Tabelle3[],5,0))","v":"-"},null,null,null,null,null,null,null,null,null,null,null,null,null,null,"\"àage\" (Biologique/age relatif)",null,"Date 1",null,null,"cm",null,"Kg",null,"AUSGEZEICHNET",5]
["NOM",null,{"$f":"IF(ISBLANK(VLOOKUP(14,Tabelle3[],2,0)),\"-\",VLOOKUP(14,Tabelle3[],2,0))","v":"-"},null,null,null,"CANNE",null,null,"LIEU",{"$f":"IF(ISBLANK(VLOOKUP(14,Tabelle3[],7,0)),\"-\",VLOOKUP(14,Tabelle3[],7,0))","v":"-"},{"$f":"IF(ISBLANK(VLOOKUP(14,Tabelle3[],6,0)),\"-\",VLOOKUP(14,Tabelle3[],6,0))","v":"-"},null,null,null,null,null,null,null,null,null,null,null,null,null,"predispositions",null,"Date 2",null,null,"cm",null,"Kg",null,"GUT",4]
["DATE NAISS.",null,{"$f":"IF(ISBLANK(VLOOKUP(14,Tabelle3[],14,0)),\"-\",VLOOKUP(14,Tabelle3[],14,0))","v":"-"},{"$f":"IF(ISBLANK(VLOOKUP(14,Tabelle3[],15,0)),\"-\",VLOOKUP(14,Tabelle3[],15,0))","v":"-"},{"$f":"IF(ISBLANK(VLOOKUP(14,Tabelle3[],16,0)),\"-\",VLOOKUP(14,Tabelle3[],16,0))","v":"-"},null,"GRANDEUR",null,"cm","PHONE",{"$f":"IF(ISBLANK(VLOOKUP(14,Tabelle3[],8,0)),\"-\",VLOOKUP(14,Tabelle3[],8,0))","v":"-"},null,null,null,null,null,null,null,null,null,null,null,null,null,null,"Entourage",null,"Date 3",null,null,"cm",null,"Kg",null,"DURCHSCHNITT",3]
["SEXE",null,{"$f":"IF(ISBLANK(VLOOKUP(14,Tabelle3[],13,0)),\"-\",VLOOKUP(14,Tabelle3[],13,0))","v":"-"},null,null,null,"POIDS",null,"Kg","E-Mail",{"$f":"IF(ISBLANK(VLOOKUP(14,Tabelle3[],9,0)),\"-\",VLOOKUP(14,Tabelle3[],9,0))","v":"-"},null,null,null,null,null,null,null,null,null,null,null,null,null,null,null,null,"Date 4",null,null,"cm",null,"Kg",null,"MANGELHAFT",2]
[null,null,null,null,null,null,null,null,null,null,null,null,null,null,null,null,null,null,null,null,null,null,null,null,null,null,null,"Date 5",null,null,"cm",null,"Kg",null,"UNGENÜGEND",1]
["Vision",null,"xxx"]
["Next step",null,"xxx"]
["Profil du Joueur",null,"xxx"]
[]
["EVALUATION (COACH / JOUEUR)",null,null,null,null,null,null,null,null,null,null,null,null,null,null,null,null,null,null,null,null,null,null,null,null,"SMART"]
[{"$f":"'Skills explications FTEM'!A3:A3","v":"TEAM"},null,null,{"$f":"'Skills explications FTEM'!B3","v":"COMPÉTENCES"},null,null,{"$f":"'Skills explications FTEM'!C3","v":"OBSERVATION"},null,null,{"$f":"'Skills explications FTEM'!H3","v":0},null,null,"Final","Date1",null,"Date2",null,"Date3",null,"Date4",null,"Date5",null,"Player",null,"BUT","MESURES:\nSPECIFIQUE, MESURABLES, REALISTE",null,null,null,null,null,null,"DELAI","CONTRÔLE DU BUT","Date"]
[{"$f":"'Skills explications FTEM'!A4:A4","v":"ÉQUIPE"},null,null,{"$f":"IF($H$2=\"G\",'Skills explications FTEM'!F4,'Skills explications FTEM'!B4)","v":"Communication"},null,null,{"$f":"IF($H$2=\"G\",'Skills explications FTEM'!G4,'Skills explications FTEM'!C4)","v":"Respect et ouverture dans ses relations, confiance comme base, traite les conflits sans perturber la stabilité du groupe, communique avec ses coéquipiers, les entraîneurs et les fonctionnaires avec les mêmes valeurs"},null,null,{"$f":"IF($H$2=\"G\",'Skills explications FTEM'!#REF!,'Skills explications FTEM'!#REF!)","v":{"$error":"#REF!"}},null,null,null,{"$f":"IFERROR(AVERAGE(O13:O17),\"-\")","v":"-"},null,{"$f":"IFERROR(AVERAGE(Q13:Q17),\"-\")","v":"-"},null,{"$f":"IFERROR(AVERAGE(S13:S17),\"-\")","v":"-"},null,{"$f":"IFERROR(AVERAGE(U13:U17),\"-\")","v":"-"},null,{"$f":"IFERROR(AVERAGE(W13:W17),\"-\")","v":"-"},null,{"$f":"IFERROR(AVERAGE(Y13:Y17),\"-\")","v":"-"}]
[null,null,null,{"$f":"IF($H$2=\"G\",'Skills explications FTEM'!F5,'Skills explications FTEM'!B5)","v":"Capacité de jouer en équipe"},null,null,{"$f":"IF($H$2=\"G\",'Skills explications FTEM'!G5,'Skills explications FTEM'!C5)","v":"Intégration dans le groupe, définit et réalise des objectifs communs, NOUS avant le MOI, participe au bon esprit d'équipe et à un bon climat de travail"},null,null,{"$f":"IF($H$2=\"G\",'Skills explications FTEM'!#REF!,'Skills explications FTEM'!#REF!)","v":{"$error":"#REF!"}}]
[null,null,null,{"$f":"IF($H$2=\"G\",'Skills explications FTEM'!F6,'Skills explications FTEM'!B6)","v":"Leadership"},null,null,{"$f":"IF($H$2=\"G\",'Skills explications FTEM'!G6,'Skills explications FTEM'!C6)","v":"Prend des responsabilités dans le groupe, essaie de donner de la valeur à ses coéquipiers et au groupe, influence positivement la dynamique de groupe"},null,null,{"$f":"IF($H$2=\"G\",'Skills explications FTEM'!#REF!,'Skills explications FTEM'!#REF!)","v":{"$error":"#REF!"}}]
[null,null,null,{"$f":"IF($H$2=\"G\",'Skills explications FTEM'!F7,'Skills explications FTEM'!B7)","v":"Répartition des rôles"},null,null,{"$f":"IF($H$2=\"G\",'Skills explications FTEM'!G7,'Skills explications FTEM'!C7)","v":"Connaît son rôle et le réalise, est conscient de sa position dans l'équipe et le système, met ses compétences à disposition de l'équipe"},null,null,{"$f":"IF($H$2=\"G\",'Skills explications FTEM'!#REF!,'Skills explications FTEM'!#REF!)","v":{"$error":"#REF!"}}]
[{"$f":"'Skills explications FTEM'!A8:A8","v":0},null,null,{"$f":"IF($H$2=\"G\",'Skills explications FTEM'!F8,'Skills explications FTEM'!B8)","v":"Respect"},null,null,{"$f":"IF($H$2=\"G\",'Skills explications FTEM'!G8,'Skills explications FTEM'!C8)","v":"Relations respectueuses avec les coéquipiers, les entraîneurs, les adversaires, les arbitres et le staff; respect des règles, des principes du fairplay (y compris antidopage)"},null,null,{"$f":"IF($H$2=\"G\",'Skills explications FTEM'!#REF!,'Skills explications FTEM'!#REF!)","v":{"$error":"#REF!"}}]
[{"$f":"'Skills explications FTEM'!A9:A9","v":"ON ICE"},null,null,{"$f":"'Skills explications FTEM'!B9","v":"COMPÉTENCES"},null,null,{"$f":"'Skills explications FTEM'!C9","v":"OBSERVATION"},null,null,{"$f":"'Skills explications FTEM'!H9","v":0},null,null,null,"Date1",null,"Date2",null,"Date3",null,"Date4",null,"Date5",null,"Player",null,"BUT","MESURES:\nSPECIFIQUE, MESURABLES, REALISTE",null,null,null,null,null,null,"DELAI","CONTRÔLE DU BUT","Date"]
[{"$f":"'Skills explications FTEM'!A10:A10","v":"PATINAGE"},null,null,{"$f":"IF($H$2=\"G\",'Skills explications FTEM'!F10,'Skills explications FTEM'!B10)","v":"Vitesse de patinage"},null,null,{"$f":"IF($H$2=\"G\",'Skills explications FTEM'!G10,'Skills explications FTEM'!C10)","v":"Accélération, départ, explosivité des 3 premiers pas, fréquence"},null,null,{"$f":"IF($H$2=\"G\",'Skills explications FTEM'!#REF!,'Skills explications FTEM'!#REF!)","v":{"$error":"#REF!"}},null,null,null,{"$f":"IFERROR(AVERAGE(O19:O23),\"-\")","v":"-"},null,{"$f":"IFERROR(AVERAGE(Q19:Q23),\"-\")","v":"-"},null,{"$f":"IFERROR(AVERAGE(S19:S23),\"-\")","v":"-"},null,{"$f":"IFERROR(AVERAGE(U19:U23),\"-\")","v":"-"},null,{"$f":"IFERROR(AVERAGE(W19:W23),\"-\")","v":"-"},null,{"$f":"IFERROR(AVERAGE(Y19:Y23),\"-\")","v":"-"}]
[{"$f":"'Skills explications FTEM'!A11:A11","v":0},null,null,{"$f":"IF($H$2=\"G\",'Skills explications FTEM'!F11,'Skills explications FTEM'!B11)","v":"Vitesse, rapidité"},null,null,{"$f":"IF($H$2=\"G\",'Skills explications FTEM'!G11,'Skills explications FTEM'!C11)","v":"Vitesse, faculté de glisse, avant et arrière, économie des forces"},null,null,{"$f":"IF($H$2=\"G\",'Skills explications FTEM'!#REF!,'Skills explications FTEM'!#REF!)","v":{"$error":"#REF!"}}]
[{"$f":"'Skills explications FTEM'!A12:A12","v":0},null,null,{"$f":"IF($H$2=\"G\",'Skills explications FTEM'!F12,'Skills explications FTEM'!B12)","v":"Agilité"},null,null,{"$f":"IF($H$2=\"G\",'Skills explications FTEM'!G12,'Skills explications FTEM'!C12)","v":"Changements de direction, pivots, stop et start «Nummelin»"},null,null,{"$f":"IF($H$2=\"G\",'Skills explications FTEM'!#REF!,'Skills explications FTEM'!#REF!)","v":{"$error":"#REF!"}},null,null,null,{"$f":"IFERROR(AVERAGE(O21:O23),\"-\")","v":"-"},null,{"$f":"IFERROR(AVERAGE(Q21:Q23),\"-\")","v":"-"},null,{"$f":"IFERROR(AVERAGE(S21:S23),\"-\")","v":"-"},null,{"$f":"IFERROR(AVERAGE(U21:U23),\"-\")","v":"-"},null,{"$f":"IFERROR(AVERAGE(W21:W23),\"-\")","v":"-"},null,"-"]
[null,null,null,{"$f":"IF($H$2=\"G\",'Skills explications FTEM'!F13,'Skills explications FTEM'!B13)","v":"Balance"},null,null,{"$f":"IF($H$2=\"G\",'Skills explications FTEM'!G13,'Skills explications FTEM'!C13)","v":"Equilibre, faculté d'être sur ses appuis, position basse, 1 ou 2 jambes"},null,null,{"$f":"IF($H$2=\"G\",'Skills explications FTEM'!#REF!,'Skills explications FTEM'!#REF!)","v":{"$error":"#REF!"}}]
[{"$f":"'Skills explications FTEM'!#REF!","v":{"$error":"#REF!"}},null,null,{"$f":"IF($H$2=\"G\",'Skills explications FTEM'!F14,'Skills explications FTEM'!B14)","v":"Patinage arrière"},null,null,{"$f":"IF($H$2=\"G\",'Skills explications FTEM'!G14,'Skills explications FTEM'!C14)","v":"Accélération, vitesse, équilibre "},null,null,{"$f":"IF($H$2=\"G\",'Skills explications FTEM'!#REF!,'Skills explications FTEM'!#REF!)","v":{"$error":"#REF!"}}]
[{"$f":"'Skills explications FTEM'!A15:A15","v":"SKILLS"},null,null,{"$f":"IF($H$2=\"G\",'Skills explications FTEM'!F15,'Skills explications FTEM'!B15)","v":"Tirer"},null,null,{"$f":"IF($H$2=\"G\",'Skills explications FTEM'!G15,'Skills explications FTEM'!C15)","v":"Efficience (pas d'espace et de temps), variantes, degré de surprise (déclenchement rapide), précision, puissance (conclusion tactique)"},null,null,{"$f":"IF($H$2=\"G\",'Skills explications FTEM'!#REF!,'Skills explications FTEM'!#REF!)","v":{"$error":"#REF!"}},null,null,null,{"$f":"IFERROR(AVERAGE(O24:O29),\"-\")","v":"-"},null,{"$f":"IFERROR(AVERAGE(Q24:Q29),\"-\")","v":"-"},null,{"$f":"IFERROR(AVERAGE(S24:S29),\"-\")","v":"-"},null,{"$f":"IFERROR(AVERAGE(U24:U29),\"-\")","v":"-"},null,{"$f":"IFERROR(AVERAGE(W24:W29),\"-\")","v":"-"},null,{"$f":"IFERROR(AVERAGE(Y24:Y29),\"-\")","v":"-"}]
[{"$f":"'Skills explications FTEM'!A16:A16","v":0},null,null,{"$f":"IF($H$2=\"G\",'Skills explications FTEM'!F16,'Skills explications FTEM'!B16)","v":"Passer"},null,null,{"$f":"IF($H$2=\"G\",'Skills explications FTEM'!G16,'Skills explications FTEM'!C16)","v":"Donne la passe (distance, passe flipée en revers), réception de la passe (précision, timing, coup droit, revers, patins), vitesse du puck"},null,null,{"$f":"IF($H$2=\"G\",'Skills explications FTEM'!#REF!,'Skills explications FTEM'!#REF!)","v":{"$error":"#REF!"}}]
[{"$f":"'Skills explications FTEM'!A17:A17","v":0},null,null,{"$f":"IF($H$2=\"G\",'Skills explications FTEM'!F17,'Skills explications FTEM'!B17)","v":"Travail de canne, conduite du puck"},null,null,{"$f":"IF($H$2=\"G\",'Skills explications FTEM'!G17,'Skills explications FTEM'!C17)","v":"Puck sur la palette, intercepte les lignes de passe, déviation, contrôle de la canne de l'adversaire"},null,null,{"$f":"IF($H$2=\"G\",'Skills explications FTEM'!#REF!,'Skills explications FTEM'!#REF!)","v":{"$error":"#REF!"}}]
[null,null,null,{"$f":"IF($H$2=\"G\",'Skills explications FTEM'!F18,'Skills explications FTEM'!B18)","v":"Protéger le puck"},null,null,{"$f":"IF($H$2=\"G\",'Skills explications FTEM'!G18,'Skills explications FTEM'!C18)","v":"Contrôle du puck, dribbling, protection du puck, feintes (variantes: avec les patins ou avec et sans la bande), mise au jeu (bully)"},null,null,{"$f":"IF($H$2=\"G\",'Skills explications FTEM'!#REF!,'Skills explications FTEM'!#REF!)","v":{"$error":"#REF!"}}]
[null,null,null,{"$f":"IF($H$2=\"G\",'Skills explications FTEM'!F19,'Skills explications FTEM'!B19)","v":"Jeu du corps (charges)"},null,null,{"$f":"IF($H$2=\"G\",'Skills explications FTEM'!G19,'Skills explications FTEM'!C19)","v":"Faculté de s'imposer physiquement, duels (sur la surface de glace ou à la bande), prendre des checks, lever la tête, niveau de lutte, dur mais correct, bloquer les tirs avec le corps"},null,null,{"$f":"IF($H$2=\"G\",'Skills explications FTEM'!#REF!,'Skills explications FTEM'!#REF!)","v":{"$error":"#REF!"}}]
[{"$f":"'Skills explications FTEM'!A20:A20","v":0},null,null,{"$f":"IF($H$2=\"G\",'Skills explications FTEM'!F20,'Skills explications FTEM'!B20)","v":"-"},null,null,{"$f":"IF($H$2=\"G\",'Skills explications FTEM'!G20,'Skills explications FTEM'!C20)","v":"-"},null,null,{"$f":"IF($H$2=\"G\",'Skills explications FTEM'!#REF!,'Skills explications FTEM'!#REF!)","v":{"$error":"#REF!"}}]
[{"$f":"'Skills explications FTEM'!A21:A21","v":"HOCKEY SENSE"},null,null,{"$f":"IF($H$2=\"G\",'Skills explications FTEM'!F21,'Skills explications FTEM'!B21)","v":"Intelligence de jeu"},null,null,{"$f":"IF($H$2=\"G\",'Skills explications FTEM'!G21,'Skills explications FTEM'!C21)","v":"Voit les zones libres avec joueurs et crée des situations de surnombre, trouve des solutions et agit en toute situation, vitesse de la visualisation"},null,null,{"$f":"IF($H$2=\"G\",'Skills explications FTEM'!#REF!,'Skills explications FTEM'!#REF!)","v":{"$error":"#REF!"}},null,null,null,{"$f":"IFERROR(AVERAGE(O30:O34),\"-\")","v":"-"},null,{"$f":"IFERROR(AVERAGE(Q30:Q34),\"-\")","v":"-"},null,{"$f":"IFERROR(AVERAGE(S30:S34),\"-\")","v":"-"},null,{"$f":"IFERROR(AVERAGE(U30:U34),\"-\")","v":"-"},null,{"$f":"IFERROR(AVERAGE(W30:W34),\"-\")","v":"-"},null,{"$f":"IFERROR(AVERAGE(Y30:Y34),\"-\")","v":"-"}]
[{"$f":"'Skills explications FTEM'!A22:A22","v":0},null,null,{"$f":"IF($H$2=\"G\",'Skills explications FTEM'!F22,'Skills explications FTEM'!B22)","v":"Sensibilisation offensive"},null,null,{"$f":"IF($H$2=\"G\",'Skills explications FTEM'!G22,'Skills explications FTEM'!C22)","v":"Se démarque, anticipation des situations de jeu, ouvre des zones libres pour ses coéquipiers, se place pour marquer, vitesse de mise sous pression, communication"},null,null,{"$f":"IF($H$2=\"G\",'Skills explications FTEM'!#REF!,'Skills explications FTEM'!#REF!)","v":{"$error":"#REF!"}}]
[null,null,null,{"$f":"IF($H$2=\"G\",'Skills explications FTEM'!F23,'Skills explications FTEM'!B23)","v":"Sensibilisation défensive"},null,null,{"$f":"IF($H$2=\"G\",'Skills explications FTEM'!G23,'Skills explications FTEM'!C23)","v":"Garde la position «inside», protège le slot, rassure les coéquipiers, support, anticipe les lignes de passe, bloque les tirs. Réduit rapidement la distance sur l'adversaire, communication"},null,null,{"$f":"IF($H$2=\"G\",'Skills explications FTEM'!#REF!,'Skills explications FTEM'!#REF!)","v":{"$error":"#REF!"}}]
[{"$f":"'Skills explications FTEM'!A23:A23","v":0},null,null,{"$f":"IF($H$2=\"G\",'Skills explications FTEM'!F24,'Skills explications FTEM'!B24)","v":"Gestion du puck"},null,null,{"$f":"IF($H$2=\"G\",'Skills explications FTEM'!G24,'Skills explications FTEM'!C24)","v":"Fait le bon choix en fonction de la situation, support, surnombre"},null,null,{"$f":"IF($H$2=\"G\",'Skills explications FTEM'!#REF!,'Skills explications FTEM'!#REF!)","v":{"$error":"#REF!"}}]
[{"$f":"'Skills explications FTEM'!A25:A25","v":0},null,null,{"$f":"IF($H$2=\"G\",'Skills explications FTEM'!F25,'Skills explications FTEM'!B25)","v":"Créativité"},null,null,{"$f":"IF($H$2=\"G\",'Skills explications FTEM'!G25,'Skills explications FTEM'!C25)","v":"Prises de décision surprenantes, sens du but"},null,null,{"$f":"IF($H$2=\"G\",'Skills explications FTEM'!#REF!,'Skills explications FTEM'!#REF!)","v":{"$error":"#REF!"}}]
[{"$f":"'Skills explications FTEM'!A26:A26","v":"PERSONALITY"},null,null,{"$f":"'Skills explications FTEM'!B26","v":"COMPÉTENCES"},null,null,{"$f":"'Skills explications FTEM'!C26","v":"OBSERVATION"},null,null,{"$f":"'Skills explications FTEM'!H26","v":0},null,null,null,"Date1",null,"Date2",null,"Date3",null,"Date4",null,"Date5",null,"Player",null,"BUT","MESURES:\nSPECIFIQUE, MESURABLES, REALISTE",null,null,null,null,null,null,"DELAI","CONTRÔLE DU BUT","Date"]
[{"$f":"'Skills explications FTEM'!A27:A27","v":"PERSONNALITÉ"},null,null,{"$f":"IF($H$2=\"G\",'Skills explications FTEM'!F27,'Skills explications FTEM'!B27)","v":"Confiance en soi"},null,null,{"$f":"IF($H$2=\"G\",'Skills explications FTEM'!G27,'Skills explications FTEM'!C27)","v":"Est en confiance,«I can do it», peut estimer ses capacités (connaît ses qualités et ses défauts), peut réaliser ses qualités avec constance, est courageux et prend des risques calculés"},null,null,{"$f":"IF($H$2=\"G\",'Skills explications FTEM'!#REF!,'Skills explications FTEM'!#REF!)","v":{"$error":"#REF!"}},null,null,null,{"$f":"IFERROR(AVERAGE(O36:O40),\"-\")","v":"-"},null,null,null,{"$f":"IFERROR(AVERAGE(S36:S40),\"-\")","v":"-"},null,{"$f":"IFERROR(AVERAGE(U36:U40),\"-\")","v":"-"},null,{"$f":"IFERROR(AVERAGE(W36:W40),\"-\")","v":"-"},null,{"$f":"IFERROR(AVERAGE(Y36:Y40),\"-\")","v":"-"}]
[{"$f":"'Skills explications FTEM'!A28:A28","v":0},null,null,{"$f":"IF($H$2=\"G\",'Skills explications FTEM'!F28,'Skills explications FTEM'!B28)","v":"Facultés d'apprentissage"},null,null,{"$f":"IF($H$2=\"G\",'Skills explications FTEM'!G28,'Skills explications FTEM'!C28)","v":"A une bonne perception (il peut mémoriser et peut réaliser), il a de la personnalité, essaie d'apprendre de ses erreurs et est entreprenant"},null,null,{"$f":"IF($H$2=\"G\",'Skills explications FTEM'!#REF!,'Skills explications FTEM'!#REF!)","v":{"$error":"#REF!"}}]
[{"$f":"'Skills explications FTEM'!A29:A29","v":0},null,null,{"$f":"IF($H$2=\"G\",'Skills explications FTEM'!F29,'Skills explications FTEM'!B29)","v":"Prise de responsabilités"},null,null,{"$f":"IF($H$2=\"G\",'Skills explications FTEM'!G29,'Skills explications FTEM'!C29)","v":"Prend la responsabilité de ses performances et de son développement, est-il autonome, soigne-t-il les détails, a beaucoup d'engagement dans tous les domaines"},null,null,{"$f":"IF($H$2=\"G\",'Skills explications FTEM'!#REF!,'Skills explications FTEM'!#REF!)","v":{"$error":"#REF!"}}]
[null,null,null,{"$f":"IF($H$2=\"G\",'Skills explications FTEM'!F30,'Skills explications FTEM'!B30)","v":"Motivation"},null,null,{"$f":"IF($H$2=\"G\",'Skills explications FTEM'!G30,'Skills explications FTEM'!C30)","v":"Est toujours motivé, veut sans cesse se développer et apprendre, veut être le premier et avoir du succès, n'abandonne jamais et ne se laisse pas influencer par les échesc"},null,null,{"$f":"IF($H$2=\"G\",'Skills explications FTEM'!#REF!,'Skills explications FTEM'!#REF!)","v":{"$error":"#REF!"}}]
[{"$f":"'Skills explications FTEM'!A31:A31","v":0},null,null,{"$f":"IF($H$2=\"G\",'Skills explications FTEM'!F31,'Skills explications FTEM'!B31)","v":"Performance style de vie"},null,null,{"$f":"IF($H$2=\"G\",'Skills explications FTEM'!G31,'Skills explications FTEM'!C31)","v":"Gère bien son environnement et son temps libre selon les principes de la performance, obstiné, tenace et axé sur l'objectif, accent sur sa propre performance, est courageux et peut s'imposer contre la résistance, les défis le motivent"},null,null,{"$f":"IF($H$2=\"G\",'Skills explications FTEM'!#REF!,'Skills explications FTEM'!#REF!)","v":{"$error":"#REF!"}}]
[{"$f":"'Skills explications FTEM'!A32:A32","v":"FORCE MENTALE"},null,null,{"$f":"IF($H$2=\"G\",'Skills explications FTEM'!F32,'Skills explications FTEM'!B32)","v":"Engagement"},null,null,{"$f":"IF($H$2=\"G\",'Skills explications FTEM'!G32,'Skills explications FTEM'!C32)","v":"Démontre beaucoup d'intensité dans les entraînements et les matchs, donne toujours son maximum et veut sans cesse repousser ses limites, a-t-il de la passion, s'efforce-t-il de s'entraîner avec une excellente qualité"},null,null,{"$f":"IF($H$2=\"G\",'Skills explications FTEM'!#REF!,'Skills explications FTEM'!#REF!)","v":{"$error":"#REF!"}},null,null,null,{"$f":"IFERROR(AVERAGE(O41:O45),\"-\")","v":"-"},null,null,null,{"$f":"IFERROR(AVERAGE(S41:S45),\"-\")","v":"-"},null,{"$f":"IFERROR(AVERAGE(U41:U45),\"-\")","v":"-"},null,{"$f":"IFERROR(AVERAGE(W41:W45),\"-\")","v":"-"},null,{"$f":"IFERROR(AVERAGE(Y41:Y45),\"-\")","v":"-"}]
[{"$f":"'Skills explications FTEM'!A33:A33","v":0},null,null,{"$f":"IF($H$2=\"G\",'Skills explications FTEM'!F33,'Skills explications FTEM'!B33)","v":"Préparation"},null,null,{"$f":"IF($H$2=\"G\",'Skills explications FTEM'!G33,'Skills explications FTEM'!C33)","v":"Se prépare-t-il toujours bien, mentalement et physiquement, se prépare-t-il toujours bien pour obtenir le niveau de performance idéal (ILZ)"},null,null,{"$f":"IF($H$2=\"G\",'Skills explications FTEM'!#REF!,'Skills explications FTEM'!#REF!)","v":{"$error":"#REF!"}}]
[null,null,null,{"$f":"IF($H$2=\"G\",'Skills explications FTEM'!F34,'Skills explications FTEM'!B34)","v":"Coaching personnel"},null,null,{"$f":"IF($H$2=\"G\",'Skills explications FTEM'!G34,'Skills explications FTEM'!C34)","v":"A-t-il de bonnes facultés de concentration, peut-il maintenir son niveau de performance idéal (ILZ) dans les entraînements et les matchs, peut-il appliquer ses techniques de base, est-il résistant aux influences et pensées négatives, est-il conscient de son attitude corporelle et peut-il l'influencer"},null,null,{"$f":"IF($H$2=\"G\",'Skills explications FTEM'!#REF!,'Skills explications FTEM'!#REF!)","v":{"$error":"#REF!"}}]
[{"$f":"'Skills explications FTEM'!A34:A34","v":0},null,null,{"$f":"IF($H$2=\"G\",'Skills explications FTEM'!F35,'Skills explications FTEM'!B35)","v":"Gestion des énergies"},null,null,{"$f":"IF($H$2=\"G\",'Skills explications FTEM'!G35,'Skills explications FTEM'!C35)","v":"Peut-il gérer ses propres énergies, prend-il soin de sa récupération, peut-il gérer les moments où il faut se donner à fond ou quand il faut déconnecter, bouton On/Off"},null,null,{"$f":"IF($H$2=\"G\",'Skills explications FTEM'!#REF!,'Skills explications FTEM'!#REF!)","v":{"$error":"#REF!"}}]
[{"$f":"'Skills explications FTEM'!A36:A36","v":0},null,null,{"$f":"IF($H$2=\"G\",'Skills explications FTEM'!F36,'Skills explications FTEM'!B36)","v":"Contrôle des émotions"},null,null,{"$f":"IF($H$2=\"G\",'Skills explications FTEM'!G36,'Skills explications FTEM'!C36)","v":"Peut-il gérer ses propres émotions et impulsions, reste-t-il sous contrôle lorsqu'il y a une grande pression, peut-il rester calme lorsque le niveau émotionnel et de frustration est élevé"},null,null,{"$f":"IF($H$2=\"G\",'Skills explications FTEM'!#REF!,'Skills explications FTEM'!#REF!)","v":{"$error":"#REF!"}}]
[{"$f":"'Skills explications FTEM'!A37:A37","v":"PHYSIQUE"},null,null,{"$f":"IF($H$2=\"G\",'Skills explications FTEM'!F37,'Skills explications FTEM'!B37)","v":"Production de la performance"},null,null,{"$f":"IF($H$2=\"G\",'Skills explications FTEM'!G37,'Skills explications FTEM'!C37)","v":"A-t-il la puissance, la force, la vitesse nécessaires dans les jambes et le haut du corps (facteurs neuromusculaires)"},null,null,{"$f":"IF($H$2=\"G\",'Skills explications FTEM'!#REF!,'Skills explications FTEM'!#REF!)","v":{"$error":"#REF!"}},null,null,null,{"$f":"IFERROR(AVERAGE(O46:O50),\"-\")","v":"-"},null,null,null,{"$f":"IFERROR(AVERAGE(S46:S50),\"-\")","v":"-"},null,{"$f":"IFERROR(AVERAGE(U46:U50),\"-\")","v":"-"},null,{"$f":"IFERROR(AVERAGE(W46:W50),\"-\")","v":"-"},null,{"$f":"IFERROR(AVERAGE(Y46:Y50),\"-\")","v":"-"}]
[{"$f":"'Skills explications FTEM'!A38:A38","v":0},null,null,{"$f":"IF($H$2=\"G\",'Skills explications FTEM'!F38,'Skills explications FTEM'!B38)","v":"Spécifique au sport, résistant à l'effort"},null,null,{"$f":"IF($H$2=\"G\",'Skills explications FTEM'!G38,'Skills explications FTEM'!C38)","v":"Est-il capable de maintenir sa puissance, sa force, sa vitesse durant un long temps de glace et peut-il récupérer complètement entre ses engagements (facteurs du métabolisme et cardiovasculaire)"},null,null,{"$f":"IF($H$2=\"G\",'Skills explications FTEM'!#REF!,'Skills explications FTEM'!#REF!)","v":{"$error":"#REF!"}}]
[null,null,null,{"$f":"IF($H$2=\"G\",'Skills explications FTEM'!F39,'Skills explications FTEM'!B39)","v":"Santé / Prévention"},null,null,{"$f":"IF($H$2=\"G\",'Skills explications FTEM'!G39,'Skills explications FTEM'!C39)","v":"A-t-il la stabilité nécessaire (p. ex. ses appuis) et la mobilité nécessaire au niveau des articulations centrales"},null,null,{"$f":"IF($H$2=\"G\",'Skills explications FTEM'!#REF!,'Skills explications FTEM'!#REF!)","v":{"$error":"#REF!"}}]
[{"$f":"'Skills explications FTEM'!A39:A39","v":0},null,null,{"$f":"IF($H$2=\"G\",'Skills explications FTEM'!F40,'Skills explications FTEM'!B40)","v":"Mobilité / Coordination"},null,null,{"$f":"IF($H$2=\"G\",'Skills explications FTEM'!G40,'Skills explications FTEM'!C40)","v":"Gère-t-il ses aptitudes de mouvements de base, qui sont un fournisseur important des fonctions spécifiques «Skills» pour être efficace"},null,null,{"$f":"IF($H$2=\"G\",'Skills explications FTEM'!#REF!,'Skills explications FTEM'!#REF!)","v":{"$error":"#REF!"}}]
[{"$f":"'Skills explications FTEM'!A41:A41","v":0},null,null,{"$f":"IF($H$2=\"G\",'Skills explications FTEM'!F41,'Skills explications FTEM'!B41)","v":"Robustesse"},null,null,{"$f":"IF($H$2=\"G\",'Skills explications FTEM'!G41,'Skills explications FTEM'!C41)","v":"A-t-il la force de base nécessaire (tension corporelle) pour gagner des duels et résister aux charges"},null,null,{"$f":"IF($H$2=\"G\",'Skills explications FTEM'!#REF!,'Skills explications FTEM'!#REF!)","v":{"$error":"#REF!"}}]

{"sheet":"15","index":18,"n_rows":50,"n_cols":36,"rows_kept":50,"cut":false,"hidden":false,"merged":[[45,25,49,25],[45,26,49,32],[45,34,49,34],[40,23,44,23],[42,3,42,5],[42,6,42,11],[44,3,44,5],[44,6,44,11],[40,0,44,2],[40,3,40,5],[40,6,40,11],[40,12,44,12],[40,13,44,13],[40,15,44,15],[45,0,49,2],[45,3,45,5],[45,6,45,11],[45,12,49,12],[45,23,49,23],[47,3,47,5],[47,6,47,11],[48,3,48,5],[48,6,48,11],[49,3,49,5],[34,21,34,22],[35,17,39,17],[35,19,39,19],[35,21,39,21],[36,3,36,5],[36,6,36,11],[38,3,38,5],[38,6,38,11],[40,17,44,17],[40,19,44,19],[40,21,44,21],[43,3,43,5],[43,6,43,11],[37,3,37,5],[37,6,37,11],[41,3,41,5],[41,6,41,11],[29,0,33,2],[29,3,29,5],[29,6,29,11],[29,12,33,12],[29,13,33,13],[29,15,33,15],[34,23,34,24],[34,26,34,32],[35,0,39,2],[35,3,35,5],[35,6,35,11],[35,12,39,12],[35,13,39,13],[35,15,39,15],[39,3,39,5],[39,6,39,11],[35,23,39,23],[34,0,34,2],[34,3,34,5],[34,6,34,11],[34,13,34,14],[34,15,34,16],[34,17,34,18],[34,19,34,20],[23,21,28,21],[23,23,28,23],[24,3,24,5],[24,6,24,11],[28,3,28,5],[28,6,28,11],[33,3,33,5],[33,6,33,11],[29,23,33,23],[29,17,33,17],[29,19,33,19],[29,21,33,21],[30,3,30,5],[30,6,30,11],[31,3,31,5],[31,6,31,11],[25,3,25,5],[25,6,25,11],[32,3,32,5],[32,6,32,11],[18,15,22,15],[18,17,22,17],[18,19,22,19],[18,21,22,21],[18,23,22,23],[22,3,22,5],[22,6,22,11],[23,0,28,2],[23,3,23,5],[23,6,23,11],[23,12,28,12],[23,13,28,13],[23,15,28,15],[23,17,28,17],[18,0,22,2],[18,3,18,5],[18,6,18,11],[18,12,22,12],[18,13,22,13],[19,3,19,5],[19,6,19,11],[20,3,20,5],[20,6,20,11],[23,19,28,19],[12,23,16,23],[16,3,16,5],[16,6,16,11],[17,0,17,2],[17,3,17,5],[17,6,17,11],[17,13,17,14],[17,15,17,16],[17,17,17,18],[17,19,17,20],[17,21,17,22],[17,23,17,24],[12,0,16,2],[12,3,12,5],[12,6,12,11],[12,12,16,12],[12,13,16,13],[12,15,16,15],[12,17,16,17],[12,19,16,19],[12,21,16,21],[13,3,13,5],[13,6,13,11],[14,3,14,5],[11,0,11,2],[11,3,11,5],[11,13,11,14],[11,15,11,16],[11,17,11,18],[11,19,11,20],[11,21,11,22],[11,23,11,24],[11,26,11,32],[11,6,11,11],[0,33,0,35],[29,25,33,25],[29,26,33,32],[29,34,33,34],[35,25,39,25],[35,26,39,32],[35,34,39,34],[1,0,1,1],[1,2,1,5],[1,10,1,24],[2,0,2,1],[2,2,2,5],[2,11,2,24],[6,0,6,1],[6,2,6,35],[7,0,7,1],[7,2,7,35],[8,0,8,1],[8,2,8,35],[3,0,3,1],[3,10,3,24],[4,0,4,1],[4,2,4,5],[4,10,4,24],[49,6,49,11],[45,13,49,13],[45,15,49,15],[45,17,49,17],[45,19,49,19],[45,21,49,21],[0,0,0,24],[0,25,0,26],[0,27,0,32],[10,0,10,24],[10,25,10,35],[40,25,44,25],[40,26,44,32],[40,34,44,34],[12,25,16,25],[12,26,16,32],[12,34,16,34],[18,25,22,25],[18,26,22,32],[18,34,22,34],[23,25,28,25],[23,26,28,32],[23,34,28,34],[17,26,17,32],[46,3,46,5],[46,6,46,11],[14,6,14,11],[15,3,15,5],[15,6,15,11],[21,3,21,5],[21,6,21,11],[26,3,26,5],[26,6,26,11],[27,3,27,5],[27,6,27,11]]}
["Infos personelles",null,null,null,null,null,null,null,null,null,null,null,null,null,null,null,null,null,null,null,null,null,null,null,null,"Predispositions",null,"Evaluations",null,null,null,null,null,"Rating"]
["PRENOM",null,{"$f":"IF(ISBLANK(VLOOKUP(15,Tabelle3[],3,0)),\"-\",VLOOKUP(15,Tabelle3[],3,0))","v":"-"},null,null,null,"POSITION",null,null,"ADRESSE",{"$f":"IF(ISBLANK(VLOOKUP(15,Tabelle3[],5,0)),\"-\",VLOOKUP(15,Tabelle3[],5,0))","v":"-"},null,null,null,null,null,null,null,null,null,null,null,null,null,null,"\"àage\" (Biologique/age relatif)",null,"Date 1",null,null,"cm",null,"Kg",null,"AUSGEZEICHNET",5]
["NOM",null,{"$f":"IF(ISBLANK(VLOOKUP(15,Tabelle3[],2,0)),\"-\",VLOOKUP(15,Tabelle3[],2,0))","v":"-"},null,null,null,"CANNE",null,null,"LIEU",{"$f":"IF(ISBLANK(VLOOKUP(15,Tabelle3[],7,0)),\"-\",VLOOKUP(15,Tabelle3[],7,0))","v":"-"},{"$f":"IF(ISBLANK(VLOOKUP(15,Tabelle3[],6,0)),\"-\",VLOOKUP(15,Tabelle3[],6,0))","v":"-"},null,null,null,null,null,null,null,null,null,null,null,null,null,"predispositions",null,"Date 2",null,null,"cm",null,"Kg",null,"GUT",4]
["DATE NAISS.",null,{"$f":"IF(ISBLANK(VLOOKUP(15,Tabelle3[],14,0)),\"-\",VLOOKUP(15,Tabelle3[],14,0))","v":"-"},{"$f":"IF(ISBLANK(VLOOKUP(15,Tabelle3[],15,0)),\"-\",VLOOKUP(15,Tabelle3[],15,0))","v":"-"},{"$f":"IF(ISBLANK(VLOOKUP(15,Tabelle3[],16,0)),\"-\",VLOOKUP(15,Tabelle3[],16,0))","v":"-"},null,"GRANDEUR",null,"cm","PHONE",{"$f":"IF(ISBLANK(VLOOKUP(15,Tabelle3[],8,0)),\"-\",VLOOKUP(15,Tabelle3[],8,0))","v":"-"},null,null,null,null,null,null,null,null,null,null,null,null,null,null,"Entourage",null,"Date 3",null,null,"cm",null,"Kg",null,"DURCHSCHNITT",3]
["SEXE",null,{"$f":"IF(ISBLANK(VLOOKUP(15,Tabelle3[],13,0)),\"-\",VLOOKUP(15,Tabelle3[],13,0))","v":"-"},null,null,null,"POIDS",null,"Kg","E-Mail",{"$f":"IF(ISBLANK(VLOOKUP(15,Tabelle3[],9,0)),\"-\",VLOOKUP(15,Tabelle3[],9,0))","v":"-"},null,null,null,null,null,null,null,null,null,null,null,null,null,null,null,null,"Date 4",null,null,"cm",null,"Kg",null,"MANGELHAFT",2]
[null,null,null,null,null,null,null,null,null,null,null,null,null,null,null,null,null,null,null,null,null,null,null,null,null,null,null,"Date 5",null,null,"cm",null,"Kg",null,"UNGENÜGEND",1]
["Vision",null,"xxx"]
["Next step",null,"xxx"]
["Profil du Joueur",null,"xxx"]
[]
["EVALUATION (COACH / JOUEUR)",null,null,null,null,null,null,null,null,null,null,null,null,null,null,null,null,null,null,null,null,null,null,null,null,"SMART"]
[{"$f":"'Skills explications FTEM'!A3:A3","v":"TEAM"},null,null,{"$f":"'Skills explications FTEM'!B3","v":"COMPÉTENCES"},null,null,{"$f":"'Skills explications FTEM'!C3","v":"OBSERVATION"},null,null,{"$f":"'Skills explications FTEM'!H3","v":0},null,null,"Final","Date1",null,"Date2",null,"Date3",null,"Date4",null,"Date5",null,"Player",null,"BUT","MESURES:\nSPECIFIQUE, MESURABLES, REALISTE",null,null,null,null,null,null,"DELAI","CONTRÔLE DU BUT","Date"]
[{"$f":"'Skills explications FTEM'!A4:A4","v":"ÉQUIPE"},null,null,{"$f":"IF($H$2=\"G\",'Skills explications FTEM'!F4,'Skills explications FTEM'!B4)","v":"Communication"},null,null,{"$f":"IF($H$2=\"G\",'Skills explications FTEM'!G4,'Skills explications FTEM'!C4)","v":"Respect et ouverture dans ses relations, confiance comme base, traite les conflits sans perturber la stabilité du groupe, communique avec ses coéquipiers, les entraîneurs et les fonctionnaires avec les mêmes valeurs"},null,null,{"$f":"IF($H$2=\"G\",'Skills explications FTEM'!#REF!,'Skills explications FTEM'!#REF!)","v":{"$error":"#REF!"}},null,null,null,{"$f":"IFERROR(AVERAGE(O13:O17),\"-\")","v":"-"},null,{"$f":"IFERROR(AVERAGE(Q13:Q17),\"-\")","v":"-"},null,{"$f":"IFERROR(AVERAGE(S13:S17),\"-\")","v":"-"},null,{"$f":"IFERROR(AVERAGE(U13:U17),\"-\")","v":"-"},null,{"$f":"IFERROR(AVERAGE(W13:W17),\"-\")","v":"-"},null,{"$f":"IFERROR(AVERAGE(Y13:Y17),\"-\")","v":"-"}]
[null,null,null,{"$f":"IF($H$2=\"G\",'Skills explications FTEM'!F5,'Skills explications FTEM'!B5)","v":"Capacité de jouer en équipe"},null,null,{"$f":"IF($H$2=\"G\",'Skills explications FTEM'!G5,'Skills explications FTEM'!C5)","v":"Intégration dans le groupe, définit et réalise des objectifs communs, NOUS avant le MOI, participe au bon esprit d'équipe et à un bon climat de travail"},null,null,{"$f":"IF($H$2=\"G\",'Skills explications FTEM'!#REF!,'Skills explications FTEM'!#REF!)","v":{"$error":"#REF!"}}]
[null,null,null,{"$f":"IF($H$2=\"G\",'Skills explications FTEM'!F6,'Skills explications FTEM'!B6)","v":"Leadership"},null,null,{"$f":"IF($H$2=\"G\",'Skills explications FTEM'!G6,'Skills explications FTEM'!C6)","v":"Prend des responsabilités dans le groupe, essaie de donner de la valeur à ses coéquipiers et au groupe, influence positivement la dynamique de groupe"},null,null,{"$f":"IF($H$2=\"G\",'Skills explications FTEM'!#REF!,'Skills explications FTEM'!#REF!)","v":{"$error":"#REF!"}}]
[null,null,null,{"$f":"IF($H$2=\"G\",'Skills explications FTEM'!F7,'Skills explications FTEM'!B7)","v":"Répartition des rôles"},null,null,{"$f":"IF($H$2=\"G\",'Skills explications FTEM'!G7,'Skills explications FTEM'!C7)","v":"Connaît son rôle et le réalise, est conscient de sa position dans l'équipe et le système, met ses compétences à disposition de l'équipe"},null,null,{"$f":"IF($H$2=\"G\",'Skills explications FTEM'!#REF!,'Skills explications FTEM'!#REF!)","v":{"$error":"#REF!"}}]
[{"$f":"'Skills explications FTEM'!A8:A8","v":0},null,null,{"$f":"IF($H$2=\"G\",'Skills explications FTEM'!F8,'Skills explications FTEM'!B8)","v":"Respect"},null,null,{"$f":"IF($H$2=\"G\",'Skills explications FTEM'!G8,'Skills explications FTEM'!C8)","v":"Relations respectueuses avec les coéquipiers, les entraîneurs, les adversaires, les arbitres et le staff; respect des règles, des principes du fairplay (y compris antidopage)"},null,null,{"$f":"IF($H$2=\"G\",'Skills explications FTEM'!#REF!,'Skills explications FTEM'!#REF!)","v":{"$error":"#REF!"}}]
[{"$f":"'Skills explications FTEM'!A9:A9","v":"ON ICE"},null,null,{"$f":"'Skills explications FTEM'!B9","v":"COMPÉTENCES"},null,null,{"$f":"'Skills explications FTEM'!C9","v":"OBSERVATION"},null,null,{"$f":"'Skills explications FTEM'!H9","v":0},null,null,null,"Date1",null,"Date2",null,"Date3",null,"Date4",null,"Date5",null,"Player",null,"BUT","MESURES:\nSPECIFIQUE, MESURABLES, REALISTE",null,null,null,null,null,null,"DELAI","CONTRÔLE DU BUT","Date"]
[{"$f":"'Skills explications FTEM'!A10:A10","v":"PATINAGE"},null,null,{"$f":"IF($H$2=\"G\",'Skills explications FTEM'!F10,'Skills explications FTEM'!B10)","v":"Vitesse de patinage"},null,null,{"$f":"IF($H$2=\"G\",'Skills explications FTEM'!G10,'Skills explications FTEM'!C10)","v":"Accélération, départ, explosivité des 3 premiers pas, fréquence"},null,null,{"$f":"IF($H$2=\"G\",'Skills explications FTEM'!#REF!,'Skills explications FTEM'!#REF!)","v":{"$error":"#REF!"}},null,null,null,{"$f":"IFERROR(AVERAGE(O19:O23),\"-\")","v":"-"},null,{"$f":"IFERROR(AVERAGE(Q19:Q23),\"-\")","v":"-"},null,{"$f":"IFERROR(AVERAGE(S19:S23),\"-\")","v":"-"},null,{"$f":"IFERROR(AVERAGE(U19:U23),\"-\")","v":"-"},null,{"$f":"IFERROR(AVERAGE(W19:W23),\"-\")","v":"-"},null,{"$f":"IFERROR(AVERAGE(Y19:Y23),\"-\")","v":"-"}]
[{"$f":"'Skills explications FTEM'!A11:A11","v":0},null,null,{"$f":"IF($H$2=\"G\",'Skills explications FTEM'!F11,'Skills explications FTEM'!B11)","v":"Vitesse, rapidité"},null,null,{"$f":"IF($H$2=\"G\",'Skills explications FTEM'!G11,'Skills explications FTEM'!C11)","v":"Vitesse, faculté de glisse, avant et arrière, économie des forces"},null,null,{"$f":"IF($H$2=\"G\",'Skills explications FTEM'!#REF!,'Skills explications FTEM'!#REF!)","v":{"$error":"#REF!"}}]
[{"$f":"'Skills explications FTEM'!A12:A12","v":0},null,null,{"$f":"IF($H$2=\"G\",'Skills explications FTEM'!F12,'Skills explications FTEM'!B12)","v":"Agilité"},null,null,{"$f":"IF($H$2=\"G\",'Skills explications FTEM'!G12,'Skills explications FTEM'!C12)","v":"Changements de direction, pivots, stop et start «Nummelin»"},null,null,{"$f":"IF($H$2=\"G\",'Skills explications FTEM'!#REF!,'Skills explications FTEM'!#REF!)","v":{"$error":"#REF!"}},null,null,null,{"$f":"IFERROR(AVERAGE(O21:O23),\"-\")","v":"-"},null,{"$f":"IFERROR(AVERAGE(Q21:Q23),\"-\")","v":"-"},null,{"$f":"IFERROR(AVERAGE(S21:S23),\"-\")","v":"-"},null,{"$f":"IFERROR(AVERAGE(U21:U23),\"-\")","v":"-"},null,{"$f":"IFERROR(AVERAGE(W21:W23),\"-\")","v":"-"},null,"-"]
[null,null,null,{"$f":"IF($H$2=\"G\",'Skills explications FTEM'!F13,'Skills explications FTEM'!B13)","v":"Balance"},null,null,{"$f":"IF($H$2=\"G\",'Skills explications FTEM'!G13,'Skills explications FTEM'!C13)","v":"Equilibre, faculté d'être sur ses appuis, position basse, 1 ou 2 jambes"},null,null,{"$f":"IF($H$2=\"G\",'Skills explications FTEM'!#REF!,'Skills explications FTEM'!#REF!)","v":{"$error":"#REF!"}}]
[{"$f":"'Skills explications FTEM'!#REF!","v":{"$error":"#REF!"}},null,null,{"$f":"IF($H$2=\"G\",'Skills explications FTEM'!F14,'Skills explications FTEM'!B14)","v":"Patinage arrière"},null,null,{"$f":"IF($H$2=\"G\",'Skills explications FTEM'!G14,'Skills explications FTEM'!C14)","v":"Accélération, vitesse, équilibre "},null,null,{"$f":"IF($H$2=\"G\",'Skills explications FTEM'!#REF!,'Skills explications FTEM'!#REF!)","v":{"$error":"#REF!"}}]
[{"$f":"'Skills explications FTEM'!A15:A15","v":"SKILLS"},null,null,{"$f":"IF($H$2=\"G\",'Skills explications FTEM'!F15,'Skills explications FTEM'!B15)","v":"Tirer"},null,null,{"$f":"IF($H$2=\"G\",'Skills explications FTEM'!G15,'Skills explications FTEM'!C15)","v":"Efficience (pas d'espace et de temps), variantes, degré de surprise (déclenchement rapide), précision, puissance (conclusion tactique)"},null,null,{"$f":"IF($H$2=\"G\",'Skills explications FTEM'!#REF!,'Skills explications FTEM'!#REF!)","v":{"$error":"#REF!"}},null,null,null,{"$f":"IFERROR(AVERAGE(O24:O29),\"-\")","v":"-"},null,{"$f":"IFERROR(AVERAGE(Q24:Q29),\"-\")","v":"-"},null,{"$f":"IFERROR(AVERAGE(S24:S29),\"-\")","v":"-"},null,{"$f":"IFERROR(AVERAGE(U24:U29),\"-\")","v":"-"},null,{"$f":"IFERROR(AVERAGE(W24:W29),\"-\")","v":"-"},null,{"$f":"IFERROR(AVERAGE(Y24:Y29),\"-\")","v":"-"}]
[{"$f":"'Skills explications FTEM'!A16:A16","v":0},null,null,{"$f":"IF($H$2=\"G\",'Skills explications FTEM'!F16,'Skills explications FTEM'!B16)","v":"Passer"},null,null,{"$f":"IF($H$2=\"G\",'Skills explications FTEM'!G16,'Skills explications FTEM'!C16)","v":"Donne la passe (distance, passe flipée en revers), réception de la passe (précision, timing, coup droit, revers, patins), vitesse du puck"},null,null,{"$f":"IF($H$2=\"G\",'Skills explications FTEM'!#REF!,'Skills explications FTEM'!#REF!)","v":{"$error":"#REF!"}}]
[{"$f":"'Skills explications FTEM'!A17:A17","v":0},null,null,{"$f":"IF($H$2=\"G\",'Skills explications FTEM'!F17,'Skills explications FTEM'!B17)","v":"Travail de canne, conduite du puck"},null,null,{"$f":"IF($H$2=\"G\",'Skills explications FTEM'!G17,'Skills explications FTEM'!C17)","v":"Puck sur la palette, intercepte les lignes de passe, déviation, contrôle de la canne de l'adversaire"},null,null,{"$f":"IF($H$2=\"G\",'Skills explications FTEM'!#REF!,'Skills explications FTEM'!#REF!)","v":{"$error":"#REF!"}}]
[null,null,null,{"$f":"IF($H$2=\"G\",'Skills explications FTEM'!F18,'Skills explications FTEM'!B18)","v":"Protéger le puck"},null,null,{"$f":"IF($H$2=\"G\",'Skills explications FTEM'!G18,'Skills explications FTEM'!C18)","v":"Contrôle du puck, dribbling, protection du puck, feintes (variantes: avec les patins ou avec et sans la bande), mise au jeu (bully)"},null,null,{"$f":"IF($H$2=\"G\",'Skills explications FTEM'!#REF!,'Skills explications FTEM'!#REF!)","v":{"$error":"#REF!"}}]
[null,null,null,{"$f":"IF($H$2=\"G\",'Skills explications FTEM'!F19,'Skills explications FTEM'!B19)","v":"Jeu du corps (charges)"},null,null,{"$f":"IF($H$2=\"G\",'Skills explications FTEM'!G19,'Skills explications FTEM'!C19)","v":"Faculté de s'imposer physiquement, duels (sur la surface de glace ou à la bande), prendre des checks, lever la tête, niveau de lutte, dur mais correct, bloquer les tirs avec le corps"},null,null,{"$f":"IF($H$2=\"G\",'Skills explications FTEM'!#REF!,'Skills explications FTEM'!#REF!)","v":{"$error":"#REF!"}}]
[{"$f":"'Skills explications FTEM'!A20:A20","v":0},null,null,{"$f":"IF($H$2=\"G\",'Skills explications FTEM'!F20,'Skills explications FTEM'!B20)","v":"-"},null,null,{"$f":"IF($H$2=\"G\",'Skills explications FTEM'!G20,'Skills explications FTEM'!C20)","v":"-"},null,null,{"$f":"IF($H$2=\"G\",'Skills explications FTEM'!#REF!,'Skills explications FTEM'!#REF!)","v":{"$error":"#REF!"}}]
[{"$f":"'Skills explications FTEM'!A21:A21","v":"HOCKEY SENSE"},null,null,{"$f":"IF($H$2=\"G\",'Skills explications FTEM'!F21,'Skills explications FTEM'!B21)","v":"Intelligence de jeu"},null,null,{"$f":"IF($H$2=\"G\",'Skills explications FTEM'!G21,'Skills explications FTEM'!C21)","v":"Voit les zones libres avec joueurs et crée des situations de surnombre, trouve des solutions et agit en toute situation, vitesse de la visualisation"},null,null,{"$f":"IF($H$2=\"G\",'Skills explications FTEM'!#REF!,'Skills explications FTEM'!#REF!)","v":{"$error":"#REF!"}},null,null,null,{"$f":"IFERROR(AVERAGE(O30:O34),\"-\")","v":"-"},null,{"$f":"IFERROR(AVERAGE(Q30:Q34),\"-\")","v":"-"},null,{"$f":"IFERROR(AVERAGE(S30:S34),\"-\")","v":"-"},null,{"$f":"IFERROR(AVERAGE(U30:U34),\"-\")","v":"-"},null,{"$f":"IFERROR(AVERAGE(W30:W34),\"-\")","v":"-"},null,{"$f":"IFERROR(AVERAGE(Y30:Y34),\"-\")","v":"-"}]
[{"$f":"'Skills explications FTEM'!A22:A22","v":0},null,null,{"$f":"IF($H$2=\"G\",'Skills explications FTEM'!F22,'Skills explications FTEM'!B22)","v":"Sensibilisation offensive"},null,null,{"$f":"IF($H$2=\"G\",'Skills explications FTEM'!G22,'Skills explications FTEM'!C22)","v":"Se démarque, anticipation des situations de jeu, ouvre des zones libres pour ses coéquipiers, se place pour marquer, vitesse de mise sous pression, communication"},null,null,{"$f":"IF($H$2=\"G\",'Skills explications FTEM'!#REF!,'Skills explications FTEM'!#REF!)","v":{"$error":"#REF!"}}]
[null,null,null,{"$f":"IF($H$2=\"G\",'Skills explications FTEM'!F23,'Skills explications FTEM'!B23)","v":"Sensibilisation défensive"},null,null,{"$f":"IF($H$2=\"G\",'Skills explications FTEM'!G23,'Skills explications FTEM'!C23)","v":"Garde la position «inside», protège le slot, rassure les coéquipiers, support, anticipe les lignes de passe, bloque les tirs. Réduit rapidement la distance sur l'adversaire, communication"},null,null,{"$f":"IF($H$2=\"G\",'Skills explications FTEM'!#REF!,'Skills explications FTEM'!#REF!)","v":{"$error":"#REF!"}}]
[{"$f":"'Skills explications FTEM'!A23:A23","v":0},null,null,{"$f":"IF($H$2=\"G\",'Skills explications FTEM'!F24,'Skills explications FTEM'!B24)","v":"Gestion du puck"},null,null,{"$f":"IF($H$2=\"G\",'Skills explications FTEM'!G24,'Skills explications FTEM'!C24)","v":"Fait le bon choix en fonction de la situation, support, surnombre"},null,null,{"$f":"IF($H$2=\"G\",'Skills explications FTEM'!#REF!,'Skills explications FTEM'!#REF!)","v":{"$error":"#REF!"}}]
[{"$f":"'Skills explications FTEM'!A25:A25","v":0},null,null,{"$f":"IF($H$2=\"G\",'Skills explications FTEM'!F25,'Skills explications FTEM'!B25)","v":"Créativité"},null,null,{"$f":"IF($H$2=\"G\",'Skills explications FTEM'!G25,'Skills explications FTEM'!C25)","v":"Prises de décision surprenantes, sens du but"},null,null,{"$f":"IF($H$2=\"G\",'Skills explications FTEM'!#REF!,'Skills explications FTEM'!#REF!)","v":{"$error":"#REF!"}}]
[{"$f":"'Skills explications FTEM'!A26:A26","v":"PERSONALITY"},null,null,{"$f":"'Skills explications FTEM'!B26","v":"COMPÉTENCES"},null,null,{"$f":"'Skills explications FTEM'!C26","v":"OBSERVATION"},null,null,{"$f":"'Skills explications FTEM'!H26","v":0},null,null,null,"Date1",null,"Date2",null,"Date3",null,"Date4",null,"Date5",null,"Player",null,"BUT","MESURES:\nSPECIFIQUE, MESURABLES, REALISTE",null,null,null,null,null,null,"DELAI","CONTRÔLE DU BUT","Date"]
[{"$f":"'Skills explications FTEM'!A27:A27","v":"PERSONNALITÉ"},null,null,{"$f":"IF($H$2=\"G\",'Skills explications FTEM'!F27,'Skills explications FTEM'!B27)","v":"Confiance en soi"},null,null,{"$f":"IF($H$2=\"G\",'Skills explications FTEM'!G27,'Skills explications FTEM'!C27)","v":"Est en confiance,«I can do it», peut estimer ses capacités (connaît ses qualités et ses défauts), peut réaliser ses qualités avec constance, est courageux et prend des risques calculés"},null,null,{"$f":"IF($H$2=\"G\",'Skills explications FTEM'!#REF!,'Skills explications FTEM'!#REF!)","v":{"$error":"#REF!"}},null,null,null,{"$f":"IFERROR(AVERAGE(O36:O40),\"-\")","v":"-"},null,null,null,{"$f":"IFERROR(AVERAGE(S36:S40),\"-\")","v":"-"},null,{"$f":"IFERROR(AVERAGE(U36:U40),\"-\")","v":"-"},null,{"$f":"IFERROR(AVERAGE(W36:W40),\"-\")","v":"-"},null,{"$f":"IFERROR(AVERAGE(Y36:Y40),\"-\")","v":"-"}]
[{"$f":"'Skills explications FTEM'!A28:A28","v":0},null,null,{"$f":"IF($H$2=\"G\",'Skills explications FTEM'!F28,'Skills explications FTEM'!B28)","v":"Facultés d'apprentissage"},null,null,{"$f":"IF($H$2=\"G\",'Skills explications FTEM'!G28,'Skills explications FTEM'!C28)","v":"A une bonne perception (il peut mémoriser et peut réaliser), il a de la personnalité, essaie d'apprendre de ses erreurs et est entreprenant"},null,null,{"$f":"IF($H$2=\"G\",'Skills explications FTEM'!#REF!,'Skills explications FTEM'!#REF!)","v":{"$error":"#REF!"}}]
[{"$f":"'Skills explications FTEM'!A29:A29","v":0},null,null,{"$f":"IF($H$2=\"G\",'Skills explications FTEM'!F29,'Skills explications FTEM'!B29)","v":"Prise de responsabilités"},null,null,{"$f":"IF($H$2=\"G\",'Skills explications FTEM'!G29,'Skills explications FTEM'!C29)","v":"Prend la responsabilité de ses performances et de son développement, est-il autonome, soigne-t-il les détails, a beaucoup d'engagement dans tous les domaines"},null,null,{"$f":"IF($H$2=\"G\",'Skills explications FTEM'!#REF!,'Skills explications FTEM'!#REF!)","v":{"$error":"#REF!"}}]
[null,null,null,{"$f":"IF($H$2=\"G\",'Skills explications FTEM'!F30,'Skills explications FTEM'!B30)","v":"Motivation"},null,null,{"$f":"IF($H$2=\"G\",'Skills explications FTEM'!G30,'Skills explications FTEM'!C30)","v":"Est toujours motivé, veut sans cesse se développer et apprendre, veut être le premier et avoir du succès, n'abandonne jamais et ne se laisse pas influencer par les échesc"},null,null,{"$f":"IF($H$2=\"G\",'Skills explications FTEM'!#REF!,'Skills explications FTEM'!#REF!)","v":{"$error":"#REF!"}}]
[{"$f":"'Skills explications FTEM'!A31:A31","v":0},null,null,{"$f":"IF($H$2=\"G\",'Skills explications FTEM'!F31,'Skills explications FTEM'!B31)","v":"Performance style de vie"},null,null,{"$f":"IF($H$2=\"G\",'Skills explications FTEM'!G31,'Skills explications FTEM'!C31)","v":"Gère bien son environnement et son temps libre selon les principes de la performance, obstiné, tenace et axé sur l'objectif, accent sur sa propre performance, est courageux et peut s'imposer contre la résistance, les défis le motivent"},null,null,{"$f":"IF($H$2=\"G\",'Skills explications FTEM'!#REF!,'Skills explications FTEM'!#REF!)","v":{"$error":"#REF!"}}]
[{"$f":"'Skills explications FTEM'!A32:A32","v":"FORCE MENTALE"},null,null,{"$f":"IF($H$2=\"G\",'Skills explications FTEM'!F32,'Skills explications FTEM'!B32)","v":"Engagement"},null,null,{"$f":"IF($H$2=\"G\",'Skills explications FTEM'!G32,'Skills explications FTEM'!C32)","v":"Démontre beaucoup d'intensité dans les entraînements et les matchs, donne toujours son maximum et veut sans cesse repousser ses limites, a-t-il de la passion, s'efforce-t-il de s'entraîner avec une excellente qualité"},null,null,{"$f":"IF($H$2=\"G\",'Skills explications FTEM'!#REF!,'Skills explications FTEM'!#REF!)","v":{"$error":"#REF!"}},null,null,null,{"$f":"IFERROR(AVERAGE(O41:O45),\"-\")","v":"-"},null,null,null,{"$f":"IFERROR(AVERAGE(S41:S45),\"-\")","v":"-"},null,{"$f":"IFERROR(AVERAGE(U41:U45),\"-\")","v":"-"},null,{"$f":"IFERROR(AVERAGE(W41:W45),\"-\")","v":"-"},null,{"$f":"IFERROR(AVERAGE(Y41:Y45),\"-\")","v":"-"}]
[{"$f":"'Skills explications FTEM'!A33:A33","v":0},null,null,{"$f":"IF($H$2=\"G\",'Skills explications FTEM'!F33,'Skills explications FTEM'!B33)","v":"Préparation"},null,null,{"$f":"IF($H$2=\"G\",'Skills explications FTEM'!G33,'Skills explications FTEM'!C33)","v":"Se prépare-t-il toujours bien, mentalement et physiquement, se prépare-t-il toujours bien pour obtenir le niveau de performance idéal (ILZ)"},null,null,{"$f":"IF($H$2=\"G\",'Skills explications FTEM'!#REF!,'Skills explications FTEM'!#REF!)","v":{"$error":"#REF!"}}]
[null,null,null,{"$f":"IF($H$2=\"G\",'Skills explications FTEM'!F34,'Skills explications FTEM'!B34)","v":"Coaching personnel"},null,null,{"$f":"IF($H$2=\"G\",'Skills explications FTEM'!G34,'Skills explications FTEM'!C34)","v":"A-t-il de bonnes facultés de concentration, peut-il maintenir son niveau de performance idéal (ILZ) dans les entraînements et les matchs, peut-il appliquer ses techniques de base, est-il résistant aux influences et pensées négatives, est-il conscient de son attitude corporelle et peut-il l'influencer"},null,null,{"$f":"IF($H$2=\"G\",'Skills explications FTEM'!#REF!,'Skills explications FTEM'!#REF!)","v":{"$error":"#REF!"}}]
[{"$f":"'Skills explications FTEM'!A34:A34","v":0},null,null,{"$f":"IF($H$2=\"G\",'Skills explications FTEM'!F35,'Skills explications FTEM'!B35)","v":"Gestion des énergies"},null,null,{"$f":"IF($H$2=\"G\",'Skills explications FTEM'!G35,'Skills explications FTEM'!C35)","v":"Peut-il gérer ses propres énergies, prend-il soin de sa récupération, peut-il gérer les moments où il faut se donner à fond ou quand il faut déconnecter, bouton On/Off"},null,null,{"$f":"IF($H$2=\"G\",'Skills explications FTEM'!#REF!,'Skills explications FTEM'!#REF!)","v":{"$error":"#REF!"}}]
[{"$f":"'Skills explications FTEM'!A36:A36","v":0},null,null,{"$f":"IF($H$2=\"G\",'Skills explications FTEM'!F36,'Skills explications FTEM'!B36)","v":"Contrôle des émotions"},null,null,{"$f":"IF($H$2=\"G\",'Skills explications FTEM'!G36,'Skills explications FTEM'!C36)","v":"Peut-il gérer ses propres émotions et impulsions, reste-t-il sous contrôle lorsqu'il y a une grande pression, peut-il rester calme lorsque le niveau émotionnel et de frustration est élevé"},null,null,{"$f":"IF($H$2=\"G\",'Skills explications FTEM'!#REF!,'Skills explications FTEM'!#REF!)","v":{"$error":"#REF!"}}]
[{"$f":"'Skills explications FTEM'!A37:A37","v":"PHYSIQUE"},null,null,{"$f":"IF($H$2=\"G\",'Skills explications FTEM'!F37,'Skills explications FTEM'!B37)","v":"Production de la performance"},null,null,{"$f":"IF($H$2=\"G\",'Skills explications FTEM'!G37,'Skills explications FTEM'!C37)","v":"A-t-il la puissance, la force, la vitesse nécessaires dans les jambes et le haut du corps (facteurs neuromusculaires)"},null,null,{"$f":"IF($H$2=\"G\",'Skills explications FTEM'!#REF!,'Skills explications FTEM'!#REF!)","v":{"$error":"#REF!"}},null,null,null,{"$f":"IFERROR(AVERAGE(O46:O50),\"-\")","v":"-"},null,null,null,{"$f":"IFERROR(AVERAGE(S46:S50),\"-\")","v":"-"},null,{"$f":"IFERROR(AVERAGE(U46:U50),\"-\")","v":"-"},null,{"$f":"IFERROR(AVERAGE(W46:W50),\"-\")","v":"-"},null,{"$f":"IFERROR(AVERAGE(Y46:Y50),\"-\")","v":"-"}]
[{"$f":"'Skills explications FTEM'!A38:A38","v":0},null,null,{"$f":"IF($H$2=\"G\",'Skills explications FTEM'!F38,'Skills explications FTEM'!B38)","v":"Spécifique au sport, résistant à l'effort"},null,null,{"$f":"IF($H$2=\"G\",'Skills explications FTEM'!G38,'Skills explications FTEM'!C38)","v":"Est-il capable de maintenir sa puissance, sa force, sa vitesse durant un long temps de glace et peut-il récupérer complètement entre ses engagements (facteurs du métabolisme et cardiovasculaire)"},null,null,{"$f":"IF($H$2=\"G\",'Skills explications FTEM'!#REF!,'Skills explications FTEM'!#REF!)","v":{"$error":"#REF!"}}]
[null,null,null,{"$f":"IF($H$2=\"G\",'Skills explications FTEM'!F39,'Skills explications FTEM'!B39)","v":"Santé / Prévention"},null,null,{"$f":"IF($H$2=\"G\",'Skills explications FTEM'!G39,'Skills explications FTEM'!C39)","v":"A-t-il la stabilité nécessaire (p. ex. ses appuis) et la mobilité nécessaire au niveau des articulations centrales"},null,null,{"$f":"IF($H$2=\"G\",'Skills explications FTEM'!#REF!,'Skills explications FTEM'!#REF!)","v":{"$error":"#REF!"}}]
[{"$f":"'Skills explications FTEM'!A39:A39","v":0},null,null,{"$f":"IF($H$2=\"G\",'Skills explications FTEM'!F40,'Skills explications FTEM'!B40)","v":"Mobilité / Coordination"},null,null,{"$f":"IF($H$2=\"G\",'Skills explications FTEM'!G40,'Skills explications FTEM'!C40)","v":"Gère-t-il ses aptitudes de mouvements de base, qui sont un fournisseur important des fonctions spécifiques «Skills» pour être efficace"},null,null,{"$f":"IF($H$2=\"G\",'Skills explications FTEM'!#REF!,'Skills explications FTEM'!#REF!)","v":{"$error":"#REF!"}}]
[{"$f":"'Skills explications FTEM'!A41:A41","v":0},null,null,{"$f":"IF($H$2=\"G\",'Skills explications FTEM'!F41,'Skills explications FTEM'!B41)","v":"Robustesse"},null,null,{"$f":"IF($H$2=\"G\",'Skills explications FTEM'!G41,'Skills explications FTEM'!C41)","v":"A-t-il la force de base nécessaire (tension corporelle) pour gagner des duels et résister aux charges"},null,null,{"$f":"IF($H$2=\"G\",'Skills explications FTEM'!#REF!,'Skills explications FTEM'!#REF!)","v":{"$error":"#REF!"}}]

{"sheet":"16","index":19,"n_rows":50,"n_cols":36,"rows_kept":50,"cut":false,"hidden":false,"merged":[[45,25,49,25],[45,26,49,32],[45,34,49,34],[40,23,44,23],[42,3,42,5],[42,6,42,11],[44,3,44,5],[44,6,44,11],[40,0,44,2],[40,3,40,5],[40,6,40,11],[40,12,44,12],[40,13,44,13],[40,15,44,15],[45,0,49,2],[45,3,45,5],[45,6,45,11],[45,12,49,12],[45,23,49,23],[47,3,47,5],[47,6,47,11],[48,3,48,5],[48,6,48,11],[49,3,49,5],[34,21,34,22],[35,17,39,17],[35,19,39,19],[35,21,39,21],[36,3,36,5],[36,6,36,11],[38,3,38,5],[38,6,38,11],[40,17,44,17],[40,19,44,19],[40,21,44,21],[43,3,43,5],[43,6,43,11],[37,3,37,5],[37,6,37,11],[41,3,41,5],[41,6,41,11],[29,0,33,2],[29,3,29,5],[29,6,29,11],[29,12,33,12],[29,13,33,13],[29,15,33,15],[34,23,34,24],[34,26,34,32],[35,0,39,2],[35,3,35,5],[35,6,35,11],[35,12,39,12],[35,13,39,13],[35,15,39,15],[39,3,39,5],[39,6,39,11],[35,23,39,23],[34,0,34,2],[34,3,34,5],[34,6,34,11],[34,13,34,14],[34,15,34,16],[34,17,34,18],[34,19,34,20],[23,21,28,21],[23,23,28,23],[24,3,24,5],[24,6,24,11],[28,3,28,5],[28,6,28,11],[33,3,33,5],[33,6,33,11],[29,23,33,23],[29,17,33,17],[29,19,33,19],[29,21,33,21],[30,3,30,5],[30,6,30,11],[31,3,31,5],[31,6,31,11],[25,3,25,5],[25,6,25,11],[32,3,32,5],[32,6,32,11],[18,15,22,15],[18,17,22,17],[18,19,22,19],[18,21,22,21],[18,23,22,23],[22,3,22,5],[22,6,22,11],[23,0,28,2],[23,3,23,5],[23,6,23,11],[23,12,28,12],[23,13,28,13],[23,15,28,15],[23,17,28,17],[18,0,22,2],[18,3,18,5],[18,6,18,11],[18,12,22,12],[18,13,22,13],[19,3,19,5],[19,6,19,11],[20,3,20,5],[20,6,20,11],[23,19,28,19],[12,23,16,23],[16,3,16,5],[16,6,16,11],[17,0,17,2],[17,3,17,5],[17,6,17,11],[17,13,17,14],[17,15,17,16],[17,17,17,18],[17,19,17,20],[17,21,17,22],[17,23,17,24],[12,0,16,2],[12,3,12,5],[12,6,12,11],[12,12,16,12],[12,13,16,13],[12,15,16,15],[12,17,16,17],[12,19,16,19],[12,21,16,21],[13,3,13,5],[13,6,13,11],[14,3,14,5],[11,0,11,2],[11,3,11,5],[11,13,11,14],[11,15,11,16],[11,17,11,18],[11,19,11,20],[11,21,11,22],[11,23,11,24],[11,26,11,32],[11,6,11,11],[0,33,0,35],[29,25,33,25],[29,26,33,32],[29,34,33,34],[35,25,39,25],[35,26,39,32],[35,34,39,34],[1,0,1,1],[1,2,1,5],[1,10,1,24],[2,0,2,1],[2,2,2,5],[2,11,2,24],[6,0,6,1],[6,2,6,35],[7,0,7,1],[7,2,7,35],[8,0,8,1],[8,2,8,35],[3,0,3,1],[3,10,3,24],[4,0,4,1],[4,2,4,5],[4,10,4,24],[49,6,49,11],[45,13,49,13],[45,15,49,15],[45,17,49,17],[45,19,49,19],[45,21,49,21],[0,0,0,24],[0,25,0,26],[0,27,0,32],[10,0,10,24],[10,25,10,35],[40,25,44,25],[40,26,44,32],[40,34,44,34],[12,25,16,25],[12,26,16,32],[12,34,16,34],[18,25,22,25],[18,26,22,32],[18,34,22,34],[23,25,28,25],[23,26,28,32],[23,34,28,34],[17,26,17,32],[46,3,46,5],[46,6,46,11],[14,6,14,11],[15,3,15,5],[15,6,15,11],[21,3,21,5],[21,6,21,11],[26,3,26,5],[26,6,26,11],[27,3,27,5],[27,6,27,11]]}
["Infos personelles",null,null,null,null,null,null,null,null,null,null,null,null,null,null,null,null,null,null,null,null,null,null,null,null,"Predispositions",null,"Evaluations",null,null,null,null,null,"Rating"]
["PRENOM",null,{"$f":"IF(ISBLANK(VLOOKUP(16,Tabelle3[],3,0)),\"-\",VLOOKUP(16,Tabelle3[],3,0))","v":"-"},null,null,null,"POSITION",null,null,"ADRESSE",{"$f":"IF(ISBLANK(VLOOKUP(16,Tabelle3[],5,0)),\"-\",VLOOKUP(16,Tabelle3[],5,0))","v":"-"},null,null,null,null,null,null,null,null,null,null,null,null,null,null,"\"àage\" (Biologique/age relatif)",null,"Date 1",null,null,"cm",null,"Kg",null,"AUSGEZEICHNET",5]
["NOM",null,{"$f":"IF(ISBLANK(VLOOKUP(16,Tabelle3[],2,0)),\"-\",VLOOKUP(16,Tabelle3[],2,0))","v":"-"},null,null,null,"CANNE",null,null,"LIEU",{"$f":"IF(ISBLANK(VLOOKUP(16,Tabelle3[],7,0)),\"-\",VLOOKUP(16,Tabelle3[],7,0))","v":"-"},{"$f":"IF(ISBLANK(VLOOKUP(16,Tabelle3[],6,0)),\"-\",VLOOKUP(16,Tabelle3[],6,0))","v":"-"},null,null,null,null,null,null,null,null,null,null,null,null,null,"predispositions",null,"Date 2",null,null,"cm",null,"Kg",null,"GUT",4]
["DATE NAISS.",null,{"$f":"IF(ISBLANK(VLOOKUP(16,Tabelle3[],14,0)),\"-\",VLOOKUP(16,Tabelle3[],14,0))","v":"-"},{"$f":"IF(ISBLANK(VLOOKUP(16,Tabelle3[],15,0)),\"-\",VLOOKUP(16,Tabelle3[],15,0))","v":"-"},{"$f":"IF(ISBLANK(VLOOKUP(16,Tabelle3[],16,0)),\"-\",VLOOKUP(16,Tabelle3[],16,0))","v":"-"},null,"GRANDEUR",null,"cm","PHONE",{"$f":"IF(ISBLANK(VLOOKUP(16,Tabelle3[],8,0)),\"-\",VLOOKUP(16,Tabelle3[],8,0))","v":"-"},null,null,null,null,null,null,null,null,null,null,null,null,null,null,"Entourage",null,"Date 3",null,null,"cm",null,"Kg",null,"DURCHSCHNITT",3]
["SEXE",null,{"$f":"IF(ISBLANK(VLOOKUP(16,Tabelle3[],13,0)),\"-\",VLOOKUP(16,Tabelle3[],13,0))","v":"-"},null,null,null,"POIDS",null,"Kg","E-Mail",{"$f":"IF(ISBLANK(VLOOKUP(16,Tabelle3[],9,0)),\"-\",VLOOKUP(16,Tabelle3[],9,0))","v":"-"},null,null,null,null,null,null,null,null,null,null,null,null,null,null,null,null,"Date 4",null,null,"cm",null,"Kg",null,"MANGELHAFT",2]
[null,null,null,null,null,null,null,null,null,null,null,null,null,null,null,null,null,null,null,null,null,null,null,null,null,null,null,"Date 5",null,null,"cm",null,"Kg",null,"UNGENÜGEND",1]
["Vision",null,"xxx"]
["Next step",null,"xxx"]
["Profil du Joueur",null,"xxx"]
[]
["EVALUATION (COACH / JOUEUR)",null,null,null,null,null,null,null,null,null,null,null,null,null,null,null,null,null,null,null,null,null,null,null,null,"SMART"]
[{"$f":"'Skills explications FTEM'!A3:A3","v":"TEAM"},null,null,{"$f":"'Skills explications FTEM'!B3","v":"COMPÉTENCES"},null,null,{"$f":"'Skills explications FTEM'!C3","v":"OBSERVATION"},null,null,{"$f":"'Skills explications FTEM'!H3","v":0},null,null,"Final","Date1",null,"Date2",null,"Date3",null,"Date4",null,"Date5",null,"Player",null,"BUT","MESURES:\nSPECIFIQUE, MESURABLES, REALISTE",null,null,null,null,null,null,"DELAI","CONTRÔLE DU BUT","Date"]
[{"$f":"'Skills explications FTEM'!A4:A4","v":"ÉQUIPE"},null,null,{"$f":"IF($H$2=\"G\",'Skills explications FTEM'!F4,'Skills explications FTEM'!B4)","v":"Communication"},null,null,{"$f":"IF($H$2=\"G\",'Skills explications FTEM'!G4,'Skills explications FTEM'!C4)","v":"Respect et ouverture dans ses relations, confiance comme base, traite les conflits sans perturber la stabilité du groupe, communique avec ses coéquipiers, les entraîneurs et les fonctionnaires avec les mêmes valeurs"},null,null,{"$f":"IF($H$2=\"G\",'Skills explications FTEM'!#REF!,'Skills explications FTEM'!#REF!)","v":{"$error":"#REF!"}},null,null,null,{"$f":"IFERROR(AVERAGE(O13:O17),\"-\")","v":"-"},null,{"$f":"IFERROR(AVERAGE(Q13:Q17),\"-\")","v":"-"},null,{"$f":"IFERROR(AVERAGE(S13:S17),\"-\")","v":"-"},null,{"$f":"IFERROR(AVERAGE(U13:U17),\"-\")","v":"-"},null,{"$f":"IFERROR(AVERAGE(W13:W17),\"-\")","v":"-"},null,{"$f":"IFERROR(AVERAGE(Y13:Y17),\"-\")","v":"-"}]
[null,null,null,{"$f":"IF($H$2=\"G\",'Skills explications FTEM'!F5,'Skills explications FTEM'!B5)","v":"Capacité de jouer en équipe"},null,null,{"$f":"IF($H$2=\"G\",'Skills explications FTEM'!G5,'Skills explications FTEM'!C5)","v":"Intégration dans le groupe, définit et réalise des objectifs communs, NOUS avant le MOI, participe au bon esprit d'équipe et à un bon climat de travail"},null,null,{"$f":"IF($H$2=\"G\",'Skills explications FTEM'!#REF!,'Skills explications FTEM'!#REF!)","v":{"$error":"#REF!"}}]
[null,null,null,{"$f":"IF($H$2=\"G\",'Skills explications FTEM'!F6,'Skills explications FTEM'!B6)","v":"Leadership"},null,null,{"$f":"IF($H$2=\"G\",'Skills explications FTEM'!G6,'Skills explications FTEM'!C6)","v":"Prend des responsabilités dans le groupe, essaie de donner de la valeur à ses coéquipiers et au groupe, influence positivement la dynamique de groupe"},null,null,{"$f":"IF($H$2=\"G\",'Skills explications FTEM'!#REF!,'Skills explications FTEM'!#REF!)","v":{"$error":"#REF!"}}]
[null,null,null,{"$f":"IF($H$2=\"G\",'Skills explications FTEM'!F7,'Skills explications FTEM'!B7)","v":"Répartition des rôles"},null,null,{"$f":"IF($H$2=\"G\",'Skills explications FTEM'!G7,'Skills explications FTEM'!C7)","v":"Connaît son rôle et le réalise, est conscient de sa position dans l'équipe et le système, met ses compétences à disposition de l'équipe"},null,null,{"$f":"IF($H$2=\"G\",'Skills explications FTEM'!#REF!,'Skills explications FTEM'!#REF!)","v":{"$error":"#REF!"}}]
[{"$f":"'Skills explications FTEM'!A8:A8","v":0},null,null,{"$f":"IF($H$2=\"G\",'Skills explications FTEM'!F8,'Skills explications FTEM'!B8)","v":"Respect"},null,null,{"$f":"IF($H$2=\"G\",'Skills explications FTEM'!G8,'Skills explications FTEM'!C8)","v":"Relations respectueuses avec les coéquipiers, les entraîneurs, les adversaires, les arbitres et le staff; respect des règles, des principes du fairplay (y compris antidopage)"},null,null,{"$f":"IF($H$2=\"G\",'Skills explications FTEM'!#REF!,'Skills explications FTEM'!#REF!)","v":{"$error":"#REF!"}}]
[{"$f":"'Skills explications FTEM'!A9:A9","v":"ON ICE"},null,null,{"$f":"'Skills explications FTEM'!B9","v":"COMPÉTENCES"},null,null,{"$f":"'Skills explications FTEM'!C9","v":"OBSERVATION"},null,null,{"$f":"'Skills explications FTEM'!H9","v":0},null,null,null,"Date1",null,"Date2",null,"Date3",null,"Date4",null,"Date5",null,"Player",null,"BUT","MESURES:\nSPECIFIQUE, MESURABLES, REALISTE",null,null,null,null,null,null,"DELAI","CONTRÔLE DU BUT","Date"]
[{"$f":"'Skills explications FTEM'!A10:A10","v":"PATINAGE"},null,null,{"$f":"IF($H$2=\"G\",'Skills explications FTEM'!F10,'Skills explications FTEM'!B10)","v":"Vitesse de patinage"},null,null,{"$f":"IF($H$2=\"G\",'Skills explications FTEM'!G10,'Skills explications FTEM'!C10)","v":"Accélération, départ, explosivité des 3 premiers pas, fréquence"},null,null,{"$f":"IF($H$2=\"G\",'Skills explications FTEM'!#REF!,'Skills explications FTEM'!#REF!)","v":{"$error":"#REF!"}},null,null,null,{"$f":"IFERROR(AVERAGE(O19:O23),\"-\")","v":"-"},null,{"$f":"IFERROR(AVERAGE(Q19:Q23),\"-\")","v":"-"},null,{"$f":"IFERROR(AVERAGE(S19:S23),\"-\")","v":"-"},null,{"$f":"IFERROR(AVERAGE(U19:U23),\"-\")","v":"-"},null,{"$f":"IFERROR(AVERAGE(W19:W23),\"-\")","v":"-"},null,{"$f":"IFERROR(AVERAGE(Y19:Y23),\"-\")","v":"-"}]
[{"$f":"'Skills explications FTEM'!A11:A11","v":0},null,null,{"$f":"IF($H$2=\"G\",'Skills explications FTEM'!F11,'Skills explications FTEM'!B11)","v":"Vitesse, rapidité"},null,null,{"$f":"IF($H$2=\"G\",'Skills explications FTEM'!G11,'Skills explications FTEM'!C11)","v":"Vitesse, faculté de glisse, avant et arrière, économie des forces"},null,null,{"$f":"IF($H$2=\"G\",'Skills explications FTEM'!#REF!,'Skills explications FTEM'!#REF!)","v":{"$error":"#REF!"}}]
[{"$f":"'Skills explications FTEM'!A12:A12","v":0},null,null,{"$f":"IF($H$2=\"G\",'Skills explications FTEM'!F12,'Skills explications FTEM'!B12)","v":"Agilité"},null,null,{"$f":"IF($H$2=\"G\",'Skills explications FTEM'!G12,'Skills explications FTEM'!C12)","v":"Changements de direction, pivots, stop et start «Nummelin»"},null,null,{"$f":"IF($H$2=\"G\",'Skills explications FTEM'!#REF!,'Skills explications FTEM'!#REF!)","v":{"$error":"#REF!"}},null,null,null,{"$f":"IFERROR(AVERAGE(O21:O23),\"-\")","v":"-"},null,{"$f":"IFERROR(AVERAGE(Q21:Q23),\"-\")","v":"-"},null,{"$f":"IFERROR(AVERAGE(S21:S23),\"-\")","v":"-"},null,{"$f":"IFERROR(AVERAGE(U21:U23),\"-\")","v":"-"},null,{"$f":"IFERROR(AVERAGE(W21:W23),\"-\")","v":"-"},null,"-"]
[null,null,null,{"$f":"IF($H$2=\"G\",'Skills explications FTEM'!F13,'Skills explications FTEM'!B13)","v":"Balance"},null,null,{"$f":"IF($H$2=\"G\",'Skills explications FTEM'!G13,'Skills explications FTEM'!C13)","v":"Equilibre, faculté d'être sur ses appuis, position basse, 1 ou 2 jambes"},null,null,{"$f":"IF($H$2=\"G\",'Skills explications FTEM'!#REF!,'Skills explications FTEM'!#REF!)","v":{"$error":"#REF!"}}]
[{"$f":"'Skills explications FTEM'!#REF!","v":{"$error":"#REF!"}},null,null,{"$f":"IF($H$2=\"G\",'Skills explications FTEM'!F14,'Skills explications FTEM'!B14)","v":"Patinage arrière"},null,null,{"$f":"IF($H$2=\"G\",'Skills explications FTEM'!G14,'Skills explications FTEM'!C14)","v":"Accélération, vitesse, équilibre "},null,null,{"$f":"IF($H$2=\"G\",'Skills explications FTEM'!#REF!,'Skills explications FTEM'!#REF!)","v":{"$error":"#REF!"}}]
[{"$f":"'Skills explications FTEM'!A15:A15","v":"SKILLS"},null,null,{"$f":"IF($H$2=\"G\",'Skills explications FTEM'!F15,'Skills explications FTEM'!B15)","v":"Tirer"},null,null,{"$f":"IF($H$2=\"G\",'Skills explications FTEM'!G15,'Skills explications FTEM'!C15)","v":"Efficience (pas d'espace et de temps), variantes, degré de surprise (déclenchement rapide), précision, puissance (conclusion tactique)"},null,null,{"$f":"IF($H$2=\"G\",'Skills explications FTEM'!#REF!,'Skills explications FTEM'!#REF!)","v":{"$error":"#REF!"}},null,null,null,{"$f":"IFERROR(AVERAGE(O24:O29),\"-\")","v":"-"},null,{"$f":"IFERROR(AVERAGE(Q24:Q29),\"-\")","v":"-"},null,{"$f":"IFERROR(AVERAGE(S24:S29),\"-\")","v":"-"},null,{"$f":"IFERROR(AVERAGE(U24:U29),\"-\")","v":"-"},null,{"$f":"IFERROR(AVERAGE(W24:W29),\"-\")","v":"-"},null,{"$f":"IFERROR(AVERAGE(Y24:Y29),\"-\")","v":"-"}]
[{"$f":"'Skills explications FTEM'!A16:A16","v":0},null,null,{"$f":"IF($H$2=\"G\",'Skills explications FTEM'!F16,'Skills explications FTEM'!B16)","v":"Passer"},null,null,{"$f":"IF($H$2=\"G\",'Skills explications FTEM'!G16,'Skills explications FTEM'!C16)","v":"Donne la passe (distance, passe flipée en revers), réception de la passe (précision, timing, coup droit, revers, patins), vitesse du puck"},null,null,{"$f":"IF($H$2=\"G\",'Skills explications FTEM'!#REF!,'Skills explications FTEM'!#REF!)","v":{"$error":"#REF!"}}]
[{"$f":"'Skills explications FTEM'!A17:A17","v":0},null,null,{"$f":"IF($H$2=\"G\",'Skills explications FTEM'!F17,'Skills explications FTEM'!B17)","v":"Travail de canne, conduite du puck"},null,null,{"$f":"IF($H$2=\"G\",'Skills explications FTEM'!G17,'Skills explications FTEM'!C17)","v":"Puck sur la palette, intercepte les lignes de passe, déviation, contrôle de la canne de l'adversaire"},null,null,{"$f":"IF($H$2=\"G\",'Skills explications FTEM'!#REF!,'Skills explications FTEM'!#REF!)","v":{"$error":"#REF!"}}]
[null,null,null,{"$f":"IF($H$2=\"G\",'Skills explications FTEM'!F18,'Skills explications FTEM'!B18)","v":"Protéger le puck"},null,null,{"$f":"IF($H$2=\"G\",'Skills explications FTEM'!G18,'Skills explications FTEM'!C18)","v":"Contrôle du puck, dribbling, protection du puck, feintes (variantes: avec les patins ou avec et sans la bande), mise au jeu (bully)"},null,null,{"$f":"IF($H$2=\"G\",'Skills explications FTEM'!#REF!,'Skills explications FTEM'!#REF!)","v":{"$error":"#REF!"}}]
[null,null,null,{"$f":"IF($H$2=\"G\",'Skills explications FTEM'!F19,'Skills explications FTEM'!B19)","v":"Jeu du corps (charges)"},null,null,{"$f":"IF($H$2=\"G\",'Skills explications FTEM'!G19,'Skills explications FTEM'!C19)","v":"Faculté de s'imposer physiquement, duels (sur la surface de glace ou à la bande), prendre des checks, lever la tête, niveau de lutte, dur mais correct, bloquer les tirs avec le corps"},null,null,{"$f":"IF($H$2=\"G\",'Skills explications FTEM'!#REF!,'Skills explications FTEM'!#REF!)","v":{"$error":"#REF!"}}]
[{"$f":"'Skills explications FTEM'!A20:A20","v":0},null,null,{"$f":"IF($H$2=\"G\",'Skills explications FTEM'!F20,'Skills explications FTEM'!B20)","v":"-"},null,null,{"$f":"IF($H$2=\"G\",'Skills explications FTEM'!G20,'Skills explications FTEM'!C20)","v":"-"},null,null,{"$f":"IF($H$2=\"G\",'Skills explications FTEM'!#REF!,'Skills explications FTEM'!#REF!)","v":{"$error":"#REF!"}}]
[{"$f":"'Skills explications FTEM'!A21:A21","v":"HOCKEY SENSE"},null,null,{"$f":"IF($H$2=\"G\",'Skills explications FTEM'!F21,'Skills explications FTEM'!B21)","v":"Intelligence de jeu"},null,null,{"$f":"IF($H$2=\"G\",'Skills explications FTEM'!G21,'Skills explications FTEM'!C21)","v":"Voit les zones libres avec joueurs et crée des situations de surnombre, trouve des solutions et agit en toute situation, vitesse de la visualisation"},null,null,{"$f":"IF($H$2=\"G\",'Skills explications FTEM'!#REF!,'Skills explications FTEM'!#REF!)","v":{"$error":"#REF!"}},null,null,null,{"$f":"IFERROR(AVERAGE(O30:O34),\"-\")","v":"-"},null,{"$f":"IFERROR(AVERAGE(Q30:Q34),\"-\")","v":"-"},null,{"$f":"IFERROR(AVERAGE(S30:S34),\"-\")","v":"-"},null,{"$f":"IFERROR(AVERAGE(U30:U34),\"-\")","v":"-"},null,{"$f":"IFERROR(AVERAGE(W30:W34),\"-\")","v":"-"},null,{"$f":"IFERROR(AVERAGE(Y30:Y34),\"-\")","v":"-"}]
[{"$f":"'Skills explications FTEM'!A22:A22","v":0},null,null,{"$f":"IF($H$2=\"G\",'Skills explications FTEM'!F22,'Skills explications FTEM'!B22)","v":"Sensibilisation offensive"},null,null,{"$f":"IF($H$2=\"G\",'Skills explications FTEM'!G22,'Skills explications FTEM'!C22)","v":"Se démarque, anticipation des situations de jeu, ouvre des zones libres pour ses coéquipiers, se place pour marquer, vitesse de mise sous pression, communication"},null,null,{"$f":"IF($H$2=\"G\",'Skills explications FTEM'!#REF!,'Skills explications FTEM'!#REF!)","v":{"$error":"#REF!"}}]
[null,null,null,{"$f":"IF($H$2=\"G\",'Skills explications FTEM'!F23,'Skills explications FTEM'!B23)","v":"Sensibilisation défensive"},null,null,{"$f":"IF($H$2=\"G\",'Skills explications FTEM'!G23,'Skills explications FTEM'!C23)","v":"Garde la position «inside», protège le slot, rassure les coéquipiers, support, anticipe les lignes de passe, bloque les tirs. Réduit rapidement la distance sur l'adversaire, communication"},null,null,{"$f":"IF($H$2=\"G\",'Skills explications FTEM'!#REF!,'Skills explications FTEM'!#REF!)","v":{"$error":"#REF!"}}]
[{"$f":"'Skills explications FTEM'!A23:A23","v":0},null,null,{"$f":"IF($H$2=\"G\",'Skills explications FTEM'!F24,'Skills explications FTEM'!B24)","v":"Gestion du puck"},null,null,{"$f":"IF($H$2=\"G\",'Skills explications FTEM'!G24,'Skills explications FTEM'!C24)","v":"Fait le bon choix en fonction de la situation, support, surnombre"},null,null,{"$f":"IF($H$2=\"G\",'Skills explications FTEM'!#REF!,'Skills explications FTEM'!#REF!)","v":{"$error":"#REF!"}}]
[{"$f":"'Skills explications FTEM'!A25:A25","v":0},null,null,{"$f":"IF($H$2=\"G\",'Skills explications FTEM'!F25,'Skills explications FTEM'!B25)","v":"Créativité"},null,null,{"$f":"IF($H$2=\"G\",'Skills explications FTEM'!G25,'Skills explications FTEM'!C25)","v":"Prises de décision surprenantes, sens du but"},null,null,{"$f":"IF($H$2=\"G\",'Skills explications FTEM'!#REF!,'Skills explications FTEM'!#REF!)","v":{"$error":"#REF!"}}]
[{"$f":"'Skills explications FTEM'!A26:A26","v":"PERSONALITY"},null,null,{"$f":"'Skills explications FTEM'!B26","v":"COMPÉTENCES"},null,null,{"$f":"'Skills explications FTEM'!C26","v":"OBSERVATION"},null,null,{"$f":"'Skills explications FTEM'!H26","v":0},null,null,null,"Date1",null,"Date2",null,"Date3",null,"Date4",null,"Date5",null,"Player",null,"BUT","MESURES:\nSPECIFIQUE, MESURABLES, REALISTE",null,null,null,null,null,null,"DELAI","CONTRÔLE DU BUT","Date"]
[{"$f":"'Skills explications FTEM'!A27:A27","v":"PERSONNALITÉ"},null,null,{"$f":"IF($H$2=\"G\",'Skills explications FTEM'!F27,'Skills explications FTEM'!B27)","v":"Confiance en soi"},null,null,{"$f":"IF($H$2=\"G\",'Skills explications FTEM'!G27,'Skills explications FTEM'!C27)","v":"Est en confiance,«I can do it», peut estimer ses capacités (connaît ses qualités et ses défauts), peut réaliser ses qualités avec constance, est courageux et prend des risques calculés"},null,null,{"$f":"IF($H$2=\"G\",'Skills explications FTEM'!#REF!,'Skills explications FTEM'!#REF!)","v":{"$error":"#REF!"}},null,null,null,{"$f":"IFERROR(AVERAGE(O36:O40),\"-\")","v":"-"},null,null,null,{"$f":"IFERROR(AVERAGE(S36:S40),\"-\")","v":"-"},null,{"$f":"IFERROR(AVERAGE(U36:U40),\"-\")","v":"-"},null,{"$f":"IFERROR(AVERAGE(W36:W40),\"-\")","v":"-"},null,{"$f":"IFERROR(AVERAGE(Y36:Y40),\"-\")","v":"-"}]
[{"$f":"'Skills explications FTEM'!A28:A28","v":0},null,null,{"$f":"IF($H$2=\"G\",'Skills explications FTEM'!F28,'Skills explications FTEM'!B28)","v":"Facultés d'apprentissage"},null,null,{"$f":"IF($H$2=\"G\",'Skills explications FTEM'!G28,'Skills explications FTEM'!C28)","v":"A une bonne perception (il peut mémoriser et peut réaliser), il a de la personnalité, essaie d'apprendre de ses erreurs et est entreprenant"},null,null,{"$f":"IF($H$2=\"G\",'Skills explications FTEM'!#REF!,'Skills explications FTEM'!#REF!)","v":{"$error":"#REF!"}}]
[{"$f":"'Skills explications FTEM'!A29:A29","v":0},null,null,{"$f":"IF($H$2=\"G\",'Skills explications FTEM'!F29,'Skills explications FTEM'!B29)","v":"Prise de responsabilités"},null,null,{"$f":"IF($H$2=\"G\",'Skills explications FTEM'!G29,'Skills explications FTEM'!C29)","v":"Prend la responsabilité de ses performances et de son développement, est-il autonome, soigne-t-il les détails, a beaucoup d'engagement dans tous les domaines"},null,null,{"$f":"IF($H$2=\"G\",'Skills explications FTEM'!#REF!,'Skills explications FTEM'!#REF!)","v":{"$error":"#REF!"}}]
[null,null,null,{"$f":"IF($H$2=\"G\",'Skills explications FTEM'!F30,'Skills explications FTEM'!B30)","v":"Motivation"},null,null,{"$f":"IF($H$2=\"G\",'Skills explications FTEM'!G30,'Skills explications FTEM'!C30)","v":"Est toujours motivé, veut sans cesse se développer et apprendre, veut être le premier et avoir du succès, n'abandonne jamais et ne se laisse pas influencer par les échesc"},null,null,{"$f":"IF($H$2=\"G\",'Skills explications FTEM'!#REF!,'Skills explications FTEM'!#REF!)","v":{"$error":"#REF!"}}]
[{"$f":"'Skills explications FTEM'!A31:A31","v":0},null,null,{"$f":"IF($H$2=\"G\",'Skills explications FTEM'!F31,'Skills explications FTEM'!B31)","v":"Performance style de vie"},null,null,{"$f":"IF($H$2=\"G\",'Skills explications FTEM'!G31,'Skills explications FTEM'!C31)","v":"Gère bien son environnement et son temps libre selon les principes de la performance, obstiné, tenace et axé sur l'objectif, accent sur sa propre performance, est courageux et peut s'imposer contre la résistance, les défis le motivent"},null,null,{"$f":"IF($H$2=\"G\",'Skills explications FTEM'!#REF!,'Skills explications FTEM'!#REF!)","v":{"$error":"#REF!"}}]
[{"$f":"'Skills explications FTEM'!A32:A32","v":"FORCE MENTALE"},null,null,{"$f":"IF($H$2=\"G\",'Skills explications FTEM'!F32,'Skills explications FTEM'!B32)","v":"Engagement"},null,null,{"$f":"IF($H$2=\"G\",'Skills explications FTEM'!G32,'Skills explications FTEM'!C32)","v":"Démontre beaucoup d'intensité dans les entraînements et les matchs, donne toujours son maximum et veut sans cesse repousser ses limites, a-t-il de la passion, s'efforce-t-il de s'entraîner avec une excellente qualité"},null,null,{"$f":"IF($H$2=\"G\",'Skills explications FTEM'!#REF!,'Skills explications FTEM'!#REF!)","v":{"$error":"#REF!"}},null,null,null,{"$f":"IFERROR(AVERAGE(O41:O45),\"-\")","v":"-"},null,null,null,{"$f":"IFERROR(AVERAGE(S41:S45),\"-\")","v":"-"},null,{"$f":"IFERROR(AVERAGE(U41:U45),\"-\")","v":"-"},null,{"$f":"IFERROR(AVERAGE(W41:W45),\"-\")","v":"-"},null,{"$f":"IFERROR(AVERAGE(Y41:Y45),\"-\")","v":"-"}]
[{"$f":"'Skills explications FTEM'!A33:A33","v":0},null,null,{"$f":"IF($H$2=\"G\",'Skills explications FTEM'!F33,'Skills explications FTEM'!B33)","v":"Préparation"},null,null,{"$f":"IF($H$2=\"G\",'Skills explications FTEM'!G33,'Skills explications FTEM'!C33)","v":"Se prépare-t-il toujours bien, mentalement et physiquement, se prépare-t-il toujours bien pour obtenir le niveau de performance idéal (ILZ)"},null,null,{"$f":"IF($H$2=\"G\",'Skills explications FTEM'!#REF!,'Skills explications FTEM'!#REF!)","v":{"$error":"#REF!"}}]
[null,null,null,{"$f":"IF($H$2=\"G\",'Skills explications FTEM'!F34,'Skills explications FTEM'!B34)","v":"Coaching personnel"},null,null,{"$f":"IF($H$2=\"G\",'Skills explications FTEM'!G34,'Skills explications FTEM'!C34)","v":"A-t-il de bonnes facultés de concentration, peut-il maintenir son niveau de performance idéal (ILZ) dans les entraînements et les matchs, peut-il appliquer ses techniques de base, est-il résistant aux influences et pensées négatives, est-il conscient de son attitude corporelle et peut-il l'influencer"},null,null,{"$f":"IF($H$2=\"G\",'Skills explications FTEM'!#REF!,'Skills explications FTEM'!#REF!)","v":{"$error":"#REF!"}}]
[{"$f":"'Skills explications FTEM'!A34:A34","v":0},null,null,{"$f":"IF($H$2=\"G\",'Skills explications FTEM'!F35,'Skills explications FTEM'!B35)","v":"Gestion des énergies"},null,null,{"$f":"IF($H$2=\"G\",'Skills explications FTEM'!G35,'Skills explications FTEM'!C35)","v":"Peut-il gérer ses propres énergies, prend-il soin de sa récupération, peut-il gérer les moments où il faut se donner à fond ou quand il faut déconnecter, bouton On/Off"},null,null,{"$f":"IF($H$2=\"G\",'Skills explications FTEM'!#REF!,'Skills explications FTEM'!#REF!)","v":{"$error":"#REF!"}}]
[{"$f":"'Skills explications FTEM'!A36:A36","v":0},null,null,{"$f":"IF($H$2=\"G\",'Skills explications FTEM'!F36,'Skills explications FTEM'!B36)","v":"Contrôle des émotions"},null,null,{"$f":"IF($H$2=\"G\",'Skills explications FTEM'!G36,'Skills explications FTEM'!C36)","v":"Peut-il gérer ses propres émotions et impulsions, reste-t-il sous contrôle lorsqu'il y a une grande pression, peut-il rester calme lorsque le niveau émotionnel et de frustration est élevé"},null,null,{"$f":"IF($H$2=\"G\",'Skills explications FTEM'!#REF!,'Skills explications FTEM'!#REF!)","v":{"$error":"#REF!"}}]
[{"$f":"'Skills explications FTEM'!A37:A37","v":"PHYSIQUE"},null,null,{"$f":"IF($H$2=\"G\",'Skills explications FTEM'!F37,'Skills explications FTEM'!B37)","v":"Production de la performance"},null,null,{"$f":"IF($H$2=\"G\",'Skills explications FTEM'!G37,'Skills explications FTEM'!C37)","v":"A-t-il la puissance, la force, la vitesse nécessaires dans les jambes et le haut du corps (facteurs neuromusculaires)"},null,null,{"$f":"IF($H$2=\"G\",'Skills explications FTEM'!#REF!,'Skills explications FTEM'!#REF!)","v":{"$error":"#REF!"}},null,null,null,{"$f":"IFERROR(AVERAGE(O46:O50),\"-\")","v":"-"},null,null,null,{"$f":"IFERROR(AVERAGE(S46:S50),\"-\")","v":"-"},null,{"$f":"IFERROR(AVERAGE(U46:U50),\"-\")","v":"-"},null,{"$f":"IFERROR(AVERAGE(W46:W50),\"-\")","v":"-"},null,{"$f":"IFERROR(AVERAGE(Y46:Y50),\"-\")","v":"-"}]
[{"$f":"'Skills explications FTEM'!A38:A38","v":0},null,null,{"$f":"IF($H$2=\"G\",'Skills explications FTEM'!F38,'Skills explications FTEM'!B38)","v":"Spécifique au sport, résistant à l'effort"},null,null,{"$f":"IF($H$2=\"G\",'Skills explications FTEM'!G38,'Skills explications FTEM'!C38)","v":"Est-il capable de maintenir sa puissance, sa force, sa vitesse durant un long temps de glace et peut-il récupérer complètement entre ses engagements (facteurs du métabolisme et cardiovasculaire)"},null,null,{"$f":"IF($H$2=\"G\",'Skills explications FTEM'!#REF!,'Skills explications FTEM'!#REF!)","v":{"$error":"#REF!"}}]
[null,null,null,{"$f":"IF($H$2=\"G\",'Skills explications FTEM'!F39,'Skills explications FTEM'!B39)","v":"Santé / Prévention"},null,null,{"$f":"IF($H$2=\"G\",'Skills explications FTEM'!G39,'Skills explications FTEM'!C39)","v":"A-t-il la stabilité nécessaire (p. ex. ses appuis) et la mobilité nécessaire au niveau des articulations centrales"},null,null,{"$f":"IF($H$2=\"G\",'Skills explications FTEM'!#REF!,'Skills explications FTEM'!#REF!)","v":{"$error":"#REF!"}}]
[{"$f":"'Skills explications FTEM'!A39:A39","v":0},null,null,{"$f":"IF($H$2=\"G\",'Skills explications FTEM'!F40,'Skills explications FTEM'!B40)","v":"Mobilité / Coordination"},null,null,{"$f":"IF($H$2=\"G\",'Skills explications FTEM'!G40,'Skills explications FTEM'!C40)","v":"Gère-t-il ses aptitudes de mouvements de base, qui sont un fournisseur important des fonctions spécifiques «Skills» pour être efficace"},null,null,{"$f":"IF($H$2=\"G\",'Skills explications FTEM'!#REF!,'Skills explications FTEM'!#REF!)","v":{"$error":"#REF!"}}]
[{"$f":"'Skills explications FTEM'!A41:A41","v":0},null,null,{"$f":"IF($H$2=\"G\",'Skills explications FTEM'!F41,'Skills explications FTEM'!B41)","v":"Robustesse"},null,null,{"$f":"IF($H$2=\"G\",'Skills explications FTEM'!G41,'Skills explications FTEM'!C41)","v":"A-t-il la force de base nécessaire (tension corporelle) pour gagner des duels et résister aux charges"},null,null,{"$f":"IF($H$2=\"G\",'Skills explications FTEM'!#REF!,'Skills explications FTEM'!#REF!)","v":{"$error":"#REF!"}}]

{"sheet":"17","index":20,"n_rows":50,"n_cols":36,"rows_kept":50,"cut":false,"hidden":false,"merged":[[45,25,49,25],[45,26,49,32],[45,34,49,34],[40,23,44,23],[42,3,42,5],[42,6,42,11],[44,3,44,5],[44,6,44,11],[40,0,44,2],[40,3,40,5],[40,6,40,11],[40,12,44,12],[40,13,44,13],[40,15,44,15],[45,0,49,2],[45,3,45,5],[45,6,45,11],[45,12,49,12],[45,23,49,23],[47,3,47,5],[47,6,47,11],[48,3,48,5],[48,6,48,11],[49,3,49,5],[34,21,34,22],[35,17,39,17],[35,19,39,19],[35,21,39,21],[36,3,36,5],[36,6,36,11],[38,3,38,5],[38,6,38,11],[40,17,44,17],[40,19,44,19],[40,21,44,21],[43,3,43,5],[43,6,43,11],[37,3,37,5],[37,6,37,11],[41,3,41,5],[41,6,41,11],[29,0,33,2],[29,3,29,5],[29,6,29,11],[29,12,33,12],[29,13,33,13],[29,15,33,15],[34,23,34,24],[34,26,34,32],[35,0,39,2],[35,3,35,5],[35,6,35,11],[35,12,39,12],[35,13,39,13],[35,15,39,15],[39,3,39,5],[39,6,39,11],[35,23,39,23],[34,0,34,2],[34,3,34,5],[34,6,34,11],[34,13,34,14],[34,15,34,16],[34,17,34,18],[34,19,34,20],[23,21,28,21],[23,23,28,23],[24,3,24,5],[24,6,24,11],[28,3,28,5],[28,6,28,11],[33,3,33,5],[33,6,33,11],[29,23,33,23],[29,17,33,17],[29,19,33,19],[29,21,33,21],[30,3,30,5],[30,6,30,11],[31,3,31,5],[31,6,31,11],[25,3,25,5],[25,6,25,11],[32,3,32,5],[32,6,32,11],[18,15,22,15],[18,17,22,17],[18,19,22,19],[18,21,22,21],[18,23,22,23],[22,3,22,5],[22,6,22,11],[23,0,28,2],[23,3,23,5],[23,6,23,11],[23,12,28,12],[23,13,28,13],[23,15,28,15],[23,17,28,17],[18,0,22,2],[18,3,18,5],[18,6,18,11],[18,12,22,12],[18,13,22,13],[19,3,19,5],[19,6,19,11],[20,3,20,5],[20,6,20,11],[23,19,28,19],[12,23,16,23],[16,3,16,5],[16,6,16,11],[17,0,17,2],[17,3,17,5],[17,6,17,11],[17,13,17,14],[17,15,17,16],[17,17,17,18],[17,19,17,20],[17,21,17,22],[17,23,17,24],[12,0,16,2],[12,3,12,5],[12,6,12,11],[12,12,16,12],[12,13,16,13],[12,15,16,15],[12,17,16,17],[12,19,16,19],[12,21,16,21],[13,3,13,5],[13,6,13,11],[14,3,14,5],[11,0,11,2],[11,3,11,5],[11,13,11,14],[11,15,11,16],[11,17,11,18],[11,19,11,20],[11,21,11,22],[11,23,11,24],[11,26,11,32],[11,6,11,11],[0,33,0,35],[29,25,33,25],[29,26,33,32],[29,34,33,34],[35,25,39,25],[35,26,39,32],[35,34,39,34],[1,0,1,1],[1,2,1,5],[1,10,1,24],[2,0,2,1],[2,2,2,5],[2,11,2,24],[6,0,6,1],[6,2,6,35],[7,0,7,1],[7,2,7,35],[8,0,8,1],[8,2,8,35],[3,0,3,1],[3,10,3,24],[4,0,4,1],[4,2,4,5],[4,10,4,24],[49,6,49,11],[45,13,49,13],[45,15,49,15],[45,17,49,17],[45,19,49,19],[45,21,49,21],[0,0,0,24],[0,25,0,26],[0,27,0,32],[10,0,10,24],[10,25,10,35],[40,25,44,25],[40,26,44,32],[40,34,44,34],[12,25,16,25],[12,26,16,32],[12,34,16,34],[18,25,22,25],[18,26,22,32],[18,34,22,34],[23,25,28,25],[23,26,28,32],[23,34,28,34],[17,26,17,32],[46,3,46,5],[46,6,46,11],[14,6,14,11],[15,3,15,5],[15,6,15,11],[21,3,21,5],[21,6,21,11],[26,3,26,5],[26,6,26,11],[27,3,27,5],[27,6,27,11]]}
["Infos personelles",null,null,null,null,null,null,null,null,null,null,null,null,null,null,null,null,null,null,null,null,null,null,null,null,"Predispositions",null,"Evaluations",null,null,null,null,null,"Rating"]
["PRENOM",null,{"$f":"IF(ISBLANK(VLOOKUP(17,Tabelle3[],3,0)),\"-\",VLOOKUP(17,Tabelle3[],3,0))","v":"-"},null,null,null,"POSITION",null,null,"ADRESSE",{"$f":"IF(ISBLANK(VLOOKUP(17,Tabelle3[],5,0)),\"-\",VLOOKUP(17,Tabelle3[],5,0))","v":"-"},null,null,null,null,null,null,null,null,null,null,null,null,null,null,"\"àage\" (Biologique/age relatif)",null,"Date 1",null,null,"cm",null,"Kg",null,"AUSGEZEICHNET",5]
["NOM",null,{"$f":"IF(ISBLANK(VLOOKUP(17,Tabelle3[],2,0)),\"-\",VLOOKUP(17,Tabelle3[],2,0))","v":"-"},null,null,null,"CANNE",null,null,"LIEU",{"$f":"IF(ISBLANK(VLOOKUP(17,Tabelle3[],7,0)),\"-\",VLOOKUP(17,Tabelle3[],7,0))","v":"-"},{"$f":"IF(ISBLANK(VLOOKUP(17,Tabelle3[],6,0)),\"-\",VLOOKUP(17,Tabelle3[],6,0))","v":"-"},null,null,null,null,null,null,null,null,null,null,null,null,null,"predispositions",null,"Date 2",null,null,"cm",null,"Kg",null,"GUT",4]
["DATE NAISS.",null,{"$f":"IF(ISBLANK(VLOOKUP(17,Tabelle3[],14,0)),\"-\",VLOOKUP(17,Tabelle3[],14,0))","v":"-"},{"$f":"IF(ISBLANK(VLOOKUP(17,Tabelle3[],15,0)),\"-\",VLOOKUP(17,Tabelle3[],15,0))","v":"-"},{"$f":"IF(ISBLANK(VLOOKUP(17,Tabelle3[],16,0)),\"-\",VLOOKUP(17,Tabelle3[],16,0))","v":"-"},null,"GRANDEUR",null,"cm","PHONE",{"$f":"IF(ISBLANK(VLOOKUP(17,Tabelle3[],8,0)),\"-\",VLOOKUP(17,Tabelle3[],8,0))","v":"-"},null,null,null,null,null,null,null,null,null,null,null,null,null,null,"Entourage",null,"Date 3",null,null,"cm",null,"Kg",null,"DURCHSCHNITT",3]
["SEXE",null,{"$f":"IF(ISBLANK(VLOOKUP(17,Tabelle3[],13,0)),\"-\",VLOOKUP(17,Tabelle3[],13,0))","v":"-"},null,null,null,"POIDS",null,"Kg","E-Mail",{"$f":"IF(ISBLANK(VLOOKUP(17,Tabelle3[],9,0)),\"-\",VLOOKUP(17,Tabelle3[],9,0))","v":"-"},null,null,null,null,null,null,null,null,null,null,null,null,null,null,null,null,"Date 4",null,null,"cm",null,"Kg",null,"MANGELHAFT",2]
[null,null,null,null,null,null,null,null,null,null,null,null,null,null,null,null,null,null,null,null,null,null,null,null,null,null,null,"Date 5",null,null,"cm",null,"Kg",null,"UNGENÜGEND",1]
["Vision",null,"xxx"]
["Next step",null,"xxx"]
["Profil du Joueur",null,"xxx"]
[]
["EVALUATION (COACH / JOUEUR)",null,null,null,null,null,null,null,null,null,null,null,null,null,null,null,null,null,null,null,null,null,null,null,null,"SMART"]
[{"$f":"'Skills explications FTEM'!A3:A3","v":"TEAM"},null,null,{"$f":"'Skills explications FTEM'!B3","v":"COMPÉTENCES"},null,null,{"$f":"'Skills explications FTEM'!C3","v":"OBSERVATION"},null,null,{"$f":"'Skills explications FTEM'!H3","v":0},null,null,"Final","Date1",null,"Date2",null,"Date3",null,"Date4",null,"Date5",null,"Player",null,"BUT","MESURES:\nSPECIFIQUE, MESURABLES, REALISTE",null,null,null,null,null,null,"DELAI","CONTRÔLE DU BUT","Date"]
[{"$f":"'Skills explications FTEM'!A4:A4","v":"ÉQUIPE"},null,null,{"$f":"IF($H$2=\"G\",'Skills explications FTEM'!F4,'Skills explications FTEM'!B4)","v":"Communication"},null,null,{"$f":"IF($H$2=\"G\",'Skills explications FTEM'!G4,'Skills explications FTEM'!C4)","v":"Respect et ouverture dans ses relations, confiance comme base, traite les conflits sans perturber la stabilité du groupe, communique avec ses coéquipiers, les entraîneurs et les fonctionnaires avec les mêmes valeurs"},null,null,{"$f":"IF($H$2=\"G\",'Skills explications FTEM'!#REF!,'Skills explications FTEM'!#REF!)","v":{"$error":"#REF!"}},null,null,null,{"$f":"IFERROR(AVERAGE(O13:O17),\"-\")","v":"-"},null,{"$f":"IFERROR(AVERAGE(Q13:Q17),\"-\")","v":"-"},null,{"$f":"IFERROR(AVERAGE(S13:S17),\"-\")","v":"-"},null,{"$f":"IFERROR(AVERAGE(U13:U17),\"-\")","v":"-"},null,{"$f":"IFERROR(AVERAGE(W13:W17),\"-\")","v":"-"},null,{"$f":"IFERROR(AVERAGE(Y13:Y17),\"-\")","v":"-"}]
[null,null,null,{"$f":"IF($H$2=\"G\",'Skills explications FTEM'!F5,'Skills explications FTEM'!B5)","v":"Capacité de jouer en équipe"},null,null,{"$f":"IF($H$2=\"G\",'Skills explications FTEM'!G5,'Skills explications FTEM'!C5)","v":"Intégration dans le groupe, définit et réalise des objectifs communs, NOUS avant le MOI, participe au bon esprit d'équipe et à un bon climat de travail"},null,null,{"$f":"IF($H$2=\"G\",'Skills explications FTEM'!#REF!,'Skills explications FTEM'!#REF!)","v":{"$error":"#REF!"}}]
[null,null,null,{"$f":"IF($H$2=\"G\",'Skills explications FTEM'!F6,'Skills explications FTEM'!B6)","v":"Leadership"},null,null,{"$f":"IF($H$2=\"G\",'Skills explications FTEM'!G6,'Skills explications FTEM'!C6)","v":"Prend des responsabilités dans le groupe, essaie de donner de la valeur à ses coéquipiers et au groupe, influence positivement la dynamique de groupe"},null,null,{"$f":"IF($H$2=\"G\",'Skills explications FTEM'!#REF!,'Skills explications FTEM'!#REF!)","v":{"$error":"#REF!"}}]
[null,null,null,{"$f":"IF($H$2=\"G\",'Skills explications FTEM'!F7,'Skills explications FTEM'!B7)","v":"Répartition des rôles"},null,null,{"$f":"IF($H$2=\"G\",'Skills explications FTEM'!G7,'Skills explications FTEM'!C7)","v":"Connaît son rôle et le réalise, est conscient de sa position dans l'équipe et le système, met ses compétences à disposition de l'équipe"},null,null,{"$f":"IF($H$2=\"G\",'Skills explications FTEM'!#REF!,'Skills explications FTEM'!#REF!)","v":{"$error":"#REF!"}}]
[{"$f":"'Skills explications FTEM'!A8:A8","v":0},null,null,{"$f":"IF($H$2=\"G\",'Skills explications FTEM'!F8,'Skills explications FTEM'!B8)","v":"Respect"},null,null,{"$f":"IF($H$2=\"G\",'Skills explications FTEM'!G8,'Skills explications FTEM'!C8)","v":"Relations respectueuses avec les coéquipiers, les entraîneurs, les adversaires, les arbitres et le staff; respect des règles, des principes du fairplay (y compris antidopage)"},null,null,{"$f":"IF($H$2=\"G\",'Skills explications FTEM'!#REF!,'Skills explications FTEM'!#REF!)","v":{"$error":"#REF!"}}]
[{"$f":"'Skills explications FTEM'!A9:A9","v":"ON ICE"},null,null,{"$f":"'Skills explications FTEM'!B9","v":"COMPÉTENCES"},null,null,{"$f":"'Skills explications FTEM'!C9","v":"OBSERVATION"},null,null,{"$f":"'Skills explications FTEM'!H9","v":0},null,null,null,"Date1",null,"Date2",null,"Date3",null,"Date4",null,"Date5",null,"Player",null,"BUT","MESURES:\nSPECIFIQUE, MESURABLES, REALISTE",null,null,null,null,null,null,"DELAI","CONTRÔLE DU BUT","Date"]
[{"$f":"'Skills explications FTEM'!A10:A10","v":"PATINAGE"},null,null,{"$f":"IF($H$2=\"G\",'Skills explications FTEM'!F10,'Skills explications FTEM'!B10)","v":"Vitesse de patinage"},null,null,{"$f":"IF($H$2=\"G\",'Skills explications FTEM'!G10,'Skills explications FTEM'!C10)","v":"Accélération, départ, explosivité des 3 premiers pas, fréquence"},null,null,{"$f":"IF($H$2=\"G\",'Skills explications FTEM'!#REF!,'Skills explications FTEM'!#REF!)","v":{"$error":"#REF!"}},null,null,null,{"$f":"IFERROR(AVERAGE(O19:O23),\"-\")","v":"-"},null,{"$f":"IFERROR(AVERAGE(Q19:Q23),\"-\")","v":"-"},null,{"$f":"IFERROR(AVERAGE(S19:S23),\"-\")","v":"-"},null,{"$f":"IFERROR(AVERAGE(U19:U23),\"-\")","v":"-"},null,{"$f":"IFERROR(AVERAGE(W19:W23),\"-\")","v":"-"},null,{"$f":"IFERROR(AVERAGE(Y19:Y23),\"-\")","v":"-"}]
[{"$f":"'Skills explications FTEM'!A11:A11","v":0},null,null,{"$f":"IF($H$2=\"G\",'Skills explications FTEM'!F11,'Skills explications FTEM'!B11)","v":"Vitesse, rapidité"},null,null,{"$f":"IF($H$2=\"G\",'Skills explications FTEM'!G11,'Skills explications FTEM'!C11)","v":"Vitesse, faculté de glisse, avant et arrière, économie des forces"},null,null,{"$f":"IF($H$2=\"G\",'Skills explications FTEM'!#REF!,'Skills explications FTEM'!#REF!)","v":{"$error":"#REF!"}}]
[{"$f":"'Skills explications FTEM'!A12:A12","v":0},null,null,{"$f":"IF($H$2=\"G\",'Skills explications FTEM'!F12,'Skills explications FTEM'!B12)","v":"Agilité"},null,null,{"$f":"IF($H$2=\"G\",'Skills explications FTEM'!G12,'Skills explications FTEM'!C12)","v":"Changements de direction, pivots, stop et start «Nummelin»"},null,null,{"$f":"IF($H$2=\"G\",'Skills explications FTEM'!#REF!,'Skills explications FTEM'!#REF!)","v":{"$error":"#REF!"}},null,null,null,{"$f":"IFERROR(AVERAGE(O21:O23),\"-\")","v":"-"},null,{"$f":"IFERROR(AVERAGE(Q21:Q23),\"-\")","v":"-"},null,{"$f":"IFERROR(AVERAGE(S21:S23),\"-\")","v":"-"},null,{"$f":"IFERROR(AVERAGE(U21:U23),\"-\")","v":"-"},null,{"$f":"IFERROR(AVERAGE(W21:W23),\"-\")","v":"-"},null,"-"]
[null,null,null,{"$f":"IF($H$2=\"G\",'Skills explications FTEM'!F13,'Skills explications FTEM'!B13)","v":"Balance"},null,null,{"$f":"IF($H$2=\"G\",'Skills explications FTEM'!G13,'Skills explications FTEM'!C13)","v":"Equilibre, faculté d'être sur ses appuis, position basse, 1 ou 2 jambes"},null,null,{"$f":"IF($H$2=\"G\",'Skills explications FTEM'!#REF!,'Skills explications FTEM'!#REF!)","v":{"$error":"#REF!"}}]
[{"$f":"'Skills explications FTEM'!#REF!","v":{"$error":"#REF!"}},null,null,{"$f":"IF($H$2=\"G\",'Skills explications FTEM'!F14,'Skills explications FTEM'!B14)","v":"Patinage arrière"},null,null,{"$f":"IF($H$2=\"G\",'Skills explications FTEM'!G14,'Skills explications FTEM'!C14)","v":"Accélération, vitesse, équilibre "},null,null,{"$f":"IF($H$2=\"G\",'Skills explications FTEM'!#REF!,'Skills explications FTEM'!#REF!)","v":{"$error":"#REF!"}}]
[{"$f":"'Skills explications FTEM'!A15:A15","v":"SKILLS"},null,null,{"$f":"IF($H$2=\"G\",'Skills explications FTEM'!F15,'Skills explications FTEM'!B15)","v":"Tirer"},null,null,{"$f":"IF($H$2=\"G\",'Skills explications FTEM'!G15,'Skills explications FTEM'!C15)","v":"Efficience (pas d'espace et de temps), variantes, degré de surprise (déclenchement rapide), précision, puissance (conclusion tactique)"},null,null,{"$f":"IF($H$2=\"G\",'Skills explications FTEM'!#REF!,'Skills explications FTEM'!#REF!)","v":{"$error":"#REF!"}},null,null,null,{"$f":"IFERROR(AVERAGE(O24:O29),\"-\")","v":"-"},null,{"$f":"IFERROR(AVERAGE(Q24:Q29),\"-\")","v":"-"},null,{"$f":"IFERROR(AVERAGE(S24:S29),\"-\")","v":"-"},null,{"$f":"IFERROR(AVERAGE(U24:U29),\"-\")","v":"-"},null,{"$f":"IFERROR(AVERAGE(W24:W29),\"-\")","v":"-"},null,{"$f":"IFERROR(AVERAGE(Y24:Y29),\"-\")","v":"-"}]
[{"$f":"'Skills explications FTEM'!A16:A16","v":0},null,null,{"$f":"IF($H$2=\"G\",'Skills explications FTEM'!F16,'Skills explications FTEM'!B16)","v":"Passer"},null,null,{"$f":"IF($H$2=\"G\",'Skills explications FTEM'!G16,'Skills explications FTEM'!C16)","v":"Donne la passe (distance, passe flipée en revers), réception de la passe (précision, timing, coup droit, revers, patins), vitesse du puck"},null,null,{"$f":"IF($H$2=\"G\",'Skills explications FTEM'!#REF!,'Skills explications FTEM'!#REF!)","v":{"$error":"#REF!"}}]
[{"$f":"'Skills explications FTEM'!A17:A17","v":0},null,null,{"$f":"IF($H$2=\"G\",'Skills explications FTEM'!F17,'Skills explications FTEM'!B17)","v":"Travail de canne, conduite du puck"},null,null,{"$f":"IF($H$2=\"G\",'Skills explications FTEM'!G17,'Skills explications FTEM'!C17)","v":"Puck sur la palette, intercepte les lignes de passe, déviation, contrôle de la canne de l'adversaire"},null,null,{"$f":"IF($H$2=\"G\",'Skills explications FTEM'!#REF!,'Skills explications FTEM'!#REF!)","v":{"$error":"#REF!"}}]
[null,null,null,{"$f":"IF($H$2=\"G\",'Skills explications FTEM'!F18,'Skills explications FTEM'!B18)","v":"Protéger le puck"},null,null,{"$f":"IF($H$2=\"G\",'Skills explications FTEM'!G18,'Skills explications FTEM'!C18)","v":"Contrôle du puck, dribbling, protection du puck, feintes (variantes: avec les patins ou avec et sans la bande), mise au jeu (bully)"},null,null,{"$f":"IF($H$2=\"G\",'Skills explications FTEM'!#REF!,'Skills explications FTEM'!#REF!)","v":{"$error":"#REF!"}}]
[null,null,null,{"$f":"IF($H$2=\"G\",'Skills explications FTEM'!F19,'Skills explications FTEM'!B19)","v":"Jeu du corps (charges)"},null,null,{"$f":"IF($H$2=\"G\",'Skills explications FTEM'!G19,'Skills explications FTEM'!C19)","v":"Faculté de s'imposer physiquement, duels (sur la surface de glace ou à la bande), prendre des checks, lever la tête, niveau de lutte, dur mais correct, bloquer les tirs avec le corps"},null,null,{"$f":"IF($H$2=\"G\",'Skills explications FTEM'!#REF!,'Skills explications FTEM'!#REF!)","v":{"$error":"#REF!"}}]
[{"$f":"'Skills explications FTEM'!A20:A20","v":0},null,null,{"$f":"IF($H$2=\"G\",'Skills explications FTEM'!F20,'Skills explications FTEM'!B20)","v":"-"},null,null,{"$f":"IF($H$2=\"G\",'Skills explications FTEM'!G20,'Skills explications FTEM'!C20)","v":"-"},null,null,{"$f":"IF($H$2=\"G\",'Skills explications FTEM'!#REF!,'Skills explications FTEM'!#REF!)","v":{"$error":"#REF!"}}]
[{"$f":"'Skills explications FTEM'!A21:A21","v":"HOCKEY SENSE"},null,null,{"$f":"IF($H$2=\"G\",'Skills explications FTEM'!F21,'Skills explications FTEM'!B21)","v":"Intelligence de jeu"},null,null,{"$f":"IF($H$2=\"G\",'Skills explications FTEM'!G21,'Skills explications FTEM'!C21)","v":"Voit les zones libres avec joueurs et crée des situations de surnombre, trouve des solutions et agit en toute situation, vitesse de la visualisation"},null,null,{"$f":"IF($H$2=\"G\",'Skills explications FTEM'!#REF!,'Skills explications FTEM'!#REF!)","v":{"$error":"#REF!"}},null,null,null,{"$f":"IFERROR(AVERAGE(O30:O34),\"-\")","v":"-"},null,{"$f":"IFERROR(AVERAGE(Q30:Q34),\"-\")","v":"-"},null,{"$f":"IFERROR(AVERAGE(S30:S34),\"-\")","v":"-"},null,{"$f":"IFERROR(AVERAGE(U30:U34),\"-\")","v":"-"},null,{"$f":"IFERROR(AVERAGE(W30:W34),\"-\")","v":"-"},null,{"$f":"IFERROR(AVERAGE(Y30:Y34),\"-\")","v":"-"}]
[{"$f":"'Skills explications FTEM'!A22:A22","v":0},null,null,{"$f":"IF($H$2=\"G\",'Skills explications FTEM'!F22,'Skills explications FTEM'!B22)","v":"Sensibilisation offensive"},null,null,{"$f":"IF($H$2=\"G\",'Skills explications FTEM'!G22,'Skills explications FTEM'!C22)","v":"Se démarque, anticipation des situations de jeu, ouvre des zones libres pour ses coéquipiers, se place pour marquer, vitesse de mise sous pression, communication"},null,null,{"$f":"IF($H$2=\"G\",'Skills explications FTEM'!#REF!,'Skills explications FTEM'!#REF!)","v":{"$error":"#REF!"}}]
[null,null,null,{"$f":"IF($H$2=\"G\",'Skills explications FTEM'!F23,'Skills explications FTEM'!B23)","v":"Sensibilisation défensive"},null,null,{"$f":"IF($H$2=\"G\",'Skills explications FTEM'!G23,'Skills explications FTEM'!C23)","v":"Garde la position «inside», protège le slot, rassure les coéquipiers, support, anticipe les lignes de passe, bloque les tirs. Réduit rapidement la distance sur l'adversaire, communication"},null,null,{"$f":"IF($H$2=\"G\",'Skills explications FTEM'!#REF!,'Skills explications FTEM'!#REF!)","v":{"$error":"#REF!"}}]
[{"$f":"'Skills explications FTEM'!A23:A23","v":0},null,null,{"$f":"IF($H$2=\"G\",'Skills explications FTEM'!F24,'Skills explications FTEM'!B24)","v":"Gestion du puck"},null,null,{"$f":"IF($H$2=\"G\",'Skills explications FTEM'!G24,'Skills explications FTEM'!C24)","v":"Fait le bon choix en fonction de la situation, support, surnombre"},null,null,{"$f":"IF($H$2=\"G\",'Skills explications FTEM'!#REF!,'Skills explications FTEM'!#REF!)","v":{"$error":"#REF!"}}]
[{"$f":"'Skills explications FTEM'!A25:A25","v":0},null,null,{"$f":"IF($H$2=\"G\",'Skills explications FTEM'!F25,'Skills explications FTEM'!B25)","v":"Créativité"},null,null,{"$f":"IF($H$2=\"G\",'Skills explications FTEM'!G25,'Skills explications FTEM'!C25)","v":"Prises de décision surprenantes, sens du but"},null,null,{"$f":"IF($H$2=\"G\",'Skills explications FTEM'!#REF!,'Skills explications FTEM'!#REF!)","v":{"$error":"#REF!"}}]
[{"$f":"'Skills explications FTEM'!A26:A26","v":"PERSONALITY"},null,null,{"$f":"'Skills explications FTEM'!B26","v":"COMPÉTENCES"},null,null,{"$f":"'Skills explications FTEM'!C26","v":"OBSERVATION"},null,null,{"$f":"'Skills explications FTEM'!H26","v":0},null,null,null,"Date1",null,"Date2",null,"Date3",null,"Date4",null,"Date5",null,"Player",null,"BUT","MESURES:\nSPECIFIQUE, MESURABLES, REALISTE",null,null,null,null,null,null,"DELAI","CONTRÔLE DU BUT","Date"]
[{"$f":"'Skills explications FTEM'!A27:A27","v":"PERSONNALITÉ"},null,null,{"$f":"IF($H$2=\"G\",'Skills explications FTEM'!F27,'Skills explications FTEM'!B27)","v":"Confiance en soi"},null,null,{"$f":"IF($H$2=\"G\",'Skills explications FTEM'!G27,'Skills explications FTEM'!C27)","v":"Est en confiance,«I can do it», peut estimer ses capacités (connaît ses qualités et ses défauts), peut réaliser ses qualités avec constance, est courageux et prend des risques calculés"},null,null,{"$f":"IF($H$2=\"G\",'Skills explications FTEM'!#REF!,'Skills explications FTEM'!#REF!)","v":{"$error":"#REF!"}},null,null,null,{"$f":"IFERROR(AVERAGE(O36:O40),\"-\")","v":"-"},null,null,null,{"$f":"IFERROR(AVERAGE(S36:S40),\"-\")","v":"-"},null,{"$f":"IFERROR(AVERAGE(U36:U40),\"-\")","v":"-"},null,{"$f":"IFERROR(AVERAGE(W36:W40),\"-\")","v":"-"},null,{"$f":"IFERROR(AVERAGE(Y36:Y40),\"-\")","v":"-"}]
[{"$f":"'Skills explications FTEM'!A28:A28","v":0},null,null,{"$f":"IF($H$2=\"G\",'Skills explications FTEM'!F28,'Skills explications FTEM'!B28)","v":"Facultés d'apprentissage"},null,null,{"$f":"IF($H$2=\"G\",'Skills explications FTEM'!G28,'Skills explications FTEM'!C28)","v":"A une bonne perception (il peut mémoriser et peut réaliser), il a de la personnalité, essaie d'apprendre de ses erreurs et est entreprenant"},null,null,{"$f":"IF($H$2=\"G\",'Skills explications FTEM'!#REF!,'Skills explications FTEM'!#REF!)","v":{"$error":"#REF!"}}]
[{"$f":"'Skills explications FTEM'!A29:A29","v":0},null,null,{"$f":"IF($H$2=\"G\",'Skills explications FTEM'!F29,'Skills explications FTEM'!B29)","v":"Prise de responsabilités"},null,null,{"$f":"IF($H$2=\"G\",'Skills explications FTEM'!G29,'Skills explications FTEM'!C29)","v":"Prend la responsabilité de ses performances et de son développement, est-il autonome, soigne-t-il les détails, a beaucoup d'engagement dans tous les domaines"},null,null,{"$f":"IF($H$2=\"G\",'Skills explications FTEM'!#REF!,'Skills explications FTEM'!#REF!)","v":{"$error":"#REF!"}}]
[null,null,null,{"$f":"IF($H$2=\"G\",'Skills explications FTEM'!F30,'Skills explications FTEM'!B30)","v":"Motivation"},null,null,{"$f":"IF($H$2=\"G\",'Skills explications FTEM'!G30,'Skills explications FTEM'!C30)","v":"Est toujours motivé, veut sans cesse se développer et apprendre, veut être le premier et avoir du succès, n'abandonne jamais et ne se laisse pas influencer par les échesc"},null,null,{"$f":"IF($H$2=\"G\",'Skills explications FTEM'!#REF!,'Skills explications FTEM'!#REF!)","v":{"$error":"#REF!"}}]
[{"$f":"'Skills explications FTEM'!A31:A31","v":0},null,null,{"$f":"IF($H$2=\"G\",'Skills explications FTEM'!F31,'Skills explications FTEM'!B31)","v":"Performance style de vie"},null,null,{"$f":"IF($H$2=\"G\",'Skills explications FTEM'!G31,'Skills explications FTEM'!C31)","v":"Gère bien son environnement et son temps libre selon les principes de la performance, obstiné, tenace et axé sur l'objectif, accent sur sa propre performance, est courageux et peut s'imposer contre la résistance, les défis le motivent"},null,null,{"$f":"IF($H$2=\"G\",'Skills explications FTEM'!#REF!,'Skills explications FTEM'!#REF!)","v":{"$error":"#REF!"}}]
[{"$f":"'Skills explications FTEM'!A32:A32","v":"FORCE MENTALE"},null,null,{"$f":"IF($H$2=\"G\",'Skills explications FTEM'!F32,'Skills explications FTEM'!B32)","v":"Engagement"},null,null,{"$f":"IF($H$2=\"G\",'Skills explications FTEM'!G32,'Skills explications FTEM'!C32)","v":"Démontre beaucoup d'intensité dans les entraînements et les matchs, donne toujours son maximum et veut sans cesse repousser ses limites, a-t-il de la passion, s'efforce-t-il de s'entraîner avec une excellente qualité"},null,null,{"$f":"IF($H$2=\"G\",'Skills explications FTEM'!#REF!,'Skills explications FTEM'!#REF!)","v":{"$error":"#REF!"}},null,null,null,{"$f":"IFERROR(AVERAGE(O41:O45),\"-\")","v":"-"},null,null,null,{"$f":"IFERROR(AVERAGE(S41:S45),\"-\")","v":"-"},null,{"$f":"IFERROR(AVERAGE(U41:U45),\"-\")","v":"-"},null,{"$f":"IFERROR(AVERAGE(W41:W45),\"-\")","v":"-"},null,{"$f":"IFERROR(AVERAGE(Y41:Y45),\"-\")","v":"-"}]
[{"$f":"'Skills explications FTEM'!A33:A33","v":0},null,null,{"$f":"IF($H$2=\"G\",'Skills explications FTEM'!F33,'Skills explications FTEM'!B33)","v":"Préparation"},null,null,{"$f":"IF($H$2=\"G\",'Skills explications FTEM'!G33,'Skills explications FTEM'!C33)","v":"Se prépare-t-il toujours bien, mentalement et physiquement, se prépare-t-il toujours bien pour obtenir le niveau de performance idéal (ILZ)"},null,null,{"$f":"IF($H$2=\"G\",'Skills explications FTEM'!#REF!,'Skills explications FTEM'!#REF!)","v":{"$error":"#REF!"}}]
[null,null,null,{"$f":"IF($H$2=\"G\",'Skills explications FTEM'!F34,'Skills explications FTEM'!B34)","v":"Coaching personnel"},null,null,{"$f":"IF($H$2=\"G\",'Skills explications FTEM'!G34,'Skills explications FTEM'!C34)","v":"A-t-il de bonnes facultés de concentration, peut-il maintenir son niveau de performance idéal (ILZ) dans les entraînements et les matchs, peut-il appliquer ses techniques de base, est-il résistant aux influences et pensées négatives, est-il conscient de son attitude corporelle et peut-il l'influencer"},null,null,{"$f":"IF($H$2=\"G\",'Skills explications FTEM'!#REF!,'Skills explications FTEM'!#REF!)","v":{"$error":"#REF!"}}]
[{"$f":"'Skills explications FTEM'!A34:A34","v":0},null,null,{"$f":"IF($H$2=\"G\",'Skills explications FTEM'!F35,'Skills explications FTEM'!B35)","v":"Gestion des énergies"},null,null,{"$f":"IF($H$2=\"G\",'Skills explications FTEM'!G35,'Skills explications FTEM'!C35)","v":"Peut-il gérer ses propres énergies, prend-il soin de sa récupération, peut-il gérer les moments où il faut se donner à fond ou quand il faut déconnecter, bouton On/Off"},null,null,{"$f":"IF($H$2=\"G\",'Skills explications FTEM'!#REF!,'Skills explications FTEM'!#REF!)","v":{"$error":"#REF!"}}]
[{"$f":"'Skills explications FTEM'!A36:A36","v":0},null,null,{"$f":"IF($H$2=\"G\",'Skills explications FTEM'!F36,'Skills explications FTEM'!B36)","v":"Contrôle des émotions"},null,null,{"$f":"IF($H$2=\"G\",'Skills explications FTEM'!G36,'Skills explications FTEM'!C36)","v":"Peut-il gérer ses propres émotions et impulsions, reste-t-il sous contrôle lorsqu'il y a une grande pression, peut-il rester calme lorsque le niveau émotionnel et de frustration est élevé"},null,null,{"$f":"IF($H$2=\"G\",'Skills explications FTEM'!#REF!,'Skills explications FTEM'!#REF!)","v":{"$error":"#REF!"}}]
[{"$f":"'Skills explications FTEM'!A37:A37","v":"PHYSIQUE"},null,null,{"$f":"IF($H$2=\"G\",'Skills explications FTEM'!F37,'Skills explications FTEM'!B37)","v":"Production de la performance"},null,null,{"$f":"IF($H$2=\"G\",'Skills explications FTEM'!G37,'Skills explications FTEM'!C37)","v":"A-t-il la puissance, la force, la vitesse nécessaires dans les jambes et le haut du corps (facteurs neuromusculaires)"},null,null,{"$f":"IF($H$2=\"G\",'Skills explications FTEM'!#REF!,'Skills explications FTEM'!#REF!)","v":{"$error":"#REF!"}},null,null,null,{"$f":"IFERROR(AVERAGE(O46:O50),\"-\")","v":"-"},null,null,null,{"$f":"IFERROR(AVERAGE(S46:S50),\"-\")","v":"-"},null,{"$f":"IFERROR(AVERAGE(U46:U50),\"-\")","v":"-"},null,{"$f":"IFERROR(AVERAGE(W46:W50),\"-\")","v":"-"},null,{"$f":"IFERROR(AVERAGE(Y46:Y50),\"-\")","v":"-"}]
[{"$f":"'Skills explications FTEM'!A38:A38","v":0},null,null,{"$f":"IF($H$2=\"G\",'Skills explications FTEM'!F38,'Skills explications FTEM'!B38)","v":"Spécifique au sport, résistant à l'effort"},null,null,{"$f":"IF($H$2=\"G\",'Skills explications FTEM'!G38,'Skills explications FTEM'!C38)","v":"Est-il capable de maintenir sa puissance, sa force, sa vitesse durant un long temps de glace et peut-il récupérer complètement entre ses engagements (facteurs du métabolisme et cardiovasculaire)"},null,null,{"$f":"IF($H$2=\"G\",'Skills explications FTEM'!#REF!,'Skills explications FTEM'!#REF!)","v":{"$error":"#REF!"}}]
[null,null,null,{"$f":"IF($H$2=\"G\",'Skills explications FTEM'!F39,'Skills explications FTEM'!B39)","v":"Santé / Prévention"},null,null,{"$f":"IF($H$2=\"G\",'Skills explications FTEM'!G39,'Skills explications FTEM'!C39)","v":"A-t-il la stabilité nécessaire (p. ex. ses appuis) et la mobilité nécessaire au niveau des articulations centrales"},null,null,{"$f":"IF($H$2=\"G\",'Skills explications FTEM'!#REF!,'Skills explications FTEM'!#REF!)","v":{"$error":"#REF!"}}]
[{"$f":"'Skills explications FTEM'!A39:A39","v":0},null,null,{"$f":"IF($H$2=\"G\",'Skills explications FTEM'!F40,'Skills explications FTEM'!B40)","v":"Mobilité / Coordination"},null,null,{"$f":"IF($H$2=\"G\",'Skills explications FTEM'!G40,'Skills explications FTEM'!C40)","v":"Gère-t-il ses aptitudes de mouvements de base, qui sont un fournisseur important des fonctions spécifiques «Skills» pour être efficace"},null,null,{"$f":"IF($H$2=\"G\",'Skills explications FTEM'!#REF!,'Skills explications FTEM'!#REF!)","v":{"$error":"#REF!"}}]
[{"$f":"'Skills explications FTEM'!A41:A41","v":0},null,null,{"$f":"IF($H$2=\"G\",'Skills explications FTEM'!F41,'Skills explications FTEM'!B41)","v":"Robustesse"},null,null,{"$f":"IF($H$2=\"G\",'Skills explications FTEM'!G41,'Skills explications FTEM'!C41)","v":"A-t-il la force de base nécessaire (tension corporelle) pour gagner des duels et résister aux charges"},null,null,{"$f":"IF($H$2=\"G\",'Skills explications FTEM'!#REF!,'Skills explications FTEM'!#REF!)","v":{"$error":"#REF!"}}]

{"sheet":"18","index":21,"n_rows":50,"n_cols":36,"rows_kept":50,"cut":false,"hidden":false,"merged":[[45,25,49,25],[45,26,49,32],[45,34,49,34],[40,23,44,23],[42,3,42,5],[42,6,42,11],[44,3,44,5],[44,6,44,11],[40,0,44,2],[40,3,40,5],[40,6,40,11],[40,12,44,12],[40,13,44,13],[40,15,44,15],[45,0,49,2],[45,3,45,5],[45,6,45,11],[45,12,49,12],[45,23,49,23],[47,3,47,5],[47,6,47,11],[48,3,48,5],[48,6,48,11],[49,3,49,5],[34,21,34,22],[35,17,39,17],[35,19,39,19],[35,21,39,21],[36,3,36,5],[36,6,36,11],[38,3,38,5],[38,6,38,11],[40,17,44,17],[40,19,44,19],[40,21,44,21],[43,3,43,5],[43,6,43,11],[37,3,37,5],[37,6,37,11],[41,3,41,5],[41,6,41,11],[29,0,33,2],[29,3,29,5],[29,6,29,11],[29,12,33,12],[29,13,33,13],[29,15,33,15],[34,23,34,24],[34,26,34,32],[35,0,39,2],[35,3,35,5],[35,6,35,11],[35,12,39,12],[35,13,39,13],[35,15,39,15],[39,3,39,5],[39,6,39,11],[35,23,39,23],[34,0,34,2],[34,3,34,5],[34,6,34,11],[34,13,34,14],[34,15,34,16],[34,17,34,18],[34,19,34,20],[23,21,28,21],[23,23,28,23],[24,3,24,5],[24,6,24,11],[28,3,28,5],[28,6,28,11],[33,3,33,5],[33,6,33,11],[29,23,33,23],[29,17,33,17],[29,19,33,19],[29,21,33,21],[30,3,30,5],[30,6,30,11],[31,3,31,5],[31,6,31,11],[25,3,25,5],[25,6,25,11],[32,3,32,5],[32,6,32,11],[18,15,22,15],[18,17,22,17],[18,19,22,19],[18,21,22,21],[18,23,22,23],[22,3,22,5],[22,6,22,11],[23,0,28,2],[23,3,23,5],[23,6,23,11],[23,12,28,12],[23,13,28,13],[23,15,28,15],[23,17,28,17],[18,0,22,2],[18,3,18,5],[18,6,18,11],[18,12,22,12],[18,13,22,13],[19,3,19,5],[19,6,19,11],[20,3,20,5],[20,6,20,11],[23,19,28,19],[12,23,16,23],[16,3,16,5],[16,6,16,11],[17,0,17,2],[17,3,17,5],[17,6,17,11],[17,13,17,14],[17,15,17,16],[17,17,17,18],[17,19,17,20],[17,21,17,22],[17,23,17,24],[12,0,16,2],[12,3,12,5],[12,6,12,11],[12,12,16,12],[12,13,16,13],[12,15,16,15],[12,17,16,17],[12,19,16,19],[12,21,16,21],[13,3,13,5],[13,6,13,11],[14,3,14,5],[11,0,11,2],[11,3,11,5],[11,13,11,14],[11,15,11,16],[11,17,11,18],[11,19,11,20],[11,21,11,22],[11,23,11,24],[11,26,11,32],[11,6,11,11],[0,33,0,35],[29,25,33,25],[29,26,33,32],[29,34,33,34],[35,25,39,25],[35,26,39,32],[35,34,39,34],[1,0,1,1],[1,2,1,5],[1,10,1,24],[2,0,2,1],[2,2,2,5],[2,11,2,24],[6,0,6,1],[6,2,6,35],[7,0,7,1],[7,2,7,35],[8,0,8,1],[8,2,8,35],[3,0,3,1],[3,10,3,24],[4,0,4,1],[4,2,4,5],[4,10,4,24],[49,6,49,11],[45,13,49,13],[45,15,49,15],[45,17,49,17],[45,19,49,19],[45,21,49,21],[0,0,0,24],[0,25,0,26],[0,27,0,32],[10,0,10,24],[10,25,10,35],[40,25,44,25],[40,26,44,32],[40,34,44,34],[12,25,16,25],[12,26,16,32],[12,34,16,34],[18,25,22,25],[18,26,22,32],[18,34,22,34],[23,25,28,25],[23,26,28,32],[23,34,28,34],[17,26,17,32],[46,3,46,5],[46,6,46,11],[14,6,14,11],[15,3,15,5],[15,6,15,11],[21,3,21,5],[21,6,21,11],[26,3,26,5],[26,6,26,11],[27,3,27,5],[27,6,27,11]]}
["Infos personelles",null,null,null,null,null,null,null,null,null,null,null,null,null,null,null,null,null,null,null,null,null,null,null,null,"Predispositions",null,"Evaluations",null,null,null,null,null,"Rating"]
["PRENOM",null,{"$f":"IF(ISBLANK(VLOOKUP(18,Tabelle3[],3,0)),\"-\",VLOOKUP(18,Tabelle3[],3,0))","v":"-"},null,null,null,"POSITION",null,null,"ADRESSE",{"$f":"IF(ISBLANK(VLOOKUP(18,Tabelle3[],5,0)),\"-\",VLOOKUP(18,Tabelle3[],5,0))","v":"-"},null,null,null,null,null,null,null,null,null,null,null,null,null,null,"\"àage\" (Biologique/age relatif)",null,"Date 1",null,null,"cm",null,"Kg",null,"AUSGEZEICHNET",5]
["NOM",null,{"$f":"IF(ISBLANK(VLOOKUP(18,Tabelle3[],2,0)),\"-\",VLOOKUP(18,Tabelle3[],2,0))","v":"-"},null,null,null,"CANNE",null,null,"LIEU",{"$f":"IF(ISBLANK(VLOOKUP(18,Tabelle3[],7,0)),\"-\",VLOOKUP(18,Tabelle3[],7,0))","v":"-"},{"$f":"IF(ISBLANK(VLOOKUP(18,Tabelle3[],6,0)),\"-\",VLOOKUP(18,Tabelle3[],6,0))","v":"-"},null,null,null,null,null,null,null,null,null,null,null,null,null,"predispositions",null,"Date 2",null,null,"cm",null,"Kg",null,"GUT",4]
["DATE NAISS.",null,{"$f":"IF(ISBLANK(VLOOKUP(18,Tabelle3[],14,0)),\"-\",VLOOKUP(18,Tabelle3[],14,0))","v":"-"},{"$f":"IF(ISBLANK(VLOOKUP(18,Tabelle3[],15,0)),\"-\",VLOOKUP(18,Tabelle3[],15,0))","v":"-"},{"$f":"IF(ISBLANK(VLOOKUP(18,Tabelle3[],16,0)),\"-\",VLOOKUP(18,Tabelle3[],16,0))","v":"-"},null,"GRANDEUR",null,"cm","PHONE",{"$f":"IF(ISBLANK(VLOOKUP(18,Tabelle3[],8,0)),\"-\",VLOOKUP(18,Tabelle3[],8,0))","v":"-"},null,null,null,null,null,null,null,null,null,null,null,null,null,null,"Entourage",null,"Date 3",null,null,"cm",null,"Kg",null,"DURCHSCHNITT",3]
["SEXE",null,{"$f":"IF(ISBLANK(VLOOKUP(18,Tabelle3[],13,0)),\"-\",VLOOKUP(18,Tabelle3[],13,0))","v":"-"},null,null,null,"POIDS",null,"Kg","E-Mail",{"$f":"IF(ISBLANK(VLOOKUP(18,Tabelle3[],9,0)),\"-\",VLOOKUP(18,Tabelle3[],9,0))","v":"-"},null,null,null,null,null,null,null,null,null,null,null,null,null,null,null,null,"Date 4",null,null,"cm",null,"Kg",null,"MANGELHAFT",2]
[null,null,null,null,null,null,null,null,null,null,null,null,null,null,null,null,null,null,null,null,null,null,null,null,null,null,null,"Date 5",null,null,"cm",null,"Kg",null,"UNGENÜGEND",1]
["Vision",null,"xxx"]
["Next step",null,"xxx"]
["Profil du Joueur",null,"xxx"]
[]
["EVALUATION (COACH / JOUEUR)",null,null,null,null,null,null,null,null,null,null,null,null,null,null,null,null,null,null,null,null,null,null,null,null,"SMART"]
[{"$f":"'Skills explications FTEM'!A3:A3","v":"TEAM"},null,null,{"$f":"'Skills explications FTEM'!B3","v":"COMPÉTENCES"},null,null,{"$f":"'Skills explications FTEM'!C3","v":"OBSERVATION"},null,null,{"$f":"'Skills explications FTEM'!H3","v":0},null,null,"Final","Date1",null,"Date2",null,"Date3",null,"Date4",null,"Date5",null,"Player",null,"BUT","MESURES:\nSPECIFIQUE, MESURABLES, REALISTE",null,null,null,null,null,null,"DELAI","CONTRÔLE DU BUT","Date"]
[{"$f":"'Skills explications FTEM'!A4:A4","v":"ÉQUIPE"},null,null,{"$f":"IF($H$2=\"G\",'Skills explications FTEM'!F4,'Skills explications FTEM'!B4)","v":"Communication"},null,null,{"$f":"IF($H$2=\"G\",'Skills explications FTEM'!G4,'Skills explications FTEM'!C4)","v":"Respect et ouverture dans ses relations, confiance comme base, traite les conflits sans perturber la stabilité du groupe, communique avec ses coéquipiers, les entraîneurs et les fonctionnaires avec les mêmes valeurs"},null,null,{"$f":"IF($H$2=\"G\",'Skills explications FTEM'!#REF!,'Skills explications FTEM'!#REF!)","v":{"$error":"#REF!"}},null,null,null,{"$f":"IFERROR(AVERAGE(O13:O17),\"-\")","v":"-"},null,{"$f":"IFERROR(AVERAGE(Q13:Q17),\"-\")","v":"-"},null,{"$f":"IFERROR(AVERAGE(S13:S17),\"-\")","v":"-"},null,{"$f":"IFERROR(AVERAGE(U13:U17),\"-\")","v":"-"},null,{"$f":"IFERROR(AVERAGE(W13:W17),\"-\")","v":"-"},null,{"$f":"IFERROR(AVERAGE(Y13:Y17),\"-\")","v":"-"}]
[null,null,null,{"$f":"IF($H$2=\"G\",'Skills explications FTEM'!F5,'Skills explications FTEM'!B5)","v":"Capacité de jouer en équipe"},null,null,{"$f":"IF($H$2=\"G\",'Skills explications FTEM'!G5,'Skills explications FTEM'!C5)","v":"Intégration dans le groupe, définit et réalise des objectifs communs, NOUS avant le MOI, participe au bon esprit d'équipe et à un bon climat de travail"},null,null,{"$f":"IF($H$2=\"G\",'Skills explications FTEM'!#REF!,'Skills explications FTEM'!#REF!)","v":{"$error":"#REF!"}}]
[null,null,null,{"$f":"IF($H$2=\"G\",'Skills explications FTEM'!F6,'Skills explications FTEM'!B6)","v":"Leadership"},null,null,{"$f":"IF($H$2=\"G\",'Skills explications FTEM'!G6,'Skills explications FTEM'!C6)","v":"Prend des responsabilités dans le groupe, essaie de donner de la valeur à ses coéquipiers et au groupe, influence positivement la dynamique de groupe"},null,null,{"$f":"IF($H$2=\"G\",'Skills explications FTEM'!#REF!,'Skills explications FTEM'!#REF!)","v":{"$error":"#REF!"}}]
[null,null,null,{"$f":"IF($H$2=\"G\",'Skills explications FTEM'!F7,'Skills explications FTEM'!B7)","v":"Répartition des rôles"},null,null,{"$f":"IF($H$2=\"G\",'Skills explications FTEM'!G7,'Skills explications FTEM'!C7)","v":"Connaît son rôle et le réalise, est conscient de sa position dans l'équipe et le système, met ses compétences à disposition de l'équipe"},null,null,{"$f":"IF($H$2=\"G\",'Skills explications FTEM'!#REF!,'Skills explications FTEM'!#REF!)","v":{"$error":"#REF!"}}]
[{"$f":"'Skills explications FTEM'!A8:A8","v":0},null,null,{"$f":"IF($H$2=\"G\",'Skills explications FTEM'!F8,'Skills explications FTEM'!B8)","v":"Respect"},null,null,{"$f":"IF($H$2=\"G\",'Skills explications FTEM'!G8,'Skills explications FTEM'!C8)","v":"Relations respectueuses avec les coéquipiers, les entraîneurs, les adversaires, les arbitres et le staff; respect des règles, des principes du fairplay (y compris antidopage)"},null,null,{"$f":"IF($H$2=\"G\",'Skills explications FTEM'!#REF!,'Skills explications FTEM'!#REF!)","v":{"$error":"#REF!"}}]
[{"$f":"'Skills explications FTEM'!A9:A9","v":"ON ICE"},null,null,{"$f":"'Skills explications FTEM'!B9","v":"COMPÉTENCES"},null,null,{"$f":"'Skills explications FTEM'!C9","v":"OBSERVATION"},null,null,{"$f":"'Skills explications FTEM'!H9","v":0},null,null,null,"Date1",null,"Date2",null,"Date3",null,"Date4",null,"Date5",null,"Player",null,"BUT","MESURES:\nSPECIFIQUE, MESURABLES, REALISTE",null,null,null,null,null,null,"DELAI","CONTRÔLE DU BUT","Date"]
[{"$f":"'Skills explications FTEM'!A10:A10","v":"PATINAGE"},null,null,{"$f":"IF($H$2=\"G\",'Skills explications FTEM'!F10,'Skills explications FTEM'!B10)","v":"Vitesse de patinage"},null,null,{"$f":"IF($H$2=\"G\",'Skills explications FTEM'!G10,'Skills explications FTEM'!C10)","v":"Accélération, départ, explosivité des 3 premiers pas, fréquence"},null,null,{"$f":"IF($H$2=\"G\",'Skills explications FTEM'!#REF!,'Skills explications FTEM'!#REF!)","v":{"$error":"#REF!"}},null,null,null,{"$f":"IFERROR(AVERAGE(O19:O23),\"-\")","v":"-"},null,{"$f":"IFERROR(AVERAGE(Q19:Q23),\"-\")","v":"-"},null,{"$f":"IFERROR(AVERAGE(S19:S23),\"-\")","v":"-"},null,{"$f":"IFERROR(AVERAGE(U19:U23),\"-\")","v":"-"},null,{"$f":"IFERROR(AVERAGE(W19:W23),\"-\")","v":"-"},null,{"$f":"IFERROR(AVERAGE(Y19:Y23),\"-\")","v":"-"}]
[{"$f":"'Skills explications FTEM'!A11:A11","v":0},null,null,{"$f":"IF($H$2=\"G\",'Skills explications FTEM'!F11,'Skills explications FTEM'!B11)","v":"Vitesse, rapidité"},null,null,{"$f":"IF($H$2=\"G\",'Skills explications FTEM'!G11,'Skills explications FTEM'!C11)","v":"Vitesse, faculté de glisse, avant et arrière, économie des forces"},null,null,{"$f":"IF($H$2=\"G\",'Skills explications FTEM'!#REF!,'Skills explications FTEM'!#REF!)","v":{"$error":"#REF!"}}]
[{"$f":"'Skills explications FTEM'!A12:A12","v":0},null,null,{"$f":"IF($H$2=\"G\",'Skills explications FTEM'!F12,'Skills explications FTEM'!B12)","v":"Agilité"},null,null,{"$f":"IF($H$2=\"G\",'Skills explications FTEM'!G12,'Skills explications FTEM'!C12)","v":"Changements de direction, pivots, stop et start «Nummelin»"},null,null,{"$f":"IF($H$2=\"G\",'Skills explications FTEM'!#REF!,'Skills explications FTEM'!#REF!)","v":{"$error":"#REF!"}},null,null,null,{"$f":"IFERROR(AVERAGE(O21:O23),\"-\")","v":"-"},null,{"$f":"IFERROR(AVERAGE(Q21:Q23),\"-\")","v":"-"},null,{"$f":"IFERROR(AVERAGE(S21:S23),\"-\")","v":"-"},null,{"$f":"IFERROR(AVERAGE(U21:U23),\"-\")","v":"-"},null,{"$f":"IFERROR(AVERAGE(W21:W23),\"-\")","v":"-"},null,"-"]
[null,null,null,{"$f":"IF($H$2=\"G\",'Skills explications FTEM'!F13,'Skills explications FTEM'!B13)","v":"Balance"},null,null,{"$f":"IF($H$2=\"G\",'Skills explications FTEM'!G13,'Skills explications FTEM'!C13)","v":"Equilibre, faculté d'être sur ses appuis, position basse, 1 ou 2 jambes"},null,null,{"$f":"IF($H$2=\"G\",'Skills explications FTEM'!#REF!,'Skills explications FTEM'!#REF!)","v":{"$error":"#REF!"}}]
[{"$f":"'Skills explications FTEM'!#REF!","v":{"$error":"#REF!"}},null,null,{"$f":"IF($H$2=\"G\",'Skills explications FTEM'!F14,'Skills explications FTEM'!B14)","v":"Patinage arrière"},null,null,{"$f":"IF($H$2=\"G\",'Skills explications FTEM'!G14,'Skills explications FTEM'!C14)","v":"Accélération, vitesse, équilibre "},null,null,{"$f":"IF($H$2=\"G\",'Skills explications FTEM'!#REF!,'Skills explications FTEM'!#REF!)","v":{"$error":"#REF!"}}]
[{"$f":"'Skills explications FTEM'!A15:A15","v":"SKILLS"},null,null,{"$f":"IF($H$2=\"G\",'Skills explications FTEM'!F15,'Skills explications FTEM'!B15)","v":"Tirer"},null,null,{"$f":"IF($H$2=\"G\",'Skills explications FTEM'!G15,'Skills explications FTEM'!C15)","v":"Efficience (pas d'espace et de temps), variantes, degré de surprise (déclenchement rapide), précision, puissance (conclusion tactique)"},null,null,{"$f":"IF($H$2=\"G\",'Skills explications FTEM'!#REF!,'Skills explications FTEM'!#REF!)","v":{"$error":"#REF!"}},null,null,null,{"$f":"IFERROR(AVERAGE(O24:O29),\"-\")","v":"-"},null,{"$f":"IFERROR(AVERAGE(Q24:Q29),\"-\")","v":"-"},null,{"$f":"IFERROR(AVERAGE(S24:S29),\"-\")","v":"-"},null,{"$f":"IFERROR(AVERAGE(U24:U29),\"-\")","v":"-"},null,{"$f":"IFERROR(AVERAGE(W24:W29),\"-\")","v":"-"},null,{"$f":"IFERROR(AVERAGE(Y24:Y29),\"-\")","v":"-"}]
[{"$f":"'Skills explications FTEM'!A16:A16","v":0},null,null,{"$f":"IF($H$2=\"G\",'Skills explications FTEM'!F16,'Skills explications FTEM'!B16)","v":"Passer"},null,null,{"$f":"IF($H$2=\"G\",'Skills explications FTEM'!G16,'Skills explications FTEM'!C16)","v":"Donne la passe (distance, passe flipée en revers), réception de la passe (précision, timing, coup droit, revers, patins), vitesse du puck"},null,null,{"$f":"IF($H$2=\"G\",'Skills explications FTEM'!#REF!,'Skills explications FTEM'!#REF!)","v":{"$error":"#REF!"}}]
[{"$f":"'Skills explications FTEM'!A17:A17","v":0},null,null,{"$f":"IF($H$2=\"G\",'Skills explications FTEM'!F17,'Skills explications FTEM'!B17)","v":"Travail de canne, conduite du puck"},null,null,{"$f":"IF($H$2=\"G\",'Skills explications FTEM'!G17,'Skills explications FTEM'!C17)","v":"Puck sur la palette, intercepte les lignes de passe, déviation, contrôle de la canne de l'adversaire"},null,null,{"$f":"IF($H$2=\"G\",'Skills explications FTEM'!#REF!,'Skills explications FTEM'!#REF!)","v":{"$error":"#REF!"}}]
[null,null,null,{"$f":"IF($H$2=\"G\",'Skills explications FTEM'!F18,'Skills explications FTEM'!B18)","v":"Protéger le puck"},null,null,{"$f":"IF($H$2=\"G\",'Skills explications FTEM'!G18,'Skills explications FTEM'!C18)","v":"Contrôle du puck, dribbling, protection du puck, feintes (variantes: avec les patins ou avec et sans la bande), mise au jeu (bully)"},null,null,{"$f":"IF($H$2=\"G\",'Skills explications FTEM'!#REF!,'Skills explications FTEM'!#REF!)","v":{"$error":"#REF!"}}]
[null,null,null,{"$f":"IF($H$2=\"G\",'Skills explications FTEM'!F19,'Skills explications FTEM'!B19)","v":"Jeu du corps (charges)"},null,null,{"$f":"IF($H$2=\"G\",'Skills explications FTEM'!G19,'Skills explications FTEM'!C19)","v":"Faculté de s'imposer physiquement, duels (sur la surface de glace ou à la bande), prendre des checks, lever la tête, niveau de lutte, dur mais correct, bloquer les tirs avec le corps"},null,null,{"$f":"IF($H$2=\"G\",'Skills explications FTEM'!#REF!,'Skills explications FTEM'!#REF!)","v":{"$error":"#REF!"}}]
[{"$f":"'Skills explications FTEM'!A20:A20","v":0},null,null,{"$f":"IF($H$2=\"G\",'Skills explications FTEM'!F20,'Skills explications FTEM'!B20)","v":"-"},null,null,{"$f":"IF($H$2=\"G\",'Skills explications FTEM'!G20,'Skills explications FTEM'!C20)","v":"-"},null,null,{"$f":"IF($H$2=\"G\",'Skills explications FTEM'!#REF!,'Skills explications FTEM'!#REF!)","v":{"$error":"#REF!"}}]
[{"$f":"'Skills explications FTEM'!A21:A21","v":"HOCKEY SENSE"},null,null,{"$f":"IF($H$2=\"G\",'Skills explications FTEM'!F21,'Skills explications FTEM'!B21)","v":"Intelligence de jeu"},null,null,{"$f":"IF($H$2=\"G\",'Skills explications FTEM'!G21,'Skills explications FTEM'!C21)","v":"Voit les zones libres avec joueurs et crée des situations de surnombre, trouve des solutions et agit en toute situation, vitesse de la visualisation"},null,null,{"$f":"IF($H$2=\"G\",'Skills explications FTEM'!#REF!,'Skills explications FTEM'!#REF!)","v":{"$error":"#REF!"}},null,null,null,{"$f":"IFERROR(AVERAGE(O30:O34),\"-\")","v":"-"},null,{"$f":"IFERROR(AVERAGE(Q30:Q34),\"-\")","v":"-"},null,{"$f":"IFERROR(AVERAGE(S30:S34),\"-\")","v":"-"},null,{"$f":"IFERROR(AVERAGE(U30:U34),\"-\")","v":"-"},null,{"$f":"IFERROR(AVERAGE(W30:W34),\"-\")","v":"-"},null,{"$f":"IFERROR(AVERAGE(Y30:Y34),\"-\")","v":"-"}]
[{"$f":"'Skills explications FTEM'!A22:A22","v":0},null,null,{"$f":"IF($H$2=\"G\",'Skills explications FTEM'!F22,'Skills explications FTEM'!B22)","v":"Sensibilisation offensive"},null,null,{"$f":"IF($H$2=\"G\",'Skills explications FTEM'!G22,'Skills explications FTEM'!C22)","v":"Se démarque, anticipation des situations de jeu, ouvre des zones libres pour ses coéquipiers, se place pour marquer, vitesse de mise sous pression, communication"},null,null,{"$f":"IF($H$2=\"G\",'Skills explications FTEM'!#REF!,'Skills explications FTEM'!#REF!)","v":{"$error":"#REF!"}}]
[null,null,null,{"$f":"IF($H$2=\"G\",'Skills explications FTEM'!F23,'Skills explications FTEM'!B23)","v":"Sensibilisation défensive"},null,null,{"$f":"IF($H$2=\"G\",'Skills explications FTEM'!G23,'Skills explications FTEM'!C23)","v":"Garde la position «inside», protège le slot, rassure les coéquipiers, support, anticipe les lignes de passe, bloque les tirs. Réduit rapidement la distance sur l'adversaire, communication"},null,null,{"$f":"IF($H$2=\"G\",'Skills explications FTEM'!#REF!,'Skills explications FTEM'!#REF!)","v":{"$error":"#REF!"}}]
[{"$f":"'Skills explications FTEM'!A23:A23","v":0},null,null,{"$f":"IF($H$2=\"G\",'Skills explications FTEM'!F24,'Skills explications FTEM'!B24)","v":"Gestion du puck"},null,null,{"$f":"IF($H$2=\"G\",'Skills explications FTEM'!G24,'Skills explications FTEM'!C24)","v":"Fait le bon choix en fonction de la situation, support, surnombre"},null,null,{"$f":"IF($H$2=\"G\",'Skills explications FTEM'!#REF!,'Skills explications FTEM'!#REF!)","v":{"$error":"#REF!"}}]
[{"$f":"'Skills explications FTEM'!A25:A25","v":0},null,null,{"$f":"IF($H$2=\"G\",'Skills explications FTEM'!F25,'Skills explications FTEM'!B25)","v":"Créativité"},null,null,{"$f":"IF($H$2=\"G\",'Skills explications FTEM'!G25,'Skills explications FTEM'!C25)","v":"Prises de décision surprenantes, sens du but"},null,null,{"$f":"IF($H$2=\"G\",'Skills explications FTEM'!#REF!,'Skills explications FTEM'!#REF!)","v":{"$error":"#REF!"}}]
[{"$f":"'Skills explications FTEM'!A26:A26","v":"PERSONALITY"},null,null,{"$f":"'Skills explications FTEM'!B26","v":"COMPÉTENCES"},null,null,{"$f":"'Skills explications FTEM'!C26","v":"OBSERVATION"},null,null,{"$f":"'Skills explications FTEM'!H26","v":0},null,null,null,"Date1",null,"Date2",null,"Date3",null,"Date4",null,"Date5",null,"Player",null,"BUT","MESURES:\nSPECIFIQUE, MESURABLES, REALISTE",null,null,null,null,null,null,"DELAI","CONTRÔLE DU BUT","Date"]
[{"$f":"'Skills explications FTEM'!A27:A27","v":"PERSONNALITÉ"},null,null,{"$f":"IF($H$2=\"G\",'Skills explications FTEM'!F27,'Skills explications FTEM'!B27)","v":"Confiance en soi"},null,null,{"$f":"IF($H$2=\"G\",'Skills explications FTEM'!G27,'Skills explications FTEM'!C27)","v":"Est en confiance,«I can do it», peut estimer ses capacités (connaît ses qualités et ses défauts), peut réaliser ses qualités avec constance, est courageux et prend des risques calculés"},null,null,{"$f":"IF($H$2=\"G\",'Skills explications FTEM'!#REF!,'Skills explications FTEM'!#REF!)","v":{"$error":"#REF!"}},null,null,null,{"$f":"IFERROR(AVERAGE(O36:O40),\"-\")","v":"-"},null,null,null,{"$f":"IFERROR(AVERAGE(S36:S40),\"-\")","v":"-"},null,{"$f":"IFERROR(AVERAGE(U36:U40),\"-\")","v":"-"},null,{"$f":"IFERROR(AVERAGE(W36:W40),\"-\")","v":"-"},null,{"$f":"IFERROR(AVERAGE(Y36:Y40),\"-\")","v":"-"}]
[{"$f":"'Skills explications FTEM'!A28:A28","v":0},null,null,{"$f":"IF($H$2=\"G\",'Skills explications FTEM'!F28,'Skills explications FTEM'!B28)","v":"Facultés d'apprentissage"},null,null,{"$f":"IF($H$2=\"G\",'Skills explications FTEM'!G28,'Skills explications FTEM'!C28)","v":"A une bonne perception (il peut mémoriser et peut réaliser), il a de la personnalité, essaie d'apprendre de ses erreurs et est entreprenant"},null,null,{"$f":"IF($H$2=\"G\",'Skills explications FTEM'!#REF!,'Skills explications FTEM'!#REF!)","v":{"$error":"#REF!"}}]
[{"$f":"'Skills explications FTEM'!A29:A29","v":0},null,null,{"$f":"IF($H$2=\"G\",'Skills explications FTEM'!F29,'Skills explications FTEM'!B29)","v":"Prise de responsabilités"},null,null,{"$f":"IF($H$2=\"G\",'Skills explications FTEM'!G29,'Skills explications FTEM'!C29)","v":"Prend la responsabilité de ses performances et de son développement, est-il autonome, soigne-t-il les détails, a beaucoup d'engagement dans tous les domaines"},null,null,{"$f":"IF($H$2=\"G\",'Skills explications FTEM'!#REF!,'Skills explications FTEM'!#REF!)","v":{"$error":"#REF!"}}]
[null,null,null,{"$f":"IF($H$2=\"G\",'Skills explications FTEM'!F30,'Skills explications FTEM'!B30)","v":"Motivation"},null,null,{"$f":"IF($H$2=\"G\",'Skills explications FTEM'!G30,'Skills explications FTEM'!C30)","v":"Est toujours motivé, veut sans cesse se développer et apprendre, veut être le premier et avoir du succès, n'abandonne jamais et ne se laisse pas influencer par les échesc"},null,null,{"$f":"IF($H$2=\"G\",'Skills explications FTEM'!#REF!,'Skills explications FTEM'!#REF!)","v":{"$error":"#REF!"}}]
[{"$f":"'Skills explications FTEM'!A31:A31","v":0},null,null,{"$f":"IF($H$2=\"G\",'Skills explications FTEM'!F31,'Skills explications FTEM'!B31)","v":"Performance style de vie"},null,null,{"$f":"IF($H$2=\"G\",'Skills explications FTEM'!G31,'Skills explications FTEM'!C31)","v":"Gère bien son environnement et son temps libre selon les principes de la performance, obstiné, tenace et axé sur l'objectif, accent sur sa propre performance, est courageux et peut s'imposer contre la résistance, les défis le motivent"},null,null,{"$f":"IF($H$2=\"G\",'Skills explications FTEM'!#REF!,'Skills explications FTEM'!#REF!)","v":{"$error":"#REF!"}}]
[{"$f":"'Skills explications FTEM'!A32:A32","v":"FORCE MENTALE"},null,null,{"$f":"IF($H$2=\"G\",'Skills explications FTEM'!F32,'Skills explications FTEM'!B32)","v":"Engagement"},null,null,{"$f":"IF($H$2=\"G\",'Skills explications FTEM'!G32,'Skills explications FTEM'!C32)","v":"Démontre beaucoup d'intensité dans les entraînements et les matchs, donne toujours son maximum et veut sans cesse repousser ses limites, a-t-il de la passion, s'efforce-t-il de s'entraîner avec une excellente qualité"},null,null,{"$f":"IF($H$2=\"G\",'Skills explications FTEM'!#REF!,'Skills explications FTEM'!#REF!)","v":{"$error":"#REF!"}},null,null,null,{"$f":"IFERROR(AVERAGE(O41:O45),\"-\")","v":"-"},null,null,null,{"$f":"IFERROR(AVERAGE(S41:S45),\"-\")","v":"-"},null,{"$f":"IFERROR(AVERAGE(U41:U45),\"-\")","v":"-"},null,{"$f":"IFERROR(AVERAGE(W41:W45),\"-\")","v":"-"},null,{"$f":"IFERROR(AVERAGE(Y41:Y45),\"-\")","v":"-"}]
[{"$f":"'Skills explications FTEM'!A33:A33","v":0},null,null,{"$f":"IF($H$2=\"G\",'Skills explications FTEM'!F33,'Skills explications FTEM'!B33)","v":"Préparation"},null,null,{"$f":"IF($H$2=\"G\",'Skills explications FTEM'!G33,'Skills explications FTEM'!C33)","v":"Se prépare-t-il toujours bien, mentalement et physiquement, se prépare-t-il toujours bien pour obtenir le niveau de performance idéal (ILZ)"},null,null,{"$f":"IF($H$2=\"G\",'Skills explications FTEM'!#REF!,'Skills explications FTEM'!#REF!)","v":{"$error":"#REF!"}}]
[null,null,null,{"$f":"IF($H$2=\"G\",'Skills explications FTEM'!F34,'Skills explications FTEM'!B34)","v":"Coaching personnel"},null,null,{"$f":"IF($H$2=\"G\",'Skills explications FTEM'!G34,'Skills explications FTEM'!C34)","v":"A-t-il de bonnes facultés de concentration, peut-il maintenir son niveau de performance idéal (ILZ) dans les entraînements et les matchs, peut-il appliquer ses techniques de base, est-il résistant aux influences et pensées négatives, est-il conscient de son attitude corporelle et peut-il l'influencer"},null,null,{"$f":"IF($H$2=\"G\",'Skills explications FTEM'!#REF!,'Skills explications FTEM'!#REF!)","v":{"$error":"#REF!"}}]
[{"$f":"'Skills explications FTEM'!A34:A34","v":0},null,null,{"$f":"IF($H$2=\"G\",'Skills explications FTEM'!F35,'Skills explications FTEM'!B35)","v":"Gestion des énergies"},null,null,{"$f":"IF($H$2=\"G\",'Skills explications FTEM'!G35,'Skills explications FTEM'!C35)","v":"Peut-il gérer ses propres énergies, prend-il soin de sa récupération, peut-il gérer les moments où il faut se donner à fond ou quand il faut déconnecter, bouton On/Off"},null,null,{"$f":"IF($H$2=\"G\",'Skills explications FTEM'!#REF!,'Skills explications FTEM'!#REF!)","v":{"$error":"#REF!"}}]
[{"$f":"'Skills explications FTEM'!A36:A36","v":0},null,null,{"$f":"IF($H$2=\"G\",'Skills explications FTEM'!F36,'Skills explications FTEM'!B36)","v":"Contrôle des émotions"},null,null,{"$f":"IF($H$2=\"G\",'Skills explications FTEM'!G36,'Skills explications FTEM'!C36)","v":"Peut-il gérer ses propres émotions et impulsions, reste-t-il sous contrôle lorsqu'il y a une grande pression, peut-il rester calme lorsque le niveau émotionnel et de frustration est élevé"},null,null,{"$f":"IF($H$2=\"G\",'Skills explications FTEM'!#REF!,'Skills explications FTEM'!#REF!)","v":{"$error":"#REF!"}}]
[{"$f":"'Skills explications FTEM'!A37:A37","v":"PHYSIQUE"},null,null,{"$f":"IF($H$2=\"G\",'Skills explications FTEM'!F37,'Skills explications FTEM'!B37)","v":"Production de la performance"},null,null,{"$f":"IF($H$2=\"G\",'Skills explications FTEM'!G37,'Skills explications FTEM'!C37)","v":"A-t-il la puissance, la force, la vitesse nécessaires dans les jambes et le haut du corps (facteurs neuromusculaires)"},null,null,{"$f":"IF($H$2=\"G\",'Skills explications FTEM'!#REF!,'Skills explications FTEM'!#REF!)","v":{"$error":"#REF!"}},null,null,null,{"$f":"IFERROR(AVERAGE(O46:O50),\"-\")","v":"-"},null,null,null,{"$f":"IFERROR(AVERAGE(S46:S50),\"-\")","v":"-"},null,{"$f":"IFERROR(AVERAGE(U46:U50),\"-\")","v":"-"},null,{"$f":"IFERROR(AVERAGE(W46:W50),\"-\")","v":"-"},null,{"$f":"IFERROR(AVERAGE(Y46:Y50),\"-\")","v":"-"}]
[{"$f":"'Skills explications FTEM'!A38:A38","v":0},null,null,{"$f":"IF($H$2=\"G\",'Skills explications FTEM'!F38,'Skills explications FTEM'!B38)","v":"Spécifique au sport, résistant à l'effort"},null,null,{"$f":"IF($H$2=\"G\",'Skills explications FTEM'!G38,'Skills explications FTEM'!C38)","v":"Est-il capable de maintenir sa puissance, sa force, sa vitesse durant un long temps de glace et peut-il récupérer complètement entre ses engagements (facteurs du métabolisme et cardiovasculaire)"},null,null,{"$f":"IF($H$2=\"G\",'Skills explications FTEM'!#REF!,'Skills explications FTEM'!#REF!)","v":{"$error":"#REF!"}}]
[null,null,null,{"$f":"IF($H$2=\"G\",'Skills explications FTEM'!F39,'Skills explications FTEM'!B39)","v":"Santé / Prévention"},null,null,{"$f":"IF($H$2=\"G\",'Skills explications FTEM'!G39,'Skills explications FTEM'!C39)","v":"A-t-il la stabilité nécessaire (p. ex. ses appuis) et la mobilité nécessaire au niveau des articulations centrales"},null,null,{"$f":"IF($H$2=\"G\",'Skills explications FTEM'!#REF!,'Skills explications FTEM'!#REF!)","v":{"$error":"#REF!"}}]
[{"$f":"'Skills explications FTEM'!A39:A39","v":0},null,null,{"$f":"IF($H$2=\"G\",'Skills explications FTEM'!F40,'Skills explications FTEM'!B40)","v":"Mobilité / Coordination"},null,null,{"$f":"IF($H$2=\"G\",'Skills explications FTEM'!G40,'Skills explications FTEM'!C40)","v":"Gère-t-il ses aptitudes de mouvements de base, qui sont un fournisseur important des fonctions spécifiques «Skills» pour être efficace"},null,null,{"$f":"IF($H$2=\"G\",'Skills explications FTEM'!#REF!,'Skills explications FTEM'!#REF!)","v":{"$error":"#REF!"}}]
[{"$f":"'Skills explications FTEM'!A41:A41","v":0},null,null,{"$f":"IF($H$2=\"G\",'Skills explications FTEM'!F41,'Skills explications FTEM'!B41)","v":"Robustesse"},null,null,{"$f":"IF($H$2=\"G\",'Skills explications FTEM'!G41,'Skills explications FTEM'!C41)","v":"A-t-il la force de base nécessaire (tension corporelle) pour gagner des duels et résister aux charges"},null,null,{"$f":"IF($H$2=\"G\",'Skills explications FTEM'!#REF!,'Skills explications FTEM'!#REF!)","v":{"$error":"#REF!"}}]

{"sheet":"19","index":22,"n_rows":50,"n_cols":36,"rows_kept":50,"cut":false,"hidden":false,"merged":[[45,25,49,25],[45,26,49,32],[45,34,49,34],[40,23,44,23],[42,3,42,5],[42,6,42,11],[44,3,44,5],[44,6,44,11],[40,0,44,2],[40,3,40,5],[40,6,40,11],[40,12,44,12],[40,13,44,13],[40,15,44,15],[45,0,49,2],[45,3,45,5],[45,6,45,11],[45,12,49,12],[45,23,49,23],[47,3,47,5],[47,6,47,11],[48,3,48,5],[48,6,48,11],[49,3,49,5],[34,21,34,22],[35,17,39,17],[35,19,39,19],[35,21,39,21],[36,3,36,5],[36,6,36,11],[38,3,38,5],[38,6,38,11],[40,17,44,17],[40,19,44,19],[40,21,44,21],[43,3,43,5],[43,6,43,11],[37,3,37,5],[37,6,37,11],[41,3,41,5],[41,6,41,11],[29,0,33,2],[29,3,29,5],[29,6,29,11],[29,12,33,12],[29,13,33,13],[29,15,33,15],[34,23,34,24],[34,26,34,32],[35,0,39,2],[35,3,35,5],[35,6,35,11],[35,12,39,12],[35,13,39,13],[35,15,39,15],[39,3,39,5],[39,6,39,11],[35,23,39,23],[34,0,34,2],[34,3,34,5],[34,6,34,11],[34,13,34,14],[34,15,34,16],[34,17,34,18],[34,19,34,20],[23,21,28,21],[23,23,28,23],[24,3,24,5],[24,6,24,11],[28,3,28,5],[28,6,28,11],[33,3,33,5],[33,6,33,11],[29,23,33,23],[29,17,33,17],[29,19,33,19],[29,21,33,21],[30,3,30,5],[30,6,30,11],[31,3,31,5],[31,6,31,11],[25,3,25,5],[25,6,25,11],[32,3,32,5],[32,6,32,11],[18,15,22,15],[18,17,22,17],[18,19,22,19],[18,21,22,21],[18,23,22,23],[22,3,22,5],[22,6,22,11],[23,0,28,2],[23,3,23,5],[23,6,23,11],[23,12,28,12],[23,13,28,13],[23,15,28,15],[23,17,28,17],[18,0,22,2],[18,3,18,5],[18,6,18,11],[18,12,22,12],[18,13,22,13],[19,3,19,5],[19,6,19,11],[20,3,20,5],[20,6,20,11],[23,19,28,19],[12,23,16,23],[16,3,16,5],[16,6,16,11],[17,0,17,2],[17,3,17,5],[17,6,17,11],[17,13,17,14],[17,15,17,16],[17,17,17,18],[17,19,17,20],[17,21,17,22],[17,23,17,24],[12,0,16,2],[12,3,12,5],[12,6,12,11],[12,12,16,12],[12,13,16,13],[12,15,16,15],[12,17,16,17],[12,19,16,19],[12,21,16,21],[13,3,13,5],[13,6,13,11],[14,3,14,5],[11,0,11,2],[11,3,11,5],[11,13,11,14],[11,15,11,16],[11,17,11,18],[11,19,11,20],[11,21,11,22],[11,23,11,24],[11,26,11,32],[11,6,11,11],[0,33,0,35],[29,25,33,25],[29,26,33,32],[29,34,33,34],[35,25,39,25],[35,26,39,32],[35,34,39,34],[1,0,1,1],[1,2,1,5],[1,10,1,24],[2,0,2,1],[2,2,2,5],[2,11,2,24],[6,0,6,1],[6,2,6,35],[7,0,7,1],[7,2,7,35],[8,0,8,1],[8,2,8,35],[3,0,3,1],[3,10,3,24],[4,0,4,1],[4,2,4,5],[4,10,4,24],[49,6,49,11],[45,13,49,13],[45,15,49,15],[45,17,49,17],[45,19,49,19],[45,21,49,21],[0,0,0,24],[0,25,0,26],[0,27,0,32],[10,0,10,24],[10,25,10,35],[40,25,44,25],[40,26,44,32],[40,34,44,34],[12,25,16,25],[12,26,16,32],[12,34,16,34],[18,25,22,25],[18,26,22,32],[18,34,22,34],[23,25,28,25],[23,26,28,32],[23,34,28,34],[17,26,17,32],[46,3,46,5],[46,6,46,11],[14,6,14,11],[15,3,15,5],[15,6,15,11],[21,3,21,5],[21,6,21,11],[26,3,26,5],[26,6,26,11],[27,3,27,5],[27,6,27,11]]}
["Infos personelles",null,null,null,null,null,null,null,null,null,null,null,null,null,null,null,null,null,null,null,null,null,null,null,null,"Predispositions",null,"Evaluations",null,null,null,null,null,"Rating"]
["PRENOM",null,{"$f":"IF(ISBLANK(VLOOKUP(19,Tabelle3[],3,0)),\"-\",VLOOKUP(19,Tabelle3[],3,0))","v":"-"},null,null,null,"POSITION",null,null,"ADRESSE",{"$f":"IF(ISBLANK(VLOOKUP(19,Tabelle3[],5,0)),\"-\",VLOOKUP(19,Tabelle3[],5,0))","v":"-"},null,null,null,null,null,null,null,null,null,null,null,null,null,null,"\"àage\" (Biologique/age relatif)",null,"Date 1",null,null,"cm",null,"Kg",null,"AUSGEZEICHNET",5]
["NOM",null,{"$f":"IF(ISBLANK(VLOOKUP(19,Tabelle3[],2,0)),\"-\",VLOOKUP(19,Tabelle3[],2,0))","v":"-"},null,null,null,"CANNE",null,null,"LIEU",{"$f":"IF(ISBLANK(VLOOKUP(19,Tabelle3[],7,0)),\"-\",VLOOKUP(19,Tabelle3[],7,0))","v":"-"},{"$f":"IF(ISBLANK(VLOOKUP(19,Tabelle3[],6,0)),\"-\",VLOOKUP(19,Tabelle3[],6,0))","v":"-"},null,null,null,null,null,null,null,null,null,null,null,null,null,"predispositions",null,"Date 2",null,null,"cm",null,"Kg",null,"GUT",4]
["DATE NAISS.",null,{"$f":"IF(ISBLANK(VLOOKUP(19,Tabelle3[],14,0)),\"-\",VLOOKUP(19,Tabelle3[],14,0))","v":"-"},{"$f":"IF(ISBLANK(VLOOKUP(19,Tabelle3[],15,0)),\"-\",VLOOKUP(19,Tabelle3[],15,0))","v":"-"},{"$f":"IF(ISBLANK(VLOOKUP(19,Tabelle3[],16,0)),\"-\",VLOOKUP(19,Tabelle3[],16,0))","v":"-"},null,"GRANDEUR",null,"cm","PHONE",{"$f":"IF(ISBLANK(VLOOKUP(19,Tabelle3[],8,0)),\"-\",VLOOKUP(19,Tabelle3[],8,0))","v":"-"},null,null,null,null,null,null,null,null,null,null,null,null,null,null,"Entourage",null,"Date 3",null,null,"cm",null,"Kg",null,"DURCHSCHNITT",3]
["SEXE",null,{"$f":"IF(ISBLANK(VLOOKUP(19,Tabelle3[],13,0)),\"-\",VLOOKUP(19,Tabelle3[],13,0))","v":"-"},null,null,null,"POIDS",null,"Kg","E-Mail",{"$f":"IF(ISBLANK(VLOOKUP(19,Tabelle3[],9,0)),\"-\",VLOOKUP(19,Tabelle3[],9,0))","v":"-"},null,null,null,null,null,null,null,null,null,null,null,null,null,null,null,null,"Date 4",null,null,"cm",null,"Kg",null,"MANGELHAFT",2]
[null,null,null,null,null,null,null,null,null,null,null,null,null,null,null,null,null,null,null,null,null,null,null,null,null,null,null,"Date 5",null,null,"cm",null,"Kg",null,"UNGENÜGEND",1]
["Vision",null,"xxx"]
["Next step",null,"xxx"]
["Profil du Joueur",null,"xxx"]
[]
["EVALUATION (COACH / JOUEUR)",null,null,null,null,null,null,null,null,null,null,null,null,null,null,null,null,null,null,null,null,null,null,null,null,"SMART"]
[{"$f":"'Skills explications FTEM'!A3:A3","v":"TEAM"},null,null,{"$f":"'Skills explications FTEM'!B3","v":"COMPÉTENCES"},null,null,{"$f":"'Skills explications FTEM'!C3","v":"OBSERVATION"},null,null,{"$f":"'Skills explications FTEM'!H3","v":0},null,null,"Final","Date1",null,"Date2",null,"Date3",null,"Date4",null,"Date5",null,"Player",null,"BUT","MESURES:\nSPECIFIQUE, MESURABLES, REALISTE",null,null,null,null,null,null,"DELAI","CONTRÔLE DU BUT","Date"]
[{"$f":"'Skills explications FTEM'!A4:A4","v":"ÉQUIPE"},null,null,{"$f":"IF($H$2=\"G\",'Skills explications FTEM'!F4,'Skills explications FTEM'!B4)","v":"Communication"},null,null,{"$f":"IF($H$2=\"G\",'Skills explications FTEM'!G4,'Skills explications FTEM'!C4)","v":"Respect et ouverture dans ses relations, confiance comme base, traite les conflits sans perturber la stabilité du groupe, communique avec ses coéquipiers, les entraîneurs et les fonctionnaires avec les mêmes valeurs"},null,null,{"$f":"IF($H$2=\"G\",'Skills explications FTEM'!#REF!,'Skills explications FTEM'!#REF!)","v":{"$error":"#REF!"}},null,null,null,{"$f":"IFERROR(AVERAGE(O13:O17),\"-\")","v":"-"},null,{"$f":"IFERROR(AVERAGE(Q13:Q17),\"-\")","v":"-"},null,{"$f":"IFERROR(AVERAGE(S13:S17),\"-\")","v":"-"},null,{"$f":"IFERROR(AVERAGE(U13:U17),\"-\")","v":"-"},null,{"$f":"IFERROR(AVERAGE(W13:W17),\"-\")","v":"-"},null,{"$f":"IFERROR(AVERAGE(Y13:Y17),\"-\")","v":"-"}]
[null,null,null,{"$f":"IF($H$2=\"G\",'Skills explications FTEM'!F5,'Skills explications FTEM'!B5)","v":"Capacité de jouer en équipe"},null,null,{"$f":"IF($H$2=\"G\",'Skills explications FTEM'!G5,'Skills explications FTEM'!C5)","v":"Intégration dans le groupe, définit et réalise des objectifs communs, NOUS avant le MOI, participe au bon esprit d'équipe et à un bon climat de travail"},null,null,{"$f":"IF($H$2=\"G\",'Skills explications FTEM'!#REF!,'Skills explications FTEM'!#REF!)","v":{"$error":"#REF!"}}]
[null,null,null,{"$f":"IF($H$2=\"G\",'Skills explications FTEM'!F6,'Skills explications FTEM'!B6)","v":"Leadership"},null,null,{"$f":"IF($H$2=\"G\",'Skills explications FTEM'!G6,'Skills explications FTEM'!C6)","v":"Prend des responsabilités dans le groupe, essaie de donner de la valeur à ses coéquipiers et au groupe, influence positivement la dynamique de groupe"},null,null,{"$f":"IF($H$2=\"G\",'Skills explications FTEM'!#REF!,'Skills explications FTEM'!#REF!)","v":{"$error":"#REF!"}}]
[null,null,null,{"$f":"IF($H$2=\"G\",'Skills explications FTEM'!F7,'Skills explications FTEM'!B7)","v":"Répartition des rôles"},null,null,{"$f":"IF($H$2=\"G\",'Skills explications FTEM'!G7,'Skills explications FTEM'!C7)","v":"Connaît son rôle et le réalise, est conscient de sa position dans l'équipe et le système, met ses compétences à disposition de l'équipe"},null,null,{"$f":"IF($H$2=\"G\",'Skills explications FTEM'!#REF!,'Skills explications FTEM'!#REF!)","v":{"$error":"#REF!"}}]
[{"$f":"'Skills explications FTEM'!A8:A8","v":0},null,null,{"$f":"IF($H$2=\"G\",'Skills explications FTEM'!F8,'Skills explications FTEM'!B8)","v":"Respect"},null,null,{"$f":"IF($H$2=\"G\",'Skills explications FTEM'!G8,'Skills explications FTEM'!C8)","v":"Relations respectueuses avec les coéquipiers, les entraîneurs, les adversaires, les arbitres et le staff; respect des règles, des principes du fairplay (y compris antidopage)"},null,null,{"$f":"IF($H$2=\"G\",'Skills explications FTEM'!#REF!,'Skills explications FTEM'!#REF!)","v":{"$error":"#REF!"}}]
[{"$f":"'Skills explications FTEM'!A9:A9","v":"ON ICE"},null,null,{"$f":"'Skills explications FTEM'!B9","v":"COMPÉTENCES"},null,null,{"$f":"'Skills explications FTEM'!C9","v":"OBSERVATION"},null,null,{"$f":"'Skills explications FTEM'!H9","v":0},null,null,null,"Date1",null,"Date2",null,"Date3",null,"Date4",null,"Date5",null,"Player",null,"BUT","MESURES:\nSPECIFIQUE, MESURABLES, REALISTE",null,null,null,null,null,null,"DELAI","CONTRÔLE DU BUT","Date"]
[{"$f":"'Skills explications FTEM'!A10:A10","v":"PATINAGE"},null,null,{"$f":"IF($H$2=\"G\",'Skills explications FTEM'!F10,'Skills explications FTEM'!B10)","v":"Vitesse de patinage"},null,null,{"$f":"IF($H$2=\"G\",'Skills explications FTEM'!G10,'Skills explications FTEM'!C10)","v":"Accélération, départ, explosivité des 3 premiers pas, fréquence"},null,null,{"$f":"IF($H$2=\"G\",'Skills explications FTEM'!#REF!,'Skills explications FTEM'!#REF!)","v":{"$error":"#REF!"}},null,null,null,{"$f":"IFERROR(AVERAGE(O19:O23),\"-\")","v":"-"},null,{"$f":"IFERROR(AVERAGE(Q19:Q23),\"-\")","v":"-"},null,{"$f":"IFERROR(AVERAGE(S19:S23),\"-\")","v":"-"},null,{"$f":"IFERROR(AVERAGE(U19:U23),\"-\")","v":"-"},null,{"$f":"IFERROR(AVERAGE(W19:W23),\"-\")","v":"-"},null,{"$f":"IFERROR(AVERAGE(Y19:Y23),\"-\")","v":"-"}]
[{"$f":"'Skills explications FTEM'!A11:A11","v":0},null,null,{"$f":"IF($H$2=\"G\",'Skills explications FTEM'!F11,'Skills explications FTEM'!B11)","v":"Vitesse, rapidité"},null,null,{"$f":"IF($H$2=\"G\",'Skills explications FTEM'!G11,'Skills explications FTEM'!C11)","v":"Vitesse, faculté de glisse, avant et arrière, économie des forces"},null,null,{"$f":"IF($H$2=\"G\",'Skills explications FTEM'!#REF!,'Skills explications FTEM'!#REF!)","v":{"$error":"#REF!"}}]
[{"$f":"'Skills explications FTEM'!A12:A12","v":0},null,null,{"$f":"IF($H$2=\"G\",'Skills explications FTEM'!F12,'Skills explications FTEM'!B12)","v":"Agilité"},null,null,{"$f":"IF($H$2=\"G\",'Skills explications FTEM'!G12,'Skills explications FTEM'!C12)","v":"Changements de direction, pivots, stop et start «Nummelin»"},null,null,{"$f":"IF($H$2=\"G\",'Skills explications FTEM'!#REF!,'Skills explications FTEM'!#REF!)","v":{"$error":"#REF!"}},null,null,null,{"$f":"IFERROR(AVERAGE(O21:O23),\"-\")","v":"-"},null,{"$f":"IFERROR(AVERAGE(Q21:Q23),\"-\")","v":"-"},null,{"$f":"IFERROR(AVERAGE(S21:S23),\"-\")","v":"-"},null,{"$f":"IFERROR(AVERAGE(U21:U23),\"-\")","v":"-"},null,{"$f":"IFERROR(AVERAGE(W21:W23),\"-\")","v":"-"},null,"-"]
[null,null,null,{"$f":"IF($H$2=\"G\",'Skills explications FTEM'!F13,'Skills explications FTEM'!B13)","v":"Balance"},null,null,{"$f":"IF($H$2=\"G\",'Skills explications FTEM'!G13,'Skills explications FTEM'!C13)","v":"Equilibre, faculté d'être sur ses appuis, position basse, 1 ou 2 jambes"},null,null,{"$f":"IF($H$2=\"G\",'Skills explications FTEM'!#REF!,'Skills explications FTEM'!#REF!)","v":{"$error":"#REF!"}}]
[{"$f":"'Skills explications FTEM'!#REF!","v":{"$error":"#REF!"}},null,null,{"$f":"IF($H$2=\"G\",'Skills explications FTEM'!F14,'Skills explications FTEM'!B14)","v":"Patinage arrière"},null,null,{"$f":"IF($H$2=\"G\",'Skills explications FTEM'!G14,'Skills explications FTEM'!C14)","v":"Accélération, vitesse, équilibre "},null,null,{"$f":"IF($H$2=\"G\",'Skills explications FTEM'!#REF!,'Skills explications FTEM'!#REF!)","v":{"$error":"#REF!"}}]
[{"$f":"'Skills explications FTEM'!A15:A15","v":"SKILLS"},null,null,{"$f":"IF($H$2=\"G\",'Skills explications FTEM'!F15,'Skills explications FTEM'!B15)","v":"Tirer"},null,null,{"$f":"IF($H$2=\"G\",'Skills explications FTEM'!G15,'Skills explications FTEM'!C15)","v":"Efficience (pas d'espace et de temps), variantes, degré de surprise (déclenchement rapide), précision, puissance (conclusion tactique)"},null,null,{"$f":"IF($H$2=\"G\",'Skills explications FTEM'!#REF!,'Skills explications FTEM'!#REF!)","v":{"$error":"#REF!"}},null,null,null,{"$f":"IFERROR(AVERAGE(O24:O29),\"-\")","v":"-"},null,{"$f":"IFERROR(AVERAGE(Q24:Q29),\"-\")","v":"-"},null,{"$f":"IFERROR(AVERAGE(S24:S29),\"-\")","v":"-"},null,{"$f":"IFERROR(AVERAGE(U24:U29),\"-\")","v":"-"},null,{"$f":"IFERROR(AVERAGE(W24:W29),\"-\")","v":"-"},null,{"$f":"IFERROR(AVERAGE(Y24:Y29),\"-\")","v":"-"}]
[{"$f":"'Skills explications FTEM'!A16:A16","v":0},null,null,{"$f":"IF($H$2=\"G\",'Skills explications FTEM'!F16,'Skills explications FTEM'!B16)","v":"Passer"},null,null,{"$f":"IF($H$2=\"G\",'Skills explications FTEM'!G16,'Skills explications FTEM'!C16)","v":"Donne la passe (distance, passe flipée en revers), réception de la passe (précision, timing, coup droit, revers, patins), vitesse du puck"},null,null,{"$f":"IF($H$2=\"G\",'Skills explications FTEM'!#REF!,'Skills explications FTEM'!#REF!)","v":{"$error":"#REF!"}}]
[{"$f":"'Skills explications FTEM'!A17:A17","v":0},null,null,{"$f":"IF($H$2=\"G\",'Skills explications FTEM'!F17,'Skills explications FTEM'!B17)","v":"Travail de canne, conduite du puck"},null,null,{"$f":"IF($H$2=\"G\",'Skills explications FTEM'!G17,'Skills explications FTEM'!C17)","v":"Puck sur la palette, intercepte les lignes de passe, déviation, contrôle de la canne de l'adversaire"},null,null,{"$f":"IF($H$2=\"G\",'Skills explications FTEM'!#REF!,'Skills explications FTEM'!#REF!)","v":{"$error":"#REF!"}}]
[null,null,null,{"$f":"IF($H$2=\"G\",'Skills explications FTEM'!F18,'Skills explications FTEM'!B18)","v":"Protéger le puck"},null,null,{"$f":"IF($H$2=\"G\",'Skills explications FTEM'!G18,'Skills explications FTEM'!C18)","v":"Contrôle du puck, dribbling, protection du puck, feintes (variantes: avec les patins ou avec et sans la bande), mise au jeu (bully)"},null,null,{"$f":"IF($H$2=\"G\",'Skills explications FTEM'!#REF!,'Skills explications FTEM'!#REF!)","v":{"$error":"#REF!"}}]
[null,null,null,{"$f":"IF($H$2=\"G\",'Skills explications FTEM'!F19,'Skills explications FTEM'!B19)","v":"Jeu du corps (charges)"},null,null,{"$f":"IF($H$2=\"G\",'Skills explications FTEM'!G19,'Skills explications FTEM'!C19)","v":"Faculté de s'imposer physiquement, duels (sur la surface de glace ou à la bande), prendre des checks, lever la tête, niveau de lutte, dur mais correct, bloquer les tirs avec le corps"},null,null,{"$f":"IF($H$2=\"G\",'Skills explications FTEM'!#REF!,'Skills explications FTEM'!#REF!)","v":{"$error":"#REF!"}}]
[{"$f":"'Skills explications FTEM'!A20:A20","v":0},null,null,{"$f":"IF($H$2=\"G\",'Skills explications FTEM'!F20,'Skills explications FTEM'!B20)","v":"-"},null,null,{"$f":"IF($H$2=\"G\",'Skills explications FTEM'!G20,'Skills explications FTEM'!C20)","v":"-"},null,null,{"$f":"IF($H$2=\"G\",'Skills explications FTEM'!#REF!,'Skills explications FTEM'!#REF!)","v":{"$error":"#REF!"}}]
[{"$f":"'Skills explications FTEM'!A21:A21","v":"HOCKEY SENSE"},null,null,{"$f":"IF($H$2=\"G\",'Skills explications FTEM'!F21,'Skills explications FTEM'!B21)","v":"Intelligence de jeu"},null,null,{"$f":"IF($H$2=\"G\",'Skills explications FTEM'!G21,'Skills explications FTEM'!C21)","v":"Voit les zones libres avec joueurs et crée des situations de surnombre, trouve des solutions et agit en toute situation, vitesse de la visualisation"},null,null,{"$f":"IF($H$2=\"G\",'Skills explications FTEM'!#REF!,'Skills explications FTEM'!#REF!)","v":{"$error":"#REF!"}},null,null,null,{"$f":"IFERROR(AVERAGE(O30:O34),\"-\")","v":"-"},null,{"$f":"IFERROR(AVERAGE(Q30:Q34),\"-\")","v":"-"},null,{"$f":"IFERROR(AVERAGE(S30:S34),\"-\")","v":"-"},null,{"$f":"IFERROR(AVERAGE(U30:U34),\"-\")","v":"-"},null,{"$f":"IFERROR(AVERAGE(W30:W34),\"-\")","v":"-"},null,{"$f":"IFERROR(AVERAGE(Y30:Y34),\"-\")","v":"-"}]
[{"$f":"'Skills explications FTEM'!A22:A22","v":0},null,null,{"$f":"IF($H$2=\"G\",'Skills explications FTEM'!F22,'Skills explications FTEM'!B22)","v":"Sensibilisation offensive"},null,null,{"$f":"IF($H$2=\"G\",'Skills explications FTEM'!G22,'Skills explications FTEM'!C22)","v":"Se démarque, anticipation des situations de jeu, ouvre des zones libres pour ses coéquipiers, se place pour marquer, vitesse de mise sous pression, communication"},null,null,{"$f":"IF($H$2=\"G\",'Skills explications FTEM'!#REF!,'Skills explications FTEM'!#REF!)","v":{"$error":"#REF!"}}]
[null,null,null,{"$f":"IF($H$2=\"G\",'Skills explications FTEM'!F23,'Skills explications FTEM'!B23)","v":"Sensibilisation défensive"},null,null,{"$f":"IF($H$2=\"G\",'Skills explications FTEM'!G23,'Skills explications FTEM'!C23)","v":"Garde la position «inside», protège le slot, rassure les coéquipiers, support, anticipe les lignes de passe, bloque les tirs. Réduit rapidement la distance sur l'adversaire, communication"},null,null,{"$f":"IF($H$2=\"G\",'Skills explications FTEM'!#REF!,'Skills explications FTEM'!#REF!)","v":{"$error":"#REF!"}}]
[{"$f":"'Skills explications FTEM'!A23:A23","v":0},null,null,{"$f":"IF($H$2=\"G\",'Skills explications FTEM'!F24,'Skills explications FTEM'!B24)","v":"Gestion du puck"},null,null,{"$f":"IF($H$2=\"G\",'Skills explications FTEM'!G24,'Skills explications FTEM'!C24)","v":"Fait le bon choix en fonction de la situation, support, surnombre"},null,null,{"$f":"IF($H$2=\"G\",'Skills explications FTEM'!#REF!,'Skills explications FTEM'!#REF!)","v":{"$error":"#REF!"}}]
[{"$f":"'Skills explications FTEM'!A25:A25","v":0},null,null,{"$f":"IF($H$2=\"G\",'Skills explications FTEM'!F25,'Skills explications FTEM'!B25)","v":"Créativité"},null,null,{"$f":"IF($H$2=\"G\",'Skills explications FTEM'!G25,'Skills explications FTEM'!C25)","v":"Prises de décision surprenantes, sens du but"},null,null,{"$f":"IF($H$2=\"G\",'Skills explications FTEM'!#REF!,'Skills explications FTEM'!#REF!)","v":{"$error":"#REF!"}}]
[{"$f":"'Skills explications FTEM'!A26:A26","v":"PERSONALITY"},null,null,{"$f":"'Skills explications FTEM'!B26","v":"COMPÉTENCES"},null,null,{"$f":"'Skills explications FTEM'!C26","v":"OBSERVATION"},null,null,{"$f":"'Skills explications FTEM'!H26","v":0},null,null,null,"Date1",null,"Date2",null,"Date3",null,"Date4",null,"Date5",null,"Player",null,"BUT","MESURES:\nSPECIFIQUE, MESURABLES, REALISTE",null,null,null,null,null,null,"DELAI","CONTRÔLE DU BUT","Date"]
[{"$f":"'Skills explications FTEM'!A27:A27","v":"PERSONNALITÉ"},null,null,{"$f":"IF($H$2=\"G\",'Skills explications FTEM'!F27,'Skills explications FTEM'!B27)","v":"Confiance en soi"},null,null,{"$f":"IF($H$2=\"G\",'Skills explications FTEM'!G27,'Skills explications FTEM'!C27)","v":"Est en confiance,«I can do it», peut estimer ses capacités (connaît ses qualités et ses défauts), peut réaliser ses qualités avec constance, est courageux et prend des risques calculés"},null,null,{"$f":"IF($H$2=\"G\",'Skills explications FTEM'!#REF!,'Skills explications FTEM'!#REF!)","v":{"$error":"#REF!"}},null,null,null,{"$f":"IFERROR(AVERAGE(O36:O40),\"-\")","v":"-"},null,null,null,{"$f":"IFERROR(AVERAGE(S36:S40),\"-\")","v":"-"},null,{"$f":"IFERROR(AVERAGE(U36:U40),\"-\")","v":"-"},null,{"$f":"IFERROR(AVERAGE(W36:W40),\"-\")","v":"-"},null,{"$f":"IFERROR(AVERAGE(Y36:Y40),\"-\")","v":"-"}]
[{"$f":"'Skills explications FTEM'!A28:A28","v":0},null,null,{"$f":"IF($H$2=\"G\",'Skills explications FTEM'!F28,'Skills explications FTEM'!B28)","v":"Facultés d'apprentissage"},null,null,{"$f":"IF($H$2=\"G\",'Skills explications FTEM'!G28,'Skills explications FTEM'!C28)","v":"A une bonne perception (il peut mémoriser et peut réaliser), il a de la personnalité, essaie d'apprendre de ses erreurs et est entreprenant"},null,null,{"$f":"IF($H$2=\"G\",'Skills explications FTEM'!#REF!,'Skills explications FTEM'!#REF!)","v":{"$error":"#REF!"}}]
[{"$f":"'Skills explications FTEM'!A29:A29","v":0},null,null,{"$f":"IF($H$2=\"G\",'Skills explications FTEM'!F29,'Skills explications FTEM'!B29)","v":"Prise de responsabilités"},null,null,{"$f":"IF($H$2=\"G\",'Skills explications FTEM'!G29,'Skills explications FTEM'!C29)","v":"Prend la responsabilité de ses performances et de son développement, est-il autonome, soigne-t-il les détails, a beaucoup d'engagement dans tous les domaines"},null,null,{"$f":"IF($H$2=\"G\",'Skills explications FTEM'!#REF!,'Skills explications FTEM'!#REF!)","v":{"$error":"#REF!"}}]
[null,null,null,{"$f":"IF($H$2=\"G\",'Skills explications FTEM'!F30,'Skills explications FTEM'!B30)","v":"Motivation"},null,null,{"$f":"IF($H$2=\"G\",'Skills explications FTEM'!G30,'Skills explications FTEM'!C30)","v":"Est toujours motivé, veut sans cesse se développer et apprendre, veut être le premier et avoir du succès, n'abandonne jamais et ne se laisse pas influencer par les échesc"},null,null,{"$f":"IF($H$2=\"G\",'Skills explications FTEM'!#REF!,'Skills explications FTEM'!#REF!)","v":{"$error":"#REF!"}}]
[{"$f":"'Skills explications FTEM'!A31:A31","v":0},null,null,{"$f":"IF($H$2=\"G\",'Skills explications FTEM'!F31,'Skills explications FTEM'!B31)","v":"Performance style de vie"},null,null,{"$f":"IF($H$2=\"G\",'Skills explications FTEM'!G31,'Skills explications FTEM'!C31)","v":"Gère bien son environnement et son temps libre selon les principes de la performance, obstiné, tenace et axé sur l'objectif, accent sur sa propre performance, est courageux et peut s'imposer contre la résistance, les défis le motivent"},null,null,{"$f":"IF($H$2=\"G\",'Skills explications FTEM'!#REF!,'Skills explications FTEM'!#REF!)","v":{"$error":"#REF!"}}]
[{"$f":"'Skills explications FTEM'!A32:A32","v":"FORCE MENTALE"},null,null,{"$f":"IF($H$2=\"G\",'Skills explications FTEM'!F32,'Skills explications FTEM'!B32)","v":"Engagement"},null,null,{"$f":"IF($H$2=\"G\",'Skills explications FTEM'!G32,'Skills explications FTEM'!C32)","v":"Démontre beaucoup d'intensité dans les entraînements et les matchs, donne toujours son maximum et veut sans cesse repousser ses limites, a-t-il de la passion, s'efforce-t-il de s'entraîner avec une excellente qualité"},null,null,{"$f":"IF($H$2=\"G\",'Skills explications FTEM'!#REF!,'Skills explications FTEM'!#REF!)","v":{"$error":"#REF!"}},null,null,null,{"$f":"IFERROR(AVERAGE(O41:O45),\"-\")","v":"-"},null,null,null,{"$f":"IFERROR(AVERAGE(S41:S45),\"-\")","v":"-"},null,{"$f":"IFERROR(AVERAGE(U41:U45),\"-\")","v":"-"},null,{"$f":"IFERROR(AVERAGE(W41:W45),\"-\")","v":"-"},null,{"$f":"IFERROR(AVERAGE(Y41:Y45),\"-\")","v":"-"}]
[{"$f":"'Skills explications FTEM'!A33:A33","v":0},null,null,{"$f":"IF($H$2=\"G\",'Skills explications FTEM'!F33,'Skills explications FTEM'!B33)","v":"Préparation"},null,null,{"$f":"IF($H$2=\"G\",'Skills explications FTEM'!G33,'Skills explications FTEM'!C33)","v":"Se prépare-t-il toujours bien, mentalement et physiquement, se prépare-t-il toujours bien pour obtenir le niveau de performance idéal (ILZ)"},null,null,{"$f":"IF($H$2=\"G\",'Skills explications FTEM'!#REF!,'Skills explications FTEM'!#REF!)","v":{"$error":"#REF!"}}]
[null,null,null,{"$f":"IF($H$2=\"G\",'Skills explications FTEM'!F34,'Skills explications FTEM'!B34)","v":"Coaching personnel"},null,null,{"$f":"IF($H$2=\"G\",'Skills explications FTEM'!G34,'Skills explications FTEM'!C34)","v":"A-t-il de bonnes facultés de concentration, peut-il maintenir son niveau de performance idéal (ILZ) dans les entraînements et les matchs, peut-il appliquer ses techniques de base, est-il résistant aux influences et pensées négatives, est-il conscient de son attitude corporelle et peut-il l'influencer"},null,null,{"$f":"IF($H$2=\"G\",'Skills explications FTEM'!#REF!,'Skills explications FTEM'!#REF!)","v":{"$error":"#REF!"}}]
[{"$f":"'Skills explications FTEM'!A34:A34","v":0},null,null,{"$f":"IF($H$2=\"G\",'Skills explications FTEM'!F35,'Skills explications FTEM'!B35)","v":"Gestion des énergies"},null,null,{"$f":"IF($H$2=\"G\",'Skills explications FTEM'!G35,'Skills explications FTEM'!C35)","v":"Peut-il gérer ses propres énergies, prend-il soin de sa récupération, peut-il gérer les moments où il faut se donner à fond ou quand il faut déconnecter, bouton On/Off"},null,null,{"$f":"IF($H$2=\"G\",'Skills explications FTEM'!#REF!,'Skills explications FTEM'!#REF!)","v":{"$error":"#REF!"}}]
[{"$f":"'Skills explications FTEM'!A36:A36","v":0},null,null,{"$f":"IF($H$2=\"G\",'Skills explications FTEM'!F36,'Skills explications FTEM'!B36)","v":"Contrôle des émotions"},null,null,{"$f":"IF($H$2=\"G\",'Skills explications FTEM'!G36,'Skills explications FTEM'!C36)","v":"Peut-il gérer ses propres émotions et impulsions, reste-t-il sous contrôle lorsqu'il y a une grande pression, peut-il rester calme lorsque le niveau émotionnel et de frustration est élevé"},null,null,{"$f":"IF($H$2=\"G\",'Skills explications FTEM'!#REF!,'Skills explications FTEM'!#REF!)","v":{"$error":"#REF!"}}]
[{"$f":"'Skills explications FTEM'!A37:A37","v":"PHYSIQUE"},null,null,{"$f":"IF($H$2=\"G\",'Skills explications FTEM'!F37,'Skills explications FTEM'!B37)","v":"Production de la performance"},null,null,{"$f":"IF($H$2=\"G\",'Skills explications FTEM'!G37,'Skills explications FTEM'!C37)","v":"A-t-il la puissance, la force, la vitesse nécessaires dans les jambes et le haut du corps (facteurs neuromusculaires)"},null,null,{"$f":"IF($H$2=\"G\",'Skills explications FTEM'!#REF!,'Skills explications FTEM'!#REF!)","v":{"$error":"#REF!"}},null,null,null,{"$f":"IFERROR(AVERAGE(O46:O50),\"-\")","v":"-"},null,null,null,{"$f":"IFERROR(AVERAGE(S46:S50),\"-\")","v":"-"},null,{"$f":"IFERROR(AVERAGE(U46:U50),\"-\")","v":"-"},null,{"$f":"IFERROR(AVERAGE(W46:W50),\"-\")","v":"-"},null,{"$f":"IFERROR(AVERAGE(Y46:Y50),\"-\")","v":"-"}]
[{"$f":"'Skills explications FTEM'!A38:A38","v":0},null,null,{"$f":"IF($H$2=\"G\",'Skills explications FTEM'!F38,'Skills explications FTEM'!B38)","v":"Spécifique au sport, résistant à l'effort"},null,null,{"$f":"IF($H$2=\"G\",'Skills explications FTEM'!G38,'Skills explications FTEM'!C38)","v":"Est-il capable de maintenir sa puissance, sa force, sa vitesse durant un long temps de glace et peut-il récupérer complètement entre ses engagements (facteurs du métabolisme et cardiovasculaire)"},null,null,{"$f":"IF($H$2=\"G\",'Skills explications FTEM'!#REF!,'Skills explications FTEM'!#REF!)","v":{"$error":"#REF!"}}]
[null,null,null,{"$f":"IF($H$2=\"G\",'Skills explications FTEM'!F39,'Skills explications FTEM'!B39)","v":"Santé / Prévention"},null,null,{"$f":"IF($H$2=\"G\",'Skills explications FTEM'!G39,'Skills explications FTEM'!C39)","v":"A-t-il la stabilité nécessaire (p. ex. ses appuis) et la mobilité nécessaire au niveau des articulations centrales"},null,null,{"$f":"IF($H$2=\"G\",'Skills explications FTEM'!#REF!,'Skills explications FTEM'!#REF!)","v":{"$error":"#REF!"}}]
[{"$f":"'Skills explications FTEM'!A39:A39","v":0},null,null,{"$f":"IF($H$2=\"G\",'Skills explications FTEM'!F40,'Skills explications FTEM'!B40)","v":"Mobilité / Coordination"},null,null,{"$f":"IF($H$2=\"G\",'Skills explications FTEM'!G40,'Skills explications FTEM'!C40)","v":"Gère-t-il ses aptitudes de mouvements de base, qui sont un fournisseur important des fonctions spécifiques «Skills» pour être efficace"},null,null,{"$f":"IF($H$2=\"G\",'Skills explications FTEM'!#REF!,'Skills explications FTEM'!#REF!)","v":{"$error":"#REF!"}}]
[{"$f":"'Skills explications FTEM'!A41:A41","v":0},null,null,{"$f":"IF($H$2=\"G\",'Skills explications FTEM'!F41,'Skills explications FTEM'!B41)","v":"Robustesse"},null,null,{"$f":"IF($H$2=\"G\",'Skills explications FTEM'!G41,'Skills explications FTEM'!C41)","v":"A-t-il la force de base nécessaire (tension corporelle) pour gagner des duels et résister aux charges"},null,null,{"$f":"IF($H$2=\"G\",'Skills explications FTEM'!#REF!,'Skills explications FTEM'!#REF!)","v":{"$error":"#REF!"}}]

{"sheet":"20","index":23,"n_rows":50,"n_cols":36,"rows_kept":50,"cut":false,"hidden":false,"merged":[[45,25,49,25],[45,26,49,32],[45,34,49,34],[40,23,44,23],[42,3,42,5],[42,6,42,11],[44,3,44,5],[44,6,44,11],[40,0,44,2],[40,3,40,5],[40,6,40,11],[40,12,44,12],[40,13,44,13],[40,15,44,15],[45,0,49,2],[45,3,45,5],[45,6,45,11],[45,12,49,12],[45,23,49,23],[47,3,47,5],[47,6,47,11],[48,3,48,5],[48,6,48,11],[49,3,49,5],[34,21,34,22],[35,17,39,17],[35,19,39,19],[35,21,39,21],[36,3,36,5],[36,6,36,11],[38,3,38,5],[38,6,38,11],[40,17,44,17],[40,19,44,19],[40,21,44,21],[43,3,43,5],[43,6,43,11],[37,3,37,5],[37,6,37,11],[41,3,41,5],[41,6,41,11],[29,0,33,2],[29,3,29,5],[29,6,29,11],[29,12,33,12],[29,13,33,13],[29,15,33,15],[34,23,34,24],[34,26,34,32],[35,0,39,2],[35,3,35,5],[35,6,35,11],[35,12,39,12],[35,13,39,13],[35,15,39,15],[39,3,39,5],[39,6,39,11],[35,23,39,23],[34,0,34,2],[34,3,34,5],[34,6,34,11],[34,13,34,14],[34,15,34,16],[34,17,34,18],[34,19,34,20],[23,21,28,21],[23,23,28,23],[24,3,24,5],[24,6,24,11],[28,3,28,5],[28,6,28,11],[33,3,33,5],[33,6,33,11],[29,23,33,23],[29,17,33,17],[29,19,33,19],[29,21,33,21],[30,3,30,5],[30,6,30,11],[31,3,31,5],[31,6,31,11],[25,3,25,5],[25,6,25,11],[32,3,32,5],[32,6,32,11],[18,15,22,15],[18,17,22,17],[18,19,22,19],[18,21,22,21],[18,23,22,23],[22,3,22,5],[22,6,22,11],[23,0,28,2],[23,3,23,5],[23,6,23,11],[23,12,28,12],[23,13,28,13],[23,15,28,15],[23,17,28,17],[18,0,22,2],[18,3,18,5],[18,6,18,11],[18,12,22,12],[18,13,22,13],[19,3,19,5],[19,6,19,11],[20,3,20,5],[20,6,20,11],[23,19,28,19],[12,23,16,23],[16,3,16,5],[16,6,16,11],[17,0,17,2],[17,3,17,5],[17,6,17,11],[17,13,17,14],[17,15,17,16],[17,17,17,18],[17,19,17,20],[17,21,17,22],[17,23,17,24],[12,0,16,2],[12,3,12,5],[12,6,12,11],[12,12,16,12],[12,13,16,13],[12,15,16,15],[12,17,16,17],[12,19,16,19],[12,21,16,21],[13,3,13,5],[13,6,13,11],[14,3,14,5],[11,0,11,2],[11,3,11,5],[11,13,11,14],[11,15,11,16],[11,17,11,18],[11,19,11,20],[11,21,11,22],[11,23,11,24],[11,26,11,32],[11,6,11,11],[0,33,0,35],[29,25,33,25],[29,26,33,32],[29,34,33,34],[35,25,39,25],[35,26,39,32],[35,34,39,34],[1,0,1,1],[1,2,1,5],[1,10,1,24],[2,0,2,1],[2,2,2,5],[2,11,2,24],[6,0,6,1],[6,2,6,35],[7,0,7,1],[7,2,7,35],[8,0,8,1],[8,2,8,35],[3,0,3,1],[3,10,3,24],[4,0,4,1],[4,2,4,5],[4,10,4,24],[49,6,49,11],[45,13,49,13],[45,15,49,15],[45,17,49,17],[45,19,49,19],[45,21,49,21],[0,0,0,24],[0,25,0,26],[0,27,0,32],[10,0,10,24],[10,25,10,35],[40,25,44,25],[40,26,44,32],[40,34,44,34],[12,25,16,25],[12,26,16,32],[12,34,16,34],[18,25,22,25],[18,26,22,32],[18,34,22,34],[23,25,28,25],[23,26,28,32],[23,34,28,34],[17,26,17,32],[46,3,46,5],[46,6,46,11],[14,6,14,11],[15,3,15,5],[15,6,15,11],[21,3,21,5],[21,6,21,11],[26,3,26,5],[26,6,26,11],[27,3,27,5],[27,6,27,11]]}
["Infos personelles",null,null,null,null,null,null,null,null,null,null,null,null,null,null,null,null,null,null,null,null,null,null,null,null,"Predispositions",null,"Evaluations",null,null,null,null,null,"Rating"]
["PRENOM",null,{"$f":"IF(ISBLANK(VLOOKUP(20,Tabelle3[],3,0)),\"-\",VLOOKUP(20,Tabelle3[],3,0))","v":"-"},null,null,null,"POSITION",null,null,"ADRESSE",{"$f":"IF(ISBLANK(VLOOKUP(20,Tabelle3[],5,0)),\"-\",VLOOKUP(20,Tabelle3[],5,0))","v":"-"},null,null,null,null,null,null,null,null,null,null,null,null,null,null,"\"àage\" (Biologique/age relatif)",null,"Date 1",null,null,"cm",null,"Kg",null,"AUSGEZEICHNET",5]
["NOM",null,{"$f":"IF(ISBLANK(VLOOKUP(20,Tabelle3[],2,0)),\"-\",VLOOKUP(20,Tabelle3[],2,0))","v":"-"},null,null,null,"CANNE",null,null,"LIEU",{"$f":"IF(ISBLANK(VLOOKUP(20,Tabelle3[],7,0)),\"-\",VLOOKUP(20,Tabelle3[],7,0))","v":"-"},{"$f":"IF(ISBLANK(VLOOKUP(20,Tabelle3[],6,0)),\"-\",VLOOKUP(20,Tabelle3[],6,0))","v":"-"},null,null,null,null,null,null,null,null,null,null,null,null,null,"predispositions",null,"Date 2",null,null,"cm",null,"Kg",null,"GUT",4]
["DATE NAISS.",null,{"$f":"IF(ISBLANK(VLOOKUP(20,Tabelle3[],14,0)),\"-\",VLOOKUP(20,Tabelle3[],14,0))","v":"-"},{"$f":"IF(ISBLANK(VLOOKUP(20,Tabelle3[],15,0)),\"-\",VLOOKUP(20,Tabelle3[],15,0))","v":"-"},{"$f":"IF(ISBLANK(VLOOKUP(20,Tabelle3[],16,0)),\"-\",VLOOKUP(20,Tabelle3[],16,0))","v":"-"},null,"GRANDEUR",null,"cm","PHONE",{"$f":"IF(ISBLANK(VLOOKUP(20,Tabelle3[],8,0)),\"-\",VLOOKUP(20,Tabelle3[],8,0))","v":"-"},null,null,null,null,null,null,null,null,null,null,null,null,null,null,"Entourage",null,"Date 3",null,null,"cm",null,"Kg",null,"DURCHSCHNITT",3]
["SEXE",null,{"$f":"IF(ISBLANK(VLOOKUP(20,Tabelle3[],13,0)),\"-\",VLOOKUP(20,Tabelle3[],13,0))","v":"-"},null,null,null,"POIDS",null,"Kg","E-Mail",{"$f":"IF(ISBLANK(VLOOKUP(20,Tabelle3[],9,0)),\"-\",VLOOKUP(20,Tabelle3[],9,0))","v":"-"},null,null,null,null,null,null,null,null,null,null,null,null,null,null,null,null,"Date 4",null,null,"cm",null,"Kg",null,"MANGELHAFT",2]
[null,null,null,null,null,null,null,null,null,null,null,null,null,null,null,null,null,null,null,null,null,null,null,null,null,null,null,"Date 5",null,null,"cm",null,"Kg",null,"UNGENÜGEND",1]
["Vision",null,"xxx"]
["Next step",null,"xxx"]
["Profil du Joueur",null,"xxx"]
[]
["EVALUATION (COACH / JOUEUR)",null,null,null,null,null,null,null,null,null,null,null,null,null,null,null,null,null,null,null,null,null,null,null,null,"SMART"]
[{"$f":"'Skills explications FTEM'!A3:A3","v":"TEAM"},null,null,{"$f":"'Skills explications FTEM'!B3","v":"COMPÉTENCES"},null,null,{"$f":"'Skills explications FTEM'!C3","v":"OBSERVATION"},null,null,{"$f":"'Skills explications FTEM'!H3","v":0},null,null,"Final","Date1",null,"Date2",null,"Date3",null,"Date4",null,"Date5",null,"Player",null,"BUT","MESURES:\nSPECIFIQUE, MESURABLES, REALISTE",null,null,null,null,null,null,"DELAI","CONTRÔLE DU BUT","Date"]
[{"$f":"'Skills explications FTEM'!A4:A4","v":"ÉQUIPE"},null,null,{"$f":"IF($H$2=\"G\",'Skills explications FTEM'!F4,'Skills explications FTEM'!B4)","v":"Communication"},null,null,{"$f":"IF($H$2=\"G\",'Skills explications FTEM'!G4,'Skills explications FTEM'!C4)","v":"Respect et ouverture dans ses relations, confiance comme base, traite les conflits sans perturber la stabilité du groupe, communique avec ses coéquipiers, les entraîneurs et les fonctionnaires avec les mêmes valeurs"},null,null,{"$f":"IF($H$2=\"G\",'Skills explications FTEM'!#REF!,'Skills explications FTEM'!#REF!)","v":{"$error":"#REF!"}},null,null,null,{"$f":"IFERROR(AVERAGE(O13:O17),\"-\")","v":"-"},null,{"$f":"IFERROR(AVERAGE(Q13:Q17),\"-\")","v":"-"},null,{"$f":"IFERROR(AVERAGE(S13:S17),\"-\")","v":"-"},null,{"$f":"IFERROR(AVERAGE(U13:U17),\"-\")","v":"-"},null,{"$f":"IFERROR(AVERAGE(W13:W17),\"-\")","v":"-"},null,{"$f":"IFERROR(AVERAGE(Y13:Y17),\"-\")","v":"-"}]
[null,null,null,{"$f":"IF($H$2=\"G\",'Skills explications FTEM'!F5,'Skills explications FTEM'!B5)","v":"Capacité de jouer en équipe"},null,null,{"$f":"IF($H$2=\"G\",'Skills explications FTEM'!G5,'Skills explications FTEM'!C5)","v":"Intégration dans le groupe, définit et réalise des objectifs communs, NOUS avant le MOI, participe au bon esprit d'équipe et à un bon climat de travail"},null,null,{"$f":"IF($H$2=\"G\",'Skills explications FTEM'!#REF!,'Skills explications FTEM'!#REF!)","v":{"$error":"#REF!"}}]
[null,null,null,{"$f":"IF($H$2=\"G\",'Skills explications FTEM'!F6,'Skills explications FTEM'!B6)","v":"Leadership"},null,null,{"$f":"IF($H$2=\"G\",'Skills explications FTEM'!G6,'Skills explications FTEM'!C6)","v":"Prend des responsabilités dans le groupe, essaie de donner de la valeur à ses coéquipiers et au groupe, influence positivement la dynamique de groupe"},null,null,{"$f":"IF($H$2=\"G\",'Skills explications FTEM'!#REF!,'Skills explications FTEM'!#REF!)","v":{"$error":"#REF!"}}]
[null,null,null,{"$f":"IF($H$2=\"G\",'Skills explications FTEM'!F7,'Skills explications FTEM'!B7)","v":"Répartition des rôles"},null,null,{"$f":"IF($H$2=\"G\",'Skills explications FTEM'!G7,'Skills explications FTEM'!C7)","v":"Connaît son rôle et le réalise, est conscient de sa position dans l'équipe et le système, met ses compétences à disposition de l'équipe"},null,null,{"$f":"IF($H$2=\"G\",'Skills explications FTEM'!#REF!,'Skills explications FTEM'!#REF!)","v":{"$error":"#REF!"}}]
[{"$f":"'Skills explications FTEM'!A8:A8","v":0},null,null,{"$f":"IF($H$2=\"G\",'Skills explications FTEM'!F8,'Skills explications FTEM'!B8)","v":"Respect"},null,null,{"$f":"IF($H$2=\"G\",'Skills explications FTEM'!G8,'Skills explications FTEM'!C8)","v":"Relations respectueuses avec les coéquipiers, les entraîneurs, les adversaires, les arbitres et le staff; respect des règles, des principes du fairplay (y compris antidopage)"},null,null,{"$f":"IF($H$2=\"G\",'Skills explications FTEM'!#REF!,'Skills explications FTEM'!#REF!)","v":{"$error":"#REF!"}}]
[{"$f":"'Skills explications FTEM'!A9:A9","v":"ON ICE"},null,null,{"$f":"'Skills explications FTEM'!B9","v":"COMPÉTENCES"},null,null,{"$f":"'Skills explications FTEM'!C9","v":"OBSERVATION"},null,null,{"$f":"'Skills explications FTEM'!H9","v":0},null,null,null,"Date1",null,"Date2",null,"Date3",null,"Date4",null,"Date5",null,"Player",null,"BUT","MESURES:\nSPECIFIQUE, MESURABLES, REALISTE",null,null,null,null,null,null,"DELAI","CONTRÔLE DU BUT","Date"]
[{"$f":"'Skills explications FTEM'!A10:A10","v":"PATINAGE"},null,null,{"$f":"IF($H$2=\"G\",'Skills explications FTEM'!F10,'Skills explications FTEM'!B10)","v":"Vitesse de patinage"},null,null,{"$f":"IF($H$2=\"G\",'Skills explications FTEM'!G10,'Skills explications FTEM'!C10)","v":"Accélération, départ, explosivité des 3 premiers pas, fréquence"},null,null,{"$f":"IF($H$2=\"G\",'Skills explications FTEM'!#REF!,'Skills explications FTEM'!#REF!)","v":{"$error":"#REF!"}},null,null,null,{"$f":"IFERROR(AVERAGE(O19:O23),\"-\")","v":"-"},null,{"$f":"IFERROR(AVERAGE(Q19:Q23),\"-\")","v":"-"},null,{"$f":"IFERROR(AVERAGE(S19:S23),\"-\")","v":"-"},null,{"$f":"IFERROR(AVERAGE(U19:U23),\"-\")","v":"-"},null,{"$f":"IFERROR(AVERAGE(W19:W23),\"-\")","v":"-"},null,{"$f":"IFERROR(AVERAGE(Y19:Y23),\"-\")","v":"-"}]
[{"$f":"'Skills explications FTEM'!A11:A11","v":0},null,null,{"$f":"IF($H$2=\"G\",'Skills explications FTEM'!F11,'Skills explications FTEM'!B11)","v":"Vitesse, rapidité"},null,null,{"$f":"IF($H$2=\"G\",'Skills explications FTEM'!G11,'Skills explications FTEM'!C11)","v":"Vitesse, faculté de glisse, avant et arrière, économie des forces"},null,null,{"$f":"IF($H$2=\"G\",'Skills explications FTEM'!#REF!,'Skills explications FTEM'!#REF!)","v":{"$error":"#REF!"}}]
[{"$f":"'Skills explications FTEM'!A12:A12","v":0},null,null,{"$f":"IF($H$2=\"G\",'Skills explications FTEM'!F12,'Skills explications FTEM'!B12)","v":"Agilité"},null,null,{"$f":"IF($H$2=\"G\",'Skills explications FTEM'!G12,'Skills explications FTEM'!C12)","v":"Changements de direction, pivots, stop et start «Nummelin»"},null,null,{"$f":"IF($H$2=\"G\",'Skills explications FTEM'!#REF!,'Skills explications FTEM'!#REF!)","v":{"$error":"#REF!"}},null,null,null,{"$f":"IFERROR(AVERAGE(O21:O23),\"-\")","v":"-"},null,{"$f":"IFERROR(AVERAGE(Q21:Q23),\"-\")","v":"-"},null,{"$f":"IFERROR(AVERAGE(S21:S23),\"-\")","v":"-"},null,{"$f":"IFERROR(AVERAGE(U21:U23),\"-\")","v":"-"},null,{"$f":"IFERROR(AVERAGE(W21:W23),\"-\")","v":"-"},null,"-"]
[null,null,null,{"$f":"IF($H$2=\"G\",'Skills explications FTEM'!F13,'Skills explications FTEM'!B13)","v":"Balance"},null,null,{"$f":"IF($H$2=\"G\",'Skills explications FTEM'!G13,'Skills explications FTEM'!C13)","v":"Equilibre, faculté d'être sur ses appuis, position basse, 1 ou 2 jambes"},null,null,{"$f":"IF($H$2=\"G\",'Skills explications FTEM'!#REF!,'Skills explications FTEM'!#REF!)","v":{"$error":"#REF!"}}]
[{"$f":"'Skills explications FTEM'!#REF!","v":{"$error":"#REF!"}},null,null,{"$f":"IF($H$2=\"G\",'Skills explications FTEM'!F14,'Skills explications FTEM'!B14)","v":"Patinage arrière"},null,null,{"$f":"IF($H$2=\"G\",'Skills explications FTEM'!G14,'Skills explications FTEM'!C14)","v":"Accélération, vitesse, équilibre "},null,null,{"$f":"IF($H$2=\"G\",'Skills explications FTEM'!#REF!,'Skills explications FTEM'!#REF!)","v":{"$error":"#REF!"}}]
[{"$f":"'Skills explications FTEM'!A15:A15","v":"SKILLS"},null,null,{"$f":"IF($H$2=\"G\",'Skills explications FTEM'!F15,'Skills explications FTEM'!B15)","v":"Tirer"},null,null,{"$f":"IF($H$2=\"G\",'Skills explications FTEM'!G15,'Skills explications FTEM'!C15)","v":"Efficience (pas d'espace et de temps), variantes, degré de surprise (déclenchement rapide), précision, puissance (conclusion tactique)"},null,null,{"$f":"IF($H$2=\"G\",'Skills explications FTEM'!#REF!,'Skills explications FTEM'!#REF!)","v":{"$error":"#REF!"}},null,null,null,{"$f":"IFERROR(AVERAGE(O24:O29),\"-\")","v":"-"},null,{"$f":"IFERROR(AVERAGE(Q24:Q29),\"-\")","v":"-"},null,{"$f":"IFERROR(AVERAGE(S24:S29),\"-\")","v":"-"},null,{"$f":"IFERROR(AVERAGE(U24:U29),\"-\")","v":"-"},null,{"$f":"IFERROR(AVERAGE(W24:W29),\"-\")","v":"-"},null,{"$f":"IFERROR(AVERAGE(Y24:Y29),\"-\")","v":"-"}]
[{"$f":"'Skills explications FTEM'!A16:A16","v":0},null,null,{"$f":"IF($H$2=\"G\",'Skills explications FTEM'!F16,'Skills explications FTEM'!B16)","v":"Passer"},null,null,{"$f":"IF($H$2=\"G\",'Skills explications FTEM'!G16,'Skills explications FTEM'!C16)","v":"Donne la passe (distance, passe flipée en revers), réception de la passe (précision, timing, coup droit, revers, patins), vitesse du puck"},null,null,{"$f":"IF($H$2=\"G\",'Skills explications FTEM'!#REF!,'Skills explications FTEM'!#REF!)","v":{"$error":"#REF!"}}]
[{"$f":"'Skills explications FTEM'!A17:A17","v":0},null,null,{"$f":"IF($H$2=\"G\",'Skills explications FTEM'!F17,'Skills explications FTEM'!B17)","v":"Travail de canne, conduite du puck"},null,null,{"$f":"IF($H$2=\"G\",'Skills explications FTEM'!G17,'Skills explications FTEM'!C17)","v":"Puck sur la palette, intercepte les lignes de passe, déviation, contrôle de la canne de l'adversaire"},null,null,{"$f":"IF($H$2=\"G\",'Skills explications FTEM'!#REF!,'Skills explications FTEM'!#REF!)","v":{"$error":"#REF!"}}]
[null,null,null,{"$f":"IF($H$2=\"G\",'Skills explications FTEM'!F18,'Skills explications FTEM'!B18)","v":"Protéger le puck"},null,null,{"$f":"IF($H$2=\"G\",'Skills explications FTEM'!G18,'Skills explications FTEM'!C18)","v":"Contrôle du puck, dribbling, protection du puck, feintes (variantes: avec les patins ou avec et sans la bande), mise au jeu (bully)"},null,null,{"$f":"IF($H$2=\"G\",'Skills explications FTEM'!#REF!,'Skills explications FTEM'!#REF!)","v":{"$error":"#REF!"}}]
[null,null,null,{"$f":"IF($H$2=\"G\",'Skills explications FTEM'!F19,'Skills explications FTEM'!B19)","v":"Jeu du corps (charges)"},null,null,{"$f":"IF($H$2=\"G\",'Skills explications FTEM'!G19,'Skills explications FTEM'!C19)","v":"Faculté de s'imposer physiquement, duels (sur la surface de glace ou à la bande), prendre des checks, lever la tête, niveau de lutte, dur mais correct, bloquer les tirs avec le corps"},null,null,{"$f":"IF($H$2=\"G\",'Skills explications FTEM'!#REF!,'Skills explications FTEM'!#REF!)","v":{"$error":"#REF!"}}]
[{"$f":"'Skills explications FTEM'!A20:A20","v":0},null,null,{"$f":"IF($H$2=\"G\",'Skills explications FTEM'!F20,'Skills explications FTEM'!B20)","v":"-"},null,null,{"$f":"IF($H$2=\"G\",'Skills explications FTEM'!G20,'Skills explications FTEM'!C20)","v":"-"},null,null,{"$f":"IF($H$2=\"G\",'Skills explications FTEM'!#REF!,'Skills explications FTEM'!#REF!)","v":{"$error":"#REF!"}}]
[{"$f":"'Skills explications FTEM'!A21:A21","v":"HOCKEY SENSE"},null,null,{"$f":"IF($H$2=\"G\",'Skills explications FTEM'!F21,'Skills explications FTEM'!B21)","v":"Intelligence de jeu"},null,null,{"$f":"IF($H$2=\"G\",'Skills explications FTEM'!G21,'Skills explications FTEM'!C21)","v":"Voit les zones libres avec joueurs et crée des situations de surnombre, trouve des solutions et agit en toute situation, vitesse de la visualisation"},null,null,{"$f":"IF($H$2=\"G\",'Skills explications FTEM'!#REF!,'Skills explications FTEM'!#REF!)","v":{"$error":"#REF!"}},null,null,null,{"$f":"IFERROR(AVERAGE(O30:O34),\"-\")","v":"-"},null,{"$f":"IFERROR(AVERAGE(Q30:Q34),\"-\")","v":"-"},null,{"$f":"IFERROR(AVERAGE(S30:S34),\"-\")","v":"-"},null,{"$f":"IFERROR(AVERAGE(U30:U34),\"-\")","v":"-"},null,{"$f":"IFERROR(AVERAGE(W30:W34),\"-\")","v":"-"},null,{"$f":"IFERROR(AVERAGE(Y30:Y34),\"-\")","v":"-"}]
[{"$f":"'Skills explications FTEM'!A22:A22","v":0},null,null,{"$f":"IF($H$2=\"G\",'Skills explications FTEM'!F22,'Skills explications FTEM'!B22)","v":"Sensibilisation offensive"},null,null,{"$f":"IF($H$2=\"G\",'Skills explications FTEM'!G22,'Skills explications FTEM'!C22)","v":"Se démarque, anticipation des situations de jeu, ouvre des zones libres pour ses coéquipiers, se place pour marquer, vitesse de mise sous pression, communication"},null,null,{"$f":"IF($H$2=\"G\",'Skills explications FTEM'!#REF!,'Skills explications FTEM'!#REF!)","v":{"$error":"#REF!"}}]
[null,null,null,{"$f":"IF($H$2=\"G\",'Skills explications FTEM'!F23,'Skills explications FTEM'!B23)","v":"Sensibilisation défensive"},null,null,{"$f":"IF($H$2=\"G\",'Skills explications FTEM'!G23,'Skills explications FTEM'!C23)","v":"Garde la position «inside», protège le slot, rassure les coéquipiers, support, anticipe les lignes de passe, bloque les tirs. Réduit rapidement la distance sur l'adversaire, communication"},null,null,{"$f":"IF($H$2=\"G\",'Skills explications FTEM'!#REF!,'Skills explications FTEM'!#REF!)","v":{"$error":"#REF!"}}]
[{"$f":"'Skills explications FTEM'!A23:A23","v":0},null,null,{"$f":"IF($H$2=\"G\",'Skills explications FTEM'!F24,'Skills explications FTEM'!B24)","v":"Gestion du puck"},null,null,{"$f":"IF($H$2=\"G\",'Skills explications FTEM'!G24,'Skills explications FTEM'!C24)","v":"Fait le bon choix en fonction de la situation, support, surnombre"},null,null,{"$f":"IF($H$2=\"G\",'Skills explications FTEM'!#REF!,'Skills explications FTEM'!#REF!)","v":{"$error":"#REF!"}}]
[{"$f":"'Skills explications FTEM'!A25:A25","v":0},null,null,{"$f":"IF($H$2=\"G\",'Skills explications FTEM'!F25,'Skills explications FTEM'!B25)","v":"Créativité"},null,null,{"$f":"IF($H$2=\"G\",'Skills explications FTEM'!G25,'Skills explications FTEM'!C25)","v":"Prises de décision surprenantes, sens du but"},null,null,{"$f":"IF($H$2=\"G\",'Skills explications FTEM'!#REF!,'Skills explications FTEM'!#REF!)","v":{"$error":"#REF!"}}]
[{"$f":"'Skills explications FTEM'!A26:A26","v":"PERSONALITY"},null,null,{"$f":"'Skills explications FTEM'!B26","v":"COMPÉTENCES"},null,null,{"$f":"'Skills explications FTEM'!C26","v":"OBSERVATION"},null,null,{"$f":"'Skills explications FTEM'!H26","v":0},null,null,null,"Date1",null,"Date2",null,"Date3",null,"Date4",null,"Date5",null,"Player",null,"BUT","MESURES:\nSPECIFIQUE, MESURABLES, REALISTE",null,null,null,null,null,null,"DELAI","CONTRÔLE DU BUT","Date"]
[{"$f":"'Skills explications FTEM'!A27:A27","v":"PERSONNALITÉ"},null,null,{"$f":"IF($H$2=\"G\",'Skills explications FTEM'!F27,'Skills explications FTEM'!B27)","v":"Confiance en soi"},null,null,{"$f":"IF($H$2=\"G\",'Skills explications FTEM'!G27,'Skills explications FTEM'!C27)","v":"Est en confiance,«I can do it», peut estimer ses capacités (connaît ses qualités et ses défauts), peut réaliser ses qualités avec constance, est courageux et prend des risques calculés"},null,null,{"$f":"IF($H$2=\"G\",'Skills explications FTEM'!#REF!,'Skills explications FTEM'!#REF!)","v":{"$error":"#REF!"}},null,null,null,{"$f":"IFERROR(AVERAGE(O36:O40),\"-\")","v":"-"},null,null,null,{"$f":"IFERROR(AVERAGE(S36:S40),\"-\")","v":"-"},null,{"$f":"IFERROR(AVERAGE(U36:U40),\"-\")","v":"-"},null,{"$f":"IFERROR(AVERAGE(W36:W40),\"-\")","v":"-"},null,{"$f":"IFERROR(AVERAGE(Y36:Y40),\"-\")","v":"-"}]
[{"$f":"'Skills explications FTEM'!A28:A28","v":0},null,null,{"$f":"IF($H$2=\"G\",'Skills explications FTEM'!F28,'Skills explications FTEM'!B28)","v":"Facultés d'apprentissage"},null,null,{"$f":"IF($H$2=\"G\",'Skills explications FTEM'!G28,'Skills explications FTEM'!C28)","v":"A une bonne perception (il peut mémoriser et peut réaliser), il a de la personnalité, essaie d'apprendre de ses erreurs et est entreprenant"},null,null,{"$f":"IF($H$2=\"G\",'Skills explications FTEM'!#REF!,'Skills explications FTEM'!#REF!)","v":{"$error":"#REF!"}}]
[{"$f":"'Skills explications FTEM'!A29:A29","v":0},null,null,{"$f":"IF($H$2=\"G\",'Skills explications FTEM'!F29,'Skills explications FTEM'!B29)","v":"Prise de responsabilités"},null,null,{"$f":"IF($H$2=\"G\",'Skills explications FTEM'!G29,'Skills explications FTEM'!C29)","v":"Prend la responsabilité de ses performances et de son développement, est-il autonome, soigne-t-il les détails, a beaucoup d'engagement dans tous les domaines"},null,null,{"$f":"IF($H$2=\"G\",'Skills explications FTEM'!#REF!,'Skills explications FTEM'!#REF!)","v":{"$error":"#REF!"}}]
[null,null,null,{"$f":"IF($H$2=\"G\",'Skills explications FTEM'!F30,'Skills explications FTEM'!B30)","v":"Motivation"},null,null,{"$f":"IF($H$2=\"G\",'Skills explications FTEM'!G30,'Skills explications FTEM'!C30)","v":"Est toujours motivé, veut sans cesse se développer et apprendre, veut être le premier et avoir du succès, n'abandonne jamais et ne se laisse pas influencer par les échesc"},null,null,{"$f":"IF($H$2=\"G\",'Skills explications FTEM'!#REF!,'Skills explications FTEM'!#REF!)","v":{"$error":"#REF!"}}]
[{"$f":"'Skills explications FTEM'!A31:A31","v":0},null,null,{"$f":"IF($H$2=\"G\",'Skills explications FTEM'!F31,'Skills explications FTEM'!B31)","v":"Performance style de vie"},null,null,{"$f":"IF($H$2=\"G\",'Skills explications FTEM'!G31,'Skills explications FTEM'!C31)","v":"Gère bien son environnement et son temps libre selon les principes de la performance, obstiné, tenace et axé sur l'objectif, accent sur sa propre performance, est courageux et peut s'imposer contre la résistance, les défis le motivent"},null,null,{"$f":"IF($H$2=\"G\",'Skills explications FTEM'!#REF!,'Skills explications FTEM'!#REF!)","v":{"$error":"#REF!"}}]
[{"$f":"'Skills explications FTEM'!A32:A32","v":"FORCE MENTALE"},null,null,{"$f":"IF($H$2=\"G\",'Skills explications FTEM'!F32,'Skills explications FTEM'!B32)","v":"Engagement"},null,null,{"$f":"IF($H$2=\"G\",'Skills explications FTEM'!G32,'Skills explications FTEM'!C32)","v":"Démontre beaucoup d'intensité dans les entraînements et les matchs, donne toujours son maximum et veut sans cesse repousser ses limites, a-t-il de la passion, s'efforce-t-il de s'entraîner avec une excellente qualité"},null,null,{"$f":"IF($H$2=\"G\",'Skills explications FTEM'!#REF!,'Skills explications FTEM'!#REF!)","v":{"$error":"#REF!"}},null,null,null,{"$f":"IFERROR(AVERAGE(O41:O45),\"-\")","v":"-"},null,null,null,{"$f":"IFERROR(AVERAGE(S41:S45),\"-\")","v":"-"},null,{"$f":"IFERROR(AVERAGE(U41:U45),\"-\")","v":"-"},null,{"$f":"IFERROR(AVERAGE(W41:W45),\"-\")","v":"-"},null,{"$f":"IFERROR(AVERAGE(Y41:Y45),\"-\")","v":"-"}]
[{"$f":"'Skills explications FTEM'!A33:A33","v":0},null,null,{"$f":"IF($H$2=\"G\",'Skills explications FTEM'!F33,'Skills explications FTEM'!B33)","v":"Préparation"},null,null,{"$f":"IF($H$2=\"G\",'Skills explications FTEM'!G33,'Skills explications FTEM'!C33)","v":"Se prépare-t-il toujours bien, mentalement et physiquement, se prépare-t-il toujours bien pour obtenir le niveau de performance idéal (ILZ)"},null,null,{"$f":"IF($H$2=\"G\",'Skills explications FTEM'!#REF!,'Skills explications FTEM'!#REF!)","v":{"$error":"#REF!"}}]
[null,null,null,{"$f":"IF($H$2=\"G\",'Skills explications FTEM'!F34,'Skills explications FTEM'!B34)","v":"Coaching personnel"},null,null,{"$f":"IF($H$2=\"G\",'Skills explications FTEM'!G34,'Skills explications FTEM'!C34)","v":"A-t-il de bonnes facultés de concentration, peut-il maintenir son niveau de performance idéal (ILZ) dans les entraînements et les matchs, peut-il appliquer ses techniques de base, est-il résistant aux influences et pensées négatives, est-il conscient de son attitude corporelle et peut-il l'influencer"},null,null,{"$f":"IF($H$2=\"G\",'Skills explications FTEM'!#REF!,'Skills explications FTEM'!#REF!)","v":{"$error":"#REF!"}}]
[{"$f":"'Skills explications FTEM'!A34:A34","v":0},null,null,{"$f":"IF($H$2=\"G\",'Skills explications FTEM'!F35,'Skills explications FTEM'!B35)","v":"Gestion des énergies"},null,null,{"$f":"IF($H$2=\"G\",'Skills explications FTEM'!G35,'Skills explications FTEM'!C35)","v":"Peut-il gérer ses propres énergies, prend-il soin de sa récupération, peut-il gérer les moments où il faut se donner à fond ou quand il faut déconnecter, bouton On/Off"},null,null,{"$f":"IF($H$2=\"G\",'Skills explications FTEM'!#REF!,'Skills explications FTEM'!#REF!)","v":{"$error":"#REF!"}}]
[{"$f":"'Skills explications FTEM'!A36:A36","v":0},null,null,{"$f":"IF($H$2=\"G\",'Skills explications FTEM'!F36,'Skills explications FTEM'!B36)","v":"Contrôle des émotions"},null,null,{"$f":"IF($H$2=\"G\",'Skills explications FTEM'!G36,'Skills explications FTEM'!C36)","v":"Peut-il gérer ses propres émotions et impulsions, reste-t-il sous contrôle lorsqu'il y a une grande pression, peut-il rester calme lorsque le niveau émotionnel et de frustration est élevé"},null,null,{"$f":"IF($H$2=\"G\",'Skills explications FTEM'!#REF!,'Skills explications FTEM'!#REF!)","v":{"$error":"#REF!"}}]
[{"$f":"'Skills explications FTEM'!A37:A37","v":"PHYSIQUE"},null,null,{"$f":"IF($H$2=\"G\",'Skills explications FTEM'!F37,'Skills explications FTEM'!B37)","v":"Production de la performance"},null,null,{"$f":"IF($H$2=\"G\",'Skills explications FTEM'!G37,'Skills explications FTEM'!C37)","v":"A-t-il la puissance, la force, la vitesse nécessaires dans les jambes et le haut du corps (facteurs neuromusculaires)"},null,null,{"$f":"IF($H$2=\"G\",'Skills explications FTEM'!#REF!,'Skills explications FTEM'!#REF!)","v":{"$error":"#REF!"}},null,null,null,{"$f":"IFERROR(AVERAGE(O46:O50),\"-\")","v":"-"},null,null,null,{"$f":"IFERROR(AVERAGE(S46:S50),\"-\")","v":"-"},null,{"$f":"IFERROR(AVERAGE(U46:U50),\"-\")","v":"-"},null,{"$f":"IFERROR(AVERAGE(W46:W50),\"-\")","v":"-"},null,{"$f":"IFERROR(AVERAGE(Y46:Y50),\"-\")","v":"-"}]
[{"$f":"'Skills explications FTEM'!A38:A38","v":0},null,null,{"$f":"IF($H$2=\"G\",'Skills explications FTEM'!F38,'Skills explications FTEM'!B38)","v":"Spécifique au sport, résistant à l'effort"},null,null,{"$f":"IF($H$2=\"G\",'Skills explications FTEM'!G38,'Skills explications FTEM'!C38)","v":"Est-il capable de maintenir sa puissance, sa force, sa vitesse durant un long temps de glace et peut-il récupérer complètement entre ses engagements (facteurs du métabolisme et cardiovasculaire)"},null,null,{"$f":"IF($H$2=\"G\",'Skills explications FTEM'!#REF!,'Skills explications FTEM'!#REF!)","v":{"$error":"#REF!"}}]
[null,null,null,{"$f":"IF($H$2=\"G\",'Skills explications FTEM'!F39,'Skills explications FTEM'!B39)","v":"Santé / Prévention"},null,null,{"$f":"IF($H$2=\"G\",'Skills explications FTEM'!G39,'Skills explications FTEM'!C39)","v":"A-t-il la stabilité nécessaire (p. ex. ses appuis) et la mobilité nécessaire au niveau des articulations centrales"},null,null,{"$f":"IF($H$2=\"G\",'Skills explications FTEM'!#REF!,'Skills explications FTEM'!#REF!)","v":{"$error":"#REF!"}}]
[{"$f":"'Skills explications FTEM'!A39:A39","v":0},null,null,{"$f":"IF($H$2=\"G\",'Skills explications FTEM'!F40,'Skills explications FTEM'!B40)","v":"Mobilité / Coordination"},null,null,{"$f":"IF($H$2=\"G\",'Skills explications FTEM'!G40,'Skills explications FTEM'!C40)","v":"Gère-t-il ses aptitudes de mouvements de base, qui sont un fournisseur important des fonctions spécifiques «Skills» pour être efficace"},null,null,{"$f":"IF($H$2=\"G\",'Skills explications FTEM'!#REF!,'Skills explications FTEM'!#REF!)","v":{"$error":"#REF!"}}]
[{"$f":"'Skills explications FTEM'!A41:A41","v":0},null,null,{"$f":"IF($H$2=\"G\",'Skills explications FTEM'!F41,'Skills explications FTEM'!B41)","v":"Robustesse"},null,null,{"$f":"IF($H$2=\"G\",'Skills explications FTEM'!G41,'Skills explications FTEM'!C41)","v":"A-t-il la force de base nécessaire (tension corporelle) pour gagner des duels et résister aux charges"},null,null,{"$f":"IF($H$2=\"G\",'Skills explications FTEM'!#REF!,'Skills explications FTEM'!#REF!)","v":{"$error":"#REF!"}}]

{"sheet":"21","index":24,"n_rows":50,"n_cols":36,"rows_kept":50,"cut":false,"hidden":false,"merged":[[45,25,49,25],[45,26,49,32],[45,34,49,34],[40,23,44,23],[42,3,42,5],[42,6,42,11],[44,3,44,5],[44,6,44,11],[40,0,44,2],[40,3,40,5],[40,6,40,11],[40,12,44,12],[40,13,44,13],[40,15,44,15],[45,0,49,2],[45,3,45,5],[45,6,45,11],[45,12,49,12],[45,23,49,23],[47,3,47,5],[47,6,47,11],[48,3,48,5],[48,6,48,11],[49,3,49,5],[34,21,34,22],[35,17,39,17],[35,19,39,19],[35,21,39,21],[36,3,36,5],[36,6,36,11],[38,3,38,5],[38,6,38,11],[40,17,44,17],[40,19,44,19],[40,21,44,21],[43,3,43,5],[43,6,43,11],[37,3,37,5],[37,6,37,11],[41,3,41,5],[41,6,41,11],[29,0,33,2],[29,3,29,5],[29,6,29,11],[29,12,33,12],[29,13,33,13],[29,15,33,15],[34,23,34,24],[34,26,34,32],[35,0,39,2],[35,3,35,5],[35,6,35,11],[35,12,39,12],[35,13,39,13],[35,15,39,15],[39,3,39,5],[39,6,39,11],[35,23,39,23],[34,0,34,2],[34,3,34,5],[34,6,34,11],[34,13,34,14],[34,15,34,16],[34,17,34,18],[34,19,34,20],[23,21,28,21],[23,23,28,23],[24,3,24,5],[24,6,24,11],[28,3,28,5],[28,6,28,11],[33,3,33,5],[33,6,33,11],[29,23,33,23],[29,17,33,17],[29,19,33,19],[29,21,33,21],[30,3,30,5],[30,6,30,11],[31,3,31,5],[31,6,31,11],[25,3,25,5],[25,6,25,11],[32,3,32,5],[32,6,32,11],[18,15,22,15],[18,17,22,17],[18,19,22,19],[18,21,22,21],[18,23,22,23],[22,3,22,5],[22,6,22,11],[23,0,28,2],[23,3,23,5],[23,6,23,11],[23,12,28,12],[23,13,28,13],[23,15,28,15],[23,17,28,17],[18,0,22,2],[18,3,18,5],[18,6,18,11],[18,12,22,12],[18,13,22,13],[19,3,19,5],[19,6,19,11],[20,3,20,5],[20,6,20,11],[23,19,28,19],[12,23,16,23],[16,3,16,5],[16,6,16,11],[17,0,17,2],[17,3,17,5],[17,6,17,11],[17,13,17,14],[17,15,17,16],[17,17,17,18],[17,19,17,20],[17,21,17,22],[17,23,17,24],[12,0,16,2],[12,3,12,5],[12,6,12,11],[12,12,16,12],[12,13,16,13],[12,15,16,15],[12,17,16,17],[12,19,16,19],[12,21,16,21],[13,3,13,5],[13,6,13,11],[14,3,14,5],[11,0,11,2],[11,3,11,5],[11,13,11,14],[11,15,11,16],[11,17,11,18],[11,19,11,20],[11,21,11,22],[11,23,11,24],[11,26,11,32],[11,6,11,11],[0,33,0,35],[29,25,33,25],[29,26,33,32],[29,34,33,34],[35,25,39,25],[35,26,39,32],[35,34,39,34],[1,0,1,1],[1,2,1,5],[1,10,1,24],[2,0,2,1],[2,2,2,5],[2,11,2,24],[6,0,6,1],[6,2,6,35],[7,0,7,1],[7,2,7,35],[8,0,8,1],[8,2,8,35],[3,0,3,1],[3,10,3,24],[4,0,4,1],[4,2,4,5],[4,10,4,24],[49,6,49,11],[45,13,49,13],[45,15,49,15],[45,17,49,17],[45,19,49,19],[45,21,49,21],[0,0,0,24],[0,25,0,26],[0,27,0,32],[10,0,10,24],[10,25,10,35],[40,25,44,25],[40,26,44,32],[40,34,44,34],[12,25,16,25],[12,26,16,32],[12,34,16,34],[18,25,22,25],[18,26,22,32],[18,34,22,34],[23,25,28,25],[23,26,28,32],[23,34,28,34],[17,26,17,32],[46,3,46,5],[46,6,46,11],[14,6,14,11],[15,3,15,5],[15,6,15,11],[21,3,21,5],[21,6,21,11],[26,3,26,5],[26,6,26,11],[27,3,27,5],[27,6,27,11]]}
["Infos personelles",null,null,null,null,null,null,null,null,null,null,null,null,null,null,null,null,null,null,null,null,null,null,null,null,"Predispositions",null,"Evaluations",null,null,null,null,null,"Rating"]
["PRENOM",null,{"$f":"IF(ISBLANK(VLOOKUP(21,Tabelle3[],3,0)),\"-\",VLOOKUP(21,Tabelle3[],3,0))","v":"-"},null,null,null,"POSITION",null,null,"ADRESSE",{"$f":"IF(ISBLANK(VLOOKUP(21,Tabelle3[],5,0)),\"-\",VLOOKUP(21,Tabelle3[],5,0))","v":"-"},null,null,null,null,null,null,null,null,null,null,null,null,null,null,"\"àage\" (Biologique/age relatif)",null,"Date 1",null,null,"cm",null,"Kg",null,"AUSGEZEICHNET",5]
["NOM",null,{"$f":"IF(ISBLANK(VLOOKUP(21,Tabelle3[],2,0)),\"-\",VLOOKUP(21,Tabelle3[],2,0))","v":"-"},null,null,null,"CANNE",null,null,"LIEU",{"$f":"IF(ISBLANK(VLOOKUP(21,Tabelle3[],7,0)),\"-\",VLOOKUP(21,Tabelle3[],7,0))","v":"-"},{"$f":"IF(ISBLANK(VLOOKUP(21,Tabelle3[],6,0)),\"-\",VLOOKUP(21,Tabelle3[],6,0))","v":"-"},null,null,null,null,null,null,null,null,null,null,null,null,null,"predispositions",null,"Date 2",null,null,"cm",null,"Kg",null,"GUT",4]
["DATE NAISS.",null,{"$f":"IF(ISBLANK(VLOOKUP(21,Tabelle3[],14,0)),\"-\",VLOOKUP(21,Tabelle3[],14,0))","v":"-"},{"$f":"IF(ISBLANK(VLOOKUP(21,Tabelle3[],15,0)),\"-\",VLOOKUP(21,Tabelle3[],15,0))","v":"-"},{"$f":"IF(ISBLANK(VLOOKUP(21,Tabelle3[],16,0)),\"-\",VLOOKUP(21,Tabelle3[],16,0))","v":"-"},null,"GRANDEUR",null,"cm","PHONE",{"$f":"IF(ISBLANK(VLOOKUP(21,Tabelle3[],8,0)),\"-\",VLOOKUP(21,Tabelle3[],8,0))","v":"-"},null,null,null,null,null,null,null,null,null,null,null,null,null,null,"Entourage",null,"Date 3",null,null,"cm",null,"Kg",null,"DURCHSCHNITT",3]
["SEXE",null,{"$f":"IF(ISBLANK(VLOOKUP(21,Tabelle3[],13,0)),\"-\",VLOOKUP(21,Tabelle3[],13,0))","v":"-"},null,null,null,"POIDS",null,"Kg","E-Mail",{"$f":"IF(ISBLANK(VLOOKUP(21,Tabelle3[],9,0)),\"-\",VLOOKUP(21,Tabelle3[],9,0))","v":"-"},null,null,null,null,null,null,null,null,null,null,null,null,null,null,null,null,"Date 4",null,null,"cm",null,"Kg",null,"MANGELHAFT",2]
[null,null,null,null,null,null,null,null,null,null,null,null,null,null,null,null,null,null,null,null,null,null,null,null,null,null,null,"Date 5",null,null,"cm",null,"Kg",null,"UNGENÜGEND",1]
["Vision",null,"xxx"]
["Next step",null,"xxx"]
["Profil du Joueur",null,"xxx"]
[]
["EVALUATION (COACH / JOUEUR)",null,null,null,null,null,null,null,null,null,null,null,null,null,null,null,null,null,null,null,null,null,null,null,null,"SMART"]
[{"$f":"'Skills explications FTEM'!A3:A3","v":"TEAM"},null,null,{"$f":"'Skills explications FTEM'!B3","v":"COMPÉTENCES"},null,null,{"$f":"'Skills explications FTEM'!C3","v":"OBSERVATION"},null,null,{"$f":"'Skills explications FTEM'!H3","v":0},null,null,"Final","Date1",null,"Date2",null,"Date3",null,"Date4",null,"Date5",null,"Player",null,"BUT","MESURES:\nSPECIFIQUE, MESURABLES, REALISTE",null,null,null,null,null,null,"DELAI","CONTRÔLE DU BUT","Date"]
[{"$f":"'Skills explications FTEM'!A4:A4","v":"ÉQUIPE"},null,null,{"$f":"IF($H$2=\"G\",'Skills explications FTEM'!F4,'Skills explications FTEM'!B4)","v":"Communication"},null,null,{"$f":"IF($H$2=\"G\",'Skills explications FTEM'!G4,'Skills explications FTEM'!C4)","v":"Respect et ouverture dans ses relations, confiance comme base, traite les conflits sans perturber la stabilité du groupe, communique avec ses coéquipiers, les entraîneurs et les fonctionnaires avec les mêmes valeurs"},null,null,{"$f":"IF($H$2=\"G\",'Skills explications FTEM'!#REF!,'Skills explications FTEM'!#REF!)","v":{"$error":"#REF!"}},null,null,null,{"$f":"IFERROR(AVERAGE(O13:O17),\"-\")","v":"-"},null,{"$f":"IFERROR(AVERAGE(Q13:Q17),\"-\")","v":"-"},null,{"$f":"IFERROR(AVERAGE(S13:S17),\"-\")","v":"-"},null,{"$f":"IFERROR(AVERAGE(U13:U17),\"-\")","v":"-"},null,{"$f":"IFERROR(AVERAGE(W13:W17),\"-\")","v":"-"},null,{"$f":"IFERROR(AVERAGE(Y13:Y17),\"-\")","v":"-"}]
[null,null,null,{"$f":"IF($H$2=\"G\",'Skills explications FTEM'!F5,'Skills explications FTEM'!B5)","v":"Capacité de jouer en équipe"},null,null,{"$f":"IF($H$2=\"G\",'Skills explications FTEM'!G5,'Skills explications FTEM'!C5)","v":"Intégration dans le groupe, définit et réalise des objectifs communs, NOUS avant le MOI, participe au bon esprit d'équipe et à un bon climat de travail"},null,null,{"$f":"IF($H$2=\"G\",'Skills explications FTEM'!#REF!,'Skills explications FTEM'!#REF!)","v":{"$error":"#REF!"}}]
[null,null,null,{"$f":"IF($H$2=\"G\",'Skills explications FTEM'!F6,'Skills explications FTEM'!B6)","v":"Leadership"},null,null,{"$f":"IF($H$2=\"G\",'Skills explications FTEM'!G6,'Skills explications FTEM'!C6)","v":"Prend des responsabilités dans le groupe, essaie de donner de la valeur à ses coéquipiers et au groupe, influence positivement la dynamique de groupe"},null,null,{"$f":"IF($H$2=\"G\",'Skills explications FTEM'!#REF!,'Skills explications FTEM'!#REF!)","v":{"$error":"#REF!"}}]
[null,null,null,{"$f":"IF($H$2=\"G\",'Skills explications FTEM'!F7,'Skills explications FTEM'!B7)","v":"Répartition des rôles"},null,null,{"$f":"IF($H$2=\"G\",'Skills explications FTEM'!G7,'Skills explications FTEM'!C7)","v":"Connaît son rôle et le réalise, est conscient de sa position dans l'équipe et le système, met ses compétences à disposition de l'équipe"},null,null,{"$f":"IF($H$2=\"G\",'Skills explications FTEM'!#REF!,'Skills explications FTEM'!#REF!)","v":{"$error":"#REF!"}}]
[{"$f":"'Skills explications FTEM'!A8:A8","v":0},null,null,{"$f":"IF($H$2=\"G\",'Skills explications FTEM'!F8,'Skills explications FTEM'!B8)","v":"Respect"},null,null,{"$f":"IF($H$2=\"G\",'Skills explications FTEM'!G8,'Skills explications FTEM'!C8)","v":"Relations respectueuses avec les coéquipiers, les entraîneurs, les adversaires, les arbitres et le staff; respect des règles, des principes du fairplay (y compris antidopage)"},null,null,{"$f":"IF($H$2=\"G\",'Skills explications FTEM'!#REF!,'Skills explications FTEM'!#REF!)","v":{"$error":"#REF!"}}]
[{"$f":"'Skills explications FTEM'!A9:A9","v":"ON ICE"},null,null,{"$f":"'Skills explications FTEM'!B9","v":"COMPÉTENCES"},null,null,{"$f":"'Skills explications FTEM'!C9","v":"OBSERVATION"},null,null,{"$f":"'Skills explications FTEM'!H9","v":0},null,null,null,"Date1",null,"Date2",null,"Date3",null,"Date4",null,"Date5",null,"Player",null,"BUT","MESURES:\nSPECIFIQUE, MESURABLES, REALISTE",null,null,null,null,null,null,"DELAI","CONTRÔLE DU BUT","Date"]
[{"$f":"'Skills explications FTEM'!A10:A10","v":"PATINAGE"},null,null,{"$f":"IF($H$2=\"G\",'Skills explications FTEM'!F10,'Skills explications FTEM'!B10)","v":"Vitesse de patinage"},null,null,{"$f":"IF($H$2=\"G\",'Skills explications FTEM'!G10,'Skills explications FTEM'!C10)","v":"Accélération, départ, explosivité des 3 premiers pas, fréquence"},null,null,{"$f":"IF($H$2=\"G\",'Skills explications FTEM'!#REF!,'Skills explications FTEM'!#REF!)","v":{"$error":"#REF!"}},null,null,null,{"$f":"IFERROR(AVERAGE(O19:O23),\"-\")","v":"-"},null,{"$f":"IFERROR(AVERAGE(Q19:Q23),\"-\")","v":"-"},null,{"$f":"IFERROR(AVERAGE(S19:S23),\"-\")","v":"-"},null,{"$f":"IFERROR(AVERAGE(U19:U23),\"-\")","v":"-"},null,{"$f":"IFERROR(AVERAGE(W19:W23),\"-\")","v":"-"},null,{"$f":"IFERROR(AVERAGE(Y19:Y23),\"-\")","v":"-"}]
[{"$f":"'Skills explications FTEM'!A11:A11","v":0},null,null,{"$f":"IF($H$2=\"G\",'Skills explications FTEM'!F11,'Skills explications FTEM'!B11)","v":"Vitesse, rapidité"},null,null,{"$f":"IF($H$2=\"G\",'Skills explications FTEM'!G11,'Skills explications FTEM'!C11)","v":"Vitesse, faculté de glisse, avant et arrière, économie des forces"},null,null,{"$f":"IF($H$2=\"G\",'Skills explications FTEM'!#REF!,'Skills explications FTEM'!#REF!)","v":{"$error":"#REF!"}}]
[{"$f":"'Skills explications FTEM'!A12:A12","v":0},null,null,{"$f":"IF($H$2=\"G\",'Skills explications FTEM'!F12,'Skills explications FTEM'!B12)","v":"Agilité"},null,null,{"$f":"IF($H$2=\"G\",'Skills explications FTEM'!G12,'Skills explications FTEM'!C12)","v":"Changements de direction, pivots, stop et start «Nummelin»"},null,null,{"$f":"IF($H$2=\"G\",'Skills explications FTEM'!#REF!,'Skills explications FTEM'!#REF!)","v":{"$error":"#REF!"}},null,null,null,{"$f":"IFERROR(AVERAGE(O21:O23),\"-\")","v":"-"},null,{"$f":"IFERROR(AVERAGE(Q21:Q23),\"-\")","v":"-"},null,{"$f":"IFERROR(AVERAGE(S21:S23),\"-\")","v":"-"},null,{"$f":"IFERROR(AVERAGE(U21:U23),\"-\")","v":"-"},null,{"$f":"IFERROR(AVERAGE(W21:W23),\"-\")","v":"-"},null,"-"]
[null,null,null,{"$f":"IF($H$2=\"G\",'Skills explications FTEM'!F13,'Skills explications FTEM'!B13)","v":"Balance"},null,null,{"$f":"IF($H$2=\"G\",'Skills explications FTEM'!G13,'Skills explications FTEM'!C13)","v":"Equilibre, faculté d'être sur ses appuis, position basse, 1 ou 2 jambes"},null,null,{"$f":"IF($H$2=\"G\",'Skills explications FTEM'!#REF!,'Skills explications FTEM'!#REF!)","v":{"$error":"#REF!"}}]
[{"$f":"'Skills explications FTEM'!#REF!","v":{"$error":"#REF!"}},null,null,{"$f":"IF($H$2=\"G\",'Skills explications FTEM'!F14,'Skills explications FTEM'!B14)","v":"Patinage arrière"},null,null,{"$f":"IF($H$2=\"G\",'Skills explications FTEM'!G14,'Skills explications FTEM'!C14)","v":"Accélération, vitesse, équilibre "},null,null,{"$f":"IF($H$2=\"G\",'Skills explications FTEM'!#REF!,'Skills explications FTEM'!#REF!)","v":{"$error":"#REF!"}}]
[{"$f":"'Skills explications FTEM'!A15:A15","v":"SKILLS"},null,null,{"$f":"IF($H$2=\"G\",'Skills explications FTEM'!F15,'Skills explications FTEM'!B15)","v":"Tirer"},null,null,{"$f":"IF($H$2=\"G\",'Skills explications FTEM'!G15,'Skills explications FTEM'!C15)","v":"Efficience (pas d'espace et de temps), variantes, degré de surprise (déclenchement rapide), précision, puissance (conclusion tactique)"},null,null,{"$f":"IF($H$2=\"G\",'Skills explications FTEM'!#REF!,'Skills explications FTEM'!#REF!)","v":{"$error":"#REF!"}},null,null,null,{"$f":"IFERROR(AVERAGE(O24:O29),\"-\")","v":"-"},null,{"$f":"IFERROR(AVERAGE(Q24:Q29),\"-\")","v":"-"},null,{"$f":"IFERROR(AVERAGE(S24:S29),\"-\")","v":"-"},null,{"$f":"IFERROR(AVERAGE(U24:U29),\"-\")","v":"-"},null,{"$f":"IFERROR(AVERAGE(W24:W29),\"-\")","v":"-"},null,{"$f":"IFERROR(AVERAGE(Y24:Y29),\"-\")","v":"-"}]
[{"$f":"'Skills explications FTEM'!A16:A16","v":0},null,null,{"$f":"IF($H$2=\"G\",'Skills explications FTEM'!F16,'Skills explications FTEM'!B16)","v":"Passer"},null,null,{"$f":"IF($H$2=\"G\",'Skills explications FTEM'!G16,'Skills explications FTEM'!C16)","v":"Donne la passe (distance, passe flipée en revers), réception de la passe (précision, timing, coup droit, revers, patins), vitesse du puck"},null,null,{"$f":"IF($H$2=\"G\",'Skills explications FTEM'!#REF!,'Skills explications FTEM'!#REF!)","v":{"$error":"#REF!"}}]
[{"$f":"'Skills explications FTEM'!A17:A17","v":0},null,null,{"$f":"IF($H$2=\"G\",'Skills explications FTEM'!F17,'Skills explications FTEM'!B17)","v":"Travail de canne, conduite du puck"},null,null,{"$f":"IF($H$2=\"G\",'Skills explications FTEM'!G17,'Skills explications FTEM'!C17)","v":"Puck sur la palette, intercepte les lignes de passe, déviation, contrôle de la canne de l'adversaire"},null,null,{"$f":"IF($H$2=\"G\",'Skills explications FTEM'!#REF!,'Skills explications FTEM'!#REF!)","v":{"$error":"#REF!"}}]
[null,null,null,{"$f":"IF($H$2=\"G\",'Skills explications FTEM'!F18,'Skills explications FTEM'!B18)","v":"Protéger le puck"},null,null,{"$f":"IF($H$2=\"G\",'Skills explications FTEM'!G18,'Skills explications FTEM'!C18)","v":"Contrôle du puck, dribbling, protection du puck, feintes (variantes: avec les patins ou avec et sans la bande), mise au jeu (bully)"},null,null,{"$f":"IF($H$2=\"G\",'Skills explications FTEM'!#REF!,'Skills explications FTEM'!#REF!)","v":{"$error":"#REF!"}}]
[null,null,null,{"$f":"IF($H$2=\"G\",'Skills explications FTEM'!F19,'Skills explications FTEM'!B19)","v":"Jeu du corps (charges)"},null,null,{"$f":"IF($H$2=\"G\",'Skills explications FTEM'!G19,'Skills explications FTEM'!C19)","v":"Faculté de s'imposer physiquement, duels (sur la surface de glace ou à la bande), prendre des checks, lever la tête, niveau de lutte, dur mais correct, bloquer les tirs avec le corps"},null,null,{"$f":"IF($H$2=\"G\",'Skills explications FTEM'!#REF!,'Skills explications FTEM'!#REF!)","v":{"$error":"#REF!"}}]
[{"$f":"'Skills explications FTEM'!A20:A20","v":0},null,null,{"$f":"IF($H$2=\"G\",'Skills explications FTEM'!F20,'Skills explications FTEM'!B20)","v":"-"},null,null,{"$f":"IF($H$2=\"G\",'Skills explications FTEM'!G20,'Skills explications FTEM'!C20)","v":"-"},null,null,{"$f":"IF($H$2=\"G\",'Skills explications FTEM'!#REF!,'Skills explications FTEM'!#REF!)","v":{"$error":"#REF!"}}]
[{"$f":"'Skills explications FTEM'!A21:A21","v":"HOCKEY SENSE"},null,null,{"$f":"IF($H$2=\"G\",'Skills explications FTEM'!F21,'Skills explications FTEM'!B21)","v":"Intelligence de jeu"},null,null,{"$f":"IF($H$2=\"G\",'Skills explications FTEM'!G21,'Skills explications FTEM'!C21)","v":"Voit les zones libres avec joueurs et crée des situations de surnombre, trouve des solutions et agit en toute situation, vitesse de la visualisation"},null,null,{"$f":"IF($H$2=\"G\",'Skills explications FTEM'!#REF!,'Skills explications FTEM'!#REF!)","v":{"$error":"#REF!"}},null,null,null,{"$f":"IFERROR(AVERAGE(O30:O34),\"-\")","v":"-"},null,{"$f":"IFERROR(AVERAGE(Q30:Q34),\"-\")","v":"-"},null,{"$f":"IFERROR(AVERAGE(S30:S34),\"-\")","v":"-"},null,{"$f":"IFERROR(AVERAGE(U30:U34),\"-\")","v":"-"},null,{"$f":"IFERROR(AVERAGE(W30:W34),\"-\")","v":"-"},null,{"$f":"IFERROR(AVERAGE(Y30:Y34),\"-\")","v":"-"}]
[{"$f":"'Skills explications FTEM'!A22:A22","v":0},null,null,{"$f":"IF($H$2=\"G\",'Skills explications FTEM'!F22,'Skills explications FTEM'!B22)","v":"Sensibilisation offensive"},null,null,{"$f":"IF($H$2=\"G\",'Skills explications FTEM'!G22,'Skills explications FTEM'!C22)","v":"Se démarque, anticipation des situations de jeu, ouvre des zones libres pour ses coéquipiers, se place pour marquer, vitesse de mise sous pression, communication"},null,null,{"$f":"IF($H$2=\"G\",'Skills explications FTEM'!#REF!,'Skills explications FTEM'!#REF!)","v":{"$error":"#REF!"}}]
[null,null,null,{"$f":"IF($H$2=\"G\",'Skills explications FTEM'!F23,'Skills explications FTEM'!B23)","v":"Sensibilisation défensive"},null,null,{"$f":"IF($H$2=\"G\",'Skills explications FTEM'!G23,'Skills explications FTEM'!C23)","v":"Garde la position «inside», protège le slot, rassure les coéquipiers, support, anticipe les lignes de passe, bloque les tirs. Réduit rapidement la distance sur l'adversaire, communication"},null,null,{"$f":"IF($H$2=\"G\",'Skills explications FTEM'!#REF!,'Skills explications FTEM'!#REF!)","v":{"$error":"#REF!"}}]
[{"$f":"'Skills explications FTEM'!A23:A23","v":0},null,null,{"$f":"IF($H$2=\"G\",'Skills explications FTEM'!F24,'Skills explications FTEM'!B24)","v":"Gestion du puck"},null,null,{"$f":"IF($H$2=\"G\",'Skills explications FTEM'!G24,'Skills explications FTEM'!C24)","v":"Fait le bon choix en fonction de la situation, support, surnombre"},null,null,{"$f":"IF($H$2=\"G\",'Skills explications FTEM'!#REF!,'Skills explications FTEM'!#REF!)","v":{"$error":"#REF!"}}]
[{"$f":"'Skills explications FTEM'!A25:A25","v":0},null,null,{"$f":"IF($H$2=\"G\",'Skills explications FTEM'!F25,'Skills explications FTEM'!B25)","v":"Créativité"},null,null,{"$f":"IF($H$2=\"G\",'Skills explications FTEM'!G25,'Skills explications FTEM'!C25)","v":"Prises de décision surprenantes, sens du but"},null,null,{"$f":"IF($H$2=\"G\",'Skills explications FTEM'!#REF!,'Skills explications FTEM'!#REF!)","v":{"$error":"#REF!"}}]
[{"$f":"'Skills explications FTEM'!A26:A26","v":"PERSONALITY"},null,null,{"$f":"'Skills explications FTEM'!B26","v":"COMPÉTENCES"},null,null,{"$f":"'Skills explications FTEM'!C26","v":"OBSERVATION"},null,null,{"$f":"'Skills explications FTEM'!H26","v":0},null,null,null,"Date1",null,"Date2",null,"Date3",null,"Date4",null,"Date5",null,"Player",null,"BUT","MESURES:\nSPECIFIQUE, MESURABLES, REALISTE",null,null,null,null,null,null,"DELAI","CONTRÔLE DU BUT","Date"]
[{"$f":"'Skills explications FTEM'!A27:A27","v":"PERSONNALITÉ"},null,null,{"$f":"IF($H$2=\"G\",'Skills explications FTEM'!F27,'Skills explications FTEM'!B27)","v":"Confiance en soi"},null,null,{"$f":"IF($H$2=\"G\",'Skills explications FTEM'!G27,'Skills explications FTEM'!C27)","v":"Est en confiance,«I can do it», peut estimer ses capacités (connaît ses qualités et ses défauts), peut réaliser ses qualités avec constance, est courageux et prend des risques calculés"},null,null,{"$f":"IF($H$2=\"G\",'Skills explications FTEM'!#REF!,'Skills explications FTEM'!#REF!)","v":{"$error":"#REF!"}},null,null,null,{"$f":"IFERROR(AVERAGE(O36:O40),\"-\")","v":"-"},null,null,null,{"$f":"IFERROR(AVERAGE(S36:S40),\"-\")","v":"-"},null,{"$f":"IFERROR(AVERAGE(U36:U40),\"-\")","v":"-"},null,{"$f":"IFERROR(AVERAGE(W36:W40),\"-\")","v":"-"},null,{"$f":"IFERROR(AVERAGE(Y36:Y40),\"-\")","v":"-"}]
[{"$f":"'Skills explications FTEM'!A28:A28","v":0},null,null,{"$f":"IF($H$2=\"G\",'Skills explications FTEM'!F28,'Skills explications FTEM'!B28)","v":"Facultés d'apprentissage"},null,null,{"$f":"IF($H$2=\"G\",'Skills explications FTEM'!G28,'Skills explications FTEM'!C28)","v":"A une bonne perception (il peut mémoriser et peut réaliser), il a de la personnalité, essaie d'apprendre de ses erreurs et est entreprenant"},null,null,{"$f":"IF($H$2=\"G\",'Skills explications FTEM'!#REF!,'Skills explications FTEM'!#REF!)","v":{"$error":"#REF!"}}]
[{"$f":"'Skills explications FTEM'!A29:A29","v":0},null,null,{"$f":"IF($H$2=\"G\",'Skills explications FTEM'!F29,'Skills explications FTEM'!B29)","v":"Prise de responsabilités"},null,null,{"$f":"IF($H$2=\"G\",'Skills explications FTEM'!G29,'Skills explications FTEM'!C29)","v":"Prend la responsabilité de ses performances et de son développement, est-il autonome, soigne-t-il les détails, a beaucoup d'engagement dans tous les domaines"},null,null,{"$f":"IF($H$2=\"G\",'Skills explications FTEM'!#REF!,'Skills explications FTEM'!#REF!)","v":{"$error":"#REF!"}}]
[null,null,null,{"$f":"IF($H$2=\"G\",'Skills explications FTEM'!F30,'Skills explications FTEM'!B30)","v":"Motivation"},null,null,{"$f":"IF($H$2=\"G\",'Skills explications FTEM'!G30,'Skills explications FTEM'!C30)","v":"Est toujours motivé, veut sans cesse se développer et apprendre, veut être le premier et avoir du succès, n'abandonne jamais et ne se laisse pas influencer par les échesc"},null,null,{"$f":"IF($H$2=\"G\",'Skills explications FTEM'!#REF!,'Skills explications FTEM'!#REF!)","v":{"$error":"#REF!"}}]
[{"$f":"'Skills explications FTEM'!A31:A31","v":0},null,null,{"$f":"IF($H$2=\"G\",'Skills explications FTEM'!F31,'Skills explications FTEM'!B31)","v":"Performance style de vie"},null,null,{"$f":"IF($H$2=\"G\",'Skills explications FTEM'!G31,'Skills explications FTEM'!C31)","v":"Gère bien son environnement et son temps libre selon les principes de la performance, obstiné, tenace et axé sur l'objectif, accent sur sa propre performance, est courageux et peut s'imposer contre la résistance, les défis le motivent"},null,null,{"$f":"IF($H$2=\"G\",'Skills explications FTEM'!#REF!,'Skills explications FTEM'!#REF!)","v":{"$error":"#REF!"}}]
[{"$f":"'Skills explications FTEM'!A32:A32","v":"FORCE MENTALE"},null,null,{"$f":"IF($H$2=\"G\",'Skills explications FTEM'!F32,'Skills explications FTEM'!B32)","v":"Engagement"},null,null,{"$f":"IF($H$2=\"G\",'Skills explications FTEM'!G32,'Skills explications FTEM'!C32)","v":"Démontre beaucoup d'intensité dans les entraînements et les matchs, donne toujours son maximum et veut sans cesse repousser ses limites, a-t-il de la passion, s'efforce-t-il de s'entraîner avec une excellente qualité"},null,null,{"$f":"IF($H$2=\"G\",'Skills explications FTEM'!#REF!,'Skills explications FTEM'!#REF!)","v":{"$error":"#REF!"}},null,null,null,{"$f":"IFERROR(AVERAGE(O41:O45),\"-\")","v":"-"},null,null,null,{"$f":"IFERROR(AVERAGE(S41:S45),\"-\")","v":"-"},null,{"$f":"IFERROR(AVERAGE(U41:U45),\"-\")","v":"-"},null,{"$f":"IFERROR(AVERAGE(W41:W45),\"-\")","v":"-"},null,{"$f":"IFERROR(AVERAGE(Y41:Y45),\"-\")","v":"-"}]
[{"$f":"'Skills explications FTEM'!A33:A33","v":0},null,null,{"$f":"IF($H$2=\"G\",'Skills explications FTEM'!F33,'Skills explications FTEM'!B33)","v":"Préparation"},null,null,{"$f":"IF($H$2=\"G\",'Skills explications FTEM'!G33,'Skills explications FTEM'!C33)","v":"Se prépare-t-il toujours bien, mentalement et physiquement, se prépare-t-il toujours bien pour obtenir le niveau de performance idéal (ILZ)"},null,null,{"$f":"IF($H$2=\"G\",'Skills explications FTEM'!#REF!,'Skills explications FTEM'!#REF!)","v":{"$error":"#REF!"}}]
[null,null,null,{"$f":"IF($H$2=\"G\",'Skills explications FTEM'!F34,'Skills explications FTEM'!B34)","v":"Coaching personnel"},null,null,{"$f":"IF($H$2=\"G\",'Skills explications FTEM'!G34,'Skills explications FTEM'!C34)","v":"A-t-il de bonnes facultés de concentration, peut-il maintenir son niveau de performance idéal (ILZ) dans les entraînements et les matchs, peut-il appliquer ses techniques de base, est-il résistant aux influences et pensées négatives, est-il conscient de son attitude corporelle et peut-il l'influencer"},null,null,{"$f":"IF($H$2=\"G\",'Skills explications FTEM'!#REF!,'Skills explications FTEM'!#REF!)","v":{"$error":"#REF!"}}]
[{"$f":"'Skills explications FTEM'!A34:A34","v":0},null,null,{"$f":"IF($H$2=\"G\",'Skills explications FTEM'!F35,'Skills explications FTEM'!B35)","v":"Gestion des énergies"},null,null,{"$f":"IF($H$2=\"G\",'Skills explications FTEM'!G35,'Skills explications FTEM'!C35)","v":"Peut-il gérer ses propres énergies, prend-il soin de sa récupération, peut-il gérer les moments où il faut se donner à fond ou quand il faut déconnecter, bouton On/Off"},null,null,{"$f":"IF($H$2=\"G\",'Skills explications FTEM'!#REF!,'Skills explications FTEM'!#REF!)","v":{"$error":"#REF!"}}]
[{"$f":"'Skills explications FTEM'!A36:A36","v":0},null,null,{"$f":"IF($H$2=\"G\",'Skills explications FTEM'!F36,'Skills explications FTEM'!B36)","v":"Contrôle des émotions"},null,null,{"$f":"IF($H$2=\"G\",'Skills explications FTEM'!G36,'Skills explications FTEM'!C36)","v":"Peut-il gérer ses propres émotions et impulsions, reste-t-il sous contrôle lorsqu'il y a une grande pression, peut-il rester calme lorsque le niveau émotionnel et de frustration est élevé"},null,null,{"$f":"IF($H$2=\"G\",'Skills explications FTEM'!#REF!,'Skills explications FTEM'!#REF!)","v":{"$error":"#REF!"}}]
[{"$f":"'Skills explications FTEM'!A37:A37","v":"PHYSIQUE"},null,null,{"$f":"IF($H$2=\"G\",'Skills explications FTEM'!F37,'Skills explications FTEM'!B37)","v":"Production de la performance"},null,null,{"$f":"IF($H$2=\"G\",'Skills explications FTEM'!G37,'Skills explications FTEM'!C37)","v":"A-t-il la puissance, la force, la vitesse nécessaires dans les jambes et le haut du corps (facteurs neuromusculaires)"},null,null,{"$f":"IF($H$2=\"G\",'Skills explications FTEM'!#REF!,'Skills explications FTEM'!#REF!)","v":{"$error":"#REF!"}},null,null,null,{"$f":"IFERROR(AVERAGE(O46:O50),\"-\")","v":"-"},null,null,null,{"$f":"IFERROR(AVERAGE(S46:S50),\"-\")","v":"-"},null,{"$f":"IFERROR(AVERAGE(U46:U50),\"-\")","v":"-"},null,{"$f":"IFERROR(AVERAGE(W46:W50),\"-\")","v":"-"},null,{"$f":"IFERROR(AVERAGE(Y46:Y50),\"-\")","v":"-"}]
[{"$f":"'Skills explications FTEM'!A38:A38","v":0},null,null,{"$f":"IF($H$2=\"G\",'Skills explications FTEM'!F38,'Skills explications FTEM'!B38)","v":"Spécifique au sport, résistant à l'effort"},null,null,{"$f":"IF($H$2=\"G\",'Skills explications FTEM'!G38,'Skills explications FTEM'!C38)","v":"Est-il capable de maintenir sa puissance, sa force, sa vitesse durant un long temps de glace et peut-il récupérer complètement entre ses engagements (facteurs du métabolisme et cardiovasculaire)"},null,null,{"$f":"IF($H$2=\"G\",'Skills explications FTEM'!#REF!,'Skills explications FTEM'!#REF!)","v":{"$error":"#REF!"}}]
[null,null,null,{"$f":"IF($H$2=\"G\",'Skills explications FTEM'!F39,'Skills explications FTEM'!B39)","v":"Santé / Prévention"},null,null,{"$f":"IF($H$2=\"G\",'Skills explications FTEM'!G39,'Skills explications FTEM'!C39)","v":"A-t-il la stabilité nécessaire (p. ex. ses appuis) et la mobilité nécessaire au niveau des articulations centrales"},null,null,{"$f":"IF($H$2=\"G\",'Skills explications FTEM'!#REF!,'Skills explications FTEM'!#REF!)","v":{"$error":"#REF!"}}]
[{"$f":"'Skills explications FTEM'!A39:A39","v":0},null,null,{"$f":"IF($H$2=\"G\",'Skills explications FTEM'!F40,'Skills explications FTEM'!B40)","v":"Mobilité / Coordination"},null,null,{"$f":"IF($H$2=\"G\",'Skills explications FTEM'!G40,'Skills explications FTEM'!C40)","v":"Gère-t-il ses aptitudes de mouvements de base, qui sont un fournisseur important des fonctions spécifiques «Skills» pour être efficace"},null,null,{"$f":"IF($H$2=\"G\",'Skills explications FTEM'!#REF!,'Skills explications FTEM'!#REF!)","v":{"$error":"#REF!"}}]
[{"$f":"'Skills explications FTEM'!A41:A41","v":0},null,null,{"$f":"IF($H$2=\"G\",'Skills explications FTEM'!F41,'Skills explications FTEM'!B41)","v":"Robustesse"},null,null,{"$f":"IF($H$2=\"G\",'Skills explications FTEM'!G41,'Skills explications FTEM'!C41)","v":"A-t-il la force de base nécessaire (tension corporelle) pour gagner des duels et résister aux charges"},null,null,{"$f":"IF($H$2=\"G\",'Skills explications FTEM'!#REF!,'Skills explications FTEM'!#REF!)","v":{"$error":"#REF!"}}]

{"sheet":"22","index":25,"n_rows":50,"n_cols":36,"rows_kept":50,"cut":false,"hidden":false,"merged":[[45,25,49,25],[45,26,49,32],[45,34,49,34],[40,23,44,23],[42,3,42,5],[42,6,42,11],[44,3,44,5],[44,6,44,11],[40,0,44,2],[40,3,40,5],[40,6,40,11],[40,12,44,12],[40,13,44,13],[40,15,44,15],[45,0,49,2],[45,3,45,5],[45,6,45,11],[45,12,49,12],[45,23,49,23],[47,3,47,5],[47,6,47,11],[48,3,48,5],[48,6,48,11],[49,3,49,5],[34,21,34,22],[35,17,39,17],[35,19,39,19],[35,21,39,21],[36,3,36,5],[36,6,36,11],[38,3,38,5],[38,6,38,11],[40,17,44,17],[40,19,44,19],[40,21,44,21],[43,3,43,5],[43,6,43,11],[37,3,37,5],[37,6,37,11],[41,3,41,5],[41,6,41,11],[29,0,33,2],[29,3,29,5],[29,6,29,11],[29,12,33,12],[29,13,33,13],[29,15,33,15],[34,23,34,24],[34,26,34,32],[35,0,39,2],[35,3,35,5],[35,6,35,11],[35,12,39,12],[35,13,39,13],[35,15,39,15],[39,3,39,5],[39,6,39,11],[35,23,39,23],[34,0,34,2],[34,3,34,5],[34,6,34,11],[34,13,34,14],[34,15,34,16],[34,17,34,18],[34,19,34,20],[23,21,28,21],[23,23,28,23],[24,3,24,5],[24,6,24,11],[28,3,28,5],[28,6,28,11],[33,3,33,5],[33,6,33,11],[29,23,33,23],[29,17,33,17],[29,19,33,19],[29,21,33,21],[30,3,30,5],[30,6,30,11],[31,3,31,5],[31,6,31,11],[25,3,25,5],[25,6,25,11],[32,3,32,5],[32,6,32,11],[18,15,22,15],[18,17,22,17],[18,19,22,19],[18,21,22,21],[18,23,22,23],[22,3,22,5],[22,6,22,11],[23,0,28,2],[23,3,23,5],[23,6,23,11],[23,12,28,12],[23,13,28,13],[23,15,28,15],[23,17,28,17],[18,0,22,2],[18,3,18,5],[18,6,18,11],[18,12,22,12],[18,13,22,13],[19,3,19,5],[19,6,19,11],[20,3,20,5],[20,6,20,11],[23,19,28,19],[12,23,16,23],[16,3,16,5],[16,6,16,11],[17,0,17,2],[17,3,17,5],[17,6,17,11],[17,13,17,14],[17,15,17,16],[17,17,17,18],[17,19,17,20],[17,21,17,22],[17,23,17,24],[12,0,16,2],[12,3,12,5],[12,6,12,11],[12,12,16,12],[12,13,16,13],[12,15,16,15],[12,17,16,17],[12,19,16,19],[12,21,16,21],[13,3,13,5],[13,6,13,11],[14,3,14,5],[11,0,11,2],[11,3,11,5],[11,13,11,14],[11,15,11,16],[11,17,11,18],[11,19,11,20],[11,21,11,22],[11,23,11,24],[11,26,11,32],[11,6,11,11],[0,33,0,35],[29,25,33,25],[29,26,33,32],[29,34,33,34],[35,25,39,25],[35,26,39,32],[35,34,39,34],[1,0,1,1],[1,2,1,5],[1,10,1,24],[2,0,2,1],[2,2,2,5],[2,11,2,24],[6,0,6,1],[6,2,6,35],[7,0,7,1],[7,2,7,35],[8,0,8,1],[8,2,8,35],[3,0,3,1],[3,10,3,24],[4,0,4,1],[4,2,4,5],[4,10,4,24],[49,6,49,11],[45,13,49,13],[45,15,49,15],[45,17,49,17],[45,19,49,19],[45,21,49,21],[0,0,0,24],[0,25,0,26],[0,27,0,32],[10,0,10,24],[10,25,10,35],[40,25,44,25],[40,26,44,32],[40,34,44,34],[12,25,16,25],[12,26,16,32],[12,34,16,34],[18,25,22,25],[18,26,22,32],[18,34,22,34],[23,25,28,25],[23,26,28,32],[23,34,28,34],[17,26,17,32],[46,3,46,5],[46,6,46,11],[14,6,14,11],[15,3,15,5],[15,6,15,11],[21,3,21,5],[21,6,21,11],[26,3,26,5],[26,6,26,11],[27,3,27,5],[27,6,27,11]]}
["Infos personelles",null,null,null,null,null,null,null,null,null,null,null,null,null,null,null,null,null,null,null,null,null,null,null,null,"Predispositions",null,"Evaluations",null,null,null,null,null,"Rating"]
["PRENOM",null,{"$f":"IF(ISBLANK(VLOOKUP(22,Tabelle3[],3,0)),\"-\",VLOOKUP(22,Tabelle3[],3,0))","v":"-"},null,null,null,"POSITION",null,null,"ADRESSE",{"$f":"IF(ISBLANK(VLOOKUP(22,Tabelle3[],5,0)),\"-\",VLOOKUP(22,Tabelle3[],5,0))","v":"-"},null,null,null,null,null,null,null,null,null,null,null,null,null,null,"\"àage\" (Biologique/age relatif)",null,"Date 1",null,null,"cm",null,"Kg",null,"AUSGEZEICHNET",5]
["NOM",null,{"$f":"IF(ISBLANK(VLOOKUP(22,Tabelle3[],2,0)),\"-\",VLOOKUP(22,Tabelle3[],2,0))","v":"-"},null,null,null,"CANNE",null,null,"LIEU",{"$f":"IF(ISBLANK(VLOOKUP(22,Tabelle3[],7,0)),\"-\",VLOOKUP(22,Tabelle3[],7,0))","v":"-"},{"$f":"IF(ISBLANK(VLOOKUP(22,Tabelle3[],6,0)),\"-\",VLOOKUP(22,Tabelle3[],6,0))","v":"-"},null,null,null,null,null,null,null,null,null,null,null,null,null,"predispositions",null,"Date 2",null,null,"cm",null,"Kg",null,"GUT",4]
["DATE NAISS.",null,{"$f":"IF(ISBLANK(VLOOKUP(22,Tabelle3[],14,0)),\"-\",VLOOKUP(22,Tabelle3[],14,0))","v":"-"},{"$f":"IF(ISBLANK(VLOOKUP(22,Tabelle3[],15,0)),\"-\",VLOOKUP(22,Tabelle3[],15,0))","v":"-"},{"$f":"IF(ISBLANK(VLOOKUP(22,Tabelle3[],16,0)),\"-\",VLOOKUP(22,Tabelle3[],16,0))","v":"-"},null,"GRANDEUR",null,"cm","PHONE",{"$f":"IF(ISBLANK(VLOOKUP(22,Tabelle3[],8,0)),\"-\",VLOOKUP(22,Tabelle3[],8,0))","v":"-"},null,null,null,null,null,null,null,null,null,null,null,null,null,null,"Entourage",null,"Date 3",null,null,"cm",null,"Kg",null,"DURCHSCHNITT",3]
["SEXE",null,{"$f":"IF(ISBLANK(VLOOKUP(22,Tabelle3[],13,0)),\"-\",VLOOKUP(22,Tabelle3[],13,0))","v":"-"},null,null,null,"POIDS",null,"Kg","E-Mail",{"$f":"IF(ISBLANK(VLOOKUP(22,Tabelle3[],9,0)),\"-\",VLOOKUP(22,Tabelle3[],9,0))","v":"-"},null,null,null,null,null,null,null,null,null,null,null,null,null,null,null,null,"Date 4",null,null,"cm",null,"Kg",null,"MANGELHAFT",2]
[null,null,null,null,null,null,null,null,null,null,null,null,null,null,null,null,null,null,null,null,null,null,null,null,null,null,null,"Date 5",null,null,"cm",null,"Kg",null,"UNGENÜGEND",1]
["Vision",null,"xxx"]
["Next step",null,"xxx"]
["Profil du Joueur",null,"xxx"]
[]
["EVALUATION (COACH / JOUEUR)",null,null,null,null,null,null,null,null,null,null,null,null,null,null,null,null,null,null,null,null,null,null,null,null,"SMART"]
[{"$f":"'Skills explications FTEM'!A3:A3","v":"TEAM"},null,null,{"$f":"'Skills explications FTEM'!B3","v":"COMPÉTENCES"},null,null,{"$f":"'Skills explications FTEM'!C3","v":"OBSERVATION"},null,null,{"$f":"'Skills explications FTEM'!H3","v":0},null,null,"Final","Date1",null,"Date2",null,"Date3",null,"Date4",null,"Date5",null,"Player",null,"BUT","MESURES:\nSPECIFIQUE, MESURABLES, REALISTE",null,null,null,null,null,null,"DELAI","CONTRÔLE DU BUT","Date"]
[{"$f":"'Skills explications FTEM'!A4:A4","v":"ÉQUIPE"},null,null,{"$f":"IF($H$2=\"G\",'Skills explications FTEM'!F4,'Skills explications FTEM'!B4)","v":"Communication"},null,null,{"$f":"IF($H$2=\"G\",'Skills explications FTEM'!G4,'Skills explications FTEM'!C4)","v":"Respect et ouverture dans ses relations, confiance comme base, traite les conflits sans perturber la stabilité du groupe, communique avec ses coéquipiers, les entraîneurs et les fonctionnaires avec les mêmes valeurs"},null,null,{"$f":"IF($H$2=\"G\",'Skills explications FTEM'!#REF!,'Skills explications FTEM'!#REF!)","v":{"$error":"#REF!"}},null,null,null,{"$f":"IFERROR(AVERAGE(O13:O17),\"-\")","v":"-"},null,{"$f":"IFERROR(AVERAGE(Q13:Q17),\"-\")","v":"-"},null,{"$f":"IFERROR(AVERAGE(S13:S17),\"-\")","v":"-"},null,{"$f":"IFERROR(AVERAGE(U13:U17),\"-\")","v":"-"},null,{"$f":"IFERROR(AVERAGE(W13:W17),\"-\")","v":"-"},null,{"$f":"IFERROR(AVERAGE(Y13:Y17),\"-\")","v":"-"}]
[null,null,null,{"$f":"IF($H$2=\"G\",'Skills explications FTEM'!F5,'Skills explications FTEM'!B5)","v":"Capacité de jouer en équipe"},null,null,{"$f":"IF($H$2=\"G\",'Skills explications FTEM'!G5,'Skills explications FTEM'!C5)","v":"Intégration dans le groupe, définit et réalise des objectifs communs, NOUS avant le MOI, participe au bon esprit d'équipe et à un bon climat de travail"},null,null,{"$f":"IF($H$2=\"G\",'Skills explications FTEM'!#REF!,'Skills explications FTEM'!#REF!)","v":{"$error":"#REF!"}}]
[null,null,null,{"$f":"IF($H$2=\"G\",'Skills explications FTEM'!F6,'Skills explications FTEM'!B6)","v":"Leadership"},null,null,{"$f":"IF($H$2=\"G\",'Skills explications FTEM'!G6,'Skills explications FTEM'!C6)","v":"Prend des responsabilités dans le groupe, essaie de donner de la valeur à ses coéquipiers et au groupe, influence positivement la dynamique de groupe"},null,null,{"$f":"IF($H$2=\"G\",'Skills explications FTEM'!#REF!,'Skills explications FTEM'!#REF!)","v":{"$error":"#REF!"}}]
[null,null,null,{"$f":"IF($H$2=\"G\",'Skills explications FTEM'!F7,'Skills explications FTEM'!B7)","v":"Répartition des rôles"},null,null,{"$f":"IF($H$2=\"G\",'Skills explications FTEM'!G7,'Skills explications FTEM'!C7)","v":"Connaît son rôle et le réalise, est conscient de sa position dans l'équipe et le système, met ses compétences à disposition de l'équipe"},null,null,{"$f":"IF($H$2=\"G\",'Skills explications FTEM'!#REF!,'Skills explications FTEM'!#REF!)","v":{"$error":"#REF!"}}]
[{"$f":"'Skills explications FTEM'!A8:A8","v":0},null,null,{"$f":"IF($H$2=\"G\",'Skills explications FTEM'!F8,'Skills explications FTEM'!B8)","v":"Respect"},null,null,{"$f":"IF($H$2=\"G\",'Skills explications FTEM'!G8,'Skills explications FTEM'!C8)","v":"Relations respectueuses avec les coéquipiers, les entraîneurs, les adversaires, les arbitres et le staff; respect des règles, des principes du fairplay (y compris antidopage)"},null,null,{"$f":"IF($H$2=\"G\",'Skills explications FTEM'!#REF!,'Skills explications FTEM'!#REF!)","v":{"$error":"#REF!"}}]
[{"$f":"'Skills explications FTEM'!A9:A9","v":"ON ICE"},null,null,{"$f":"'Skills explications FTEM'!B9","v":"COMPÉTENCES"},null,null,{"$f":"'Skills explications FTEM'!C9","v":"OBSERVATION"},null,null,{"$f":"'Skills explications FTEM'!H9","v":0},null,null,null,"Date1",null,"Date2",null,"Date3",null,"Date4",null,"Date5",null,"Player",null,"BUT","MESURES:\nSPECIFIQUE, MESURABLES, REALISTE",null,null,null,null,null,null,"DELAI","CONTRÔLE DU BUT","Date"]
[{"$f":"'Skills explications FTEM'!A10:A10","v":"PATINAGE"},null,null,{"$f":"IF($H$2=\"G\",'Skills explications FTEM'!F10,'Skills explications FTEM'!B10)","v":"Vitesse de patinage"},null,null,{"$f":"IF($H$2=\"G\",'Skills explications FTEM'!G10,'Skills explications FTEM'!C10)","v":"Accélération, départ, explosivité des 3 premiers pas, fréquence"},null,null,{"$f":"IF($H$2=\"G\",'Skills explications FTEM'!#REF!,'Skills explications FTEM'!#REF!)","v":{"$error":"#REF!"}},null,null,null,{"$f":"IFERROR(AVERAGE(O19:O23),\"-\")","v":"-"},null,{"$f":"IFERROR(AVERAGE(Q19:Q23),\"-\")","v":"-"},null,{"$f":"IFERROR(AVERAGE(S19:S23),\"-\")","v":"-"},null,{"$f":"IFERROR(AVERAGE(U19:U23),\"-\")","v":"-"},null,{"$f":"IFERROR(AVERAGE(W19:W23),\"-\")","v":"-"},null,{"$f":"IFERROR(AVERAGE(Y19:Y23),\"-\")","v":"-"}]
[{"$f":"'Skills explications FTEM'!A11:A11","v":0},null,null,{"$f":"IF($H$2=\"G\",'Skills explications FTEM'!F11,'Skills explications FTEM'!B11)","v":"Vitesse, rapidité"},null,null,{"$f":"IF($H$2=\"G\",'Skills explications FTEM'!G11,'Skills explications FTEM'!C11)","v":"Vitesse, faculté de glisse, avant et arrière, économie des forces"},null,null,{"$f":"IF($H$2=\"G\",'Skills explications FTEM'!#REF!,'Skills explications FTEM'!#REF!)","v":{"$error":"#REF!"}}]
[{"$f":"'Skills explications FTEM'!A12:A12","v":0},null,null,{"$f":"IF($H$2=\"G\",'Skills explications FTEM'!F12,'Skills explications FTEM'!B12)","v":"Agilité"},null,null,{"$f":"IF($H$2=\"G\",'Skills explications FTEM'!G12,'Skills explications FTEM'!C12)","v":"Changements de direction, pivots, stop et start «Nummelin»"},null,null,{"$f":"IF($H$2=\"G\",'Skills explications FTEM'!#REF!,'Skills explications FTEM'!#REF!)","v":{"$error":"#REF!"}},null,null,null,{"$f":"IFERROR(AVERAGE(O21:O23),\"-\")","v":"-"},null,{"$f":"IFERROR(AVERAGE(Q21:Q23),\"-\")","v":"-"},null,{"$f":"IFERROR(AVERAGE(S21:S23),\"-\")","v":"-"},null,{"$f":"IFERROR(AVERAGE(U21:U23),\"-\")","v":"-"},null,{"$f":"IFERROR(AVERAGE(W21:W23),\"-\")","v":"-"},null,"-"]
[null,null,null,{"$f":"IF($H$2=\"G\",'Skills explications FTEM'!F13,'Skills explications FTEM'!B13)","v":"Balance"},null,null,{"$f":"IF($H$2=\"G\",'Skills explications FTEM'!G13,'Skills explications FTEM'!C13)","v":"Equilibre, faculté d'être sur ses appuis, position basse, 1 ou 2 jambes"},null,null,{"$f":"IF($H$2=\"G\",'Skills explications FTEM'!#REF!,'Skills explications FTEM'!#REF!)","v":{"$error":"#REF!"}}]
[{"$f":"'Skills explications FTEM'!#REF!","v":{"$error":"#REF!"}},null,null,{"$f":"IF($H$2=\"G\",'Skills explications FTEM'!F14,'Skills explications FTEM'!B14)","v":"Patinage arrière"},null,null,{"$f":"IF($H$2=\"G\",'Skills explications FTEM'!G14,'Skills explications FTEM'!C14)","v":"Accélération, vitesse, équilibre "},null,null,{"$f":"IF($H$2=\"G\",'Skills explications FTEM'!#REF!,'Skills explications FTEM'!#REF!)","v":{"$error":"#REF!"}}]
[{"$f":"'Skills explications FTEM'!A15:A15","v":"SKILLS"},null,null,{"$f":"IF($H$2=\"G\",'Skills explications FTEM'!F15,'Skills explications FTEM'!B15)","v":"Tirer"},null,null,{"$f":"IF($H$2=\"G\",'Skills explications FTEM'!G15,'Skills explications FTEM'!C15)","v":"Efficience (pas d'espace et de temps), variantes, degré de surprise (déclenchement rapide), précision, puissance (conclusion tactique)"},null,null,{"$f":"IF($H$2=\"G\",'Skills explications FTEM'!#REF!,'Skills explications FTEM'!#REF!)","v":{"$error":"#REF!"}},null,null,null,{"$f":"IFERROR(AVERAGE(O24:O29),\"-\")","v":"-"},null,{"$f":"IFERROR(AVERAGE(Q24:Q29),\"-\")","v":"-"},null,{"$f":"IFERROR(AVERAGE(S24:S29),\"-\")","v":"-"},null,{"$f":"IFERROR(AVERAGE(U24:U29),\"-\")","v":"-"},null,{"$f":"IFERROR(AVERAGE(W24:W29),\"-\")","v":"-"},null,{"$f":"IFERROR(AVERAGE(Y24:Y29),\"-\")","v":"-"}]
[{"$f":"'Skills explications FTEM'!A16:A16","v":0},null,null,{"$f":"IF($H$2=\"G\",'Skills explications FTEM'!F16,'Skills explications FTEM'!B16)","v":"Passer"},null,null,{"$f":"IF($H$2=\"G\",'Skills explications FTEM'!G16,'Skills explications FTEM'!C16)","v":"Donne la passe (distance, passe flipée en revers), réception de la passe (précision, timing, coup droit, revers, patins), vitesse du puck"},null,null,{"$f":"IF($H$2=\"G\",'Skills explications FTEM'!#REF!,'Skills explications FTEM'!#REF!)","v":{"$error":"#REF!"}}]
[{"$f":"'Skills explications FTEM'!A17:A17","v":0},null,null,{"$f":"IF($H$2=\"G\",'Skills explications FTEM'!F17,'Skills explications FTEM'!B17)","v":"Travail de canne, conduite du puck"},null,null,{"$f":"IF($H$2=\"G\",'Skills explications FTEM'!G17,'Skills explications FTEM'!C17)","v":"Puck sur la palette, intercepte les lignes de passe, déviation, contrôle de la canne de l'adversaire"},null,null,{"$f":"IF($H$2=\"G\",'Skills explications FTEM'!#REF!,'Skills explications FTEM'!#REF!)","v":{"$error":"#REF!"}}]
[null,null,null,{"$f":"IF($H$2=\"G\",'Skills explications FTEM'!F18,'Skills explications FTEM'!B18)","v":"Protéger le puck"},null,null,{"$f":"IF($H$2=\"G\",'Skills explications FTEM'!G18,'Skills explications FTEM'!C18)","v":"Contrôle du puck, dribbling, protection du puck, feintes (variantes: avec les patins ou avec et sans la bande), mise au jeu (bully)"},null,null,{"$f":"IF($H$2=\"G\",'Skills explications FTEM'!#REF!,'Skills explications FTEM'!#REF!)","v":{"$error":"#REF!"}}]
[null,null,null,{"$f":"IF($H$2=\"G\",'Skills explications FTEM'!F19,'Skills explications FTEM'!B19)","v":"Jeu du corps (charges)"},null,null,{"$f":"IF($H$2=\"G\",'Skills explications FTEM'!G19,'Skills explications FTEM'!C19)","v":"Faculté de s'imposer physiquement, duels (sur la surface de glace ou à la bande), prendre des checks, lever la tête, niveau de lutte, dur mais correct, bloquer les tirs avec le corps"},null,null,{"$f":"IF($H$2=\"G\",'Skills explications FTEM'!#REF!,'Skills explications FTEM'!#REF!)","v":{"$error":"#REF!"}}]
[{"$f":"'Skills explications FTEM'!A20:A20","v":0},null,null,{"$f":"IF($H$2=\"G\",'Skills explications FTEM'!F20,'Skills explications FTEM'!B20)","v":"-"},null,null,{"$f":"IF($H$2=\"G\",'Skills explications FTEM'!G20,'Skills explications FTEM'!C20)","v":"-"},null,null,{"$f":"IF($H$2=\"G\",'Skills explications FTEM'!#REF!,'Skills explications FTEM'!#REF!)","v":{"$error":"#REF!"}}]
[{"$f":"'Skills explications FTEM'!A21:A21","v":"HOCKEY SENSE"},null,null,{"$f":"IF($H$2=\"G\",'Skills explications FTEM'!F21,'Skills explications FTEM'!B21)","v":"Intelligence de jeu"},null,null,{"$f":"IF($H$2=\"G\",'Skills explications FTEM'!G21,'Skills explications FTEM'!C21)","v":"Voit les zones libres avec joueurs et crée des situations de surnombre, trouve des solutions et agit en toute situation, vitesse de la visualisation"},null,null,{"$f":"IF($H$2=\"G\",'Skills explications FTEM'!#REF!,'Skills explications FTEM'!#REF!)","v":{"$error":"#REF!"}},null,null,null,{"$f":"IFERROR(AVERAGE(O30:O34),\"-\")","v":"-"},null,{"$f":"IFERROR(AVERAGE(Q30:Q34),\"-\")","v":"-"},null,{"$f":"IFERROR(AVERAGE(S30:S34),\"-\")","v":"-"},null,{"$f":"IFERROR(AVERAGE(U30:U34),\"-\")","v":"-"},null,{"$f":"IFERROR(AVERAGE(W30:W34),\"-\")","v":"-"},null,{"$f":"IFERROR(AVERAGE(Y30:Y34),\"-\")","v":"-"}]
[{"$f":"'Skills explications FTEM'!A22:A22","v":0},null,null,{"$f":"IF($H$2=\"G\",'Skills explications FTEM'!F22,'Skills explications FTEM'!B22)","v":"Sensibilisation offensive"},null,null,{"$f":"IF($H$2=\"G\",'Skills explications FTEM'!G22,'Skills explications FTEM'!C22)","v":"Se démarque, anticipation des situations de jeu, ouvre des zones libres pour ses coéquipiers, se place pour marquer, vitesse de mise sous pression, communication"},null,null,{"$f":"IF($H$2=\"G\",'Skills explications FTEM'!#REF!,'Skills explications FTEM'!#REF!)","v":{"$error":"#REF!"}}]
[null,null,null,{"$f":"IF($H$2=\"G\",'Skills explications FTEM'!F23,'Skills explications FTEM'!B23)","v":"Sensibilisation défensive"},null,null,{"$f":"IF($H$2=\"G\",'Skills explications FTEM'!G23,'Skills explications FTEM'!C23)","v":"Garde la position «inside», protège le slot, rassure les coéquipiers, support, anticipe les lignes de passe, bloque les tirs. Réduit rapidement la distance sur l'adversaire, communication"},null,null,{"$f":"IF($H$2=\"G\",'Skills explications FTEM'!#REF!,'Skills explications FTEM'!#REF!)","v":{"$error":"#REF!"}}]
[{"$f":"'Skills explications FTEM'!A23:A23","v":0},null,null,{"$f":"IF($H$2=\"G\",'Skills explications FTEM'!F24,'Skills explications FTEM'!B24)","v":"Gestion du puck"},null,null,{"$f":"IF($H$2=\"G\",'Skills explications FTEM'!G24,'Skills explications FTEM'!C24)","v":"Fait le bon choix en fonction de la situation, support, surnombre"},null,null,{"$f":"IF($H$2=\"G\",'Skills explications FTEM'!#REF!,'Skills explications FTEM'!#REF!)","v":{"$error":"#REF!"}}]
[{"$f":"'Skills explications FTEM'!A25:A25","v":0},null,null,{"$f":"IF($H$2=\"G\",'Skills explications FTEM'!F25,'Skills explications FTEM'!B25)","v":"Créativité"},null,null,{"$f":"IF($H$2=\"G\",'Skills explications FTEM'!G25,'Skills explications FTEM'!C25)","v":"Prises de décision surprenantes, sens du but"},null,null,{"$f":"IF($H$2=\"G\",'Skills explications FTEM'!#REF!,'Skills explications FTEM'!#REF!)","v":{"$error":"#REF!"}}]
[{"$f":"'Skills explications FTEM'!A26:A26","v":"PERSONALITY"},null,null,{"$f":"'Skills explications FTEM'!B26","v":"COMPÉTENCES"},null,null,{"$f":"'Skills explications FTEM'!C26","v":"OBSERVATION"},null,null,{"$f":"'Skills explications FTEM'!H26","v":0},null,null,null,"Date1",null,"Date2",null,"Date3",null,"Date4",null,"Date5",null,"Player",null,"BUT","MESURES:\nSPECIFIQUE, MESURABLES, REALISTE",null,null,null,null,null,null,"DELAI","CONTRÔLE DU BUT","Date"]
[{"$f":"'Skills explications FTEM'!A27:A27","v":"PERSONNALITÉ"},null,null,{"$f":"IF($H$2=\"G\",'Skills explications FTEM'!F27,'Skills explications FTEM'!B27)","v":"Confiance en soi"},null,null,{"$f":"IF($H$2=\"G\",'Skills explications FTEM'!G27,'Skills explications FTEM'!C27)","v":"Est en confiance,«I can do it», peut estimer ses capacités (connaît ses qualités et ses défauts), peut réaliser ses qualités avec constance, est courageux et prend des risques calculés"},null,null,{"$f":"IF($H$2=\"G\",'Skills explications FTEM'!#REF!,'Skills explications FTEM'!#REF!)","v":{"$error":"#REF!"}},null,null,null,{"$f":"IFERROR(AVERAGE(O36:O40),\"-\")","v":"-"},null,null,null,{"$f":"IFERROR(AVERAGE(S36:S40),\"-\")","v":"-"},null,{"$f":"IFERROR(AVERAGE(U36:U40),\"-\")","v":"-"},null,{"$f":"IFERROR(AVERAGE(W36:W40),\"-\")","v":"-"},null,{"$f":"IFERROR(AVERAGE(Y36:Y40),\"-\")","v":"-"}]
[{"$f":"'Skills explications FTEM'!A28:A28","v":0},null,null,{"$f":"IF($H$2=\"G\",'Skills explications FTEM'!F28,'Skills explications FTEM'!B28)","v":"Facultés d'apprentissage"},null,null,{"$f":"IF($H$2=\"G\",'Skills explications FTEM'!G28,'Skills explications FTEM'!C28)","v":"A une bonne perception (il peut mémoriser et peut réaliser), il a de la personnalité, essaie d'apprendre de ses erreurs et est entreprenant"},null,null,{"$f":"IF($H$2=\"G\",'Skills explications FTEM'!#REF!,'Skills explications FTEM'!#REF!)","v":{"$error":"#REF!"}}]
[{"$f":"'Skills explications FTEM'!A29:A29","v":0},null,null,{"$f":"IF($H$2=\"G\",'Skills explications FTEM'!F29,'Skills explications FTEM'!B29)","v":"Prise de responsabilités"},null,null,{"$f":"IF($H$2=\"G\",'Skills explications FTEM'!G29,'Skills explications FTEM'!C29)","v":"Prend la responsabilité de ses performances et de son développement, est-il autonome, soigne-t-il les détails, a beaucoup d'engagement dans tous les domaines"},null,null,{"$f":"IF($H$2=\"G\",'Skills explications FTEM'!#REF!,'Skills explications FTEM'!#REF!)","v":{"$error":"#REF!"}}]
[null,null,null,{"$f":"IF($H$2=\"G\",'Skills explications FTEM'!F30,'Skills explications FTEM'!B30)","v":"Motivation"},null,null,{"$f":"IF($H$2=\"G\",'Skills explications FTEM'!G30,'Skills explications FTEM'!C30)","v":"Est toujours motivé, veut sans cesse se développer et apprendre, veut être le premier et avoir du succès, n'abandonne jamais et ne se laisse pas influencer par les échesc"},null,null,{"$f":"IF($H$2=\"G\",'Skills explications FTEM'!#REF!,'Skills explications FTEM'!#REF!)","v":{"$error":"#REF!"}}]
[{"$f":"'Skills explications FTEM'!A31:A31","v":0},null,null,{"$f":"IF($H$2=\"G\",'Skills explications FTEM'!F31,'Skills explications FTEM'!B31)","v":"Performance style de vie"},null,null,{"$f":"IF($H$2=\"G\",'Skills explications FTEM'!G31,'Skills explications FTEM'!C31)","v":"Gère bien son environnement et son temps libre selon les principes de la performance, obstiné, tenace et axé sur l'objectif, accent sur sa propre performance, est courageux et peut s'imposer contre la résistance, les défis le motivent"},null,null,{"$f":"IF($H$2=\"G\",'Skills explications FTEM'!#REF!,'Skills explications FTEM'!#REF!)","v":{"$error":"#REF!"}}]
[{"$f":"'Skills explications FTEM'!A32:A32","v":"FORCE MENTALE"},null,null,{"$f":"IF($H$2=\"G\",'Skills explications FTEM'!F32,'Skills explications FTEM'!B32)","v":"Engagement"},null,null,{"$f":"IF($H$2=\"G\",'Skills explications FTEM'!G32,'Skills explications FTEM'!C32)","v":"Démontre beaucoup d'intensité dans les entraînements et les matchs, donne toujours son maximum et veut sans cesse repousser ses limites, a-t-il de la passion, s'efforce-t-il de s'entraîner avec une excellente qualité"},null,null,{"$f":"IF($H$2=\"G\",'Skills explications FTEM'!#REF!,'Skills explications FTEM'!#REF!)","v":{"$error":"#REF!"}},null,null,null,{"$f":"IFERROR(AVERAGE(O41:O45),\"-\")","v":"-"},null,null,null,{"$f":"IFERROR(AVERAGE(S41:S45),\"-\")","v":"-"},null,{"$f":"IFERROR(AVERAGE(U41:U45),\"-\")","v":"-"},null,{"$f":"IFERROR(AVERAGE(W41:W45),\"-\")","v":"-"},null,{"$f":"IFERROR(AVERAGE(Y41:Y45),\"-\")","v":"-"}]
[{"$f":"'Skills explications FTEM'!A33:A33","v":0},null,null,{"$f":"IF($H$2=\"G\",'Skills explications FTEM'!F33,'Skills explications FTEM'!B33)","v":"Préparation"},null,null,{"$f":"IF($H$2=\"G\",'Skills explications FTEM'!G33,'Skills explications FTEM'!C33)","v":"Se prépare-t-il toujours bien, mentalement et physiquement, se prépare-t-il toujours bien pour obtenir le niveau de performance idéal (ILZ)"},null,null,{"$f":"IF($H$2=\"G\",'Skills explications FTEM'!#REF!,'Skills explications FTEM'!#REF!)","v":{"$error":"#REF!"}}]
[null,null,null,{"$f":"IF($H$2=\"G\",'Skills explications FTEM'!F34,'Skills explications FTEM'!B34)","v":"Coaching personnel"},null,null,{"$f":"IF($H$2=\"G\",'Skills explications FTEM'!G34,'Skills explications FTEM'!C34)","v":"A-t-il de bonnes facultés de concentration, peut-il maintenir son niveau de performance idéal (ILZ) dans les entraînements et les matchs, peut-il appliquer ses techniques de base, est-il résistant aux influences et pensées négatives, est-il conscient de son attitude corporelle et peut-il l'influencer"},null,null,{"$f":"IF($H$2=\"G\",'Skills explications FTEM'!#REF!,'Skills explications FTEM'!#REF!)","v":{"$error":"#REF!"}}]
[{"$f":"'Skills explications FTEM'!A34:A34","v":0},null,null,{"$f":"IF($H$2=\"G\",'Skills explications FTEM'!F35,'Skills explications FTEM'!B35)","v":"Gestion des énergies"},null,null,{"$f":"IF($H$2=\"G\",'Skills explications FTEM'!G35,'Skills explications FTEM'!C35)","v":"Peut-il gérer ses propres énergies, prend-il soin de sa récupération, peut-il gérer les moments où il faut se donner à fond ou quand il faut déconnecter, bouton On/Off"},null,null,{"$f":"IF($H$2=\"G\",'Skills explications FTEM'!#REF!,'Skills explications FTEM'!#REF!)","v":{"$error":"#REF!"}}]
[{"$f":"'Skills explications FTEM'!A36:A36","v":0},null,null,{"$f":"IF($H$2=\"G\",'Skills explications FTEM'!F36,'Skills explications FTEM'!B36)","v":"Contrôle des émotions"},null,null,{"$f":"IF($H$2=\"G\",'Skills explications FTEM'!G36,'Skills explications FTEM'!C36)","v":"Peut-il gérer ses propres émotions et impulsions, reste-t-il sous contrôle lorsqu'il y a une grande pression, peut-il rester calme lorsque le niveau émotionnel et de frustration est élevé"},null,null,{"$f":"IF($H$2=\"G\",'Skills explications FTEM'!#REF!,'Skills explications FTEM'!#REF!)","v":{"$error":"#REF!"}}]
[{"$f":"'Skills explications FTEM'!A37:A37","v":"PHYSIQUE"},null,null,{"$f":"IF($H$2=\"G\",'Skills explications FTEM'!F37,'Skills explications FTEM'!B37)","v":"Production de la performance"},null,null,{"$f":"IF($H$2=\"G\",'Skills explications FTEM'!G37,'Skills explications FTEM'!C37)","v":"A-t-il la puissance, la force, la vitesse nécessaires dans les jambes et le haut du corps (facteurs neuromusculaires)"},null,null,{"$f":"IF($H$2=\"G\",'Skills explications FTEM'!#REF!,'Skills explications FTEM'!#REF!)","v":{"$error":"#REF!"}},null,null,null,{"$f":"IFERROR(AVERAGE(O46:O50),\"-\")","v":"-"},null,null,null,{"$f":"IFERROR(AVERAGE(S46:S50),\"-\")","v":"-"},null,{"$f":"IFERROR(AVERAGE(U46:U50),\"-\")","v":"-"},null,{"$f":"IFERROR(AVERAGE(W46:W50),\"-\")","v":"-"},null,{"$f":"IFERROR(AVERAGE(Y46:Y50),\"-\")","v":"-"}]
[{"$f":"'Skills explications FTEM'!A38:A38","v":0},null,null,{"$f":"IF($H$2=\"G\",'Skills explications FTEM'!F38,'Skills explications FTEM'!B38)","v":"Spécifique au sport, résistant à l'effort"},null,null,{"$f":"IF($H$2=\"G\",'Skills explications FTEM'!G38,'Skills explications FTEM'!C38)","v":"Est-il capable de maintenir sa puissance, sa force, sa vitesse durant un long temps de glace et peut-il récupérer complètement entre ses engagements (facteurs du métabolisme et cardiovasculaire)"},null,null,{"$f":"IF($H$2=\"G\",'Skills explications FTEM'!#REF!,'Skills explications FTEM'!#REF!)","v":{"$error":"#REF!"}}]
[null,null,null,{"$f":"IF($H$2=\"G\",'Skills explications FTEM'!F39,'Skills explications FTEM'!B39)","v":"Santé / Prévention"},null,null,{"$f":"IF($H$2=\"G\",'Skills explications FTEM'!G39,'Skills explications FTEM'!C39)","v":"A-t-il la stabilité nécessaire (p. ex. ses appuis) et la mobilité nécessaire au niveau des articulations centrales"},null,null,{"$f":"IF($H$2=\"G\",'Skills explications FTEM'!#REF!,'Skills explications FTEM'!#REF!)","v":{"$error":"#REF!"}}]
[{"$f":"'Skills explications FTEM'!A39:A39","v":0},null,null,{"$f":"IF($H$2=\"G\",'Skills explications FTEM'!F40,'Skills explications FTEM'!B40)","v":"Mobilité / Coordination"},null,null,{"$f":"IF($H$2=\"G\",'Skills explications FTEM'!G40,'Skills explications FTEM'!C40)","v":"Gère-t-il ses aptitudes de mouvements de base, qui sont un fournisseur important des fonctions spécifiques «Skills» pour être efficace"},null,null,{"$f":"IF($H$2=\"G\",'Skills explications FTEM'!#REF!,'Skills explications FTEM'!#REF!)","v":{"$error":"#REF!"}}]
[{"$f":"'Skills explications FTEM'!A41:A41","v":0},null,null,{"$f":"IF($H$2=\"G\",'Skills explications FTEM'!F41,'Skills explications FTEM'!B41)","v":"Robustesse"},null,null,{"$f":"IF($H$2=\"G\",'Skills explications FTEM'!G41,'Skills explications FTEM'!C41)","v":"A-t-il la force de base nécessaire (tension corporelle) pour gagner des duels et résister aux charges"},null,null,{"$f":"IF($H$2=\"G\",'Skills explications FTEM'!#REF!,'Skills explications FTEM'!#REF!)","v":{"$error":"#REF!"}}]

{"sheet":"23","index":26,"n_rows":50,"n_cols":36,"rows_kept":50,"cut":false,"hidden":false,"merged":[[45,25,49,25],[45,26,49,32],[45,34,49,34],[40,23,44,23],[42,3,42,5],[42,6,42,11],[44,3,44,5],[44,6,44,11],[40,0,44,2],[40,3,40,5],[40,6,40,11],[40,12,44,12],[40,13,44,13],[40,15,44,15],[45,0,49,2],[45,3,45,5],[45,6,45,11],[45,12,49,12],[45,23,49,23],[47,3,47,5],[47,6,47,11],[48,3,48,5],[48,6,48,11],[49,3,49,5],[34,21,34,22],[35,17,39,17],[35,19,39,19],[35,21,39,21],[36,3,36,5],[36,6,36,11],[38,3,38,5],[38,6,38,11],[40,17,44,17],[40,19,44,19],[40,21,44,21],[43,3,43,5],[43,6,43,11],[37,3,37,5],[37,6,37,11],[41,3,41,5],[41,6,41,11],[29,0,33,2],[29,3,29,5],[29,6,29,11],[29,12,33,12],[29,13,33,13],[29,15,33,15],[34,23,34,24],[34,26,34,32],[35,0,39,2],[35,3,35,5],[35,6,35,11],[35,12,39,12],[35,13,39,13],[35,15,39,15],[39,3,39,5],[39,6,39,11],[35,23,39,23],[34,0,34,2],[34,3,34,5],[34,6,34,11],[34,13,34,14],[34,15,34,16],[34,17,34,18],[34,19,34,20],[23,21,28,21],[23,23,28,23],[24,3,24,5],[24,6,24,11],[28,3,28,5],[28,6,28,11],[33,3,33,5],[33,6,33,11],[29,23,33,23],[29,17,33,17],[29,19,33,19],[29,21,33,21],[30,3,30,5],[30,6,30,11],[31,3,31,5],[31,6,31,11],[25,3,25,5],[25,6,25,11],[32,3,32,5],[32,6,32,11],[18,15,22,15],[18,17,22,17],[18,19,22,19],[18,21,22,21],[18,23,22,23],[22,3,22,5],[22,6,22,11],[23,0,28,2],[23,3,23,5],[23,6,23,11],[23,12,28,12],[23,13,28,13],[23,15,28,15],[23,17,28,17],[18,0,22,2],[18,3,18,5],[18,6,18,11],[18,12,22,12],[18,13,22,13],[19,3,19,5],[19,6,19,11],[20,3,20,5],[20,6,20,11],[23,19,28,19],[12,23,16,23],[16,3,16,5],[16,6,16,11],[17,0,17,2],[17,3,17,5],[17,6,17,11],[17,13,17,14],[17,15,17,16],[17,17,17,18],[17,19,17,20],[17,21,17,22],[17,23,17,24],[12,0,16,2],[12,3,12,5],[12,6,12,11],[12,12,16,12],[12,13,16,13],[12,15,16,15],[12,17,16,17],[12,19,16,19],[12,21,16,21],[13,3,13,5],[13,6,13,11],[14,3,14,5],[11,0,11,2],[11,3,11,5],[11,13,11,14],[11,15,11,16],[11,17,11,18],[11,19,11,20],[11,21,11,22],[11,23,11,24],[11,26,11,32],[11,6,11,11],[0,33,0,35],[29,25,33,25],[29,26,33,32],[29,34,33,34],[35,25,39,25],[35,26,39,32],[35,34,39,34],[1,0,1,1],[1,2,1,5],[1,10,1,24],[2,0,2,1],[2,2,2,5],[2,11,2,24],[6,0,6,1],[6,2,6,35],[7,0,7,1],[7,2,7,35],[8,0,8,1],[8,2,8,35],[3,0,3,1],[3,10,3,24],[4,0,4,1],[4,2,4,5],[4,10,4,24],[49,6,49,11],[45,13,49,13],[45,15,49,15],[45,17,49,17],[45,19,49,19],[45,21,49,21],[0,0,0,24],[0,25,0,26],[0,27,0,32],[10,0,10,24],[10,25,10,35],[40,25,44,25],[40,26,44,32],[40,34,44,34],[12,25,16,25],[12,26,16,32],[12,34,16,34],[18,25,22,25],[18,26,22,32],[18,34,22,34],[23,25,28,25],[23,26,28,32],[23,34,28,34],[17,26,17,32],[46,3,46,5],[46,6,46,11],[14,6,14,11],[15,3,15,5],[15,6,15,11],[21,3,21,5],[21,6,21,11],[26,3,26,5],[26,6,26,11],[27,3,27,5],[27,6,27,11]]}
["Infos personelles",null,null,null,null,null,null,null,null,null,null,null,null,null,null,null,null,null,null,null,null,null,null,null,null,"Predispositions",null,"Evaluations",null,null,null,null,null,"Rating"]
["PRENOM",null,{"$f":"IF(ISBLANK(VLOOKUP(23,Tabelle3[],3,0)),\"-\",VLOOKUP(23,Tabelle3[],3,0))","v":"-"},null,null,null,"POSITION",null,null,"ADRESSE",{"$f":"IF(ISBLANK(VLOOKUP(23,Tabelle3[],5,0)),\"-\",VLOOKUP(23,Tabelle3[],5,0))","v":"-"},null,null,null,null,null,null,null,null,null,null,null,null,null,null,"\"àage\" (Biologique/age relatif)",null,"Date 1",null,null,"cm",null,"Kg",null,"AUSGEZEICHNET",5]
["NOM",null,{"$f":"IF(ISBLANK(VLOOKUP(23,Tabelle3[],2,0)),\"-\",VLOOKUP(23,Tabelle3[],2,0))","v":"-"},null,null,null,"CANNE",null,null,"LIEU",{"$f":"IF(ISBLANK(VLOOKUP(23,Tabelle3[],7,0)),\"-\",VLOOKUP(23,Tabelle3[],7,0))","v":"-"},{"$f":"IF(ISBLANK(VLOOKUP(23,Tabelle3[],6,0)),\"-\",VLOOKUP(23,Tabelle3[],6,0))","v":"-"},null,null,null,null,null,null,null,null,null,null,null,null,null,"predispositions",null,"Date 2",null,null,"cm",null,"Kg",null,"GUT",4]
["DATE NAISS.",null,{"$f":"IF(ISBLANK(VLOOKUP(23,Tabelle3[],14,0)),\"-\",VLOOKUP(23,Tabelle3[],14,0))","v":"-"},{"$f":"IF(ISBLANK(VLOOKUP(23,Tabelle3[],15,0)),\"-\",VLOOKUP(23,Tabelle3[],15,0))","v":"-"},{"$f":"IF(ISBLANK(VLOOKUP(23,Tabelle3[],16,0)),\"-\",VLOOKUP(23,Tabelle3[],16,0))","v":"-"},null,"GRANDEUR",null,"cm","PHONE",{"$f":"IF(ISBLANK(VLOOKUP(23,Tabelle3[],8,0)),\"-\",VLOOKUP(23,Tabelle3[],8,0))","v":"-"},null,null,null,null,null,null,null,null,null,null,null,null,null,null,"Entourage",null,"Date 3",null,null,"cm",null,"Kg",null,"DURCHSCHNITT",3]
["SEXE",null,{"$f":"IF(ISBLANK(VLOOKUP(23,Tabelle3[],13,0)),\"-\",VLOOKUP(23,Tabelle3[],13,0))","v":"-"},null,null,null,"POIDS",null,"Kg","E-Mail",{"$f":"IF(ISBLANK(VLOOKUP(23,Tabelle3[],9,0)),\"-\",VLOOKUP(23,Tabelle3[],9,0))","v":"-"},null,null,null,null,null,null,null,null,null,null,null,null,null,null,null,null,"Date 4",null,null,"cm",null,"Kg",null,"MANGELHAFT",2]
[null,null,null,null,null,null,null,null,null,null,null,null,null,null,null,null,null,null,null,null,null,null,null,null,null,null,null,"Date 5",null,null,"cm",null,"Kg",null,"UNGENÜGEND",1]
["Vision",null,"xxx"]
["Next step",null,"xxx"]
["Profil du Joueur",null,"xxx"]
[]
["EVALUATION (COACH / JOUEUR)",null,null,null,null,null,null,null,null,null,null,null,null,null,null,null,null,null,null,null,null,null,null,null,null,"SMART"]
[{"$f":"'Skills explications FTEM'!A3:A3","v":"TEAM"},null,null,{"$f":"'Skills explications FTEM'!B3","v":"COMPÉTENCES"},null,null,{"$f":"'Skills explications FTEM'!C3","v":"OBSERVATION"},null,null,{"$f":"'Skills explications FTEM'!H3","v":0},null,null,"Final","Date1",null,"Date2",null,"Date3",null,"Date4",null,"Date5",null,"Player",null,"BUT","MESURES:\nSPECIFIQUE, MESURABLES, REALISTE",null,null,null,null,null,null,"DELAI","CONTRÔLE DU BUT","Date"]
[{"$f":"'Skills explications FTEM'!A4:A4","v":"ÉQUIPE"},null,null,{"$f":"IF($H$2=\"G\",'Skills explications FTEM'!F4,'Skills explications FTEM'!B4)","v":"Communication"},null,null,{"$f":"IF($H$2=\"G\",'Skills explications FTEM'!G4,'Skills explications FTEM'!C4)","v":"Respect et ouverture dans ses relations, confiance comme base, traite les conflits sans perturber la stabilité du groupe, communique avec ses coéquipiers, les entraîneurs et les fonctionnaires avec les mêmes valeurs"},null,null,{"$f":"IF($H$2=\"G\",'Skills explications FTEM'!#REF!,'Skills explications FTEM'!#REF!)","v":{"$error":"#REF!"}},null,null,null,{"$f":"IFERROR(AVERAGE(O13:O17),\"-\")","v":"-"},null,{"$f":"IFERROR(AVERAGE(Q13:Q17),\"-\")","v":"-"},null,{"$f":"IFERROR(AVERAGE(S13:S17),\"-\")","v":"-"},null,{"$f":"IFERROR(AVERAGE(U13:U17),\"-\")","v":"-"},null,{"$f":"IFERROR(AVERAGE(W13:W17),\"-\")","v":"-"},null,{"$f":"IFERROR(AVERAGE(Y13:Y17),\"-\")","v":"-"}]
[null,null,null,{"$f":"IF($H$2=\"G\",'Skills explications FTEM'!F5,'Skills explications FTEM'!B5)","v":"Capacité de jouer en équipe"},null,null,{"$f":"IF($H$2=\"G\",'Skills explications FTEM'!G5,'Skills explications FTEM'!C5)","v":"Intégration dans le groupe, définit et réalise des objectifs communs, NOUS avant le MOI, participe au bon esprit d'équipe et à un bon climat de travail"},null,null,{"$f":"IF($H$2=\"G\",'Skills explications FTEM'!#REF!,'Skills explications FTEM'!#REF!)","v":{"$error":"#REF!"}}]
[null,null,null,{"$f":"IF($H$2=\"G\",'Skills explications FTEM'!F6,'Skills explications FTEM'!B6)","v":"Leadership"},null,null,{"$f":"IF($H$2=\"G\",'Skills explications FTEM'!G6,'Skills explications FTEM'!C6)","v":"Prend des responsabilités dans le groupe, essaie de donner de la valeur à ses coéquipiers et au groupe, influence positivement la dynamique de groupe"},null,null,{"$f":"IF($H$2=\"G\",'Skills explications FTEM'!#REF!,'Skills explications FTEM'!#REF!)","v":{"$error":"#REF!"}}]
[null,null,null,{"$f":"IF($H$2=\"G\",'Skills explications FTEM'!F7,'Skills explications FTEM'!B7)","v":"Répartition des rôles"},null,null,{"$f":"IF($H$2=\"G\",'Skills explications FTEM'!G7,'Skills explications FTEM'!C7)","v":"Connaît son rôle et le réalise, est conscient de sa position dans l'équipe et le système, met ses compétences à disposition de l'équipe"},null,null,{"$f":"IF($H$2=\"G\",'Skills explications FTEM'!#REF!,'Skills explications FTEM'!#REF!)","v":{"$error":"#REF!"}}]
[{"$f":"'Skills explications FTEM'!A8:A8","v":0},null,null,{"$f":"IF($H$2=\"G\",'Skills explications FTEM'!F8,'Skills explications FTEM'!B8)","v":"Respect"},null,null,{"$f":"IF($H$2=\"G\",'Skills explications FTEM'!G8,'Skills explications FTEM'!C8)","v":"Relations respectueuses avec les coéquipiers, les entraîneurs, les adversaires, les arbitres et le staff; respect des règles, des principes du fairplay (y compris antidopage)"},null,null,{"$f":"IF($H$2=\"G\",'Skills explications FTEM'!#REF!,'Skills explications FTEM'!#REF!)","v":{"$error":"#REF!"}}]
[{"$f":"'Skills explications FTEM'!A9:A9","v":"ON ICE"},null,null,{"$f":"'Skills explications FTEM'!B9","v":"COMPÉTENCES"},null,null,{"$f":"'Skills explications FTEM'!C9","v":"OBSERVATION"},null,null,{"$f":"'Skills explications FTEM'!H9","v":0},null,null,null,"Date1",null,"Date2",null,"Date3",null,"Date4",null,"Date5",null,"Player",null,"BUT","MESURES:\nSPECIFIQUE, MESURABLES, REALISTE",null,null,null,null,null,null,"DELAI","CONTRÔLE DU BUT","Date"]
[{"$f":"'Skills explications FTEM'!A10:A10","v":"PATINAGE"},null,null,{"$f":"IF($H$2=\"G\",'Skills explications FTEM'!F10,'Skills explications FTEM'!B10)","v":"Vitesse de patinage"},null,null,{"$f":"IF($H$2=\"G\",'Skills explications FTEM'!G10,'Skills explications FTEM'!C10)","v":"Accélération, départ, explosivité des 3 premiers pas, fréquence"},null,null,{"$f":"IF($H$2=\"G\",'Skills explications FTEM'!#REF!,'Skills explications FTEM'!#REF!)","v":{"$error":"#REF!"}},null,null,null,{"$f":"IFERROR(AVERAGE(O19:O23),\"-\")","v":"-"},null,{"$f":"IFERROR(AVERAGE(Q19:Q23),\"-\")","v":"-"},null,{"$f":"IFERROR(AVERAGE(S19:S23),\"-\")","v":"-"},null,{"$f":"IFERROR(AVERAGE(U19:U23),\"-\")","v":"-"},null,{"$f":"IFERROR(AVERAGE(W19:W23),\"-\")","v":"-"},null,{"$f":"IFERROR(AVERAGE(Y19:Y23),\"-\")","v":"-"}]
[{"$f":"'Skills explications FTEM'!A11:A11","v":0},null,null,{"$f":"IF($H$2=\"G\",'Skills explications FTEM'!F11,'Skills explications FTEM'!B11)","v":"Vitesse, rapidité"},null,null,{"$f":"IF($H$2=\"G\",'Skills explications FTEM'!G11,'Skills explications FTEM'!C11)","v":"Vitesse, faculté de glisse, avant et arrière, économie des forces"},null,null,{"$f":"IF($H$2=\"G\",'Skills explications FTEM'!#REF!,'Skills explications FTEM'!#REF!)","v":{"$error":"#REF!"}}]
[{"$f":"'Skills explications FTEM'!A12:A12","v":0},null,null,{"$f":"IF($H$2=\"G\",'Skills explications FTEM'!F12,'Skills explications FTEM'!B12)","v":"Agilité"},null,null,{"$f":"IF($H$2=\"G\",'Skills explications FTEM'!G12,'Skills explications FTEM'!C12)","v":"Changements de direction, pivots, stop et start «Nummelin»"},null,null,{"$f":"IF($H$2=\"G\",'Skills explications FTEM'!#REF!,'Skills explications FTEM'!#REF!)","v":{"$error":"#REF!"}},null,null,null,{"$f":"IFERROR(AVERAGE(O21:O23),\"-\")","v":"-"},null,{"$f":"IFERROR(AVERAGE(Q21:Q23),\"-\")","v":"-"},null,{"$f":"IFERROR(AVERAGE(S21:S23),\"-\")","v":"-"},null,{"$f":"IFERROR(AVERAGE(U21:U23),\"-\")","v":"-"},null,{"$f":"IFERROR(AVERAGE(W21:W23),\"-\")","v":"-"},null,"-"]
[null,null,null,{"$f":"IF($H$2=\"G\",'Skills explications FTEM'!F13,'Skills explications FTEM'!B13)","v":"Balance"},null,null,{"$f":"IF($H$2=\"G\",'Skills explications FTEM'!G13,'Skills explications FTEM'!C13)","v":"Equilibre, faculté d'être sur ses appuis, position basse, 1 ou 2 jambes"},null,null,{"$f":"IF($H$2=\"G\",'Skills explications FTEM'!#REF!,'Skills explications FTEM'!#REF!)","v":{"$error":"#REF!"}}]
[{"$f":"'Skills explications FTEM'!#REF!","v":{"$error":"#REF!"}},null,null,{"$f":"IF($H$2=\"G\",'Skills explications FTEM'!F14,'Skills explications FTEM'!B14)","v":"Patinage arrière"},null,null,{"$f":"IF($H$2=\"G\",'Skills explications FTEM'!G14,'Skills explications FTEM'!C14)","v":"Accélération, vitesse, équilibre "},null,null,{"$f":"IF($H$2=\"G\",'Skills explications FTEM'!#REF!,'Skills explications FTEM'!#REF!)","v":{"$error":"#REF!"}}]
[{"$f":"'Skills explications FTEM'!A15:A15","v":"SKILLS"},null,null,{"$f":"IF($H$2=\"G\",'Skills explications FTEM'!F15,'Skills explications FTEM'!B15)","v":"Tirer"},null,null,{"$f":"IF($H$2=\"G\",'Skills explications FTEM'!G15,'Skills explications FTEM'!C15)","v":"Efficience (pas d'espace et de temps), variantes, degré de surprise (déclenchement rapide), précision, puissance (conclusion tactique)"},null,null,{"$f":"IF($H$2=\"G\",'Skills explications FTEM'!#REF!,'Skills explications FTEM'!#REF!)","v":{"$error":"#REF!"}},null,null,null,{"$f":"IFERROR(AVERAGE(O24:O29),\"-\")","v":"-"},null,{"$f":"IFERROR(AVERAGE(Q24:Q29),\"-\")","v":"-"},null,{"$f":"IFERROR(AVERAGE(S24:S29),\"-\")","v":"-"},null,{"$f":"IFERROR(AVERAGE(U24:U29),\"-\")","v":"-"},null,{"$f":"IFERROR(AVERAGE(W24:W29),\"-\")","v":"-"},null,{"$f":"IFERROR(AVERAGE(Y24:Y29),\"-\")","v":"-"}]
[{"$f":"'Skills explications FTEM'!A16:A16","v":0},null,null,{"$f":"IF($H$2=\"G\",'Skills explications FTEM'!F16,'Skills explications FTEM'!B16)","v":"Passer"},null,null,{"$f":"IF($H$2=\"G\",'Skills explications FTEM'!G16,'Skills explications FTEM'!C16)","v":"Donne la passe (distance, passe flipée en revers), réception de la passe (précision, timing, coup droit, revers, patins), vitesse du puck"},null,null,{"$f":"IF($H$2=\"G\",'Skills explications FTEM'!#REF!,'Skills explications FTEM'!#REF!)","v":{"$error":"#REF!"}}]
[{"$f":"'Skills explications FTEM'!A17:A17","v":0},null,null,{"$f":"IF($H$2=\"G\",'Skills explications FTEM'!F17,'Skills explications FTEM'!B17)","v":"Travail de canne, conduite du puck"},null,null,{"$f":"IF($H$2=\"G\",'Skills explications FTEM'!G17,'Skills explications FTEM'!C17)","v":"Puck sur la palette, intercepte les lignes de passe, déviation, contrôle de la canne de l'adversaire"},null,null,{"$f":"IF($H$2=\"G\",'Skills explications FTEM'!#REF!,'Skills explications FTEM'!#REF!)","v":{"$error":"#REF!"}}]
[null,null,null,{"$f":"IF($H$2=\"G\",'Skills explications FTEM'!F18,'Skills explications FTEM'!B18)","v":"Protéger le puck"},null,null,{"$f":"IF($H$2=\"G\",'Skills explications FTEM'!G18,'Skills explications FTEM'!C18)","v":"Contrôle du puck, dribbling, protection du puck, feintes (variantes: avec les patins ou avec et sans la bande), mise au jeu (bully)"},null,null,{"$f":"IF($H$2=\"G\",'Skills explications FTEM'!#REF!,'Skills explications FTEM'!#REF!)","v":{"$error":"#REF!"}}]
[null,null,null,{"$f":"IF($H$2=\"G\",'Skills explications FTEM'!F19,'Skills explications FTEM'!B19)","v":"Jeu du corps (charges)"},null,null,{"$f":"IF($H$2=\"G\",'Skills explications FTEM'!G19,'Skills explications FTEM'!C19)","v":"Faculté de s'imposer physiquement, duels (sur la surface de glace ou à la bande), prendre des checks, lever la tête, niveau de lutte, dur mais correct, bloquer les tirs avec le corps"},null,null,{"$f":"IF($H$2=\"G\",'Skills explications FTEM'!#REF!,'Skills explications FTEM'!#REF!)","v":{"$error":"#REF!"}}]
[{"$f":"'Skills explications FTEM'!A20:A20","v":0},null,null,{"$f":"IF($H$2=\"G\",'Skills explications FTEM'!F20,'Skills explications FTEM'!B20)","v":"-"},null,null,{"$f":"IF($H$2=\"G\",'Skills explications FTEM'!G20,'Skills explications FTEM'!C20)","v":"-"},null,null,{"$f":"IF($H$2=\"G\",'Skills explications FTEM'!#REF!,'Skills explications FTEM'!#REF!)","v":{"$error":"#REF!"}}]
[{"$f":"'Skills explications FTEM'!A21:A21","v":"HOCKEY SENSE"},null,null,{"$f":"IF($H$2=\"G\",'Skills explications FTEM'!F21,'Skills explications FTEM'!B21)","v":"Intelligence de jeu"},null,null,{"$f":"IF($H$2=\"G\",'Skills explications FTEM'!G21,'Skills explications FTEM'!C21)","v":"Voit les zones libres avec joueurs et crée des situations de surnombre, trouve des solutions et agit en toute situation, vitesse de la visualisation"},null,null,{"$f":"IF($H$2=\"G\",'Skills explications FTEM'!#REF!,'Skills explications FTEM'!#REF!)","v":{"$error":"#REF!"}},null,null,null,{"$f":"IFERROR(AVERAGE(O30:O34),\"-\")","v":"-"},null,{"$f":"IFERROR(AVERAGE(Q30:Q34),\"-\")","v":"-"},null,{"$f":"IFERROR(AVERAGE(S30:S34),\"-\")","v":"-"},null,{"$f":"IFERROR(AVERAGE(U30:U34),\"-\")","v":"-"},null,{"$f":"IFERROR(AVERAGE(W30:W34),\"-\")","v":"-"},null,{"$f":"IFERROR(AVERAGE(Y30:Y34),\"-\")","v":"-"}]
[{"$f":"'Skills explications FTEM'!A22:A22","v":0},null,null,{"$f":"IF($H$2=\"G\",'Skills explications FTEM'!F22,'Skills explications FTEM'!B22)","v":"Sensibilisation offensive"},null,null,{"$f":"IF($H$2=\"G\",'Skills explications FTEM'!G22,'Skills explications FTEM'!C22)","v":"Se démarque, anticipation des situations de jeu, ouvre des zones libres pour ses coéquipiers, se place pour marquer, vitesse de mise sous pression, communication"},null,null,{"$f":"IF($H$2=\"G\",'Skills explications FTEM'!#REF!,'Skills explications FTEM'!#REF!)","v":{"$error":"#REF!"}}]
[null,null,null,{"$f":"IF($H$2=\"G\",'Skills explications FTEM'!F23,'Skills explications FTEM'!B23)","v":"Sensibilisation défensive"},null,null,{"$f":"IF($H$2=\"G\",'Skills explications FTEM'!G23,'Skills explications FTEM'!C23)","v":"Garde la position «inside», protège le slot, rassure les coéquipiers, support, anticipe les lignes de passe, bloque les tirs. Réduit rapidement la distance sur l'adversaire, communication"},null,null,{"$f":"IF($H$2=\"G\",'Skills explications FTEM'!#REF!,'Skills explications FTEM'!#REF!)","v":{"$error":"#REF!"}}]
[{"$f":"'Skills explications FTEM'!A23:A23","v":0},null,null,{"$f":"IF($H$2=\"G\",'Skills explications FTEM'!F24,'Skills explications FTEM'!B24)","v":"Gestion du puck"},null,null,{"$f":"IF($H$2=\"G\",'Skills explications FTEM'!G24,'Skills explications FTEM'!C24)","v":"Fait le bon choix en fonction de la situation, support, surnombre"},null,null,{"$f":"IF($H$2=\"G\",'Skills explications FTEM'!#REF!,'Skills explications FTEM'!#REF!)","v":{"$error":"#REF!"}}]
[{"$f":"'Skills explications FTEM'!A25:A25","v":0},null,null,{"$f":"IF($H$2=\"G\",'Skills explications FTEM'!F25,'Skills explications FTEM'!B25)","v":"Créativité"},null,null,{"$f":"IF($H$2=\"G\",'Skills explications FTEM'!G25,'Skills explications FTEM'!C25)","v":"Prises de décision surprenantes, sens du but"},null,null,{"$f":"IF($H$2=\"G\",'Skills explications FTEM'!#REF!,'Skills explications FTEM'!#REF!)","v":{"$error":"#REF!"}}]
[{"$f":"'Skills explications FTEM'!A26:A26","v":"PERSONALITY"},null,null,{"$f":"'Skills explications FTEM'!B26","v":"COMPÉTENCES"},null,null,{"$f":"'Skills explications FTEM'!C26","v":"OBSERVATION"},null,null,{"$f":"'Skills explications FTEM'!H26","v":0},null,null,null,"Date1",null,"Date2",null,"Date3",null,"Date4",null,"Date5",null,"Player",null,"BUT","MESURES:\nSPECIFIQUE, MESURABLES, REALISTE",null,null,null,null,null,null,"DELAI","CONTRÔLE DU BUT","Date"]
[{"$f":"'Skills explications FTEM'!A27:A27","v":"PERSONNALITÉ"},null,null,{"$f":"IF($H$2=\"G\",'Skills explications FTEM'!F27,'Skills explications FTEM'!B27)","v":"Confiance en soi"},null,null,{"$f":"IF($H$2=\"G\",'Skills explications FTEM'!G27,'Skills explications FTEM'!C27)","v":"Est en confiance,«I can do it», peut estimer ses capacités (connaît ses qualités et ses défauts), peut réaliser ses qualités avec constance, est courageux et prend des risques calculés"},null,null,{"$f":"IF($H$2=\"G\",'Skills explications FTEM'!#REF!,'Skills explications FTEM'!#REF!)","v":{"$error":"#REF!"}},null,null,null,{"$f":"IFERROR(AVERAGE(O36:O40),\"-\")","v":"-"},null,null,null,{"$f":"IFERROR(AVERAGE(S36:S40),\"-\")","v":"-"},null,{"$f":"IFERROR(AVERAGE(U36:U40),\"-\")","v":"-"},null,{"$f":"IFERROR(AVERAGE(W36:W40),\"-\")","v":"-"},null,{"$f":"IFERROR(AVERAGE(Y36:Y40),\"-\")","v":"-"}]
[{"$f":"'Skills explications FTEM'!A28:A28","v":0},null,null,{"$f":"IF($H$2=\"G\",'Skills explications FTEM'!F28,'Skills explications FTEM'!B28)","v":"Facultés d'apprentissage"},null,null,{"$f":"IF($H$2=\"G\",'Skills explications FTEM'!G28,'Skills explications FTEM'!C28)","v":"A une bonne perception (il peut mémoriser et peut réaliser), il a de la personnalité, essaie d'apprendre de ses erreurs et est entreprenant"},null,null,{"$f":"IF($H$2=\"G\",'Skills explications FTEM'!#REF!,'Skills explications FTEM'!#REF!)","v":{"$error":"#REF!"}}]
[{"$f":"'Skills explications FTEM'!A29:A29","v":0},null,null,{"$f":"IF($H$2=\"G\",'Skills explications FTEM'!F29,'Skills explications FTEM'!B29)","v":"Prise de responsabilités"},null,null,{"$f":"IF($H$2=\"G\",'Skills explications FTEM'!G29,'Skills explications FTEM'!C29)","v":"Prend la responsabilité de ses performances et de son développement, est-il autonome, soigne-t-il les détails, a beaucoup d'engagement dans tous les domaines"},null,null,{"$f":"IF($H$2=\"G\",'Skills explications FTEM'!#REF!,'Skills explications FTEM'!#REF!)","v":{"$error":"#REF!"}}]
[null,null,null,{"$f":"IF($H$2=\"G\",'Skills explications FTEM'!F30,'Skills explications FTEM'!B30)","v":"Motivation"},null,null,{"$f":"IF($H$2=\"G\",'Skills explications FTEM'!G30,'Skills explications FTEM'!C30)","v":"Est toujours motivé, veut sans cesse se développer et apprendre, veut être le premier et avoir du succès, n'abandonne jamais et ne se laisse pas influencer par les échesc"},null,null,{"$f":"IF($H$2=\"G\",'Skills explications FTEM'!#REF!,'Skills explications FTEM'!#REF!)","v":{"$error":"#REF!"}}]
[{"$f":"'Skills explications FTEM'!A31:A31","v":0},null,null,{"$f":"IF($H$2=\"G\",'Skills explications FTEM'!F31,'Skills explications FTEM'!B31)","v":"Performance style de vie"},null,null,{"$f":"IF($H$2=\"G\",'Skills explications FTEM'!G31,'Skills explications FTEM'!C31)","v":"Gère bien son environnement et son temps libre selon les principes de la performance, obstiné, tenace et axé sur l'objectif, accent sur sa propre performance, est courageux et peut s'imposer contre la résistance, les défis le motivent"},null,null,{"$f":"IF($H$2=\"G\",'Skills explications FTEM'!#REF!,'Skills explications FTEM'!#REF!)","v":{"$error":"#REF!"}}]
[{"$f":"'Skills explications FTEM'!A32:A32","v":"FORCE MENTALE"},null,null,{"$f":"IF($H$2=\"G\",'Skills explications FTEM'!F32,'Skills explications FTEM'!B32)","v":"Engagement"},null,null,{"$f":"IF($H$2=\"G\",'Skills explications FTEM'!G32,'Skills explications FTEM'!C32)","v":"Démontre beaucoup d'intensité dans les entraînements et les matchs, donne toujours son maximum et veut sans cesse repousser ses limites, a-t-il de la passion, s'efforce-t-il de s'entraîner avec une excellente qualité"},null,null,{"$f":"IF($H$2=\"G\",'Skills explications FTEM'!#REF!,'Skills explications FTEM'!#REF!)","v":{"$error":"#REF!"}},null,null,null,{"$f":"IFERROR(AVERAGE(O41:O45),\"-\")","v":"-"},null,null,null,{"$f":"IFERROR(AVERAGE(S41:S45),\"-\")","v":"-"},null,{"$f":"IFERROR(AVERAGE(U41:U45),\"-\")","v":"-"},null,{"$f":"IFERROR(AVERAGE(W41:W45),\"-\")","v":"-"},null,{"$f":"IFERROR(AVERAGE(Y41:Y45),\"-\")","v":"-"}]
[{"$f":"'Skills explications FTEM'!A33:A33","v":0},null,null,{"$f":"IF($H$2=\"G\",'Skills explications FTEM'!F33,'Skills explications FTEM'!B33)","v":"Préparation"},null,null,{"$f":"IF($H$2=\"G\",'Skills explications FTEM'!G33,'Skills explications FTEM'!C33)","v":"Se prépare-t-il toujours bien, mentalement et physiquement, se prépare-t-il toujours bien pour obtenir le niveau de performance idéal (ILZ)"},null,null,{"$f":"IF($H$2=\"G\",'Skills explications FTEM'!#REF!,'Skills explications FTEM'!#REF!)","v":{"$error":"#REF!"}}]
[null,null,null,{"$f":"IF($H$2=\"G\",'Skills explications FTEM'!F34,'Skills explications FTEM'!B34)","v":"Coaching personnel"},null,null,{"$f":"IF($H$2=\"G\",'Skills explications FTEM'!G34,'Skills explications FTEM'!C34)","v":"A-t-il de bonnes facultés de concentration, peut-il maintenir son niveau de performance idéal (ILZ) dans les entraînements et les matchs, peut-il appliquer ses techniques de base, est-il résistant aux influences et pensées négatives, est-il conscient de son attitude corporelle et peut-il l'influencer"},null,null,{"$f":"IF($H$2=\"G\",'Skills explications FTEM'!#REF!,'Skills explications FTEM'!#REF!)","v":{"$error":"#REF!"}}]
[{"$f":"'Skills explications FTEM'!A34:A34","v":0},null,null,{"$f":"IF($H$2=\"G\",'Skills explications FTEM'!F35,'Skills explications FTEM'!B35)","v":"Gestion des énergies"},null,null,{"$f":"IF($H$2=\"G\",'Skills explications FTEM'!G35,'Skills explications FTEM'!C35)","v":"Peut-il gérer ses propres énergies, prend-il soin de sa récupération, peut-il gérer les moments où il faut se donner à fond ou quand il faut déconnecter, bouton On/Off"},null,null,{"$f":"IF($H$2=\"G\",'Skills explications FTEM'!#REF!,'Skills explications FTEM'!#REF!)","v":{"$error":"#REF!"}}]
[{"$f":"'Skills explications FTEM'!A36:A36","v":0},null,null,{"$f":"IF($H$2=\"G\",'Skills explications FTEM'!F36,'Skills explications FTEM'!B36)","v":"Contrôle des émotions"},null,null,{"$f":"IF($H$2=\"G\",'Skills explications FTEM'!G36,'Skills explications FTEM'!C36)","v":"Peut-il gérer ses propres émotions et impulsions, reste-t-il sous contrôle lorsqu'il y a une grande pression, peut-il rester calme lorsque le niveau émotionnel et de frustration est élevé"},null,null,{"$f":"IF($H$2=\"G\",'Skills explications FTEM'!#REF!,'Skills explications FTEM'!#REF!)","v":{"$error":"#REF!"}}]
[{"$f":"'Skills explications FTEM'!A37:A37","v":"PHYSIQUE"},null,null,{"$f":"IF($H$2=\"G\",'Skills explications FTEM'!F37,'Skills explications FTEM'!B37)","v":"Production de la performance"},null,null,{"$f":"IF($H$2=\"G\",'Skills explications FTEM'!G37,'Skills explications FTEM'!C37)","v":"A-t-il la puissance, la force, la vitesse nécessaires dans les jambes et le haut du corps (facteurs neuromusculaires)"},null,null,{"$f":"IF($H$2=\"G\",'Skills explications FTEM'!#REF!,'Skills explications FTEM'!#REF!)","v":{"$error":"#REF!"}},null,null,null,{"$f":"IFERROR(AVERAGE(O46:O50),\"-\")","v":"-"},null,null,null,{"$f":"IFERROR(AVERAGE(S46:S50),\"-\")","v":"-"},null,{"$f":"IFERROR(AVERAGE(U46:U50),\"-\")","v":"-"},null,{"$f":"IFERROR(AVERAGE(W46:W50),\"-\")","v":"-"},null,{"$f":"IFERROR(AVERAGE(Y46:Y50),\"-\")","v":"-"}]
[{"$f":"'Skills explications FTEM'!A38:A38","v":0},null,null,{"$f":"IF($H$2=\"G\",'Skills explications FTEM'!F38,'Skills explications FTEM'!B38)","v":"Spécifique au sport, résistant à l'effort"},null,null,{"$f":"IF($H$2=\"G\",'Skills explications FTEM'!G38,'Skills explications FTEM'!C38)","v":"Est-il capable de maintenir sa puissance, sa force, sa vitesse durant un long temps de glace et peut-il récupérer complètement entre ses engagements (facteurs du métabolisme et cardiovasculaire)"},null,null,{"$f":"IF($H$2=\"G\",'Skills explications FTEM'!#REF!,'Skills explications FTEM'!#REF!)","v":{"$error":"#REF!"}}]
[null,null,null,{"$f":"IF($H$2=\"G\",'Skills explications FTEM'!F39,'Skills explications FTEM'!B39)","v":"Santé / Prévention"},null,null,{"$f":"IF($H$2=\"G\",'Skills explications FTEM'!G39,'Skills explications FTEM'!C39)","v":"A-t-il la stabilité nécessaire (p. ex. ses appuis) et la mobilité nécessaire au niveau des articulations centrales"},null,null,{"$f":"IF($H$2=\"G\",'Skills explications FTEM'!#REF!,'Skills explications FTEM'!#REF!)","v":{"$error":"#REF!"}}]
[{"$f":"'Skills explications FTEM'!A39:A39","v":0},null,null,{"$f":"IF($H$2=\"G\",'Skills explications FTEM'!F40,'Skills explications FTEM'!B40)","v":"Mobilité / Coordination"},null,null,{"$f":"IF($H$2=\"G\",'Skills explications FTEM'!G40,'Skills explications FTEM'!C40)","v":"Gère-t-il ses aptitudes de mouvements de base, qui sont un fournisseur important des fonctions spécifiques «Skills» pour être efficace"},null,null,{"$f":"IF($H$2=\"G\",'Skills explications FTEM'!#REF!,'Skills explications FTEM'!#REF!)","v":{"$error":"#REF!"}}]
[{"$f":"'Skills explications FTEM'!A41:A41","v":0},null,null,{"$f":"IF($H$2=\"G\",'Skills explications FTEM'!F41,'Skills explications FTEM'!B41)","v":"Robustesse"},null,null,{"$f":"IF($H$2=\"G\",'Skills explications FTEM'!G41,'Skills explications FTEM'!C41)","v":"A-t-il la force de base nécessaire (tension corporelle) pour gagner des duels et résister aux charges"},null,null,{"$f":"IF($H$2=\"G\",'Skills explications FTEM'!#REF!,'Skills explications FTEM'!#REF!)","v":{"$error":"#REF!"}}]

{"sheet":"24","index":27,"n_rows":50,"n_cols":36,"rows_kept":50,"cut":false,"hidden":false,"merged":[[45,25,49,25],[45,26,49,32],[45,34,49,34],[40,23,44,23],[42,3,42,5],[42,6,42,11],[44,3,44,5],[44,6,44,11],[40,0,44,2],[40,3,40,5],[40,6,40,11],[40,12,44,12],[40,13,44,13],[40,15,44,15],[45,0,49,2],[45,3,45,5],[45,6,45,11],[45,12,49,12],[45,23,49,23],[47,3,47,5],[47,6,47,11],[48,3,48,5],[48,6,48,11],[49,3,49,5],[34,21,34,22],[35,17,39,17],[35,19,39,19],[35,21,39,21],[36,3,36,5],[36,6,36,11],[38,3,38,5],[38,6,38,11],[40,17,44,17],[40,19,44,19],[40,21,44,21],[43,3,43,5],[43,6,43,11],[37,3,37,5],[37,6,37,11],[41,3,41,5],[41,6,41,11],[29,0,33,2],[29,3,29,5],[29,6,29,11],[29,12,33,12],[29,13,33,13],[29,15,33,15],[34,23,34,24],[34,26,34,32],[35,0,39,2],[35,3,35,5],[35,6,35,11],[35,12,39,12],[35,13,39,13],[35,15,39,15],[39,3,39,5],[39,6,39,11],[35,23,39,23],[34,0,34,2],[34,3,34,5],[34,6,34,11],[34,13,34,14],[34,15,34,16],[34,17,34,18],[34,19,34,20],[23,21,28,21],[23,23,28,23],[24,3,24,5],[24,6,24,11],[28,3,28,5],[28,6,28,11],[33,3,33,5],[33,6,33,11],[29,23,33,23],[29,17,33,17],[29,19,33,19],[29,21,33,21],[30,3,30,5],[30,6,30,11],[31,3,31,5],[31,6,31,11],[25,3,25,5],[25,6,25,11],[32,3,32,5],[32,6,32,11],[18,15,22,15],[18,17,22,17],[18,19,22,19],[18,21,22,21],[18,23,22,23],[22,3,22,5],[22,6,22,11],[23,0,28,2],[23,3,23,5],[23,6,23,11],[23,12,28,12],[23,13,28,13],[23,15,28,15],[23,17,28,17],[18,0,22,2],[18,3,18,5],[18,6,18,11],[18,12,22,12],[18,13,22,13],[19,3,19,5],[19,6,19,11],[20,3,20,5],[20,6,20,11],[23,19,28,19],[12,23,16,23],[16,3,16,5],[16,6,16,11],[17,0,17,2],[17,3,17,5],[17,6,17,11],[17,13,17,14],[17,15,17,16],[17,17,17,18],[17,19,17,20],[17,21,17,22],[17,23,17,24],[12,0,16,2],[12,3,12,5],[12,6,12,11],[12,12,16,12],[12,13,16,13],[12,15,16,15],[12,17,16,17],[12,19,16,19],[12,21,16,21],[13,3,13,5],[13,6,13,11],[14,3,14,5],[11,0,11,2],[11,3,11,5],[11,13,11,14],[11,15,11,16],[11,17,11,18],[11,19,11,20],[11,21,11,22],[11,23,11,24],[11,26,11,32],[11,6,11,11],[0,33,0,35],[29,25,33,25],[29,26,33,32],[29,34,33,34],[35,25,39,25],[35,26,39,32],[35,34,39,34],[1,0,1,1],[1,2,1,5],[1,10,1,24],[2,0,2,1],[2,2,2,5],[2,11,2,24],[6,0,6,1],[6,2,6,35],[7,0,7,1],[7,2,7,35],[8,0,8,1],[8,2,8,35],[3,0,3,1],[3,10,3,24],[4,0,4,1],[4,2,4,5],[4,10,4,24],[49,6,49,11],[45,13,49,13],[45,15,49,15],[45,17,49,17],[45,19,49,19],[45,21,49,21],[0,0,0,24],[0,25,0,26],[0,27,0,32],[10,0,10,24],[10,25,10,35],[40,25,44,25],[40,26,44,32],[40,34,44,34],[12,25,16,25],[12,26,16,32],[12,34,16,34],[18,25,22,25],[18,26,22,32],[18,34,22,34],[23,25,28,25],[23,26,28,32],[23,34,28,34],[17,26,17,32],[46,3,46,5],[46,6,46,11],[14,6,14,11],[15,3,15,5],[15,6,15,11],[21,3,21,5],[21,6,21,11],[26,3,26,5],[26,6,26,11],[27,3,27,5],[27,6,27,11]]}
["Infos personelles",null,null,null,null,null,null,null,null,null,null,null,null,null,null,null,null,null,null,null,null,null,null,null,null,"Predispositions",null,"Evaluations",null,null,null,null,null,"Rating"]
["PRENOM",null,{"$f":"IF(ISBLANK(VLOOKUP(24,Tabelle3[],3,0)),\"-\",VLOOKUP(24,Tabelle3[],3,0))","v":"-"},null,null,null,"POSITION",null,null,"ADRESSE",{"$f":"IF(ISBLANK(VLOOKUP(24,Tabelle3[],5,0)),\"-\",VLOOKUP(24,Tabelle3[],5,0))","v":"-"},null,null,null,null,null,null,null,null,null,null,null,null,null,null,"\"àage\" (Biologique/age relatif)",null,"Date 1",null,null,"cm",null,"Kg",null,"AUSGEZEICHNET",5]
["NOM",null,{"$f":"IF(ISBLANK(VLOOKUP(24,Tabelle3[],2,0)),\"-\",VLOOKUP(24,Tabelle3[],2,0))","v":"-"},null,null,null,"CANNE",null,null,"LIEU",{"$f":"IF(ISBLANK(VLOOKUP(24,Tabelle3[],7,0)),\"-\",VLOOKUP(24,Tabelle3[],7,0))","v":"-"},{"$f":"IF(ISBLANK(VLOOKUP(24,Tabelle3[],6,0)),\"-\",VLOOKUP(24,Tabelle3[],6,0))","v":"-"},null,null,null,null,null,null,null,null,null,null,null,null,null,"predispositions",null,"Date 2",null,null,"cm",null,"Kg",null,"GUT",4]
["DATE NAISS.",null,{"$f":"IF(ISBLANK(VLOOKUP(24,Tabelle3[],14,0)),\"-\",VLOOKUP(24,Tabelle3[],14,0))","v":"-"},{"$f":"IF(ISBLANK(VLOOKUP(24,Tabelle3[],15,0)),\"-\",VLOOKUP(24,Tabelle3[],15,0))","v":"-"},{"$f":"IF(ISBLANK(VLOOKUP(24,Tabelle3[],16,0)),\"-\",VLOOKUP(24,Tabelle3[],16,0))","v":"-"},null,"GRANDEUR",null,"cm","PHONE",{"$f":"IF(ISBLANK(VLOOKUP(24,Tabelle3[],8,0)),\"-\",VLOOKUP(24,Tabelle3[],8,0))","v":"-"},null,null,null,null,null,null,null,null,null,null,null,null,null,null,"Entourage",null,"Date 3",null,null,"cm",null,"Kg",null,"DURCHSCHNITT",3]
["SEXE",null,{"$f":"IF(ISBLANK(VLOOKUP(24,Tabelle3[],13,0)),\"-\",VLOOKUP(24,Tabelle3[],13,0))","v":"-"},null,null,null,"POIDS",null,"Kg","E-Mail",{"$f":"IF(ISBLANK(VLOOKUP(24,Tabelle3[],9,0)),\"-\",VLOOKUP(24,Tabelle3[],9,0))","v":"-"},null,null,null,null,null,null,null,null,null,null,null,null,null,null,null,null,"Date 4",null,null,"cm",null,"Kg",null,"MANGELHAFT",2]
[null,null,null,null,null,null,null,null,null,null,null,null,null,null,null,null,null,null,null,null,null,null,null,null,null,null,null,"Date 5",null,null,"cm",null,"Kg",null,"UNGENÜGEND",1]
["Vision",null,"xxx"]
["Next step",null,"xxx"]
["Profil du Joueur",null,"xxx"]
[]
["EVALUATION (COACH / JOUEUR)",null,null,null,null,null,null,null,null,null,null,null,null,null,null,null,null,null,null,null,null,null,null,null,null,"SMART"]
[{"$f":"'Skills explications FTEM'!A3:A3","v":"TEAM"},null,null,{"$f":"'Skills explications FTEM'!B3","v":"COMPÉTENCES"},null,null,{"$f":"'Skills explications FTEM'!C3","v":"OBSERVATION"},null,null,{"$f":"'Skills explications FTEM'!H3","v":0},null,null,"Final","Date1",null,"Date2",null,"Date3",null,"Date4",null,"Date5",null,"Player",null,"BUT","MESURES:\nSPECIFIQUE, MESURABLES, REALISTE",null,null,null,null,null,null,"DELAI","CONTRÔLE DU BUT","Date"]
[{"$f":"'Skills explications FTEM'!A4:A4","v":"ÉQUIPE"},null,null,{"$f":"IF($H$2=\"G\",'Skills explications FTEM'!F4,'Skills explications FTEM'!B4)","v":"Communication"},null,null,{"$f":"IF($H$2=\"G\",'Skills explications FTEM'!G4,'Skills explications FTEM'!C4)","v":"Respect et ouverture dans ses relations, confiance comme base, traite les conflits sans perturber la stabilité du groupe, communique avec ses coéquipiers, les entraîneurs et les fonctionnaires avec les mêmes valeurs"},null,null,{"$f":"IF($H$2=\"G\",'Skills explications FTEM'!#REF!,'Skills explications FTEM'!#REF!)","v":{"$error":"#REF!"}},null,null,null,{"$f":"IFERROR(AVERAGE(O13:O17),\"-\")","v":"-"},null,{"$f":"IFERROR(AVERAGE(Q13:Q17),\"-\")","v":"-"},null,{"$f":"IFERROR(AVERAGE(S13:S17),\"-\")","v":"-"},null,{"$f":"IFERROR(AVERAGE(U13:U17),\"-\")","v":"-"},null,{"$f":"IFERROR(AVERAGE(W13:W17),\"-\")","v":"-"},null,{"$f":"IFERROR(AVERAGE(Y13:Y17),\"-\")","v":"-"}]
[null,null,null,{"$f":"IF($H$2=\"G\",'Skills explications FTEM'!F5,'Skills explications FTEM'!B5)","v":"Capacité de jouer en équipe"},null,null,{"$f":"IF($H$2=\"G\",'Skills explications FTEM'!G5,'Skills explications FTEM'!C5)","v":"Intégration dans le groupe, définit et réalise des objectifs communs, NOUS avant le MOI, participe au bon esprit d'équipe et à un bon climat de travail"},null,null,{"$f":"IF($H$2=\"G\",'Skills explications FTEM'!#REF!,'Skills explications FTEM'!#REF!)","v":{"$error":"#REF!"}}]
[null,null,null,{"$f":"IF($H$2=\"G\",'Skills explications FTEM'!F6,'Skills explications FTEM'!B6)","v":"Leadership"},null,null,{"$f":"IF($H$2=\"G\",'Skills explications FTEM'!G6,'Skills explications FTEM'!C6)","v":"Prend des responsabilités dans le groupe, essaie de donner de la valeur à ses coéquipiers et au groupe, influence positivement la dynamique de groupe"},null,null,{"$f":"IF($H$2=\"G\",'Skills explications FTEM'!#REF!,'Skills explications FTEM'!#REF!)","v":{"$error":"#REF!"}}]
[null,null,null,{"$f":"IF($H$2=\"G\",'Skills explications FTEM'!F7,'Skills explications FTEM'!B7)","v":"Répartition des rôles"},null,null,{"$f":"IF($H$2=\"G\",'Skills explications FTEM'!G7,'Skills explications FTEM'!C7)","v":"Connaît son rôle et le réalise, est conscient de sa position dans l'équipe et le système, met ses compétences à disposition de l'équipe"},null,null,{"$f":"IF($H$2=\"G\",'Skills explications FTEM'!#REF!,'Skills explications FTEM'!#REF!)","v":{"$error":"#REF!"}}]
[{"$f":"'Skills explications FTEM'!A8:A8","v":0},null,null,{"$f":"IF($H$2=\"G\",'Skills explications FTEM'!F8,'Skills explications FTEM'!B8)","v":"Respect"},null,null,{"$f":"IF($H$2=\"G\",'Skills explications FTEM'!G8,'Skills explications FTEM'!C8)","v":"Relations respectueuses avec les coéquipiers, les entraîneurs, les adversaires, les arbitres et le staff; respect des règles, des principes du fairplay (y compris antidopage)"},null,null,{"$f":"IF($H$2=\"G\",'Skills explications FTEM'!#REF!,'Skills explications FTEM'!#REF!)","v":{"$error":"#REF!"}}]
[{"$f":"'Skills explications FTEM'!A9:A9","v":"ON ICE"},null,null,{"$f":"'Skills explications FTEM'!B9","v":"COMPÉTENCES"},null,null,{"$f":"'Skills explications FTEM'!C9","v":"OBSERVATION"},null,null,{"$f":"'Skills explications FTEM'!H9","v":0},null,null,null,"Date1",null,"Date2",null,"Date3",null,"Date4",null,"Date5",null,"Player",null,"BUT","MESURES:\nSPECIFIQUE, MESURABLES, REALISTE",null,null,null,null,null,null,"DELAI","CONTRÔLE DU BUT","Date"]
[{"$f":"'Skills explications FTEM'!A10:A10","v":"PATINAGE"},null,null,{"$f":"IF($H$2=\"G\",'Skills explications FTEM'!F10,'Skills explications FTEM'!B10)","v":"Vitesse de patinage"},null,null,{"$f":"IF($H$2=\"G\",'Skills explications FTEM'!G10,'Skills explications FTEM'!C10)","v":"Accélération, départ, explosivité des 3 premiers pas, fréquence"},null,null,{"$f":"IF($H$2=\"G\",'Skills explications FTEM'!#REF!,'Skills explications FTEM'!#REF!)","v":{"$error":"#REF!"}},null,null,null,{"$f":"IFERROR(AVERAGE(O19:O23),\"-\")","v":"-"},null,{"$f":"IFERROR(AVERAGE(Q19:Q23),\"-\")","v":"-"},null,{"$f":"IFERROR(AVERAGE(S19:S23),\"-\")","v":"-"},null,{"$f":"IFERROR(AVERAGE(U19:U23),\"-\")","v":"-"},null,{"$f":"IFERROR(AVERAGE(W19:W23),\"-\")","v":"-"},null,{"$f":"IFERROR(AVERAGE(Y19:Y23),\"-\")","v":"-"}]
[{"$f":"'Skills explications FTEM'!A11:A11","v":0},null,null,{"$f":"IF($H$2=\"G\",'Skills explications FTEM'!F11,'Skills explications FTEM'!B11)","v":"Vitesse, rapidité"},null,null,{"$f":"IF($H$2=\"G\",'Skills explications FTEM'!G11,'Skills explications FTEM'!C11)","v":"Vitesse, faculté de glisse, avant et arrière, économie des forces"},null,null,{"$f":"IF($H$2=\"G\",'Skills explications FTEM'!#REF!,'Skills explications FTEM'!#REF!)","v":{"$error":"#REF!"}}]
[{"$f":"'Skills explications FTEM'!A12:A12","v":0},null,null,{"$f":"IF($H$2=\"G\",'Skills explications FTEM'!F12,'Skills explications FTEM'!B12)","v":"Agilité"},null,null,{"$f":"IF($H$2=\"G\",'Skills explications FTEM'!G12,'Skills explications FTEM'!C12)","v":"Changements de direction, pivots, stop et start «Nummelin»"},null,null,{"$f":"IF($H$2=\"G\",'Skills explications FTEM'!#REF!,'Skills explications FTEM'!#REF!)","v":{"$error":"#REF!"}},null,null,null,{"$f":"IFERROR(AVERAGE(O21:O23),\"-\")","v":"-"},null,{"$f":"IFERROR(AVERAGE(Q21:Q23),\"-\")","v":"-"},null,{"$f":"IFERROR(AVERAGE(S21:S23),\"-\")","v":"-"},null,{"$f":"IFERROR(AVERAGE(U21:U23),\"-\")","v":"-"},null,{"$f":"IFERROR(AVERAGE(W21:W23),\"-\")","v":"-"},null,"-"]
[null,null,null,{"$f":"IF($H$2=\"G\",'Skills explications FTEM'!F13,'Skills explications FTEM'!B13)","v":"Balance"},null,null,{"$f":"IF($H$2=\"G\",'Skills explications FTEM'!G13,'Skills explications FTEM'!C13)","v":"Equilibre, faculté d'être sur ses appuis, position basse, 1 ou 2 jambes"},null,null,{"$f":"IF($H$2=\"G\",'Skills explications FTEM'!#REF!,'Skills explications FTEM'!#REF!)","v":{"$error":"#REF!"}}]
[{"$f":"'Skills explications FTEM'!#REF!","v":{"$error":"#REF!"}},null,null,{"$f":"IF($H$2=\"G\",'Skills explications FTEM'!F14,'Skills explications FTEM'!B14)","v":"Patinage arrière"},null,null,{"$f":"IF($H$2=\"G\",'Skills explications FTEM'!G14,'Skills explications FTEM'!C14)","v":"Accélération, vitesse, équilibre "},null,null,{"$f":"IF($H$2=\"G\",'Skills explications FTEM'!#REF!,'Skills explications FTEM'!#REF!)","v":{"$error":"#REF!"}}]
[{"$f":"'Skills explications FTEM'!A15:A15","v":"SKILLS"},null,null,{"$f":"IF($H$2=\"G\",'Skills explications FTEM'!F15,'Skills explications FTEM'!B15)","v":"Tirer"},null,null,{"$f":"IF($H$2=\"G\",'Skills explications FTEM'!G15,'Skills explications FTEM'!C15)","v":"Efficience (pas d'espace et de temps), variantes, degré de surprise (déclenchement rapide), précision, puissance (conclusion tactique)"},null,null,{"$f":"IF($H$2=\"G\",'Skills explications FTEM'!#REF!,'Skills explications FTEM'!#REF!)","v":{"$error":"#REF!"}},null,null,null,{"$f":"IFERROR(AVERAGE(O24:O29),\"-\")","v":"-"},null,{"$f":"IFERROR(AVERAGE(Q24:Q29),\"-\")","v":"-"},null,{"$f":"IFERROR(AVERAGE(S24:S29),\"-\")","v":"-"},null,{"$f":"IFERROR(AVERAGE(U24:U29),\"-\")","v":"-"},null,{"$f":"IFERROR(AVERAGE(W24:W29),\"-\")","v":"-"},null,{"$f":"IFERROR(AVERAGE(Y24:Y29),\"-\")","v":"-"}]
[{"$f":"'Skills explications FTEM'!A16:A16","v":0},null,null,{"$f":"IF($H$2=\"G\",'Skills explications FTEM'!F16,'Skills explications FTEM'!B16)","v":"Passer"},null,null,{"$f":"IF($H$2=\"G\",'Skills explications FTEM'!G16,'Skills explications FTEM'!C16)","v":"Donne la passe (distance, passe flipée en revers), réception de la passe (précision, timing, coup droit, revers, patins), vitesse du puck"},null,null,{"$f":"IF($H$2=\"G\",'Skills explications FTEM'!#REF!,'Skills explications FTEM'!#REF!)","v":{"$error":"#REF!"}}]
[{"$f":"'Skills explications FTEM'!A17:A17","v":0},null,null,{"$f":"IF($H$2=\"G\",'Skills explications FTEM'!F17,'Skills explications FTEM'!B17)","v":"Travail de canne, conduite du puck"},null,null,{"$f":"IF($H$2=\"G\",'Skills explications FTEM'!G17,'Skills explications FTEM'!C17)","v":"Puck sur la palette, intercepte les lignes de passe, déviation, contrôle de la canne de l'adversaire"},null,null,{"$f":"IF($H$2=\"G\",'Skills explications FTEM'!#REF!,'Skills explications FTEM'!#REF!)","v":{"$error":"#REF!"}}]
[null,null,null,{"$f":"IF($H$2=\"G\",'Skills explications FTEM'!F18,'Skills explications FTEM'!B18)","v":"Protéger le puck"},null,null,{"$f":"IF($H$2=\"G\",'Skills explications FTEM'!G18,'Skills explications FTEM'!C18)","v":"Contrôle du puck, dribbling, protection du puck, feintes (variantes: avec les patins ou avec et sans la bande), mise au jeu (bully)"},null,null,{"$f":"IF($H$2=\"G\",'Skills explications FTEM'!#REF!,'Skills explications FTEM'!#REF!)","v":{"$error":"#REF!"}}]
[null,null,null,{"$f":"IF($H$2=\"G\",'Skills explications FTEM'!F19,'Skills explications FTEM'!B19)","v":"Jeu du corps (charges)"},null,null,{"$f":"IF($H$2=\"G\",'Skills explications FTEM'!G19,'Skills explications FTEM'!C19)","v":"Faculté de s'imposer physiquement, duels (sur la surface de glace ou à la bande), prendre des checks, lever la tête, niveau de lutte, dur mais correct, bloquer les tirs avec le corps"},null,null,{"$f":"IF($H$2=\"G\",'Skills explications FTEM'!#REF!,'Skills explications FTEM'!#REF!)","v":{"$error":"#REF!"}}]
[{"$f":"'Skills explications FTEM'!A20:A20","v":0},null,null,{"$f":"IF($H$2=\"G\",'Skills explications FTEM'!F20,'Skills explications FTEM'!B20)","v":"-"},null,null,{"$f":"IF($H$2=\"G\",'Skills explications FTEM'!G20,'Skills explications FTEM'!C20)","v":"-"},null,null,{"$f":"IF($H$2=\"G\",'Skills explications FTEM'!#REF!,'Skills explications FTEM'!#REF!)","v":{"$error":"#REF!"}}]
[{"$f":"'Skills explications FTEM'!A21:A21","v":"HOCKEY SENSE"},null,null,{"$f":"IF($H$2=\"G\",'Skills explications FTEM'!F21,'Skills explications FTEM'!B21)","v":"Intelligence de jeu"},null,null,{"$f":"IF($H$2=\"G\",'Skills explications FTEM'!G21,'Skills explications FTEM'!C21)","v":"Voit les zones libres avec joueurs et crée des situations de surnombre, trouve des solutions et agit en toute situation, vitesse de la visualisation"},null,null,{"$f":"IF($H$2=\"G\",'Skills explications FTEM'!#REF!,'Skills explications FTEM'!#REF!)","v":{"$error":"#REF!"}},null,null,null,{"$f":"IFERROR(AVERAGE(O30:O34),\"-\")","v":"-"},null,{"$f":"IFERROR(AVERAGE(Q30:Q34),\"-\")","v":"-"},null,{"$f":"IFERROR(AVERAGE(S30:S34),\"-\")","v":"-"},null,{"$f":"IFERROR(AVERAGE(U30:U34),\"-\")","v":"-"},null,{"$f":"IFERROR(AVERAGE(W30:W34),\"-\")","v":"-"},null,{"$f":"IFERROR(AVERAGE(Y30:Y34),\"-\")","v":"-"}]
[{"$f":"'Skills explications FTEM'!A22:A22","v":0},null,null,{"$f":"IF($H$2=\"G\",'Skills explications FTEM'!F22,'Skills explications FTEM'!B22)","v":"Sensibilisation offensive"},null,null,{"$f":"IF($H$2=\"G\",'Skills explications FTEM'!G22,'Skills explications FTEM'!C22)","v":"Se démarque, anticipation des situations de jeu, ouvre des zones libres pour ses coéquipiers, se place pour marquer, vitesse de mise sous pression, communication"},null,null,{"$f":"IF($H$2=\"G\",'Skills explications FTEM'!#REF!,'Skills explications FTEM'!#REF!)","v":{"$error":"#REF!"}}]
[null,null,null,{"$f":"IF($H$2=\"G\",'Skills explications FTEM'!F23,'Skills explications FTEM'!B23)","v":"Sensibilisation défensive"},null,null,{"$f":"IF($H$2=\"G\",'Skills explications FTEM'!G23,'Skills explications FTEM'!C23)","v":"Garde la position «inside», protège le slot, rassure les coéquipiers, support, anticipe les lignes de passe, bloque les tirs. Réduit rapidement la distance sur l'adversaire, communication"},null,null,{"$f":"IF($H$2=\"G\",'Skills explications FTEM'!#REF!,'Skills explications FTEM'!#REF!)","v":{"$error":"#REF!"}}]
[{"$f":"'Skills explications FTEM'!A23:A23","v":0},null,null,{"$f":"IF($H$2=\"G\",'Skills explications FTEM'!F24,'Skills explications FTEM'!B24)","v":"Gestion du puck"},null,null,{"$f":"IF($H$2=\"G\",'Skills explications FTEM'!G24,'Skills explications FTEM'!C24)","v":"Fait le bon choix en fonction de la situation, support, surnombre"},null,null,{"$f":"IF($H$2=\"G\",'Skills explications FTEM'!#REF!,'Skills explications FTEM'!#REF!)","v":{"$error":"#REF!"}}]
[{"$f":"'Skills explications FTEM'!A25:A25","v":0},null,null,{"$f":"IF($H$2=\"G\",'Skills explications FTEM'!F25,'Skills explications FTEM'!B25)","v":"Créativité"},null,null,{"$f":"IF($H$2=\"G\",'Skills explications FTEM'!G25,'Skills explications FTEM'!C25)","v":"Prises de décision surprenantes, sens du but"},null,null,{"$f":"IF($H$2=\"G\",'Skills explications FTEM'!#REF!,'Skills explications FTEM'!#REF!)","v":{"$error":"#REF!"}}]
[{"$f":"'Skills explications FTEM'!A26:A26","v":"PERSONALITY"},null,null,{"$f":"'Skills explications FTEM'!B26","v":"COMPÉTENCES"},null,null,{"$f":"'Skills explications FTEM'!C26","v":"OBSERVATION"},null,null,{"$f":"'Skills explications FTEM'!H26","v":0},null,null,null,"Date1",null,"Date2",null,"Date3",null,"Date4",null,"Date5",null,"Player",null,"BUT","MESURES:\nSPECIFIQUE, MESURABLES, REALISTE",null,null,null,null,null,null,"DELAI","CONTRÔLE DU BUT","Date"]
[{"$f":"'Skills explications FTEM'!A27:A27","v":"PERSONNALITÉ"},null,null,{"$f":"IF($H$2=\"G\",'Skills explications FTEM'!F27,'Skills explications FTEM'!B27)","v":"Confiance en soi"},null,null,{"$f":"IF($H$2=\"G\",'Skills explications FTEM'!G27,'Skills explications FTEM'!C27)","v":"Est en confiance,«I can do it», peut estimer ses capacités (connaît ses qualités et ses défauts), peut réaliser ses qualités avec constance, est courageux et prend des risques calculés"},null,null,{"$f":"IF($H$2=\"G\",'Skills explications FTEM'!#REF!,'Skills explications FTEM'!#REF!)","v":{"$error":"#REF!"}},null,null,null,{"$f":"IFERROR(AVERAGE(O36:O40),\"-\")","v":"-"},null,null,null,{"$f":"IFERROR(AVERAGE(S36:S40),\"-\")","v":"-"},null,{"$f":"IFERROR(AVERAGE(U36:U40),\"-\")","v":"-"},null,{"$f":"IFERROR(AVERAGE(W36:W40),\"-\")","v":"-"},null,{"$f":"IFERROR(AVERAGE(Y36:Y40),\"-\")","v":"-"}]
[{"$f":"'Skills explications FTEM'!A28:A28","v":0},null,null,{"$f":"IF($H$2=\"G\",'Skills explications FTEM'!F28,'Skills explications FTEM'!B28)","v":"Facultés d'apprentissage"},null,null,{"$f":"IF($H$2=\"G\",'Skills explications FTEM'!G28,'Skills explications FTEM'!C28)","v":"A une bonne perception (il peut mémoriser et peut réaliser), il a de la personnalité, essaie d'apprendre de ses erreurs et est entreprenant"},null,null,{"$f":"IF($H$2=\"G\",'Skills explications FTEM'!#REF!,'Skills explications FTEM'!#REF!)","v":{"$error":"#REF!"}}]
[{"$f":"'Skills explications FTEM'!A29:A29","v":0},null,null,{"$f":"IF($H$2=\"G\",'Skills explications FTEM'!F29,'Skills explications FTEM'!B29)","v":"Prise de responsabilités"},null,null,{"$f":"IF($H$2=\"G\",'Skills explications FTEM'!G29,'Skills explications FTEM'!C29)","v":"Prend la responsabilité de ses performances et de son développement, est-il autonome, soigne-t-il les détails, a beaucoup d'engagement dans tous les domaines"},null,null,{"$f":"IF($H$2=\"G\",'Skills explications FTEM'!#REF!,'Skills explications FTEM'!#REF!)","v":{"$error":"#REF!"}}]
[null,null,null,{"$f":"IF($H$2=\"G\",'Skills explications FTEM'!F30,'Skills explications FTEM'!B30)","v":"Motivation"},null,null,{"$f":"IF($H$2=\"G\",'Skills explications FTEM'!G30,'Skills explications FTEM'!C30)","v":"Est toujours motivé, veut sans cesse se développer et apprendre, veut être le premier et avoir du succès, n'abandonne jamais et ne se laisse pas influencer par les échesc"},null,null,{"$f":"IF($H$2=\"G\",'Skills explications FTEM'!#REF!,'Skills explications FTEM'!#REF!)","v":{"$error":"#REF!"}}]
[{"$f":"'Skills explications FTEM'!A31:A31","v":0},null,null,{"$f":"IF($H$2=\"G\",'Skills explications FTEM'!F31,'Skills explications FTEM'!B31)","v":"Performance style de vie"},null,null,{"$f":"IF($H$2=\"G\",'Skills explications FTEM'!G31,'Skills explications FTEM'!C31)","v":"Gère bien son environnement et son temps libre selon les principes de la performance, obstiné, tenace et axé sur l'objectif, accent sur sa propre performance, est courageux et peut s'imposer contre la résistance, les défis le motivent"},null,null,{"$f":"IF($H$2=\"G\",'Skills explications FTEM'!#REF!,'Skills explications FTEM'!#REF!)","v":{"$error":"#REF!"}}]
[{"$f":"'Skills explications FTEM'!A32:A32","v":"FORCE MENTALE"},null,null,{"$f":"IF($H$2=\"G\",'Skills explications FTEM'!F32,'Skills explications FTEM'!B32)","v":"Engagement"},null,null,{"$f":"IF($H$2=\"G\",'Skills explications FTEM'!G32,'Skills explications FTEM'!C32)","v":"Démontre beaucoup d'intensité dans les entraînements et les matchs, donne toujours son maximum et veut sans cesse repousser ses limites, a-t-il de la passion, s'efforce-t-il de s'entraîner avec une excellente qualité"},null,null,{"$f":"IF($H$2=\"G\",'Skills explications FTEM'!#REF!,'Skills explications FTEM'!#REF!)","v":{"$error":"#REF!"}},null,null,null,{"$f":"IFERROR(AVERAGE(O41:O45),\"-\")","v":"-"},null,null,null,{"$f":"IFERROR(AVERAGE(S41:S45),\"-\")","v":"-"},null,{"$f":"IFERROR(AVERAGE(U41:U45),\"-\")","v":"-"},null,{"$f":"IFERROR(AVERAGE(W41:W45),\"-\")","v":"-"},null,{"$f":"IFERROR(AVERAGE(Y41:Y45),\"-\")","v":"-"}]
[{"$f":"'Skills explications FTEM'!A33:A33","v":0},null,null,{"$f":"IF($H$2=\"G\",'Skills explications FTEM'!F33,'Skills explications FTEM'!B33)","v":"Préparation"},null,null,{"$f":"IF($H$2=\"G\",'Skills explications FTEM'!G33,'Skills explications FTEM'!C33)","v":"Se prépare-t-il toujours bien, mentalement et physiquement, se prépare-t-il toujours bien pour obtenir le niveau de performance idéal (ILZ)"},null,null,{"$f":"IF($H$2=\"G\",'Skills explications FTEM'!#REF!,'Skills explications FTEM'!#REF!)","v":{"$error":"#REF!"}}]
[null,null,null,{"$f":"IF($H$2=\"G\",'Skills explications FTEM'!F34,'Skills explications FTEM'!B34)","v":"Coaching personnel"},null,null,{"$f":"IF($H$2=\"G\",'Skills explications FTEM'!G34,'Skills explications FTEM'!C34)","v":"A-t-il de bonnes facultés de concentration, peut-il maintenir son niveau de performance idéal (ILZ) dans les entraînements et les matchs, peut-il appliquer ses techniques de base, est-il résistant aux influences et pensées négatives, est-il conscient de son attitude corporelle et peut-il l'influencer"},null,null,{"$f":"IF($H$2=\"G\",'Skills explications FTEM'!#REF!,'Skills explications FTEM'!#REF!)","v":{"$error":"#REF!"}}]
[{"$f":"'Skills explications FTEM'!A34:A34","v":0},null,null,{"$f":"IF($H$2=\"G\",'Skills explications FTEM'!F35,'Skills explications FTEM'!B35)","v":"Gestion des énergies"},null,null,{"$f":"IF($H$2=\"G\",'Skills explications FTEM'!G35,'Skills explications FTEM'!C35)","v":"Peut-il gérer ses propres énergies, prend-il soin de sa récupération, peut-il gérer les moments où il faut se donner à fond ou quand il faut déconnecter, bouton On/Off"},null,null,{"$f":"IF($H$2=\"G\",'Skills explications FTEM'!#REF!,'Skills explications FTEM'!#REF!)","v":{"$error":"#REF!"}}]
[{"$f":"'Skills explications FTEM'!A36:A36","v":0},null,null,{"$f":"IF($H$2=\"G\",'Skills explications FTEM'!F36,'Skills explications FTEM'!B36)","v":"Contrôle des émotions"},null,null,{"$f":"IF($H$2=\"G\",'Skills explications FTEM'!G36,'Skills explications FTEM'!C36)","v":"Peut-il gérer ses propres émotions et impulsions, reste-t-il sous contrôle lorsqu'il y a une grande pression, peut-il rester calme lorsque le niveau émotionnel et de frustration est élevé"},null,null,{"$f":"IF($H$2=\"G\",'Skills explications FTEM'!#REF!,'Skills explications FTEM'!#REF!)","v":{"$error":"#REF!"}}]
[{"$f":"'Skills explications FTEM'!A37:A37","v":"PHYSIQUE"},null,null,{"$f":"IF($H$2=\"G\",'Skills explications FTEM'!F37,'Skills explications FTEM'!B37)","v":"Production de la performance"},null,null,{"$f":"IF($H$2=\"G\",'Skills explications FTEM'!G37,'Skills explications FTEM'!C37)","v":"A-t-il la puissance, la force, la vitesse nécessaires dans les jambes et le haut du corps (facteurs neuromusculaires)"},null,null,{"$f":"IF($H$2=\"G\",'Skills explications FTEM'!#REF!,'Skills explications FTEM'!#REF!)","v":{"$error":"#REF!"}},null,null,null,{"$f":"IFERROR(AVERAGE(O46:O50),\"-\")","v":"-"},null,null,null,{"$f":"IFERROR(AVERAGE(S46:S50),\"-\")","v":"-"},null,{"$f":"IFERROR(AVERAGE(U46:U50),\"-\")","v":"-"},null,{"$f":"IFERROR(AVERAGE(W46:W50),\"-\")","v":"-"},null,{"$f":"IFERROR(AVERAGE(Y46:Y50),\"-\")","v":"-"}]
[{"$f":"'Skills explications FTEM'!A38:A38","v":0},null,null,{"$f":"IF($H$2=\"G\",'Skills explications FTEM'!F38,'Skills explications FTEM'!B38)","v":"Spécifique au sport, résistant à l'effort"},null,null,{"$f":"IF($H$2=\"G\",'Skills explications FTEM'!G38,'Skills explications FTEM'!C38)","v":"Est-il capable de maintenir sa puissance, sa force, sa vitesse durant un long temps de glace et peut-il récupérer complètement entre ses engagements (facteurs du métabolisme et cardiovasculaire)"},null,null,{"$f":"IF($H$2=\"G\",'Skills explications FTEM'!#REF!,'Skills explications FTEM'!#REF!)","v":{"$error":"#REF!"}}]
[null,null,null,{"$f":"IF($H$2=\"G\",'Skills explications FTEM'!F39,'Skills explications FTEM'!B39)","v":"Santé / Prévention"},null,null,{"$f":"IF($H$2=\"G\",'Skills explications FTEM'!G39,'Skills explications FTEM'!C39)","v":"A-t-il la stabilité nécessaire (p. ex. ses appuis) et la mobilité nécessaire au niveau des articulations centrales"},null,null,{"$f":"IF($H$2=\"G\",'Skills explications FTEM'!#REF!,'Skills explications FTEM'!#REF!)","v":{"$error":"#REF!"}}]
[{"$f":"'Skills explications FTEM'!A39:A39","v":0},null,null,{"$f":"IF($H$2=\"G\",'Skills explications FTEM'!F40,'Skills explications FTEM'!B40)","v":"Mobilité / Coordination"},null,null,{"$f":"IF($H$2=\"G\",'Skills explications FTEM'!G40,'Skills explications FTEM'!C40)","v":"Gère-t-il ses aptitudes de mouvements de base, qui sont un fournisseur important des fonctions spécifiques «Skills» pour être efficace"},null,null,{"$f":"IF($H$2=\"G\",'Skills explications FTEM'!#REF!,'Skills explications FTEM'!#REF!)","v":{"$error":"#REF!"}}]
[{"$f":"'Skills explications FTEM'!A41:A41","v":0},null,null,{"$f":"IF($H$2=\"G\",'Skills explications FTEM'!F41,'Skills explications FTEM'!B41)","v":"Robustesse"},null,null,{"$f":"IF($H$2=\"G\",'Skills explications FTEM'!G41,'Skills explications FTEM'!C41)","v":"A-t-il la force de base nécessaire (tension corporelle) pour gagner des duels et résister aux charges"},null,null,{"$f":"IF($H$2=\"G\",'Skills explications FTEM'!#REF!,'Skills explications FTEM'!#REF!)","v":{"$error":"#REF!"}}]

{"sheet":"25","index":28,"n_rows":50,"n_cols":36,"rows_kept":50,"cut":false,"hidden":false,"merged":[[45,25,49,25],[45,26,49,32],[45,34,49,34],[40,23,44,23],[42,3,42,5],[42,6,42,11],[44,3,44,5],[44,6,44,11],[40,0,44,2],[40,3,40,5],[40,6,40,11],[40,12,44,12],[40,13,44,13],[40,15,44,15],[45,0,49,2],[45,3,45,5],[45,6,45,11],[45,12,49,12],[45,23,49,23],[47,3,47,5],[47,6,47,11],[48,3,48,5],[48,6,48,11],[49,3,49,5],[34,21,34,22],[35,17,39,17],[35,19,39,19],[35,21,39,21],[36,3,36,5],[36,6,36,11],[38,3,38,5],[38,6,38,11],[40,17,44,17],[40,19,44,19],[40,21,44,21],[43,3,43,5],[43,6,43,11],[37,3,37,5],[37,6,37,11],[41,3,41,5],[41,6,41,11],[29,0,33,2],[29,3,29,5],[29,6,29,11],[29,12,33,12],[29,13,33,13],[29,15,33,15],[34,23,34,24],[34,26,34,32],[35,0,39,2],[35,3,35,5],[35,6,35,11],[35,12,39,12],[35,13,39,13],[35,15,39,15],[39,3,39,5],[39,6,39,11],[35,23,39,23],[34,0,34,2],[34,3,34,5],[34,6,34,11],[34,13,34,14],[34,15,34,16],[34,17,34,18],[34,19,34,20],[23,21,28,21],[23,23,28,23],[24,3,24,5],[24,6,24,11],[28,3,28,5],[28,6,28,11],[33,3,33,5],[33,6,33,11],[29,23,33,23],[29,17,33,17],[29,19,33,19],[29,21,33,21],[30,3,30,5],[30,6,30,11],[31,3,31,5],[31,6,31,11],[25,3,25,5],[25,6,25,11],[32,3,32,5],[32,6,32,11],[18,15,22,15],[18,17,22,17],[18,19,22,19],[18,21,22,21],[18,23,22,23],[22,3,22,5],[22,6,22,11],[23,0,28,2],[23,3,23,5],[23,6,23,11],[23,12,28,12],[23,13,28,13],[23,15,28,15],[23,17,28,17],[18,0,22,2],[18,3,18,5],[18,6,18,11],[18,12,22,12],[18,13,22,13],[19,3,19,5],[19,6,19,11],[20,3,20,5],[20,6,20,11],[23,19,28,19],[12,23,16,23],[16,3,16,5],[16,6,16,11],[17,0,17,2],[17,3,17,5],[17,6,17,11],[17,13,17,14],[17,15,17,16],[17,17,17,18],[17,19,17,20],[17,21,17,22],[17,23,17,24],[12,0,16,2],[12,3,12,5],[12,6,12,11],[12,12,16,12],[12,13,16,13],[12,15,16,15],[12,17,16,17],[12,19,16,19],[12,21,16,21],[13,3,13,5],[13,6,13,11],[14,3,14,5],[11,0,11,2],[11,3,11,5],[11,13,11,14],[11,15,11,16],[11,17,11,18],[11,19,11,20],[11,21,11,22],[11,23,11,24],[11,26,11,32],[11,6,11,11],[0,33,0,35],[29,25,33,25],[29,26,33,32],[29,34,33,34],[35,25,39,25],[35,26,39,32],[35,34,39,34],[1,0,1,1],[1,2,1,5],[1,10,1,24],[2,0,2,1],[2,2,2,5],[2,11,2,24],[6,0,6,1],[6,2,6,35],[7,0,7,1],[7,2,7,35],[8,0,8,1],[8,2,8,35],[3,0,3,1],[3,10,3,24],[4,0,4,1],[4,2,4,5],[4,10,4,24],[49,6,49,11],[45,13,49,13],[45,15,49,15],[45,17,49,17],[45,19,49,19],[45,21,49,21],[0,0,0,24],[0,25,0,26],[0,27,0,32],[10,0,10,24],[10,25,10,35],[40,25,44,25],[40,26,44,32],[40,34,44,34],[12,25,16,25],[12,26,16,32],[12,34,16,34],[18,25,22,25],[18,26,22,32],[18,34,22,34],[23,25,28,25],[23,26,28,32],[23,34,28,34],[17,26,17,32],[46,3,46,5],[46,6,46,11],[14,6,14,11],[15,3,15,5],[15,6,15,11],[21,3,21,5],[21,6,21,11],[26,3,26,5],[26,6,26,11],[27,3,27,5],[27,6,27,11]]}
["Infos personelles",null,null,null,null,null,null,null,null,null,null,null,null,null,null,null,null,null,null,null,null,null,null,null,null,"Predispositions",null,"Evaluations",null,null,null,null,null,"Rating"]
["PRENOM",null,{"$f":"IF(ISBLANK(VLOOKUP(25,Tabelle3[],3,0)),\"-\",VLOOKUP(25,Tabelle3[],3,0))","v":"-"},null,null,null,"POSITION",null,null,"ADRESSE",{"$f":"IF(ISBLANK(VLOOKUP(25,Tabelle3[],5,0)),\"-\",VLOOKUP(25,Tabelle3[],5,0))","v":"-"},null,null,null,null,null,null,null,null,null,null,null,null,null,null,"\"àage\" (Biologique/age relatif)",null,"Date 1",null,null,"cm",null,"Kg",null,"AUSGEZEICHNET",5]
["NOM",null,{"$f":"IF(ISBLANK(VLOOKUP(25,Tabelle3[],2,0)),\"-\",VLOOKUP(25,Tabelle3[],2,0))","v":"-"},null,null,null,"CANNE",null,null,"LIEU",{"$f":"IF(ISBLANK(VLOOKUP(25,Tabelle3[],7,0)),\"-\",VLOOKUP(25,Tabelle3[],7,0))","v":"-"},{"$f":"IF(ISBLANK(VLOOKUP(25,Tabelle3[],6,0)),\"-\",VLOOKUP(25,Tabelle3[],6,0))","v":"-"},null,null,null,null,null,null,null,null,null,null,null,null,null,"predispositions",null,"Date 2",null,null,"cm",null,"Kg",null,"GUT",4]
["DATE NAISS.",null,{"$f":"IF(ISBLANK(VLOOKUP(25,Tabelle3[],14,0)),\"-\",VLOOKUP(25,Tabelle3[],14,0))","v":"-"},{"$f":"IF(ISBLANK(VLOOKUP(25,Tabelle3[],15,0)),\"-\",VLOOKUP(25,Tabelle3[],15,0))","v":"-"},{"$f":"IF(ISBLANK(VLOOKUP(25,Tabelle3[],16,0)),\"-\",VLOOKUP(25,Tabelle3[],16,0))","v":"-"},null,"GRANDEUR",null,"cm","PHONE",{"$f":"IF(ISBLANK(VLOOKUP(25,Tabelle3[],8,0)),\"-\",VLOOKUP(25,Tabelle3[],8,0))","v":"-"},null,null,null,null,null,null,null,null,null,null,null,null,null,null,"Entourage",null,"Date 3",null,null,"cm",null,"Kg",null,"DURCHSCHNITT",3]
["SEXE",null,{"$f":"IF(ISBLANK(VLOOKUP(25,Tabelle3[],13,0)),\"-\",VLOOKUP(25,Tabelle3[],13,0))","v":"-"},null,null,null,"POIDS",null,"Kg","E-Mail",{"$f":"IF(ISBLANK(VLOOKUP(25,Tabelle3[],9,0)),\"-\",VLOOKUP(25,Tabelle3[],9,0))","v":"-"},null,null,null,null,null,null,null,null,null,null,null,null,null,null,null,null,"Date 4",null,null,"cm",null,"Kg",null,"MANGELHAFT",2]
[null,null,null,null,null,null,null,null,null,null,null,null,null,null,null,null,null,null,null,null,null,null,null,null,null,null,null,"Date 5",null,null,"cm",null,"Kg",null,"UNGENÜGEND",1]
["Vision",null,"xxx"]
["Next step",null,"xxx"]
["Profil du Joueur",null,"xxx"]
[]
["EVALUATION (COACH / JOUEUR)",null,null,null,null,null,null,null,null,null,null,null,null,null,null,null,null,null,null,null,null,null,null,null,null,"SMART"]
[{"$f":"'Skills explications FTEM'!A3:A3","v":"TEAM"},null,null,{"$f":"'Skills explications FTEM'!B3","v":"COMPÉTENCES"},null,null,{"$f":"'Skills explications FTEM'!C3","v":"OBSERVATION"},null,null,{"$f":"'Skills explications FTEM'!H3","v":0},null,null,"Final","Date1",null,"Date2",null,"Date3",null,"Date4",null,"Date5",null,"Player",null,"BUT","MESURES:\nSPECIFIQUE, MESURABLES, REALISTE",null,null,null,null,null,null,"DELAI","CONTRÔLE DU BUT","Date"]
[{"$f":"'Skills explications FTEM'!A4:A4","v":"ÉQUIPE"},null,null,{"$f":"IF($H$2=\"G\",'Skills explications FTEM'!F4,'Skills explications FTEM'!B4)","v":"Communication"},null,null,{"$f":"IF($H$2=\"G\",'Skills explications FTEM'!G4,'Skills explications FTEM'!C4)","v":"Respect et ouverture dans ses relations, confiance comme base, traite les conflits sans perturber la stabilité du groupe, communique avec ses coéquipiers, les entraîneurs et les fonctionnaires avec les mêmes valeurs"},null,null,{"$f":"IF($H$2=\"G\",'Skills explications FTEM'!#REF!,'Skills explications FTEM'!#REF!)","v":{"$error":"#REF!"}},null,null,null,{"$f":"IFERROR(AVERAGE(O13:O17),\"-\")","v":"-"},null,{"$f":"IFERROR(AVERAGE(Q13:Q17),\"-\")","v":"-"},null,{"$f":"IFERROR(AVERAGE(S13:S17),\"-\")","v":"-"},null,{"$f":"IFERROR(AVERAGE(U13:U17),\"-\")","v":"-"},null,{"$f":"IFERROR(AVERAGE(W13:W17),\"-\")","v":"-"},null,{"$f":"IFERROR(AVERAGE(Y13:Y17),\"-\")","v":"-"}]
[null,null,null,{"$f":"IF($H$2=\"G\",'Skills explications FTEM'!F5,'Skills explications FTEM'!B5)","v":"Capacité de jouer en équipe"},null,null,{"$f":"IF($H$2=\"G\",'Skills explications FTEM'!G5,'Skills explications FTEM'!C5)","v":"Intégration dans le groupe, définit et réalise des objectifs communs, NOUS avant le MOI, participe au bon esprit d'équipe et à un bon climat de travail"},null,null,{"$f":"IF($H$2=\"G\",'Skills explications FTEM'!#REF!,'Skills explications FTEM'!#REF!)","v":{"$error":"#REF!"}}]
[null,null,null,{"$f":"IF($H$2=\"G\",'Skills explications FTEM'!F6,'Skills explications FTEM'!B6)","v":"Leadership"},null,null,{"$f":"IF($H$2=\"G\",'Skills explications FTEM'!G6,'Skills explications FTEM'!C6)","v":"Prend des responsabilités dans le groupe, essaie de donner de la valeur à ses coéquipiers et au groupe, influence positivement la dynamique de groupe"},null,null,{"$f":"IF($H$2=\"G\",'Skills explications FTEM'!#REF!,'Skills explications FTEM'!#REF!)","v":{"$error":"#REF!"}}]
[null,null,null,{"$f":"IF($H$2=\"G\",'Skills explications FTEM'!F7,'Skills explications FTEM'!B7)","v":"Répartition des rôles"},null,null,{"$f":"IF($H$2=\"G\",'Skills explications FTEM'!G7,'Skills explications FTEM'!C7)","v":"Connaît son rôle et le réalise, est conscient de sa position dans l'équipe et le système, met ses compétences à disposition de l'équipe"},null,null,{"$f":"IF($H$2=\"G\",'Skills explications FTEM'!#REF!,'Skills explications FTEM'!#REF!)","v":{"$error":"#REF!"}}]
[{"$f":"'Skills explications FTEM'!A8:A8","v":0},null,null,{"$f":"IF($H$2=\"G\",'Skills explications FTEM'!F8,'Skills explications FTEM'!B8)","v":"Respect"},null,null,{"$f":"IF($H$2=\"G\",'Skills explications FTEM'!G8,'Skills explications FTEM'!C8)","v":"Relations respectueuses avec les coéquipiers, les entraîneurs, les adversaires, les arbitres et le staff; respect des règles, des principes du fairplay (y compris antidopage)"},null,null,{"$f":"IF($H$2=\"G\",'Skills explications FTEM'!#REF!,'Skills explications FTEM'!#REF!)","v":{"$error":"#REF!"}}]
[{"$f":"'Skills explications FTEM'!A9:A9","v":"ON ICE"},null,null,{"$f":"'Skills explications FTEM'!B9","v":"COMPÉTENCES"},null,null,{"$f":"'Skills explications FTEM'!C9","v":"OBSERVATION"},null,null,{"$f":"'Skills explications FTEM'!H9","v":0},null,null,null,"Date1",null,"Date2",null,"Date3",null,"Date4",null,"Date5",null,"Player",null,"BUT","MESURES:\nSPECIFIQUE, MESURABLES, REALISTE",null,null,null,null,null,null,"DELAI","CONTRÔLE DU BUT","Date"]
[{"$f":"'Skills explications FTEM'!A10:A10","v":"PATINAGE"},null,null,{"$f":"IF($H$2=\"G\",'Skills explications FTEM'!F10,'Skills explications FTEM'!B10)","v":"Vitesse de patinage"},null,null,{"$f":"IF($H$2=\"G\",'Skills explications FTEM'!G10,'Skills explications FTEM'!C10)","v":"Accélération, départ, explosivité des 3 premiers pas, fréquence"},null,null,{"$f":"IF($H$2=\"G\",'Skills explications FTEM'!#REF!,'Skills explications FTEM'!#REF!)","v":{"$error":"#REF!"}},null,null,null,{"$f":"IFERROR(AVERAGE(O19:O23),\"-\")","v":"-"},null,{"$f":"IFERROR(AVERAGE(Q19:Q23),\"-\")","v":"-"},null,{"$f":"IFERROR(AVERAGE(S19:S23),\"-\")","v":"-"},null,{"$f":"IFERROR(AVERAGE(U19:U23),\"-\")","v":"-"},null,{"$f":"IFERROR(AVERAGE(W19:W23),\"-\")","v":"-"},null,{"$f":"IFERROR(AVERAGE(Y19:Y23),\"-\")","v":"-"}]
[{"$f":"'Skills explications FTEM'!A11:A11","v":0},null,null,{"$f":"IF($H$2=\"G\",'Skills explications FTEM'!F11,'Skills explications FTEM'!B11)","v":"Vitesse, rapidité"},null,null,{"$f":"IF($H$2=\"G\",'Skills explications FTEM'!G11,'Skills explications FTEM'!C11)","v":"Vitesse, faculté de glisse, avant et arrière, économie des forces"},null,null,{"$f":"IF($H$2=\"G\",'Skills explications FTEM'!#REF!,'Skills explications FTEM'!#REF!)","v":{"$error":"#REF!"}}]
[{"$f":"'Skills explications FTEM'!A12:A12","v":0},null,null,{"$f":"IF($H$2=\"G\",'Skills explications FTEM'!F12,'Skills explications FTEM'!B12)","v":"Agilité"},null,null,{"$f":"IF($H$2=\"G\",'Skills explications FTEM'!G12,'Skills explications FTEM'!C12)","v":"Changements de direction, pivots, stop et start «Nummelin»"},null,null,{"$f":"IF($H$2=\"G\",'Skills explications FTEM'!#REF!,'Skills explications FTEM'!#REF!)","v":{"$error":"#REF!"}},null,null,null,{"$f":"IFERROR(AVERAGE(O21:O23),\"-\")","v":"-"},null,{"$f":"IFERROR(AVERAGE(Q21:Q23),\"-\")","v":"-"},null,{"$f":"IFERROR(AVERAGE(S21:S23),\"-\")","v":"-"},null,{"$f":"IFERROR(AVERAGE(U21:U23),\"-\")","v":"-"},null,{"$f":"IFERROR(AVERAGE(W21:W23),\"-\")","v":"-"},null,"-"]
[null,null,null,{"$f":"IF($H$2=\"G\",'Skills explications FTEM'!F13,'Skills explications FTEM'!B13)","v":"Balance"},null,null,{"$f":"IF($H$2=\"G\",'Skills explications FTEM'!G13,'Skills explications FTEM'!C13)","v":"Equilibre, faculté d'être sur ses appuis, position basse, 1 ou 2 jambes"},null,null,{"$f":"IF($H$2=\"G\",'Skills explications FTEM'!#REF!,'Skills explications FTEM'!#REF!)","v":{"$error":"#REF!"}}]
[{"$f":"'Skills explications FTEM'!#REF!","v":{"$error":"#REF!"}},null,null,{"$f":"IF($H$2=\"G\",'Skills explications FTEM'!F14,'Skills explications FTEM'!B14)","v":"Patinage arrière"},null,null,{"$f":"IF($H$2=\"G\",'Skills explications FTEM'!G14,'Skills explications FTEM'!C14)","v":"Accélération, vitesse, équilibre "},null,null,{"$f":"IF($H$2=\"G\",'Skills explications FTEM'!#REF!,'Skills explications FTEM'!#REF!)","v":{"$error":"#REF!"}}]
[{"$f":"'Skills explications FTEM'!A15:A15","v":"SKILLS"},null,null,{"$f":"IF($H$2=\"G\",'Skills explications FTEM'!F15,'Skills explications FTEM'!B15)","v":"Tirer"},null,null,{"$f":"IF($H$2=\"G\",'Skills explications FTEM'!G15,'Skills explications FTEM'!C15)","v":"Efficience (pas d'espace et de temps), variantes, degré de surprise (déclenchement rapide), précision, puissance (conclusion tactique)"},null,null,{"$f":"IF($H$2=\"G\",'Skills explications FTEM'!#REF!,'Skills explications FTEM'!#REF!)","v":{"$error":"#REF!"}},null,null,null,{"$f":"IFERROR(AVERAGE(O24:O29),\"-\")","v":"-"},null,{"$f":"IFERROR(AVERAGE(Q24:Q29),\"-\")","v":"-"},null,{"$f":"IFERROR(AVERAGE(S24:S29),\"-\")","v":"-"},null,{"$f":"IFERROR(AVERAGE(U24:U29),\"-\")","v":"-"},null,{"$f":"IFERROR(AVERAGE(W24:W29),\"-\")","v":"-"},null,{"$f":"IFERROR(AVERAGE(Y24:Y29),\"-\")","v":"-"}]
[{"$f":"'Skills explications FTEM'!A16:A16","v":0},null,null,{"$f":"IF($H$2=\"G\",'Skills explications FTEM'!F16,'Skills explications FTEM'!B16)","v":"Passer"},null,null,{"$f":"IF($H$2=\"G\",'Skills explications FTEM'!G16,'Skills explications FTEM'!C16)","v":"Donne la passe (distance, passe flipée en revers), réception de la passe (précision, timing, coup droit, revers, patins), vitesse du puck"},null,null,{"$f":"IF($H$2=\"G\",'Skills explications FTEM'!#REF!,'Skills explications FTEM'!#REF!)","v":{"$error":"#REF!"}}]
[{"$f":"'Skills explications FTEM'!A17:A17","v":0},null,null,{"$f":"IF($H$2=\"G\",'Skills explications FTEM'!F17,'Skills explications FTEM'!B17)","v":"Travail de canne, conduite du puck"},null,null,{"$f":"IF($H$2=\"G\",'Skills explications FTEM'!G17,'Skills explications FTEM'!C17)","v":"Puck sur la palette, intercepte les lignes de passe, déviation, contrôle de la canne de l'adversaire"},null,null,{"$f":"IF($H$2=\"G\",'Skills explications FTEM'!#REF!,'Skills explications FTEM'!#REF!)","v":{"$error":"#REF!"}}]
[null,null,null,{"$f":"IF($H$2=\"G\",'Skills explications FTEM'!F18,'Skills explications FTEM'!B18)","v":"Protéger le puck"},null,null,{"$f":"IF($H$2=\"G\",'Skills explications FTEM'!G18,'Skills explications FTEM'!C18)","v":"Contrôle du puck, dribbling, protection du puck, feintes (variantes: avec les patins ou avec et sans la bande), mise au jeu (bully)"},null,null,{"$f":"IF($H$2=\"G\",'Skills explications FTEM'!#REF!,'Skills explications FTEM'!#REF!)","v":{"$error":"#REF!"}}]
[null,null,null,{"$f":"IF($H$2=\"G\",'Skills explications FTEM'!F19,'Skills explications FTEM'!B19)","v":"Jeu du corps (charges)"},null,null,{"$f":"IF($H$2=\"G\",'Skills explications FTEM'!G19,'Skills explications FTEM'!C19)","v":"Faculté de s'imposer physiquement, duels (sur la surface de glace ou à la bande), prendre des checks, lever la tête, niveau de lutte, dur mais correct, bloquer les tirs avec le corps"},null,null,{"$f":"IF($H$2=\"G\",'Skills explications FTEM'!#REF!,'Skills explications FTEM'!#REF!)","v":{"$error":"#REF!"}}]
[{"$f":"'Skills explications FTEM'!A20:A20","v":0},null,null,{"$f":"IF($H$2=\"G\",'Skills explications FTEM'!F20,'Skills explications FTEM'!B20)","v":"-"},null,null,{"$f":"IF($H$2=\"G\",'Skills explications FTEM'!G20,'Skills explications FTEM'!C20)","v":"-"},null,null,{"$f":"IF($H$2=\"G\",'Skills explications FTEM'!#REF!,'Skills explications FTEM'!#REF!)","v":{"$error":"#REF!"}}]
[{"$f":"'Skills explications FTEM'!A21:A21","v":"HOCKEY SENSE"},null,null,{"$f":"IF($H$2=\"G\",'Skills explications FTEM'!F21,'Skills explications FTEM'!B21)","v":"Intelligence de jeu"},null,null,{"$f":"IF($H$2=\"G\",'Skills explications FTEM'!G21,'Skills explications FTEM'!C21)","v":"Voit les zones libres avec joueurs et crée des situations de surnombre, trouve des solutions et agit en toute situation, vitesse de la visualisation"},null,null,{"$f":"IF($H$2=\"G\",'Skills explications FTEM'!#REF!,'Skills explications FTEM'!#REF!)","v":{"$error":"#REF!"}},null,null,null,{"$f":"IFERROR(AVERAGE(O30:O34),\"-\")","v":"-"},null,{"$f":"IFERROR(AVERAGE(Q30:Q34),\"-\")","v":"-"},null,{"$f":"IFERROR(AVERAGE(S30:S34),\"-\")","v":"-"},null,{"$f":"IFERROR(AVERAGE(U30:U34),\"-\")","v":"-"},null,{"$f":"IFERROR(AVERAGE(W30:W34),\"-\")","v":"-"},null,{"$f":"IFERROR(AVERAGE(Y30:Y34),\"-\")","v":"-"}]
[{"$f":"'Skills explications FTEM'!A22:A22","v":0},null,null,{"$f":"IF($H$2=\"G\",'Skills explications FTEM'!F22,'Skills explications FTEM'!B22)","v":"Sensibilisation offensive"},null,null,{"$f":"IF($H$2=\"G\",'Skills explications FTEM'!G22,'Skills explications FTEM'!C22)","v":"Se démarque, anticipation des situations de jeu, ouvre des zones libres pour ses coéquipiers, se place pour marquer, vitesse de mise sous pression, communication"},null,null,{"$f":"IF($H$2=\"G\",'Skills explications FTEM'!#REF!,'Skills explications FTEM'!#REF!)","v":{"$error":"#REF!"}}]
[null,null,null,{"$f":"IF($H$2=\"G\",'Skills explications FTEM'!F23,'Skills explications FTEM'!B23)","v":"Sensibilisation défensive"},null,null,{"$f":"IF($H$2=\"G\",'Skills explications FTEM'!G23,'Skills explications FTEM'!C23)","v":"Garde la position «inside», protège le slot, rassure les coéquipiers, support, anticipe les lignes de passe, bloque les tirs. Réduit rapidement la distance sur l'adversaire, communication"},null,null,{"$f":"IF($H$2=\"G\",'Skills explications FTEM'!#REF!,'Skills explications FTEM'!#REF!)","v":{"$error":"#REF!"}}]
[{"$f":"'Skills explications FTEM'!A23:A23","v":0},null,null,{"$f":"IF($H$2=\"G\",'Skills explications FTEM'!F24,'Skills explications FTEM'!B24)","v":"Gestion du puck"},null,null,{"$f":"IF($H$2=\"G\",'Skills explications FTEM'!G24,'Skills explications FTEM'!C24)","v":"Fait le bon choix en fonction de la situation, support, surnombre"},null,null,{"$f":"IF($H$2=\"G\",'Skills explications FTEM'!#REF!,'Skills explications FTEM'!#REF!)","v":{"$error":"#REF!"}}]
[{"$f":"'Skills explications FTEM'!A25:A25","v":0},null,null,{"$f":"IF($H$2=\"G\",'Skills explications FTEM'!F25,'Skills explications FTEM'!B25)","v":"Créativité"},null,null,{"$f":"IF($H$2=\"G\",'Skills explications FTEM'!G25,'Skills explications FTEM'!C25)","v":"Prises de décision surprenantes, sens du but"},null,null,{"$f":"IF($H$2=\"G\",'Skills explications FTEM'!#REF!,'Skills explications FTEM'!#REF!)","v":{"$error":"#REF!"}}]
[{"$f":"'Skills explications FTEM'!A26:A26","v":"PERSONALITY"},null,null,{"$f":"'Skills explications FTEM'!B26","v":"COMPÉTENCES"},null,null,{"$f":"'Skills explications FTEM'!C26","v":"OBSERVATION"},null,null,{"$f":"'Skills explications FTEM'!H26","v":0},null,null,null,"Date1",null,"Date2",null,"Date3",null,"Date4",null,"Date5",null,"Player",null,"BUT","MESURES:\nSPECIFIQUE, MESURABLES, REALISTE",null,null,null,null,null,null,"DELAI","CONTRÔLE DU BUT","Date"]
[{"$f":"'Skills explications FTEM'!A27:A27","v":"PERSONNALITÉ"},null,null,{"$f":"IF($H$2=\"G\",'Skills explications FTEM'!F27,'Skills explications FTEM'!B27)","v":"Confiance en soi"},null,null,{"$f":"IF($H$2=\"G\",'Skills explications FTEM'!G27,'Skills explications FTEM'!C27)","v":"Est en confiance,«I can do it», peut estimer ses capacités (connaît ses qualités et ses défauts), peut réaliser ses qualités avec constance, est courageux et prend des risques calculés"},null,null,{"$f":"IF($H$2=\"G\",'Skills explications FTEM'!#REF!,'Skills explications FTEM'!#REF!)","v":{"$error":"#REF!"}},null,null,null,{"$f":"IFERROR(AVERAGE(O36:O40),\"-\")","v":"-"},null,null,null,{"$f":"IFERROR(AVERAGE(S36:S40),\"-\")","v":"-"},null,{"$f":"IFERROR(AVERAGE(U36:U40),\"-\")","v":"-"},null,{"$f":"IFERROR(AVERAGE(W36:W40),\"-\")","v":"-"},null,{"$f":"IFERROR(AVERAGE(Y36:Y40),\"-\")","v":"-"}]
[{"$f":"'Skills explications FTEM'!A28:A28","v":0},null,null,{"$f":"IF($H$2=\"G\",'Skills explications FTEM'!F28,'Skills explications FTEM'!B28)","v":"Facultés d'apprentissage"},null,null,{"$f":"IF($H$2=\"G\",'Skills explications FTEM'!G28,'Skills explications FTEM'!C28)","v":"A une bonne perception (il peut mémoriser et peut réaliser), il a de la personnalité, essaie d'apprendre de ses erreurs et est entreprenant"},null,null,{"$f":"IF($H$2=\"G\",'Skills explications FTEM'!#REF!,'Skills explications FTEM'!#REF!)","v":{"$error":"#REF!"}}]
[{"$f":"'Skills explications FTEM'!A29:A29","v":0},null,null,{"$f":"IF($H$2=\"G\",'Skills explications FTEM'!F29,'Skills explications FTEM'!B29)","v":"Prise de responsabilités"},null,null,{"$f":"IF($H$2=\"G\",'Skills explications FTEM'!G29,'Skills explications FTEM'!C29)","v":"Prend la responsabilité de ses performances et de son développement, est-il autonome, soigne-t-il les détails, a beaucoup d'engagement dans tous les domaines"},null,null,{"$f":"IF($H$2=\"G\",'Skills explications FTEM'!#REF!,'Skills explications FTEM'!#REF!)","v":{"$error":"#REF!"}}]
[null,null,null,{"$f":"IF($H$2=\"G\",'Skills explications FTEM'!F30,'Skills explications FTEM'!B30)","v":"Motivation"},null,null,{"$f":"IF($H$2=\"G\",'Skills explications FTEM'!G30,'Skills explications FTEM'!C30)","v":"Est toujours motivé, veut sans cesse se développer et apprendre, veut être le premier et avoir du succès, n'abandonne jamais et ne se laisse pas influencer par les échesc"},null,null,{"$f":"IF($H$2=\"G\",'Skills explications FTEM'!#REF!,'Skills explications FTEM'!#REF!)","v":{"$error":"#REF!"}}]
[{"$f":"'Skills explications FTEM'!A31:A31","v":0},null,null,{"$f":"IF($H$2=\"G\",'Skills explications FTEM'!F31,'Skills explications FTEM'!B31)","v":"Performance style de vie"},null,null,{"$f":"IF($H$2=\"G\",'Skills explications FTEM'!G31,'Skills explications FTEM'!C31)","v":"Gère bien son environnement et son temps libre selon les principes de la performance, obstiné, tenace et axé sur l'objectif, accent sur sa propre performance, est courageux et peut s'imposer contre la résistance, les défis le motivent"},null,null,{"$f":"IF($H$2=\"G\",'Skills explications FTEM'!#REF!,'Skills explications FTEM'!#REF!)","v":{"$error":"#REF!"}}]
[{"$f":"'Skills explications FTEM'!A32:A32","v":"FORCE MENTALE"},null,null,{"$f":"IF($H$2=\"G\",'Skills explications FTEM'!F32,'Skills explications FTEM'!B32)","v":"Engagement"},null,null,{"$f":"IF($H$2=\"G\",'Skills explications FTEM'!G32,'Skills explications FTEM'!C32)","v":"Démontre beaucoup d'intensité dans les entraînements et les matchs, donne toujours son maximum et veut sans cesse repousser ses limites, a-t-il de la passion, s'efforce-t-il de s'entraîner avec une excellente qualité"},null,null,{"$f":"IF($H$2=\"G\",'Skills explications FTEM'!#REF!,'Skills explications FTEM'!#REF!)","v":{"$error":"#REF!"}},null,null,null,{"$f":"IFERROR(AVERAGE(O41:O45),\"-\")","v":"-"},null,null,null,{"$f":"IFERROR(AVERAGE(S41:S45),\"-\")","v":"-"},null,{"$f":"IFERROR(AVERAGE(U41:U45),\"-\")","v":"-"},null,{"$f":"IFERROR(AVERAGE(W41:W45),\"-\")","v":"-"},null,{"$f":"IFERROR(AVERAGE(Y41:Y45),\"-\")","v":"-"}]
[{"$f":"'Skills explications FTEM'!A33:A33","v":0},null,null,{"$f":"IF($H$2=\"G\",'Skills explications FTEM'!F33,'Skills explications FTEM'!B33)","v":"Préparation"},null,null,{"$f":"IF($H$2=\"G\",'Skills explications FTEM'!G33,'Skills explications FTEM'!C33)","v":"Se prépare-t-il toujours bien, mentalement et physiquement, se prépare-t-il toujours bien pour obtenir le niveau de performance idéal (ILZ)"},null,null,{"$f":"IF($H$2=\"G\",'Skills explications FTEM'!#REF!,'Skills explications FTEM'!#REF!)","v":{"$error":"#REF!"}}]
[null,null,null,{"$f":"IF($H$2=\"G\",'Skills explications FTEM'!F34,'Skills explications FTEM'!B34)","v":"Coaching personnel"},null,null,{"$f":"IF($H$2=\"G\",'Skills explications FTEM'!G34,'Skills explications FTEM'!C34)","v":"A-t-il de bonnes facultés de concentration, peut-il maintenir son niveau de performance idéal (ILZ) dans les entraînements et les matchs, peut-il appliquer ses techniques de base, est-il résistant aux influences et pensées négatives, est-il conscient de son attitude corporelle et peut-il l'influencer"},null,null,{"$f":"IF($H$2=\"G\",'Skills explications FTEM'!#REF!,'Skills explications FTEM'!#REF!)","v":{"$error":"#REF!"}}]
[{"$f":"'Skills explications FTEM'!A34:A34","v":0},null,null,{"$f":"IF($H$2=\"G\",'Skills explications FTEM'!F35,'Skills explications FTEM'!B35)","v":"Gestion des énergies"},null,null,{"$f":"IF($H$2=\"G\",'Skills explications FTEM'!G35,'Skills explications FTEM'!C35)","v":"Peut-il gérer ses propres énergies, prend-il soin de sa récupération, peut-il gérer les moments où il faut se donner à fond ou quand il faut déconnecter, bouton On/Off"},null,null,{"$f":"IF($H$2=\"G\",'Skills explications FTEM'!#REF!,'Skills explications FTEM'!#REF!)","v":{"$error":"#REF!"}}]
[{"$f":"'Skills explications FTEM'!A36:A36","v":0},null,null,{"$f":"IF($H$2=\"G\",'Skills explications FTEM'!F36,'Skills explications FTEM'!B36)","v":"Contrôle des émotions"},null,null,{"$f":"IF($H$2=\"G\",'Skills explications FTEM'!G36,'Skills explications FTEM'!C36)","v":"Peut-il gérer ses propres émotions et impulsions, reste-t-il sous contrôle lorsqu'il y a une grande pression, peut-il rester calme lorsque le niveau émotionnel et de frustration est élevé"},null,null,{"$f":"IF($H$2=\"G\",'Skills explications FTEM'!#REF!,'Skills explications FTEM'!#REF!)","v":{"$error":"#REF!"}}]
[{"$f":"'Skills explications FTEM'!A37:A37","v":"PHYSIQUE"},null,null,{"$f":"IF($H$2=\"G\",'Skills explications FTEM'!F37,'Skills explications FTEM'!B37)","v":"Production de la performance"},null,null,{"$f":"IF($H$2=\"G\",'Skills explications FTEM'!G37,'Skills explications FTEM'!C37)","v":"A-t-il la puissance, la force, la vitesse nécessaires dans les jambes et le haut du corps (facteurs neuromusculaires)"},null,null,{"$f":"IF($H$2=\"G\",'Skills explications FTEM'!#REF!,'Skills explications FTEM'!#REF!)","v":{"$error":"#REF!"}},null,null,null,{"$f":"IFERROR(AVERAGE(O46:O50),\"-\")","v":"-"},null,null,null,{"$f":"IFERROR(AVERAGE(S46:S50),\"-\")","v":"-"},null,{"$f":"IFERROR(AVERAGE(U46:U50),\"-\")","v":"-"},null,{"$f":"IFERROR(AVERAGE(W46:W50),\"-\")","v":"-"},null,{"$f":"IFERROR(AVERAGE(Y46:Y50),\"-\")","v":"-"}]
[{"$f":"'Skills explications FTEM'!A38:A38","v":0},null,null,{"$f":"IF($H$2=\"G\",'Skills explications FTEM'!F38,'Skills explications FTEM'!B38)","v":"Spécifique au sport, résistant à l'effort"},null,null,{"$f":"IF($H$2=\"G\",'Skills explications FTEM'!G38,'Skills explications FTEM'!C38)","v":"Est-il capable de maintenir sa puissance, sa force, sa vitesse durant un long temps de glace et peut-il récupérer complètement entre ses engagements (facteurs du métabolisme et cardiovasculaire)"},null,null,{"$f":"IF($H$2=\"G\",'Skills explications FTEM'!#REF!,'Skills explications FTEM'!#REF!)","v":{"$error":"#REF!"}}]
[null,null,null,{"$f":"IF($H$2=\"G\",'Skills explications FTEM'!F39,'Skills explications FTEM'!B39)","v":"Santé / Prévention"},null,null,{"$f":"IF($H$2=\"G\",'Skills explications FTEM'!G39,'Skills explications FTEM'!C39)","v":"A-t-il la stabilité nécessaire (p. ex. ses appuis) et la mobilité nécessaire au niveau des articulations centrales"},null,null,{"$f":"IF($H$2=\"G\",'Skills explications FTEM'!#REF!,'Skills explications FTEM'!#REF!)","v":{"$error":"#REF!"}}]
[{"$f":"'Skills explications FTEM'!A39:A39","v":0},null,null,{"$f":"IF($H$2=\"G\",'Skills explications FTEM'!F40,'Skills explications FTEM'!B40)","v":"Mobilité / Coordination"},null,null,{"$f":"IF($H$2=\"G\",'Skills explications FTEM'!G40,'Skills explications FTEM'!C40)","v":"Gère-t-il ses aptitudes de mouvements de base, qui sont un fournisseur important des fonctions spécifiques «Skills» pour être efficace"},null,null,{"$f":"IF($H$2=\"G\",'Skills explications FTEM'!#REF!,'Skills explications FTEM'!#REF!)","v":{"$error":"#REF!"}}]
[{"$f":"'Skills explications FTEM'!A41:A41","v":0},null,null,{"$f":"IF($H$2=\"G\",'Skills explications FTEM'!F41,'Skills explications FTEM'!B41)","v":"Robustesse"},null,null,{"$f":"IF($H$2=\"G\",'Skills explications FTEM'!G41,'Skills explications FTEM'!C41)","v":"A-t-il la force de base nécessaire (tension corporelle) pour gagner des duels et résister aux charges"},null,null,{"$f":"IF($H$2=\"G\",'Skills explications FTEM'!#REF!,'Skills explications FTEM'!#REF!)","v":{"$error":"#REF!"}}]

{"sheet":"26","index":29,"n_rows":50,"n_cols":36,"rows_kept":50,"cut":false,"hidden":false,"merged":[[45,25,49,25],[45,26,49,32],[45,34,49,34],[40,23,44,23],[42,3,42,5],[42,6,42,11],[44,3,44,5],[44,6,44,11],[40,0,44,2],[40,3,40,5],[40,6,40,11],[40,12,44,12],[40,13,44,13],[40,15,44,15],[45,0,49,2],[45,3,45,5],[45,6,45,11],[45,12,49,12],[45,23,49,23],[47,3,47,5],[47,6,47,11],[48,3,48,5],[48,6,48,11],[49,3,49,5],[34,21,34,22],[35,17,39,17],[35,19,39,19],[35,21,39,21],[36,3,36,5],[36,6,36,11],[38,3,38,5],[38,6,38,11],[40,17,44,17],[40,19,44,19],[40,21,44,21],[43,3,43,5],[43,6,43,11],[37,3,37,5],[37,6,37,11],[41,3,41,5],[41,6,41,11],[29,0,33,2],[29,3,29,5],[29,6,29,11],[29,12,33,12],[29,13,33,13],[29,15,33,15],[34,23,34,24],[34,26,34,32],[35,0,39,2],[35,3,35,5],[35,6,35,11],[35,12,39,12],[35,13,39,13],[35,15,39,15],[39,3,39,5],[39,6,39,11],[35,23,39,23],[34,0,34,2],[34,3,34,5],[34,6,34,11],[34,13,34,14],[34,15,34,16],[34,17,34,18],[34,19,34,20],[23,21,28,21],[23,23,28,23],[24,3,24,5],[24,6,24,11],[28,3,28,5],[28,6,28,11],[33,3,33,5],[33,6,33,11],[29,23,33,23],[29,17,33,17],[29,19,33,19],[29,21,33,21],[30,3,30,5],[30,6,30,11],[31,3,31,5],[31,6,31,11],[25,3,25,5],[25,6,25,11],[32,3,32,5],[32,6,32,11],[18,15,22,15],[18,17,22,17],[18,19,22,19],[18,21,22,21],[18,23,22,23],[22,3,22,5],[22,6,22,11],[23,0,28,2],[23,3,23,5],[23,6,23,11],[23,12,28,12],[23,13,28,13],[23,15,28,15],[23,17,28,17],[18,0,22,2],[18,3,18,5],[18,6,18,11],[18,12,22,12],[18,13,22,13],[19,3,19,5],[19,6,19,11],[20,3,20,5],[20,6,20,11],[23,19,28,19],[12,23,16,23],[16,3,16,5],[16,6,16,11],[17,0,17,2],[17,3,17,5],[17,6,17,11],[17,13,17,14],[17,15,17,16],[17,17,17,18],[17,19,17,20],[17,21,17,22],[17,23,17,24],[12,0,16,2],[12,3,12,5],[12,6,12,11],[12,12,16,12],[12,13,16,13],[12,15,16,15],[12,17,16,17],[12,19,16,19],[12,21,16,21],[13,3,13,5],[13,6,13,11],[14,3,14,5],[11,0,11,2],[11,3,11,5],[11,13,11,14],[11,15,11,16],[11,17,11,18],[11,19,11,20],[11,21,11,22],[11,23,11,24],[11,26,11,32],[11,6,11,11],[0,33,0,35],[29,25,33,25],[29,26,33,32],[29,34,33,34],[35,25,39,25],[35,26,39,32],[35,34,39,34],[1,0,1,1],[1,2,1,5],[1,10,1,24],[2,0,2,1],[2,2,2,5],[2,11,2,24],[6,0,6,1],[6,2,6,35],[7,0,7,1],[7,2,7,35],[8,0,8,1],[8,2,8,35],[3,0,3,1],[3,10,3,24],[4,0,4,1],[4,2,4,5],[4,10,4,24],[49,6,49,11],[45,13,49,13],[45,15,49,15],[45,17,49,17],[45,19,49,19],[45,21,49,21],[0,0,0,24],[0,25,0,26],[0,27,0,32],[10,0,10,24],[10,25,10,35],[40,25,44,25],[40,26,44,32],[40,34,44,34],[12,25,16,25],[12,26,16,32],[12,34,16,34],[18,25,22,25],[18,26,22,32],[18,34,22,34],[23,25,28,25],[23,26,28,32],[23,34,28,34],[17,26,17,32],[46,3,46,5],[46,6,46,11],[14,6,14,11],[15,3,15,5],[15,6,15,11],[21,3,21,5],[21,6,21,11],[26,3,26,5],[26,6,26,11],[27,3,27,5],[27,6,27,11]]}
["Infos personelles",null,null,null,null,null,null,null,null,null,null,null,null,null,null,null,null,null,null,null,null,null,null,null,null,"Predispositions",null,"Evaluations",null,null,null,null,null,"Rating"]
["PRENOM",null,{"$f":"IF(ISBLANK(VLOOKUP(26,Tabelle3[],3,0)),\"-\",VLOOKUP(26,Tabelle3[],3,0))","v":"-"},null,null,null,"POSITION",null,null,"ADRESSE",{"$f":"IF(ISBLANK(VLOOKUP(26,Tabelle3[],5,0)),\"-\",VLOOKUP(26,Tabelle3[],5,0))","v":"-"},null,null,null,null,null,null,null,null,null,null,null,null,null,null,"\"àage\" (Biologique/age relatif)",null,"Date 1",null,null,"cm",null,"Kg",null,"AUSGEZEICHNET",5]
["NOM",null,{"$f":"IF(ISBLANK(VLOOKUP(26,Tabelle3[],2,0)),\"-\",VLOOKUP(26,Tabelle3[],2,0))","v":"-"},null,null,null,"CANNE",null,null,"LIEU",{"$f":"IF(ISBLANK(VLOOKUP(26,Tabelle3[],7,0)),\"-\",VLOOKUP(26,Tabelle3[],7,0))","v":"-"},{"$f":"IF(ISBLANK(VLOOKUP(26,Tabelle3[],6,0)),\"-\",VLOOKUP(26,Tabelle3[],6,0))","v":"-"},null,null,null,null,null,null,null,null,null,null,null,null,null,"predispositions",null,"Date 2",null,null,"cm",null,"Kg",null,"GUT",4]
["DATE NAISS.",null,{"$f":"IF(ISBLANK(VLOOKUP(26,Tabelle3[],14,0)),\"-\",VLOOKUP(26,Tabelle3[],14,0))","v":"-"},{"$f":"IF(ISBLANK(VLOOKUP(26,Tabelle3[],15,0)),\"-\",VLOOKUP(26,Tabelle3[],15,0))","v":"-"},{"$f":"IF(ISBLANK(VLOOKUP(26,Tabelle3[],16,0)),\"-\",VLOOKUP(26,Tabelle3[],16,0))","v":"-"},null,"GRANDEUR",null,"cm","PHONE",{"$f":"IF(ISBLANK(VLOOKUP(26,Tabelle3[],8,0)),\"-\",VLOOKUP(26,Tabelle3[],8,0))","v":"-"},null,null,null,null,null,null,null,null,null,null,null,null,null,null,"Entourage",null,"Date 3",null,null,"cm",null,"Kg",null,"DURCHSCHNITT",3]
["SEXE",null,{"$f":"IF(ISBLANK(VLOOKUP(26,Tabelle3[],13,0)),\"-\",VLOOKUP(26,Tabelle3[],13,0))","v":"-"},null,null,null,"POIDS",null,"Kg","E-Mail",{"$f":"IF(ISBLANK(VLOOKUP(26,Tabelle3[],9,0)),\"-\",VLOOKUP(26,Tabelle3[],9,0))","v":"-"},null,null,null,null,null,null,null,null,null,null,null,null,null,null,null,null,"Date 4",null,null,"cm",null,"Kg",null,"MANGELHAFT",2]
[null,null,null,null,null,null,null,null,null,null,null,null,null,null,null,null,null,null,null,null,null,null,null,null,null,null,null,"Date 5",null,null,"cm",null,"Kg",null,"UNGENÜGEND",1]
["Vision",null,"xxx"]
["Next step",null,"xxx"]
["Profil du Joueur",null,"xxx"]
[]
["EVALUATION (COACH / JOUEUR)",null,null,null,null,null,null,null,null,null,null,null,null,null,null,null,null,null,null,null,null,null,null,null,null,"SMART"]
[{"$f":"'Skills explications FTEM'!A3:A3","v":"TEAM"},null,null,{"$f":"'Skills explications FTEM'!B3","v":"COMPÉTENCES"},null,null,{"$f":"'Skills explications FTEM'!C3","v":"OBSERVATION"},null,null,{"$f":"'Skills explications FTEM'!H3","v":0},null,null,"Final","Date1",null,"Date2",null,"Date3",null,"Date4",null,"Date5",null,"Player",null,"BUT","MESURES:\nSPECIFIQUE, MESURABLES, REALISTE",null,null,null,null,null,null,"DELAI","CONTRÔLE DU BUT","Date"]
[{"$f":"'Skills explications FTEM'!A4:A4","v":"ÉQUIPE"},null,null,{"$f":"IF($H$2=\"G\",'Skills explications FTEM'!F4,'Skills explications FTEM'!B4)","v":"Communication"},null,null,{"$f":"IF($H$2=\"G\",'Skills explications FTEM'!G4,'Skills explications FTEM'!C4)","v":"Respect et ouverture dans ses relations, confiance comme base, traite les conflits sans perturber la stabilité du groupe, communique avec ses coéquipiers, les entraîneurs et les fonctionnaires avec les mêmes valeurs"},null,null,{"$f":"IF($H$2=\"G\",'Skills explications FTEM'!#REF!,'Skills explications FTEM'!#REF!)","v":{"$error":"#REF!"}},null,null,null,{"$f":"IFERROR(AVERAGE(O13:O17),\"-\")","v":"-"},null,{"$f":"IFERROR(AVERAGE(Q13:Q17),\"-\")","v":"-"},null,{"$f":"IFERROR(AVERAGE(S13:S17),\"-\")","v":"-"},null,{"$f":"IFERROR(AVERAGE(U13:U17),\"-\")","v":"-"},null,{"$f":"IFERROR(AVERAGE(W13:W17),\"-\")","v":"-"},null,{"$f":"IFERROR(AVERAGE(Y13:Y17),\"-\")","v":"-"}]
[null,null,null,{"$f":"IF($H$2=\"G\",'Skills explications FTEM'!F5,'Skills explications FTEM'!B5)","v":"Capacité de jouer en équipe"},null,null,{"$f":"IF($H$2=\"G\",'Skills explications FTEM'!G5,'Skills explications FTEM'!C5)","v":"Intégration dans le groupe, définit et réalise des objectifs communs, NOUS avant le MOI, participe au bon esprit d'équipe et à un bon climat de travail"},null,null,{"$f":"IF($H$2=\"G\",'Skills explications FTEM'!#REF!,'Skills explications FTEM'!#REF!)","v":{"$error":"#REF!"}}]
[null,null,null,{"$f":"IF($H$2=\"G\",'Skills explications FTEM'!F6,'Skills explications FTEM'!B6)","v":"Leadership"},null,null,{"$f":"IF($H$2=\"G\",'Skills explications FTEM'!G6,'Skills explications FTEM'!C6)","v":"Prend des responsabilités dans le groupe, essaie de donner de la valeur à ses coéquipiers et au groupe, influence positivement la dynamique de groupe"},null,null,{"$f":"IF($H$2=\"G\",'Skills explications FTEM'!#REF!,'Skills explications FTEM'!#REF!)","v":{"$error":"#REF!"}}]
[null,null,null,{"$f":"IF($H$2=\"G\",'Skills explications FTEM'!F7,'Skills explications FTEM'!B7)","v":"Répartition des rôles"},null,null,{"$f":"IF($H$2=\"G\",'Skills explications FTEM'!G7,'Skills explications FTEM'!C7)","v":"Connaît son rôle et le réalise, est conscient de sa position dans l'équipe et le système, met ses compétences à disposition de l'équipe"},null,null,{"$f":"IF($H$2=\"G\",'Skills explications FTEM'!#REF!,'Skills explications FTEM'!#REF!)","v":{"$error":"#REF!"}}]
[{"$f":"'Skills explications FTEM'!A8:A8","v":0},null,null,{"$f":"IF($H$2=\"G\",'Skills explications FTEM'!F8,'Skills explications FTEM'!B8)","v":"Respect"},null,null,{"$f":"IF($H$2=\"G\",'Skills explications FTEM'!G8,'Skills explications FTEM'!C8)","v":"Relations respectueuses avec les coéquipiers, les entraîneurs, les adversaires, les arbitres et le staff; respect des règles, des principes du fairplay (y compris antidopage)"},null,null,{"$f":"IF($H$2=\"G\",'Skills explications FTEM'!#REF!,'Skills explications FTEM'!#REF!)","v":{"$error":"#REF!"}}]
[{"$f":"'Skills explications FTEM'!A9:A9","v":"ON ICE"},null,null,{"$f":"'Skills explications FTEM'!B9","v":"COMPÉTENCES"},null,null,{"$f":"'Skills explications FTEM'!C9","v":"OBSERVATION"},null,null,{"$f":"'Skills explications FTEM'!H9","v":0},null,null,null,"Date1",null,"Date2",null,"Date3",null,"Date4",null,"Date5",null,"Player",null,"BUT","MESURES:\nSPECIFIQUE, MESURABLES, REALISTE",null,null,null,null,null,null,"DELAI","CONTRÔLE DU BUT","Date"]
[{"$f":"'Skills explications FTEM'!A10:A10","v":"PATINAGE"},null,null,{"$f":"IF($H$2=\"G\",'Skills explications FTEM'!F10,'Skills explications FTEM'!B10)","v":"Vitesse de patinage"},null,null,{"$f":"IF($H$2=\"G\",'Skills explications FTEM'!G10,'Skills explications FTEM'!C10)","v":"Accélération, départ, explosivité des 3 premiers pas, fréquence"},null,null,{"$f":"IF($H$2=\"G\",'Skills explications FTEM'!#REF!,'Skills explications FTEM'!#REF!)","v":{"$error":"#REF!"}},null,null,null,{"$f":"IFERROR(AVERAGE(O19:O23),\"-\")","v":"-"},null,{"$f":"IFERROR(AVERAGE(Q19:Q23),\"-\")","v":"-"},null,{"$f":"IFERROR(AVERAGE(S19:S23),\"-\")","v":"-"},null,{"$f":"IFERROR(AVERAGE(U19:U23),\"-\")","v":"-"},null,{"$f":"IFERROR(AVERAGE(W19:W23),\"-\")","v":"-"},null,{"$f":"IFERROR(AVERAGE(Y19:Y23),\"-\")","v":"-"}]
[{"$f":"'Skills explications FTEM'!A11:A11","v":0},null,null,{"$f":"IF($H$2=\"G\",'Skills explications FTEM'!F11,'Skills explications FTEM'!B11)","v":"Vitesse, rapidité"},null,null,{"$f":"IF($H$2=\"G\",'Skills explications FTEM'!G11,'Skills explications FTEM'!C11)","v":"Vitesse, faculté de glisse, avant et arrière, économie des forces"},null,null,{"$f":"IF($H$2=\"G\",'Skills explications FTEM'!#REF!,'Skills explications FTEM'!#REF!)","v":{"$error":"#REF!"}}]
[{"$f":"'Skills explications FTEM'!A12:A12","v":0},null,null,{"$f":"IF($H$2=\"G\",'Skills explications FTEM'!F12,'Skills explications FTEM'!B12)","v":"Agilité"},null,null,{"$f":"IF($H$2=\"G\",'Skills explications FTEM'!G12,'Skills explications FTEM'!C12)","v":"Changements de direction, pivots, stop et start «Nummelin»"},null,null,{"$f":"IF($H$2=\"G\",'Skills explications FTEM'!#REF!,'Skills explications FTEM'!#REF!)","v":{"$error":"#REF!"}},null,null,null,{"$f":"IFERROR(AVERAGE(O21:O23),\"-\")","v":"-"},null,{"$f":"IFERROR(AVERAGE(Q21:Q23),\"-\")","v":"-"},null,{"$f":"IFERROR(AVERAGE(S21:S23),\"-\")","v":"-"},null,{"$f":"IFERROR(AVERAGE(U21:U23),\"-\")","v":"-"},null,{"$f":"IFERROR(AVERAGE(W21:W23),\"-\")","v":"-"},null,"-"]
[null,null,null,{"$f":"IF($H$2=\"G\",'Skills explications FTEM'!F13,'Skills explications FTEM'!B13)","v":"Balance"},null,null,{"$f":"IF($H$2=\"G\",'Skills explications FTEM'!G13,'Skills explications FTEM'!C13)","v":"Equilibre, faculté d'être sur ses appuis, position basse, 1 ou 2 jambes"},null,null,{"$f":"IF($H$2=\"G\",'Skills explications FTEM'!#REF!,'Skills explications FTEM'!#REF!)","v":{"$error":"#REF!"}}]
[{"$f":"'Skills explications FTEM'!#REF!","v":{"$error":"#REF!"}},null,null,{"$f":"IF($H$2=\"G\",'Skills explications FTEM'!F14,'Skills explications FTEM'!B14)","v":"Patinage arrière"},null,null,{"$f":"IF($H$2=\"G\",'Skills explications FTEM'!G14,'Skills explications FTEM'!C14)","v":"Accélération, vitesse, équilibre "},null,null,{"$f":"IF($H$2=\"G\",'Skills explications FTEM'!#REF!,'Skills explications FTEM'!#REF!)","v":{"$error":"#REF!"}}]
[{"$f":"'Skills explications FTEM'!A15:A15","v":"SKILLS"},null,null,{"$f":"IF($H$2=\"G\",'Skills explications FTEM'!F15,'Skills explications FTEM'!B15)","v":"Tirer"},null,null,{"$f":"IF($H$2=\"G\",'Skills explications FTEM'!G15,'Skills explications FTEM'!C15)","v":"Efficience (pas d'espace et de temps), variantes, degré de surprise (déclenchement rapide), précision, puissance (conclusion tactique)"},null,null,{"$f":"IF($H$2=\"G\",'Skills explications FTEM'!#REF!,'Skills explications FTEM'!#REF!)","v":{"$error":"#REF!"}},null,null,null,{"$f":"IFERROR(AVERAGE(O24:O29),\"-\")","v":"-"},null,{"$f":"IFERROR(AVERAGE(Q24:Q29),\"-\")","v":"-"},null,{"$f":"IFERROR(AVERAGE(S24:S29),\"-\")","v":"-"},null,{"$f":"IFERROR(AVERAGE(U24:U29),\"-\")","v":"-"},null,{"$f":"IFERROR(AVERAGE(W24:W29),\"-\")","v":"-"},null,{"$f":"IFERROR(AVERAGE(Y24:Y29),\"-\")","v":"-"}]
[{"$f":"'Skills explications FTEM'!A16:A16","v":0},null,null,{"$f":"IF($H$2=\"G\",'Skills explications FTEM'!F16,'Skills explications FTEM'!B16)","v":"Passer"},null,null,{"$f":"IF($H$2=\"G\",'Skills explications FTEM'!G16,'Skills explications FTEM'!C16)","v":"Donne la passe (distance, passe flipée en revers), réception de la passe (précision, timing, coup droit, revers, patins), vitesse du puck"},null,null,{"$f":"IF($H$2=\"G\",'Skills explications FTEM'!#REF!,'Skills explications FTEM'!#REF!)","v":{"$error":"#REF!"}}]
[{"$f":"'Skills explications FTEM'!A17:A17","v":0},null,null,{"$f":"IF($H$2=\"G\",'Skills explications FTEM'!F17,'Skills explications FTEM'!B17)","v":"Travail de canne, conduite du puck"},null,null,{"$f":"IF($H$2=\"G\",'Skills explications FTEM'!G17,'Skills explications FTEM'!C17)","v":"Puck sur la palette, intercepte les lignes de passe, déviation, contrôle de la canne de l'adversaire"},null,null,{"$f":"IF($H$2=\"G\",'Skills explications FTEM'!#REF!,'Skills explications FTEM'!#REF!)","v":{"$error":"#REF!"}}]
[null,null,null,{"$f":"IF($H$2=\"G\",'Skills explications FTEM'!F18,'Skills explications FTEM'!B18)","v":"Protéger le puck"},null,null,{"$f":"IF($H$2=\"G\",'Skills explications FTEM'!G18,'Skills explications FTEM'!C18)","v":"Contrôle du puck, dribbling, protection du puck, feintes (variantes: avec les patins ou avec et sans la bande), mise au jeu (bully)"},null,null,{"$f":"IF($H$2=\"G\",'Skills explications FTEM'!#REF!,'Skills explications FTEM'!#REF!)","v":{"$error":"#REF!"}}]
[null,null,null,{"$f":"IF($H$2=\"G\",'Skills explications FTEM'!F19,'Skills explications FTEM'!B19)","v":"Jeu du corps (charges)"},null,null,{"$f":"IF($H$2=\"G\",'Skills explications FTEM'!G19,'Skills explications FTEM'!C19)","v":"Faculté de s'imposer physiquement, duels (sur la surface de glace ou à la bande), prendre des checks, lever la tête, niveau de lutte, dur mais correct, bloquer les tirs avec le corps"},null,null,{"$f":"IF($H$2=\"G\",'Skills explications FTEM'!#REF!,'Skills explications FTEM'!#REF!)","v":{"$error":"#REF!"}}]
[{"$f":"'Skills explications FTEM'!A20:A20","v":0},null,null,{"$f":"IF($H$2=\"G\",'Skills explications FTEM'!F20,'Skills explications FTEM'!B20)","v":"-"},null,null,{"$f":"IF($H$2=\"G\",'Skills explications FTEM'!G20,'Skills explications FTEM'!C20)","v":"-"},null,null,{"$f":"IF($H$2=\"G\",'Skills explications FTEM'!#REF!,'Skills explications FTEM'!#REF!)","v":{"$error":"#REF!"}}]
[{"$f":"'Skills explications FTEM'!A21:A21","v":"HOCKEY SENSE"},null,null,{"$f":"IF($H$2=\"G\",'Skills explications FTEM'!F21,'Skills explications FTEM'!B21)","v":"Intelligence de jeu"},null,null,{"$f":"IF($H$2=\"G\",'Skills explications FTEM'!G21,'Skills explications FTEM'!C21)","v":"Voit les zones libres avec joueurs et crée des situations de surnombre, trouve des solutions et agit en toute situation, vitesse de la visualisation"},null,null,{"$f":"IF($H$2=\"G\",'Skills explications FTEM'!#REF!,'Skills explications FTEM'!#REF!)","v":{"$error":"#REF!"}},null,null,null,{"$f":"IFERROR(AVERAGE(O30:O34),\"-\")","v":"-"},null,{"$f":"IFERROR(AVERAGE(Q30:Q34),\"-\")","v":"-"},null,{"$f":"IFERROR(AVERAGE(S30:S34),\"-\")","v":"-"},null,{"$f":"IFERROR(AVERAGE(U30:U34),\"-\")","v":"-"},null,{"$f":"IFERROR(AVERAGE(W30:W34),\"-\")","v":"-"},null,{"$f":"IFERROR(AVERAGE(Y30:Y34),\"-\")","v":"-"}]
[{"$f":"'Skills explications FTEM'!A22:A22","v":0},null,null,{"$f":"IF($H$2=\"G\",'Skills explications FTEM'!F22,'Skills explications FTEM'!B22)","v":"Sensibilisation offensive"},null,null,{"$f":"IF($H$2=\"G\",'Skills explications FTEM'!G22,'Skills explications FTEM'!C22)","v":"Se démarque, anticipation des situations de jeu, ouvre des zones libres pour ses coéquipiers, se place pour marquer, vitesse de mise sous pression, communication"},null,null,{"$f":"IF($H$2=\"G\",'Skills explications FTEM'!#REF!,'Skills explications FTEM'!#REF!)","v":{"$error":"#REF!"}}]
[null,null,null,{"$f":"IF($H$2=\"G\",'Skills explications FTEM'!F23,'Skills explications FTEM'!B23)","v":"Sensibilisation défensive"},null,null,{"$f":"IF($H$2=\"G\",'Skills explications FTEM'!G23,'Skills explications FTEM'!C23)","v":"Garde la position «inside», protège le slot, rassure les coéquipiers, support, anticipe les lignes de passe, bloque les tirs. Réduit rapidement la distance sur l'adversaire, communication"},null,null,{"$f":"IF($H$2=\"G\",'Skills explications FTEM'!#REF!,'Skills explications FTEM'!#REF!)","v":{"$error":"#REF!"}}]
[{"$f":"'Skills explications FTEM'!A23:A23","v":0},null,null,{"$f":"IF($H$2=\"G\",'Skills explications FTEM'!F24,'Skills explications FTEM'!B24)","v":"Gestion du puck"},null,null,{"$f":"IF($H$2=\"G\",'Skills explications FTEM'!G24,'Skills explications FTEM'!C24)","v":"Fait le bon choix en fonction de la situation, support, surnombre"},null,null,{"$f":"IF($H$2=\"G\",'Skills explications FTEM'!#REF!,'Skills explications FTEM'!#REF!)","v":{"$error":"#REF!"}}]
[{"$f":"'Skills explications FTEM'!A25:A25","v":0},null,null,{"$f":"IF($H$2=\"G\",'Skills explications FTEM'!F25,'Skills explications FTEM'!B25)","v":"Créativité"},null,null,{"$f":"IF($H$2=\"G\",'Skills explications FTEM'!G25,'Skills explications FTEM'!C25)","v":"Prises de décision surprenantes, sens du but"},null,null,{"$f":"IF($H$2=\"G\",'Skills explications FTEM'!#REF!,'Skills explications FTEM'!#REF!)","v":{"$error":"#REF!"}}]
[{"$f":"'Skills explications FTEM'!A26:A26","v":"PERSONALITY"},null,null,{"$f":"'Skills explications FTEM'!B26","v":"COMPÉTENCES"},null,null,{"$f":"'Skills explications FTEM'!C26","v":"OBSERVATION"},null,null,{"$f":"'Skills explications FTEM'!H26","v":0},null,null,null,"Date1",null,"Date2",null,"Date3",null,"Date4",null,"Date5",null,"Player",null,"BUT","MESURES:\nSPECIFIQUE, MESURABLES, REALISTE",null,null,null,null,null,null,"DELAI","CONTRÔLE DU BUT","Date"]
[{"$f":"'Skills explications FTEM'!A27:A27","v":"PERSONNALITÉ"},null,null,{"$f":"IF($H$2=\"G\",'Skills explications FTEM'!F27,'Skills explications FTEM'!B27)","v":"Confiance en soi"},null,null,{"$f":"IF($H$2=\"G\",'Skills explications FTEM'!G27,'Skills explications FTEM'!C27)","v":"Est en confiance,«I can do it», peut estimer ses capacités (connaît ses qualités et ses défauts), peut réaliser ses qualités avec constance, est courageux et prend des risques calculés"},null,null,{"$f":"IF($H$2=\"G\",'Skills explications FTEM'!#REF!,'Skills explications FTEM'!#REF!)","v":{"$error":"#REF!"}},null,null,null,{"$f":"IFERROR(AVERAGE(O36:O40),\"-\")","v":"-"},null,null,null,{"$f":"IFERROR(AVERAGE(S36:S40),\"-\")","v":"-"},null,{"$f":"IFERROR(AVERAGE(U36:U40),\"-\")","v":"-"},null,{"$f":"IFERROR(AVERAGE(W36:W40),\"-\")","v":"-"},null,{"$f":"IFERROR(AVERAGE(Y36:Y40),\"-\")","v":"-"}]
[{"$f":"'Skills explications FTEM'!A28:A28","v":0},null,null,{"$f":"IF($H$2=\"G\",'Skills explications FTEM'!F28,'Skills explications FTEM'!B28)","v":"Facultés d'apprentissage"},null,null,{"$f":"IF($H$2=\"G\",'Skills explications FTEM'!G28,'Skills explications FTEM'!C28)","v":"A une bonne perception (il peut mémoriser et peut réaliser), il a de la personnalité, essaie d'apprendre de ses erreurs et est entreprenant"},null,null,{"$f":"IF($H$2=\"G\",'Skills explications FTEM'!#REF!,'Skills explications FTEM'!#REF!)","v":{"$error":"#REF!"}}]
[{"$f":"'Skills explications FTEM'!A29:A29","v":0},null,null,{"$f":"IF($H$2=\"G\",'Skills explications FTEM'!F29,'Skills explications FTEM'!B29)","v":"Prise de responsabilités"},null,null,{"$f":"IF($H$2=\"G\",'Skills explications FTEM'!G29,'Skills explications FTEM'!C29)","v":"Prend la responsabilité de ses performances et de son développement, est-il autonome, soigne-t-il les détails, a beaucoup d'engagement dans tous les domaines"},null,null,{"$f":"IF($H$2=\"G\",'Skills explications FTEM'!#REF!,'Skills explications FTEM'!#REF!)","v":{"$error":"#REF!"}}]
[null,null,null,{"$f":"IF($H$2=\"G\",'Skills explications FTEM'!F30,'Skills explications FTEM'!B30)","v":"Motivation"},null,null,{"$f":"IF($H$2=\"G\",'Skills explications FTEM'!G30,'Skills explications FTEM'!C30)","v":"Est toujours motivé, veut sans cesse se développer et apprendre, veut être le premier et avoir du succès, n'abandonne jamais et ne se laisse pas influencer par les échesc"},null,null,{"$f":"IF($H$2=\"G\",'Skills explications FTEM'!#REF!,'Skills explications FTEM'!#REF!)","v":{"$error":"#REF!"}}]
[{"$f":"'Skills explications FTEM'!A31:A31","v":0},null,null,{"$f":"IF($H$2=\"G\",'Skills explications FTEM'!F31,'Skills explications FTEM'!B31)","v":"Performance style de vie"},null,null,{"$f":"IF($H$2=\"G\",'Skills explications FTEM'!G31,'Skills explications FTEM'!C31)","v":"Gère bien son environnement et son temps libre selon les principes de la performance, obstiné, tenace et axé sur l'objectif, accent sur sa propre performance, est courageux et peut s'imposer contre la résistance, les défis le motivent"},null,null,{"$f":"IF($H$2=\"G\",'Skills explications FTEM'!#REF!,'Skills explications FTEM'!#REF!)","v":{"$error":"#REF!"}}]
[{"$f":"'Skills explications FTEM'!A32:A32","v":"FORCE MENTALE"},null,null,{"$f":"IF($H$2=\"G\",'Skills explications FTEM'!F32,'Skills explications FTEM'!B32)","v":"Engagement"},null,null,{"$f":"IF($H$2=\"G\",'Skills explications FTEM'!G32,'Skills explications FTEM'!C32)","v":"Démontre beaucoup d'intensité dans les entraînements et les matchs, donne toujours son maximum et veut sans cesse repousser ses limites, a-t-il de la passion, s'efforce-t-il de s'entraîner avec une excellente qualité"},null,null,{"$f":"IF($H$2=\"G\",'Skills explications FTEM'!#REF!,'Skills explications FTEM'!#REF!)","v":{"$error":"#REF!"}},null,null,null,{"$f":"IFERROR(AVERAGE(O41:O45),\"-\")","v":"-"},null,null,null,{"$f":"IFERROR(AVERAGE(S41:S45),\"-\")","v":"-"},null,{"$f":"IFERROR(AVERAGE(U41:U45),\"-\")","v":"-"},null,{"$f":"IFERROR(AVERAGE(W41:W45),\"-\")","v":"-"},null,{"$f":"IFERROR(AVERAGE(Y41:Y45),\"-\")","v":"-"}]
[{"$f":"'Skills explications FTEM'!A33:A33","v":0},null,null,{"$f":"IF($H$2=\"G\",'Skills explications FTEM'!F33,'Skills explications FTEM'!B33)","v":"Préparation"},null,null,{"$f":"IF($H$2=\"G\",'Skills explications FTEM'!G33,'Skills explications FTEM'!C33)","v":"Se prépare-t-il toujours bien, mentalement et physiquement, se prépare-t-il toujours bien pour obtenir le niveau de performance idéal (ILZ)"},null,null,{"$f":"IF($H$2=\"G\",'Skills explications FTEM'!#REF!,'Skills explications FTEM'!#REF!)","v":{"$error":"#REF!"}}]
[null,null,null,{"$f":"IF($H$2=\"G\",'Skills explications FTEM'!F34,'Skills explications FTEM'!B34)","v":"Coaching personnel"},null,null,{"$f":"IF($H$2=\"G\",'Skills explications FTEM'!G34,'Skills explications FTEM'!C34)","v":"A-t-il de bonnes facultés de concentration, peut-il maintenir son niveau de performance idéal (ILZ) dans les entraînements et les matchs, peut-il appliquer ses techniques de base, est-il résistant aux influences et pensées négatives, est-il conscient de son attitude corporelle et peut-il l'influencer"},null,null,{"$f":"IF($H$2=\"G\",'Skills explications FTEM'!#REF!,'Skills explications FTEM'!#REF!)","v":{"$error":"#REF!"}}]
[{"$f":"'Skills explications FTEM'!A34:A34","v":0},null,null,{"$f":"IF($H$2=\"G\",'Skills explications FTEM'!F35,'Skills explications FTEM'!B35)","v":"Gestion des énergies"},null,null,{"$f":"IF($H$2=\"G\",'Skills explications FTEM'!G35,'Skills explications FTEM'!C35)","v":"Peut-il gérer ses propres énergies, prend-il soin de sa récupération, peut-il gérer les moments où il faut se donner à fond ou quand il faut déconnecter, bouton On/Off"},null,null,{"$f":"IF($H$2=\"G\",'Skills explications FTEM'!#REF!,'Skills explications FTEM'!#REF!)","v":{"$error":"#REF!"}}]
[{"$f":"'Skills explications FTEM'!A36:A36","v":0},null,null,{"$f":"IF($H$2=\"G\",'Skills explications FTEM'!F36,'Skills explications FTEM'!B36)","v":"Contrôle des émotions"},null,null,{"$f":"IF($H$2=\"G\",'Skills explications FTEM'!G36,'Skills explications FTEM'!C36)","v":"Peut-il gérer ses propres émotions et impulsions, reste-t-il sous contrôle lorsqu'il y a une grande pression, peut-il rester calme lorsque le niveau émotionnel et de frustration est élevé"},null,null,{"$f":"IF($H$2=\"G\",'Skills explications FTEM'!#REF!,'Skills explications FTEM'!#REF!)","v":{"$error":"#REF!"}}]
[{"$f":"'Skills explications FTEM'!A37:A37","v":"PHYSIQUE"},null,null,{"$f":"IF($H$2=\"G\",'Skills explications FTEM'!F37,'Skills explications FTEM'!B37)","v":"Production de la performance"},null,null,{"$f":"IF($H$2=\"G\",'Skills explications FTEM'!G37,'Skills explications FTEM'!C37)","v":"A-t-il la puissance, la force, la vitesse nécessaires dans les jambes et le haut du corps (facteurs neuromusculaires)"},null,null,{"$f":"IF($H$2=\"G\",'Skills explications FTEM'!#REF!,'Skills explications FTEM'!#REF!)","v":{"$error":"#REF!"}},null,null,null,{"$f":"IFERROR(AVERAGE(O46:O50),\"-\")","v":"-"},null,null,null,{"$f":"IFERROR(AVERAGE(S46:S50),\"-\")","v":"-"},null,{"$f":"IFERROR(AVERAGE(U46:U50),\"-\")","v":"-"},null,{"$f":"IFERROR(AVERAGE(W46:W50),\"-\")","v":"-"},null,{"$f":"IFERROR(AVERAGE(Y46:Y50),\"-\")","v":"-"}]
[{"$f":"'Skills explications FTEM'!A38:A38","v":0},null,null,{"$f":"IF($H$2=\"G\",'Skills explications FTEM'!F38,'Skills explications FTEM'!B38)","v":"Spécifique au sport, résistant à l'effort"},null,null,{"$f":"IF($H$2=\"G\",'Skills explications FTEM'!G38,'Skills explications FTEM'!C38)","v":"Est-il capable de maintenir sa puissance, sa force, sa vitesse durant un long temps de glace et peut-il récupérer complètement entre ses engagements (facteurs du métabolisme et cardiovasculaire)"},null,null,{"$f":"IF($H$2=\"G\",'Skills explications FTEM'!#REF!,'Skills explications FTEM'!#REF!)","v":{"$error":"#REF!"}}]
[null,null,null,{"$f":"IF($H$2=\"G\",'Skills explications FTEM'!F39,'Skills explications FTEM'!B39)","v":"Santé / Prévention"},null,null,{"$f":"IF($H$2=\"G\",'Skills explications FTEM'!G39,'Skills explications FTEM'!C39)","v":"A-t-il la stabilité nécessaire (p. ex. ses appuis) et la mobilité nécessaire au niveau des articulations centrales"},null,null,{"$f":"IF($H$2=\"G\",'Skills explications FTEM'!#REF!,'Skills explications FTEM'!#REF!)","v":{"$error":"#REF!"}}]
[{"$f":"'Skills explications FTEM'!A39:A39","v":0},null,null,{"$f":"IF($H$2=\"G\",'Skills explications FTEM'!F40,'Skills explications FTEM'!B40)","v":"Mobilité / Coordination"},null,null,{"$f":"IF($H$2=\"G\",'Skills explications FTEM'!G40,'Skills explications FTEM'!C40)","v":"Gère-t-il ses aptitudes de mouvements de base, qui sont un fournisseur important des fonctions spécifiques «Skills» pour être efficace"},null,null,{"$f":"IF($H$2=\"G\",'Skills explications FTEM'!#REF!,'Skills explications FTEM'!#REF!)","v":{"$error":"#REF!"}}]
[{"$f":"'Skills explications FTEM'!A41:A41","v":0},null,null,{"$f":"IF($H$2=\"G\",'Skills explications FTEM'!F41,'Skills explications FTEM'!B41)","v":"Robustesse"},null,null,{"$f":"IF($H$2=\"G\",'Skills explications FTEM'!G41,'Skills explications FTEM'!C41)","v":"A-t-il la force de base nécessaire (tension corporelle) pour gagner des duels et résister aux charges"},null,null,{"$f":"IF($H$2=\"G\",'Skills explications FTEM'!#REF!,'Skills explications FTEM'!#REF!)","v":{"$error":"#REF!"}}]

{"sheet":"27","index":30,"n_rows":50,"n_cols":36,"rows_kept":50,"cut":false,"hidden":false,"merged":[[45,25,49,25],[45,26,49,32],[45,34,49,34],[40,23,44,23],[42,3,42,5],[42,6,42,11],[44,3,44,5],[44,6,44,11],[40,0,44,2],[40,3,40,5],[40,6,40,11],[40,12,44,12],[40,13,44,13],[40,15,44,15],[45,0,49,2],[45,3,45,5],[45,6,45,11],[45,12,49,12],[45,23,49,23],[47,3,47,5],[47,6,47,11],[48,3,48,5],[48,6,48,11],[49,3,49,5],[34,21,34,22],[35,17,39,17],[35,19,39,19],[35,21,39,21],[36,3,36,5],[36,6,36,11],[38,3,38,5],[38,6,38,11],[40,17,44,17],[40,19,44,19],[40,21,44,21],[43,3,43,5],[43,6,43,11],[37,3,37,5],[37,6,37,11],[41,3,41,5],[41,6,41,11],[29,0,33,2],[29,3,29,5],[29,6,29,11],[29,12,33,12],[29,13,33,13],[29,15,33,15],[34,23,34,24],[34,26,34,32],[35,0,39,2],[35,3,35,5],[35,6,35,11],[35,12,39,12],[35,13,39,13],[35,15,39,15],[39,3,39,5],[39,6,39,11],[35,23,39,23],[34,0,34,2],[34,3,34,5],[34,6,34,11],[34,13,34,14],[34,15,34,16],[34,17,34,18],[34,19,34,20],[23,21,28,21],[23,23,28,23],[24,3,24,5],[24,6,24,11],[28,3,28,5],[28,6,28,11],[33,3,33,5],[33,6,33,11],[29,23,33,23],[29,17,33,17],[29,19,33,19],[29,21,33,21],[30,3,30,5],[30,6,30,11],[31,3,31,5],[31,6,31,11],[25,3,25,5],[25,6,25,11],[32,3,32,5],[32,6,32,11],[18,15,22,15],[18,17,22,17],[18,19,22,19],[18,21,22,21],[18,23,22,23],[22,3,22,5],[22,6,22,11],[23,0,28,2],[23,3,23,5],[23,6,23,11],[23,12,28,12],[23,13,28,13],[23,15,28,15],[23,17,28,17],[18,0,22,2],[18,3,18,5],[18,6,18,11],[18,12,22,12],[18,13,22,13],[19,3,19,5],[19,6,19,11],[20,3,20,5],[20,6,20,11],[23,19,28,19],[12,23,16,23],[16,3,16,5],[16,6,16,11],[17,0,17,2],[17,3,17,5],[17,6,17,11],[17,13,17,14],[17,15,17,16],[17,17,17,18],[17,19,17,20],[17,21,17,22],[17,23,17,24],[12,0,16,2],[12,3,12,5],[12,6,12,11],[12,12,16,12],[12,13,16,13],[12,15,16,15],[12,17,16,17],[12,19,16,19],[12,21,16,21],[13,3,13,5],[13,6,13,11],[14,3,14,5],[11,0,11,2],[11,3,11,5],[11,13,11,14],[11,15,11,16],[11,17,11,18],[11,19,11,20],[11,21,11,22],[11,23,11,24],[11,26,11,32],[11,6,11,11],[0,33,0,35],[29,25,33,25],[29,26,33,32],[29,34,33,34],[35,25,39,25],[35,26,39,32],[35,34,39,34],[1,0,1,1],[1,2,1,5],[1,10,1,24],[2,0,2,1],[2,2,2,5],[2,11,2,24],[6,0,6,1],[6,2,6,35],[7,0,7,1],[7,2,7,35],[8,0,8,1],[8,2,8,35],[3,0,3,1],[3,10,3,24],[4,0,4,1],[4,2,4,5],[4,10,4,24],[49,6,49,11],[45,13,49,13],[45,15,49,15],[45,17,49,17],[45,19,49,19],[45,21,49,21],[0,0,0,24],[0,25,0,26],[0,27,0,32],[10,0,10,24],[10,25,10,35],[40,25,44,25],[40,26,44,32],[40,34,44,34],[12,25,16,25],[12,26,16,32],[12,34,16,34],[18,25,22,25],[18,26,22,32],[18,34,22,34],[23,25,28,25],[23,26,28,32],[23,34,28,34],[17,26,17,32],[46,3,46,5],[46,6,46,11],[14,6,14,11],[15,3,15,5],[15,6,15,11],[21,3,21,5],[21,6,21,11],[26,3,26,5],[26,6,26,11],[27,3,27,5],[27,6,27,11]]}
["Infos personelles",null,null,null,null,null,null,null,null,null,null,null,null,null,null,null,null,null,null,null,null,null,null,null,null,"Predispositions",null,"Evaluations",null,null,null,null,null,"Rating"]
["PRENOM",null,{"$f":"IF(ISBLANK(VLOOKUP(27,Tabelle3[],3,0)),\"-\",VLOOKUP(27,Tabelle3[],3,0))","v":"-"},null,null,null,"POSITION",null,null,"ADRESSE",{"$f":"IF(ISBLANK(VLOOKUP(27,Tabelle3[],5,0)),\"-\",VLOOKUP(27,Tabelle3[],5,0))","v":"-"},null,null,null,null,null,null,null,null,null,null,null,null,null,null,"\"àage\" (Biologique/age relatif)",null,"Date 1",null,null,"cm",null,"Kg",null,"AUSGEZEICHNET",5]
["NOM",null,{"$f":"IF(ISBLANK(VLOOKUP(27,Tabelle3[],2,0)),\"-\",VLOOKUP(27,Tabelle3[],2,0))","v":"-"},null,null,null,"CANNE",null,null,"LIEU",{"$f":"IF(ISBLANK(VLOOKUP(27,Tabelle3[],7,0)),\"-\",VLOOKUP(27,Tabelle3[],7,0))","v":"-"},{"$f":"IF(ISBLANK(VLOOKUP(27,Tabelle3[],6,0)),\"-\",VLOOKUP(27,Tabelle3[],6,0))","v":"-"},null,null,null,null,null,null,null,null,null,null,null,null,null,"predispositions",null,"Date 2",null,null,"cm",null,"Kg",null,"GUT",4]
["DATE NAISS.",null,{"$f":"IF(ISBLANK(VLOOKUP(27,Tabelle3[],14,0)),\"-\",VLOOKUP(27,Tabelle3[],14,0))","v":"-"},{"$f":"IF(ISBLANK(VLOOKUP(27,Tabelle3[],15,0)),\"-\",VLOOKUP(27,Tabelle3[],15,0))","v":"-"},{"$f":"IF(ISBLANK(VLOOKUP(27,Tabelle3[],16,0)),\"-\",VLOOKUP(27,Tabelle3[],16,0))","v":"-"},null,"GRANDEUR",null,"cm","PHONE",{"$f":"IF(ISBLANK(VLOOKUP(27,Tabelle3[],8,0)),\"-\",VLOOKUP(27,Tabelle3[],8,0))","v":"-"},null,null,null,null,null,null,null,null,null,null,null,null,null,null,"Entourage",null,"Date 3",null,null,"cm",null,"Kg",null,"DURCHSCHNITT",3]
["SEXE",null,{"$f":"IF(ISBLANK(VLOOKUP(27,Tabelle3[],13,0)),\"-\",VLOOKUP(27,Tabelle3[],13,0))","v":"-"},null,null,null,"POIDS",null,"Kg","E-Mail",{"$f":"IF(ISBLANK(VLOOKUP(27,Tabelle3[],9,0)),\"-\",VLOOKUP(27,Tabelle3[],9,0))","v":"-"},null,null,null,null,null,null,null,null,null,null,null,null,null,null,null,null,"Date 4",null,null,"cm",null,"Kg",null,"MANGELHAFT",2]
[null,null,null,null,null,null,null,null,null,null,null,null,null,null,null,null,null,null,null,null,null,null,null,null,null,null,null,"Date 5",null,null,"cm",null,"Kg",null,"UNGENÜGEND",1]
["Vision",null,"xxx"]
["Next step",null,"xxx"]
["Profil du Joueur",null,"xxx"]
[]
["EVALUATION (COACH / JOUEUR)",null,null,null,null,null,null,null,null,null,null,null,null,null,null,null,null,null,null,null,null,null,null,null,null,"SMART"]
[{"$f":"'Skills explications FTEM'!A3:A3","v":"TEAM"},null,null,{"$f":"'Skills explications FTEM'!B3","v":"COMPÉTENCES"},null,null,{"$f":"'Skills explications FTEM'!C3","v":"OBSERVATION"},null,null,{"$f":"'Skills explications FTEM'!H3","v":0},null,null,"Final","Date1",null,"Date2",null,"Date3",null,"Date4",null,"Date5",null,"Player",null,"BUT","MESURES:\nSPECIFIQUE, MESURABLES, REALISTE",null,null,null,null,null,null,"DELAI","CONTRÔLE DU BUT","Date"]
[{"$f":"'Skills explications FTEM'!A4:A4","v":"ÉQUIPE"},null,null,{"$f":"IF($H$2=\"G\",'Skills explications FTEM'!F4,'Skills explications FTEM'!B4)","v":"Communication"},null,null,{"$f":"IF($H$2=\"G\",'Skills explications FTEM'!G4,'Skills explications FTEM'!C4)","v":"Respect et ouverture dans ses relations, confiance comme base, traite les conflits sans perturber la stabilité du groupe, communique avec ses coéquipiers, les entraîneurs et les fonctionnaires avec les mêmes valeurs"},null,null,{"$f":"IF($H$2=\"G\",'Skills explications FTEM'!#REF!,'Skills explications FTEM'!#REF!)","v":{"$error":"#REF!"}},null,null,null,{"$f":"IFERROR(AVERAGE(O13:O17),\"-\")","v":"-"},null,{"$f":"IFERROR(AVERAGE(Q13:Q17),\"-\")","v":"-"},null,{"$f":"IFERROR(AVERAGE(S13:S17),\"-\")","v":"-"},null,{"$f":"IFERROR(AVERAGE(U13:U17),\"-\")","v":"-"},null,{"$f":"IFERROR(AVERAGE(W13:W17),\"-\")","v":"-"},null,{"$f":"IFERROR(AVERAGE(Y13:Y17),\"-\")","v":"-"}]
[null,null,null,{"$f":"IF($H$2=\"G\",'Skills explications FTEM'!F5,'Skills explications FTEM'!B5)","v":"Capacité de jouer en équipe"},null,null,{"$f":"IF($H$2=\"G\",'Skills explications FTEM'!G5,'Skills explications FTEM'!C5)","v":"Intégration dans le groupe, définit et réalise des objectifs communs, NOUS avant le MOI, participe au bon esprit d'équipe et à un bon climat de travail"},null,null,{"$f":"IF($H$2=\"G\",'Skills explications FTEM'!#REF!,'Skills explications FTEM'!#REF!)","v":{"$error":"#REF!"}}]
[null,null,null,{"$f":"IF($H$2=\"G\",'Skills explications FTEM'!F6,'Skills explications FTEM'!B6)","v":"Leadership"},null,null,{"$f":"IF($H$2=\"G\",'Skills explications FTEM'!G6,'Skills explications FTEM'!C6)","v":"Prend des responsabilités dans le groupe, essaie de donner de la valeur à ses coéquipiers et au groupe, influence positivement la dynamique de groupe"},null,null,{"$f":"IF($H$2=\"G\",'Skills explications FTEM'!#REF!,'Skills explications FTEM'!#REF!)","v":{"$error":"#REF!"}}]
[null,null,null,{"$f":"IF($H$2=\"G\",'Skills explications FTEM'!F7,'Skills explications FTEM'!B7)","v":"Répartition des rôles"},null,null,{"$f":"IF($H$2=\"G\",'Skills explications FTEM'!G7,'Skills explications FTEM'!C7)","v":"Connaît son rôle et le réalise, est conscient de sa position dans l'équipe et le système, met ses compétences à disposition de l'équipe"},null,null,{"$f":"IF($H$2=\"G\",'Skills explications FTEM'!#REF!,'Skills explications FTEM'!#REF!)","v":{"$error":"#REF!"}}]
[{"$f":"'Skills explications FTEM'!A8:A8","v":0},null,null,{"$f":"IF($H$2=\"G\",'Skills explications FTEM'!F8,'Skills explications FTEM'!B8)","v":"Respect"},null,null,{"$f":"IF($H$2=\"G\",'Skills explications FTEM'!G8,'Skills explications FTEM'!C8)","v":"Relations respectueuses avec les coéquipiers, les entraîneurs, les adversaires, les arbitres et le staff; respect des règles, des principes du fairplay (y compris antidopage)"},null,null,{"$f":"IF($H$2=\"G\",'Skills explications FTEM'!#REF!,'Skills explications FTEM'!#REF!)","v":{"$error":"#REF!"}}]
[{"$f":"'Skills explications FTEM'!A9:A9","v":"ON ICE"},null,null,{"$f":"'Skills explications FTEM'!B9","v":"COMPÉTENCES"},null,null,{"$f":"'Skills explications FTEM'!C9","v":"OBSERVATION"},null,null,{"$f":"'Skills explications FTEM'!H9","v":0},null,null,null,"Date1",null,"Date2",null,"Date3",null,"Date4",null,"Date5",null,"Player",null,"BUT","MESURES:\nSPECIFIQUE, MESURABLES, REALISTE",null,null,null,null,null,null,"DELAI","CONTRÔLE DU BUT","Date"]
[{"$f":"'Skills explications FTEM'!A10:A10","v":"PATINAGE"},null,null,{"$f":"IF($H$2=\"G\",'Skills explications FTEM'!F10,'Skills explications FTEM'!B10)","v":"Vitesse de patinage"},null,null,{"$f":"IF($H$2=\"G\",'Skills explications FTEM'!G10,'Skills explications FTEM'!C10)","v":"Accélération, départ, explosivité des 3 premiers pas, fréquence"},null,null,{"$f":"IF($H$2=\"G\",'Skills explications FTEM'!#REF!,'Skills explications FTEM'!#REF!)","v":{"$error":"#REF!"}},null,null,null,{"$f":"IFERROR(AVERAGE(O19:O23),\"-\")","v":"-"},null,{"$f":"IFERROR(AVERAGE(Q19:Q23),\"-\")","v":"-"},null,{"$f":"IFERROR(AVERAGE(S19:S23),\"-\")","v":"-"},null,{"$f":"IFERROR(AVERAGE(U19:U23),\"-\")","v":"-"},null,{"$f":"IFERROR(AVERAGE(W19:W23),\"-\")","v":"-"},null,{"$f":"IFERROR(AVERAGE(Y19:Y23),\"-\")","v":"-"}]
[{"$f":"'Skills explications FTEM'!A11:A11","v":0},null,null,{"$f":"IF($H$2=\"G\",'Skills explications FTEM'!F11,'Skills explications FTEM'!B11)","v":"Vitesse, rapidité"},null,null,{"$f":"IF($H$2=\"G\",'Skills explications FTEM'!G11,'Skills explications FTEM'!C11)","v":"Vitesse, faculté de glisse, avant et arrière, économie des forces"},null,null,{"$f":"IF($H$2=\"G\",'Skills explications FTEM'!#REF!,'Skills explications FTEM'!#REF!)","v":{"$error":"#REF!"}}]
[{"$f":"'Skills explications FTEM'!A12:A12","v":0},null,null,{"$f":"IF($H$2=\"G\",'Skills explications FTEM'!F12,'Skills explications FTEM'!B12)","v":"Agilité"},null,null,{"$f":"IF($H$2=\"G\",'Skills explications FTEM'!G12,'Skills explications FTEM'!C12)","v":"Changements de direction, pivots, stop et start «Nummelin»"},null,null,{"$f":"IF($H$2=\"G\",'Skills explications FTEM'!#REF!,'Skills explications FTEM'!#REF!)","v":{"$error":"#REF!"}},null,null,null,{"$f":"IFERROR(AVERAGE(O21:O23),\"-\")","v":"-"},null,{"$f":"IFERROR(AVERAGE(Q21:Q23),\"-\")","v":"-"},null,{"$f":"IFERROR(AVERAGE(S21:S23),\"-\")","v":"-"},null,{"$f":"IFERROR(AVERAGE(U21:U23),\"-\")","v":"-"},null,{"$f":"IFERROR(AVERAGE(W21:W23),\"-\")","v":"-"},null,"-"]
[null,null,null,{"$f":"IF($H$2=\"G\",'Skills explications FTEM'!F13,'Skills explications FTEM'!B13)","v":"Balance"},null,null,{"$f":"IF($H$2=\"G\",'Skills explications FTEM'!G13,'Skills explications FTEM'!C13)","v":"Equilibre, faculté d'être sur ses appuis, position basse, 1 ou 2 jambes"},null,null,{"$f":"IF($H$2=\"G\",'Skills explications FTEM'!#REF!,'Skills explications FTEM'!#REF!)","v":{"$error":"#REF!"}}]
[{"$f":"'Skills explications FTEM'!#REF!","v":{"$error":"#REF!"}},null,null,{"$f":"IF($H$2=\"G\",'Skills explications FTEM'!F14,'Skills explications FTEM'!B14)","v":"Patinage arrière"},null,null,{"$f":"IF($H$2=\"G\",'Skills explications FTEM'!G14,'Skills explications FTEM'!C14)","v":"Accélération, vitesse, équilibre "},null,null,{"$f":"IF($H$2=\"G\",'Skills explications FTEM'!#REF!,'Skills explications FTEM'!#REF!)","v":{"$error":"#REF!"}}]
[{"$f":"'Skills explications FTEM'!A15:A15","v":"SKILLS"},null,null,{"$f":"IF($H$2=\"G\",'Skills explications FTEM'!F15,'Skills explications FTEM'!B15)","v":"Tirer"},null,null,{"$f":"IF($H$2=\"G\",'Skills explications FTEM'!G15,'Skills explications FTEM'!C15)","v":"Efficience (pas d'espace et de temps), variantes, degré de surprise (déclenchement rapide), précision, puissance (conclusion tactique)"},null,null,{"$f":"IF($H$2=\"G\",'Skills explications FTEM'!#REF!,'Skills explications FTEM'!#REF!)","v":{"$error":"#REF!"}},null,null,null,{"$f":"IFERROR(AVERAGE(O24:O29),\"-\")","v":"-"},null,{"$f":"IFERROR(AVERAGE(Q24:Q29),\"-\")","v":"-"},null,{"$f":"IFERROR(AVERAGE(S24:S29),\"-\")","v":"-"},null,{"$f":"IFERROR(AVERAGE(U24:U29),\"-\")","v":"-"},null,{"$f":"IFERROR(AVERAGE(W24:W29),\"-\")","v":"-"},null,{"$f":"IFERROR(AVERAGE(Y24:Y29),\"-\")","v":"-"}]
[{"$f":"'Skills explications FTEM'!A16:A16","v":0},null,null,{"$f":"IF($H$2=\"G\",'Skills explications FTEM'!F16,'Skills explications FTEM'!B16)","v":"Passer"},null,null,{"$f":"IF($H$2=\"G\",'Skills explications FTEM'!G16,'Skills explications FTEM'!C16)","v":"Donne la passe (distance, passe flipée en revers), réception de la passe (précision, timing, coup droit, revers, patins), vitesse du puck"},null,null,{"$f":"IF($H$2=\"G\",'Skills explications FTEM'!#REF!,'Skills explications FTEM'!#REF!)","v":{"$error":"#REF!"}}]
[{"$f":"'Skills explications FTEM'!A17:A17","v":0},null,null,{"$f":"IF($H$2=\"G\",'Skills explications FTEM'!F17,'Skills explications FTEM'!B17)","v":"Travail de canne, conduite du puck"},null,null,{"$f":"IF($H$2=\"G\",'Skills explications FTEM'!G17,'Skills explications FTEM'!C17)","v":"Puck sur la palette, intercepte les lignes de passe, déviation, contrôle de la canne de l'adversaire"},null,null,{"$f":"IF($H$2=\"G\",'Skills explications FTEM'!#REF!,'Skills explications FTEM'!#REF!)","v":{"$error":"#REF!"}}]
[null,null,null,{"$f":"IF($H$2=\"G\",'Skills explications FTEM'!F18,'Skills explications FTEM'!B18)","v":"Protéger le puck"},null,null,{"$f":"IF($H$2=\"G\",'Skills explications FTEM'!G18,'Skills explications FTEM'!C18)","v":"Contrôle du puck, dribbling, protection du puck, feintes (variantes: avec les patins ou avec et sans la bande), mise au jeu (bully)"},null,null,{"$f":"IF($H$2=\"G\",'Skills explications FTEM'!#REF!,'Skills explications FTEM'!#REF!)","v":{"$error":"#REF!"}}]
[null,null,null,{"$f":"IF($H$2=\"G\",'Skills explications FTEM'!F19,'Skills explications FTEM'!B19)","v":"Jeu du corps (charges)"},null,null,{"$f":"IF($H$2=\"G\",'Skills explications FTEM'!G19,'Skills explications FTEM'!C19)","v":"Faculté de s'imposer physiquement, duels (sur la surface de glace ou à la bande), prendre des checks, lever la tête, niveau de lutte, dur mais correct, bloquer les tirs avec le corps"},null,null,{"$f":"IF($H$2=\"G\",'Skills explications FTEM'!#REF!,'Skills explications FTEM'!#REF!)","v":{"$error":"#REF!"}}]
[{"$f":"'Skills explications FTEM'!A20:A20","v":0},null,null,{"$f":"IF($H$2=\"G\",'Skills explications FTEM'!F20,'Skills explications FTEM'!B20)","v":"-"},null,null,{"$f":"IF($H$2=\"G\",'Skills explications FTEM'!G20,'Skills explications FTEM'!C20)","v":"-"},null,null,{"$f":"IF($H$2=\"G\",'Skills explications FTEM'!#REF!,'Skills explications FTEM'!#REF!)","v":{"$error":"#REF!"}}]
[{"$f":"'Skills explications FTEM'!A21:A21","v":"HOCKEY SENSE"},null,null,{"$f":"IF($H$2=\"G\",'Skills explications FTEM'!F21,'Skills explications FTEM'!B21)","v":"Intelligence de jeu"},null,null,{"$f":"IF($H$2=\"G\",'Skills explications FTEM'!G21,'Skills explications FTEM'!C21)","v":"Voit les zones libres avec joueurs et crée des situations de surnombre, trouve des solutions et agit en toute situation, vitesse de la visualisation"},null,null,{"$f":"IF($H$2=\"G\",'Skills explications FTEM'!#REF!,'Skills explications FTEM'!#REF!)","v":{"$error":"#REF!"}},null,null,null,{"$f":"IFERROR(AVERAGE(O30:O34),\"-\")","v":"-"},null,{"$f":"IFERROR(AVERAGE(Q30:Q34),\"-\")","v":"-"},null,{"$f":"IFERROR(AVERAGE(S30:S34),\"-\")","v":"-"},null,{"$f":"IFERROR(AVERAGE(U30:U34),\"-\")","v":"-"},null,{"$f":"IFERROR(AVERAGE(W30:W34),\"-\")","v":"-"},null,{"$f":"IFERROR(AVERAGE(Y30:Y34),\"-\")","v":"-"}]
[{"$f":"'Skills explications FTEM'!A22:A22","v":0},null,null,{"$f":"IF($H$2=\"G\",'Skills explications FTEM'!F22,'Skills explications FTEM'!B22)","v":"Sensibilisation offensive"},null,null,{"$f":"IF($H$2=\"G\",'Skills explications FTEM'!G22,'Skills explications FTEM'!C22)","v":"Se démarque, anticipation des situations de jeu, ouvre des zones libres pour ses coéquipiers, se place pour marquer, vitesse de mise sous pression, communication"},null,null,{"$f":"IF($H$2=\"G\",'Skills explications FTEM'!#REF!,'Skills explications FTEM'!#REF!)","v":{"$error":"#REF!"}}]
[null,null,null,{"$f":"IF($H$2=\"G\",'Skills explications FTEM'!F23,'Skills explications FTEM'!B23)","v":"Sensibilisation défensive"},null,null,{"$f":"IF($H$2=\"G\",'Skills explications FTEM'!G23,'Skills explications FTEM'!C23)","v":"Garde la position «inside», protège le slot, rassure les coéquipiers, support, anticipe les lignes de passe, bloque les tirs. Réduit rapidement la distance sur l'adversaire, communication"},null,null,{"$f":"IF($H$2=\"G\",'Skills explications FTEM'!#REF!,'Skills explications FTEM'!#REF!)","v":{"$error":"#REF!"}}]
[{"$f":"'Skills explications FTEM'!A23:A23","v":0},null,null,{"$f":"IF($H$2=\"G\",'Skills explications FTEM'!F24,'Skills explications FTEM'!B24)","v":"Gestion du puck"},null,null,{"$f":"IF($H$2=\"G\",'Skills explications FTEM'!G24,'Skills explications FTEM'!C24)","v":"Fait le bon choix en fonction de la situation, support, surnombre"},null,null,{"$f":"IF($H$2=\"G\",'Skills explications FTEM'!#REF!,'Skills explications FTEM'!#REF!)","v":{"$error":"#REF!"}}]
[{"$f":"'Skills explications FTEM'!A25:A25","v":0},null,null,{"$f":"IF($H$2=\"G\",'Skills explications FTEM'!F25,'Skills explications FTEM'!B25)","v":"Créativité"},null,null,{"$f":"IF($H$2=\"G\",'Skills explications FTEM'!G25,'Skills explications FTEM'!C25)","v":"Prises de décision surprenantes, sens du but"},null,null,{"$f":"IF($H$2=\"G\",'Skills explications FTEM'!#REF!,'Skills explications FTEM'!#REF!)","v":{"$error":"#REF!"}}]
[{"$f":"'Skills explications FTEM'!A26:A26","v":"PERSONALITY"},null,null,{"$f":"'Skills explications FTEM'!B26","v":"COMPÉTENCES"},null,null,{"$f":"'Skills explications FTEM'!C26","v":"OBSERVATION"},null,null,{"$f":"'Skills explications FTEM'!H26","v":0},null,null,null,"Date1",null,"Date2",null,"Date3",null,"Date4",null,"Date5",null,"Player",null,"BUT","MESURES:\nSPECIFIQUE, MESURABLES, REALISTE",null,null,null,null,null,null,"DELAI","CONTRÔLE DU BUT","Date"]
[{"$f":"'Skills explications FTEM'!A27:A27","v":"PERSONNALITÉ"},null,null,{"$f":"IF($H$2=\"G\",'Skills explications FTEM'!F27,'Skills explications FTEM'!B27)","v":"Confiance en soi"},null,null,{"$f":"IF($H$2=\"G\",'Skills explications FTEM'!G27,'Skills explications FTEM'!C27)","v":"Est en confiance,«I can do it», peut estimer ses capacités (connaît ses qualités et ses défauts), peut réaliser ses qualités avec constance, est courageux et prend des risques calculés"},null,null,{"$f":"IF($H$2=\"G\",'Skills explications FTEM'!#REF!,'Skills explications FTEM'!#REF!)","v":{"$error":"#REF!"}},null,null,null,{"$f":"IFERROR(AVERAGE(O36:O40),\"-\")","v":"-"},null,null,null,{"$f":"IFERROR(AVERAGE(S36:S40),\"-\")","v":"-"},null,{"$f":"IFERROR(AVERAGE(U36:U40),\"-\")","v":"-"},null,{"$f":"IFERROR(AVERAGE(W36:W40),\"-\")","v":"-"},null,{"$f":"IFERROR(AVERAGE(Y36:Y40),\"-\")","v":"-"}]
[{"$f":"'Skills explications FTEM'!A28:A28","v":0},null,null,{"$f":"IF($H$2=\"G\",'Skills explications FTEM'!F28,'Skills explications FTEM'!B28)","v":"Facultés d'apprentissage"},null,null,{"$f":"IF($H$2=\"G\",'Skills explications FTEM'!G28,'Skills explications FTEM'!C28)","v":"A une bonne perception (il peut mémoriser et peut réaliser), il a de la personnalité, essaie d'apprendre de ses erreurs et est entreprenant"},null,null,{"$f":"IF($H$2=\"G\",'Skills explications FTEM'!#REF!,'Skills explications FTEM'!#REF!)","v":{"$error":"#REF!"}}]
[{"$f":"'Skills explications FTEM'!A29:A29","v":0},null,null,{"$f":"IF($H$2=\"G\",'Skills explications FTEM'!F29,'Skills explications FTEM'!B29)","v":"Prise de responsabilités"},null,null,{"$f":"IF($H$2=\"G\",'Skills explications FTEM'!G29,'Skills explications FTEM'!C29)","v":"Prend la responsabilité de ses performances et de son développement, est-il autonome, soigne-t-il les détails, a beaucoup d'engagement dans tous les domaines"},null,null,{"$f":"IF($H$2=\"G\",'Skills explications FTEM'!#REF!,'Skills explications FTEM'!#REF!)","v":{"$error":"#REF!"}}]
[null,null,null,{"$f":"IF($H$2=\"G\",'Skills explications FTEM'!F30,'Skills explications FTEM'!B30)","v":"Motivation"},null,null,{"$f":"IF($H$2=\"G\",'Skills explications FTEM'!G30,'Skills explications FTEM'!C30)","v":"Est toujours motivé, veut sans cesse se développer et apprendre, veut être le premier et avoir du succès, n'abandonne jamais et ne se laisse pas influencer par les échesc"},null,null,{"$f":"IF($H$2=\"G\",'Skills explications FTEM'!#REF!,'Skills explications FTEM'!#REF!)","v":{"$error":"#REF!"}}]
[{"$f":"'Skills explications FTEM'!A31:A31","v":0},null,null,{"$f":"IF($H$2=\"G\",'Skills explications FTEM'!F31,'Skills explications FTEM'!B31)","v":"Performance style de vie"},null,null,{"$f":"IF($H$2=\"G\",'Skills explications FTEM'!G31,'Skills explications FTEM'!C31)","v":"Gère bien son environnement et son temps libre selon les principes de la performance, obstiné, tenace et axé sur l'objectif, accent sur sa propre performance, est courageux et peut s'imposer contre la résistance, les défis le motivent"},null,null,{"$f":"IF($H$2=\"G\",'Skills explications FTEM'!#REF!,'Skills explications FTEM'!#REF!)","v":{"$error":"#REF!"}}]
[{"$f":"'Skills explications FTEM'!A32:A32","v":"FORCE MENTALE"},null,null,{"$f":"IF($H$2=\"G\",'Skills explications FTEM'!F32,'Skills explications FTEM'!B32)","v":"Engagement"},null,null,{"$f":"IF($H$2=\"G\",'Skills explications FTEM'!G32,'Skills explications FTEM'!C32)","v":"Démontre beaucoup d'intensité dans les entraînements et les matchs, donne toujours son maximum et veut sans cesse repousser ses limites, a-t-il de la passion, s'efforce-t-il de s'entraîner avec une excellente qualité"},null,null,{"$f":"IF($H$2=\"G\",'Skills explications FTEM'!#REF!,'Skills explications FTEM'!#REF!)","v":{"$error":"#REF!"}},null,null,null,{"$f":"IFERROR(AVERAGE(O41:O45),\"-\")","v":"-"},null,null,null,{"$f":"IFERROR(AVERAGE(S41:S45),\"-\")","v":"-"},null,{"$f":"IFERROR(AVERAGE(U41:U45),\"-\")","v":"-"},null,{"$f":"IFERROR(AVERAGE(W41:W45),\"-\")","v":"-"},null,{"$f":"IFERROR(AVERAGE(Y41:Y45),\"-\")","v":"-"}]
[{"$f":"'Skills explications FTEM'!A33:A33","v":0},null,null,{"$f":"IF($H$2=\"G\",'Skills explications FTEM'!F33,'Skills explications FTEM'!B33)","v":"Préparation"},null,null,{"$f":"IF($H$2=\"G\",'Skills explications FTEM'!G33,'Skills explications FTEM'!C33)","v":"Se prépare-t-il toujours bien, mentalement et physiquement, se prépare-t-il toujours bien pour obtenir le niveau de performance idéal (ILZ)"},null,null,{"$f":"IF($H$2=\"G\",'Skills explications FTEM'!#REF!,'Skills explications FTEM'!#REF!)","v":{"$error":"#REF!"}}]
[null,null,null,{"$f":"IF($H$2=\"G\",'Skills explications FTEM'!F34,'Skills explications FTEM'!B34)","v":"Coaching personnel"},null,null,{"$f":"IF($H$2=\"G\",'Skills explications FTEM'!G34,'Skills explications FTEM'!C34)","v":"A-t-il de bonnes facultés de concentration, peut-il maintenir son niveau de performance idéal (ILZ) dans les entraînements et les matchs, peut-il appliquer ses techniques de base, est-il résistant aux influences et pensées négatives, est-il conscient de son attitude corporelle et peut-il l'influencer"},null,null,{"$f":"IF($H$2=\"G\",'Skills explications FTEM'!#REF!,'Skills explications FTEM'!#REF!)","v":{"$error":"#REF!"}}]
[{"$f":"'Skills explications FTEM'!A34:A34","v":0},null,null,{"$f":"IF($H$2=\"G\",'Skills explications FTEM'!F35,'Skills explications FTEM'!B35)","v":"Gestion des énergies"},null,null,{"$f":"IF($H$2=\"G\",'Skills explications FTEM'!G35,'Skills explications FTEM'!C35)","v":"Peut-il gérer ses propres énergies, prend-il soin de sa récupération, peut-il gérer les moments où il faut se donner à fond ou quand il faut déconnecter, bouton On/Off"},null,null,{"$f":"IF($H$2=\"G\",'Skills explications FTEM'!#REF!,'Skills explications FTEM'!#REF!)","v":{"$error":"#REF!"}}]
[{"$f":"'Skills explications FTEM'!A36:A36","v":0},null,null,{"$f":"IF($H$2=\"G\",'Skills explications FTEM'!F36,'Skills explications FTEM'!B36)","v":"Contrôle des émotions"},null,null,{"$f":"IF($H$2=\"G\",'Skills explications FTEM'!G36,'Skills explications FTEM'!C36)","v":"Peut-il gérer ses propres émotions et impulsions, reste-t-il sous contrôle lorsqu'il y a une grande pression, peut-il rester calme lorsque le niveau émotionnel et de frustration est élevé"},null,null,{"$f":"IF($H$2=\"G\",'Skills explications FTEM'!#REF!,'Skills explications FTEM'!#REF!)","v":{"$error":"#REF!"}}]
[{"$f":"'Skills explications FTEM'!A37:A37","v":"PHYSIQUE"},null,null,{"$f":"IF($H$2=\"G\",'Skills explications FTEM'!F37,'Skills explications FTEM'!B37)","v":"Production de la performance"},null,null,{"$f":"IF($H$2=\"G\",'Skills explications FTEM'!G37,'Skills explications FTEM'!C37)","v":"A-t-il la puissance, la force, la vitesse nécessaires dans les jambes et le haut du corps (facteurs neuromusculaires)"},null,null,{"$f":"IF($H$2=\"G\",'Skills explications FTEM'!#REF!,'Skills explications FTEM'!#REF!)","v":{"$error":"#REF!"}},null,null,null,{"$f":"IFERROR(AVERAGE(O46:O50),\"-\")","v":"-"},null,null,null,{"$f":"IFERROR(AVERAGE(S46:S50),\"-\")","v":"-"},null,{"$f":"IFERROR(AVERAGE(U46:U50),\"-\")","v":"-"},null,{"$f":"IFERROR(AVERAGE(W46:W50),\"-\")","v":"-"},null,{"$f":"IFERROR(AVERAGE(Y46:Y50),\"-\")","v":"-"}]
[{"$f":"'Skills explications FTEM'!A38:A38","v":0},null,null,{"$f":"IF($H$2=\"G\",'Skills explications FTEM'!F38,'Skills explications FTEM'!B38)","v":"Spécifique au sport, résistant à l'effort"},null,null,{"$f":"IF($H$2=\"G\",'Skills explications FTEM'!G38,'Skills explications FTEM'!C38)","v":"Est-il capable de maintenir sa puissance, sa force, sa vitesse durant un long temps de glace et peut-il récupérer complètement entre ses engagements (facteurs du métabolisme et cardiovasculaire)"},null,null,{"$f":"IF($H$2=\"G\",'Skills explications FTEM'!#REF!,'Skills explications FTEM'!#REF!)","v":{"$error":"#REF!"}}]
[null,null,null,{"$f":"IF($H$2=\"G\",'Skills explications FTEM'!F39,'Skills explications FTEM'!B39)","v":"Santé / Prévention"},null,null,{"$f":"IF($H$2=\"G\",'Skills explications FTEM'!G39,'Skills explications FTEM'!C39)","v":"A-t-il la stabilité nécessaire (p. ex. ses appuis) et la mobilité nécessaire au niveau des articulations centrales"},null,null,{"$f":"IF($H$2=\"G\",'Skills explications FTEM'!#REF!,'Skills explications FTEM'!#REF!)","v":{"$error":"#REF!"}}]
[{"$f":"'Skills explications FTEM'!A39:A39","v":0},null,null,{"$f":"IF($H$2=\"G\",'Skills explications FTEM'!F40,'Skills explications FTEM'!B40)","v":"Mobilité / Coordination"},null,null,{"$f":"IF($H$2=\"G\",'Skills explications FTEM'!G40,'Skills explications FTEM'!C40)","v":"Gère-t-il ses aptitudes de mouvements de base, qui sont un fournisseur important des fonctions spécifiques «Skills» pour être efficace"},null,null,{"$f":"IF($H$2=\"G\",'Skills explications FTEM'!#REF!,'Skills explications FTEM'!#REF!)","v":{"$error":"#REF!"}}]
[{"$f":"'Skills explications FTEM'!A41:A41","v":0},null,null,{"$f":"IF($H$2=\"G\",'Skills explications FTEM'!F41,'Skills explications FTEM'!B41)","v":"Robustesse"},null,null,{"$f":"IF($H$2=\"G\",'Skills explications FTEM'!G41,'Skills explications FTEM'!C41)","v":"A-t-il la force de base nécessaire (tension corporelle) pour gagner des duels et résister aux charges"},null,null,{"$f":"IF($H$2=\"G\",'Skills explications FTEM'!#REF!,'Skills explications FTEM'!#REF!)","v":{"$error":"#REF!"}}]

{"sheet":"28","index":31,"n_rows":50,"n_cols":36,"rows_kept":50,"cut":false,"hidden":false,"merged":[[45,25,49,25],[45,26,49,32],[45,34,49,34],[40,23,44,23],[42,3,42,5],[42,6,42,11],[44,3,44,5],[44,6,44,11],[40,0,44,2],[40,3,40,5],[40,6,40,11],[40,12,44,12],[40,13,44,13],[40,15,44,15],[45,0,49,2],[45,3,45,5],[45,6,45,11],[45,12,49,12],[45,23,49,23],[47,3,47,5],[47,6,47,11],[48,3,48,5],[48,6,48,11],[49,3,49,5],[34,21,34,22],[35,17,39,17],[35,19,39,19],[35,21,39,21],[36,3,36,5],[36,6,36,11],[38,3,38,5],[38,6,38,11],[40,17,44,17],[40,19,44,19],[40,21,44,21],[43,3,43,5],[43,6,43,11],[37,3,37,5],[37,6,37,11],[41,3,41,5],[41,6,41,11],[29,0,33,2],[29,3,29,5],[29,6,29,11],[29,12,33,12],[29,13,33,13],[29,15,33,15],[34,23,34,24],[34,26,34,32],[35,0,39,2],[35,3,35,5],[35,6,35,11],[35,12,39,12],[35,13,39,13],[35,15,39,15],[39,3,39,5],[39,6,39,11],[35,23,39,23],[34,0,34,2],[34,3,34,5],[34,6,34,11],[34,13,34,14],[34,15,34,16],[34,17,34,18],[34,19,34,20],[23,21,28,21],[23,23,28,23],[24,3,24,5],[24,6,24,11],[28,3,28,5],[28,6,28,11],[33,3,33,5],[33,6,33,11],[29,23,33,23],[29,17,33,17],[29,19,33,19],[29,21,33,21],[30,3,30,5],[30,6,30,11],[31,3,31,5],[31,6,31,11],[25,3,25,5],[25,6,25,11],[32,3,32,5],[32,6,32,11],[18,15,22,15],[18,17,22,17],[18,19,22,19],[18,21,22,21],[18,23,22,23],[22,3,22,5],[22,6,22,11],[23,0,28,2],[23,3,23,5],[23,6,23,11],[23,12,28,12],[23,13,28,13],[23,15,28,15],[23,17,28,17],[18,0,22,2],[18,3,18,5],[18,6,18,11],[18,12,22,12],[18,13,22,13],[19,3,19,5],[19,6,19,11],[20,3,20,5],[20,6,20,11],[23,19,28,19],[12,23,16,23],[16,3,16,5],[16,6,16,11],[17,0,17,2],[17,3,17,5],[17,6,17,11],[17,13,17,14],[17,15,17,16],[17,17,17,18],[17,19,17,20],[17,21,17,22],[17,23,17,24],[12,0,16,2],[12,3,12,5],[12,6,12,11],[12,12,16,12],[12,13,16,13],[12,15,16,15],[12,17,16,17],[12,19,16,19],[12,21,16,21],[13,3,13,5],[13,6,13,11],[14,3,14,5],[11,0,11,2],[11,3,11,5],[11,13,11,14],[11,15,11,16],[11,17,11,18],[11,19,11,20],[11,21,11,22],[11,23,11,24],[11,26,11,32],[11,6,11,11],[0,33,0,35],[29,25,33,25],[29,26,33,32],[29,34,33,34],[35,25,39,25],[35,26,39,32],[35,34,39,34],[1,0,1,1],[1,2,1,5],[1,10,1,24],[2,0,2,1],[2,2,2,5],[2,11,2,24],[6,0,6,1],[6,2,6,35],[7,0,7,1],[7,2,7,35],[8,0,8,1],[8,2,8,35],[3,0,3,1],[3,10,3,24],[4,0,4,1],[4,2,4,5],[4,10,4,24],[49,6,49,11],[45,13,49,13],[45,15,49,15],[45,17,49,17],[45,19,49,19],[45,21,49,21],[0,0,0,24],[0,25,0,26],[0,27,0,32],[10,0,10,24],[10,25,10,35],[40,25,44,25],[40,26,44,32],[40,34,44,34],[12,25,16,25],[12,26,16,32],[12,34,16,34],[18,25,22,25],[18,26,22,32],[18,34,22,34],[23,25,28,25],[23,26,28,32],[23,34,28,34],[17,26,17,32],[46,3,46,5],[46,6,46,11],[14,6,14,11],[15,3,15,5],[15,6,15,11],[21,3,21,5],[21,6,21,11],[26,3,26,5],[26,6,26,11],[27,3,27,5],[27,6,27,11]]}
["Infos personelles",null,null,null,null,null,null,null,null,null,null,null,null,null,null,null,null,null,null,null,null,null,null,null,null,"Predispositions",null,"Evaluations",null,null,null,null,null,"Rating"]
["PRENOM",null,{"$f":"IF(ISBLANK(VLOOKUP(28,Tabelle3[],3,0)),\"-\",VLOOKUP(28,Tabelle3[],3,0))","v":"-"},null,null,null,"POSITION",null,null,"ADRESSE",{"$f":"IF(ISBLANK(VLOOKUP(28,Tabelle3[],5,0)),\"-\",VLOOKUP(28,Tabelle3[],5,0))","v":"-"},null,null,null,null,null,null,null,null,null,null,null,null,null,null,"\"àage\" (Biologique/age relatif)",null,"Date 1",null,null,"cm",null,"Kg",null,"AUSGEZEICHNET",5]
["NOM",null,{"$f":"IF(ISBLANK(VLOOKUP(28,Tabelle3[],2,0)),\"-\",VLOOKUP(28,Tabelle3[],2,0))","v":"-"},null,null,null,"CANNE",null,null,"LIEU",{"$f":"IF(ISBLANK(VLOOKUP(28,Tabelle3[],7,0)),\"-\",VLOOKUP(28,Tabelle3[],7,0))","v":"-"},{"$f":"IF(ISBLANK(VLOOKUP(28,Tabelle3[],6,0)),\"-\",VLOOKUP(28,Tabelle3[],6,0))","v":"-"},null,null,null,null,null,null,null,null,null,null,null,null,null,"predispositions",null,"Date 2",null,null,"cm",null,"Kg",null,"GUT",4]
["DATE NAISS.",null,{"$f":"IF(ISBLANK(VLOOKUP(28,Tabelle3[],14,0)),\"-\",VLOOKUP(28,Tabelle3[],14,0))","v":"-"},{"$f":"IF(ISBLANK(VLOOKUP(28,Tabelle3[],15,0)),\"-\",VLOOKUP(28,Tabelle3[],15,0))","v":"-"},{"$f":"IF(ISBLANK(VLOOKUP(28,Tabelle3[],16,0)),\"-\",VLOOKUP(28,Tabelle3[],16,0))","v":"-"},null,"GRANDEUR",null,"cm","PHONE",{"$f":"IF(ISBLANK(VLOOKUP(28,Tabelle3[],8,0)),\"-\",VLOOKUP(28,Tabelle3[],8,0))","v":"-"},null,null,null,null,null,null,null,null,null,null,null,null,null,null,"Entourage",null,"Date 3",null,null,"cm",null,"Kg",null,"DURCHSCHNITT",3]
["SEXE",null,{"$f":"IF(ISBLANK(VLOOKUP(28,Tabelle3[],13,0)),\"-\",VLOOKUP(28,Tabelle3[],13,0))","v":"-"},null,null,null,"POIDS",null,"Kg","E-Mail",{"$f":"IF(ISBLANK(VLOOKUP(28,Tabelle3[],9,0)),\"-\",VLOOKUP(28,Tabelle3[],9,0))","v":"-"},null,null,null,null,null,null,null,null,null,null,null,null,null,null,null,null,"Date 4",null,null,"cm",null,"Kg",null,"MANGELHAFT",2]
[null,null,null,null,null,null,null,null,null,null,null,null,null,null,null,null,null,null,null,null,null,null,null,null,null,null,null,"Date 5",null,null,"cm",null,"Kg",null,"UNGENÜGEND",1]
["Vision",null,"xxx"]
["Next step",null,"xxx"]
["Profil du Joueur",null,"xxx"]
[]
["EVALUATION (COACH / JOUEUR)",null,null,null,null,null,null,null,null,null,null,null,null,null,null,null,null,null,null,null,null,null,null,null,null,"SMART"]
[{"$f":"'Skills explications FTEM'!A3:A3","v":"TEAM"},null,null,{"$f":"'Skills explications FTEM'!B3","v":"COMPÉTENCES"},null,null,{"$f":"'Skills explications FTEM'!C3","v":"OBSERVATION"},null,null,{"$f":"'Skills explications FTEM'!H3","v":0},null,null,"Final","Date1",null,"Date2",null,"Date3",null,"Date4",null,"Date5",null,"Player",null,"BUT","MESURES:\nSPECIFIQUE, MESURABLES, REALISTE",null,null,null,null,null,null,"DELAI","CONTRÔLE DU BUT","Date"]
[{"$f":"'Skills explications FTEM'!A4:A4","v":"ÉQUIPE"},null,null,{"$f":"IF($H$2=\"G\",'Skills explications FTEM'!F4,'Skills explications FTEM'!B4)","v":"Communication"},null,null,{"$f":"IF($H$2=\"G\",'Skills explications FTEM'!G4,'Skills explications FTEM'!C4)","v":"Respect et ouverture dans ses relations, confiance comme base, traite les conflits sans perturber la stabilité du groupe, communique avec ses coéquipiers, les entraîneurs et les fonctionnaires avec les mêmes valeurs"},null,null,{"$f":"IF($H$2=\"G\",'Skills explications FTEM'!#REF!,'Skills explications FTEM'!#REF!)","v":{"$error":"#REF!"}},null,null,null,{"$f":"IFERROR(AVERAGE(O13:O17),\"-\")","v":"-"},null,{"$f":"IFERROR(AVERAGE(Q13:Q17),\"-\")","v":"-"},null,{"$f":"IFERROR(AVERAGE(S13:S17),\"-\")","v":"-"},null,{"$f":"IFERROR(AVERAGE(U13:U17),\"-\")","v":"-"},null,{"$f":"IFERROR(AVERAGE(W13:W17),\"-\")","v":"-"},null,{"$f":"IFERROR(AVERAGE(Y13:Y17),\"-\")","v":"-"}]
[null,null,null,{"$f":"IF($H$2=\"G\",'Skills explications FTEM'!F5,'Skills explications FTEM'!B5)","v":"Capacité de jouer en équipe"},null,null,{"$f":"IF($H$2=\"G\",'Skills explications FTEM'!G5,'Skills explications FTEM'!C5)","v":"Intégration dans le groupe, définit et réalise des objectifs communs, NOUS avant le MOI, participe au bon esprit d'équipe et à un bon climat de travail"},null,null,{"$f":"IF($H$2=\"G\",'Skills explications FTEM'!#REF!,'Skills explications FTEM'!#REF!)","v":{"$error":"#REF!"}}]
[null,null,null,{"$f":"IF($H$2=\"G\",'Skills explications FTEM'!F6,'Skills explications FTEM'!B6)","v":"Leadership"},null,null,{"$f":"IF($H$2=\"G\",'Skills explications FTEM'!G6,'Skills explications FTEM'!C6)","v":"Prend des responsabilités dans le groupe, essaie de donner de la valeur à ses coéquipiers et au groupe, influence positivement la dynamique de groupe"},null,null,{"$f":"IF($H$2=\"G\",'Skills explications FTEM'!#REF!,'Skills explications FTEM'!#REF!)","v":{"$error":"#REF!"}}]
[null,null,null,{"$f":"IF($H$2=\"G\",'Skills explications FTEM'!F7,'Skills explications FTEM'!B7)","v":"Répartition des rôles"},null,null,{"$f":"IF($H$2=\"G\",'Skills explications FTEM'!G7,'Skills explications FTEM'!C7)","v":"Connaît son rôle et le réalise, est conscient de sa position dans l'équipe et le système, met ses compétences à disposition de l'équipe"},null,null,{"$f":"IF($H$2=\"G\",'Skills explications FTEM'!#REF!,'Skills explications FTEM'!#REF!)","v":{"$error":"#REF!"}}]
[{"$f":"'Skills explications FTEM'!A8:A8","v":0},null,null,{"$f":"IF($H$2=\"G\",'Skills explications FTEM'!F8,'Skills explications FTEM'!B8)","v":"Respect"},null,null,{"$f":"IF($H$2=\"G\",'Skills explications FTEM'!G8,'Skills explications FTEM'!C8)","v":"Relations respectueuses avec les coéquipiers, les entraîneurs, les adversaires, les arbitres et le staff; respect des règles, des principes du fairplay (y compris antidopage)"},null,null,{"$f":"IF($H$2=\"G\",'Skills explications FTEM'!#REF!,'Skills explications FTEM'!#REF!)","v":{"$error":"#REF!"}}]
[{"$f":"'Skills explications FTEM'!A9:A9","v":"ON ICE"},null,null,{"$f":"'Skills explications FTEM'!B9","v":"COMPÉTENCES"},null,null,{"$f":"'Skills explications FTEM'!C9","v":"OBSERVATION"},null,null,{"$f":"'Skills explications FTEM'!H9","v":0},null,null,null,"Date1",null,"Date2",null,"Date3",null,"Date4",null,"Date5",null,"Player",null,"BUT","MESURES:\nSPECIFIQUE, MESURABLES, REALISTE",null,null,null,null,null,null,"DELAI","CONTRÔLE DU BUT","Date"]
[{"$f":"'Skills explications FTEM'!A10:A10","v":"PATINAGE"},null,null,{"$f":"IF($H$2=\"G\",'Skills explications FTEM'!F10,'Skills explications FTEM'!B10)","v":"Vitesse de patinage"},null,null,{"$f":"IF($H$2=\"G\",'Skills explications FTEM'!G10,'Skills explications FTEM'!C10)","v":"Accélération, départ, explosivité des 3 premiers pas, fréquence"},null,null,{"$f":"IF($H$2=\"G\",'Skills explications FTEM'!#REF!,'Skills explications FTEM'!#REF!)","v":{"$error":"#REF!"}},null,null,null,{"$f":"IFERROR(AVERAGE(O19:O23),\"-\")","v":"-"},null,{"$f":"IFERROR(AVERAGE(Q19:Q23),\"-\")","v":"-"},null,{"$f":"IFERROR(AVERAGE(S19:S23),\"-\")","v":"-"},null,{"$f":"IFERROR(AVERAGE(U19:U23),\"-\")","v":"-"},null,{"$f":"IFERROR(AVERAGE(W19:W23),\"-\")","v":"-"},null,{"$f":"IFERROR(AVERAGE(Y19:Y23),\"-\")","v":"-"}]
[{"$f":"'Skills explications FTEM'!A11:A11","v":0},null,null,{"$f":"IF($H$2=\"G\",'Skills explications FTEM'!F11,'Skills explications FTEM'!B11)","v":"Vitesse, rapidité"},null,null,{"$f":"IF($H$2=\"G\",'Skills explications FTEM'!G11,'Skills explications FTEM'!C11)","v":"Vitesse, faculté de glisse, avant et arrière, économie des forces"},null,null,{"$f":"IF($H$2=\"G\",'Skills explications FTEM'!#REF!,'Skills explications FTEM'!#REF!)","v":{"$error":"#REF!"}}]
[{"$f":"'Skills explications FTEM'!A12:A12","v":0},null,null,{"$f":"IF($H$2=\"G\",'Skills explications FTEM'!F12,'Skills explications FTEM'!B12)","v":"Agilité"},null,null,{"$f":"IF($H$2=\"G\",'Skills explications FTEM'!G12,'Skills explications FTEM'!C12)","v":"Changements de direction, pivots, stop et start «Nummelin»"},null,null,{"$f":"IF($H$2=\"G\",'Skills explications FTEM'!#REF!,'Skills explications FTEM'!#REF!)","v":{"$error":"#REF!"}},null,null,null,{"$f":"IFERROR(AVERAGE(O21:O23),\"-\")","v":"-"},null,{"$f":"IFERROR(AVERAGE(Q21:Q23),\"-\")","v":"-"},null,{"$f":"IFERROR(AVERAGE(S21:S23),\"-\")","v":"-"},null,{"$f":"IFERROR(AVERAGE(U21:U23),\"-\")","v":"-"},null,{"$f":"IFERROR(AVERAGE(W21:W23),\"-\")","v":"-"},null,"-"]
[null,null,null,{"$f":"IF($H$2=\"G\",'Skills explications FTEM'!F13,'Skills explications FTEM'!B13)","v":"Balance"},null,null,{"$f":"IF($H$2=\"G\",'Skills explications FTEM'!G13,'Skills explications FTEM'!C13)","v":"Equilibre, faculté d'être sur ses appuis, position basse, 1 ou 2 jambes"},null,null,{"$f":"IF($H$2=\"G\",'Skills explications FTEM'!#REF!,'Skills explications FTEM'!#REF!)","v":{"$error":"#REF!"}}]
[{"$f":"'Skills explications FTEM'!#REF!","v":{"$error":"#REF!"}},null,null,{"$f":"IF($H$2=\"G\",'Skills explications FTEM'!F14,'Skills explications FTEM'!B14)","v":"Patinage arrière"},null,null,{"$f":"IF($H$2=\"G\",'Skills explications FTEM'!G14,'Skills explications FTEM'!C14)","v":"Accélération, vitesse, équilibre "},null,null,{"$f":"IF($H$2=\"G\",'Skills explications FTEM'!#REF!,'Skills explications FTEM'!#REF!)","v":{"$error":"#REF!"}}]
[{"$f":"'Skills explications FTEM'!A15:A15","v":"SKILLS"},null,null,{"$f":"IF($H$2=\"G\",'Skills explications FTEM'!F15,'Skills explications FTEM'!B15)","v":"Tirer"},null,null,{"$f":"IF($H$2=\"G\",'Skills explications FTEM'!G15,'Skills explications FTEM'!C15)","v":"Efficience (pas d'espace et de temps), variantes, degré de surprise (déclenchement rapide), précision, puissance (conclusion tactique)"},null,null,{"$f":"IF($H$2=\"G\",'Skills explications FTEM'!#REF!,'Skills explications FTEM'!#REF!)","v":{"$error":"#REF!"}},null,null,null,{"$f":"IFERROR(AVERAGE(O24:O29),\"-\")","v":"-"},null,{"$f":"IFERROR(AVERAGE(Q24:Q29),\"-\")","v":"-"},null,{"$f":"IFERROR(AVERAGE(S24:S29),\"-\")","v":"-"},null,{"$f":"IFERROR(AVERAGE(U24:U29),\"-\")","v":"-"},null,{"$f":"IFERROR(AVERAGE(W24:W29),\"-\")","v":"-"},null,{"$f":"IFERROR(AVERAGE(Y24:Y29),\"-\")","v":"-"}]
[{"$f":"'Skills explications FTEM'!A16:A16","v":0},null,null,{"$f":"IF($H$2=\"G\",'Skills explications FTEM'!F16,'Skills explications FTEM'!B16)","v":"Passer"},null,null,{"$f":"IF($H$2=\"G\",'Skills explications FTEM'!G16,'Skills explications FTEM'!C16)","v":"Donne la passe (distance, passe flipée en revers), réception de la passe (précision, timing, coup droit, revers, patins), vitesse du puck"},null,null,{"$f":"IF($H$2=\"G\",'Skills explications FTEM'!#REF!,'Skills explications FTEM'!#REF!)","v":{"$error":"#REF!"}}]
[{"$f":"'Skills explications FTEM'!A17:A17","v":0},null,null,{"$f":"IF($H$2=\"G\",'Skills explications FTEM'!F17,'Skills explications FTEM'!B17)","v":"Travail de canne, conduite du puck"},null,null,{"$f":"IF($H$2=\"G\",'Skills explications FTEM'!G17,'Skills explications FTEM'!C17)","v":"Puck sur la palette, intercepte les lignes de passe, déviation, contrôle de la canne de l'adversaire"},null,null,{"$f":"IF($H$2=\"G\",'Skills explications FTEM'!#REF!,'Skills explications FTEM'!#REF!)","v":{"$error":"#REF!"}}]
[null,null,null,{"$f":"IF($H$2=\"G\",'Skills explications FTEM'!F18,'Skills explications FTEM'!B18)","v":"Protéger le puck"},null,null,{"$f":"IF($H$2=\"G\",'Skills explications FTEM'!G18,'Skills explications FTEM'!C18)","v":"Contrôle du puck, dribbling, protection du puck, feintes (variantes: avec les patins ou avec et sans la bande), mise au jeu (bully)"},null,null,{"$f":"IF($H$2=\"G\",'Skills explications FTEM'!#REF!,'Skills explications FTEM'!#REF!)","v":{"$error":"#REF!"}}]
[null,null,null,{"$f":"IF($H$2=\"G\",'Skills explications FTEM'!F19,'Skills explications FTEM'!B19)","v":"Jeu du corps (charges)"},null,null,{"$f":"IF($H$2=\"G\",'Skills explications FTEM'!G19,'Skills explications FTEM'!C19)","v":"Faculté de s'imposer physiquement, duels (sur la surface de glace ou à la bande), prendre des checks, lever la tête, niveau de lutte, dur mais correct, bloquer les tirs avec le corps"},null,null,{"$f":"IF($H$2=\"G\",'Skills explications FTEM'!#REF!,'Skills explications FTEM'!#REF!)","v":{"$error":"#REF!"}}]
[{"$f":"'Skills explications FTEM'!A20:A20","v":0},null,null,{"$f":"IF($H$2=\"G\",'Skills explications FTEM'!F20,'Skills explications FTEM'!B20)","v":"-"},null,null,{"$f":"IF($H$2=\"G\",'Skills explications FTEM'!G20,'Skills explications FTEM'!C20)","v":"-"},null,null,{"$f":"IF($H$2=\"G\",'Skills explications FTEM'!#REF!,'Skills explications FTEM'!#REF!)","v":{"$error":"#REF!"}}]
[{"$f":"'Skills explications FTEM'!A21:A21","v":"HOCKEY SENSE"},null,null,{"$f":"IF($H$2=\"G\",'Skills explications FTEM'!F21,'Skills explications FTEM'!B21)","v":"Intelligence de jeu"},null,null,{"$f":"IF($H$2=\"G\",'Skills explications FTEM'!G21,'Skills explications FTEM'!C21)","v":"Voit les zones libres avec joueurs et crée des situations de surnombre, trouve des solutions et agit en toute situation, vitesse de la visualisation"},null,null,{"$f":"IF($H$2=\"G\",'Skills explications FTEM'!#REF!,'Skills explications FTEM'!#REF!)","v":{"$error":"#REF!"}},null,null,null,{"$f":"IFERROR(AVERAGE(O30:O34),\"-\")","v":"-"},null,{"$f":"IFERROR(AVERAGE(Q30:Q34),\"-\")","v":"-"},null,{"$f":"IFERROR(AVERAGE(S30:S34),\"-\")","v":"-"},null,{"$f":"IFERROR(AVERAGE(U30:U34),\"-\")","v":"-"},null,{"$f":"IFERROR(AVERAGE(W30:W34),\"-\")","v":"-"},null,{"$f":"IFERROR(AVERAGE(Y30:Y34),\"-\")","v":"-"}]
[{"$f":"'Skills explications FTEM'!A22:A22","v":0},null,null,{"$f":"IF($H$2=\"G\",'Skills explications FTEM'!F22,'Skills explications FTEM'!B22)","v":"Sensibilisation offensive"},null,null,{"$f":"IF($H$2=\"G\",'Skills explications FTEM'!G22,'Skills explications FTEM'!C22)","v":"Se démarque, anticipation des situations de jeu, ouvre des zones libres pour ses coéquipiers, se place pour marquer, vitesse de mise sous pression, communication"},null,null,{"$f":"IF($H$2=\"G\",'Skills explications FTEM'!#REF!,'Skills explications FTEM'!#REF!)","v":{"$error":"#REF!"}}]
[null,null,null,{"$f":"IF($H$2=\"G\",'Skills explications FTEM'!F23,'Skills explications FTEM'!B23)","v":"Sensibilisation défensive"},null,null,{"$f":"IF($H$2=\"G\",'Skills explications FTEM'!G23,'Skills explications FTEM'!C23)","v":"Garde la position «inside», protège le slot, rassure les coéquipiers, support, anticipe les lignes de passe, bloque les tirs. Réduit rapidement la distance sur l'adversaire, communication"},null,null,{"$f":"IF($H$2=\"G\",'Skills explications FTEM'!#REF!,'Skills explications FTEM'!#REF!)","v":{"$error":"#REF!"}}]
[{"$f":"'Skills explications FTEM'!A23:A23","v":0},null,null,{"$f":"IF($H$2=\"G\",'Skills explications FTEM'!F24,'Skills explications FTEM'!B24)","v":"Gestion du puck"},null,null,{"$f":"IF($H$2=\"G\",'Skills explications FTEM'!G24,'Skills explications FTEM'!C24)","v":"Fait le bon choix en fonction de la situation, support, surnombre"},null,null,{"$f":"IF($H$2=\"G\",'Skills explications FTEM'!#REF!,'Skills explications FTEM'!#REF!)","v":{"$error":"#REF!"}}]
[{"$f":"'Skills explications FTEM'!A25:A25","v":0},null,null,{"$f":"IF($H$2=\"G\",'Skills explications FTEM'!F25,'Skills explications FTEM'!B25)","v":"Créativité"},null,null,{"$f":"IF($H$2=\"G\",'Skills explications FTEM'!G25,'Skills explications FTEM'!C25)","v":"Prises de décision surprenantes, sens du but"},null,null,{"$f":"IF($H$2=\"G\",'Skills explications FTEM'!#REF!,'Skills explications FTEM'!#REF!)","v":{"$error":"#REF!"}}]
[{"$f":"'Skills explications FTEM'!A26:A26","v":"PERSONALITY"},null,null,{"$f":"'Skills explications FTEM'!B26","v":"COMPÉTENCES"},null,null,{"$f":"'Skills explications FTEM'!C26","v":"OBSERVATION"},null,null,{"$f":"'Skills explications FTEM'!H26","v":0},null,null,null,"Date1",null,"Date2",null,"Date3",null,"Date4",null,"Date5",null,"Player",null,"BUT","MESURES:\nSPECIFIQUE, MESURABLES, REALISTE",null,null,null,null,null,null,"DELAI","CONTRÔLE DU BUT","Date"]
[{"$f":"'Skills explications FTEM'!A27:A27","v":"PERSONNALITÉ"},null,null,{"$f":"IF($H$2=\"G\",'Skills explications FTEM'!F27,'Skills explications FTEM'!B27)","v":"Confiance en soi"},null,null,{"$f":"IF($H$2=\"G\",'Skills explications FTEM'!G27,'Skills explications FTEM'!C27)","v":"Est en confiance,«I can do it», peut estimer ses capacités (connaît ses qualités et ses défauts), peut réaliser ses qualités avec constance, est courageux et prend des risques calculés"},null,null,{"$f":"IF($H$2=\"G\",'Skills explications FTEM'!#REF!,'Skills explications FTEM'!#REF!)","v":{"$error":"#REF!"}},null,null,null,{"$f":"IFERROR(AVERAGE(O36:O40),\"-\")","v":"-"},null,null,null,{"$f":"IFERROR(AVERAGE(S36:S40),\"-\")","v":"-"},null,{"$f":"IFERROR(AVERAGE(U36:U40),\"-\")","v":"-"},null,{"$f":"IFERROR(AVERAGE(W36:W40),\"-\")","v":"-"},null,{"$f":"IFERROR(AVERAGE(Y36:Y40),\"-\")","v":"-"}]
[{"$f":"'Skills explications FTEM'!A28:A28","v":0},null,null,{"$f":"IF($H$2=\"G\",'Skills explications FTEM'!F28,'Skills explications FTEM'!B28)","v":"Facultés d'apprentissage"},null,null,{"$f":"IF($H$2=\"G\",'Skills explications FTEM'!G28,'Skills explications FTEM'!C28)","v":"A une bonne perception (il peut mémoriser et peut réaliser), il a de la personnalité, essaie d'apprendre de ses erreurs et est entreprenant"},null,null,{"$f":"IF($H$2=\"G\",'Skills explications FTEM'!#REF!,'Skills explications FTEM'!#REF!)","v":{"$error":"#REF!"}}]
[{"$f":"'Skills explications FTEM'!A29:A29","v":0},null,null,{"$f":"IF($H$2=\"G\",'Skills explications FTEM'!F29,'Skills explications FTEM'!B29)","v":"Prise de responsabilités"},null,null,{"$f":"IF($H$2=\"G\",'Skills explications FTEM'!G29,'Skills explications FTEM'!C29)","v":"Prend la responsabilité de ses performances et de son développement, est-il autonome, soigne-t-il les détails, a beaucoup d'engagement dans tous les domaines"},null,null,{"$f":"IF($H$2=\"G\",'Skills explications FTEM'!#REF!,'Skills explications FTEM'!#REF!)","v":{"$error":"#REF!"}}]
[null,null,null,{"$f":"IF($H$2=\"G\",'Skills explications FTEM'!F30,'Skills explications FTEM'!B30)","v":"Motivation"},null,null,{"$f":"IF($H$2=\"G\",'Skills explications FTEM'!G30,'Skills explications FTEM'!C30)","v":"Est toujours motivé, veut sans cesse se développer et apprendre, veut être le premier et avoir du succès, n'abandonne jamais et ne se laisse pas influencer par les échesc"},null,null,{"$f":"IF($H$2=\"G\",'Skills explications FTEM'!#REF!,'Skills explications FTEM'!#REF!)","v":{"$error":"#REF!"}}]
[{"$f":"'Skills explications FTEM'!A31:A31","v":0},null,null,{"$f":"IF($H$2=\"G\",'Skills explications FTEM'!F31,'Skills explications FTEM'!B31)","v":"Performance style de vie"},null,null,{"$f":"IF($H$2=\"G\",'Skills explications FTEM'!G31,'Skills explications FTEM'!C31)","v":"Gère bien son environnement et son temps libre selon les principes de la performance, obstiné, tenace et axé sur l'objectif, accent sur sa propre performance, est courageux et peut s'imposer contre la résistance, les défis le motivent"},null,null,{"$f":"IF($H$2=\"G\",'Skills explications FTEM'!#REF!,'Skills explications FTEM'!#REF!)","v":{"$error":"#REF!"}}]
[{"$f":"'Skills explications FTEM'!A32:A32","v":"FORCE MENTALE"},null,null,{"$f":"IF($H$2=\"G\",'Skills explications FTEM'!F32,'Skills explications FTEM'!B32)","v":"Engagement"},null,null,{"$f":"IF($H$2=\"G\",'Skills explications FTEM'!G32,'Skills explications FTEM'!C32)","v":"Démontre beaucoup d'intensité dans les entraînements et les matchs, donne toujours son maximum et veut sans cesse repousser ses limites, a-t-il de la passion, s'efforce-t-il de s'entraîner avec une excellente qualité"},null,null,{"$f":"IF($H$2=\"G\",'Skills explications FTEM'!#REF!,'Skills explications FTEM'!#REF!)","v":{"$error":"#REF!"}},null,null,null,{"$f":"IFERROR(AVERAGE(O41:O45),\"-\")","v":"-"},null,null,null,{"$f":"IFERROR(AVERAGE(S41:S45),\"-\")","v":"-"},null,{"$f":"IFERROR(AVERAGE(U41:U45),\"-\")","v":"-"},null,{"$f":"IFERROR(AVERAGE(W41:W45),\"-\")","v":"-"},null,{"$f":"IFERROR(AVERAGE(Y41:Y45),\"-\")","v":"-"}]
[{"$f":"'Skills explications FTEM'!A33:A33","v":0},null,null,{"$f":"IF($H$2=\"G\",'Skills explications FTEM'!F33,'Skills explications FTEM'!B33)","v":"Préparation"},null,null,{"$f":"IF($H$2=\"G\",'Skills explications FTEM'!G33,'Skills explications FTEM'!C33)","v":"Se prépare-t-il toujours bien, mentalement et physiquement, se prépare-t-il toujours bien pour obtenir le niveau de performance idéal (ILZ)"},null,null,{"$f":"IF($H$2=\"G\",'Skills explications FTEM'!#REF!,'Skills explications FTEM'!#REF!)","v":{"$error":"#REF!"}}]
[null,null,null,{"$f":"IF($H$2=\"G\",'Skills explications FTEM'!F34,'Skills explications FTEM'!B34)","v":"Coaching personnel"},null,null,{"$f":"IF($H$2=\"G\",'Skills explications FTEM'!G34,'Skills explications FTEM'!C34)","v":"A-t-il de bonnes facultés de concentration, peut-il maintenir son niveau de performance idéal (ILZ) dans les entraînements et les matchs, peut-il appliquer ses techniques de base, est-il résistant aux influences et pensées négatives, est-il conscient de son attitude corporelle et peut-il l'influencer"},null,null,{"$f":"IF($H$2=\"G\",'Skills explications FTEM'!#REF!,'Skills explications FTEM'!#REF!)","v":{"$error":"#REF!"}}]
[{"$f":"'Skills explications FTEM'!A34:A34","v":0},null,null,{"$f":"IF($H$2=\"G\",'Skills explications FTEM'!F35,'Skills explications FTEM'!B35)","v":"Gestion des énergies"},null,null,{"$f":"IF($H$2=\"G\",'Skills explications FTEM'!G35,'Skills explications FTEM'!C35)","v":"Peut-il gérer ses propres énergies, prend-il soin de sa récupération, peut-il gérer les moments où il faut se donner à fond ou quand il faut déconnecter, bouton On/Off"},null,null,{"$f":"IF($H$2=\"G\",'Skills explications FTEM'!#REF!,'Skills explications FTEM'!#REF!)","v":{"$error":"#REF!"}}]
[{"$f":"'Skills explications FTEM'!A36:A36","v":0},null,null,{"$f":"IF($H$2=\"G\",'Skills explications FTEM'!F36,'Skills explications FTEM'!B36)","v":"Contrôle des émotions"},null,null,{"$f":"IF($H$2=\"G\",'Skills explications FTEM'!G36,'Skills explications FTEM'!C36)","v":"Peut-il gérer ses propres émotions et impulsions, reste-t-il sous contrôle lorsqu'il y a une grande pression, peut-il rester calme lorsque le niveau émotionnel et de frustration est élevé"},null,null,{"$f":"IF($H$2=\"G\",'Skills explications FTEM'!#REF!,'Skills explications FTEM'!#REF!)","v":{"$error":"#REF!"}}]
[{"$f":"'Skills explications FTEM'!A37:A37","v":"PHYSIQUE"},null,null,{"$f":"IF($H$2=\"G\",'Skills explications FTEM'!F37,'Skills explications FTEM'!B37)","v":"Production de la performance"},null,null,{"$f":"IF($H$2=\"G\",'Skills explications FTEM'!G37,'Skills explications FTEM'!C37)","v":"A-t-il la puissance, la force, la vitesse nécessaires dans les jambes et le haut du corps (facteurs neuromusculaires)"},null,null,{"$f":"IF($H$2=\"G\",'Skills explications FTEM'!#REF!,'Skills explications FTEM'!#REF!)","v":{"$error":"#REF!"}},null,null,null,{"$f":"IFERROR(AVERAGE(O46:O50),\"-\")","v":"-"},null,null,null,{"$f":"IFERROR(AVERAGE(S46:S50),\"-\")","v":"-"},null,{"$f":"IFERROR(AVERAGE(U46:U50),\"-\")","v":"-"},null,{"$f":"IFERROR(AVERAGE(W46:W50),\"-\")","v":"-"},null,{"$f":"IFERROR(AVERAGE(Y46:Y50),\"-\")","v":"-"}]
[{"$f":"'Skills explications FTEM'!A38:A38","v":0},null,null,{"$f":"IF($H$2=\"G\",'Skills explications FTEM'!F38,'Skills explications FTEM'!B38)","v":"Spécifique au sport, résistant à l'effort"},null,null,{"$f":"IF($H$2=\"G\",'Skills explications FTEM'!G38,'Skills explications FTEM'!C38)","v":"Est-il capable de maintenir sa puissance, sa force, sa vitesse durant un long temps de glace et peut-il récupérer complètement entre ses engagements (facteurs du métabolisme et cardiovasculaire)"},null,null,{"$f":"IF($H$2=\"G\",'Skills explications FTEM'!#REF!,'Skills explications FTEM'!#REF!)","v":{"$error":"#REF!"}}]
[null,null,null,{"$f":"IF($H$2=\"G\",'Skills explications FTEM'!F39,'Skills explications FTEM'!B39)","v":"Santé / Prévention"},null,null,{"$f":"IF($H$2=\"G\",'Skills explications FTEM'!G39,'Skills explications FTEM'!C39)","v":"A-t-il la stabilité nécessaire (p. ex. ses appuis) et la mobilité nécessaire au niveau des articulations centrales"},null,null,{"$f":"IF($H$2=\"G\",'Skills explications FTEM'!#REF!,'Skills explications FTEM'!#REF!)","v":{"$error":"#REF!"}}]
[{"$f":"'Skills explications FTEM'!A39:A39","v":0},null,null,{"$f":"IF($H$2=\"G\",'Skills explications FTEM'!F40,'Skills explications FTEM'!B40)","v":"Mobilité / Coordination"},null,null,{"$f":"IF($H$2=\"G\",'Skills explications FTEM'!G40,'Skills explications FTEM'!C40)","v":"Gère-t-il ses aptitudes de mouvements de base, qui sont un fournisseur important des fonctions spécifiques «Skills» pour être efficace"},null,null,{"$f":"IF($H$2=\"G\",'Skills explications FTEM'!#REF!,'Skills explications FTEM'!#REF!)","v":{"$error":"#REF!"}}]
[{"$f":"'Skills explications FTEM'!A41:A41","v":0},null,null,{"$f":"IF($H$2=\"G\",'Skills explications FTEM'!F41,'Skills explications FTEM'!B41)","v":"Robustesse"},null,null,{"$f":"IF($H$2=\"G\",'Skills explications FTEM'!G41,'Skills explications FTEM'!C41)","v":"A-t-il la force de base nécessaire (tension corporelle) pour gagner des duels et résister aux charges"},null,null,{"$f":"IF($H$2=\"G\",'Skills explications FTEM'!#REF!,'Skills explications FTEM'!#REF!)","v":{"$error":"#REF!"}}]

{"sheet":"29","index":32,"n_rows":50,"n_cols":36,"rows_kept":50,"cut":false,"hidden":false,"merged":[[45,25,49,25],[45,26,49,32],[45,34,49,34],[40,23,44,23],[42,3,42,5],[42,6,42,11],[44,3,44,5],[44,6,44,11],[40,0,44,2],[40,3,40,5],[40,6,40,11],[40,12,44,12],[40,13,44,13],[40,15,44,15],[45,0,49,2],[45,3,45,5],[45,6,45,11],[45,12,49,12],[45,23,49,23],[47,3,47,5],[47,6,47,11],[48,3,48,5],[48,6,48,11],[49,3,49,5],[34,21,34,22],[35,17,39,17],[35,19,39,19],[35,21,39,21],[36,3,36,5],[36,6,36,11],[38,3,38,5],[38,6,38,11],[40,17,44,17],[40,19,44,19],[40,21,44,21],[43,3,43,5],[43,6,43,11],[37,3,37,5],[37,6,37,11],[41,3,41,5],[41,6,41,11],[29,0,33,2],[29,3,29,5],[29,6,29,11],[29,12,33,12],[29,13,33,13],[29,15,33,15],[34,23,34,24],[34,26,34,32],[35,0,39,2],[35,3,35,5],[35,6,35,11],[35,12,39,12],[35,13,39,13],[35,15,39,15],[39,3,39,5],[39,6,39,11],[35,23,39,23],[34,0,34,2],[34,3,34,5],[34,6,34,11],[34,13,34,14],[34,15,34,16],[34,17,34,18],[34,19,34,20],[23,21,28,21],[23,23,28,23],[24,3,24,5],[24,6,24,11],[28,3,28,5],[28,6,28,11],[33,3,33,5],[33,6,33,11],[29,23,33,23],[29,17,33,17],[29,19,33,19],[29,21,33,21],[30,3,30,5],[30,6,30,11],[31,3,31,5],[31,6,31,11],[25,3,25,5],[25,6,25,11],[32,3,32,5],[32,6,32,11],[18,15,22,15],[18,17,22,17],[18,19,22,19],[18,21,22,21],[18,23,22,23],[22,3,22,5],[22,6,22,11],[23,0,28,2],[23,3,23,5],[23,6,23,11],[23,12,28,12],[23,13,28,13],[23,15,28,15],[23,17,28,17],[18,0,22,2],[18,3,18,5],[18,6,18,11],[18,12,22,12],[18,13,22,13],[19,3,19,5],[19,6,19,11],[20,3,20,5],[20,6,20,11],[23,19,28,19],[12,23,16,23],[16,3,16,5],[16,6,16,11],[17,0,17,2],[17,3,17,5],[17,6,17,11],[17,13,17,14],[17,15,17,16],[17,17,17,18],[17,19,17,20],[17,21,17,22],[17,23,17,24],[12,0,16,2],[12,3,12,5],[12,6,12,11],[12,12,16,12],[12,13,16,13],[12,15,16,15],[12,17,16,17],[12,19,16,19],[12,21,16,21],[13,3,13,5],[13,6,13,11],[14,3,14,5],[11,0,11,2],[11,3,11,5],[11,13,11,14],[11,15,11,16],[11,17,11,18],[11,19,11,20],[11,21,11,22],[11,23,11,24],[11,26,11,32],[11,6,11,11],[0,33,0,35],[29,25,33,25],[29,26,33,32],[29,34,33,34],[35,25,39,25],[35,26,39,32],[35,34,39,34],[1,0,1,1],[1,2,1,5],[1,10,1,24],[2,0,2,1],[2,2,2,5],[2,11,2,24],[6,0,6,1],[6,2,6,35],[7,0,7,1],[7,2,7,35],[8,0,8,1],[8,2,8,35],[3,0,3,1],[3,10,3,24],[4,0,4,1],[4,2,4,5],[4,10,4,24],[49,6,49,11],[45,13,49,13],[45,15,49,15],[45,17,49,17],[45,19,49,19],[45,21,49,21],[0,0,0,24],[0,25,0,26],[0,27,0,32],[10,0,10,24],[10,25,10,35],[40,25,44,25],[40,26,44,32],[40,34,44,34],[12,25,16,25],[12,26,16,32],[12,34,16,34],[18,25,22,25],[18,26,22,32],[18,34,22,34],[23,25,28,25],[23,26,28,32],[23,34,28,34],[17,26,17,32],[46,3,46,5],[46,6,46,11],[14,6,14,11],[15,3,15,5],[15,6,15,11],[21,3,21,5],[21,6,21,11],[26,3,26,5],[26,6,26,11],[27,3,27,5],[27,6,27,11]]}
["Infos personelles",null,null,null,null,null,null,null,null,null,null,null,null,null,null,null,null,null,null,null,null,null,null,null,null,"Predispositions",null,"Evaluations",null,null,null,null,null,"Rating"]
["PRENOM",null,{"$f":"IF(ISBLANK(VLOOKUP(29,Tabelle3[],3,0)),\"-\",VLOOKUP(29,Tabelle3[],3,0))","v":"-"},null,null,null,"POSITION",null,null,"ADRESSE",{"$f":"IF(ISBLANK(VLOOKUP(29,Tabelle3[],5,0)),\"-\",VLOOKUP(29,Tabelle3[],5,0))","v":"-"},null,null,null,null,null,null,null,null,null,null,null,null,null,null,"\"àage\" (Biologique/age relatif)",null,"Date 1",null,null,"cm",null,"Kg",null,"AUSGEZEICHNET",5]
["NOM",null,{"$f":"IF(ISBLANK(VLOOKUP(29,Tabelle3[],2,0)),\"-\",VLOOKUP(29,Tabelle3[],2,0))","v":"-"},null,null,null,"CANNE",null,null,"LIEU",{"$f":"IF(ISBLANK(VLOOKUP(29,Tabelle3[],7,0)),\"-\",VLOOKUP(29,Tabelle3[],7,0))","v":"-"},{"$f":"IF(ISBLANK(VLOOKUP(29,Tabelle3[],6,0)),\"-\",VLOOKUP(29,Tabelle3[],6,0))","v":"-"},null,null,null,null,null,null,null,null,null,null,null,null,null,"predispositions",null,"Date 2",null,null,"cm",null,"Kg",null,"GUT",4]
["DATE NAISS.",null,{"$f":"IF(ISBLANK(VLOOKUP(29,Tabelle3[],14,0)),\"-\",VLOOKUP(29,Tabelle3[],14,0))","v":"-"},{"$f":"IF(ISBLANK(VLOOKUP(29,Tabelle3[],15,0)),\"-\",VLOOKUP(29,Tabelle3[],15,0))","v":"-"},{"$f":"IF(ISBLANK(VLOOKUP(29,Tabelle3[],16,0)),\"-\",VLOOKUP(29,Tabelle3[],16,0))","v":"-"},null,"GRANDEUR",null,"cm","PHONE",{"$f":"IF(ISBLANK(VLOOKUP(29,Tabelle3[],8,0)),\"-\",VLOOKUP(29,Tabelle3[],8,0))","v":"-"},null,null,null,null,null,null,null,null,null,null,null,null,null,null,"Entourage",null,"Date 3",null,null,"cm",null,"Kg",null,"DURCHSCHNITT",3]
["SEXE",null,{"$f":"IF(ISBLANK(VLOOKUP(29,Tabelle3[],13,0)),\"-\",VLOOKUP(29,Tabelle3[],13,0))","v":"-"},null,null,null,"POIDS",null,"Kg","E-Mail",{"$f":"IF(ISBLANK(VLOOKUP(29,Tabelle3[],9,0)),\"-\",VLOOKUP(29,Tabelle3[],9,0))","v":"-"},null,null,null,null,null,null,null,null,null,null,null,null,null,null,null,null,"Date 4",null,null,"cm",null,"Kg",null,"MANGELHAFT",2]
[null,null,null,null,null,null,null,null,null,null,null,null,null,null,null,null,null,null,null,null,null,null,null,null,null,null,null,"Date 5",null,null,"cm",null,"Kg",null,"UNGENÜGEND",1]
["Vision",null,"xxx"]
["Next step",null,"xxx"]
["Profil du Joueur",null,"xxx"]
[]
["EVALUATION (COACH / JOUEUR)",null,null,null,null,null,null,null,null,null,null,null,null,null,null,null,null,null,null,null,null,null,null,null,null,"SMART"]
[{"$f":"'Skills explications FTEM'!A3:A3","v":"TEAM"},null,null,{"$f":"'Skills explications FTEM'!B3","v":"COMPÉTENCES"},null,null,{"$f":"'Skills explications FTEM'!C3","v":"OBSERVATION"},null,null,{"$f":"'Skills explications FTEM'!H3","v":0},null,null,"Final","Date1",null,"Date2",null,"Date3",null,"Date4",null,"Date5",null,"Player",null,"BUT","MESURES:\nSPECIFIQUE, MESURABLES, REALISTE",null,null,null,null,null,null,"DELAI","CONTRÔLE DU BUT","Date"]
[{"$f":"'Skills explications FTEM'!A4:A4","v":"ÉQUIPE"},null,null,{"$f":"IF($H$2=\"G\",'Skills explications FTEM'!F4,'Skills explications FTEM'!B4)","v":"Communication"},null,null,{"$f":"IF($H$2=\"G\",'Skills explications FTEM'!G4,'Skills explications FTEM'!C4)","v":"Respect et ouverture dans ses relations, confiance comme base, traite les conflits sans perturber la stabilité du groupe, communique avec ses coéquipiers, les entraîneurs et les fonctionnaires avec les mêmes valeurs"},null,null,{"$f":"IF($H$2=\"G\",'Skills explications FTEM'!#REF!,'Skills explications FTEM'!#REF!)","v":{"$error":"#REF!"}},null,null,null,{"$f":"IFERROR(AVERAGE(O13:O17),\"-\")","v":"-"},null,{"$f":"IFERROR(AVERAGE(Q13:Q17),\"-\")","v":"-"},null,{"$f":"IFERROR(AVERAGE(S13:S17),\"-\")","v":"-"},null,{"$f":"IFERROR(AVERAGE(U13:U17),\"-\")","v":"-"},null,{"$f":"IFERROR(AVERAGE(W13:W17),\"-\")","v":"-"},null,{"$f":"IFERROR(AVERAGE(Y13:Y17),\"-\")","v":"-"}]
[null,null,null,{"$f":"IF($H$2=\"G\",'Skills explications FTEM'!F5,'Skills explications FTEM'!B5)","v":"Capacité de jouer en équipe"},null,null,{"$f":"IF($H$2=\"G\",'Skills explications FTEM'!G5,'Skills explications FTEM'!C5)","v":"Intégration dans le groupe, définit et réalise des objectifs communs, NOUS avant le MOI, participe au bon esprit d'équipe et à un bon climat de travail"},null,null,{"$f":"IF($H$2=\"G\",'Skills explications FTEM'!#REF!,'Skills explications FTEM'!#REF!)","v":{"$error":"#REF!"}}]
[null,null,null,{"$f":"IF($H$2=\"G\",'Skills explications FTEM'!F6,'Skills explications FTEM'!B6)","v":"Leadership"},null,null,{"$f":"IF($H$2=\"G\",'Skills explications FTEM'!G6,'Skills explications FTEM'!C6)","v":"Prend des responsabilités dans le groupe, essaie de donner de la valeur à ses coéquipiers et au groupe, influence positivement la dynamique de groupe"},null,null,{"$f":"IF($H$2=\"G\",'Skills explications FTEM'!#REF!,'Skills explications FTEM'!#REF!)","v":{"$error":"#REF!"}}]
[null,null,null,{"$f":"IF($H$2=\"G\",'Skills explications FTEM'!F7,'Skills explications FTEM'!B7)","v":"Répartition des rôles"},null,null,{"$f":"IF($H$2=\"G\",'Skills explications FTEM'!G7,'Skills explications FTEM'!C7)","v":"Connaît son rôle et le réalise, est conscient de sa position dans l'équipe et le système, met ses compétences à disposition de l'équipe"},null,null,{"$f":"IF($H$2=\"G\",'Skills explications FTEM'!#REF!,'Skills explications FTEM'!#REF!)","v":{"$error":"#REF!"}}]
[{"$f":"'Skills explications FTEM'!A8:A8","v":0},null,null,{"$f":"IF($H$2=\"G\",'Skills explications FTEM'!F8,'Skills explications FTEM'!B8)","v":"Respect"},null,null,{"$f":"IF($H$2=\"G\",'Skills explications FTEM'!G8,'Skills explications FTEM'!C8)","v":"Relations respectueuses avec les coéquipiers, les entraîneurs, les adversaires, les arbitres et le staff; respect des règles, des principes du fairplay (y compris antidopage)"},null,null,{"$f":"IF($H$2=\"G\",'Skills explications FTEM'!#REF!,'Skills explications FTEM'!#REF!)","v":{"$error":"#REF!"}}]
[{"$f":"'Skills explications FTEM'!A9:A9","v":"ON ICE"},null,null,{"$f":"'Skills explications FTEM'!B9","v":"COMPÉTENCES"},null,null,{"$f":"'Skills explications FTEM'!C9","v":"OBSERVATION"},null,null,{"$f":"'Skills explications FTEM'!H9","v":0},null,null,null,"Date1",null,"Date2",null,"Date3",null,"Date4",null,"Date5",null,"Player",null,"BUT","MESURES:\nSPECIFIQUE, MESURABLES, REALISTE",null,null,null,null,null,null,"DELAI","CONTRÔLE DU BUT","Date"]
[{"$f":"'Skills explications FTEM'!A10:A10","v":"PATINAGE"},null,null,{"$f":"IF($H$2=\"G\",'Skills explications FTEM'!F10,'Skills explications FTEM'!B10)","v":"Vitesse de patinage"},null,null,{"$f":"IF($H$2=\"G\",'Skills explications FTEM'!G10,'Skills explications FTEM'!C10)","v":"Accélération, départ, explosivité des 3 premiers pas, fréquence"},null,null,{"$f":"IF($H$2=\"G\",'Skills explications FTEM'!#REF!,'Skills explications FTEM'!#REF!)","v":{"$error":"#REF!"}},null,null,null,{"$f":"IFERROR(AVERAGE(O19:O23),\"-\")","v":"-"},null,{"$f":"IFERROR(AVERAGE(Q19:Q23),\"-\")","v":"-"},null,{"$f":"IFERROR(AVERAGE(S19:S23),\"-\")","v":"-"},null,{"$f":"IFERROR(AVERAGE(U19:U23),\"-\")","v":"-"},null,{"$f":"IFERROR(AVERAGE(W19:W23),\"-\")","v":"-"},null,{"$f":"IFERROR(AVERAGE(Y19:Y23),\"-\")","v":"-"}]
[{"$f":"'Skills explications FTEM'!A11:A11","v":0},null,null,{"$f":"IF($H$2=\"G\",'Skills explications FTEM'!F11,'Skills explications FTEM'!B11)","v":"Vitesse, rapidité"},null,null,{"$f":"IF($H$2=\"G\",'Skills explications FTEM'!G11,'Skills explications FTEM'!C11)","v":"Vitesse, faculté de glisse, avant et arrière, économie des forces"},null,null,{"$f":"IF($H$2=\"G\",'Skills explications FTEM'!#REF!,'Skills explications FTEM'!#REF!)","v":{"$error":"#REF!"}}]
[{"$f":"'Skills explications FTEM'!A12:A12","v":0},null,null,{"$f":"IF($H$2=\"G\",'Skills explications FTEM'!F12,'Skills explications FTEM'!B12)","v":"Agilité"},null,null,{"$f":"IF($H$2=\"G\",'Skills explications FTEM'!G12,'Skills explications FTEM'!C12)","v":"Changements de direction, pivots, stop et start «Nummelin»"},null,null,{"$f":"IF($H$2=\"G\",'Skills explications FTEM'!#REF!,'Skills explications FTEM'!#REF!)","v":{"$error":"#REF!"}},null,null,null,{"$f":"IFERROR(AVERAGE(O21:O23),\"-\")","v":"-"},null,{"$f":"IFERROR(AVERAGE(Q21:Q23),\"-\")","v":"-"},null,{"$f":"IFERROR(AVERAGE(S21:S23),\"-\")","v":"-"},null,{"$f":"IFERROR(AVERAGE(U21:U23),\"-\")","v":"-"},null,{"$f":"IFERROR(AVERAGE(W21:W23),\"-\")","v":"-"},null,"-"]
[null,null,null,{"$f":"IF($H$2=\"G\",'Skills explications FTEM'!F13,'Skills explications FTEM'!B13)","v":"Balance"},null,null,{"$f":"IF($H$2=\"G\",'Skills explications FTEM'!G13,'Skills explications FTEM'!C13)","v":"Equilibre, faculté d'être sur ses appuis, position basse, 1 ou 2 jambes"},null,null,{"$f":"IF($H$2=\"G\",'Skills explications FTEM'!#REF!,'Skills explications FTEM'!#REF!)","v":{"$error":"#REF!"}}]
[{"$f":"'Skills explications FTEM'!#REF!","v":{"$error":"#REF!"}},null,null,{"$f":"IF($H$2=\"G\",'Skills explications FTEM'!F14,'Skills explications FTEM'!B14)","v":"Patinage arrière"},null,null,{"$f":"IF($H$2=\"G\",'Skills explications FTEM'!G14,'Skills explications FTEM'!C14)","v":"Accélération, vitesse, équilibre "},null,null,{"$f":"IF($H$2=\"G\",'Skills explications FTEM'!#REF!,'Skills explications FTEM'!#REF!)","v":{"$error":"#REF!"}}]
[{"$f":"'Skills explications FTEM'!A15:A15","v":"SKILLS"},null,null,{"$f":"IF($H$2=\"G\",'Skills explications FTEM'!F15,'Skills explications FTEM'!B15)","v":"Tirer"},null,null,{"$f":"IF($H$2=\"G\",'Skills explications FTEM'!G15,'Skills explications FTEM'!C15)","v":"Efficience (pas d'espace et de temps), variantes, degré de surprise (déclenchement rapide), précision, puissance (conclusion tactique)"},null,null,{"$f":"IF($H$2=\"G\",'Skills explications FTEM'!#REF!,'Skills explications FTEM'!#REF!)","v":{"$error":"#REF!"}},null,null,null,{"$f":"IFERROR(AVERAGE(O24:O29),\"-\")","v":"-"},null,{"$f":"IFERROR(AVERAGE(Q24:Q29),\"-\")","v":"-"},null,{"$f":"IFERROR(AVERAGE(S24:S29),\"-\")","v":"-"},null,{"$f":"IFERROR(AVERAGE(U24:U29),\"-\")","v":"-"},null,{"$f":"IFERROR(AVERAGE(W24:W29),\"-\")","v":"-"},null,{"$f":"IFERROR(AVERAGE(Y24:Y29),\"-\")","v":"-"}]
[{"$f":"'Skills explications FTEM'!A16:A16","v":0},null,null,{"$f":"IF($H$2=\"G\",'Skills explications FTEM'!F16,'Skills explications FTEM'!B16)","v":"Passer"},null,null,{"$f":"IF($H$2=\"G\",'Skills explications FTEM'!G16,'Skills explications FTEM'!C16)","v":"Donne la passe (distance, passe flipée en revers), réception de la passe (précision, timing, coup droit, revers, patins), vitesse du puck"},null,null,{"$f":"IF($H$2=\"G\",'Skills explications FTEM'!#REF!,'Skills explications FTEM'!#REF!)","v":{"$error":"#REF!"}}]
[{"$f":"'Skills explications FTEM'!A17:A17","v":0},null,null,{"$f":"IF($H$2=\"G\",'Skills explications FTEM'!F17,'Skills explications FTEM'!B17)","v":"Travail de canne, conduite du puck"},null,null,{"$f":"IF($H$2=\"G\",'Skills explications FTEM'!G17,'Skills explications FTEM'!C17)","v":"Puck sur la palette, intercepte les lignes de passe, déviation, contrôle de la canne de l'adversaire"},null,null,{"$f":"IF($H$2=\"G\",'Skills explications FTEM'!#REF!,'Skills explications FTEM'!#REF!)","v":{"$error":"#REF!"}}]
[null,null,null,{"$f":"IF($H$2=\"G\",'Skills explications FTEM'!F18,'Skills explications FTEM'!B18)","v":"Protéger le puck"},null,null,{"$f":"IF($H$2=\"G\",'Skills explications FTEM'!G18,'Skills explications FTEM'!C18)","v":"Contrôle du puck, dribbling, protection du puck, feintes (variantes: avec les patins ou avec et sans la bande), mise au jeu (bully)"},null,null,{"$f":"IF($H$2=\"G\",'Skills explications FTEM'!#REF!,'Skills explications FTEM'!#REF!)","v":{"$error":"#REF!"}}]
[null,null,null,{"$f":"IF($H$2=\"G\",'Skills explications FTEM'!F19,'Skills explications FTEM'!B19)","v":"Jeu du corps (charges)"},null,null,{"$f":"IF($H$2=\"G\",'Skills explications FTEM'!G19,'Skills explications FTEM'!C19)","v":"Faculté de s'imposer physiquement, duels (sur la surface de glace ou à la bande), prendre des checks, lever la tête, niveau de lutte, dur mais correct, bloquer les tirs avec le corps"},null,null,{"$f":"IF($H$2=\"G\",'Skills explications FTEM'!#REF!,'Skills explications FTEM'!#REF!)","v":{"$error":"#REF!"}}]
[{"$f":"'Skills explications FTEM'!A20:A20","v":0},null,null,{"$f":"IF($H$2=\"G\",'Skills explications FTEM'!F20,'Skills explications FTEM'!B20)","v":"-"},null,null,{"$f":"IF($H$2=\"G\",'Skills explications FTEM'!G20,'Skills explications FTEM'!C20)","v":"-"},null,null,{"$f":"IF($H$2=\"G\",'Skills explications FTEM'!#REF!,'Skills explications FTEM'!#REF!)","v":{"$error":"#REF!"}}]
[{"$f":"'Skills explications FTEM'!A21:A21","v":"HOCKEY SENSE"},null,null,{"$f":"IF($H$2=\"G\",'Skills explications FTEM'!F21,'Skills explications FTEM'!B21)","v":"Intelligence de jeu"},null,null,{"$f":"IF($H$2=\"G\",'Skills explications FTEM'!G21,'Skills explications FTEM'!C21)","v":"Voit les zones libres avec joueurs et crée des situations de surnombre, trouve des solutions et agit en toute situation, vitesse de la visualisation"},null,null,{"$f":"IF($H$2=\"G\",'Skills explications FTEM'!#REF!,'Skills explications FTEM'!#REF!)","v":{"$error":"#REF!"}},null,null,null,{"$f":"IFERROR(AVERAGE(O30:O34),\"-\")","v":"-"},null,{"$f":"IFERROR(AVERAGE(Q30:Q34),\"-\")","v":"-"},null,{"$f":"IFERROR(AVERAGE(S30:S34),\"-\")","v":"-"},null,{"$f":"IFERROR(AVERAGE(U30:U34),\"-\")","v":"-"},null,{"$f":"IFERROR(AVERAGE(W30:W34),\"-\")","v":"-"},null,{"$f":"IFERROR(AVERAGE(Y30:Y34),\"-\")","v":"-"}]
[{"$f":"'Skills explications FTEM'!A22:A22","v":0},null,null,{"$f":"IF($H$2=\"G\",'Skills explications FTEM'!F22,'Skills explications FTEM'!B22)","v":"Sensibilisation offensive"},null,null,{"$f":"IF($H$2=\"G\",'Skills explications FTEM'!G22,'Skills explications FTEM'!C22)","v":"Se démarque, anticipation des situations de jeu, ouvre des zones libres pour ses coéquipiers, se place pour marquer, vitesse de mise sous pression, communication"},null,null,{"$f":"IF($H$2=\"G\",'Skills explications FTEM'!#REF!,'Skills explications FTEM'!#REF!)","v":{"$error":"#REF!"}}]
[null,null,null,{"$f":"IF($H$2=\"G\",'Skills explications FTEM'!F23,'Skills explications FTEM'!B23)","v":"Sensibilisation défensive"},null,null,{"$f":"IF($H$2=\"G\",'Skills explications FTEM'!G23,'Skills explications FTEM'!C23)","v":"Garde la position «inside», protège le slot, rassure les coéquipiers, support, anticipe les lignes de passe, bloque les tirs. Réduit rapidement la distance sur l'adversaire, communication"},null,null,{"$f":"IF($H$2=\"G\",'Skills explications FTEM'!#REF!,'Skills explications FTEM'!#REF!)","v":{"$error":"#REF!"}}]
[{"$f":"'Skills explications FTEM'!A23:A23","v":0},null,null,{"$f":"IF($H$2=\"G\",'Skills explications FTEM'!F24,'Skills explications FTEM'!B24)","v":"Gestion du puck"},null,null,{"$f":"IF($H$2=\"G\",'Skills explications FTEM'!G24,'Skills explications FTEM'!C24)","v":"Fait le bon choix en fonction de la situation, support, surnombre"},null,null,{"$f":"IF($H$2=\"G\",'Skills explications FTEM'!#REF!,'Skills explications FTEM'!#REF!)","v":{"$error":"#REF!"}}]
[{"$f":"'Skills explications FTEM'!A25:A25","v":0},null,null,{"$f":"IF($H$2=\"G\",'Skills explications FTEM'!F25,'Skills explications FTEM'!B25)","v":"Créativité"},null,null,{"$f":"IF($H$2=\"G\",'Skills explications FTEM'!G25,'Skills explications FTEM'!C25)","v":"Prises de décision surprenantes, sens du but"},null,null,{"$f":"IF($H$2=\"G\",'Skills explications FTEM'!#REF!,'Skills explications FTEM'!#REF!)","v":{"$error":"#REF!"}}]
[{"$f":"'Skills explications FTEM'!A26:A26","v":"PERSONALITY"},null,null,{"$f":"'Skills explications FTEM'!B26","v":"COMPÉTENCES"},null,null,{"$f":"'Skills explications FTEM'!C26","v":"OBSERVATION"},null,null,{"$f":"'Skills explications FTEM'!H26","v":0},null,null,null,"Date1",null,"Date2",null,"Date3",null,"Date4",null,"Date5",null,"Player",null,"BUT","MESURES:\nSPECIFIQUE, MESURABLES, REALISTE",null,null,null,null,null,null,"DELAI","CONTRÔLE DU BUT","Date"]
[{"$f":"'Skills explications FTEM'!A27:A27","v":"PERSONNALITÉ"},null,null,{"$f":"IF($H$2=\"G\",'Skills explications FTEM'!F27,'Skills explications FTEM'!B27)","v":"Confiance en soi"},null,null,{"$f":"IF($H$2=\"G\",'Skills explications FTEM'!G27,'Skills explications FTEM'!C27)","v":"Est en confiance,«I can do it», peut estimer ses capacités (connaît ses qualités et ses défauts), peut réaliser ses qualités avec constance, est courageux et prend des risques calculés"},null,null,{"$f":"IF($H$2=\"G\",'Skills explications FTEM'!#REF!,'Skills explications FTEM'!#REF!)","v":{"$error":"#REF!"}},null,null,null,{"$f":"IFERROR(AVERAGE(O36:O40),\"-\")","v":"-"},null,null,null,{"$f":"IFERROR(AVERAGE(S36:S40),\"-\")","v":"-"},null,{"$f":"IFERROR(AVERAGE(U36:U40),\"-\")","v":"-"},null,{"$f":"IFERROR(AVERAGE(W36:W40),\"-\")","v":"-"},null,{"$f":"IFERROR(AVERAGE(Y36:Y40),\"-\")","v":"-"}]
[{"$f":"'Skills explications FTEM'!A28:A28","v":0},null,null,{"$f":"IF($H$2=\"G\",'Skills explications FTEM'!F28,'Skills explications FTEM'!B28)","v":"Facultés d'apprentissage"},null,null,{"$f":"IF($H$2=\"G\",'Skills explications FTEM'!G28,'Skills explications FTEM'!C28)","v":"A une bonne perception (il peut mémoriser et peut réaliser), il a de la personnalité, essaie d'apprendre de ses erreurs et est entreprenant"},null,null,{"$f":"IF($H$2=\"G\",'Skills explications FTEM'!#REF!,'Skills explications FTEM'!#REF!)","v":{"$error":"#REF!"}}]
[{"$f":"'Skills explications FTEM'!A29:A29","v":0},null,null,{"$f":"IF($H$2=\"G\",'Skills explications FTEM'!F29,'Skills explications FTEM'!B29)","v":"Prise de responsabilités"},null,null,{"$f":"IF($H$2=\"G\",'Skills explications FTEM'!G29,'Skills explications FTEM'!C29)","v":"Prend la responsabilité de ses performances et de son développement, est-il autonome, soigne-t-il les détails, a beaucoup d'engagement dans tous les domaines"},null,null,{"$f":"IF($H$2=\"G\",'Skills explications FTEM'!#REF!,'Skills explications FTEM'!#REF!)","v":{"$error":"#REF!"}}]
[null,null,null,{"$f":"IF($H$2=\"G\",'Skills explications FTEM'!F30,'Skills explications FTEM'!B30)","v":"Motivation"},null,null,{"$f":"IF($H$2=\"G\",'Skills explications FTEM'!G30,'Skills explications FTEM'!C30)","v":"Est toujours motivé, veut sans cesse se développer et apprendre, veut être le premier et avoir du succès, n'abandonne jamais et ne se laisse pas influencer par les échesc"},null,null,{"$f":"IF($H$2=\"G\",'Skills explications FTEM'!#REF!,'Skills explications FTEM'!#REF!)","v":{"$error":"#REF!"}}]
[{"$f":"'Skills explications FTEM'!A31:A31","v":0},null,null,{"$f":"IF($H$2=\"G\",'Skills explications FTEM'!F31,'Skills explications FTEM'!B31)","v":"Performance style de vie"},null,null,{"$f":"IF($H$2=\"G\",'Skills explications FTEM'!G31,'Skills explications FTEM'!C31)","v":"Gère bien son environnement et son temps libre selon les principes de la performance, obstiné, tenace et axé sur l'objectif, accent sur sa propre performance, est courageux et peut s'imposer contre la résistance, les défis le motivent"},null,null,{"$f":"IF($H$2=\"G\",'Skills explications FTEM'!#REF!,'Skills explications FTEM'!#REF!)","v":{"$error":"#REF!"}}]
[{"$f":"'Skills explications FTEM'!A32:A32","v":"FORCE MENTALE"},null,null,{"$f":"IF($H$2=\"G\",'Skills explications FTEM'!F32,'Skills explications FTEM'!B32)","v":"Engagement"},null,null,{"$f":"IF($H$2=\"G\",'Skills explications FTEM'!G32,'Skills explications FTEM'!C32)","v":"Démontre beaucoup d'intensité dans les entraînements et les matchs, donne toujours son maximum et veut sans cesse repousser ses limites, a-t-il de la passion, s'efforce-t-il de s'entraîner avec une excellente qualité"},null,null,{"$f":"IF($H$2=\"G\",'Skills explications FTEM'!#REF!,'Skills explications FTEM'!#REF!)","v":{"$error":"#REF!"}},null,null,null,{"$f":"IFERROR(AVERAGE(O41:O45),\"-\")","v":"-"},null,null,null,{"$f":"IFERROR(AVERAGE(S41:S45),\"-\")","v":"-"},null,{"$f":"IFERROR(AVERAGE(U41:U45),\"-\")","v":"-"},null,{"$f":"IFERROR(AVERAGE(W41:W45),\"-\")","v":"-"},null,{"$f":"IFERROR(AVERAGE(Y41:Y45),\"-\")","v":"-"}]
[{"$f":"'Skills explications FTEM'!A33:A33","v":0},null,null,{"$f":"IF($H$2=\"G\",'Skills explications FTEM'!F33,'Skills explications FTEM'!B33)","v":"Préparation"},null,null,{"$f":"IF($H$2=\"G\",'Skills explications FTEM'!G33,'Skills explications FTEM'!C33)","v":"Se prépare-t-il toujours bien, mentalement et physiquement, se prépare-t-il toujours bien pour obtenir le niveau de performance idéal (ILZ)"},null,null,{"$f":"IF($H$2=\"G\",'Skills explications FTEM'!#REF!,'Skills explications FTEM'!#REF!)","v":{"$error":"#REF!"}}]
[null,null,null,{"$f":"IF($H$2=\"G\",'Skills explications FTEM'!F34,'Skills explications FTEM'!B34)","v":"Coaching personnel"},null,null,{"$f":"IF($H$2=\"G\",'Skills explications FTEM'!G34,'Skills explications FTEM'!C34)","v":"A-t-il de bonnes facultés de concentration, peut-il maintenir son niveau de performance idéal (ILZ) dans les entraînements et les matchs, peut-il appliquer ses techniques de base, est-il résistant aux influences et pensées négatives, est-il conscient de son attitude corporelle et peut-il l'influencer"},null,null,{"$f":"IF($H$2=\"G\",'Skills explications FTEM'!#REF!,'Skills explications FTEM'!#REF!)","v":{"$error":"#REF!"}}]
[{"$f":"'Skills explications FTEM'!A34:A34","v":0},null,null,{"$f":"IF($H$2=\"G\",'Skills explications FTEM'!F35,'Skills explications FTEM'!B35)","v":"Gestion des énergies"},null,null,{"$f":"IF($H$2=\"G\",'Skills explications FTEM'!G35,'Skills explications FTEM'!C35)","v":"Peut-il gérer ses propres énergies, prend-il soin de sa récupération, peut-il gérer les moments où il faut se donner à fond ou quand il faut déconnecter, bouton On/Off"},null,null,{"$f":"IF($H$2=\"G\",'Skills explications FTEM'!#REF!,'Skills explications FTEM'!#REF!)","v":{"$error":"#REF!"}}]
[{"$f":"'Skills explications FTEM'!A36:A36","v":0},null,null,{"$f":"IF($H$2=\"G\",'Skills explications FTEM'!F36,'Skills explications FTEM'!B36)","v":"Contrôle des émotions"},null,null,{"$f":"IF($H$2=\"G\",'Skills explications FTEM'!G36,'Skills explications FTEM'!C36)","v":"Peut-il gérer ses propres émotions et impulsions, reste-t-il sous contrôle lorsqu'il y a une grande pression, peut-il rester calme lorsque le niveau émotionnel et de frustration est élevé"},null,null,{"$f":"IF($H$2=\"G\",'Skills explications FTEM'!#REF!,'Skills explications FTEM'!#REF!)","v":{"$error":"#REF!"}}]
[{"$f":"'Skills explications FTEM'!A37:A37","v":"PHYSIQUE"},null,null,{"$f":"IF($H$2=\"G\",'Skills explications FTEM'!F37,'Skills explications FTEM'!B37)","v":"Production de la performance"},null,null,{"$f":"IF($H$2=\"G\",'Skills explications FTEM'!G37,'Skills explications FTEM'!C37)","v":"A-t-il la puissance, la force, la vitesse nécessaires dans les jambes et le haut du corps (facteurs neuromusculaires)"},null,null,{"$f":"IF($H$2=\"G\",'Skills explications FTEM'!#REF!,'Skills explications FTEM'!#REF!)","v":{"$error":"#REF!"}},null,null,null,{"$f":"IFERROR(AVERAGE(O46:O50),\"-\")","v":"-"},null,null,null,{"$f":"IFERROR(AVERAGE(S46:S50),\"-\")","v":"-"},null,{"$f":"IFERROR(AVERAGE(U46:U50),\"-\")","v":"-"},null,{"$f":"IFERROR(AVERAGE(W46:W50),\"-\")","v":"-"},null,{"$f":"IFERROR(AVERAGE(Y46:Y50),\"-\")","v":"-"}]
[{"$f":"'Skills explications FTEM'!A38:A38","v":0},null,null,{"$f":"IF($H$2=\"G\",'Skills explications FTEM'!F38,'Skills explications FTEM'!B38)","v":"Spécifique au sport, résistant à l'effort"},null,null,{"$f":"IF($H$2=\"G\",'Skills explications FTEM'!G38,'Skills explications FTEM'!C38)","v":"Est-il capable de maintenir sa puissance, sa force, sa vitesse durant un long temps de glace et peut-il récupérer complètement entre ses engagements (facteurs du métabolisme et cardiovasculaire)"},null,null,{"$f":"IF($H$2=\"G\",'Skills explications FTEM'!#REF!,'Skills explications FTEM'!#REF!)","v":{"$error":"#REF!"}}]
[null,null,null,{"$f":"IF($H$2=\"G\",'Skills explications FTEM'!F39,'Skills explications FTEM'!B39)","v":"Santé / Prévention"},null,null,{"$f":"IF($H$2=\"G\",'Skills explications FTEM'!G39,'Skills explications FTEM'!C39)","v":"A-t-il la stabilité nécessaire (p. ex. ses appuis) et la mobilité nécessaire au niveau des articulations centrales"},null,null,{"$f":"IF($H$2=\"G\",'Skills explications FTEM'!#REF!,'Skills explications FTEM'!#REF!)","v":{"$error":"#REF!"}}]
[{"$f":"'Skills explications FTEM'!A39:A39","v":0},null,null,{"$f":"IF($H$2=\"G\",'Skills explications FTEM'!F40,'Skills explications FTEM'!B40)","v":"Mobilité / Coordination"},null,null,{"$f":"IF($H$2=\"G\",'Skills explications FTEM'!G40,'Skills explications FTEM'!C40)","v":"Gère-t-il ses aptitudes de mouvements de base, qui sont un fournisseur important des fonctions spécifiques «Skills» pour être efficace"},null,null,{"$f":"IF($H$2=\"G\",'Skills explications FTEM'!#REF!,'Skills explications FTEM'!#REF!)","v":{"$error":"#REF!"}}]
[{"$f":"'Skills explications FTEM'!A41:A41","v":0},null,null,{"$f":"IF($H$2=\"G\",'Skills explications FTEM'!F41,'Skills explications FTEM'!B41)","v":"Robustesse"},null,null,{"$f":"IF($H$2=\"G\",'Skills explications FTEM'!G41,'Skills explications FTEM'!C41)","v":"A-t-il la force de base nécessaire (tension corporelle) pour gagner des duels et résister aux charges"},null,null,{"$f":"IF($H$2=\"G\",'Skills explications FTEM'!#REF!,'Skills explications FTEM'!#REF!)","v":{"$error":"#REF!"}}]

{"sheet":"30","index":33,"n_rows":50,"n_cols":36,"rows_kept":50,"cut":false,"hidden":false,"merged":[[45,25,49,25],[45,26,49,32],[45,34,49,34],[40,23,44,23],[42,3,42,5],[42,6,42,11],[44,3,44,5],[44,6,44,11],[40,0,44,2],[40,3,40,5],[40,6,40,11],[40,12,44,12],[40,13,44,13],[40,15,44,15],[45,0,49,2],[45,3,45,5],[45,6,45,11],[45,12,49,12],[45,23,49,23],[47,3,47,5],[47,6,47,11],[48,3,48,5],[48,6,48,11],[49,3,49,5],[34,21,34,22],[35,17,39,17],[35,19,39,19],[35,21,39,21],[36,3,36,5],[36,6,36,11],[38,3,38,5],[38,6,38,11],[40,17,44,17],[40,19,44,19],[40,21,44,21],[43,3,43,5],[43,6,43,11],[37,3,37,5],[37,6,37,11],[41,3,41,5],[41,6,41,11],[29,0,33,2],[29,3,29,5],[29,6,29,11],[29,12,33,12],[29,13,33,13],[29,15,33,15],[34,23,34,24],[34,26,34,32],[35,0,39,2],[35,3,35,5],[35,6,35,11],[35,12,39,12],[35,13,39,13],[35,15,39,15],[39,3,39,5],[39,6,39,11],[35,23,39,23],[34,0,34,2],[34,3,34,5],[34,6,34,11],[34,13,34,14],[34,15,34,16],[34,17,34,18],[34,19,34,20],[23,21,28,21],[23,23,28,23],[24,3,24,5],[24,6,24,11],[28,3,28,5],[28,6,28,11],[33,3,33,5],[33,6,33,11],[29,23,33,23],[29,17,33,17],[29,19,33,19],[29,21,33,21],[30,3,30,5],[30,6,30,11],[31,3,31,5],[31,6,31,11],[25,3,25,5],[25,6,25,11],[32,3,32,5],[32,6,32,11],[18,15,22,15],[18,17,22,17],[18,19,22,19],[18,21,22,21],[18,23,22,23],[22,3,22,5],[22,6,22,11],[23,0,28,2],[23,3,23,5],[23,6,23,11],[23,12,28,12],[23,13,28,13],[23,15,28,15],[23,17,28,17],[18,0,22,2],[18,3,18,5],[18,6,18,11],[18,12,22,12],[18,13,22,13],[19,3,19,5],[19,6,19,11],[20,3,20,5],[20,6,20,11],[23,19,28,19],[12,23,16,23],[16,3,16,5],[16,6,16,11],[17,0,17,2],[17,3,17,5],[17,6,17,11],[17,13,17,14],[17,15,17,16],[17,17,17,18],[17,19,17,20],[17,21,17,22],[17,23,17,24],[12,0,16,2],[12,3,12,5],[12,6,12,11],[12,12,16,12],[12,13,16,13],[12,15,16,15],[12,17,16,17],[12,19,16,19],[12,21,16,21],[13,3,13,5],[13,6,13,11],[14,3,14,5],[11,0,11,2],[11,3,11,5],[11,13,11,14],[11,15,11,16],[11,17,11,18],[11,19,11,20],[11,21,11,22],[11,23,11,24],[11,26,11,32],[11,6,11,11],[0,33,0,35],[29,25,33,25],[29,26,33,32],[29,34,33,34],[35,25,39,25],[35,26,39,32],[35,34,39,34],[1,0,1,1],[1,2,1,5],[1,10,1,24],[2,0,2,1],[2,2,2,5],[2,11,2,24],[6,0,6,1],[6,2,6,35],[7,0,7,1],[7,2,7,35],[8,0,8,1],[8,2,8,35],[3,0,3,1],[3,10,3,24],[4,0,4,1],[4,2,4,5],[4,10,4,24],[49,6,49,11],[45,13,49,13],[45,15,49,15],[45,17,49,17],[45,19,49,19],[45,21,49,21],[0,0,0,24],[0,25,0,26],[0,27,0,32],[10,0,10,24],[10,25,10,35],[40,25,44,25],[40,26,44,32],[40,34,44,34],[12,25,16,25],[12,26,16,32],[12,34,16,34],[18,25,22,25],[18,26,22,32],[18,34,22,34],[23,25,28,25],[23,26,28,32],[23,34,28,34],[17,26,17,32],[46,3,46,5],[46,6,46,11],[14,6,14,11],[15,3,15,5],[15,6,15,11],[21,3,21,5],[21,6,21,11],[26,3,26,5],[26,6,26,11],[27,3,27,5],[27,6,27,11]]}
["Infos personelles",null,null,null,null,null,null,null,null,null,null,null,null,null,null,null,null,null,null,null,null,null,null,null,null,"Predispositions",null,"Evaluations",null,null,null,null,null,"Rating"]
["PRENOM",null,{"$f":"IF(ISBLANK(VLOOKUP(30,Tabelle3[],3,0)),\"-\",VLOOKUP(30,Tabelle3[],3,0))","v":"-"},null,null,null,"POSITION",null,null,"ADRESSE",{"$f":"IF(ISBLANK(VLOOKUP(30,Tabelle3[],5,0)),\"-\",VLOOKUP(30,Tabelle3[],5,0))","v":"-"},null,null,null,null,null,null,null,null,null,null,null,null,null,null,"\"àage\" (Biologique/age relatif)",null,"Date 1",null,null,"cm",null,"Kg",null,"AUSGEZEICHNET",5]
["NOM",null,{"$f":"IF(ISBLANK(VLOOKUP(30,Tabelle3[],2,0)),\"-\",VLOOKUP(30,Tabelle3[],2,0))","v":"-"},null,null,null,"CANNE",null,null,"LIEU",{"$f":"IF(ISBLANK(VLOOKUP(30,Tabelle3[],7,0)),\"-\",VLOOKUP(30,Tabelle3[],7,0))","v":"-"},{"$f":"IF(ISBLANK(VLOOKUP(30,Tabelle3[],6,0)),\"-\",VLOOKUP(30,Tabelle3[],6,0))","v":"-"},null,null,null,null,null,null,null,null,null,null,null,null,null,"predispositions",null,"Date 2",null,null,"cm",null,"Kg",null,"GUT",4]
["DATE NAISS.",null,{"$f":"IF(ISBLANK(VLOOKUP(30,Tabelle3[],14,0)),\"-\",VLOOKUP(30,Tabelle3[],14,0))","v":"-"},{"$f":"IF(ISBLANK(VLOOKUP(30,Tabelle3[],15,0)),\"-\",VLOOKUP(30,Tabelle3[],15,0))","v":"-"},{"$f":"IF(ISBLANK(VLOOKUP(30,Tabelle3[],16,0)),\"-\",VLOOKUP(30,Tabelle3[],16,0))","v":"-"},null,"GRANDEUR",null,"cm","PHONE",{"$f":"IF(ISBLANK(VLOOKUP(30,Tabelle3[],8,0)),\"-\",VLOOKUP(30,Tabelle3[],8,0))","v":"-"},null,null,null,null,null,null,null,null,null,null,null,null,null,null,"Entourage",null,"Date 3",null,null,"cm",null,"Kg",null,"DURCHSCHNITT",3]
["SEXE",null,{"$f":"IF(ISBLANK(VLOOKUP(30,Tabelle3[],13,0)),\"-\",VLOOKUP(30,Tabelle3[],13,0))","v":"-"},null,null,null,"POIDS",null,"Kg","E-Mail",{"$f":"IF(ISBLANK(VLOOKUP(30,Tabelle3[],9,0)),\"-\",VLOOKUP(30,Tabelle3[],9,0))","v":"-"},null,null,null,null,null,null,null,null,null,null,null,null,null,null,null,null,"Date 4",null,null,"cm",null,"Kg",null,"MANGELHAFT",2]
[null,null,null,null,null,null,null,null,null,null,null,null,null,null,null,null,null,null,null,null,null,null,null,null,null,null,null,"Date 5",null,null,"cm",null,"Kg",null,"UNGENÜGEND",1]
["Vision",null,"xxx"]
["Next step",null,"xxx"]
["Profil du Joueur",null,"xxx"]
[]
["EVALUATION (COACH / JOUEUR)",null,null,null,null,null,null,null,null,null,null,null,null,null,null,null,null,null,null,null,null,null,null,null,null,"SMART"]
[{"$f":"'Skills explications FTEM'!A3:A3","v":"TEAM"},null,null,{"$f":"'Skills explications FTEM'!B3","v":"COMPÉTENCES"},null,null,{"$f":"'Skills explications FTEM'!C3","v":"OBSERVATION"},null,null,{"$f":"'Skills explications FTEM'!H3","v":0},null,null,"Final","Date1",null,"Date2",null,"Date3",null,"Date4",null,"Date5",null,"Player",null,"BUT","MESURES:\nSPECIFIQUE, MESURABLES, REALISTE",null,null,null,null,null,null,"DELAI","CONTRÔLE DU BUT","Date"]
[{"$f":"'Skills explications FTEM'!A4:A4","v":"ÉQUIPE"},null,null,{"$f":"IF($H$2=\"G\",'Skills explications FTEM'!F4,'Skills explications FTEM'!B4)","v":"Communication"},null,null,{"$f":"IF($H$2=\"G\",'Skills explications FTEM'!G4,'Skills explications FTEM'!C4)","v":"Respect et ouverture dans ses relations, confiance comme base, traite les conflits sans perturber la stabilité du groupe, communique avec ses coéquipiers, les entraîneurs et les fonctionnaires avec les mêmes valeurs"},null,null,{"$f":"IF($H$2=\"G\",'Skills explications FTEM'!#REF!,'Skills explications FTEM'!#REF!)","v":{"$error":"#REF!"}},null,null,null,{"$f":"IFERROR(AVERAGE(O13:O17),\"-\")","v":"-"},null,{"$f":"IFERROR(AVERAGE(Q13:Q17),\"-\")","v":"-"},null,{"$f":"IFERROR(AVERAGE(S13:S17),\"-\")","v":"-"},null,{"$f":"IFERROR(AVERAGE(U13:U17),\"-\")","v":"-"},null,{"$f":"IFERROR(AVERAGE(W13:W17),\"-\")","v":"-"},null,{"$f":"IFERROR(AVERAGE(Y13:Y17),\"-\")","v":"-"}]
[null,null,null,{"$f":"IF($H$2=\"G\",'Skills explications FTEM'!F5,'Skills explications FTEM'!B5)","v":"Capacité de jouer en équipe"},null,null,{"$f":"IF($H$2=\"G\",'Skills explications FTEM'!G5,'Skills explications FTEM'!C5)","v":"Intégration dans le groupe, définit et réalise des objectifs communs, NOUS avant le MOI, participe au bon esprit d'équipe et à un bon climat de travail"},null,null,{"$f":"IF($H$2=\"G\",'Skills explications FTEM'!#REF!,'Skills explications FTEM'!#REF!)","v":{"$error":"#REF!"}}]
[null,null,null,{"$f":"IF($H$2=\"G\",'Skills explications FTEM'!F6,'Skills explications FTEM'!B6)","v":"Leadership"},null,null,{"$f":"IF($H$2=\"G\",'Skills explications FTEM'!G6,'Skills explications FTEM'!C6)","v":"Prend des responsabilités dans le groupe, essaie de donner de la valeur à ses coéquipiers et au groupe, influence positivement la dynamique de groupe"},null,null,{"$f":"IF($H$2=\"G\",'Skills explications FTEM'!#REF!,'Skills explications FTEM'!#REF!)","v":{"$error":"#REF!"}}]
[null,null,null,{"$f":"IF($H$2=\"G\",'Skills explications FTEM'!F7,'Skills explications FTEM'!B7)","v":"Répartition des rôles"},null,null,{"$f":"IF($H$2=\"G\",'Skills explications FTEM'!G7,'Skills explications FTEM'!C7)","v":"Connaît son rôle et le réalise, est conscient de sa position dans l'équipe et le système, met ses compétences à disposition de l'équipe"},null,null,{"$f":"IF($H$2=\"G\",'Skills explications FTEM'!#REF!,'Skills explications FTEM'!#REF!)","v":{"$error":"#REF!"}}]
[{"$f":"'Skills explications FTEM'!A8:A8","v":0},null,null,{"$f":"IF($H$2=\"G\",'Skills explications FTEM'!F8,'Skills explications FTEM'!B8)","v":"Respect"},null,null,{"$f":"IF($H$2=\"G\",'Skills explications FTEM'!G8,'Skills explications FTEM'!C8)","v":"Relations respectueuses avec les coéquipiers, les entraîneurs, les adversaires, les arbitres et le staff; respect des règles, des principes du fairplay (y compris antidopage)"},null,null,{"$f":"IF($H$2=\"G\",'Skills explications FTEM'!#REF!,'Skills explications FTEM'!#REF!)","v":{"$error":"#REF!"}}]
[{"$f":"'Skills explications FTEM'!A9:A9","v":"ON ICE"},null,null,{"$f":"'Skills explications FTEM'!B9","v":"COMPÉTENCES"},null,null,{"$f":"'Skills explications FTEM'!C9","v":"OBSERVATION"},null,null,{"$f":"'Skills explications FTEM'!H9","v":0},null,null,null,"Date1",null,"Date2",null,"Date3",null,"Date4",null,"Date5",null,"Player",null,"BUT","MESURES:\nSPECIFIQUE, MESURABLES, REALISTE",null,null,null,null,null,null,"DELAI","CONTRÔLE DU BUT","Date"]
[{"$f":"'Skills explications FTEM'!A10:A10","v":"PATINAGE"},null,null,{"$f":"IF($H$2=\"G\",'Skills explications FTEM'!F10,'Skills explications FTEM'!B10)","v":"Vitesse de patinage"},null,null,{"$f":"IF($H$2=\"G\",'Skills explications FTEM'!G10,'Skills explications FTEM'!C10)","v":"Accélération, départ, explosivité des 3 premiers pas, fréquence"},null,null,{"$f":"IF($H$2=\"G\",'Skills explications FTEM'!#REF!,'Skills explications FTEM'!#REF!)","v":{"$error":"#REF!"}},null,null,null,{"$f":"IFERROR(AVERAGE(O19:O23),\"-\")","v":"-"},null,{"$f":"IFERROR(AVERAGE(Q19:Q23),\"-\")","v":"-"},null,{"$f":"IFERROR(AVERAGE(S19:S23),\"-\")","v":"-"},null,{"$f":"IFERROR(AVERAGE(U19:U23),\"-\")","v":"-"},null,{"$f":"IFERROR(AVERAGE(W19:W23),\"-\")","v":"-"},null,{"$f":"IFERROR(AVERAGE(Y19:Y23),\"-\")","v":"-"}]
[{"$f":"'Skills explications FTEM'!A11:A11","v":0},null,null,{"$f":"IF($H$2=\"G\",'Skills explications FTEM'!F11,'Skills explications FTEM'!B11)","v":"Vitesse, rapidité"},null,null,{"$f":"IF($H$2=\"G\",'Skills explications FTEM'!G11,'Skills explications FTEM'!C11)","v":"Vitesse, faculté de glisse, avant et arrière, économie des forces"},null,null,{"$f":"IF($H$2=\"G\",'Skills explications FTEM'!#REF!,'Skills explications FTEM'!#REF!)","v":{"$error":"#REF!"}}]
[{"$f":"'Skills explications FTEM'!A12:A12","v":0},null,null,{"$f":"IF($H$2=\"G\",'Skills explications FTEM'!F12,'Skills explications FTEM'!B12)","v":"Agilité"},null,null,{"$f":"IF($H$2=\"G\",'Skills explications FTEM'!G12,'Skills explications FTEM'!C12)","v":"Changements de direction, pivots, stop et start «Nummelin»"},null,null,{"$f":"IF($H$2=\"G\",'Skills explications FTEM'!#REF!,'Skills explications FTEM'!#REF!)","v":{"$error":"#REF!"}},null,null,null,{"$f":"IFERROR(AVERAGE(O21:O23),\"-\")","v":"-"},null,{"$f":"IFERROR(AVERAGE(Q21:Q23),\"-\")","v":"-"},null,{"$f":"IFERROR(AVERAGE(S21:S23),\"-\")","v":"-"},null,{"$f":"IFERROR(AVERAGE(U21:U23),\"-\")","v":"-"},null,{"$f":"IFERROR(AVERAGE(W21:W23),\"-\")","v":"-"},null,"-"]
[null,null,null,{"$f":"IF($H$2=\"G\",'Skills explications FTEM'!F13,'Skills explications FTEM'!B13)","v":"Balance"},null,null,{"$f":"IF($H$2=\"G\",'Skills explications FTEM'!G13,'Skills explications FTEM'!C13)","v":"Equilibre, faculté d'être sur ses appuis, position basse, 1 ou 2 jambes"},null,null,{"$f":"IF($H$2=\"G\",'Skills explications FTEM'!#REF!,'Skills explications FTEM'!#REF!)","v":{"$error":"#REF!"}}]
[{"$f":"'Skills explications FTEM'!#REF!","v":{"$error":"#REF!"}},null,null,{"$f":"IF($H$2=\"G\",'Skills explications FTEM'!F14,'Skills explications FTEM'!B14)","v":"Patinage arrière"},null,null,{"$f":"IF($H$2=\"G\",'Skills explications FTEM'!G14,'Skills explications FTEM'!C14)","v":"Accélération, vitesse, équilibre "},null,null,{"$f":"IF($H$2=\"G\",'Skills explications FTEM'!#REF!,'Skills explications FTEM'!#REF!)","v":{"$error":"#REF!"}}]
[{"$f":"'Skills explications FTEM'!A15:A15","v":"SKILLS"},null,null,{"$f":"IF($H$2=\"G\",'Skills explications FTEM'!F15,'Skills explications FTEM'!B15)","v":"Tirer"},null,null,{"$f":"IF($H$2=\"G\",'Skills explications FTEM'!G15,'Skills explications FTEM'!C15)","v":"Efficience (pas d'espace et de temps), variantes, degré de surprise (déclenchement rapide), précision, puissance (conclusion tactique)"},null,null,{"$f":"IF($H$2=\"G\",'Skills explications FTEM'!#REF!,'Skills explications FTEM'!#REF!)","v":{"$error":"#REF!"}},null,null,null,{"$f":"IFERROR(AVERAGE(O24:O29),\"-\")","v":"-"},null,{"$f":"IFERROR(AVERAGE(Q24:Q29),\"-\")","v":"-"},null,{"$f":"IFERROR(AVERAGE(S24:S29),\"-\")","v":"-"},null,{"$f":"IFERROR(AVERAGE(U24:U29),\"-\")","v":"-"},null,{"$f":"IFERROR(AVERAGE(W24:W29),\"-\")","v":"-"},null,{"$f":"IFERROR(AVERAGE(Y24:Y29),\"-\")","v":"-"}]
[{"$f":"'Skills explications FTEM'!A16:A16","v":0},null,null,{"$f":"IF($H$2=\"G\",'Skills explications FTEM'!F16,'Skills explications FTEM'!B16)","v":"Passer"},null,null,{"$f":"IF($H$2=\"G\",'Skills explications FTEM'!G16,'Skills explications FTEM'!C16)","v":"Donne la passe (distance, passe flipée en revers), réception de la passe (précision, timing, coup droit, revers, patins), vitesse du puck"},null,null,{"$f":"IF($H$2=\"G\",'Skills explications FTEM'!#REF!,'Skills explications FTEM'!#REF!)","v":{"$error":"#REF!"}}]
[{"$f":"'Skills explications FTEM'!A17:A17","v":0},null,null,{"$f":"IF($H$2=\"G\",'Skills explications FTEM'!F17,'Skills explications FTEM'!B17)","v":"Travail de canne, conduite du puck"},null,null,{"$f":"IF($H$2=\"G\",'Skills explications FTEM'!G17,'Skills explications FTEM'!C17)","v":"Puck sur la palette, intercepte les lignes de passe, déviation, contrôle de la canne de l'adversaire"},null,null,{"$f":"IF($H$2=\"G\",'Skills explications FTEM'!#REF!,'Skills explications FTEM'!#REF!)","v":{"$error":"#REF!"}}]
[null,null,null,{"$f":"IF($H$2=\"G\",'Skills explications FTEM'!F18,'Skills explications FTEM'!B18)","v":"Protéger le puck"},null,null,{"$f":"IF($H$2=\"G\",'Skills explications FTEM'!G18,'Skills explications FTEM'!C18)","v":"Contrôle du puck, dribbling, protection du puck, feintes (variantes: avec les patins ou avec et sans la bande), mise au jeu (bully)"},null,null,{"$f":"IF($H$2=\"G\",'Skills explications FTEM'!#REF!,'Skills explications FTEM'!#REF!)","v":{"$error":"#REF!"}}]
[null,null,null,{"$f":"IF($H$2=\"G\",'Skills explications FTEM'!F19,'Skills explications FTEM'!B19)","v":"Jeu du corps (charges)"},null,null,{"$f":"IF($H$2=\"G\",'Skills explications FTEM'!G19,'Skills explications FTEM'!C19)","v":"Faculté de s'imposer physiquement, duels (sur la surface de glace ou à la bande), prendre des checks, lever la tête, niveau de lutte, dur mais correct, bloquer les tirs avec le corps"},null,null,{"$f":"IF($H$2=\"G\",'Skills explications FTEM'!#REF!,'Skills explications FTEM'!#REF!)","v":{"$error":"#REF!"}}]
[{"$f":"'Skills explications FTEM'!A20:A20","v":0},null,null,{"$f":"IF($H$2=\"G\",'Skills explications FTEM'!F20,'Skills explications FTEM'!B20)","v":"-"},null,null,{"$f":"IF($H$2=\"G\",'Skills explications FTEM'!G20,'Skills explications FTEM'!C20)","v":"-"},null,null,{"$f":"IF($H$2=\"G\",'Skills explications FTEM'!#REF!,'Skills explications FTEM'!#REF!)","v":{"$error":"#REF!"}}]
[{"$f":"'Skills explications FTEM'!A21:A21","v":"HOCKEY SENSE"},null,null,{"$f":"IF($H$2=\"G\",'Skills explications FTEM'!F21,'Skills explications FTEM'!B21)","v":"Intelligence de jeu"},null,null,{"$f":"IF($H$2=\"G\",'Skills explications FTEM'!G21,'Skills explications FTEM'!C21)","v":"Voit les zones libres avec joueurs et crée des situations de surnombre, trouve des solutions et agit en toute situation, vitesse de la visualisation"},null,null,{"$f":"IF($H$2=\"G\",'Skills explications FTEM'!#REF!,'Skills explications FTEM'!#REF!)","v":{"$error":"#REF!"}},null,null,null,{"$f":"IFERROR(AVERAGE(O30:O34),\"-\")","v":"-"},null,{"$f":"IFERROR(AVERAGE(Q30:Q34),\"-\")","v":"-"},null,{"$f":"IFERROR(AVERAGE(S30:S34),\"-\")","v":"-"},null,{"$f":"IFERROR(AVERAGE(U30:U34),\"-\")","v":"-"},null,{"$f":"IFERROR(AVERAGE(W30:W34),\"-\")","v":"-"},null,{"$f":"IFERROR(AVERAGE(Y30:Y34),\"-\")","v":"-"}]
[{"$f":"'Skills explications FTEM'!A22:A22","v":0},null,null,{"$f":"IF($H$2=\"G\",'Skills explications FTEM'!F22,'Skills explications FTEM'!B22)","v":"Sensibilisation offensive"},null,null,{"$f":"IF($H$2=\"G\",'Skills explications FTEM'!G22,'Skills explications FTEM'!C22)","v":"Se démarque, anticipation des situations de jeu, ouvre des zones libres pour ses coéquipiers, se place pour marquer, vitesse de mise sous pression, communication"},null,null,{"$f":"IF($H$2=\"G\",'Skills explications FTEM'!#REF!,'Skills explications FTEM'!#REF!)","v":{"$error":"#REF!"}}]
[null,null,null,{"$f":"IF($H$2=\"G\",'Skills explications FTEM'!F23,'Skills explications FTEM'!B23)","v":"Sensibilisation défensive"},null,null,{"$f":"IF($H$2=\"G\",'Skills explications FTEM'!G23,'Skills explications FTEM'!C23)","v":"Garde la position «inside», protège le slot, rassure les coéquipiers, support, anticipe les lignes de passe, bloque les tirs. Réduit rapidement la distance sur l'adversaire, communication"},null,null,{"$f":"IF($H$2=\"G\",'Skills explications FTEM'!#REF!,'Skills explications FTEM'!#REF!)","v":{"$error":"#REF!"}}]
[{"$f":"'Skills explications FTEM'!A23:A23","v":0},null,null,{"$f":"IF($H$2=\"G\",'Skills explications FTEM'!F24,'Skills explications FTEM'!B24)","v":"Gestion du puck"},null,null,{"$f":"IF($H$2=\"G\",'Skills explications FTEM'!G24,'Skills explications FTEM'!C24)","v":"Fait le bon choix en fonction de la situation, support, surnombre"},null,null,{"$f":"IF($H$2=\"G\",'Skills explications FTEM'!#REF!,'Skills explications FTEM'!#REF!)","v":{"$error":"#REF!"}}]
[{"$f":"'Skills explications FTEM'!A25:A25","v":0},null,null,{"$f":"IF($H$2=\"G\",'Skills explications FTEM'!F25,'Skills explications FTEM'!B25)","v":"Créativité"},null,null,{"$f":"IF($H$2=\"G\",'Skills explications FTEM'!G25,'Skills explications FTEM'!C25)","v":"Prises de décision surprenantes, sens du but"},null,null,{"$f":"IF($H$2=\"G\",'Skills explications FTEM'!#REF!,'Skills explications FTEM'!#REF!)","v":{"$error":"#REF!"}}]
[{"$f":"'Skills explications FTEM'!A26:A26","v":"PERSONALITY"},null,null,{"$f":"'Skills explications FTEM'!B26","v":"COMPÉTENCES"},null,null,{"$f":"'Skills explications FTEM'!C26","v":"OBSERVATION"},null,null,{"$f":"'Skills explications FTEM'!H26","v":0},null,null,null,"Date1",null,"Date2",null,"Date3",null,"Date4",null,"Date5",null,"Player",null,"BUT","MESURES:\nSPECIFIQUE, MESURABLES, REALISTE",null,null,null,null,null,null,"DELAI","CONTRÔLE DU BUT","Date"]
[{"$f":"'Skills explications FTEM'!A27:A27","v":"PERSONNALITÉ"},null,null,{"$f":"IF($H$2=\"G\",'Skills explications FTEM'!F27,'Skills explications FTEM'!B27)","v":"Confiance en soi"},null,null,{"$f":"IF($H$2=\"G\",'Skills explications FTEM'!G27,'Skills explications FTEM'!C27)","v":"Est en confiance,«I can do it», peut estimer ses capacités (connaît ses qualités et ses défauts), peut réaliser ses qualités avec constance, est courageux et prend des risques calculés"},null,null,{"$f":"IF($H$2=\"G\",'Skills explications FTEM'!#REF!,'Skills explications FTEM'!#REF!)","v":{"$error":"#REF!"}},null,null,null,{"$f":"IFERROR(AVERAGE(O36:O40),\"-\")","v":"-"},null,null,null,{"$f":"IFERROR(AVERAGE(S36:S40),\"-\")","v":"-"},null,{"$f":"IFERROR(AVERAGE(U36:U40),\"-\")","v":"-"},null,{"$f":"IFERROR(AVERAGE(W36:W40),\"-\")","v":"-"},null,{"$f":"IFERROR(AVERAGE(Y36:Y40),\"-\")","v":"-"}]
[{"$f":"'Skills explications FTEM'!A28:A28","v":0},null,null,{"$f":"IF($H$2=\"G\",'Skills explications FTEM'!F28,'Skills explications FTEM'!B28)","v":"Facultés d'apprentissage"},null,null,{"$f":"IF($H$2=\"G\",'Skills explications FTEM'!G28,'Skills explications FTEM'!C28)","v":"A une bonne perception (il peut mémoriser et peut réaliser), il a de la personnalité, essaie d'apprendre de ses erreurs et est entreprenant"},null,null,{"$f":"IF($H$2=\"G\",'Skills explications FTEM'!#REF!,'Skills explications FTEM'!#REF!)","v":{"$error":"#REF!"}}]
[{"$f":"'Skills explications FTEM'!A29:A29","v":0},null,null,{"$f":"IF($H$2=\"G\",'Skills explications FTEM'!F29,'Skills explications FTEM'!B29)","v":"Prise de responsabilités"},null,null,{"$f":"IF($H$2=\"G\",'Skills explications FTEM'!G29,'Skills explications FTEM'!C29)","v":"Prend la responsabilité de ses performances et de son développement, est-il autonome, soigne-t-il les détails, a beaucoup d'engagement dans tous les domaines"},null,null,{"$f":"IF($H$2=\"G\",'Skills explications FTEM'!#REF!,'Skills explications FTEM'!#REF!)","v":{"$error":"#REF!"}}]
[null,null,null,{"$f":"IF($H$2=\"G\",'Skills explications FTEM'!F30,'Skills explications FTEM'!B30)","v":"Motivation"},null,null,{"$f":"IF($H$2=\"G\",'Skills explications FTEM'!G30,'Skills explications FTEM'!C30)","v":"Est toujours motivé, veut sans cesse se développer et apprendre, veut être le premier et avoir du succès, n'abandonne jamais et ne se laisse pas influencer par les échesc"},null,null,{"$f":"IF($H$2=\"G\",'Skills explications FTEM'!#REF!,'Skills explications FTEM'!#REF!)","v":{"$error":"#REF!"}}]
[{"$f":"'Skills explications FTEM'!A31:A31","v":0},null,null,{"$f":"IF($H$2=\"G\",'Skills explications FTEM'!F31,'Skills explications FTEM'!B31)","v":"Performance style de vie"},null,null,{"$f":"IF($H$2=\"G\",'Skills explications FTEM'!G31,'Skills explications FTEM'!C31)","v":"Gère bien son environnement et son temps libre selon les principes de la performance, obstiné, tenace et axé sur l'objectif, accent sur sa propre performance, est courageux et peut s'imposer contre la résistance, les défis le motivent"},null,null,{"$f":"IF($H$2=\"G\",'Skills explications FTEM'!#REF!,'Skills explications FTEM'!#REF!)","v":{"$error":"#REF!"}}]
[{"$f":"'Skills explications FTEM'!A32:A32","v":"FORCE MENTALE"},null,null,{"$f":"IF($H$2=\"G\",'Skills explications FTEM'!F32,'Skills explications FTEM'!B32)","v":"Engagement"},null,null,{"$f":"IF($H$2=\"G\",'Skills explications FTEM'!G32,'Skills explications FTEM'!C32)","v":"Démontre beaucoup d'intensité dans les entraînements et les matchs, donne toujours son maximum et veut sans cesse repousser ses limites, a-t-il de la passion, s'efforce-t-il de s'entraîner avec une excellente qualité"},null,null,{"$f":"IF($H$2=\"G\",'Skills explications FTEM'!#REF!,'Skills explications FTEM'!#REF!)","v":{"$error":"#REF!"}},null,null,null,{"$f":"IFERROR(AVERAGE(O41:O45),\"-\")","v":"-"},null,null,null,{"$f":"IFERROR(AVERAGE(S41:S45),\"-\")","v":"-"},null,{"$f":"IFERROR(AVERAGE(U41:U45),\"-\")","v":"-"},null,{"$f":"IFERROR(AVERAGE(W41:W45),\"-\")","v":"-"},null,{"$f":"IFERROR(AVERAGE(Y41:Y45),\"-\")","v":"-"}]
[{"$f":"'Skills explications FTEM'!A33:A33","v":0},null,null,{"$f":"IF($H$2=\"G\",'Skills explications FTEM'!F33,'Skills explications FTEM'!B33)","v":"Préparation"},null,null,{"$f":"IF($H$2=\"G\",'Skills explications FTEM'!G33,'Skills explications FTEM'!C33)","v":"Se prépare-t-il toujours bien, mentalement et physiquement, se prépare-t-il toujours bien pour obtenir le niveau de performance idéal (ILZ)"},null,null,{"$f":"IF($H$2=\"G\",'Skills explications FTEM'!#REF!,'Skills explications FTEM'!#REF!)","v":{"$error":"#REF!"}}]
[null,null,null,{"$f":"IF($H$2=\"G\",'Skills explications FTEM'!F34,'Skills explications FTEM'!B34)","v":"Coaching personnel"},null,null,{"$f":"IF($H$2=\"G\",'Skills explications FTEM'!G34,'Skills explications FTEM'!C34)","v":"A-t-il de bonnes facultés de concentration, peut-il maintenir son niveau de performance idéal (ILZ) dans les entraînements et les matchs, peut-il appliquer ses techniques de base, est-il résistant aux influences et pensées négatives, est-il conscient de son attitude corporelle et peut-il l'influencer"},null,null,{"$f":"IF($H$2=\"G\",'Skills explications FTEM'!#REF!,'Skills explications FTEM'!#REF!)","v":{"$error":"#REF!"}}]
[{"$f":"'Skills explications FTEM'!A34:A34","v":0},null,null,{"$f":"IF($H$2=\"G\",'Skills explications FTEM'!F35,'Skills explications FTEM'!B35)","v":"Gestion des énergies"},null,null,{"$f":"IF($H$2=\"G\",'Skills explications FTEM'!G35,'Skills explications FTEM'!C35)","v":"Peut-il gérer ses propres énergies, prend-il soin de sa récupération, peut-il gérer les moments où il faut se donner à fond ou quand il faut déconnecter, bouton On/Off"},null,null,{"$f":"IF($H$2=\"G\",'Skills explications FTEM'!#REF!,'Skills explications FTEM'!#REF!)","v":{"$error":"#REF!"}}]
[{"$f":"'Skills explications FTEM'!A36:A36","v":0},null,null,{"$f":"IF($H$2=\"G\",'Skills explications FTEM'!F36,'Skills explications FTEM'!B36)","v":"Contrôle des émotions"},null,null,{"$f":"IF($H$2=\"G\",'Skills explications FTEM'!G36,'Skills explications FTEM'!C36)","v":"Peut-il gérer ses propres émotions et impulsions, reste-t-il sous contrôle lorsqu'il y a une grande pression, peut-il rester calme lorsque le niveau émotionnel et de frustration est élevé"},null,null,{"$f":"IF($H$2=\"G\",'Skills explications FTEM'!#REF!,'Skills explications FTEM'!#REF!)","v":{"$error":"#REF!"}}]
[{"$f":"'Skills explications FTEM'!A37:A37","v":"PHYSIQUE"},null,null,{"$f":"IF($H$2=\"G\",'Skills explications FTEM'!F37,'Skills explications FTEM'!B37)","v":"Production de la performance"},null,null,{"$f":"IF($H$2=\"G\",'Skills explications FTEM'!G37,'Skills explications FTEM'!C37)","v":"A-t-il la puissance, la force, la vitesse nécessaires dans les jambes et le haut du corps (facteurs neuromusculaires)"},null,null,{"$f":"IF($H$2=\"G\",'Skills explications FTEM'!#REF!,'Skills explications FTEM'!#REF!)","v":{"$error":"#REF!"}},null,null,null,{"$f":"IFERROR(AVERAGE(O46:O50),\"-\")","v":"-"},null,null,null,{"$f":"IFERROR(AVERAGE(S46:S50),\"-\")","v":"-"},null,{"$f":"IFERROR(AVERAGE(U46:U50),\"-\")","v":"-"},null,{"$f":"IFERROR(AVERAGE(W46:W50),\"-\")","v":"-"},null,{"$f":"IFERROR(AVERAGE(Y46:Y50),\"-\")","v":"-"}]
[{"$f":"'Skills explications FTEM'!A38:A38","v":0},null,null,{"$f":"IF($H$2=\"G\",'Skills explications FTEM'!F38,'Skills explications FTEM'!B38)","v":"Spécifique au sport, résistant à l'effort"},null,null,{"$f":"IF($H$2=\"G\",'Skills explications FTEM'!G38,'Skills explications FTEM'!C38)","v":"Est-il capable de maintenir sa puissance, sa force, sa vitesse durant un long temps de glace et peut-il récupérer complètement entre ses engagements (facteurs du métabolisme et cardiovasculaire)"},null,null,{"$f":"IF($H$2=\"G\",'Skills explications FTEM'!#REF!,'Skills explications FTEM'!#REF!)","v":{"$error":"#REF!"}}]
[null,null,null,{"$f":"IF($H$2=\"G\",'Skills explications FTEM'!F39,'Skills explications FTEM'!B39)","v":"Santé / Prévention"},null,null,{"$f":"IF($H$2=\"G\",'Skills explications FTEM'!G39,'Skills explications FTEM'!C39)","v":"A-t-il la stabilité nécessaire (p. ex. ses appuis) et la mobilité nécessaire au niveau des articulations centrales"},null,null,{"$f":"IF($H$2=\"G\",'Skills explications FTEM'!#REF!,'Skills explications FTEM'!#REF!)","v":{"$error":"#REF!"}}]
[{"$f":"'Skills explications FTEM'!A39:A39","v":0},null,null,{"$f":"IF($H$2=\"G\",'Skills explications FTEM'!F40,'Skills explications FTEM'!B40)","v":"Mobilité / Coordination"},null,null,{"$f":"IF($H$2=\"G\",'Skills explications FTEM'!G40,'Skills explications FTEM'!C40)","v":"Gère-t-il ses aptitudes de mouvements de base, qui sont un fournisseur important des fonctions spécifiques «Skills» pour être efficace"},null,null,{"$f":"IF($H$2=\"G\",'Skills explications FTEM'!#REF!,'Skills explications FTEM'!#REF!)","v":{"$error":"#REF!"}}]
[{"$f":"'Skills explications FTEM'!A41:A41","v":0},null,null,{"$f":"IF($H$2=\"G\",'Skills explications FTEM'!F41,'Skills explications FTEM'!B41)","v":"Robustesse"},null,null,{"$f":"IF($H$2=\"G\",'Skills explications FTEM'!G41,'Skills explications FTEM'!C41)","v":"A-t-il la force de base nécessaire (tension corporelle) pour gagner des duels et résister aux charges"},null,null,{"$f":"IF($H$2=\"G\",'Skills explications FTEM'!#REF!,'Skills explications FTEM'!#REF!)","v":{"$error":"#REF!"}}]